Workbook

Sheet Graphiques GI
A2: Nombre d'OF depuis le 01/01/2019
A3: =MAX(TableauGI[Ordre pièce]) -> 72
A7: Température
A8: Moyenne | B8: =AVERAGE(TableauGI[Température lors de la mesure (°C)]) -> #N/A
A9: Max | B9: =MAX(TableauGI[Température lors de la mesure (°C)]) -> #N/A
A10: Mini | B10: =MIN(TableauGI[Température lors de la mesure (°C)]) -> #N/A
A18: Cercle P12
A19: Spécification client sup | B19: 0.4
A20: Spécification client inf | B20: 0
A21: Ecart Type (Global) | B21: =_xlfn.STDEV.S(TableauGI[Cercle P12]) -> 0.10756415
A22: Moyenne X̅ | B22: =AVERAGE(TableauGI[Cercle P12]) -> 0.18219444
A23: LCS | B23: =(B22+(2.66*B25)) -> 0.53117167
A24: LCI | B24: =0 -> 0
A25: Moyenne Etendu R̅ | B25: =AVERAGE(TableauGI[Etendu P12]) -> 0.13119444
A26: Pp | B26: =(B19-B20)/(6*B21) -> 0.61978519
A27: Ppk | B27: =MIN((B19-B22)/(3*B21),(B22-B20)/(3*B21)) -> 0.56460709
A30: Cercle P22
A31: Spécification client sup | B31: 1.4
A32: Spécification client inf | B32: 0
A33: Ecart Type (Global) | B33: =_xlfn.STDEV.S(TableauGI[Cercle P22]) -> 0.26672248
A34: Moyenne X̅ | B34: =AVERAGE(TableauGI[Cercle P22]) -> 0.54522222
A35: LCS | B35: =(B34+(2.66*B37)) -> 1.3697114
A36: LCI | B36: =0 -> 0
A37: Moyenne Etendu R̅ | B37: =AVERAGE(TableauGI[Etendu P22]) -> 0.30995833
A38: Pp | B38: =(B31-B32)/(6*B33) -> 0.87481691
A39: Ppk | B39: =MIN((B31-B34)/(3*B33),(B34-B32)/(3*B33)) -> 0.68138517
A42: Cercle P22/L
A43: Spécification client sup | B43: 0.5
A44: Spécification client inf | B44: 0
A45: Ecart Type (Global) | B45: =_xlfn.STDEV.S(TableauGI[Cercle P22/L]) -> 0.12688907
A46: Moyenne X̅ | B46: =AVERAGE(TableauGI[Cercle P22/L]) -> 0.16669444
A47: LCS | B47: =(B46+(2.66*B49)) -> 0.55586722
A48: LCI | B48: =0 -> 0
A49: Moyenne Etendu R̅ | B49: =AVERAGE(TableauGI[Etendu P22/L]) -> 0.14630556
A50: Pp | B50: =(B43-B44)/(6*B45) -> 0.65674164
A51: Ppk | B51: =MIN((B43-B46)/(3*B45),(B46-B44)/(3*B45)) -> 0.43790073
A54: Cercle D1
A55: Spécification client sup | B55: 1.4
A56: Spécification client inf | B56: 0
A57: Ecart Type (Global) | B57: =_xlfn.STDEV.S(TableauGI[cercle D1]) -> 0.16452818
A58: Moyenne X̅ | B58: =AVERAGE(TableauGI[cercle D1]) -> 0.28133333
A59: LCS | B59: =(B58+(2.66*B61)) -> 0.86113944
A60: LCI | B60: =0 -> 0
A61: Moyenne Etendu R̅ | B61: =AVERAGE(TableauGI[Etendu D1]) -> 0.21797222
A62: Pp | B62: =(B55-B56)/(6*B57) -> 1.4181968
A63: Ppk | B63: =MIN((B55-B58)/(3*B57),(B58-B56)/(3*B57)) -> 0.56998004
A66: Cercle D2
A67: Spécification client sup | B67: 1.4
A68: Spécification client inf | B68: 0
A69: Ecart Type (Global) | B69: =_xlfn.STDEV.S(TableauGI[cercle D2]) -> 0.16369816
A70: Moyenne X̅ | B70: =AVERAGE(TableauGI[cercle D2]) -> 0.26980556
A71: LCS | B71: =(B70+(2.66*B73)) -> 0.80173167
A72: LCI | B72: =0 -> 0
A73: Moyenne Etendu R̅ | B73: =AVERAGE(TableauGI[Etendu D2]) -> 0.19997222
A74: Pp | B74: =(B67-B68)/(6*B69) -> 1.4253876
A75: Ppk | B75: =MIN((B67-B70)/(3*B69),(B70-B68)/(3*B69)) -> 0.54939642
A78: Cercle D3
A79: Spécification client sup | B79: 1.4
A80: Spécification client inf | B80: 0
A81: Ecart Type (Global) | B81: =_xlfn.STDEV.S(TableauGI[cercle D3]) -> 0.1846857
A82: Moyenne X̅ | B82: =AVERAGE(TableauDE[cercle D3]) -> 0.43364865
A83: LCS | B83: =(B82+(2.66*B85)) -> 0.98726115
A84: LCI | B84: =0 -> 0
A85: Moyenne Etendu R̅ | B85: =AVERAGE(TableauGI[Etendu D3]) -> 0.208125
A86: Pp | B86: =(B79-B80)/(6*B81) -> 1.2634077
A87: Ppk | B87: =MIN((B79-B82)/(3*B81),(B82-B80)/(3*B81)) -> 0.78267864
A90: Cercle D4
A91: Spécification client sup | B91: 1.4
A92: Spécification client inf | B92: 0
A93: Ecart Type (Global) | B93: =_xlfn.STDEV.S(TableauGI[cercle D4]) -> 0.19019032
A94: Moyenne X̅ | B94: =AVERAGE(TableauGI[cercle D4]) -> 0.32415278
A95: LCS | B95: =(B94+(2.66*B97)) -> 0.82870306
A96: LCI | B96: =0 -> 0
A97: Moyenne Etendu R̅ | B97: =AVERAGE(TableauGI[Etendu D4]) -> 0.18968056
A98: Pp | B98: =(B91-B92)/(6*B93) -> 1.2268413
A99: Ppk | B99: =MIN((B91-B94)/(3*B93),(B94-B92)/(3*B93)) -> 0.56812002
A102: Cercle D5
A103: Spécification client sup | B103: 1.4
A104: Spécification client inf | B104: 0
A105: Ecart Type (Global) | B105: =_xlfn.STDEV.S(TableauGI[cercle D5]) -> 0.17391625
A106: Moyenne X̅ | B106: =AVERAGE(TableauGI[cercle D5]) -> 0.25688889
A107: LCS | B107: =(B106+(2.66*B109)) -> 0.78017
A108: LCI | B108: =0 -> 0
A109: Moyenne Etendu R̅ | B109: =AVERAGE(TableauGI[Etendu D5]) -> 0.19672222
A110: Pp | B110: =(B103-B104)/(6*B105) -> 1.341642
A111: Ppk | B111: =MIN((B103-B106)/(3*B105),(B106-B104)/(3*B105)) -> 0.4923613
A114: Cercle D6
A115: Spécification client sup | B115: 1.4
A116: Spécification client inf | B116: 0
A117: Ecart Type (Global) | B117: =_xlfn.STDEV.S(TableauGI[cercle D6]) -> 0.20896474
A118: Moyenne X̅ | B118: =AVERAGE(TableauGI[cercle D6]) -> 0.33406944
A119: LCS | B119: ²
A120: LCI | B120: =0 -> 0
A121: Moyenne Etendu R̅ | B121: =AVERAGE(TableauGI[Etendu D6]) -> 0.26452778
A122: Pp | B122: =(B115-B116)/(6*B117) -> 1.1166158
A123: Ppk | B123: =MIN((B115-B118)/(3*B117),(B118-B116)/(3*B117)) -> 0.53289603
A126: Cercle D7
A127: Spécification client sup | B127: 1.4
A128: Spécification client inf | B128: 0
A129: Ecart Type (Global) | B129: =_xlfn.STDEV.S(TableauGI[cercle D7]) -> 0.24103807
...

Sheet Graphiques GE
A2: Nombre d'OF depuis le 01/01/2019
A3: =MAX(TableauGE[Ordre pièce]) -> 72
A7: Température
A8: Moyenne | B8: =AVERAGE(TableauGE[Température lors de la mesure (°C)]) -> #N/A
A9: Max | B9: =MAX(TableauGE[Température lors de la mesure (°C)]) -> #N/A
A10: Mini | B10: =MIN(TableauGE[Température lors de la mesure (°C)]) -> #N/A
A18: Cercle P11
A19: Spécification client sup | B19: 0.4
A20: Spécification client inf | B20: 0
A21: Ecart Type (Global) | B21: =_xlfn.STDEV.S(TableauGE[Cercle P11]) -> 0.10722768
A22: Moyenne X̅ | B22: =AVERAGE(TableauGE[Cercle P11]) -> 0.18016667
A23: LCS | B23: =(B22+(2.66*B25)) -> 0.45119111
A24: LCI | B24: =0 -> 0
A25: Moyenne Etendu R̅ | B25: =AVERAGE(TableauGE[Etendu P11]) -> 0.10188889
A26: Pp | B26: =(B19-B20)/(6*B21) -> 0.62173003
A27: Ppk | B27: =MIN((B19-B22)/(3*B21),(B22-B20)/(3*B21)) -> 0.56007514
A30: Cercle P21
A31: Spécification client sup | B31: 1.4
A32: Spécification client inf | B32: 0
A33: Ecart Type (Global) | B33: =_xlfn.STDEV.S(TableauGE[Cercle P21]) -> 0.29533752
A34: Moyenne X̅ | B34: =AVERAGE(TableauGE[Cercle P21]) -> 0.75833333
A35: LCS | B35: =(B34+(2.66*B37)) -> 1.4633811
A36: LCI | B36: =0 -> 0
A37: Moyenne Etendu R̅ | B37: =AVERAGE(TableauGE[Etendu P21]) -> 0.26505556
A38: Pp | B38: =(B31-B32)/(6*B33) -> 0.79005651
A39: Ppk | B39: =MIN((B31-B34)/(3*B33),(B34-B32)/(3*B33)) -> 0.72421847
A42: Cercle P21/L
A43: Spécification client sup | B43: 0.5
A44: Spécification client inf | B44: 0
A45: Ecart Type (Global) | B45: =_xlfn.STDEV.S(TableauGE[Cercle P21/L]) -> 0.14225537
A46: Moyenne X̅ | B46: =AVERAGE(TableauGE[Cercle P21/L]) -> 0.22952778
A47: LCS | B47: =(B46+(2.66*B49)) -> 0.68143222
A48: LCI | B48: =0 -> 0
A49: Moyenne Etendu R̅ | B49: =AVERAGE(TableauGE[Etendu P21/L]) -> 0.16988889
A50: Pp | B50: =(B43-B44)/(6*B45) -> 0.58580096
A51: Ppk | B51: =MIN((B43-B46)/(3*B45),(B46-B44)/(3*B45)) -> 0.53783037
A54: Cercle G1
A55: Spécification client sup | B55: 1.4
A56: Spécification client inf | B56: 0
A57: Ecart Type (Global) | B57: =_xlfn.STDEV.S(TableauGE[cercle G1]) -> 0.20752152
A58: Moyenne X̅ | B58: =AVERAGE(TableauGE[cercle G1]) -> 0.4025
A59: LCS | B59: =(B58+(2.66*B61)) -> 0.94192583
A60: LCI | B60: =0 -> 0
A61: Moyenne Etendu R̅ | B61: =AVERAGE(TableauGE[Etendu G1]) -> 0.20279167
A62: Pp | B62: =(B55-B56)/(6*B57) -> 1.1243814
A63: Ppk | B63: =MIN((B55-B58)/(3*B57),(B58-B56)/(3*B57)) -> 0.64651928
A66: Cercle G2
A67: Spécification client sup | B67: 1.4
A68: Spécification client inf | B68: 0
A69: Ecart Type (Global) | B69: =_xlfn.STDEV.S(TableauGE[cercle G2]) -> 0.200427
A70: Moyenne X̅ | B70: =AVERAGE(TableauGE[cercle G2]) -> 0.37243056
A71: LCS | B71: =(B70+(2.66*B73)) -> 0.96361556
A72: LCI | B72: =0 -> 0
A73: Moyenne Etendu R̅ | B73: =AVERAGE(TableauGE[Etendu G2]) -> 0.22225
A74: Pp | B74: =(B67-B68)/(6*B69) -> 1.1641812
A75: Ppk | B75: =MIN((B67-B70)/(3*B69),(B70-B68)/(3*B69)) -> 0.61939519
A78: Cercle G3
A79: Spécification client sup | B79: 1.4
A80: Spécification client inf | B80: 0
A81: Ecart Type (Global) | B81: =_xlfn.STDEV.S(TableauGE[cercle G3]) -> 0.23019364
A82: Moyenne X̅ | B82: =AVERAGE(TableauGE[cercle G3]) -> 0.390375
A83: LCS | B83: =(B82+(2.66*B85)) -> 1.0237506
A84: LCI | B84: =0 -> 0
A85: Moyenne Etendu R̅ | B85: =AVERAGE(TableauGE[Etendu G3]) -> 0.23811111
A86: Pp | B86: =(B79-B80)/(6*B81) -> 1.0136394
A87: Ppk | B87: =MIN((B79-B82)/(3*B81),(B82-B80)/(3*B81)) -> 0.56528495
A90: Cercle G4
A91: Spécification client sup | B91: 1.4
A92: Spécification client inf | B92: 0
A93: Ecart Type (Global) | B93: =_xlfn.STDEV.S(TableauGE[cercle G4]) -> 0.25901546
A94: Moyenne X̅ | B94: =AVERAGE(TableauGE[cercle G4]) -> 0.48068056
A95: LCS | B95: =(B94+(2.66*B97)) -> 1.1439072
A96: LCI | B96: =0 -> 0
A97: Moyenne Etendu R̅ | B97: =AVERAGE(TableauGE[Etendu G4]) -> 0.24933333
A98: Pp | B98: =(B91-B92)/(6*B93) -> 0.90084712
A99: Ppk | B99: =MIN((B91-B94)/(3*B93),(B94-B92)/(3*B93)) -> 0.61859957
A102: Cercle G5
A103: Spécification client sup | B103: 1.4
A104: Spécification client inf | B104: 0
A105: Ecart Type (Global) | B105: =_xlfn.STDEV.S(TableauGE[cercle G5]) -> 0.28695964
A106: Moyenne X̅ | B106: =AVERAGE(TableauGE[cercle G5]) -> 0.56385915
A107: LCS | B107: =(B106+(2.66*B109)) -> 1.2755939
A108: LCI | B108: =0 -> 0
A109: Moyenne Etendu R̅ | B109: =AVERAGE(TableauGE[Etendu G5]) -> 0.26756944
A110: Pp | B110: =(B103-B104)/(6*B105) -> 0.81312247
A111: Ppk | B111: =MIN((B103-B106)/(3*B105),(B106-B104)/(3*B105)) -> 0.65498078
A114: Cercle G6
A115: Spécification client sup | B115: 1.4
A116: Spécification client inf | B116: 0
A117: Ecart Type (Global) | B117: =_xlfn.STDEV.S(TableauGE[cercle G6]) -> 0.2321371
A118: Moyenne X̅ | B118: =AVERAGE(TableauGE[cercle G6]) -> 0.39983333
A119: LCS | B119: =(B118+(2.66*B121)) -> 0.91107056
A120: LCI | B120: =0 -> 0
A121: Moyenne Etendu R̅ | B121: =AVERAGE(TableauGE[Etendu G6]) -> 0.19219444
A122: Pp | B122: =(B115-B116)/(6*B117) -> 1.0051531
A123: Ppk | B123: =MIN((B115-B118)/(3*B117),(B118-B116)/(3*B117)) -> 0.57413389
A126: Cercle G7
A127: Spécification client sup | B127: 1.4
A128: Spécification client inf | B128: 0
A129: Ecart Type (Global) | B129: =_xlfn.STDEV.S(TableauGE[cercle G7]) -> 0.2358288
...

Sheet Graphiques DE
A2: Nombre d'OF depuis le 01/01/2019
A3: =MAX(TableauDE[Ordre pièce]) -> 74
A7: Température
A8: Moyenne | B8: =AVERAGE(TableauDE[Température lors de la mesure (°C)]) -> #N/A
A9: Max | B9: =MAX(TableauDE[Température lors de la mesure (°C)]) -> #N/A
A10: Mini | B10: =MIN(TableauDE[Température lors de la mesure (°C)]) -> #N/A
A18: Cercle P12
A19: Spécification client sup | B19: 0.4
A20: Spécification client inf | B20: 0
A21: Ecart Type (Global) | B21: =_xlfn.STDEV.S(TableauDE[Cercle P12]) -> 0.095874564
A22: Moyenne X̅ | B22: =AVERAGE(TableauDE[Cercle P12]) -> 0.18928378
A23: LCS | B23: =(B22+(2.66*B25)) -> 0.43058892
A24: LCI | B24: =0 -> 0
A25: Moyenne Etendu R̅ | B25: =AVERAGE(TableauDE[Etendu P12]) -> 0.090716216
A26: Pp | B26: =(B19-B20)/(6*B21) -> 0.69535301
A27: Ppk | B27: =MIN((B19-B22)/(3*B21),(B22-B20)/(3*B21)) -> 0.65809524
A30: Cercle P22
A31: Spécification client sup | B31: 1.4
A32: Spécification client inf | B32: 0
A33: Ecart Type (Global) | B33: =_xlfn.STDEV.S(TableauDE[Cercle P22]) -> 0.20747447
A34: Moyenne X̅ | B34: =AVERAGE(TableauDE[Cercle P22]) -> 0.44404054
A35: LCS | B35: =(B34+(2.66*B37)) -> 0.99225216
A36: LCI | B36: =0 -> 0
A37: Moyenne Etendu R̅ | B37: =AVERAGE(TableauDE[Etendu P22]) -> 0.20609459
A38: Pp | B38: =(B31-B32)/(6*B33) -> 1.1246364
A39: Ppk | B39: =MIN((B31-B34)/(3*B33),(B34-B32)/(3*B33)) -> 0.71340591
A42: Cercle P22/L
A43: Spécification client sup | B43: 0.5
A44: Spécification client inf | B44: 0
A45: Ecart Type (Global) | B45: =_xlfn.STDEV.S(TableauDE[Cercle P22/L]) -> 0.13449975
A46: Moyenne X̅ | B46: =AVERAGE(TableauDE[Cercle P22/L]) -> 0.24681081
A47: LCS | B47: =(B46+(2.66*B49)) -> 0.61439405
A48: LCI | B48: =0 -> 0
A49: Moyenne Etendu R̅ | B49: =AVERAGE(TableauDE[Etendu P22/L]) -> 0.13818919
A50: Pp | B50: =(B43-B44)/(6*B45) -> 0.61957984
A51: Ppk | B51: =MIN((B43-B46)/(3*B45),(B46-B44)/(3*B45)) -> 0.61167601
A54: Cercle D1
A55: Spécification client sup | B55: 1.4
A56: Spécification client inf | B56: 0
A57: Ecart Type (Global) | B57: =_xlfn.STDEV.S(TableauDE[Cercle P22/L]) -> 0.13449975
A58: Moyenne X̅ | B58: =AVERAGE(TableauDE[cercle D1]) -> 0.3967027
A59: LCS | B59: =(B58+(2.66*B61)) -> 0.89728595
A60: LCI | B60: =0 -> 0
A61: Moyenne Etendu R̅ | B61: =AVERAGE(TableauDE[Etendu D1]) -> 0.18818919
A62: Pp | B62: =(B55-B56)/(6*B57) -> 1.7348235
A63: Ppk | B63: =MIN((B55-B58)/(3*B57),(B58-B56)/(3*B57)) -> 0.98315598
A66: Cercle D2
A67: Spécification client sup | B67: 1.4
A68: Spécification client inf | B68: 0
A69: Ecart Type (Global) | B69: =_xlfn.STDEV.S(TableauDE[cercle D2]) -> 0.17994628
A70: Moyenne X̅ | B70: =AVERAGE(TableauDE[cercle D2]) -> 0.38821622
A71: LCS | B71: =(B70+(2.66*B73)) -> 0.84839622
A72: LCI | B72: =0 -> 0
A73: Moyenne Etendu R̅ | B73: =AVERAGE(TableauDE[Etendu D2]) -> 0.173
A74: Pp | B74: =(B67-B68)/(6*B69) -> 1.2966833
A75: Ppk | B75: =MIN((B67-B70)/(3*B69),(B70-B68)/(3*B69)) -> 0.71913353
A78: Cercle D3
A79: Spécification client sup | B79: 1.4
A80: Spécification client inf | B80: 0
A81: Ecart Type (Global) | B81: =_xlfn.STDEV.S(TableauDE[cercle D3]) -> 0.18777409
A82: Moyenne X̅ | B82: =AVERAGE(TableauDE[cercle D3]) -> 0.43364865
A83: LCS | B83: =(B82+(2.66*B85)) -> 0.88548919
A84: LCI | B84: =0 -> 0
A85: Moyenne Etendu R̅ | B85: =AVERAGE(TableauDE[Etendu D3]) -> 0.16986486
A86: Pp | B86: =(B79-B80)/(6*B81) -> 1.242628
A87: Ppk | B87: =MIN((B79-B82)/(3*B81),(B82-B80)/(3*B81)) -> 0.76980563
A90: Cercle D4
A91: Spécification client sup | B91: 1.4
A92: Spécification client inf | B92: 0
A93: Ecart Type (Global) | B93: =_xlfn.STDEV.S(TableauDE[cercle D4]) -> 0.20383356
A94: Moyenne X̅ | B94: =AVERAGE(TableauDE[cercle D4]) -> 0.53306757
A95: LCS | B95: =(B94+(2.66*B97)) -> 0.97099703
A96: LCI | B96: =0 -> 0
A97: Moyenne Etendu R̅ | B97: =AVERAGE(TableauDE[Etendu D4]) -> 0.16463514
A98: Pp | B98: =(B91-B92)/(6*B93) -> 1.1447248
A99: Ppk | B99: =MIN((B91-B94)/(3*B93),(B94-B92)/(3*B93)) -> 0.87173669
A102: Cercle D5
A103: Spécification client sup | B103: 1.4
A104: Spécification client inf | B104: 0
A105: Ecart Type (Global) | B105: =_xlfn.STDEV.S(TableauDE[cercle D5]) -> 0.23020734
A106: Moyenne X̅ | B106: =AVERAGE(TableauDE[cercle D5]) -> 0.60291892
A107: LCS | B107: =(B106+(2.66*B109)) -> 1.1332654
A108: LCI | B108: =0 -> 0
A109: Moyenne Etendu R̅ | B109: =AVERAGE(TableauDE[Etendu D5]) -> 0.19937838
A110: Pp | B110: =(B103-B104)/(6*B105) -> 1.013579
A111: Ppk | B111: =MIN((B103-B106)/(3*B105),(B106-B104)/(3*B105)) -> 0.87300855
A114: Cercle D6
A115: Spécification client sup | B115: 1.4
A116: Spécification client inf | B116: 0
A117: Ecart Type (Global) | B117: =_xlfn.STDEV.S(TableauDE[cercle D6]) -> 0.15143653
A118: Moyenne X̅ | B118: =AVERAGE(TableauDE[cercle D6]) -> 0.50282432
A119: LCS | B119: =(B118+(2.66*B121)) -> 0.86052243
A120: LCI | B120: =0 -> 0
A121: Moyenne Etendu R̅ | B121: =AVERAGE(TableauDE[Etendu D6]) -> 0.13447297
A122: Pp | B122: =(B115-B116)/(6*B117) -> 1.5407995
A123: Ppk | B123: =MIN((B115-B118)/(3*B117),(B118-B116)/(3*B117)) -> 1.1067878
A126: Cercle D7
A127: Spécification client sup | B127: 1.4
A128: Spécification client inf | B128: 0
A129: Ecart Type (Global) | B129: =_xlfn.STDEV.S(TableauDE[cercle D7]) -> 0.15384542
...

Sheet Graphiques DI
A2: Nombre d'OF depuis le 01/01/2019
A3: =MAX(TableauDI[Ordre pièce]) -> 74
A7: Température
A8: Moyenne | B8: =AVERAGE(TableauDI[Température lors de la mesure (°C)]) -> #N/A
A9: Max | B9: =MAX(TableauDI[Température lors de la mesure (°C)]) -> #N/A
A10: Mini | B10: =MIN(TableauDI[Température lors de la mesure (°C)]) -> #N/A
A18: Cercle P11
A19: Spécification client sup | B19: 0.4
A20: Spécification client inf | B20: 0
A21: Ecart Type (Global) | B21: =_xlfn.STDEV.S(TableauDI[Cercle P11]) -> 0.086366534
A22: Moyenne X̅ | B22: =AVERAGE(TableauDI[Cercle P11]) -> 0.15758108
A23: LCS | B23: =(B22+(2.66*B25)) -> 0.37818135
A24: LCI | B24: =0 -> 0
A25: Moyenne Etendu R̅ | B25: =AVERAGE(TableauDI[Etendu P11]) -> 0.082932432
A26: Pp | B26: =(B19-B20)/(6*B21) -> 0.77190392
A27: Ppk | B27: =MIN((B19-B22)/(3*B21),(B22-B20)/(3*B21)) -> 0.60818727
A30: Cercle P21
A31: Spécification client sup | B31: 1.4
A32: Spécification client inf | B32: 0
A33: Ecart Type (Global) | B33: =_xlfn.STDEV.S(TableauDI[Cercle P21]) -> 0.19746992
A34: Moyenne X̅ | B34: =AVERAGE(TableauDI[Cercle P21]) -> 0.59395946
A35: LCS | B35: =(B34+(2.66*B37)) -> 1.1909138
A36: LCI | B36: =0 -> 0
A37: Moyenne Etendu R̅ | B37: =AVERAGE(TableauDI[Etendu P21]) -> 0.22441892
A38: Pp | B38: =(B31-B32)/(6*B33) -> 1.1816146
A39: Ppk | B39: =MIN((B31-B34)/(3*B33),(B34-B32)/(3*B33)) -> 1.0026159
A42: Cercle P21/L
A43: Spécification client sup | B43: 0.5
A44: Spécification client inf | B44: 0
A45: Ecart Type (Global) | B45: =_xlfn.STDEV.S(TableauDI[Cercle P21/L]) -> 0.14097948
A46: Moyenne X̅ | B46: =AVERAGE(TableauDI[Cercle P21/L]) -> 0.21013514
A47: LCS | B47: =(B46+(2.66*B49)) -> 0.58742378
A48: LCI | B48: =0 -> 0
A49: Moyenne Etendu R̅ | B49: =AVERAGE(TableauDI[Etendu P21/L]) -> 0.14183784
A50: Pp | B50: =(B43-B44)/(6*B45) -> 0.59110256
A51: Ppk | B51: =MIN((B43-B46)/(3*B45),(B46-B44)/(3*B45)) -> 0.49684567
A54: Cercle G1
A55: Spécification client sup | B55: 1.4
A56: Spécification client inf | B56: 0
A57: Ecart Type (Global) | B57: =_xlfn.STDEV.S(TableauDI[cercle G1]) -> 0.14198212
A58: Moyenne X̅ | B58: =AVERAGE(TableauDI[cercle G1]) -> 0.29581081
A59: LCS | B59: =(B58+(2.66*B61)) -> 0.69768649
A60: LCI | B60: =0 -> 0
A61: Moyenne Etendu R̅ | B61: =AVERAGE(TableauDI[Etendu G1]) -> 0.15108108
A62: Pp | B62: =(B55-B56)/(6*B57) -> 1.6433994
A63: Ppk | B63: =MIN((B55-B58)/(3*B57),(B58-B56)/(3*B57)) -> 0.69447902
A66: Cercle G2
A67: Spécification client sup | B67: 1
A68: Spécification client inf | B68: 0
A69: Ecart Type (Global) | B69: =_xlfn.STDEV.S(TableauDI[cercle G2]) -> 0.14399316
A70: Moyenne X̅ | B70: =AVERAGE(TableauDI[cercle G2]) -> 0.30574324
A71: LCS | B71: =(B70+(2.66*B73)) -> 0.68910676
A72: LCI | B72: =0 -> 0
A73: Moyenne Etendu R̅ | B73: =AVERAGE(TableauDI[Etendu G2]) -> 0.14412162
A74: Pp | B74: =(B67-B68)/(6*B69) -> 1.1574624
A75: Ppk | B75: =MIN((B67-B70)/(3*B69),(B70-B68)/(3*B69)) -> 0.70777263
A78: Cercle G3
A79: Spécification client sup | B79: 1.4
A80: Spécification client inf | B80: 0
A81: Ecart Type (Global) | B81: =_xlfn.STDEV.S(TableauDI[cercle G3]) -> 0.1456851
A82: Moyenne X̅ | B82: =AVERAGE(TableauDI[cercle G3]) -> 0.35164865
A83: LCS | B83: =(B82+(2.66*B85)) -> 0.74806054
A84: LCI | B84: =0 -> 0
A85: Moyenne Etendu R̅ | B85: =AVERAGE(TableauDI[Etendu G3]) -> 0.14902703
A86: Pp | B86: =(B79-B80)/(6*B81) -> 1.601628
A87: Ppk | B87: =MIN((B79-B82)/(3*B81),(B82-B80)/(3*B81)) -> 0.80458616
A90: Cercle G4
A91: Spécification client sup | B91: 1.4
A92: Spécification client inf | B92: 0
A93: Ecart Type (Global) | B93: =_xlfn.STDEV.S(TableauDI[cercle G4]) -> 0.15748429
A94: Moyenne X̅ | B94: =AVERAGE(TableauDI[cercle G4]) -> 0.36028378
A95: LCS | B95: =(B94+(2.66*B97)) -> 0.74235324
A96: LCI | B96: =0 -> 0
A97: Moyenne Etendu R̅ | B97: =AVERAGE(TableauDI[Etendu G4]) -> 0.14363514
A98: Pp | B98: =(B91-B92)/(6*B93) -> 1.4816293
A99: Ppk | B99: =MIN((B91-B94)/(3*B93),(B94-B92)/(3*B93)) -> 0.76258142
A102: Cercle G5
A103: Spécification client sup | B103: 1.4
A104: Spécification client inf | B104: 0
A105: Ecart Type (Global) | B105: =_xlfn.STDEV.S(TableauDI[cercle G5]) -> 0.12627593
A106: Moyenne X̅ | B106: =AVERAGE(TableauDI[cercle G5]) -> 0.29524324
A107: LCS | B107: =(B106+(2.66*B109)) -> 0.65908811
A108: LCI | B108: =0 -> 0
A109: Moyenne Etendu R̅ | B109: =AVERAGE(TableauDI[Etendu G5]) -> 0.13678378
A110: Pp | B110: =(B103-B104)/(6*B105) -> 1.8478053
A111: Ppk | B111: =MIN((B103-B106)/(3*B105),(B106-B104)/(3*B105)) -> 0.77936003
A114: Cercle G6
A115: Spécification client sup | B115: 1.4
A116: Spécification client inf | B116: 0
A117: Ecart Type (Global) | B117: =_xlfn.STDEV.S(TableauDI[cercle G6]) -> 0.15238729
A118: Moyenne X̅ | B118: =AVERAGE(TableauDI[cercle G6]) -> 0.41060811
A119: LCS | B119: =(B118+(2.66*B121)) -> 0.86262838
A120: LCI | B120: =0 -> 0
A121: Moyenne Etendu R̅ | B121: =AVERAGE(TableauDI[Etendu G6]) -> 0.16993243
A122: Pp | B122: =(B115-B116)/(6*B117) -> 1.5311863
A123: Ppk | B123: =MIN((B115-B118)/(3*B117),(B118-B116)/(3*B117)) -> 0.8981679
A126: Cercle G7
A127: Spécification client sup | B127: 1.4
A128: Spécification client inf | B128: 0
A129: Ecart Type (Global) | B129: =_xlfn.STDEV.S(TableauDI[cercle G7]) -> 0.17681935
...

Sheet GAUCHE Intrados (GI)
A1: Date de la mesure | B1: Ordre pièce | C1: N°OF | D1: Température lors de la mesure (°C) | E1: Cercle P12 | F1: Cercle P22 | G1: Cercle P22/L | H1: cercle D1 | I1: cercle D2 | J1: cercle D3 | K1: cercle D4 | L1: cercle D5 | M1: cercle D6 | N1: cercle D7 | O1: cercle D8 | P1: cercle D9 | Q1: cercle D10 | R1: cercle D11 | S1: Etendu P12 | T1: Seuil 1 sigma P12 | U1: Seuil 2 sigma P12 | V1: Seuil 3 sigma P12 | W1: Etendu P22 | X1: Seuil 1 sigma P22 | Y1: Seuil 2 sigma P22 | Z1: Seuil 3 sigma P22 | AA1: Etendu P22/L | AB1: Seuil 1 sigma P22/L | AC1: Seuil 2 sigma P22/L | AD1: Seuil 3 sigma P22/L | AE1: Etendu D1 | AF1: Seuil 1 sigma D1 | AG1: Seuil 2 sigma D1 | AH1: Seuil 3 sigma D1 | AI1: Etendu D2 | AJ1: Seuil 1 sigma D2 | AK1: Seuil 2 sigma D2 | AL1: Seuil 3 sigma D2 | AM1: Etendu D3 | AN1: Seuil 1 sigma D3 | AO1: Seuil 2 sigma D3 | AP1: Seuil 3 sigma D3 | AQ1: Etendu D4 | AR1: Seuil 1 sigma D4 | AS1: Seuil 2 sigma D4 | AT1: Seuil 3 sigma D4 | AU1: Etendu D5 | AV1: Seuil 1 sigma D5 | AW1: Seuil 2 sigma D5 | AX1: Seuil 3 sigma D5 | AY1: Etendu D6 | AZ1: Seuil 1 sigma D6 | BA1: Seuil 2 sigma D6 | BB1: Seuil 3 sigma D6 | BC1: Etendu D7 | BD1: Seuil 1 sigma D7 | BE1: Seuil 2 sigma D7 | BF1: Seuil 3 sigma D7 | BG1: Etendu D8 | BH1: Seuil 1 sigma D8 | BI1: Seuil 2 sigma D8 | BJ1: Seuil 3 sigma D8 | BK1: Etendu D9 | BL1: Seuil 1 sigma D9 | BM1: Seuil 2 sigma D9 | BN1: Seuil 3 sigma D9 | BO1: Etendu D10 | BP1: Seuil 1 sigma D10 | BQ1: Seuil 2 sigma D10 | BR1: Seuil 3 sigma D10 | BS1: Etendu D11 | BT1: Seuil 1 sigma D11 | BU1: Seuil 2 sigma D11 | BV1: Seuil 3 sigma D11
A2: 43466 | B2: =ROW()-1 -> 1 | C2: 52889412 | D2: =NA() -> #N/A | E2: 0.06 | F2: 0.54 | G2: 0.12 | H2: 0.23 | I2: 0.26 | J2: 0.27 | K2: 0.27 | L2: 0.22 | M2: 0.33 | N2: 0.33 | O2: 0.31 | P2: 0.38 | Q2: 0.41 | R2: 0.4 | S2: =MAX(E2:E3)-MIN(E2:E3) -> 0.04 | T2: ='Graphiques GI'!$B$22 + 'Graphiques GI'!$B$21 -> 0.28975859 | U2: ='Graphiques GI'!$B$21 -> 0.10756415 | V2: ='Graphiques GI'!$B$21 -> 0.10756415 | W2: =MAX(F2:F3)-MIN(F2:F3) -> 0.05 | X2: ='Graphiques GI'!$B$34 + 'Graphiques GI'!$B$33 -> 0.8119447 | Y2: ='Graphiques GI'!$B$33 -> 0.26672248 | Z2: ='Graphiques GI'!$B$33 -> 0.26672248 | AA2: =MAX(G2:G3)-MIN(G2:G3) -> 0.02 | AB2: ='Graphiques GI'!$B$46 + 'Graphiques GI'!$B$45 -> 0.29358351 | AC2: ='Graphiques GI'!$B$45 -> 0.12688907 | AD2: ='Graphiques GI'!$B$45 -> 0.12688907 | AE2: =MAX(H2:H3)-MIN(H2:H3) -> 0.01 | AF2: ='Graphiques GI'!$B$58 + 'Graphiques GI'!$B$57 -> 0.44586151 | AG2: ='Graphiques GI'!$B$57 -> 0.16452818 | AH2: ='Graphiques GI'!$B$57 -> 0.16452818 | AI2: =MAX(I2:I3)-MIN(I2:I3) -> 0.16 | AJ2: ='Graphiques GI'!$B$70 + 'Graphiques GI'!$B$69 -> 0.43350372 | AK2: ='Graphiques GI'!$B$69 -> 0.16369816 | AL2: ='Graphiques GI'!$B$69 -> 0.16369816 | AM2: =MAX(J2:J3)-MIN(J2:J3) -> 0.1 | AN2: ='Graphiques GI'!$B$82 + 'Graphiques GI'!$B$81 -> 0.61833435 | AO2: ='Graphiques GI'!$B$81 -> 0.1846857 | AP2: ='Graphiques GI'!$B$81 -> 0.1846857 | AQ2: =MAX(K2:K3)-MIN(K2:K3) -> 0.07 | AR2: ='Graphiques GI'!$B$94 + 'Graphiques GI'!$B$93 -> 0.51434309 | AS2: ='Graphiques GI'!$B$93 -> 0.19019032 | AT2: ='Graphiques GI'!$B$93 -> 0.19019032 | AU2: =MAX(L2:L3)-MIN(L2:L3) -> 0.04 | AV2: ='Graphiques GI'!$B$106 + 'Graphiques GI'!$B$105 -> 0.43080514 | AW2: ='Graphiques GI'!$B$105 -> 0.17391625 | AX2: ='Graphiques GI'!$B$105 -> 0.17391625 | AY2: =MAX(M2:M3)-MIN(M2:M3) -> 0.04 | AZ2: ='Graphiques GI'!$B$118 + 'Graphiques GI'!$B$117 -> 0.54303418 | BA2: ='Graphiques GI'!$B$117 -> 0.20896474 | BB2: ='Graphiques GI'!$B$117 -> 0.20896474 | BC2: =MAX(N2:N3)-MIN(N2:N3) -> 0.1 | BD2: ='Graphiques GI'!$B$130 + 'Graphiques GI'!$B$129 -> 0.62703807 | BE2: ='Graphiques GI'!$B$129 -> 0.24103807 | BF2: ='Graphiques GI'!$B$129 -> 0.24103807 | BG2: =MAX(O2:O3)-MIN(O2:O3) -> 0.41 | BH2: ='Graphiques GI'!$B$142 + 'Graphiques GI'!$B$141 -> 0.78975212 | BI2: ='Graphiques GI'!$B$141 -> 0.22812712 | BJ2: ='Graphiques GI'!$B$141 -> 0.22812712 | BK2: =MAX(P2:P3)-MIN(P2:P3) -> 0.2 | BL2: ='Graphiques GI'!$B$154 + 'Graphiques GI'!$B$153 -> 0.69737848 | BM2: ='Graphiques GI'!$B$153 -> 0.19929515 | BN2: ='Graphiques GI'!$B$153 -> 0.19929515 | BO2: =MAX(Q2:Q3)-MIN(Q2:Q3) -> 0.29 | BP2: ='Graphiques GI'!$B$166 + 'Graphiques GI'!$B$165 -> 0.73399069 | BQ2: ='Graphiques GI'!$B$165 -> 0.20681013 | BR2: ='Graphiques GI'!$B$165 -> 0.20681013 | BS2: =MAX(R2:R3)-MIN(R2:R3) -> 0.37 | BT2: ='Graphiques GI'!$B$178 + 'Graphiques GI'!$B$177 -> 0.70591448 | BU2: ='Graphiques GI'!$B$177 -> 0.19680337 | BV2: ='Graphiques GI'!$B$177 -> 0.19680337
A3: 43466 | B3: =ROW()-1 -> 2 | C3: 52889413 | D3: =NA() -> #N/A | E3: 0.1 | F3: 0.59 | G3: 0.1 | H3: 0.22 | I3: 0.1 | J3: 0.17 | K3: 0.2 | L3: 0.26 | M3: 0.37 | N3: 0.43 | O3: 0.72 | P3: 0.58 | Q3: 0.7 | R3: 0.77 | S3: =MAX(E3:E4)-MIN(E3:E4) -> 0.08 | T3: ='Graphiques GI'!$B$22 + 'Graphiques GI'!$B$21 -> 0.28975859 | U3: ='Graphiques GI'!$B$21 -> 0.10756415 | V3: ='Graphiques GI'!$B$21 -> 0.10756415 | W3: =MAX(F3:F4)-MIN(F3:F4) -> 0.21 | X3: ='Graphiques GI'!$B$34 + 'Graphiques GI'!$B$33 -> 0.8119447 | Y3: ='Graphiques GI'!$B$33 -> 0.26672248 | Z3: ='Graphiques GI'!$B$33 -> 0.26672248 | AA3: =MAX(G3:G4)-MIN(G3:G4) -> 0.07 | AB3: ='Graphiques GI'!$B$46 + 'Graphiques GI'!$B$45 -> 0.29358351 | AC3: ='Graphiques GI'!$B$45 -> 0.12688907 | AD3: ='Graphiques GI'!$B$45 -> 0.12688907 | AE3: =MAX(H3:H4)-MIN(H3:H4) -> 0.02 | AF3: ='Graphiques GI'!$B$58 + 'Graphiques GI'!$B$57 -> 0.44586151 | AG3: ='Graphiques GI'!$B$57 -> 0.16452818 | AH3: ='Graphiques GI'!$B$57 -> 0.16452818 | AI3: =MAX(I3:I4)-MIN(I3:I4) -> 0.14 | AJ3: ='Graphiques GI'!$B$70 + 'Graphiques GI'!$B$69 -> 0.43350372 | AK3: ='Graphiques GI'!$B$69 -> 0.16369816 | AL3: ='Graphiques GI'!$B$69 -> 0.16369816 | AM3: =MAX(J3:J4)-MIN(J3:J4) -> 0.06 | AN3: ='Graphiques GI'!$B$82 + 'Graphiques GI'!$B$81 -> 0.61833435 | AO3: ='Graphiques GI'!$B$81 -> 0.1846857 | AP3: ='Graphiques GI'!$B$81 -> 0.1846857 | AQ3: =MAX(K3:K4)-MIN(K3:K4) -> 0.07 | AR3: ='Graphiques GI'!$B$94 + 'Graphiques GI'!$B$93 -> 0.51434309 | AS3: ='Graphiques GI'!$B$93 -> 0.19019032 | AT3: ='Graphiques GI'!$B$93 -> 0.19019032 | AU3: =MAX(L3:L4)-MIN(L3:L4) -> 0.04 | AV3: ='Graphiques GI'!$B$106 + 'Graphiques GI'!$B$105 -> 0.43080514 | AW3: ='Graphiques GI'!$B$105 -> 0.17391625 | AX3: ='Graphiques GI'!$B$105 -> 0.17391625 | AY3: =MAX(M3:M4)-MIN(M3:M4) -> 0.09 | AZ3: ='Graphiques GI'!$B$118 + 'Graphiques GI'!$B$117 -> 0.54303418 | BA3: ='Graphiques GI'!$B$117 -> 0.20896474 | BB3: ='Graphiques GI'!$B$117 -> 0.20896474 | BC3: =MAX(N3:N4)-MIN(N3:N4) -> 0.14 | BD3: ='Graphiques GI'!$B$130 + 'Graphiques GI'!$B$129 -> 0.62703807 | BE3: ='Graphiques GI'!$B$129 -> 0.24103807 | BF3: ='Graphiques GI'!$B$129 -> 0.24103807 | BG3: =MAX(O3:O4)-MIN(O3:O4) -> 0.08 | BH3: ='Graphiques GI'!$B$142 + 'Graphiques GI'!$B$141 -> 0.78975212 | BI3: ='Graphiques GI'!$B$141 -> 0.22812712 | BJ3: ='Graphiques GI'!$B$141 -> 0.22812712 | BK3: =MAX(P3:P4)-MIN(P3:P4) -> 0.15 | BL3: ='Graphiques GI'!$B$154 + 'Graphiques GI'!$B$153 -> 0.69737848 | BM3: ='Graphiques GI'!$B$153 -> 0.19929515 | BN3: ='Graphiques GI'!$B$153 -> 0.19929515 | BO3: =MAX(Q3:Q4)-MIN(Q3:Q4) -> 0.13 | BP3: ='Graphiques GI'!$B$166 + 'Graphiques GI'!$B$165 -> 0.73399069 | BQ3: ='Graphiques GI'!$B$165 -> 0.20681013 | BR3: ='Graphiques GI'!$B$165 -> 0.20681013 | BS3: =MAX(R3:R4)-MIN(R3:R4) -> 0.03 | BT3: ='Graphiques GI'!$B$178 + 'Graphiques GI'!$B$177 -> 0.70591448 | BU3: ='Graphiques GI'!$B$177 -> 0.19680337 | BV3: ='Graphiques GI'!$B$177 -> 0.19680337
A4: 43466 | B4: =ROW()-1 -> 3 | C4: 52889414 | D4: =NA() -> #N/A | E4: 0.02 | F4: 0.38 | G4: 0.03 | H4: 0.2 | I4: 0.24 | J4: 0.23 | K4: 0.27 | L4: 0.22 | M4: 0.28 | N4: 0.29 | O4: 0.64 | P4: 0.73 | Q4: 0.83 | R4: 0.74 | S4: =MAX(E4:E5)-MIN(E4:E5) -> 0.21 | T4: ='Graphiques GI'!$B$22 + 'Graphiques GI'!$B$21 -> 0.28975859 | U4: ='Graphiques GI'!$B$21 -> 0.10756415 | V4: ='Graphiques GI'!$B$21 -> 0.10756415 | W4: =MAX(F4:F5)-MIN(F4:F5) -> 0.33 | X4: ='Graphiques GI'!$B$34 + 'Graphiques GI'!$B$33 -> 0.8119447 | Y4: ='Graphiques GI'!$B$33 -> 0.26672248 | Z4: ='Graphiques GI'!$B$33 -> 0.26672248 | AA4: =MAX(G4:G5)-MIN(G4:G5) -> 0.26 | AB4: ='Graphiques GI'!$B$46 + 'Graphiques GI'!$B$45 -> 0.29358351 | AC4: ='Graphiques GI'!$B$45 -> 0.12688907 | AD4: ='Graphiques GI'!$B$45 -> 0.12688907 | AE4: =MAX(H4:H5)-MIN(H4:H5) -> 0.04 | AF4: ='Graphiques GI'!$B$58 + 'Graphiques GI'!$B$57 -> 0.44586151 | AG4: ='Graphiques GI'!$B$57 -> 0.16452818 | AH4: ='Graphiques GI'!$B$57 -> 0.16452818 | AI4: =MAX(I4:I5)-MIN(I4:I5) -> 0.13 | AJ4: ='Graphiques GI'!$B$70 + 'Graphiques GI'!$B$69 -> 0.43350372 | AK4: ='Graphiques GI'!$B$69 -> 0.16369816 | AL4: ='Graphiques GI'!$B$69 -> 0.16369816 | AM4: =MAX(J4:J5)-MIN(J4:J5) -> 0.2 | AN4: ='Graphiques GI'!$B$82 + 'Graphiques GI'!$B$81 -> 0.61833435 | AO4: ='Graphiques GI'!$B$81 -> 0.1846857 | AP4: ='Graphiques GI'!$B$81 -> 0.1846857 | AQ4: =MAX(K4:K5)-MIN(K4:K5) -> 0.14 | AR4: ='Graphiques GI'!$B$94 + 'Graphiques GI'!$B$93 -> 0.51434309 | AS4: ='Graphiques GI'!$B$93 -> 0.19019032 | AT4: ='Graphiques GI'!$B$93 -> 0.19019032 | AU4: =MAX(L4:L5)-MIN(L4:L5) -> 0.04 | AV4: ='Graphiques GI'!$B$106 + 'Graphiques GI'!$B$105 -> 0.43080514 | AW4: ='Graphiques GI'!$B$105 -> 0.17391625 | AX4: ='Graphiques GI'!$B$105 -> 0.17391625 | AY4: =MAX(M4:M5)-MIN(M4:M5) -> 0.18 | AZ4: ='Graphiques GI'!$B$118 + 'Graphiques GI'!$B$117 -> 0.54303418 | BA4: ='Graphiques GI'!$B$117 -> 0.20896474 | BB4: ='Graphiques GI'!$B$117 -> 0.20896474 | BC4: =MAX(N4:N5)-MIN(N4:N5) -> 0.23 | BD4: ='Graphiques GI'!$B$130 + 'Graphiques GI'!$B$129 -> 0.62703807 | BE4: ='Graphiques GI'!$B$129 -> 0.24103807 | BF4: ='Graphiques GI'!$B$129 -> 0.24103807 | BG4: =MAX(O4:O5)-MIN(O4:O5) -> 0.19 | BH4: ='Graphiques GI'!$B$142 + 'Graphiques GI'!$B$141 -> 0.78975212 | BI4: ='Graphiques GI'!$B$141 -> 0.22812712 | BJ4: ='Graphiques GI'!$B$141 -> 0.22812712 | BK4: =MAX(P4:P5)-MIN(P4:P5) -> 0.29 | BL4: ='Graphiques GI'!$B$154 + 'Graphiques GI'!$B$153 -> 0.69737848 | BM4: ='Graphiques GI'!$B$153 -> 0.19929515 | BN4: ='Graphiques GI'!$B$153 -> 0.19929515 | BO4: =MAX(Q4:Q5)-MIN(Q4:Q5) -> 0.41 | BP4: ='Graphiques GI'!$B$166 + 'Graphiques GI'!$B$165 -> 0.73399069 | BQ4: ='Graphiques GI'!$B$165 -> 0.20681013 | BR4: ='Graphiques GI'!$B$165 -> 0.20681013 | BS4: =MAX(R4:R5)-MIN(R4:R5) -> 0.18 | BT4: ='Graphiques GI'!$B$178 + 'Graphiques GI'!$B$177 -> 0.70591448 | BU4: ='Graphiques GI'!$B$177 -> 0.19680337 | BV4: ='Graphiques GI'!$B$177 -> 0.19680337
A5: 43466 | B5: =ROW()-1 -> 4 | C5: 52889415 | D5: =NA() -> #N/A | E5: 0.23 | F5: 0.05 | G5: 0.29 | H5: 0.24 | I5: 0.11 | J5: 0.03 | K5: 0.13 | L5: 0.18 | M5: 0.1 | N5: 0.06 | O5: 0.45 | P5: 0.44 | Q5: 0.42 | R5: 0.56 | S5: =MAX(E5:E6)-MIN(E5:E6) -> 0.1 | T5: ='Graphiques GI'!$B$22 + 'Graphiques GI'!$B$21 -> 0.28975859 | U5: ='Graphiques GI'!$B$21 -> 0.10756415 | V5: ='Graphiques GI'!$B$21 -> 0.10756415 | W5: =MAX(F5:F6)-MIN(F5:F6) -> 0.26 | X5: ='Graphiques GI'!$B$34 + 'Graphiques GI'!$B$33 -> 0.8119447 | Y5: ='Graphiques GI'!$B$33 -> 0.26672248 | Z5: ='Graphiques GI'!$B$33 -> 0.26672248 | AA5: =MAX(G5:G6)-MIN(G5:G6) -> 0.13 | AB5: ='Graphiques GI'!$B$46 + 'Graphiques GI'!$B$45 -> 0.29358351 | AC5: ='Graphiques GI'!$B$45 -> 0.12688907 | AD5: ='Graphiques GI'!$B$45 -> 0.12688907 | AE5: =MAX(H5:H6)-MIN(H5:H6) -> 0.06 | AF5: ='Graphiques GI'!$B$58 + 'Graphiques GI'!$B$57 -> 0.44586151 | AG5: ='Graphiques GI'!$B$57 -> 0.16452818 | AH5: ='Graphiques GI'!$B$57 -> 0.16452818 | AI5: =MAX(I5:I6)-MIN(I5:I6) -> 0.1 | AJ5: ='Graphiques GI'!$B$70 + 'Graphiques GI'!$B$69 -> 0.43350372 | AK5: ='Graphiques GI'!$B$69 -> 0.16369816 | AL5: ='Graphiques GI'!$B$69 -> 0.16369816 | AM5: =MAX(J5:J6)-MIN(J5:J6) -> 0.14 | AN5: ='Graphiques GI'!$B$82 + 'Graphiques GI'!$B$81 -> 0.61833435 | AO5: ='Graphiques GI'!$B$81 -> 0.1846857 | AP5: ='Graphiques GI'!$B$81 -> 0.1846857 | AQ5: =MAX(K5:K6)-MIN(K5:K6) -> 0.07 | AR5: ='Graphiques GI'!$B$94 + 'Graphiques GI'!$B$93 -> 0.51434309 | AS5: ='Graphiques GI'!$B$93 -> 0.19019032 | AT5: ='Graphiques GI'!$B$93 -> 0.19019032 | AU5: =MAX(L5:L6)-MIN(L5:L6) -> 0.03 | AV5: ='Graphiques GI'!$B$106 + 'Graphiques GI'!$B$105 -> 0.43080514 | AW5: ='Graphiques GI'!$B$105 -> 0.17391625 | AX5: ='Graphiques GI'!$B$105 -> 0.17391625 | AY5: =MAX(M5:M6)-MIN(M5:M6) -> 0.1 | AZ5: ='Graphiques GI'!$B$118 + 'Graphiques GI'!$B$117 -> 0.54303418 | BA5: ='Graphiques GI'!$B$117 -> 0.20896474 | BB5: ='Graphiques GI'!$B$117 -> 0.20896474 | BC5: =MAX(N5:N6)-MIN(N5:N6) -> 0.17 | BD5: ='Graphiques GI'!$B$130 + 'Graphiques GI'!$B$129 -> 0.62703807 | BE5: ='Graphiques GI'!$B$129 -> 0.24103807 | BF5: ='Graphiques GI'!$B$129 -> 0.24103807 | BG5: =MAX(O5:O6)-MIN(O5:O6) -> 0.08 | BH5: ='Graphiques GI'!$B$142 + 'Graphiques GI'!$B$141 -> 0.78975212 | BI5: ='Graphiques GI'!$B$141 -> 0.22812712 | BJ5: ='Graphiques GI'!$B$141 -> 0.22812712 | BK5: =MAX(P5:P6)-MIN(P5:P6) -> 0.1 | BL5: ='Graphiques GI'!$B$154 + 'Graphiques GI'!$B$153 -> 0.69737848 | BM5: ='Graphiques GI'!$B$153 -> 0.19929515 | BN5: ='Graphiques GI'!$B$153 -> 0.19929515 | BO5: =MAX(Q5:Q6)-MIN(Q5:Q6) -> 0.22 | BP5: ='Graphiques GI'!$B$166 + 'Graphiques GI'!$B$165 -> 0.73399069 | BQ5: ='Graphiques GI'!$B$165 -> 0.20681013 | BR5: ='Graphiques GI'!$B$165 -> 0.20681013 | BS5: =MAX(R5:R6)-MIN(R5:R6) -> 0.07 | BT5: ='Graphiques GI'!$B$178 + 'Graphiques GI'!$B$177 -> 0.70591448 | BU5: ='Graphiques GI'!$B$177 -> 0.19680337 | BV5: ='Graphiques GI'!$B$177 -> 0.19680337
A6: 43466 | B6: =ROW()-1 -> 5 | C6: 52891322 | D6: =NA() -> #N/A | E6: 0.13 | F6: 0.31 | G6: 0.16 | H6: 0.18 | I6: 0.21 | J6: 0.17 | K6: 0.2 | L6: 0.15 | M6: 0.2 | N6: 0.23 | O6: 0.53 | P6: 0.54 | Q6: 0.64 | R6: 0.63 | S6: =MAX(E6:E7)-MIN(E6:E7) -> 0.13 | T6: ='Graphiques GI'!$B$22 + 'Graphiques GI'!$B$21 -> 0.28975859 | U6: ='Graphiques GI'!$B$21 -> 0.10756415 | V6: ='Graphiques GI'!$B$21 -> 0.10756415 | W6: =MAX(F6:F7)-MIN(F6:F7) -> 0.26 | X6: ='Graphiques GI'!$B$34 + 'Graphiques GI'!$B$33 -> 0.8119447 | Y6: ='Graphiques GI'!$B$33 -> 0.26672248 | Z6: ='Graphiques GI'!$B$33 -> 0.26672248 | AA6: =MAX(G6:G7)-MIN(G6:G7) -> 0.28 | AB6: ='Graphiques GI'!$B$46 + 'Graphiques GI'!$B$45 -> 0.29358351 | AC6: ='Graphiques GI'!$B$45 -> 0.12688907 | AD6: ='Graphiques GI'!$B$45 -> 0.12688907 | AE6: =MAX(H6:H7)-MIN(H6:H7) -> 0.4 | AF6: ='Graphiques GI'!$B$58 + 'Graphiques GI'!$B$57 -> 0.44586151 | AG6: ='Graphiques GI'!$B$57 -> 0.16452818 | AH6: ='Graphiques GI'!$B$57 -> 0.16452818 | AI6: =MAX(I6:I7)-MIN(I6:I7) -> 0.16 | AJ6: ='Graphiques GI'!$B$70 + 'Graphiques GI'!$B$69 -> 0.43350372 | AK6: ='Graphiques GI'!$B$69 -> 0.16369816 | AL6: ='Graphiques GI'!$B$69 -> 0.16369816 | AM6: =MAX(J6:J7)-MIN(J6:J7) -> 0.22 | AN6: ='Graphiques GI'!$B$82 + 'Graphiques GI'!$B$81 -> 0.61833435 | AO6: ='Graphiques GI'!$B$81 -> 0.1846857 | AP6: ='Graphiques GI'!$B$81 -> 0.1846857 | AQ6: =MAX(K6:K7)-MIN(K6:K7) -> 0.19 | AR6: ='Graphiques GI'!$B$94 + 'Graphiques GI'!$B$93 -> 0.51434309 | AS6: ='Graphiques GI'!$B$93 -> 0.19019032 | AT6: ='Graphiques GI'!$B$93 -> 0.19019032 | AU6: =MAX(L6:L7)-MIN(L6:L7) -> 0.13 | AV6: ='Graphiques GI'!$B$106 + 'Graphiques GI'!$B$105 -> 0.43080514 | AW6: ='Graphiques GI'!$B$105 -> 0.17391625 | AX6: ='Graphiques GI'!$B$105 -> 0.17391625 | AY6: =MAX(M6:M7)-MIN(M6:M7) -> 0.2 | AZ6: ='Graphiques GI'!$B$118 + 'Graphiques GI'!$B$117 -> 0.54303418 | BA6: ='Graphiques GI'!$B$117 -> 0.20896474 | BB6: ='Graphiques GI'!$B$117 -> 0.20896474 | BC6: =MAX(N6:N7)-MIN(N6:N7) -> 0.29 | BD6: ='Graphiques GI'!$B$130 + 'Graphiques GI'!$B$129 -> 0.62703807 | BE6: ='Graphiques GI'!$B$129 -> 0.24103807 | BF6: ='Graphiques GI'!$B$129 -> 0.24103807 | BG6: =MAX(O6:O7)-MIN(O6:O7) -> 0.18 | BH6: ='Graphiques GI'!$B$142 + 'Graphiques GI'!$B$141 -> 0.78975212 | BI6: ='Graphiques GI'!$B$141 -> 0.22812712 | BJ6: ='Graphiques GI'!$B$141 -> 0.22812712 | BK6: =MAX(P6:P7)-MIN(P6:P7) -> 0.14 | BL6: ='Graphiques GI'!$B$154 + 'Graphiques GI'!$B$153 -> 0.69737848 | BM6: ='Graphiques GI'!$B$153 -> 0.19929515 | BN6: ='Graphiques GI'!$B$153 -> 0.19929515 | BO6: =MAX(Q6:Q7)-MIN(Q6:Q7) -> 0.17 | BP6: ='Graphiques GI'!$B$166 + 'Graphiques GI'!$B$165 -> 0.73399069 | BQ6: ='Graphiques GI'!$B$165 -> 0.20681013 | BR6: ='Graphiques GI'!$B$165 -> 0.20681013 | BS6: =MAX(R6:R7)-MIN(R6:R7) -> 0.08 | BT6: ='Graphiques GI'!$B$178 + 'Graphiques GI'!$B$177 -> 0.70591448 | BU6: ='Graphiques GI'!$B$177 -> 0.19680337 | BV6: ='Graphiques GI'!$B$177 -> 0.19680337
A7: 43466 | B7: =ROW()-1 -> 6 | C7: 52882812 | D7: =NA() -> #N/A | E7: 0.26 | F7: 0.57 | G7: 0.44 | H7: 0.58 | I7: 0.37 | J7: 0.39 | K7: 0.39 | L7: 0.28 | M7: 0.4 | N7: 0.52 | O7: 0.35 | P7: 0.4 | Q7: 0.47 | R7: 0.55 | S7: =MAX(E7:E8)-MIN(E7:E8) -> 0.17 | T7: ='Graphiques GI'!$B$22 + 'Graphiques GI'!$B$21 -> 0.28975859 | U7: ='Graphiques GI'!$B$21 -> 0.10756415 | V7: ='Graphiques GI'!$B$21 -> 0.10756415 | W7: =MAX(F7:F8)-MIN(F7:F8) -> 0.11 | X7: ='Graphiques GI'!$B$34 + 'Graphiques GI'!$B$33 -> 0.8119447 | Y7: ='Graphiques GI'!$B$33 -> 0.26672248 | Z7: ='Graphiques GI'!$B$33 -> 0.26672248 | AA7: =MAX(G7:G8)-MIN(G7:G8) -> 0.33 | AB7: ='Graphiques GI'!$B$46 + 'Graphiques GI'!$B$45 -> 0.29358351 | AC7: ='Graphiques GI'!$B$45 -> 0.12688907 | AD7: ='Graphiques GI'!$B$45 -> 0.12688907 | AE7: =MAX(H7:H8)-MIN(H7:H8) -> 0.4 | AF7: ='Graphiques GI'!$B$58 + 'Graphiques GI'!$B$57 -> 0.44586151 | AG7: ='Graphiques GI'!$B$57 -> 0.16452818 | AH7: ='Graphiques GI'!$B$57 -> 0.16452818 | AI7: =MAX(I7:I8)-MIN(I7:I8) -> 0.26 | AJ7: ='Graphiques GI'!$B$70 + 'Graphiques GI'!$B$69 -> 0.43350372 | AK7: ='Graphiques GI'!$B$69 -> 0.16369816 | AL7: ='Graphiques GI'!$B$69 -> 0.16369816 | AM7: =MAX(J7:J8)-MIN(J7:J8) -> 0.32 | AN7: ='Graphiques GI'!$B$82 + 'Graphiques GI'!$B$81 -> 0.61833435 | AO7: ='Graphiques GI'!$B$81 -> 0.1846857 | AP7: ='Graphiques GI'!$B$81 -> 0.1846857 | AQ7: =MAX(K7:K8)-MIN(K7:K8) -> 0.27 | AR7: ='Graphiques GI'!$B$94 + 'Graphiques GI'!$B$93 -> 0.51434309 | AS7: ='Graphiques GI'!$B$93 -> 0.19019032 | AT7: ='Graphiques GI'!$B$93 -> 0.19019032 | AU7: =MAX(L7:L8)-MIN(L7:L8) -> 0.07 | AV7: ='Graphiques GI'!$B$106 + 'Graphiques GI'!$B$105 -> 0.43080514 | AW7: ='Graphiques GI'!$B$105 -> 0.17391625 | AX7: ='Graphiques GI'!$B$105 -> 0.17391625 | AY7: =MAX(M7:M8)-MIN(M7:M8) -> 0.04 | AZ7: ='Graphiques GI'!$B$118 + 'Graphiques GI'!$B$117 -> 0.54303418 | BA7: ='Graphiques GI'!$B$117 -> 0.20896474 | BB7: ='Graphiques GI'!$B$117 -> 0.20896474 | BC7: =MAX(N7:N8)-MIN(N7:N8) -> 0.07 | BD7: ='Graphiques GI'!$B$130 + 'Graphiques GI'!$B$129 -> 0.62703807 | BE7: ='Graphiques GI'!$B$129 -> 0.24103807 | BF7: ='Graphiques GI'!$B$129 -> 0.24103807 | BG7: =MAX(O7:O8)-MIN(O7:O8) -> 0.28 | BH7: ='Graphiques GI'!$B$142 + 'Graphiques GI'!$B$141 -> 0.78975212 | BI7: ='Graphiques GI'!$B$141 -> 0.22812712 | BJ7: ='Graphiques GI'!$B$141 -> 0.22812712 | BK7: =MAX(P7:P8)-MIN(P7:P8) -> 0.29 | BL7: ='Graphiques GI'!$B$154 + 'Graphiques GI'!$B$153 -> 0.69737848 | BM7: ='Graphiques GI'!$B$153 -> 0.19929515 | BN7: ='Graphiques GI'!$B$153 -> 0.19929515 | BO7: =MAX(Q7:Q8)-MIN(Q7:Q8) -> 0.2 | BP7: ='Graphiques GI'!$B$166 + 'Graphiques GI'!$B$165 -> 0.73399069 | BQ7: ='Graphiques GI'!$B$165 -> 0.20681013 | BR7: ='Graphiques GI'!$B$165 -> 0.20681013 | BS7: =MAX(R7:R8)-MIN(R7:R8) -> 0.4 | BT7: ='Graphiques GI'!$B$178 + 'Graphiques GI'!$B$177 -> 0.70591448 | BU7: ='Graphiques GI'!$B$177 -> 0.19680337 | BV7: ='Graphiques GI'!$B$177 -> 0.19680337
A8: 43466 | B8: =ROW()-1 -> 7 | C8: 52891326 | D8: =NA() -> #N/A | E8: 0.09 | F8: 0.68 | G8: 0.11 | H8: 0.18 | I8: 0.11 | J8: 0.07 | K8: 0.12 | L8: 0.21 | M8: 0.36 | N8: 0.45 | O8: 0.07 | P8: 0.11 | Q8: 0.27 | R8: 0.15 | S8: =MAX(E8:E9)-MIN(E8:E9) -> 0.07 | T8: ='Graphiques GI'!$B$22 + 'Graphiques GI'!$B$21 -> 0.28975859 | U8: ='Graphiques GI'!$B$21 -> 0.10756415 | V8: ='Graphiques GI'!$B$21 -> 0.10756415 | W8: =MAX(F8:F9)-MIN(F8:F9) -> 0.12 | X8: ='Graphiques GI'!$B$34 + 'Graphiques GI'!$B$33 -> 0.8119447 | Y8: ='Graphiques GI'!$B$33 -> 0.26672248 | Z8: ='Graphiques GI'!$B$33 -> 0.26672248 | AA8: =MAX(G8:G9)-MIN(G8:G9) -> 0.06 | AB8: ='Graphiques GI'!$B$46 + 'Graphiques GI'!$B$45 -> 0.29358351 | AC8: ='Graphiques GI'!$B$45 -> 0.12688907 | AD8: ='Graphiques GI'!$B$45 -> 0.12688907 | AE8: =MAX(H8:H9)-MIN(H8:H9) -> 0.26 | AF8: ='Graphiques GI'!$B$58 + 'Graphiques GI'!$B$57 -> 0.44586151 | AG8: ='Graphiques GI'!$B$57 -> 0.16452818 | AH8: ='Graphiques GI'!$B$57 -> 0.16452818 | AI8: =MAX(I8:I9)-MIN(I8:I9) -> 0.37 | AJ8: ='Graphiques GI'!$B$70 + 'Graphiques GI'!$B$69 -> 0.43350372 | AK8: ='Graphiques GI'!$B$69 -> 0.16369816 | AL8: ='Graphiques GI'!$B$69 -> 0.16369816 | AM8: =MAX(J8:J9)-MIN(J8:J9) -> 0.37 | AN8: ='Graphiques GI'!$B$82 + 'Graphiques GI'!$B$81 -> 0.61833435 | AO8: ='Graphiques GI'!$B$81 -> 0.1846857 | AP8: ='Graphiques GI'!$B$81 -> 0.1846857 | AQ8: =MAX(K8:K9)-MIN(K8:K9) -> 0.44 | AR8: ='Graphiques GI'!$B$94 + 'Graphiques GI'!$B$93 -> 0.51434309 | AS8: ='Graphiques GI'!$B$93 -> 0.19019032 | AT8: ='Graphiques GI'!$B$93 -> 0.19019032 | AU8: =MAX(L8:L9)-MIN(L8:L9) -> 0.19 | AV8: ='Graphiques GI'!$B$106 + 'Graphiques GI'!$B$105 -> 0.43080514 | AW8: ='Graphiques GI'!$B$105 -> 0.17391625 | AX8: ='Graphiques GI'!$B$105 -> 0.17391625 | AY8: =MAX(M8:M9)-MIN(M8:M9) -> 0.14 | AZ8: ='Graphiques GI'!$B$118 + 'Graphiques GI'!$B$117 -> 0.54303418 | BA8: ='Graphiques GI'!$B$117 -> 0.20896474 | BB8: ='Graphiques GI'!$B$117 -> 0.20896474 | BC8: =MAX(N8:N9)-MIN(N8:N9) -> 0.09 | BD8: ='Graphiques GI'!$B$130 + 'Graphiques GI'!$B$129 -> 0.62703807 | BE8: ='Graphiques GI'!$B$129 -> 0.24103807 | BF8: ='Graphiques GI'!$B$129 -> 0.24103807 | BG8: =MAX(O8:O9)-MIN(O8:O9) -> 0.23 | BH8: ='Graphiques GI'!$B$142 + 'Graphiques GI'!$B$141 -> 0.78975212 | BI8: ='Graphiques GI'!$B$141 -> 0.22812712 | BJ8: ='Graphiques GI'!$B$141 -> 0.22812712 | BK8: =MAX(P8:P9)-MIN(P8:P9) -> 0.18 | BL8: ='Graphiques GI'!$B$154 + 'Graphiques GI'!$B$153 -> 0.69737848 | BM8: ='Graphiques GI'!$B$153 -> 0.19929515 | BN8: ='Graphiques GI'!$B$153 -> 0.19929515 | BO8: =MAX(Q8:Q9)-MIN(Q8:Q9) -> 0.2 | BP8: ='Graphiques GI'!$B$166 + 'Graphiques GI'!$B$165 -> 0.73399069 | BQ8: ='Graphiques GI'!$B$165 -> 0.20681013 | BR8: ='Graphiques GI'!$B$165 -> 0.20681013 | BS8: =MAX(R8:R9)-MIN(R8:R9) -> 0.21 | BT8: ='Graphiques GI'!$B$178 + 'Graphiques GI'!$B$177 -> 0.70591448 | BU8: ='Graphiques GI'!$B$177 -> 0.19680337 | BV8: ='Graphiques GI'!$B$177 -> 0.19680337
A9: 43466 | B9: =ROW()-1 -> 8 | C9: 52905976 | D9: =NA() -> #N/A | E9: 0.16 | F9: 0.56 | G9: 0.05 | H9: 0.44 | I9: 0.48 | J9: 0.44 | K9: 0.56 | L9: 0.4 | M9: 0.5 | N9: 0.54 | O9: 0.3 | P9: 0.29 | Q9: 0.07 | R9: 0.36 | S9: =MAX(E9:E10)-MIN(E9:E10) -> 0.08 | T9: ='Graphiques GI'!$B$22 + 'Graphiques GI'!$B$21 -> 0.28975859 | U9: ='Graphiques GI'!$B$21 -> 0.10756415 | V9: ='Graphiques GI'!$B$21 -> 0.10756415 | W9: =MAX(F9:F10)-MIN(F9:F10) -> 0.11 | X9: ='Graphiques GI'!$B$34 + 'Graphiques GI'!$B$33 -> 0.8119447 | Y9: ='Graphiques GI'!$B$33 -> 0.26672248 | Z9: ='Graphiques GI'!$B$33 -> 0.26672248 | AA9: =MAX(G9:G10)-MIN(G9:G10) -> 0.05 | AB9: ='Graphiques GI'!$B$46 + 'Graphiques GI'!$B$45 -> 0.29358351 | AC9: ='Graphiques GI'!$B$45 -> 0.12688907 | AD9: ='Graphiques GI'!$B$45 -> 0.12688907 | AE9: =MAX(H9:H10)-MIN(H9:H10) -> 0.24 | AF9: ='Graphiques GI'!$B$58 + 'Graphiques GI'!$B$57 -> 0.44586151 | AG9: ='Graphiques GI'!$B$57 -> 0.16452818 | AH9: ='Graphiques GI'!$B$57 -> 0.16452818 | AI9: =MAX(I9:I10)-MIN(I9:I10) -> 0.31 | AJ9: ='Graphiques GI'!$B$70 + 'Graphiques GI'!$B$69 -> 0.43350372 | AK9: ='Graphiques GI'!$B$69 -> 0.16369816 | AL9: ='Graphiques GI'!$B$69 -> 0.16369816 | AM9: =MAX(J9:J10)-MIN(J9:J10) -> 0.3 | AN9: ='Graphiques GI'!$B$82 + 'Graphiques GI'!$B$81 -> 0.61833435 | AO9: ='Graphiques GI'!$B$81 -> 0.1846857 | AP9: ='Graphiques GI'!$B$81 -> 0.1846857 | AQ9: =MAX(K9:K10)-MIN(K9:K10) -> 0.38 | AR9: ='Graphiques GI'!$B$94 + 'Graphiques GI'!$B$93 -> 0.51434309 | AS9: ='Graphiques GI'!$B$93 -> 0.19019032 | AT9: ='Graphiques GI'!$B$93 -> 0.19019032 | AU9: =MAX(L9:L10)-MIN(L9:L10) -> 0.2 | AV9: ='Graphiques GI'!$B$106 + 'Graphiques GI'!$B$105 -> 0.43080514 | AW9: ='Graphiques GI'!$B$105 -> 0.17391625 | AX9: ='Graphiques GI'!$B$105 -> 0.17391625 | AY9: =MAX(M9:M10)-MIN(M9:M10) -> 0.24 | AZ9: ='Graphiques GI'!$B$118 + 'Graphiques GI'!$B$117 -> 0.54303418 | BA9: ='Graphiques GI'!$B$117 -> 0.20896474 | BB9: ='Graphiques GI'!$B$117 -> 0.20896474 | BC9: =MAX(N9:N10)-MIN(N9:N10) -> 0.2 | BD9: ='Graphiques GI'!$B$130 + 'Graphiques GI'!$B$129 -> 0.62703807 | BE9: ='Graphiques GI'!$B$129 -> 0.24103807 | BF9: ='Graphiques GI'!$B$129 -> 0.24103807 | BG9: =MAX(O9:O10)-MIN(O9:O10) -> 0.11 | BH9: ='Graphiques GI'!$B$142 + 'Graphiques GI'!$B$141 -> 0.78975212 | BI9: ='Graphiques GI'!$B$141 -> 0.22812712 | BJ9: ='Graphiques GI'!$B$141 -> 0.22812712 | BK9: =MAX(P9:P10)-MIN(P9:P10) -> 0.12 | BL9: ='Graphiques GI'!$B$154 + 'Graphiques GI'!$B$153 -> 0.69737848 | BM9: ='Graphiques GI'!$B$153 -> 0.19929515 | BN9: ='Graphiques GI'!$B$153 -> 0.19929515 | BO9: =MAX(Q9:Q10)-MIN(Q9:Q10) -> 0.42 | BP9: ='Graphiques GI'!$B$166 + 'Graphiques GI'!$B$165 -> 0.73399069 | BQ9: ='Graphiques GI'!$B$165 -> 0.20681013 | BR9: ='Graphiques GI'!$B$165 -> 0.20681013 | BS9: =MAX(R9:R10)-MIN(R9:R10) -> 0.05 | BT9: ='Graphiques GI'!$B$178 + 'Graphiques GI'!$B$177 -> 0.70591448 | BU9: ='Graphiques GI'!$B$177 -> 0.19680337 | BV9: ='Graphiques GI'!$B$177 -> 0.19680337
A10: 43466 | B10: =ROW()-1 -> 9 | C10: 52891325 | D10: =NA() -> #N/A | E10: 0.08 | F10: 0.45 | G10: 0.1 | H10: 0.2 | I10: 0.17 | J10: 0.14 | K10: 0.18 | L10: 0.2 | M10: 0.26 | N10: 0.34 | O10: 0.41 | P10: 0.41 | Q10: 0.49 | R10: 0.41 | S10: =MAX(E10:E11)-MIN(E10:E11) -> 0.07 | T10: ='Graphiques GI'!$B$22 + 'Graphiques GI'!$B$21 -> 0.28975859 | U10: ='Graphiques GI'!$B$21 -> 0.10756415 | V10: ='Graphiques GI'!$B$21 -> 0.10756415 | W10: =MAX(F10:F11)-MIN(F10:F11) -> 0.26 | X10: ='Graphiques GI'!$B$34 + 'Graphiques GI'!$B$33 -> 0.8119447 | Y10: ='Graphiques GI'!$B$33 -> 0.26672248 | Z10: ='Graphiques GI'!$B$33 -> 0.26672248 | AA10: =MAX(G10:G11)-MIN(G10:G11) -> 0.03 | AB10: ='Graphiques GI'!$B$46 + 'Graphiques GI'!$B$45 -> 0.29358351 | AC10: ='Graphiques GI'!$B$45 -> 0.12688907 | AD10: ='Graphiques GI'!$B$45 -> 0.12688907 | AE10: =MAX(H10:H11)-MIN(H10:H11) -> 0.12 | AF10: ='Graphiques GI'!$B$58 + 'Graphiques GI'!$B$57 -> 0.44586151 | AG10: ='Graphiques GI'!$B$57 -> 0.16452818 | AH10: ='Graphiques GI'!$B$57 -> 0.16452818 | AI10: =MAX(I10:I11)-MIN(I10:I11) -> 0.09 | AJ10: ='Graphiques GI'!$B$70 + 'Graphiques GI'!$B$69 -> 0.43350372 | AK10: ='Graphiques GI'!$B$69 -> 0.16369816 | AL10: ='Graphiques GI'!$B$69 -> 0.16369816 | AM10: =MAX(J10:J11)-MIN(J10:J11) -> 0.06 | AN10: ='Graphiques GI'!$B$82 + 'Graphiques GI'!$B$81 -> 0.61833435 | AO10: ='Graphiques GI'!$B$81 -> 0.1846857 | AP10: ='Graphiques GI'!$B$81 -> 0.1846857 | AQ10: =MAX(K10:K11)-MIN(K10:K11) -> 0.13 | AR10: ='Graphiques GI'!$B$94 + 'Graphiques GI'!$B$93 -> 0.51434309 | AS10: ='Graphiques GI'!$B$93 -> 0.19019032 | AT10: ='Graphiques GI'!$B$93 -> 0.19019032 | AU10: =MAX(L10:L11)-MIN(L10:L11) -> 0.17 | AV10: ='Graphiques GI'!$B$106 + 'Graphiques GI'!$B$105 -> 0.43080514 | AW10: ='Graphiques GI'!$B$105 -> 0.17391625 | AX10: ='Graphiques GI'!$B$105 -> 0.17391625 | AY10: =MAX(M10:M11)-MIN(M10:M11) -> 0.23 | AZ10: ='Graphiques GI'!$B$118 + 'Graphiques GI'!$B$117 -> 0.54303418 | BA10: ='Graphiques GI'!$B$117 -> 0.20896474 | BB10: ='Graphiques GI'!$B$117 -> 0.20896474 | BC10: =MAX(N10:N11)-MIN(N10:N11) -> 0.29 | BD10: ='Graphiques GI'!$B$130 + 'Graphiques GI'!$B$129 -> 0.62703807 | BE10: ='Graphiques GI'!$B$129 -> 0.24103807 | BF10: ='Graphiques GI'!$B$129 -> 0.24103807 | BG10: =MAX(O10:O11)-MIN(O10:O11) -> 0.03 | BH10: ='Graphiques GI'!$B$142 + 'Graphiques GI'!$B$141 -> 0.78975212 | BI10: ='Graphiques GI'!$B$141 -> 0.22812712 | BJ10: ='Graphiques GI'!$B$141 -> 0.22812712 | BK10: =MAX(P10:P11)-MIN(P10:P11) -> 0.07 | BL10: ='Graphiques GI'!$B$154 + 'Graphiques GI'!$B$153 -> 0.69737848 | BM10: ='Graphiques GI'!$B$153 -> 0.19929515 | BN10: ='Graphiques GI'!$B$153 -> 0.19929515 | BO10: =MAX(Q10:Q11)-MIN(Q10:Q11) -> 0.27 | BP10: ='Graphiques GI'!$B$166 + 'Graphiques GI'!$B$165 -> 0.73399069 | BQ10: ='Graphiques GI'!$B$165 -> 0.20681013 | BR10: ='Graphiques GI'!$B$165 -> 0.20681013 | BS10: =MAX(R10:R11)-MIN(R10:R11) -> 0.18 | BT10: ='Graphiques GI'!$B$178 + 'Graphiques GI'!$B$177 -> 0.70591448 | BU10: ='Graphiques GI'!$B$177 -> 0.19680337 | BV10: ='Graphiques GI'!$B$177 -> 0.19680337
A11: 43466 | B11: =ROW()-1 -> 10 | C11: 52889411 | D11: =NA() -> #N/A | E11: 0.01 | F11: 0.19 | G11: 0.13 | H11: 0.08 | I11: 0.08 | J11: 0.08 | K11: 0.05 | L11: 0.03 | M11: 0.03 | N11: 0.05 | O11: 0.38 | P11: 0.34 | Q11: 0.76 | R11: 0.59 | S11: =MAX(E11:E12)-MIN(E11:E12) -> 0.04 | T11: ='Graphiques GI'!$B$22 + 'Graphiques GI'!$B$21 -> 0.28975859 | U11: ='Graphiques GI'!$B$21 -> 0.10756415 | V11: ='Graphiques GI'!$B$21 -> 0.10756415 | W11: =MAX(F11:F12)-MIN(F11:F12) -> 0.31 | X11: ='Graphiques GI'!$B$34 + 'Graphiques GI'!$B$33 -> 0.8119447 | Y11: ='Graphiques GI'!$B$33 -> 0.26672248 | Z11: ='Graphiques GI'!$B$33 -> 0.26672248 | AA11: =MAX(G11:G12)-MIN(G11:G12) -> 0.17 | AB11: ='Graphiques GI'!$B$46 + 'Graphiques GI'!$B$45 -> 0.29358351 | AC11: ='Graphiques GI'!$B$45 -> 0.12688907 | AD11: ='Graphiques GI'!$B$45 -> 0.12688907 | AE11: =MAX(H11:H12)-MIN(H11:H12) -> 0.23 | AF11: ='Graphiques GI'!$B$58 + 'Graphiques GI'!$B$57 -> 0.44586151 | AG11: ='Graphiques GI'!$B$57 -> 0.16452818 | AH11: ='Graphiques GI'!$B$57 -> 0.16452818 | AI11: =MAX(I11:I12)-MIN(I11:I12) -> 0.13 | AJ11: ='Graphiques GI'!$B$70 + 'Graphiques GI'!$B$69 -> 0.43350372 | AK11: ='Graphiques GI'!$B$69 -> 0.16369816 | AL11: ='Graphiques GI'!$B$69 -> 0.16369816 | AM11: =MAX(J11:J12)-MIN(J11:J12) -> 0.17 | AN11: ='Graphiques GI'!$B$82 + 'Graphiques GI'!$B$81 -> 0.61833435 | AO11: ='Graphiques GI'!$B$81 -> 0.1846857 | AP11: ='Graphiques GI'!$B$81 -> 0.1846857 | AQ11: =MAX(K11:K12)-MIN(K11:K12) -> 0.2 | AR11: ='Graphiques GI'!$B$94 + 'Graphiques GI'!$B$93 -> 0.51434309 | AS11: ='Graphiques GI'!$B$93 -> 0.19019032 | AT11: ='Graphiques GI'!$B$93 -> 0.19019032 | AU11: =MAX(L11:L12)-MIN(L11:L12) -> 0.14 | AV11: ='Graphiques GI'!$B$106 + 'Graphiques GI'!$B$105 -> 0.43080514 | AW11: ='Graphiques GI'!$B$105 -> 0.17391625 | AX11: ='Graphiques GI'!$B$105 -> 0.17391625 | AY11: =MAX(M11:M12)-MIN(M11:M12) -> 0.35 | AZ11: ='Graphiques GI'!$B$118 + 'Graphiques GI'!$B$117 -> 0.54303418 | BA11: ='Graphiques GI'!$B$117 -> 0.20896474 | BB11: ='Graphiques GI'!$B$117 -> 0.20896474 | BC11: =MAX(N11:N12)-MIN(N11:N12) -> 0.23 | BD11: ='Graphiques GI'!$B$130 + 'Graphiques GI'!$B$129 -> 0.62703807 | BE11: ='Graphiques GI'!$B$129 -> 0.24103807 | BF11: ='Graphiques GI'!$B$129 -> 0.24103807 | BG11: =MAX(O11:O12)-MIN(O11:O12) -> 0.34 | BH11: ='Graphiques GI'!$B$142 + 'Graphiques GI'!$B$141 -> 0.78975212 | BI11: ='Graphiques GI'!$B$141 -> 0.22812712 | BJ11: ='Graphiques GI'!$B$141 -> 0.22812712 | BK11: =MAX(P11:P12)-MIN(P11:P12) -> 0.42 | BL11: ='Graphiques GI'!$B$154 + 'Graphiques GI'!$B$153 -> 0.69737848 | BM11: ='Graphiques GI'!$B$153 -> 0.19929515 | BN11: ='Graphiques GI'!$B$153 -> 0.19929515 | BO11: =MAX(Q11:Q12)-MIN(Q11:Q12) -> 0.01 | BP11: ='Graphiques GI'!$B$166 + 'Graphiques GI'!$B$165 -> 0.73399069 | BQ11: ='Graphiques GI'!$B$165 -> 0.20681013 | BR11: ='Graphiques GI'!$B$165 -> 0.20681013 | BS11: =MAX(R11:R12)-MIN(R11:R12) -> 0.27 | BT11: ='Graphiques GI'!$B$178 + 'Graphiques GI'!$B$177 -> 0.70591448 | BU11: ='Graphiques GI'!$B$177 -> 0.19680337 | BV11: ='Graphiques GI'!$B$177 -> 0.19680337
A12: 43466 | B12: =ROW()-1 -> 11 | C12: 52891327 | D12: =NA() -> #N/A | E12: 0.05 | F12: 0.5 | G12: 0.3 | H12: 0.31 | I12: 0.21 | J12: 0.25 | K12: 0.25 | L12: 0.17 | M12: 0.38 | N12: 0.28 | O12: 0.72 | P12: 0.76 | Q12: 0.77 | R12: 0.86 | S12: =MAX(E12:E13)-MIN(E12:E13) -> 0.02 | T12: ='Graphiques GI'!$B$22 + 'Graphiques GI'!$B$21 -> 0.28975859 | U12: ='Graphiques GI'!$B$21 -> 0.10756415 | V12: ='Graphiques GI'!$B$21 -> 0.10756415 | W12: =MAX(F12:F13)-MIN(F12:F13) -> 0.24 | X12: ='Graphiques GI'!$B$34 + 'Graphiques GI'!$B$33 -> 0.8119447 | Y12: ='Graphiques GI'!$B$33 -> 0.26672248 | Z12: ='Graphiques GI'!$B$33 -> 0.26672248 | AA12: =MAX(G12:G13)-MIN(G12:G13) -> 0.29 | AB12: ='Graphiques GI'!$B$46 + 'Graphiques GI'!$B$45 -> 0.29358351 | AC12: ='Graphiques GI'!$B$45 -> 0.12688907 | AD12: ='Graphiques GI'!$B$45 -> 0.12688907 | AE12: =MAX(H12:H13)-MIN(H12:H13) -> 0.08 | AF12: ='Graphiques GI'!$B$58 + 'Graphiques GI'!$B$57 -> 0.44586151 | AG12: ='Graphiques GI'!$B$57 -> 0.16452818 | AH12: ='Graphiques GI'!$B$57 -> 0.16452818 | AI12: =MAX(I12:I13)-MIN(I12:I13) -> 0.02 | AJ12: ='Graphiques GI'!$B$70 + 'Graphiques GI'!$B$69 -> 0.43350372 | AK12: ='Graphiques GI'!$B$69 -> 0.16369816 | AL12: ='Graphiques GI'!$B$69 -> 0.16369816 | AM12: =MAX(J12:J13)-MIN(J12:J13) -> 0.06 | AN12: ='Graphiques GI'!$B$82 + 'Graphiques GI'!$B$81 -> 0.61833435 | AO12: ='Graphiques GI'!$B$81 -> 0.1846857 | AP12: ='Graphiques GI'!$B$81 -> 0.1846857 | AQ12: =MAX(K12:K13)-MIN(K12:K13) -> 0.07 | AR12: ='Graphiques GI'!$B$94 + 'Graphiques GI'!$B$93 -> 0.51434309 | AS12: ='Graphiques GI'!$B$93 -> 0.19019032 | AT12: ='Graphiques GI'!$B$93 -> 0.19019032 | AU12: =MAX(L12:L13)-MIN(L12:L13) -> 0.02 | AV12: ='Graphiques GI'!$B$106 + 'Graphiques GI'!$B$105 -> 0.43080514 | AW12: ='Graphiques GI'!$B$105 -> 0.17391625 | AX12: ='Graphiques GI'!$B$105 -> 0.17391625 | AY12: =MAX(M12:M13)-MIN(M12:M13) -> 0.22 | AZ12: ='Graphiques GI'!$B$118 + 'Graphiques GI'!$B$117 -> 0.54303418 | BA12: ='Graphiques GI'!$B$117 -> 0.20896474 | BB12: ='Graphiques GI'!$B$117 -> 0.20896474 | BC12: =MAX(N12:N13)-MIN(N12:N13) -> 0.06 | BD12: ='Graphiques GI'!$B$130 + 'Graphiques GI'!$B$129 -> 0.62703807 | BE12: ='Graphiques GI'!$B$129 -> 0.24103807 | BF12: ='Graphiques GI'!$B$129 -> 0.24103807 | BG12: =MAX(O12:O13)-MIN(O12:O13) -> 0.65 | BH12: ='Graphiques GI'!$B$142 + 'Graphiques GI'!$B$141 -> 0.78975212 | BI12: ='Graphiques GI'!$B$141 -> 0.22812712 | BJ12: ='Graphiques GI'!$B$141 -> 0.22812712 | BK12: =MAX(P12:P13)-MIN(P12:P13) -> 0.58 | BL12: ='Graphiques GI'!$B$154 + 'Graphiques GI'!$B$153 -> 0.69737848 | BM12: ='Graphiques GI'!$B$153 -> 0.19929515 | BN12: ='Graphiques GI'!$B$153 -> 0.19929515 | BO12: =MAX(Q12:Q13)-MIN(Q12:Q13) -> 0.5 | BP12: ='Graphiques GI'!$B$166 + 'Graphiques GI'!$B$165 -> 0.73399069 | BQ12: ='Graphiques GI'!$B$165 -> 0.20681013 | BR12: ='Graphiques GI'!$B$165 -> 0.20681013 | BS12: =MAX(R12:R13)-MIN(R12:R13) -> 0.53 | BT12: ='Graphiques GI'!$B$178 + 'Graphiques GI'!$B$177 -> 0.70591448 | BU12: ='Graphiques GI'!$B$177 -> 0.19680337 | BV12: ='Graphiques GI'!$B$177 -> 0.19680337
A13: 43466 | B13: =ROW()-1 -> 12 | C13: 52910398 | D13: =NA() -> #N/A | E13: 0.07 | F13: 0.26 | G13: 0.01 | H13: 0.23 | I13: 0.19 | J13: 0.19 | K13: 0.18 | L13: 0.15 | M13: 0.16 | N13: 0.22 | O13: 0.07 | P13: 0.18 | Q13: 0.27 | R13: 0.33 | S13: =MAX(E13:E14)-MIN(E13:E14) -> 0.09 | T13: ='Graphiques GI'!$B$22 + 'Graphiques GI'!$B$21 -> 0.28975859 | U13: ='Graphiques GI'!$B$21 -> 0.10756415 | V13: ='Graphiques GI'!$B$21 -> 0.10756415 | W13: =MAX(F13:F14)-MIN(F13:F14) -> 0.56 | X13: ='Graphiques GI'!$B$34 + 'Graphiques GI'!$B$33 -> 0.8119447 | Y13: ='Graphiques GI'!$B$33 -> 0.26672248 | Z13: ='Graphiques GI'!$B$33 -> 0.26672248 | AA13: =MAX(G13:G14)-MIN(G13:G14) -> 0.22 | AB13: ='Graphiques GI'!$B$46 + 'Graphiques GI'!$B$45 -> 0.29358351 | AC13: ='Graphiques GI'!$B$45 -> 0.12688907 | AD13: ='Graphiques GI'!$B$45 -> 0.12688907 | AE13: =MAX(H13:H14)-MIN(H13:H14) -> 0.15 | AF13: ='Graphiques GI'!$B$58 + 'Graphiques GI'!$B$57 -> 0.44586151 | AG13: ='Graphiques GI'!$B$57 -> 0.16452818 | AH13: ='Graphiques GI'!$B$57 -> 0.16452818 | AI13: =MAX(I13:I14)-MIN(I13:I14) -> 0.03 | AJ13: ='Graphiques GI'!$B$70 + 'Graphiques GI'!$B$69 -> 0.43350372 | AK13: ='Graphiques GI'!$B$69 -> 0.16369816 | AL13: ='Graphiques GI'!$B$69 -> 0.16369816 | AM13: =MAX(J13:J14)-MIN(J13:J14) -> 0.07 | AN13: ='Graphiques GI'!$B$82 + 'Graphiques GI'!$B$81 -> 0.61833435 | AO13: ='Graphiques GI'!$B$81 -> 0.1846857 | AP13: ='Graphiques GI'!$B$81 -> 0.1846857 | AQ13: =MAX(K13:K14)-MIN(K13:K14) -> 0.15 | AR13: ='Graphiques GI'!$B$94 + 'Graphiques GI'!$B$93 -> 0.51434309 | AS13: ='Graphiques GI'!$B$93 -> 0.19019032 | AT13: ='Graphiques GI'!$B$93 -> 0.19019032 | AU13: =MAX(L13:L14)-MIN(L13:L14) -> 0.26 | AV13: ='Graphiques GI'!$B$106 + 'Graphiques GI'!$B$105 -> 0.43080514 | AW13: ='Graphiques GI'!$B$105 -> 0.17391625 | AX13: ='Graphiques GI'!$B$105 -> 0.17391625 | AY13: =MAX(M13:M14)-MIN(M13:M14) -> 0.4 | AZ13: ='Graphiques GI'!$B$118 + 'Graphiques GI'!$B$117 -> 0.54303418 | BA13: ='Graphiques GI'!$B$117 -> 0.20896474 | BB13: ='Graphiques GI'!$B$117 -> 0.20896474 | BC13: =MAX(N13:N14)-MIN(N13:N14) -> 0.42 | BD13: ='Graphiques GI'!$B$130 + 'Graphiques GI'!$B$129 -> 0.62703807 | BE13: ='Graphiques GI'!$B$129 -> 0.24103807 | BF13: ='Graphiques GI'!$B$129 -> 0.24103807 | BG13: =MAX(O13:O14)-MIN(O13:O14) -> 0.63 | BH13: ='Graphiques GI'!$B$142 + 'Graphiques GI'!$B$141 -> 0.78975212 | BI13: ='Graphiques GI'!$B$141 -> 0.22812712 | BJ13: ='Graphiques GI'!$B$141 -> 0.22812712 | BK13: =MAX(P13:P14)-MIN(P13:P14) -> 0.31 | BL13: ='Graphiques GI'!$B$154 + 'Graphiques GI'!$B$153 -> 0.69737848 | BM13: ='Graphiques GI'!$B$153 -> 0.19929515 | BN13: ='Graphiques GI'!$B$153 -> 0.19929515 | BO13: =MAX(Q13:Q14)-MIN(Q13:Q14) -> 0.18 | BP13: ='Graphiques GI'!$B$166 + 'Graphiques GI'!$B$165 -> 0.73399069 | BQ13: ='Graphiques GI'!$B$165 -> 0.20681013 | BR13: ='Graphiques GI'!$B$165 -> 0.20681013 | BS13: =MAX(R13:R14)-MIN(R13:R14) -> 0.27 | BT13: ='Graphiques GI'!$B$178 + 'Graphiques GI'!$B$177 -> 0.70591448 | BU13: ='Graphiques GI'!$B$177 -> 0.19680337 | BV13: ='Graphiques GI'!$B$177 -> 0.19680337
... A63: 43619 | B63: =ROW()-1 -> 62 | C63: 53057703 | D63: =NA() -> #N/A | E63: 0.13 | F63: 0.13 | G63: 0.31 | H63: 0.11 | I63: 0.14 | J63: 0.08 | K63: 0.09 | L63: 0.06 | M63: 0.11 | N63: 0.04 | O63: 0.08 | P63: 0.14 | Q63: 0.3 | R63: 0.28 | S63: =MAX(E63:E64)-MIN(E63:E64) -> 0.02 | T63: ='Graphiques GI'!$B$22 + 'Graphiques GI'!$B$21 -> 0.28975859 | U63: ='Graphiques GI'!$B$21 -> 0.10756415 | V63: ='Graphiques GI'!$B$21 -> 0.10756415 | W63: =MAX(F63:F64)-MIN(F63:F64) -> 0.12 | X63: ='Graphiques GI'!$B$34 + 'Graphiques GI'!$B$33 -> 0.8119447 | Y63: ='Graphiques GI'!$B$33 -> 0.26672248 | Z63: ='Graphiques GI'!$B$33 -> 0.26672248 | AA63: =MAX(G63:G64)-MIN(G63:G64) -> 0.05 | AB63: ='Graphiques GI'!$B$46 + 'Graphiques GI'!$B$45 -> 0.29358351 | AC63: ='Graphiques GI'!$B$45 -> 0.12688907 | AD63: ='Graphiques GI'!$B$45 -> 0.12688907 | AE63: =MAX(H63:H64)-MIN(H63:H64) -> 0.09 | AF63: ='Graphiques GI'!$B$58 + 'Graphiques GI'!$B$57 -> 0.44586151 | AG63: ='Graphiques GI'!$B$57 -> 0.16452818 | AH63: ='Graphiques GI'!$B$57 -> 0.16452818 | AI63: =MAX(I63:I64)-MIN(I63:I64) -> 0.16 | AJ63: ='Graphiques GI'!$B$70 + 'Graphiques GI'!$B$69 -> 0.43350372 | AK63: ='Graphiques GI'!$B$69 -> 0.16369816 | AL63: ='Graphiques GI'!$B$69 -> 0.16369816 | AM63: =MAX(J63:J64)-MIN(J63:J64) -> 0.18 | AN63: ='Graphiques GI'!$B$82 + 'Graphiques GI'!$B$81 -> 0.61833435 | AO63: ='Graphiques GI'!$B$81 -> 0.1846857 | AP63: ='Graphiques GI'!$B$81 -> 0.1846857 | AQ63: =MAX(K63:K64)-MIN(K63:K64) -> 0.07 | AR63: ='Graphiques GI'!$B$94 + 'Graphiques GI'!$B$93 -> 0.51434309 | AS63: ='Graphiques GI'!$B$93 -> 0.19019032 | AT63: ='Graphiques GI'!$B$93 -> 0.19019032 | AU63: =MAX(L63:L64)-MIN(L63:L64) -> 0.04 | AV63: ='Graphiques GI'!$B$106 + 'Graphiques GI'!$B$105 -> 0.43080514 | AW63: ='Graphiques GI'!$B$105 -> 0.17391625 | AX63: ='Graphiques GI'!$B$105 -> 0.17391625 | AY63: =MAX(M63:M64)-MIN(M63:M64) -> 0.08 | AZ63: ='Graphiques GI'!$B$118 + 'Graphiques GI'!$B$117 -> 0.54303418 | BA63: ='Graphiques GI'!$B$117 -> 0.20896474 | BB63: ='Graphiques GI'!$B$117 -> 0.20896474 | BC63: =MAX(N63:N64)-MIN(N63:N64) -> 0.18 | BD63: ='Graphiques GI'!$B$130 + 'Graphiques GI'!$B$129 -> 0.62703807 | BE63: ='Graphiques GI'!$B$129 -> 0.24103807 | BF63: ='Graphiques GI'!$B$129 -> 0.24103807 | BG63: =MAX(O63:O64)-MIN(O63:O64) -> 0.39 | BH63: ='Graphiques GI'!$B$142 + 'Graphiques GI'!$B$141 -> 0.78975212 | BI63: ='Graphiques GI'!$B$141 -> 0.22812712 | BJ63: ='Graphiques GI'!$B$141 -> 0.22812712 | BK63: =MAX(P63:P64)-MIN(P63:P64) -> 0.36 | BL63: ='Graphiques GI'!$B$154 + 'Graphiques GI'!$B$153 -> 0.69737848 | BM63: ='Graphiques GI'!$B$153 -> 0.19929515 | BN63: ='Graphiques GI'!$B$153 -> 0.19929515 | BO63: =MAX(Q63:Q64)-MIN(Q63:Q64) -> 0.19 | BP63: ='Graphiques GI'!$B$166 + 'Graphiques GI'!$B$165 -> 0.73399069 | BQ63: ='Graphiques GI'!$B$165 -> 0.20681013 | BR63: ='Graphiques GI'!$B$165 -> 0.20681013 | BS63: =MAX(R63:R64)-MIN(R63:R64) -> 0.27 | BT63: ='Graphiques GI'!$B$178 + 'Graphiques GI'!$B$177 -> 0.70591448 | BU63: ='Graphiques GI'!$B$177 -> 0.19680337 | BV63: ='Graphiques GI'!$B$177 -> 0.19680337
A64: 43619 | B64: =ROW()-1 -> 63 | C64: 53064437 | D64: =NA() -> #N/A | E64: 0.15 | F64: 0.25 | G64: 0.26 | H64: 0.2 | I64: 0.3 | J64: 0.26 | K64: 0.16 | L64: 0.1 | M64: 0.19 | N64: 0.22 | O64: 0.47 | P64: 0.5 | Q64: 0.49 | R64: 0.55 | S64: =MAX(E64:E64)-MIN(E64:E64) -> 0 | T64: ='Graphiques GI'!$B$22 + 'Graphiques GI'!$B$21 -> 0.28975859 | U64: ='Graphiques GI'!$B$21 -> 0.10756415 | V64: ='Graphiques GI'!$B$21 -> 0.10756415 | W64: =MAX(F64:F64)-MIN(F64:F64) -> 0 | X64: ='Graphiques GI'!$B$34 + 'Graphiques GI'!$B$33 -> 0.8119447 | Y64: ='Graphiques GI'!$B$33 -> 0.26672248 | Z64: ='Graphiques GI'!$B$33 -> 0.26672248 | AA64: =MAX(G64:G64)-MIN(G64:G64) -> 0 | AB64: ='Graphiques GI'!$B$46 + 'Graphiques GI'!$B$45 -> 0.29358351 | AC64: ='Graphiques GI'!$B$45 -> 0.12688907 | AD64: ='Graphiques GI'!$B$45 -> 0.12688907 | AE64: =MAX(H64:H64)-MIN(H64:H64) -> 0 | AF64: ='Graphiques GI'!$B$58 + 'Graphiques GI'!$B$57 -> 0.44586151 | AG64: ='Graphiques GI'!$B$57 -> 0.16452818 | AH64: ='Graphiques GI'!$B$57 -> 0.16452818 | AI64: =MAX(I64:I64)-MIN(I64:I64) -> 0 | AJ64: ='Graphiques GI'!$B$70 + 'Graphiques GI'!$B$69 -> 0.43350372 | AK64: ='Graphiques GI'!$B$69 -> 0.16369816 | AL64: ='Graphiques GI'!$B$69 -> 0.16369816 | AM64: =MAX(J64:J64)-MIN(J64:J64) -> 0 | AN64: ='Graphiques GI'!$B$82 + 'Graphiques GI'!$B$81 -> 0.61833435 | AO64: ='Graphiques GI'!$B$81 -> 0.1846857 | AP64: ='Graphiques GI'!$B$81 -> 0.1846857 | AQ64: =MAX(K64:K64)-MIN(K64:K64) -> 0 | AR64: ='Graphiques GI'!$B$94 + 'Graphiques GI'!$B$93 -> 0.51434309 | AS64: ='Graphiques GI'!$B$93 -> 0.19019032 | AT64: ='Graphiques GI'!$B$93 -> 0.19019032 | AU64: =MAX(L64:L64)-MIN(L64:L64) -> 0 | AV64: ='Graphiques GI'!$B$106 + 'Graphiques GI'!$B$105 -> 0.43080514 | AW64: ='Graphiques GI'!$B$105 -> 0.17391625 | AX64: ='Graphiques GI'!$B$105 -> 0.17391625 | AY64: =MAX(M64:M64)-MIN(M64:M64) -> 0 | AZ64: ='Graphiques GI'!$B$118 + 'Graphiques GI'!$B$117 -> 0.54303418 | BA64: ='Graphiques GI'!$B$117 -> 0.20896474 | BB64: ='Graphiques GI'!$B$117 -> 0.20896474 | BC64: =MAX(N64:N64)-MIN(N64:N64) -> 0 | BD64: ='Graphiques GI'!$B$130 + 'Graphiques GI'!$B$129 -> 0.62703807 | BE64: ='Graphiques GI'!$B$129 -> 0.24103807 | BF64: ='Graphiques GI'!$B$129 -> 0.24103807 | BG64: =MAX(O64:O64)-MIN(O64:O64) -> 0 | BH64: ='Graphiques GI'!$B$142 + 'Graphiques GI'!$B$141 -> 0.78975212 | BI64: ='Graphiques GI'!$B$141 -> 0.22812712 | BJ64: ='Graphiques GI'!$B$141 -> 0.22812712 | BK64: =MAX(P64:P64)-MIN(P64:P64) -> 0 | BL64: ='Graphiques GI'!$B$154 + 'Graphiques GI'!$B$153 -> 0.69737848 | BM64: ='Graphiques GI'!$B$153 -> 0.19929515 | BN64: ='Graphiques GI'!$B$153 -> 0.19929515 | BO64: =MAX(Q64:Q64)-MIN(Q64:Q64) -> 0 | BP64: ='Graphiques GI'!$B$166 + 'Graphiques GI'!$B$165 -> 0.73399069 | BQ64: ='Graphiques GI'!$B$165 -> 0.20681013 | BR64: ='Graphiques GI'!$B$165 -> 0.20681013 | BS64: =MAX(R64:R64)-MIN(R64:R64) -> 0 | BT64: ='Graphiques GI'!$B$178 + 'Graphiques GI'!$B$177 -> 0.70591448 | BU64: ='Graphiques GI'!$B$177 -> 0.19680337 | BV64: ='Graphiques GI'!$B$177 -> 0.19680337
A65: 43630 | B65: =ROW()-1 -> 64 | C65: 53078456 | D65: =NA() -> #N/A | E65: 0.3 | F65: 0.49 | G65: 0.03 | H65: 0.42 | I65: 0.38 | J65: 0.46 | K65: 0.56 | L65: 0.31 | M65: 0.39 | N65: 0.4 | O65: 0.57 | P65: 0.61 | Q65: 0.59 | R65: 0.53 | S65: =MAX(E65:E133)-MIN(E65:E133) -> 0.316 | T65: ='Graphiques GI'!$B$22 + 'Graphiques GI'!$B$21 -> 0.28975859 | U65: ='Graphiques GI'!$B$21 -> 0.10756415 | V65: ='Graphiques GI'!$B$21 -> 0.10756415 | W65: =MAX(F65:F133)-MIN(F65:F133) -> 0.895 | X65: ='Graphiques GI'!$B$34 + 'Graphiques GI'!$B$33 -> 0.8119447 | Y65: ='Graphiques GI'!$B$33 -> 0.26672248 | Z65: ='Graphiques GI'!$B$33 -> 0.26672248 | AA65: =MAX(G65:G133)-MIN(G65:G133) -> 0.25 | AB65: ='Graphiques GI'!$B$46 + 'Graphiques GI'!$B$45 -> 0.29358351 | AC65: ='Graphiques GI'!$B$45 -> 0.12688907 | AD65: ='Graphiques GI'!$B$45 -> 0.12688907 | AE65: =MAX(H65:H133)-MIN(H65:H133) -> 0.512 | AF65: ='Graphiques GI'!$B$58 + 'Graphiques GI'!$B$57 -> 0.44586151 | AG65: ='Graphiques GI'!$B$57 -> 0.16452818 | AH65: ='Graphiques GI'!$B$57 -> 0.16452818 | AI65: =MAX(I65:I133)-MIN(I65:I133) -> 0.38 | AJ65: ='Graphiques GI'!$B$70 + 'Graphiques GI'!$B$69 -> 0.43350372 | AK65: ='Graphiques GI'!$B$69 -> 0.16369816 | AL65: ='Graphiques GI'!$B$69 -> 0.16369816 | AM65: =MAX(J65:J133)-MIN(J65:J133) -> 0.39 | AN65: ='Graphiques GI'!$B$82 + 'Graphiques GI'!$B$81 -> 0.61833435 | AO65: ='Graphiques GI'!$B$81 -> 0.1846857 | AP65: ='Graphiques GI'!$B$81 -> 0.1846857 | AQ65: =MAX(K65:K133)-MIN(K65:K133) -> 0.45 | AR65: ='Graphiques GI'!$B$94 + 'Graphiques GI'!$B$93 -> 0.51434309 | AS65: ='Graphiques GI'!$B$93 -> 0.19019032 | AT65: ='Graphiques GI'!$B$93 -> 0.19019032 | AU65: =MAX(L65:L133)-MIN(L65:L133) -> 0.586 | AV65: ='Graphiques GI'!$B$106 + 'Graphiques GI'!$B$105 -> 0.43080514 | AW65: ='Graphiques GI'!$B$105 -> 0.17391625 | AX65: ='Graphiques GI'!$B$105 -> 0.17391625 | AY65: =MAX(M65:M133)-MIN(M65:M133) -> 0.793 | AZ65: ='Graphiques GI'!$B$118 + 'Graphiques GI'!$B$117 -> 0.54303418 | BA65: ='Graphiques GI'!$B$117 -> 0.20896474 | BB65: ='Graphiques GI'!$B$117 -> 0.20896474 | BC65: =MAX(N65:N133)-MIN(N65:N133) -> 0.756 | BD65: ='Graphiques GI'!$B$130 + 'Graphiques GI'!$B$129 -> 0.62703807 | BE65: ='Graphiques GI'!$B$129 -> 0.24103807 | BF65: ='Graphiques GI'!$B$129 -> 0.24103807 | BG65: =MAX(O65:O133)-MIN(O65:O133) -> 0.559 | BH65: ='Graphiques GI'!$B$142 + 'Graphiques GI'!$B$141 -> 0.78975212 | BI65: ='Graphiques GI'!$B$141 -> 0.22812712 | BJ65: ='Graphiques GI'!$B$141 -> 0.22812712 | BK65: =MAX(P65:P133)-MIN(P65:P133) -> 0.612 | BL65: ='Graphiques GI'!$B$154 + 'Graphiques GI'!$B$153 -> 0.69737848 | BM65: ='Graphiques GI'!$B$153 -> 0.19929515 | BN65: ='Graphiques GI'!$B$153 -> 0.19929515 | BO65: =MAX(Q65:Q133)-MIN(Q65:Q133) -> 0.734 | BP65: ='Graphiques GI'!$B$166 + 'Graphiques GI'!$B$165 -> 0.73399069 | BQ65: ='Graphiques GI'!$B$165 -> 0.20681013 | BR65: ='Graphiques GI'!$B$165 -> 0.20681013 | BS65: =MAX(R65:R133)-MIN(R65:R133) -> 0.543 | BT65: ='Graphiques GI'!$B$178 + 'Graphiques GI'!$B$177 -> 0.70591448 | BU65: ='Graphiques GI'!$B$177 -> 0.19680337 | BV65: ='Graphiques GI'!$B$177 -> 0.19680337
A66: 43633 | B66: =ROW()-1 -> 65 | C66: 53084911 | D66: =NA() -> #N/A | E66: 0.04 | F66: 0.26 | G66: 0.21 | H66: 0.14 | I66: 0.21 | J66: 0.29 | K66: 0.29 | L66: 0.12 | M66: 0.23 | N66: 0.21 | O66: 0.26 | P66: 0.2 | Q66: 0.36 | R66: 0.33 | S66: =MAX(E66:E134)-MIN(E66:E134) -> 0.316 | T66: ='Graphiques GI'!$B$22 + 'Graphiques GI'!$B$21 -> 0.28975859 | U66: ='Graphiques GI'!$B$21 -> 0.10756415 | V66: ='Graphiques GI'!$B$21 -> 0.10756415 | W66: =MAX(F66:F134)-MIN(F66:F134) -> 0.895 | X66: ='Graphiques GI'!$B$34 + 'Graphiques GI'!$B$33 -> 0.8119447 | Y66: ='Graphiques GI'!$B$33 -> 0.26672248 | Z66: ='Graphiques GI'!$B$33 -> 0.26672248 | AA66: =MAX(G66:G134)-MIN(G66:G134) -> 0.194 | AB66: ='Graphiques GI'!$B$46 + 'Graphiques GI'!$B$45 -> 0.29358351 | AC66: ='Graphiques GI'!$B$45 -> 0.12688907 | AD66: ='Graphiques GI'!$B$45 -> 0.12688907 | AE66: =MAX(H66:H134)-MIN(H66:H134) -> 0.512 | AF66: ='Graphiques GI'!$B$58 + 'Graphiques GI'!$B$57 -> 0.44586151 | AG66: ='Graphiques GI'!$B$57 -> 0.16452818 | AH66: ='Graphiques GI'!$B$57 -> 0.16452818 | AI66: =MAX(I66:I134)-MIN(I66:I134) -> 0.38 | AJ66: ='Graphiques GI'!$B$70 + 'Graphiques GI'!$B$69 -> 0.43350372 | AK66: ='Graphiques GI'!$B$69 -> 0.16369816 | AL66: ='Graphiques GI'!$B$69 -> 0.16369816 | AM66: =MAX(J66:J134)-MIN(J66:J134) -> 0.39 | AN66: ='Graphiques GI'!$B$82 + 'Graphiques GI'!$B$81 -> 0.61833435 | AO66: ='Graphiques GI'!$B$81 -> 0.1846857 | AP66: ='Graphiques GI'!$B$81 -> 0.1846857 | AQ66: =MAX(K66:K134)-MIN(K66:K134) -> 0.397 | AR66: ='Graphiques GI'!$B$94 + 'Graphiques GI'!$B$93 -> 0.51434309 | AS66: ='Graphiques GI'!$B$93 -> 0.19019032 | AT66: ='Graphiques GI'!$B$93 -> 0.19019032 | AU66: =MAX(L66:L134)-MIN(L66:L134) -> 0.586 | AV66: ='Graphiques GI'!$B$106 + 'Graphiques GI'!$B$105 -> 0.43080514 | AW66: ='Graphiques GI'!$B$105 -> 0.17391625 | AX66: ='Graphiques GI'!$B$105 -> 0.17391625 | AY66: =MAX(M66:M134)-MIN(M66:M134) -> 0.793 | AZ66: ='Graphiques GI'!$B$118 + 'Graphiques GI'!$B$117 -> 0.54303418 | BA66: ='Graphiques GI'!$B$117 -> 0.20896474 | BB66: ='Graphiques GI'!$B$117 -> 0.20896474 | BC66: =MAX(N66:N134)-MIN(N66:N134) -> 0.756 | BD66: ='Graphiques GI'!$B$130 + 'Graphiques GI'!$B$129 -> 0.62703807 | BE66: ='Graphiques GI'!$B$129 -> 0.24103807 | BF66: ='Graphiques GI'!$B$129 -> 0.24103807 | BG66: =MAX(O66:O134)-MIN(O66:O134) -> 0.559 | BH66: ='Graphiques GI'!$B$142 + 'Graphiques GI'!$B$141 -> 0.78975212 | BI66: ='Graphiques GI'!$B$141 -> 0.22812712 | BJ66: ='Graphiques GI'!$B$141 -> 0.22812712 | BK66: =MAX(P66:P134)-MIN(P66:P134) -> 0.612 | BL66: ='Graphiques GI'!$B$154 + 'Graphiques GI'!$B$153 -> 0.69737848 | BM66: ='Graphiques GI'!$B$153 -> 0.19929515 | BN66: ='Graphiques GI'!$B$153 -> 0.19929515 | BO66: =MAX(Q66:Q134)-MIN(Q66:Q134) -> 0.734 | BP66: ='Graphiques GI'!$B$166 + 'Graphiques GI'!$B$165 -> 0.73399069 | BQ66: ='Graphiques GI'!$B$165 -> 0.20681013 | BR66: ='Graphiques GI'!$B$165 -> 0.20681013 | BS66: =MAX(R66:R134)-MIN(R66:R134) -> 0.543 | BT66: ='Graphiques GI'!$B$178 + 'Graphiques GI'!$B$177 -> 0.70591448 | BU66: ='Graphiques GI'!$B$177 -> 0.19680337 | BV66: ='Graphiques GI'!$B$177 -> 0.19680337
A67: 43636 | B67: =ROW()-1 -> 66 | C67: 53093702 | D67: =NA() -> #N/A | E67: 0.21 | F67: 0.28 | G67: 0.27 | H67: 0.38 | I67: 0.49 | J67: 0.48 | K67: 0.33 | L67: 0.28 | M67: 0.29 | N67: 0.22 | O67: 0.36 | P67: 0.24 | Q67: 0.35 | R67: 0.4 | S67: =MAX(E67:E135)-MIN(E67:E135) -> 0.314 | T67: ='Graphiques GI'!$B$22 + 'Graphiques GI'!$B$21 -> 0.28975859 | U67: ='Graphiques GI'!$B$21 -> 0.10756415 | V67: ='Graphiques GI'!$B$21 -> 0.10756415 | W67: =MAX(F67:F135)-MIN(F67:F135) -> 0.895 | X67: ='Graphiques GI'!$B$34 + 'Graphiques GI'!$B$33 -> 0.8119447 | Y67: ='Graphiques GI'!$B$33 -> 0.26672248 | Z67: ='Graphiques GI'!$B$33 -> 0.26672248 | AA67: =MAX(G67:G135)-MIN(G67:G135) -> 0.194 | AB67: ='Graphiques GI'!$B$46 + 'Graphiques GI'!$B$45 -> 0.29358351 | AC67: ='Graphiques GI'!$B$45 -> 0.12688907 | AD67: ='Graphiques GI'!$B$45 -> 0.12688907 | AE67: =MAX(H67:H135)-MIN(H67:H135) -> 0.512 | AF67: ='Graphiques GI'!$B$58 + 'Graphiques GI'!$B$57 -> 0.44586151 | AG67: ='Graphiques GI'!$B$57 -> 0.16452818 | AH67: ='Graphiques GI'!$B$57 -> 0.16452818 | AI67: =MAX(I67:I135)-MIN(I67:I135) -> 0.38 | AJ67: ='Graphiques GI'!$B$70 + 'Graphiques GI'!$B$69 -> 0.43350372 | AK67: ='Graphiques GI'!$B$69 -> 0.16369816 | AL67: ='Graphiques GI'!$B$69 -> 0.16369816 | AM67: =MAX(J67:J135)-MIN(J67:J135) -> 0.39 | AN67: ='Graphiques GI'!$B$82 + 'Graphiques GI'!$B$81 -> 0.61833435 | AO67: ='Graphiques GI'!$B$81 -> 0.1846857 | AP67: ='Graphiques GI'!$B$81 -> 0.1846857 | AQ67: =MAX(K67:K135)-MIN(K67:K135) -> 0.397 | AR67: ='Graphiques GI'!$B$94 + 'Graphiques GI'!$B$93 -> 0.51434309 | AS67: ='Graphiques GI'!$B$93 -> 0.19019032 | AT67: ='Graphiques GI'!$B$93 -> 0.19019032 | AU67: =MAX(L67:L135)-MIN(L67:L135) -> 0.586 | AV67: ='Graphiques GI'!$B$106 + 'Graphiques GI'!$B$105 -> 0.43080514 | AW67: ='Graphiques GI'!$B$105 -> 0.17391625 | AX67: ='Graphiques GI'!$B$105 -> 0.17391625 | AY67: =MAX(M67:M135)-MIN(M67:M135) -> 0.793 | AZ67: ='Graphiques GI'!$B$118 + 'Graphiques GI'!$B$117 -> 0.54303418 | BA67: ='Graphiques GI'!$B$117 -> 0.20896474 | BB67: ='Graphiques GI'!$B$117 -> 0.20896474 | BC67: =MAX(N67:N135)-MIN(N67:N135) -> 0.756 | BD67: ='Graphiques GI'!$B$130 + 'Graphiques GI'!$B$129 -> 0.62703807 | BE67: ='Graphiques GI'!$B$129 -> 0.24103807 | BF67: ='Graphiques GI'!$B$129 -> 0.24103807 | BG67: =MAX(O67:O135)-MIN(O67:O135) -> 0.459 | BH67: ='Graphiques GI'!$B$142 + 'Graphiques GI'!$B$141 -> 0.78975212 | BI67: ='Graphiques GI'!$B$141 -> 0.22812712 | BJ67: ='Graphiques GI'!$B$141 -> 0.22812712 | BK67: =MAX(P67:P135)-MIN(P67:P135) -> 0.602 | BL67: ='Graphiques GI'!$B$154 + 'Graphiques GI'!$B$153 -> 0.69737848 | BM67: ='Graphiques GI'!$B$153 -> 0.19929515 | BN67: ='Graphiques GI'!$B$153 -> 0.19929515 | BO67: =MAX(Q67:Q135)-MIN(Q67:Q135) -> 0.734 | BP67: ='Graphiques GI'!$B$166 + 'Graphiques GI'!$B$165 -> 0.73399069 | BQ67: ='Graphiques GI'!$B$165 -> 0.20681013 | BR67: ='Graphiques GI'!$B$165 -> 0.20681013 | BS67: =MAX(R67:R135)-MIN(R67:R135) -> 0.543 | BT67: ='Graphiques GI'!$B$178 + 'Graphiques GI'!$B$177 -> 0.70591448 | BU67: ='Graphiques GI'!$B$177 -> 0.19680337 | BV67: ='Graphiques GI'!$B$177 -> 0.19680337
A68: 43636 | B68: =ROW()-1 -> 67 | C68: 53071968 | D68: =NA() -> #N/A | E68: 0.21 | F68: 0.56 | G68: 0.28 | H68: 0.17 | I68: 0.11 | J68: 0.1 | K68: 0.2 | L68: 0.19 | M68: 0.31 | N68: 0.37 | O68: 0.71 | P68: 0.51 | Q68: 0.5 | R68: 0.48 | S68: =MAX(E68:E136)-MIN(E68:E136) -> 0.314 | T68: ='Graphiques GI'!$B$22 + 'Graphiques GI'!$B$21 -> 0.28975859 | U68: ='Graphiques GI'!$B$21 -> 0.10756415 | V68: ='Graphiques GI'!$B$21 -> 0.10756415 | W68: =MAX(F68:F136)-MIN(F68:F136) -> 0.895 | X68: ='Graphiques GI'!$B$34 + 'Graphiques GI'!$B$33 -> 0.8119447 | Y68: ='Graphiques GI'!$B$33 -> 0.26672248 | Z68: ='Graphiques GI'!$B$33 -> 0.26672248 | AA68: =MAX(G68:G136)-MIN(G68:G136) -> 0.194 | AB68: ='Graphiques GI'!$B$46 + 'Graphiques GI'!$B$45 -> 0.29358351 | AC68: ='Graphiques GI'!$B$45 -> 0.12688907 | AD68: ='Graphiques GI'!$B$45 -> 0.12688907 | AE68: =MAX(H68:H136)-MIN(H68:H136) -> 0.512 | AF68: ='Graphiques GI'!$B$58 + 'Graphiques GI'!$B$57 -> 0.44586151 | AG68: ='Graphiques GI'!$B$57 -> 0.16452818 | AH68: ='Graphiques GI'!$B$57 -> 0.16452818 | AI68: =MAX(I68:I136)-MIN(I68:I136) -> 0.36 | AJ68: ='Graphiques GI'!$B$70 + 'Graphiques GI'!$B$69 -> 0.43350372 | AK68: ='Graphiques GI'!$B$69 -> 0.16369816 | AL68: ='Graphiques GI'!$B$69 -> 0.16369816 | AM68: =MAX(J68:J136)-MIN(J68:J136) -> 0.313 | AN68: ='Graphiques GI'!$B$82 + 'Graphiques GI'!$B$81 -> 0.61833435 | AO68: ='Graphiques GI'!$B$81 -> 0.1846857 | AP68: ='Graphiques GI'!$B$81 -> 0.1846857 | AQ68: =MAX(K68:K136)-MIN(K68:K136) -> 0.397 | AR68: ='Graphiques GI'!$B$94 + 'Graphiques GI'!$B$93 -> 0.51434309 | AS68: ='Graphiques GI'!$B$93 -> 0.19019032 | AT68: ='Graphiques GI'!$B$93 -> 0.19019032 | AU68: =MAX(L68:L136)-MIN(L68:L136) -> 0.586 | AV68: ='Graphiques GI'!$B$106 + 'Graphiques GI'!$B$105 -> 0.43080514 | AW68: ='Graphiques GI'!$B$105 -> 0.17391625 | AX68: ='Graphiques GI'!$B$105 -> 0.17391625 | AY68: =MAX(M68:M136)-MIN(M68:M136) -> 0.793 | AZ68: ='Graphiques GI'!$B$118 + 'Graphiques GI'!$B$117 -> 0.54303418 | BA68: ='Graphiques GI'!$B$117 -> 0.20896474 | BB68: ='Graphiques GI'!$B$117 -> 0.20896474 | BC68: =MAX(N68:N136)-MIN(N68:N136) -> 0.756 | BD68: ='Graphiques GI'!$B$130 + 'Graphiques GI'!$B$129 -> 0.62703807 | BE68: ='Graphiques GI'!$B$129 -> 0.24103807 | BF68: ='Graphiques GI'!$B$129 -> 0.24103807 | BG68: =MAX(O68:O136)-MIN(O68:O136) -> 0.399 | BH68: ='Graphiques GI'!$B$142 + 'Graphiques GI'!$B$141 -> 0.78975212 | BI68: ='Graphiques GI'!$B$141 -> 0.22812712 | BJ68: ='Graphiques GI'!$B$141 -> 0.22812712 | BK68: =MAX(P68:P136)-MIN(P68:P136) -> 0.602 | BL68: ='Graphiques GI'!$B$154 + 'Graphiques GI'!$B$153 -> 0.69737848 | BM68: ='Graphiques GI'!$B$153 -> 0.19929515 | BN68: ='Graphiques GI'!$B$153 -> 0.19929515 | BO68: =MAX(Q68:Q136)-MIN(Q68:Q136) -> 0.734 | BP68: ='Graphiques GI'!$B$166 + 'Graphiques GI'!$B$165 -> 0.73399069 | BQ68: ='Graphiques GI'!$B$165 -> 0.20681013 | BR68: ='Graphiques GI'!$B$165 -> 0.20681013 | BS68: =MAX(R68:R136)-MIN(R68:R136) -> 0.543 | BT68: ='Graphiques GI'!$B$178 + 'Graphiques GI'!$B$177 -> 0.70591448 | BU68: ='Graphiques GI'!$B$177 -> 0.19680337 | BV68: ='Graphiques GI'!$B$177 -> 0.19680337
A69: 43642 | B69: =ROW()-1 -> 68 | C69: 53099453 | D69: =NA() -> #N/A | E69: 0.2 | F69: 0.03 | G69: 0.26 | H69: 0.28 | I69: 0.24 | J69: 0.18 | K69: 0.21 | L69: 0.03 | M69: 0.05 | N69: 0.01 | O69: 0.42 | P69: 0.21 | Q69: 0.17 | R69: 0.26 | S69: =MAX(E69:E137)-MIN(E69:E137) -> 0.314 | T69: ='Graphiques GI'!$B$22 + 'Graphiques GI'!$B$21 -> 0.28975859 | U69: ='Graphiques GI'!$B$21 -> 0.10756415 | V69: ='Graphiques GI'!$B$21 -> 0.10756415 | W69: =MAX(F69:F137)-MIN(F69:F137) -> 0.895 | X69: ='Graphiques GI'!$B$34 + 'Graphiques GI'!$B$33 -> 0.8119447 | Y69: ='Graphiques GI'!$B$33 -> 0.26672248 | Z69: ='Graphiques GI'!$B$33 -> 0.26672248 | AA69: =MAX(G69:G137)-MIN(G69:G137) -> 0.174 | AB69: ='Graphiques GI'!$B$46 + 'Graphiques GI'!$B$45 -> 0.29358351 | AC69: ='Graphiques GI'!$B$45 -> 0.12688907 | AD69: ='Graphiques GI'!$B$45 -> 0.12688907 | AE69: =MAX(H69:H137)-MIN(H69:H137) -> 0.512 | AF69: ='Graphiques GI'!$B$58 + 'Graphiques GI'!$B$57 -> 0.44586151 | AG69: ='Graphiques GI'!$B$57 -> 0.16452818 | AH69: ='Graphiques GI'!$B$57 -> 0.16452818 | AI69: =MAX(I69:I137)-MIN(I69:I137) -> 0.36 | AJ69: ='Graphiques GI'!$B$70 + 'Graphiques GI'!$B$69 -> 0.43350372 | AK69: ='Graphiques GI'!$B$69 -> 0.16369816 | AL69: ='Graphiques GI'!$B$69 -> 0.16369816 | AM69: =MAX(J69:J137)-MIN(J69:J137) -> 0.313 | AN69: ='Graphiques GI'!$B$82 + 'Graphiques GI'!$B$81 -> 0.61833435 | AO69: ='Graphiques GI'!$B$81 -> 0.1846857 | AP69: ='Graphiques GI'!$B$81 -> 0.1846857 | AQ69: =MAX(K69:K137)-MIN(K69:K137) -> 0.397 | AR69: ='Graphiques GI'!$B$94 + 'Graphiques GI'!$B$93 -> 0.51434309 | AS69: ='Graphiques GI'!$B$93 -> 0.19019032 | AT69: ='Graphiques GI'!$B$93 -> 0.19019032 | AU69: =MAX(L69:L137)-MIN(L69:L137) -> 0.586 | AV69: ='Graphiques GI'!$B$106 + 'Graphiques GI'!$B$105 -> 0.43080514 | AW69: ='Graphiques GI'!$B$105 -> 0.17391625 | AX69: ='Graphiques GI'!$B$105 -> 0.17391625 | AY69: =MAX(M69:M137)-MIN(M69:M137) -> 0.793 | AZ69: ='Graphiques GI'!$B$118 + 'Graphiques GI'!$B$117 -> 0.54303418 | BA69: ='Graphiques GI'!$B$117 -> 0.20896474 | BB69: ='Graphiques GI'!$B$117 -> 0.20896474 | BC69: =MAX(N69:N137)-MIN(N69:N137) -> 0.756 | BD69: ='Graphiques GI'!$B$130 + 'Graphiques GI'!$B$129 -> 0.62703807 | BE69: ='Graphiques GI'!$B$129 -> 0.24103807 | BF69: ='Graphiques GI'!$B$129 -> 0.24103807 | BG69: =MAX(O69:O137)-MIN(O69:O137) -> 0.399 | BH69: ='Graphiques GI'!$B$142 + 'Graphiques GI'!$B$141 -> 0.78975212 | BI69: ='Graphiques GI'!$B$141 -> 0.22812712 | BJ69: ='Graphiques GI'!$B$141 -> 0.22812712 | BK69: =MAX(P69:P137)-MIN(P69:P137) -> 0.602 | BL69: ='Graphiques GI'!$B$154 + 'Graphiques GI'!$B$153 -> 0.69737848 | BM69: ='Graphiques GI'!$B$153 -> 0.19929515 | BN69: ='Graphiques GI'!$B$153 -> 0.19929515 | BO69: =MAX(Q69:Q137)-MIN(Q69:Q137) -> 0.734 | BP69: ='Graphiques GI'!$B$166 + 'Graphiques GI'!$B$165 -> 0.73399069 | BQ69: ='Graphiques GI'!$B$165 -> 0.20681013 | BR69: ='Graphiques GI'!$B$165 -> 0.20681013 | BS69: =MAX(R69:R137)-MIN(R69:R137) -> 0.543 | BT69: ='Graphiques GI'!$B$178 + 'Graphiques GI'!$B$177 -> 0.70591448 | BU69: ='Graphiques GI'!$B$177 -> 0.19680337 | BV69: ='Graphiques GI'!$B$177 -> 0.19680337
A70: 43642 | B70: =ROW()-1 -> 69 | C70: 53084918 | D70: =NA() -> #N/A | E70: 0.2 | F70: 0.35 | G70: 0.24 | H70: 0.06 | I70: 0.11 | J70: 0.09 | K70: 0.11 | L70: 0.1 | M70: 0.19 | N70: 0.23 | O70: 0.6 | P70: 0.59 | Q70: 0.58 | R70: 0.66 | S70: =MAX(E70:E138)-MIN(E70:E138) -> 0.314 | T70: ='Graphiques GI'!$B$22 + 'Graphiques GI'!$B$21 -> 0.28975859 | U70: ='Graphiques GI'!$B$21 -> 0.10756415 | V70: ='Graphiques GI'!$B$21 -> 0.10756415 | W70: =MAX(F70:F138)-MIN(F70:F138) -> 0.764 | X70: ='Graphiques GI'!$B$34 + 'Graphiques GI'!$B$33 -> 0.8119447 | Y70: ='Graphiques GI'!$B$33 -> 0.26672248 | Z70: ='Graphiques GI'!$B$33 -> 0.26672248 | AA70: =MAX(G70:G138)-MIN(G70:G138) -> 0.154 | AB70: ='Graphiques GI'!$B$46 + 'Graphiques GI'!$B$45 -> 0.29358351 | AC70: ='Graphiques GI'!$B$45 -> 0.12688907 | AD70: ='Graphiques GI'!$B$45 -> 0.12688907 | AE70: =MAX(H70:H138)-MIN(H70:H138) -> 0.512 | AF70: ='Graphiques GI'!$B$58 + 'Graphiques GI'!$B$57 -> 0.44586151 | AG70: ='Graphiques GI'!$B$57 -> 0.16452818 | AH70: ='Graphiques GI'!$B$57 -> 0.16452818 | AI70: =MAX(I70:I138)-MIN(I70:I138) -> 0.36 | AJ70: ='Graphiques GI'!$B$70 + 'Graphiques GI'!$B$69 -> 0.43350372 | AK70: ='Graphiques GI'!$B$69 -> 0.16369816 | AL70: ='Graphiques GI'!$B$69 -> 0.16369816 | AM70: =MAX(J70:J138)-MIN(J70:J138) -> 0.313 | AN70: ='Graphiques GI'!$B$82 + 'Graphiques GI'!$B$81 -> 0.61833435 | AO70: ='Graphiques GI'!$B$81 -> 0.1846857 | AP70: ='Graphiques GI'!$B$81 -> 0.1846857 | AQ70: =MAX(K70:K138)-MIN(K70:K138) -> 0.397 | AR70: ='Graphiques GI'!$B$94 + 'Graphiques GI'!$B$93 -> 0.51434309 | AS70: ='Graphiques GI'!$B$93 -> 0.19019032 | AT70: ='Graphiques GI'!$B$93 -> 0.19019032 | AU70: =MAX(L70:L138)-MIN(L70:L138) -> 0.518 | AV70: ='Graphiques GI'!$B$106 + 'Graphiques GI'!$B$105 -> 0.43080514 | AW70: ='Graphiques GI'!$B$105 -> 0.17391625 | AX70: ='Graphiques GI'!$B$105 -> 0.17391625 | AY70: =MAX(M70:M138)-MIN(M70:M138) -> 0.725 | AZ70: ='Graphiques GI'!$B$118 + 'Graphiques GI'!$B$117 -> 0.54303418 | BA70: ='Graphiques GI'!$B$117 -> 0.20896474 | BB70: ='Graphiques GI'!$B$117 -> 0.20896474 | BC70: =MAX(N70:N138)-MIN(N70:N138) -> 0.619 | BD70: ='Graphiques GI'!$B$130 + 'Graphiques GI'!$B$129 -> 0.62703807 | BE70: ='Graphiques GI'!$B$129 -> 0.24103807 | BF70: ='Graphiques GI'!$B$129 -> 0.24103807 | BG70: =MAX(O70:O138)-MIN(O70:O138) -> 0.328 | BH70: ='Graphiques GI'!$B$142 + 'Graphiques GI'!$B$141 -> 0.78975212 | BI70: ='Graphiques GI'!$B$141 -> 0.22812712 | BJ70: ='Graphiques GI'!$B$141 -> 0.22812712 | BK70: =MAX(P70:P138)-MIN(P70:P138) -> 0.335 | BL70: ='Graphiques GI'!$B$154 + 'Graphiques GI'!$B$153 -> 0.69737848 | BM70: ='Graphiques GI'!$B$153 -> 0.19929515 | BN70: ='Graphiques GI'!$B$153 -> 0.19929515 | BO70: =MAX(Q70:Q138)-MIN(Q70:Q138) -> 0.58 | BP70: ='Graphiques GI'!$B$166 + 'Graphiques GI'!$B$165 -> 0.73399069 | BQ70: ='Graphiques GI'!$B$165 -> 0.20681013 | BR70: ='Graphiques GI'!$B$165 -> 0.20681013 | BS70: =MAX(R70:R138)-MIN(R70:R138) -> 0.463 | BT70: ='Graphiques GI'!$B$178 + 'Graphiques GI'!$B$177 -> 0.70591448 | BU70: ='Graphiques GI'!$B$177 -> 0.19680337 | BV70: ='Graphiques GI'!$B$177 -> 0.19680337
A71: 43651 | B71: =ROW()-1 -> 70 | C71: 53113465 | D71: 31 | E71: 0.07 | F71: 0.27 | G71: 0.217 | H71: 0.572 | I71: 0.47 | J71: 0.371 | K71: 0.507 | L71: 0.172 | M71: 0.118 | N71: 0.199 | O71: 0.491 | P71: 0.477 | Q71: 0.324 | R71: 0.34 | S71: =MAX(E71:E140)-MIN(E71:E140) -> 0.314 | T71: ='Graphiques GI'!$B$22 + 'Graphiques GI'!$B$21 -> 0.28975859 | U71: ='Graphiques GI'!$B$21 -> 0.10756415 | V71: ='Graphiques GI'!$B$21 -> 0.10756415 | W71: =MAX(F71:F140)-MIN(F71:F140) -> 0.764 | X71: ='Graphiques GI'!$B$34 + 'Graphiques GI'!$B$33 -> 0.8119447 | Y71: ='Graphiques GI'!$B$33 -> 0.26672248 | Z71: ='Graphiques GI'!$B$33 -> 0.26672248 | AA71: =MAX(G71:G140)-MIN(G71:G140) -> 0.131 | AB71: ='Graphiques GI'!$B$46 + 'Graphiques GI'!$B$45 -> 0.29358351 | AC71: ='Graphiques GI'!$B$45 -> 0.12688907 | AD71: ='Graphiques GI'!$B$45 -> 0.12688907 | AE71: =MAX(H71:H140)-MIN(H71:H140) -> 0.374 | AF71: ='Graphiques GI'!$B$58 + 'Graphiques GI'!$B$57 -> 0.44586151 | AG71: ='Graphiques GI'!$B$57 -> 0.16452818 | AH71: ='Graphiques GI'!$B$57 -> 0.16452818 | AI71: =MAX(I71:I140)-MIN(I71:I140) -> 0.314 | AJ71: ='Graphiques GI'!$B$70 + 'Graphiques GI'!$B$69 -> 0.43350372 | AK71: ='Graphiques GI'!$B$69 -> 0.16369816 | AL71: ='Graphiques GI'!$B$69 -> 0.16369816 | AM71: =MAX(J71:J140)-MIN(J71:J140) -> 0.24 | AN71: ='Graphiques GI'!$B$82 + 'Graphiques GI'!$B$81 -> 0.61833435 | AO71: ='Graphiques GI'!$B$81 -> 0.1846857 | AP71: ='Graphiques GI'!$B$81 -> 0.1846857 | AQ71: =MAX(K71:K140)-MIN(K71:K140) -> 0.328 | AR71: ='Graphiques GI'!$B$94 + 'Graphiques GI'!$B$93 -> 0.51434309 | AS71: ='Graphiques GI'!$B$93 -> 0.19019032 | AT71: ='Graphiques GI'!$B$93 -> 0.19019032 | AU71: =MAX(L71:L140)-MIN(L71:L140) -> 0.518 | AV71: ='Graphiques GI'!$B$106 + 'Graphiques GI'!$B$105 -> 0.43080514 | AW71: ='Graphiques GI'!$B$105 -> 0.17391625 | AX71: ='Graphiques GI'!$B$105 -> 0.17391625 | AY71: =MAX(M71:M140)-MIN(M71:M140) -> 0.725 | AZ71: ='Graphiques GI'!$B$118 + 'Graphiques GI'!$B$117 -> 0.54303418 | BA71: ='Graphiques GI'!$B$117 -> 0.20896474 | BB71: ='Graphiques GI'!$B$117 -> 0.20896474 | BC71: =MAX(N71:N140)-MIN(N71:N140) -> 0.619 | BD71: ='Graphiques GI'!$B$130 + 'Graphiques GI'!$B$129 -> 0.62703807 | BE71: ='Graphiques GI'!$B$129 -> 0.24103807 | BF71: ='Graphiques GI'!$B$129 -> 0.24103807 | BG71: =MAX(O71:O140)-MIN(O71:O140) -> 0.328 | BH71: ='Graphiques GI'!$B$142 + 'Graphiques GI'!$B$141 -> 0.78975212 | BI71: ='Graphiques GI'!$B$141 -> 0.22812712 | BJ71: ='Graphiques GI'!$B$141 -> 0.22812712 | BK71: =MAX(P71:P140)-MIN(P71:P140) -> 0.335 | BL71: ='Graphiques GI'!$B$154 + 'Graphiques GI'!$B$153 -> 0.69737848 | BM71: ='Graphiques GI'!$B$153 -> 0.19929515 | BN71: ='Graphiques GI'!$B$153 -> 0.19929515 | BO71: =MAX(Q71:Q140)-MIN(Q71:Q140) -> 0.58 | BP71: ='Graphiques GI'!$B$166 + 'Graphiques GI'!$B$165 -> 0.73399069 | BQ71: ='Graphiques GI'!$B$165 -> 0.20681013 | BR71: ='Graphiques GI'!$B$165 -> 0.20681013 | BS71: =MAX(R71:R140)-MIN(R71:R140) -> 0.463 | BT71: ='Graphiques GI'!$B$178 + 'Graphiques GI'!$B$177 -> 0.70591448 | BU71: ='Graphiques GI'!$B$177 -> 0.19680337 | BV71: ='Graphiques GI'!$B$177 -> 0.19680337
A72: 43654 | B72: =ROW()-1 -> 71 | C72: 53116074 | D72: 24 | E72: 0.356 | F72: 0.925 | G72: 0.086 | H72: 0.356 | I72: 0.38 | J72: 0.403 | K72: 0.443 | L72: 0.616 | M72: 0.843 | N72: 0.766 | O72: 0.819 | P72: 0.812 | Q72: 0.904 | R72: 0.803 | S72: =MAX(E72:E142)-MIN(E72:E142) -> 0.314 | T72: ='Graphiques GI'!$B$22 + 'Graphiques GI'!$B$21 -> 0.28975859 | U72: ='Graphiques GI'!$B$21 -> 0.10756415 | V72: ='Graphiques GI'!$B$21 -> 0.10756415 | W72: =MAX(F72:F142)-MIN(F72:F142) -> 0.764 | X72: ='Graphiques GI'!$B$34 + 'Graphiques GI'!$B$33 -> 0.8119447 | Y72: ='Graphiques GI'!$B$33 -> 0.26672248 | Z72: ='Graphiques GI'!$B$33 -> 0.26672248 | AA72: =MAX(G72:G142)-MIN(G72:G142) -> 0.043 | AB72: ='Graphiques GI'!$B$46 + 'Graphiques GI'!$B$45 -> 0.29358351 | AC72: ='Graphiques GI'!$B$45 -> 0.12688907 | AD72: ='Graphiques GI'!$B$45 -> 0.12688907 | AE72: =MAX(H72:H142)-MIN(H72:H142) -> 0.158 | AF72: ='Graphiques GI'!$B$58 + 'Graphiques GI'!$B$57 -> 0.44586151 | AG72: ='Graphiques GI'!$B$57 -> 0.16452818 | AH72: ='Graphiques GI'!$B$57 -> 0.16452818 | AI72: =MAX(I72:I142)-MIN(I72:I142) -> 0.224 | AJ72: ='Graphiques GI'!$B$70 + 'Graphiques GI'!$B$69 -> 0.43350372 | AK72: ='Graphiques GI'!$B$69 -> 0.16369816 | AL72: ='Graphiques GI'!$B$69 -> 0.16369816 | AM72: =MAX(J72:J142)-MIN(J72:J142) -> 0.24 | AN72: ='Graphiques GI'!$B$82 + 'Graphiques GI'!$B$81 -> 0.61833435 | AO72: ='Graphiques GI'!$B$81 -> 0.1846857 | AP72: ='Graphiques GI'!$B$81 -> 0.1846857 | AQ72: =MAX(K72:K142)-MIN(K72:K142) -> 0.264 | AR72: ='Graphiques GI'!$B$94 + 'Graphiques GI'!$B$93 -> 0.51434309 | AS72: ='Graphiques GI'!$B$93 -> 0.19019032 | AT72: ='Graphiques GI'!$B$93 -> 0.19019032 | AU72: =MAX(L72:L142)-MIN(L72:L142) -> 0.518 | AV72: ='Graphiques GI'!$B$106 + 'Graphiques GI'!$B$105 -> 0.43080514 | AW72: ='Graphiques GI'!$B$105 -> 0.17391625 | AX72: ='Graphiques GI'!$B$105 -> 0.17391625 | AY72: =MAX(M72:M142)-MIN(M72:M142) -> 0.691 | AZ72: ='Graphiques GI'!$B$118 + 'Graphiques GI'!$B$117 -> 0.54303418 | BA72: ='Graphiques GI'!$B$117 -> 0.20896474 | BB72: ='Graphiques GI'!$B$117 -> 0.20896474 | BC72: =MAX(N72:N142)-MIN(N72:N142) -> 0.619 | BD72: ='Graphiques GI'!$B$130 + 'Graphiques GI'!$B$129 -> 0.62703807 | BE72: ='Graphiques GI'!$B$129 -> 0.24103807 | BF72: ='Graphiques GI'!$B$129 -> 0.24103807 | BG72: =MAX(O72:O142)-MIN(O72:O142) -> 0.232 | BH72: ='Graphiques GI'!$B$142 + 'Graphiques GI'!$B$141 -> 0.78975212 | BI72: ='Graphiques GI'!$B$141 -> 0.22812712 | BJ72: ='Graphiques GI'!$B$141 -> 0.22812712 | BK72: =MAX(P72:P142)-MIN(P72:P142) -> 0.159 | BL72: ='Graphiques GI'!$B$154 + 'Graphiques GI'!$B$153 -> 0.69737848 | BM72: ='Graphiques GI'!$B$153 -> 0.19929515 | BN72: ='Graphiques GI'!$B$153 -> 0.19929515 | BO72: =MAX(Q72:Q142)-MIN(Q72:Q142) -> 0.305 | BP72: ='Graphiques GI'!$B$166 + 'Graphiques GI'!$B$165 -> 0.73399069 | BQ72: ='Graphiques GI'!$B$165 -> 0.20681013 | BR72: ='Graphiques GI'!$B$165 -> 0.20681013 | BS72: =MAX(R72:R142)-MIN(R72:R142) -> 0.2 | BT72: ='Graphiques GI'!$B$178 + 'Graphiques GI'!$B$177 -> 0.70591448 | BU72: ='Graphiques GI'!$B$177 -> 0.19680337 | BV72: ='Graphiques GI'!$B$177 -> 0.19680337
A73: 43654 | B73: =ROW()-1 -> 72 | C73: 53116631 | D73: 24 | E73: 0.042 | F73: 0.161 | G73: 0.129 | H73: 0.198 | I73: 0.156 | J73: 0.163 | K73: 0.179 | L73: 0.098 | M73: 0.152 | N73: 0.147 | O73: 0.587 | P73: 0.653 | Q73: 0.599 | R73: 0.603 | S73: =MAX(E73:E144)-MIN(E73:E144) -> 0 | T73: ='Graphiques GI'!$B$22 + 'Graphiques GI'!$B$21 -> 0.28975859 | U73: ='Graphiques GI'!$B$21 -> 0.10756415 | V73: ='Graphiques GI'!$B$21 -> 0.10756415 | W73: =MAX(F73:F144)-MIN(F73:F144) -> 0 | X73: ='Graphiques GI'!$B$34 + 'Graphiques GI'!$B$33 -> 0.8119447 | Y73: ='Graphiques GI'!$B$33 -> 0.26672248 | Z73: ='Graphiques GI'!$B$33 -> 0.26672248 | AA73: =MAX(G73:G144)-MIN(G73:G144) -> 0 | AB73: ='Graphiques GI'!$B$46 + 'Graphiques GI'!$B$45 -> 0.29358351 | AC73: ='Graphiques GI'!$B$45 -> 0.12688907 | AD73: ='Graphiques GI'!$B$45 -> 0.12688907 | AE73: =MAX(H73:H144)-MIN(H73:H144) -> 0 | AF73: ='Graphiques GI'!$B$58 + 'Graphiques GI'!$B$57 -> 0.44586151 | AG73: ='Graphiques GI'!$B$57 -> 0.16452818 | AH73: ='Graphiques GI'!$B$57 -> 0.16452818 | AI73: =MAX(I73:I144)-MIN(I73:I144) -> 0 | AJ73: ='Graphiques GI'!$B$70 + 'Graphiques GI'!$B$69 -> 0.43350372 | AK73: ='Graphiques GI'!$B$69 -> 0.16369816 | AL73: ='Graphiques GI'!$B$69 -> 0.16369816 | AM73: =MAX(J73:J144)-MIN(J73:J144) -> 0 | AN73: ='Graphiques GI'!$B$82 + 'Graphiques GI'!$B$81 -> 0.61833435 | AO73: ='Graphiques GI'!$B$81 -> 0.1846857 | AP73: ='Graphiques GI'!$B$81 -> 0.1846857 | AQ73: =MAX(K73:K144)-MIN(K73:K144) -> 0 | AR73: ='Graphiques GI'!$B$94 + 'Graphiques GI'!$B$93 -> 0.51434309 | AS73: ='Graphiques GI'!$B$93 -> 0.19019032 | AT73: ='Graphiques GI'!$B$93 -> 0.19019032 | AU73: =MAX(L73:L144)-MIN(L73:L144) -> 0 | AV73: ='Graphiques GI'!$B$106 + 'Graphiques GI'!$B$105 -> 0.43080514 | AW73: ='Graphiques GI'!$B$105 -> 0.17391625 | AX73: ='Graphiques GI'!$B$105 -> 0.17391625 | AY73: =MAX(M73:M144)-MIN(M73:M144) -> 0 | AZ73: ='Graphiques GI'!$B$118 + 'Graphiques GI'!$B$117 -> 0.54303418 | BA73: ='Graphiques GI'!$B$117 -> 0.20896474 | BB73: ='Graphiques GI'!$B$117 -> 0.20896474 | BC73: =MAX(N73:N144)-MIN(N73:N144) -> 0 | BD73: ='Graphiques GI'!$B$130 + 'Graphiques GI'!$B$129 -> 0.62703807 | BE73: ='Graphiques GI'!$B$129 -> 0.24103807 | BF73: ='Graphiques GI'!$B$129 -> 0.24103807 | BG73: =MAX(O73:O144)-MIN(O73:O144) -> 0 | BH73: ='Graphiques GI'!$B$142 + 'Graphiques GI'!$B$141 -> 0.78975212 | BI73: ='Graphiques GI'!$B$141 -> 0.22812712 | BJ73: ='Graphiques GI'!$B$141 -> 0.22812712 | BK73: =MAX(P73:P144)-MIN(P73:P144) -> 0 | BL73: ='Graphiques GI'!$B$154 + 'Graphiques GI'!$B$153 -> 0.69737848 | BM73: ='Graphiques GI'!$B$153 -> 0.19929515 | BN73: ='Graphiques GI'!$B$153 -> 0.19929515 | BO73: =MAX(Q73:Q144)-MIN(Q73:Q144) -> 0 | BP73: ='Graphiques GI'!$B$166 + 'Graphiques GI'!$B$165 -> 0.73399069 | BQ73: ='Graphiques GI'!$B$165 -> 0.20681013 | BR73: ='Graphiques GI'!$B$165 -> 0.20681013 | BS73: =MAX(R73:R144)-MIN(R73:R144) -> 0 | BT73: ='Graphiques GI'!$B$178 + 'Graphiques GI'!$B$177 -> 0.70591448 | BU73: ='Graphiques GI'!$B$177 -> 0.19680337 | BV73: ='Graphiques GI'!$B$177 -> 0.19680337

Sheet GAUCHE Extrados (GE)
A1: Date de la mesure | B1: Ordre pièce | C1: N°OF | D1: Température lors de la mesure (°C) | E1: Cercle P11 | F1: Cercle P21 | G1: Cercle P21/L | H1: cercle G1 | I1: cercle G2 | J1: cercle G3 | K1: cercle G4 | L1: cercle G5 | M1: cercle G6 | N1: cercle G7 | O1: cercle G8 | P1: cercle G9 | Q1: cercle G10 | R1: cercle G11 | S1: cercle G12 | T1: Etendu P11 | U1: Seuil 1 sigma P11 | V1: Seuil 2 sigma P11 | W1: Seuil 3 sigma P11 | X1: Etendu P21 | Y1: Seuil 1 sigma P21 | Z1: Seuil 2 sigma P21 | AA1: Seuil 3 sigma P21 | AB1: Etendu P21/L | AC1: Seuil 1 sigma P21/L | AD1: Seuil 2 sigma P21/L | AE1: Seuil 3 sigma P21/L | AF1: Etendu G1 | AG1: Seuil 1 sigma G1 | AH1: Seuil 2 sigma G1 | AI1: Seuil 3 sigma G1 | AJ1: Etendu G2 | AK1: Seuil 1 sigma G2 | AL1: Seuil 2 sigma G2 | AM1: Seuil 3 sigma G2 | AN1: Etendu G3 | AO1: Seuil 1 sigma G3 | AP1: Seuil 2 sigma G3 | AQ1: Seuil 3 sigma G3 | AR1: Etendu G4 | AS1: Seuil 1 sigma G4 | AT1: Seuil 2 sigma G4 | AU1: Seuil 3 sigma G4 | AV1: Etendu G5 | AW1: Seuil 1 sigma G5 | AX1: Seuil 2 sigma G5 | AY1: Seuil 3 sigma G5 | AZ1: Etendu G6 | BA1: Seuil 1 sigma G6 | BB1: Seuil 2 sigma G6 | BC1: Seuil 3 sigma G6 | BD1: Etendu G7 | BE1: Seuil 1 sigma G7 | BF1: Seuil 2 sigma G7 | BG1: Seuil 3 sigma G7 | BH1: Etendu G8 | BI1: Seuil 1 sigma G8 | BJ1: Seuil 2 sigma G8 | BK1: Seuil 3 sigma G8 | BL1: Etendu G9 | BM1: Seuil 1 sigma G9 | BN1: Seuil 2 sigma G9 | BO1: Seuil 3 sigma G9 | BP1: Etendu G10 | BQ1: Seuil 1 sigma G10 | BR1: Seuil 2 sigma G10 | BS1: Seuil 3 sigma G10 | BT1: Etendu G11 | BU1: Seuil 1 sigma G11 | BV1: Seuil 2 sigma G11 | BW1: Seuil 3 sigma G11 | BX1: Etendu G12 | BY1: Seuil 1 sigma G12 | BZ1: Seuil 2 sigma G12 | CA1: Seuil 3 sigma G12
A2: 43466 | B2: =ROW()-1 -> 1 | C2: 52889412 | D2: =NA() -> #N/A | E2: 0.14 | F2: 1.18 | G2: 0.22 | H2: 0.18 | I2: 0.42 | J2: 0.5 | K2: 0.61 | L2: 0.69 | M2: 0.55 | N2: 0.78 | O2: 0.9 | P2: 0.32 | Q2: 0.37 | R2: 0.34 | S2: 0.38 | T2: =MAX(E2:E3)-MIN(E2:E3) -> 0.01 | U2: ='Graphiques GE'!$B$22 + 'Graphiques GE'!$B$21 -> 0.28739434 | V2: ='Graphiques GE'!$B$21 -> 0.10722768 | W2: ='Graphiques GE'!$B$21 -> 0.10722768 | X2: =MAX(F2:F3)-MIN(F2:F3) -> 0.59 | Y2: ='Graphiques GE'!$B$34 + 'Graphiques GE'!$B$33 -> 1.0536709 | Z2: ='Graphiques GE'!$B$33 -> 0.29533752 | AA2: ='Graphiques GE'!$B$33 -> 0.29533752 | AB2: =MAX(G2:G3)-MIN(G2:G3) -> 0.19 | AC2: ='Graphiques GE'!$B$46 + 'Graphiques GE'!$B$45 -> 0.37178315 | AD2: ='Graphiques GE'!$B$45 -> 0.14225537 | AE2: ='Graphiques GE'!$B$45 -> 0.14225537 | AF2: =MAX(H2:H3)-MIN(H2:H3) -> 0.05 | AG2: ='Graphiques GE'!$B$58 + 'Graphiques DE'!$B$57 -> 0.53699975 | AH2: ='Graphiques GE'!$B$57 -> 0.20752152 | AI2: ='Graphiques GE'!$B$57 -> 0.20752152 | AJ2: =MAX(I2:I3)-MIN(I2:I3) -> 0.4 | AK2: ='Graphiques GE'!$B$70 + 'Graphiques GE'!$B$69 -> 0.57285755 | AL2: ='Graphiques GE'!$B$69 -> 0.200427 | AM2: ='Graphiques GE'!$B$69 -> 0.200427 | AN2: =MAX(J2:J3)-MIN(J2:J3) -> 0.39 | AO2: ='Graphiques GE'!$B$82 + 'Graphiques GE'!$B$81 -> 0.62056864 | AP2: ='Graphiques GE'!$B$81 -> 0.23019364 | AQ2: ='Graphiques GE'!$B$81 -> 0.23019364 | AR2: =MAX(K2:K3)-MIN(K2:K3) -> 0.37 | AS2: ='Graphiques GE'!$B$94 + 'Graphiques GE'!$B$93 -> 0.73969602 | AT2: ='Graphiques GE'!$B$93 -> 0.25901546 | AU2: ='Graphiques GE'!$B$93 -> 0.25901546 | AV2: =MAX(L2:L3)-MIN(L2:L3) -> 0.34 | AW2: ='Graphiques GE'!$B$106 + 'Graphiques GE'!$B$105 -> 0.8508188 | AX2: ='Graphiques GE'!$B$105 -> 0.28695964 | AY2: ='Graphiques GE'!$B$105 -> 0.28695964 | AZ2: =MAX(M2:M3)-MIN(M2:M3) -> 0.33 | BA2: ='Graphiques GE'!$B$118 + 'Graphiques GE'!$B$117 -> 0.63197043 | BB2: ='Graphiques GE'!$B$117 -> 0.2321371 | BC2: ='Graphiques GE'!$B$117 -> 0.2321371 | BD2: =MAX(N2:N3)-MIN(N2:N3) -> 0.47 | BE2: ='Graphiques GE'!$B$130 + 'Graphiques GE'!$B$129 -> 0.70478713 | BF2: ='Graphiques GE'!$B$129 -> 0.2358288 | BG2: ='Graphiques GE'!$B$129 -> 0.2358288 | BH2: =MAX(O2:O3)-MIN(O2:O3) -> 0.46 | BI2: ='Graphiques GE'!$B$142 + 'Graphiques GE'!$B$141 -> 0.81153767 | BJ2: ='Graphiques GE'!$B$141 -> 0.23391267 | BK2: ='Graphiques GE'!$B$141 -> 0.23391267 | BL2: =MAX(P2:P3)-MIN(P2:P3) -> 0.04 | BM2: ='Graphiques GE'!$B$154 + 'Graphiques DE'!$B$153 -> 0.56607605 | BN2: ='Graphiques GE'!$B$153 -> 0.22173892 | BO2: ='Graphiques GE'!$B$153 -> 0.22173892 | BP2: =MAX(Q2:Q3)-MIN(Q2:Q3) -> 0.26 | BQ2: ='Graphiques GE'!$B$166 + 'Graphiques GE'!$B$165 -> 0.56460144 | BR2: ='Graphiques GE'!$B$165 -> 0.21880977 | BS2: ='Graphiques GE'!$B$165 -> 0.21880977 | BT2: =MAX(R2:R3)-MIN(R2:R3) -> 0.26 | BU2: ='Graphiques GE'!$B$178 + 'Graphiques GE'!$B$177 -> 0.57161199 | BV2: ='Graphiques GE'!$B$177 -> 0.2007231 | BW2: ='Graphiques GE'!$B$177 -> 0.2007231 | BX2: =MAX(S2:S3)-MIN(S2:S3) -> 0.18 | BY2: ='Graphiques GE'!$B$190 + 'Graphiques GE'!$B$189 -> 0.65234199 | BZ2: ='Graphiques GE'!$B$189 -> 0.21467532 | CA2: ='Graphiques GE'!$B$189 -> 0.21467532
A3: 43466 | B3: =ROW()-1 -> 2 | C3: 52889413 | D3: =NA() -> #N/A | E3: 0.15 | F3: 0.59 | G3: 0.03 | H3: 0.23 | I3: 0.02 | J3: 0.11 | K3: 0.24 | L3: 0.35 | M3: 0.22 | N3: 0.31 | O3: 0.44 | P3: 0.28 | Q3: 0.11 | R3: 0.08 | S3: 0.2 | T3: =MAX(E3:E4)-MIN(E3:E4) -> 0.03 | U3: ='Graphiques GE'!$B$22 + 'Graphiques GE'!$B$21 -> 0.28739434 | V3: ='Graphiques GE'!$B$21 -> 0.10722768 | W3: ='Graphiques GE'!$B$21 -> 0.10722768 | X3: =MAX(F3:F4)-MIN(F3:F4) -> 0.01 | Y3: ='Graphiques GE'!$B$34 + 'Graphiques GE'!$B$33 -> 1.0536709 | Z3: ='Graphiques GE'!$B$33 -> 0.29533752 | AA3: ='Graphiques GE'!$B$33 -> 0.29533752 | AB3: =MAX(G3:G4)-MIN(G3:G4) -> 0.43 | AC3: ='Graphiques GE'!$B$46 + 'Graphiques GE'!$B$45 -> 0.37178315 | AD3: ='Graphiques GE'!$B$45 -> 0.14225537 | AE3: ='Graphiques GE'!$B$45 -> 0.14225537 | AF3: =MAX(H3:H4)-MIN(H3:H4) -> 0.38 | AG3: ='Graphiques GE'!$B$58 + 'Graphiques DE'!$B$57 -> 0.53699975 | AH3: ='Graphiques GE'!$B$57 -> 0.20752152 | AI3: ='Graphiques GE'!$B$57 -> 0.20752152 | AJ3: =MAX(I3:I4)-MIN(I3:I4) -> 0.45 | AK3: ='Graphiques GE'!$B$70 + 'Graphiques GE'!$B$69 -> 0.57285755 | AL3: ='Graphiques GE'!$B$69 -> 0.200427 | AM3: ='Graphiques GE'!$B$69 -> 0.200427 | AN3: =MAX(J3:J4)-MIN(J3:J4) -> 0.01 | AO3: ='Graphiques GE'!$B$82 + 'Graphiques GE'!$B$81 -> 0.62056864 | AP3: ='Graphiques GE'!$B$81 -> 0.23019364 | AQ3: ='Graphiques GE'!$B$81 -> 0.23019364 | AR3: =MAX(K3:K4)-MIN(K3:K4) -> 0.12 | AS3: ='Graphiques GE'!$B$94 + 'Graphiques GE'!$B$93 -> 0.73969602 | AT3: ='Graphiques GE'!$B$93 -> 0.25901546 | AU3: ='Graphiques GE'!$B$93 -> 0.25901546 | AV3: =MAX(L3:L4)-MIN(L3:L4) -> 0.02 | AW3: ='Graphiques GE'!$B$106 + 'Graphiques GE'!$B$105 -> 0.8508188 | AX3: ='Graphiques GE'!$B$105 -> 0.28695964 | AY3: ='Graphiques GE'!$B$105 -> 0.28695964 | AZ3: =MAX(M3:M4)-MIN(M3:M4) -> 0.05 | BA3: ='Graphiques GE'!$B$118 + 'Graphiques GE'!$B$117 -> 0.63197043 | BB3: ='Graphiques GE'!$B$117 -> 0.2321371 | BC3: ='Graphiques GE'!$B$117 -> 0.2321371 | BD3: =MAX(N3:N4)-MIN(N3:N4) -> 0.02 | BE3: ='Graphiques GE'!$B$130 + 'Graphiques GE'!$B$129 -> 0.70478713 | BF3: ='Graphiques GE'!$B$129 -> 0.2358288 | BG3: ='Graphiques GE'!$B$129 -> 0.2358288 | BH3: =MAX(O3:O4)-MIN(O3:O4) -> 0.04 | BI3: ='Graphiques GE'!$B$142 + 'Graphiques GE'!$B$141 -> 0.81153767 | BJ3: ='Graphiques GE'!$B$141 -> 0.23391267 | BK3: ='Graphiques GE'!$B$141 -> 0.23391267 | BL3: =MAX(P3:P4)-MIN(P3:P4) -> 0.15 | BM3: ='Graphiques GE'!$B$154 + 'Graphiques DE'!$B$153 -> 0.56607605 | BN3: ='Graphiques GE'!$B$153 -> 0.22173892 | BO3: ='Graphiques GE'!$B$153 -> 0.22173892 | BP3: =MAX(Q3:Q4)-MIN(Q3:Q4) -> 0.1 | BQ3: ='Graphiques GE'!$B$166 + 'Graphiques GE'!$B$165 -> 0.56460144 | BR3: ='Graphiques GE'!$B$165 -> 0.21880977 | BS3: ='Graphiques GE'!$B$165 -> 0.21880977 | BT3: =MAX(R3:R4)-MIN(R3:R4) -> 0.46 | BU3: ='Graphiques GE'!$B$178 + 'Graphiques GE'!$B$177 -> 0.57161199 | BV3: ='Graphiques GE'!$B$177 -> 0.2007231 | BW3: ='Graphiques GE'!$B$177 -> 0.2007231 | BX3: =MAX(S3:S4)-MIN(S3:S4) -> 0.69 | BY3: ='Graphiques GE'!$B$190 + 'Graphiques GE'!$B$189 -> 0.65234199 | BZ3: ='Graphiques GE'!$B$189 -> 0.21467532 | CA3: ='Graphiques GE'!$B$189 -> 0.21467532
A4: 43466 | B4: =ROW()-1 -> 3 | C4: 52889414 | D4: =NA() -> #N/A | E4: 0.18 | F4: 0.6 | G4: 0.46 | H4: 0.61 | I4: 0.47 | J4: 0.1 | K4: 0.12 | L4: 0.33 | M4: 0.27 | N4: 0.29 | O4: 0.4 | P4: 0.13 | Q4: 0.21 | R4: 0.54 | S4: 0.89 | T4: =MAX(E4:E5)-MIN(E4:E5) -> 0.14 | U4: ='Graphiques GE'!$B$22 + 'Graphiques GE'!$B$21 -> 0.28739434 | V4: ='Graphiques GE'!$B$21 -> 0.10722768 | W4: ='Graphiques GE'!$B$21 -> 0.10722768 | X4: =MAX(F4:F5)-MIN(F4:F5) -> 0.05 | Y4: ='Graphiques GE'!$B$34 + 'Graphiques GE'!$B$33 -> 1.0536709 | Z4: ='Graphiques GE'!$B$33 -> 0.29533752 | AA4: ='Graphiques GE'!$B$33 -> 0.29533752 | AB4: =MAX(G4:G5)-MIN(G4:G5) -> 0.32 | AC4: ='Graphiques GE'!$B$46 + 'Graphiques GE'!$B$45 -> 0.37178315 | AD4: ='Graphiques GE'!$B$45 -> 0.14225537 | AE4: ='Graphiques GE'!$B$45 -> 0.14225537 | AF4: =MAX(H4:H5)-MIN(H4:H5) -> 0.43 | AG4: ='Graphiques GE'!$B$58 + 'Graphiques DE'!$B$57 -> 0.53699975 | AH4: ='Graphiques GE'!$B$57 -> 0.20752152 | AI4: ='Graphiques GE'!$B$57 -> 0.20752152 | AJ4: =MAX(I4:I5)-MIN(I4:I5) -> 0.31 | AK4: ='Graphiques GE'!$B$70 + 'Graphiques GE'!$B$69 -> 0.57285755 | AL4: ='Graphiques GE'!$B$69 -> 0.200427 | AM4: ='Graphiques GE'!$B$69 -> 0.200427 | AN4: =MAX(J4:J5)-MIN(J4:J5) -> 0.1 | AO4: ='Graphiques GE'!$B$82 + 'Graphiques GE'!$B$81 -> 0.62056864 | AP4: ='Graphiques GE'!$B$81 -> 0.23019364 | AQ4: ='Graphiques GE'!$B$81 -> 0.23019364 | AR4: =MAX(K4:K5)-MIN(K4:K5) -> 0.05 | AS4: ='Graphiques GE'!$B$94 + 'Graphiques GE'!$B$93 -> 0.73969602 | AT4: ='Graphiques GE'!$B$93 -> 0.25901546 | AU4: ='Graphiques GE'!$B$93 -> 0.25901546 | AV4: =MAX(L4:L5)-MIN(L4:L5) -> 0.17 | AW4: ='Graphiques GE'!$B$106 + 'Graphiques GE'!$B$105 -> 0.8508188 | AX4: ='Graphiques GE'!$B$105 -> 0.28695964 | AY4: ='Graphiques GE'!$B$105 -> 0.28695964 | AZ4: =MAX(M4:M5)-MIN(M4:M5) -> 0.01 | BA4: ='Graphiques GE'!$B$118 + 'Graphiques GE'!$B$117 -> 0.63197043 | BB4: ='Graphiques GE'!$B$117 -> 0.2321371 | BC4: ='Graphiques GE'!$B$117 -> 0.2321371 | BD4: =MAX(N4:N5)-MIN(N4:N5) -> 0.04 | BE4: ='Graphiques GE'!$B$130 + 'Graphiques GE'!$B$129 -> 0.70478713 | BF4: ='Graphiques GE'!$B$129 -> 0.2358288 | BG4: ='Graphiques GE'!$B$129 -> 0.2358288 | BH4: =MAX(O4:O5)-MIN(O4:O5) -> 0.04 | BI4: ='Graphiques GE'!$B$142 + 'Graphiques GE'!$B$141 -> 0.81153767 | BJ4: ='Graphiques GE'!$B$141 -> 0.23391267 | BK4: ='Graphiques GE'!$B$141 -> 0.23391267 | BL4: =MAX(P4:P5)-MIN(P4:P5) -> 0.34 | BM4: ='Graphiques GE'!$B$154 + 'Graphiques DE'!$B$153 -> 0.56607605 | BN4: ='Graphiques GE'!$B$153 -> 0.22173892 | BO4: ='Graphiques GE'!$B$153 -> 0.22173892 | BP4: =MAX(Q4:Q5)-MIN(Q4:Q5) -> 0.04 | BQ4: ='Graphiques GE'!$B$166 + 'Graphiques GE'!$B$165 -> 0.56460144 | BR4: ='Graphiques GE'!$B$165 -> 0.21880977 | BS4: ='Graphiques GE'!$B$165 -> 0.21880977 | BT4: =MAX(R4:R5)-MIN(R4:R5) -> 0.37 | BU4: ='Graphiques GE'!$B$178 + 'Graphiques GE'!$B$177 -> 0.57161199 | BV4: ='Graphiques GE'!$B$177 -> 0.2007231 | BW4: ='Graphiques GE'!$B$177 -> 0.2007231 | BX4: =MAX(S4:S5)-MIN(S4:S5) -> 0.48 | BY4: ='Graphiques GE'!$B$190 + 'Graphiques GE'!$B$189 -> 0.65234199 | BZ4: ='Graphiques GE'!$B$189 -> 0.21467532 | CA4: ='Graphiques GE'!$B$189 -> 0.21467532
A5: 43466 | B5: =ROW()-1 -> 4 | C5: 52889415 | D5: =NA() -> #N/A | E5: 0.32 | F5: 0.55 | G5: 0.14 | H5: 0.18 | I5: 0.16 | J5: 0.2 | K5: 0.17 | L5: 0.16 | M5: 0.28 | N5: 0.33 | O5: 0.44 | P5: 0.47 | Q5: 0.25 | R5: 0.17 | S5: 0.41 | T5: =MAX(E5:E6)-MIN(E5:E6) -> 0.22 | U5: ='Graphiques GE'!$B$22 + 'Graphiques GE'!$B$21 -> 0.28739434 | V5: ='Graphiques GE'!$B$21 -> 0.10722768 | W5: ='Graphiques GE'!$B$21 -> 0.10722768 | X5: =MAX(F5:F6)-MIN(F5:F6) -> 0.07 | Y5: ='Graphiques GE'!$B$34 + 'Graphiques GE'!$B$33 -> 1.0536709 | Z5: ='Graphiques GE'!$B$33 -> 0.29533752 | AA5: ='Graphiques GE'!$B$33 -> 0.29533752 | AB5: =MAX(G5:G6)-MIN(G5:G6) -> 0.31 | AC5: ='Graphiques GE'!$B$46 + 'Graphiques GE'!$B$45 -> 0.37178315 | AD5: ='Graphiques GE'!$B$45 -> 0.14225537 | AE5: ='Graphiques GE'!$B$45 -> 0.14225537 | AF5: =MAX(H5:H6)-MIN(H5:H6) -> 0.54 | AG5: ='Graphiques GE'!$B$58 + 'Graphiques DE'!$B$57 -> 0.53699975 | AH5: ='Graphiques GE'!$B$57 -> 0.20752152 | AI5: ='Graphiques GE'!$B$57 -> 0.20752152 | AJ5: =MAX(I5:I6)-MIN(I5:I6) -> 0.36 | AK5: ='Graphiques GE'!$B$70 + 'Graphiques GE'!$B$69 -> 0.57285755 | AL5: ='Graphiques GE'!$B$69 -> 0.200427 | AM5: ='Graphiques GE'!$B$69 -> 0.200427 | AN5: =MAX(J5:J6)-MIN(J5:J6) -> 0.26 | AO5: ='Graphiques GE'!$B$82 + 'Graphiques GE'!$B$81 -> 0.62056864 | AP5: ='Graphiques GE'!$B$81 -> 0.23019364 | AQ5: ='Graphiques GE'!$B$81 -> 0.23019364 | AR5: =MAX(K5:K6)-MIN(K5:K6) -> 0.15 | AS5: ='Graphiques GE'!$B$94 + 'Graphiques GE'!$B$93 -> 0.73969602 | AT5: ='Graphiques GE'!$B$93 -> 0.25901546 | AU5: ='Graphiques GE'!$B$93 -> 0.25901546 | AV5: =MAX(L5:L6)-MIN(L5:L6) -> 0.16 | AW5: ='Graphiques GE'!$B$106 + 'Graphiques GE'!$B$105 -> 0.8508188 | AX5: ='Graphiques GE'!$B$105 -> 0.28695964 | AY5: ='Graphiques GE'!$B$105 -> 0.28695964 | AZ5: =MAX(M5:M6)-MIN(M5:M6) -> 0.03 | BA5: ='Graphiques GE'!$B$118 + 'Graphiques GE'!$B$117 -> 0.63197043 | BB5: ='Graphiques GE'!$B$117 -> 0.2321371 | BC5: ='Graphiques GE'!$B$117 -> 0.2321371 | BD5: =MAX(N5:N6)-MIN(N5:N6) -> 0.02 | BE5: ='Graphiques GE'!$B$130 + 'Graphiques GE'!$B$129 -> 0.70478713 | BF5: ='Graphiques GE'!$B$129 -> 0.2358288 | BG5: ='Graphiques GE'!$B$129 -> 0.2358288 | BH5: =MAX(O5:O6)-MIN(O5:O6) -> 0.03 | BI5: ='Graphiques GE'!$B$142 + 'Graphiques GE'!$B$141 -> 0.81153767 | BJ5: ='Graphiques GE'!$B$141 -> 0.23391267 | BK5: ='Graphiques GE'!$B$141 -> 0.23391267 | BL5: =MAX(P5:P6)-MIN(P5:P6) -> 0.35 | BM5: ='Graphiques GE'!$B$154 + 'Graphiques DE'!$B$153 -> 0.56607605 | BN5: ='Graphiques GE'!$B$153 -> 0.22173892 | BO5: ='Graphiques GE'!$B$153 -> 0.22173892 | BP5: =MAX(Q5:Q6)-MIN(Q5:Q6) -> 0.15 | BQ5: ='Graphiques GE'!$B$166 + 'Graphiques GE'!$B$165 -> 0.56460144 | BR5: ='Graphiques GE'!$B$165 -> 0.21880977 | BS5: ='Graphiques GE'!$B$165 -> 0.21880977 | BT5: =MAX(R5:R6)-MIN(R5:R6) -> 0.11 | BU5: ='Graphiques GE'!$B$178 + 'Graphiques GE'!$B$177 -> 0.57161199 | BV5: ='Graphiques GE'!$B$177 -> 0.2007231 | BW5: ='Graphiques GE'!$B$177 -> 0.2007231 | BX5: =MAX(S5:S6)-MIN(S5:S6) -> 0.03 | BY5: ='Graphiques GE'!$B$190 + 'Graphiques GE'!$B$189 -> 0.65234199 | BZ5: ='Graphiques GE'!$B$189 -> 0.21467532 | CA5: ='Graphiques GE'!$B$189 -> 0.21467532
A6: 43466 | B6: =ROW()-1 -> 5 | C6: 52891322 | D6: =NA() -> #N/A | E6: 0.1 | F6: 0.48 | G6: 0.45 | H6: 0.72 | I6: 0.52 | J6: 0.46 | K6: 0.32 | L6: 0.32 | M6: 0.31 | N6: 0.35 | O6: 0.41 | P6: 0.12 | Q6: 0.1 | R6: 0.28 | S6: 0.38 | T6: =MAX(E6:E7)-MIN(E6:E7) -> 0.29 | U6: ='Graphiques GE'!$B$22 + 'Graphiques GE'!$B$21 -> 0.28739434 | V6: ='Graphiques GE'!$B$21 -> 0.10722768 | W6: ='Graphiques GE'!$B$21 -> 0.10722768 | X6: =MAX(F6:F7)-MIN(F6:F7) -> 0.43 | Y6: ='Graphiques GE'!$B$34 + 'Graphiques GE'!$B$33 -> 1.0536709 | Z6: ='Graphiques GE'!$B$33 -> 0.29533752 | AA6: ='Graphiques GE'!$B$33 -> 0.29533752 | AB6: =MAX(G6:G7)-MIN(G6:G7) -> 0.38 | AC6: ='Graphiques GE'!$B$46 + 'Graphiques GE'!$B$45 -> 0.37178315 | AD6: ='Graphiques GE'!$B$45 -> 0.14225537 | AE6: ='Graphiques GE'!$B$45 -> 0.14225537 | AF6: =MAX(H6:H7)-MIN(H6:H7) -> 0.4 | AG6: ='Graphiques GE'!$B$58 + 'Graphiques DE'!$B$57 -> 0.53699975 | AH6: ='Graphiques GE'!$B$57 -> 0.20752152 | AI6: ='Graphiques GE'!$B$57 -> 0.20752152 | AJ6: =MAX(I6:I7)-MIN(I6:I7) -> 0.21 | AK6: ='Graphiques GE'!$B$70 + 'Graphiques GE'!$B$69 -> 0.57285755 | AL6: ='Graphiques GE'!$B$69 -> 0.200427 | AM6: ='Graphiques GE'!$B$69 -> 0.200427 | AN6: =MAX(J6:J7)-MIN(J6:J7) -> 0.27 | AO6: ='Graphiques GE'!$B$82 + 'Graphiques GE'!$B$81 -> 0.62056864 | AP6: ='Graphiques GE'!$B$81 -> 0.23019364 | AQ6: ='Graphiques GE'!$B$81 -> 0.23019364 | AR6: =MAX(K6:K7)-MIN(K6:K7) -> 0.01 | AS6: ='Graphiques GE'!$B$94 + 'Graphiques GE'!$B$93 -> 0.73969602 | AT6: ='Graphiques GE'!$B$93 -> 0.25901546 | AU6: ='Graphiques GE'!$B$93 -> 0.25901546 | AV6: =MAX(L6:L7)-MIN(L6:L7) -> 0.03 | AW6: ='Graphiques GE'!$B$106 + 'Graphiques GE'!$B$105 -> 0.8508188 | AX6: ='Graphiques GE'!$B$105 -> 0.28695964 | AY6: ='Graphiques GE'!$B$105 -> 0.28695964 | AZ6: =MAX(M6:M7)-MIN(M6:M7) -> 0.28 | BA6: ='Graphiques GE'!$B$118 + 'Graphiques GE'!$B$117 -> 0.63197043 | BB6: ='Graphiques GE'!$B$117 -> 0.2321371 | BC6: ='Graphiques GE'!$B$117 -> 0.2321371 | BD6: =MAX(N6:N7)-MIN(N6:N7) -> 0.25 | BE6: ='Graphiques GE'!$B$130 + 'Graphiques GE'!$B$129 -> 0.70478713 | BF6: ='Graphiques GE'!$B$129 -> 0.2358288 | BG6: ='Graphiques GE'!$B$129 -> 0.2358288 | BH6: =MAX(O6:O7)-MIN(O6:O7) -> 0.34 | BI6: ='Graphiques GE'!$B$142 + 'Graphiques GE'!$B$141 -> 0.81153767 | BJ6: ='Graphiques GE'!$B$141 -> 0.23391267 | BK6: ='Graphiques GE'!$B$141 -> 0.23391267 | BL6: =MAX(P6:P7)-MIN(P6:P7) -> 0.31 | BM6: ='Graphiques GE'!$B$154 + 'Graphiques DE'!$B$153 -> 0.56607605 | BN6: ='Graphiques GE'!$B$153 -> 0.22173892 | BO6: ='Graphiques GE'!$B$153 -> 0.22173892 | BP6: =MAX(Q6:Q7)-MIN(Q6:Q7) -> 0.21 | BQ6: ='Graphiques GE'!$B$166 + 'Graphiques GE'!$B$165 -> 0.56460144 | BR6: ='Graphiques GE'!$B$165 -> 0.21880977 | BS6: ='Graphiques GE'!$B$165 -> 0.21880977 | BT6: =MAX(R6:R7)-MIN(R6:R7) -> 0.05 | BU6: ='Graphiques GE'!$B$178 + 'Graphiques GE'!$B$177 -> 0.57161199 | BV6: ='Graphiques GE'!$B$177 -> 0.2007231 | BW6: ='Graphiques GE'!$B$177 -> 0.2007231 | BX6: =MAX(S6:S7)-MIN(S6:S7) -> 0.08 | BY6: ='Graphiques GE'!$B$190 + 'Graphiques GE'!$B$189 -> 0.65234199 | BZ6: ='Graphiques GE'!$B$189 -> 0.21467532 | CA6: ='Graphiques GE'!$B$189 -> 0.21467532
A7: 43466 | B7: =ROW()-1 -> 6 | C7: 52882812 | D7: =NA() -> #N/A | E7: 0.39 | F7: 0.91 | G7: 0.07 | H7: 0.32 | I7: 0.31 | J7: 0.19 | K7: 0.33 | L7: 0.35 | M7: 0.59 | N7: 0.6 | O7: 0.75 | P7: 0.43 | Q7: 0.31 | R7: 0.33 | S7: 0.3 | T7: =MAX(E7:E8)-MIN(E7:E8) -> 0.18 | U7: ='Graphiques GE'!$B$22 + 'Graphiques GE'!$B$21 -> 0.28739434 | V7: ='Graphiques GE'!$B$21 -> 0.10722768 | W7: ='Graphiques GE'!$B$21 -> 0.10722768 | X7: =MAX(F7:F8)-MIN(F7:F8) -> 0.07 | Y7: ='Graphiques GE'!$B$34 + 'Graphiques GE'!$B$33 -> 1.0536709 | Z7: ='Graphiques GE'!$B$33 -> 0.29533752 | AA7: ='Graphiques GE'!$B$33 -> 0.29533752 | AB7: =MAX(G7:G8)-MIN(G7:G8) -> 0.3 | AC7: ='Graphiques GE'!$B$46 + 'Graphiques GE'!$B$45 -> 0.37178315 | AD7: ='Graphiques GE'!$B$45 -> 0.14225537 | AE7: ='Graphiques GE'!$B$45 -> 0.14225537 | AF7: =MAX(H7:H8)-MIN(H7:H8) -> 0.35 | AG7: ='Graphiques GE'!$B$58 + 'Graphiques DE'!$B$57 -> 0.53699975 | AH7: ='Graphiques GE'!$B$57 -> 0.20752152 | AI7: ='Graphiques GE'!$B$57 -> 0.20752152 | AJ7: =MAX(I7:I8)-MIN(I7:I8) -> 0.11 | AK7: ='Graphiques GE'!$B$70 + 'Graphiques GE'!$B$69 -> 0.57285755 | AL7: ='Graphiques GE'!$B$69 -> 0.200427 | AM7: ='Graphiques GE'!$B$69 -> 0.200427 | AN7: =MAX(J7:J8)-MIN(J7:J8) -> 0.06 | AO7: ='Graphiques GE'!$B$82 + 'Graphiques GE'!$B$81 -> 0.62056864 | AP7: ='Graphiques GE'!$B$81 -> 0.23019364 | AQ7: ='Graphiques GE'!$B$81 -> 0.23019364 | AR7: =MAX(K7:K8)-MIN(K7:K8) -> 0.25 | AS7: ='Graphiques GE'!$B$94 + 'Graphiques GE'!$B$93 -> 0.73969602 | AT7: ='Graphiques GE'!$B$93 -> 0.25901546 | AU7: ='Graphiques GE'!$B$93 -> 0.25901546 | AV7: =MAX(L7:L8)-MIN(L7:L8) -> 0.19 | AW7: ='Graphiques GE'!$B$106 + 'Graphiques GE'!$B$105 -> 0.8508188 | AX7: ='Graphiques GE'!$B$105 -> 0.28695964 | AY7: ='Graphiques GE'!$B$105 -> 0.28695964 | AZ7: =MAX(M7:M8)-MIN(M7:M8) -> 0.31 | BA7: ='Graphiques GE'!$B$118 + 'Graphiques GE'!$B$117 -> 0.63197043 | BB7: ='Graphiques GE'!$B$117 -> 0.2321371 | BC7: ='Graphiques GE'!$B$117 -> 0.2321371 | BD7: =MAX(N7:N8)-MIN(N7:N8) -> 0.16 | BE7: ='Graphiques GE'!$B$130 + 'Graphiques GE'!$B$129 -> 0.70478713 | BF7: ='Graphiques GE'!$B$129 -> 0.2358288 | BG7: ='Graphiques GE'!$B$129 -> 0.2358288 | BH7: =MAX(O7:O8)-MIN(O7:O8) -> 0.13 | BI7: ='Graphiques GE'!$B$142 + 'Graphiques GE'!$B$141 -> 0.81153767 | BJ7: ='Graphiques GE'!$B$141 -> 0.23391267 | BK7: ='Graphiques GE'!$B$141 -> 0.23391267 | BL7: =MAX(P7:P8)-MIN(P7:P8) -> 0.18 | BM7: ='Graphiques GE'!$B$154 + 'Graphiques DE'!$B$153 -> 0.56607605 | BN7: ='Graphiques GE'!$B$153 -> 0.22173892 | BO7: ='Graphiques GE'!$B$153 -> 0.22173892 | BP7: =MAX(Q7:Q8)-MIN(Q7:Q8) -> 0.02 | BQ7: ='Graphiques GE'!$B$166 + 'Graphiques GE'!$B$165 -> 0.56460144 | BR7: ='Graphiques GE'!$B$165 -> 0.21880977 | BS7: ='Graphiques GE'!$B$165 -> 0.21880977 | BT7: =MAX(R7:R8)-MIN(R7:R8) -> 0.12 | BU7: ='Graphiques GE'!$B$178 + 'Graphiques GE'!$B$177 -> 0.57161199 | BV7: ='Graphiques GE'!$B$177 -> 0.2007231 | BW7: ='Graphiques GE'!$B$177 -> 0.2007231 | BX7: =MAX(S7:S8)-MIN(S7:S8) -> 0.11 | BY7: ='Graphiques GE'!$B$190 + 'Graphiques GE'!$B$189 -> 0.65234199 | BZ7: ='Graphiques GE'!$B$189 -> 0.21467532 | CA7: ='Graphiques GE'!$B$189 -> 0.21467532
A8: 43466 | B8: =ROW()-1 -> 7 | C8: 52891326 | D8: =NA() -> #N/A | E8: 0.21 | F8: 0.84 | G8: 0.37 | H8: 0.67 | I8: 0.42 | J8: 0.25 | K8: 0.08 | L8: 0.16 | M8: 0.28 | N8: 0.44 | O8: 0.62 | P8: 0.25 | Q8: 0.29 | R8: 0.21 | S8: 0.41 | T8: =MAX(E8:E9)-MIN(E8:E9) -> 0.09 | U8: ='Graphiques GE'!$B$22 + 'Graphiques GE'!$B$21 -> 0.28739434 | V8: ='Graphiques GE'!$B$21 -> 0.10722768 | W8: ='Graphiques GE'!$B$21 -> 0.10722768 | X8: =MAX(F8:F9)-MIN(F8:F9) -> 0.24 | Y8: ='Graphiques GE'!$B$34 + 'Graphiques GE'!$B$33 -> 1.0536709 | Z8: ='Graphiques GE'!$B$33 -> 0.29533752 | AA8: ='Graphiques GE'!$B$33 -> 0.29533752 | AB8: =MAX(G8:G9)-MIN(G8:G9) -> 0.32 | AC8: ='Graphiques GE'!$B$46 + 'Graphiques GE'!$B$45 -> 0.37178315 | AD8: ='Graphiques GE'!$B$45 -> 0.14225537 | AE8: ='Graphiques GE'!$B$45 -> 0.14225537 | AF8: =MAX(H8:H9)-MIN(H8:H9) -> 0.25 | AG8: ='Graphiques GE'!$B$58 + 'Graphiques DE'!$B$57 -> 0.53699975 | AH8: ='Graphiques GE'!$B$57 -> 0.20752152 | AI8: ='Graphiques GE'!$B$57 -> 0.20752152 | AJ8: =MAX(I8:I9)-MIN(I8:I9) -> 0.03 | AK8: ='Graphiques GE'!$B$70 + 'Graphiques GE'!$B$69 -> 0.57285755 | AL8: ='Graphiques GE'!$B$69 -> 0.200427 | AM8: ='Graphiques GE'!$B$69 -> 0.200427 | AN8: =MAX(J8:J9)-MIN(J8:J9) -> 0.05 | AO8: ='Graphiques GE'!$B$82 + 'Graphiques GE'!$B$81 -> 0.62056864 | AP8: ='Graphiques GE'!$B$81 -> 0.23019364 | AQ8: ='Graphiques GE'!$B$81 -> 0.23019364 | AR8: =MAX(K8:K9)-MIN(K8:K9) -> 0.46 | AS8: ='Graphiques GE'!$B$94 + 'Graphiques GE'!$B$93 -> 0.73969602 | AT8: ='Graphiques GE'!$B$93 -> 0.25901546 | AU8: ='Graphiques GE'!$B$93 -> 0.25901546 | AV8: =MAX(L8:L9)-MIN(L8:L9) -> 0.5 | AW8: ='Graphiques GE'!$B$106 + 'Graphiques GE'!$B$105 -> 0.8508188 | AX8: ='Graphiques GE'!$B$105 -> 0.28695964 | AY8: ='Graphiques GE'!$B$105 -> 0.28695964 | AZ8: =MAX(M8:M9)-MIN(M8:M9) -> 0.02 | BA8: ='Graphiques GE'!$B$118 + 'Graphiques GE'!$B$117 -> 0.63197043 | BB8: ='Graphiques GE'!$B$117 -> 0.2321371 | BC8: ='Graphiques GE'!$B$117 -> 0.2321371 | BD8: =MAX(N8:N9)-MIN(N8:N9) -> 0.11 | BE8: ='Graphiques GE'!$B$130 + 'Graphiques GE'!$B$129 -> 0.70478713 | BF8: ='Graphiques GE'!$B$129 -> 0.2358288 | BG8: ='Graphiques GE'!$B$129 -> 0.2358288 | BH8: =MAX(O8:O9)-MIN(O8:O9) -> 0.23 | BI8: ='Graphiques GE'!$B$142 + 'Graphiques GE'!$B$141 -> 0.81153767 | BJ8: ='Graphiques GE'!$B$141 -> 0.23391267 | BK8: ='Graphiques GE'!$B$141 -> 0.23391267 | BL8: =MAX(P8:P9)-MIN(P8:P9) -> 0.15 | BM8: ='Graphiques GE'!$B$154 + 'Graphiques DE'!$B$153 -> 0.56607605 | BN8: ='Graphiques GE'!$B$153 -> 0.22173892 | BO8: ='Graphiques GE'!$B$153 -> 0.22173892 | BP8: =MAX(Q8:Q9)-MIN(Q8:Q9) -> 0.09 | BQ8: ='Graphiques GE'!$B$166 + 'Graphiques GE'!$B$165 -> 0.56460144 | BR8: ='Graphiques GE'!$B$165 -> 0.21880977 | BS8: ='Graphiques GE'!$B$165 -> 0.21880977 | BT8: =MAX(R8:R9)-MIN(R8:R9) -> 0.09 | BU8: ='Graphiques GE'!$B$178 + 'Graphiques GE'!$B$177 -> 0.57161199 | BV8: ='Graphiques GE'!$B$177 -> 0.2007231 | BW8: ='Graphiques GE'!$B$177 -> 0.2007231 | BX8: =MAX(S8:S9)-MIN(S8:S9) -> 0.04 | BY8: ='Graphiques GE'!$B$190 + 'Graphiques GE'!$B$189 -> 0.65234199 | BZ8: ='Graphiques GE'!$B$189 -> 0.21467532 | CA8: ='Graphiques GE'!$B$189 -> 0.21467532
A9: 43466 | B9: =ROW()-1 -> 8 | C9: 52905976 | D9: =NA() -> #N/A | E9: 0.12 | F9: 0.6 | G9: 0.05 | H9: 0.42 | I9: 0.39 | J9: 0.3 | K9: 0.54 | L9: 0.66 | M9: 0.26 | N9: 0.33 | O9: 0.39 | P9: 0.4 | Q9: 0.38 | R9: 0.3 | S9: 0.37 | T9: =MAX(E9:E10)-MIN(E9:E10) -> 0.06 | U9: ='Graphiques GE'!$B$22 + 'Graphiques GE'!$B$21 -> 0.28739434 | V9: ='Graphiques GE'!$B$21 -> 0.10722768 | W9: ='Graphiques GE'!$B$21 -> 0.10722768 | X9: =MAX(F9:F10)-MIN(F9:F10) -> 0.19 | Y9: ='Graphiques GE'!$B$34 + 'Graphiques GE'!$B$33 -> 1.0536709 | Z9: ='Graphiques GE'!$B$33 -> 0.29533752 | AA9: ='Graphiques GE'!$B$33 -> 0.29533752 | AB9: =MAX(G9:G10)-MIN(G9:G10) -> 0.08 | AC9: ='Graphiques GE'!$B$46 + 'Graphiques GE'!$B$45 -> 0.37178315 | AD9: ='Graphiques GE'!$B$45 -> 0.14225537 | AE9: ='Graphiques GE'!$B$45 -> 0.14225537 | AF9: =MAX(H9:H10)-MIN(H9:H10) -> 0.29 | AG9: ='Graphiques GE'!$B$58 + 'Graphiques DE'!$B$57 -> 0.53699975 | AH9: ='Graphiques GE'!$B$57 -> 0.20752152 | AI9: ='Graphiques GE'!$B$57 -> 0.20752152 | AJ9: =MAX(I9:I10)-MIN(I9:I10) -> 0.33 | AK9: ='Graphiques GE'!$B$70 + 'Graphiques GE'!$B$69 -> 0.57285755 | AL9: ='Graphiques GE'!$B$69 -> 0.200427 | AM9: ='Graphiques GE'!$B$69 -> 0.200427 | AN9: =MAX(J9:J10)-MIN(J9:J10) -> 0.24 | AO9: ='Graphiques GE'!$B$82 + 'Graphiques GE'!$B$81 -> 0.62056864 | AP9: ='Graphiques GE'!$B$81 -> 0.23019364 | AQ9: ='Graphiques GE'!$B$81 -> 0.23019364 | AR9: =MAX(K9:K10)-MIN(K9:K10) -> 0.4 | AS9: ='Graphiques GE'!$B$94 + 'Graphiques GE'!$B$93 -> 0.73969602 | AT9: ='Graphiques GE'!$B$93 -> 0.25901546 | AU9: ='Graphiques GE'!$B$93 -> 0.25901546 | AV9: =MAX(L9:L10)-MIN(L9:L10) -> 0.48 | AW9: ='Graphiques GE'!$B$106 + 'Graphiques GE'!$B$105 -> 0.8508188 | AX9: ='Graphiques GE'!$B$105 -> 0.28695964 | AY9: ='Graphiques GE'!$B$105 -> 0.28695964 | AZ9: =MAX(M9:M10)-MIN(M9:M10) -> 0.04 | BA9: ='Graphiques GE'!$B$118 + 'Graphiques GE'!$B$117 -> 0.63197043 | BB9: ='Graphiques GE'!$B$117 -> 0.2321371 | BC9: ='Graphiques GE'!$B$117 -> 0.2321371 | BD9: =MAX(N9:N10)-MIN(N9:N10) -> 0.06 | BE9: ='Graphiques GE'!$B$130 + 'Graphiques GE'!$B$129 -> 0.70478713 | BF9: ='Graphiques GE'!$B$129 -> 0.2358288 | BG9: ='Graphiques GE'!$B$129 -> 0.2358288 | BH9: =MAX(O9:O10)-MIN(O9:O10) -> 0.01 | BI9: ='Graphiques GE'!$B$142 + 'Graphiques GE'!$B$141 -> 0.81153767 | BJ9: ='Graphiques GE'!$B$141 -> 0.23391267 | BK9: ='Graphiques GE'!$B$141 -> 0.23391267 | BL9: =MAX(P9:P10)-MIN(P9:P10) -> 0.08 | BM9: ='Graphiques GE'!$B$154 + 'Graphiques DE'!$B$153 -> 0.56607605 | BN9: ='Graphiques GE'!$B$153 -> 0.22173892 | BO9: ='Graphiques GE'!$B$153 -> 0.22173892 | BP9: =MAX(Q9:Q10)-MIN(Q9:Q10) -> 0.02 | BQ9: ='Graphiques GE'!$B$166 + 'Graphiques GE'!$B$165 -> 0.56460144 | BR9: ='Graphiques GE'!$B$165 -> 0.21880977 | BS9: ='Graphiques GE'!$B$165 -> 0.21880977 | BT9: =MAX(R9:R10)-MIN(R9:R10) -> 0.03 | BU9: ='Graphiques GE'!$B$178 + 'Graphiques GE'!$B$177 -> 0.57161199 | BV9: ='Graphiques GE'!$B$177 -> 0.2007231 | BW9: ='Graphiques GE'!$B$177 -> 0.2007231 | BX9: =MAX(S9:S10)-MIN(S9:S10) -> 0.08 | BY9: ='Graphiques GE'!$B$190 + 'Graphiques GE'!$B$189 -> 0.65234199 | BZ9: ='Graphiques GE'!$B$189 -> 0.21467532 | CA9: ='Graphiques GE'!$B$189 -> 0.21467532
A10: 43466 | B10: =ROW()-1 -> 9 | C10: 52891325 | D10: =NA() -> #N/A | E10: 0.18 | F10: 0.41 | G10: 0.13 | H10: 0.13 | I10: 0.06 | J10: 0.06 | K10: 0.14 | L10: 0.18 | M10: 0.22 | N10: 0.27 | O10: 0.38 | P10: 0.48 | Q10: 0.36 | R10: 0.27 | S10: 0.45 | T10: =MAX(E10:E11)-MIN(E10:E11) -> 0.02 | U10: ='Graphiques GE'!$B$22 + 'Graphiques GE'!$B$21 -> 0.28739434 | V10: ='Graphiques GE'!$B$21 -> 0.10722768 | W10: ='Graphiques GE'!$B$21 -> 0.10722768 | X10: =MAX(F10:F11)-MIN(F10:F11) -> 0.43 | Y10: ='Graphiques GE'!$B$34 + 'Graphiques GE'!$B$33 -> 1.0536709 | Z10: ='Graphiques GE'!$B$33 -> 0.29533752 | AA10: ='Graphiques GE'!$B$33 -> 0.29533752 | AB10: =MAX(G10:G11)-MIN(G10:G11) -> 0.125 | AC10: ='Graphiques GE'!$B$46 + 'Graphiques GE'!$B$45 -> 0.37178315 | AD10: ='Graphiques GE'!$B$45 -> 0.14225537 | AE10: ='Graphiques GE'!$B$45 -> 0.14225537 | AF10: =MAX(H10:H11)-MIN(H10:H11) -> 0.08 | AG10: ='Graphiques GE'!$B$58 + 'Graphiques DE'!$B$57 -> 0.53699975 | AH10: ='Graphiques GE'!$B$57 -> 0.20752152 | AI10: ='Graphiques GE'!$B$57 -> 0.20752152 | AJ10: =MAX(I10:I11)-MIN(I10:I11) -> 0.3 | AK10: ='Graphiques GE'!$B$70 + 'Graphiques GE'!$B$69 -> 0.57285755 | AL10: ='Graphiques GE'!$B$69 -> 0.200427 | AM10: ='Graphiques GE'!$B$69 -> 0.200427 | AN10: =MAX(J10:J11)-MIN(J10:J11) -> 0.29 | AO10: ='Graphiques GE'!$B$82 + 'Graphiques GE'!$B$81 -> 0.62056864 | AP10: ='Graphiques GE'!$B$81 -> 0.23019364 | AQ10: ='Graphiques GE'!$B$81 -> 0.23019364 | AR10: =MAX(K10:K11)-MIN(K10:K11) -> 0.33 | AS10: ='Graphiques GE'!$B$94 + 'Graphiques GE'!$B$93 -> 0.73969602 | AT10: ='Graphiques GE'!$B$93 -> 0.25901546 | AU10: ='Graphiques GE'!$B$93 -> 0.25901546 | AV10: =MAX(L10:L11)-MIN(L10:L11) -> 0.39 | AW10: ='Graphiques GE'!$B$106 + 'Graphiques GE'!$B$105 -> 0.8508188 | AX10: ='Graphiques GE'!$B$105 -> 0.28695964 | AY10: ='Graphiques GE'!$B$105 -> 0.28695964 | AZ10: =MAX(M10:M11)-MIN(M10:M11) -> 0.21 | BA10: ='Graphiques GE'!$B$118 + 'Graphiques GE'!$B$117 -> 0.63197043 | BB10: ='Graphiques GE'!$B$117 -> 0.2321371 | BC10: ='Graphiques GE'!$B$117 -> 0.2321371 | BD10: =MAX(N10:N11)-MIN(N10:N11) -> 0.3 | BE10: ='Graphiques GE'!$B$130 + 'Graphiques GE'!$B$129 -> 0.70478713 | BF10: ='Graphiques GE'!$B$129 -> 0.2358288 | BG10: ='Graphiques GE'!$B$129 -> 0.2358288 | BH10: =MAX(O10:O11)-MIN(O10:O11) -> 0.2 | BI10: ='Graphiques GE'!$B$142 + 'Graphiques GE'!$B$141 -> 0.81153767 | BJ10: ='Graphiques GE'!$B$141 -> 0.23391267 | BK10: ='Graphiques GE'!$B$141 -> 0.23391267 | BL10: =MAX(P10:P11)-MIN(P10:P11) -> 0.15 | BM10: ='Graphiques GE'!$B$154 + 'Graphiques DE'!$B$153 -> 0.56607605 | BN10: ='Graphiques GE'!$B$153 -> 0.22173892 | BO10: ='Graphiques GE'!$B$153 -> 0.22173892 | BP10: =MAX(Q10:Q11)-MIN(Q10:Q11) -> 0.03 | BQ10: ='Graphiques GE'!$B$166 + 'Graphiques GE'!$B$165 -> 0.56460144 | BR10: ='Graphiques GE'!$B$165 -> 0.21880977 | BS10: ='Graphiques GE'!$B$165 -> 0.21880977 | BT10: =MAX(R10:R11)-MIN(R10:R11) -> 0.14 | BU10: ='Graphiques GE'!$B$178 + 'Graphiques GE'!$B$177 -> 0.57161199 | BV10: ='Graphiques GE'!$B$177 -> 0.2007231 | BW10: ='Graphiques GE'!$B$177 -> 0.2007231 | BX10: =MAX(S10:S11)-MIN(S10:S11) -> 0.17 | BY10: ='Graphiques GE'!$B$190 + 'Graphiques GE'!$B$189 -> 0.65234199 | BZ10: ='Graphiques GE'!$B$189 -> 0.21467532 | CA10: ='Graphiques GE'!$B$189 -> 0.21467532
A11: 43466 | B11: =ROW()-1 -> 10 | C11: 52889411 | D11: =NA() -> #N/A | E11: 0.16 | F11: 0.84 | G11: 0.005 | H11: 0.21 | I11: 0.36 | J11: 0.35 | K11: 0.47 | L11: 0.57 | M11: 0.43 | N11: 0.57 | O11: 0.58 | P11: 0.33 | Q11: 0.33 | R11: 0.41 | S11: 0.62 | T11: =MAX(E11:E12)-MIN(E11:E12) -> 0.04 | U11: ='Graphiques GE'!$B$22 + 'Graphiques GE'!$B$21 -> 0.28739434 | V11: ='Graphiques GE'!$B$21 -> 0.10722768 | W11: ='Graphiques GE'!$B$21 -> 0.10722768 | X11: =MAX(F11:F12)-MIN(F11:F12) -> 0.36 | Y11: ='Graphiques GE'!$B$34 + 'Graphiques GE'!$B$33 -> 1.0536709 | Z11: ='Graphiques GE'!$B$33 -> 0.29533752 | AA11: ='Graphiques GE'!$B$33 -> 0.29533752 | AB11: =MAX(G11:G12)-MIN(G11:G12) -> 0.205 | AC11: ='Graphiques GE'!$B$46 + 'Graphiques GE'!$B$45 -> 0.37178315 | AD11: ='Graphiques GE'!$B$45 -> 0.14225537 | AE11: ='Graphiques GE'!$B$45 -> 0.14225537 | AF11: =MAX(H11:H12)-MIN(H11:H12) -> 0.11 | AG11: ='Graphiques GE'!$B$58 + 'Graphiques DE'!$B$57 -> 0.53699975 | AH11: ='Graphiques GE'!$B$57 -> 0.20752152 | AI11: ='Graphiques GE'!$B$57 -> 0.20752152 | AJ11: =MAX(I11:I12)-MIN(I11:I12) -> 0.24 | AK11: ='Graphiques GE'!$B$70 + 'Graphiques GE'!$B$69 -> 0.57285755 | AL11: ='Graphiques GE'!$B$69 -> 0.200427 | AM11: ='Graphiques GE'!$B$69 -> 0.200427 | AN11: =MAX(J11:J12)-MIN(J11:J12) -> 0.22 | AO11: ='Graphiques GE'!$B$82 + 'Graphiques GE'!$B$81 -> 0.62056864 | AP11: ='Graphiques GE'!$B$81 -> 0.23019364 | AQ11: ='Graphiques GE'!$B$81 -> 0.23019364 | AR11: =MAX(K11:K12)-MIN(K11:K12) -> 0.41 | AS11: ='Graphiques GE'!$B$94 + 'Graphiques GE'!$B$93 -> 0.73969602 | AT11: ='Graphiques GE'!$B$93 -> 0.25901546 | AU11: ='Graphiques GE'!$B$93 -> 0.25901546 | AV11: =MAX(L11:L12)-MIN(L11:L12) -> 0.5 | AW11: ='Graphiques GE'!$B$106 + 'Graphiques GE'!$B$105 -> 0.8508188 | AX11: ='Graphiques GE'!$B$105 -> 0.28695964 | AY11: ='Graphiques GE'!$B$105 -> 0.28695964 | AZ11: =MAX(M11:M12)-MIN(M11:M12) -> 0.21 | BA11: ='Graphiques GE'!$B$118 + 'Graphiques GE'!$B$117 -> 0.63197043 | BB11: ='Graphiques GE'!$B$117 -> 0.2321371 | BC11: ='Graphiques GE'!$B$117 -> 0.2321371 | BD11: =MAX(N11:N12)-MIN(N11:N12) -> 0.25 | BE11: ='Graphiques GE'!$B$130 + 'Graphiques GE'!$B$129 -> 0.70478713 | BF11: ='Graphiques GE'!$B$129 -> 0.2358288 | BG11: ='Graphiques GE'!$B$129 -> 0.2358288 | BH11: =MAX(O11:O12)-MIN(O11:O12) -> 0.08 | BI11: ='Graphiques GE'!$B$142 + 'Graphiques GE'!$B$141 -> 0.81153767 | BJ11: ='Graphiques GE'!$B$141 -> 0.23391267 | BK11: ='Graphiques GE'!$B$141 -> 0.23391267 | BL11: =MAX(P11:P12)-MIN(P11:P12) -> 0.22 | BM11: ='Graphiques GE'!$B$154 + 'Graphiques DE'!$B$153 -> 0.56607605 | BN11: ='Graphiques GE'!$B$153 -> 0.22173892 | BO11: ='Graphiques GE'!$B$153 -> 0.22173892 | BP11: =MAX(Q11:Q12)-MIN(Q11:Q12) -> 0.19 | BQ11: ='Graphiques GE'!$B$166 + 'Graphiques GE'!$B$165 -> 0.56460144 | BR11: ='Graphiques GE'!$B$165 -> 0.21880977 | BS11: ='Graphiques GE'!$B$165 -> 0.21880977 | BT11: =MAX(R11:R12)-MIN(R11:R12) -> 0.06 | BU11: ='Graphiques GE'!$B$178 + 'Graphiques GE'!$B$177 -> 0.57161199 | BV11: ='Graphiques GE'!$B$177 -> 0.2007231 | BW11: ='Graphiques GE'!$B$177 -> 0.2007231 | BX11: =MAX(S11:S12)-MIN(S11:S12) -> 0.17 | BY11: ='Graphiques GE'!$B$190 + 'Graphiques GE'!$B$189 -> 0.65234199 | BZ11: ='Graphiques GE'!$B$189 -> 0.21467532 | CA11: ='Graphiques GE'!$B$189 -> 0.21467532
A12: 43466 | B12: =ROW()-1 -> 11 | C12: 52891327 | D12: =NA() -> #N/A | E12: 0.2 | F12: 0.48 | G12: 0.21 | H12: 0.1 | I12: 0.12 | J12: 0.13 | K12: 0.06 | L12: 0.07 | M12: 0.22 | N12: 0.32 | O12: 0.5 | P12: 0.11 | Q12: 0.14 | R12: 0.35 | S12: 0.45 | T12: =MAX(E12:E13)-MIN(E12:E13) -> 0.07 | U12: ='Graphiques GE'!$B$22 + 'Graphiques GE'!$B$21 -> 0.28739434 | V12: ='Graphiques GE'!$B$21 -> 0.10722768 | W12: ='Graphiques GE'!$B$21 -> 0.10722768 | X12: =MAX(F12:F13)-MIN(F12:F13) -> 0.05 | Y12: ='Graphiques GE'!$B$34 + 'Graphiques GE'!$B$33 -> 1.0536709 | Z12: ='Graphiques GE'!$B$33 -> 0.29533752 | AA12: ='Graphiques GE'!$B$33 -> 0.29533752 | AB12: =MAX(G12:G13)-MIN(G12:G13) -> 0.05 | AC12: ='Graphiques GE'!$B$46 + 'Graphiques GE'!$B$45 -> 0.37178315 | AD12: ='Graphiques GE'!$B$45 -> 0.14225537 | AE12: ='Graphiques GE'!$B$45 -> 0.14225537 | AF12: =MAX(H12:H13)-MIN(H12:H13) -> 0.1 | AG12: ='Graphiques GE'!$B$58 + 'Graphiques DE'!$B$57 -> 0.53699975 | AH12: ='Graphiques GE'!$B$57 -> 0.20752152 | AI12: ='Graphiques GE'!$B$57 -> 0.20752152 | AJ12: =MAX(I12:I13)-MIN(I12:I13) -> 0.07 | AK12: ='Graphiques GE'!$B$70 + 'Graphiques GE'!$B$69 -> 0.57285755 | AL12: ='Graphiques GE'!$B$69 -> 0.200427 | AM12: ='Graphiques GE'!$B$69 -> 0.200427 | AN12: =MAX(J12:J13)-MIN(J12:J13) -> 0.01 | AO12: ='Graphiques GE'!$B$82 + 'Graphiques GE'!$B$81 -> 0.62056864 | AP12: ='Graphiques GE'!$B$81 -> 0.23019364 | AQ12: ='Graphiques GE'!$B$81 -> 0.23019364 | AR12: =MAX(K12:K13)-MIN(K12:K13) -> 0.08 | AS12: ='Graphiques GE'!$B$94 + 'Graphiques GE'!$B$93 -> 0.73969602 | AT12: ='Graphiques GE'!$B$93 -> 0.25901546 | AU12: ='Graphiques GE'!$B$93 -> 0.25901546 | AV12: =MAX(L12:L13)-MIN(L12:L13) -> 0.09 | AW12: ='Graphiques GE'!$B$106 + 'Graphiques GE'!$B$105 -> 0.8508188 | AX12: ='Graphiques GE'!$B$105 -> 0.28695964 | AY12: ='Graphiques GE'!$B$105 -> 0.28695964 | AZ12: =MAX(M12:M13)-MIN(M12:M13) -> 0.03 | BA12: ='Graphiques GE'!$B$118 + 'Graphiques GE'!$B$117 -> 0.63197043 | BB12: ='Graphiques GE'!$B$117 -> 0.2321371 | BC12: ='Graphiques GE'!$B$117 -> 0.2321371 | BD12: =MAX(N12:N13)-MIN(N12:N13) -> 0.06 | BE12: ='Graphiques GE'!$B$130 + 'Graphiques GE'!$B$129 -> 0.70478713 | BF12: ='Graphiques GE'!$B$129 -> 0.2358288 | BG12: ='Graphiques GE'!$B$129 -> 0.2358288 | BH12: =MAX(O12:O13)-MIN(O12:O13) -> 0.13 | BI12: ='Graphiques GE'!$B$142 + 'Graphiques GE'!$B$141 -> 0.81153767 | BJ12: ='Graphiques GE'!$B$141 -> 0.23391267 | BK12: ='Graphiques GE'!$B$141 -> 0.23391267 | BL12: =MAX(P12:P13)-MIN(P12:P13) -> 0.25 | BM12: ='Graphiques GE'!$B$154 + 'Graphiques DE'!$B$153 -> 0.56607605 | BN12: ='Graphiques GE'!$B$153 -> 0.22173892 | BO12: ='Graphiques GE'!$B$153 -> 0.22173892 | BP12: =MAX(Q12:Q13)-MIN(Q12:Q13) -> 0.32 | BQ12: ='Graphiques GE'!$B$166 + 'Graphiques GE'!$B$165 -> 0.56460144 | BR12: ='Graphiques GE'!$B$165 -> 0.21880977 | BS12: ='Graphiques GE'!$B$165 -> 0.21880977 | BT12: =MAX(R12:R13)-MIN(R12:R13) -> 0.01 | BU12: ='Graphiques GE'!$B$178 + 'Graphiques GE'!$B$177 -> 0.57161199 | BV12: ='Graphiques GE'!$B$177 -> 0.2007231 | BW12: ='Graphiques GE'!$B$177 -> 0.2007231 | BX12: =MAX(S12:S13)-MIN(S12:S13) -> 0.01 | BY12: ='Graphiques GE'!$B$190 + 'Graphiques GE'!$B$189 -> 0.65234199 | BZ12: ='Graphiques GE'!$B$189 -> 0.21467532 | CA12: ='Graphiques GE'!$B$189 -> 0.21467532
A13: 43466 | B13: =ROW()-1 -> 12 | C13: 52910398 | D13: =NA() -> #N/A | E13: 0.13 | F13: 0.53 | G13: 0.16 | H13: 0.2 | I13: 0.05 | J13: 0.12 | K13: 0.14 | L13: 0.16 | M13: 0.19 | N13: 0.26 | O13: 0.37 | P13: 0.36 | Q13: 0.46 | R13: 0.34 | S13: 0.46 | T13: =MAX(E13:E14)-MIN(E13:E14) -> 0.1 | U13: ='Graphiques GE'!$B$22 + 'Graphiques GE'!$B$21 -> 0.28739434 | V13: ='Graphiques GE'!$B$21 -> 0.10722768 | W13: ='Graphiques GE'!$B$21 -> 0.10722768 | X13: =MAX(F13:F14)-MIN(F13:F14) -> 0.8 | Y13: ='Graphiques GE'!$B$34 + 'Graphiques GE'!$B$33 -> 1.0536709 | Z13: ='Graphiques GE'!$B$33 -> 0.29533752 | AA13: ='Graphiques GE'!$B$33 -> 0.29533752 | AB13: =MAX(G13:G14)-MIN(G13:G14) -> 0.22 | AC13: ='Graphiques GE'!$B$46 + 'Graphiques GE'!$B$45 -> 0.37178315 | AD13: ='Graphiques GE'!$B$45 -> 0.14225537 | AE13: ='Graphiques GE'!$B$45 -> 0.14225537 | AF13: =MAX(H13:H14)-MIN(H13:H14) -> 0.19 | AG13: ='Graphiques GE'!$B$58 + 'Graphiques DE'!$B$57 -> 0.53699975 | AH13: ='Graphiques GE'!$B$57 -> 0.20752152 | AI13: ='Graphiques GE'!$B$57 -> 0.20752152 | AJ13: =MAX(I13:I14)-MIN(I13:I14) -> 0.27 | AK13: ='Graphiques GE'!$B$70 + 'Graphiques GE'!$B$69 -> 0.57285755 | AL13: ='Graphiques GE'!$B$69 -> 0.200427 | AM13: ='Graphiques GE'!$B$69 -> 0.200427 | AN13: =MAX(J13:J14)-MIN(J13:J14) -> 0.5 | AO13: ='Graphiques GE'!$B$82 + 'Graphiques GE'!$B$81 -> 0.62056864 | AP13: ='Graphiques GE'!$B$81 -> 0.23019364 | AQ13: ='Graphiques GE'!$B$81 -> 0.23019364 | AR13: =MAX(K13:K14)-MIN(K13:K14) -> 0.61 | AS13: ='Graphiques GE'!$B$94 + 'Graphiques GE'!$B$93 -> 0.73969602 | AT13: ='Graphiques GE'!$B$93 -> 0.25901546 | AU13: ='Graphiques GE'!$B$93 -> 0.25901546 | AV13: =MAX(L13:L14)-MIN(L13:L14) -> 0.77 | AW13: ='Graphiques GE'!$B$106 + 'Graphiques GE'!$B$105 -> 0.8508188 | AX13: ='Graphiques GE'!$B$105 -> 0.28695964 | AY13: ='Graphiques GE'!$B$105 -> 0.28695964 | AZ13: =MAX(M13:M14)-MIN(M13:M14) -> 0.74 | BA13: ='Graphiques GE'!$B$118 + 'Graphiques GE'!$B$117 -> 0.63197043 | BB13: ='Graphiques GE'!$B$117 -> 0.2321371 | BC13: ='Graphiques GE'!$B$117 -> 0.2321371 | BD13: =MAX(N13:N14)-MIN(N13:N14) -> 0.65 | BE13: ='Graphiques GE'!$B$130 + 'Graphiques GE'!$B$129 -> 0.70478713 | BF13: ='Graphiques GE'!$B$129 -> 0.2358288 | BG13: ='Graphiques GE'!$B$129 -> 0.2358288 | BH13: =MAX(O13:O14)-MIN(O13:O14) -> 0.66 | BI13: ='Graphiques GE'!$B$142 + 'Graphiques GE'!$B$141 -> 0.81153767 | BJ13: ='Graphiques GE'!$B$141 -> 0.23391267 | BK13: ='Graphiques GE'!$B$141 -> 0.23391267 | BL13: =MAX(P13:P14)-MIN(P13:P14) -> 0.1 | BM13: ='Graphiques GE'!$B$154 + 'Graphiques DE'!$B$153 -> 0.56607605 | BN13: ='Graphiques GE'!$B$153 -> 0.22173892 | BO13: ='Graphiques GE'!$B$153 -> 0.22173892 | BP13: =MAX(Q13:Q14)-MIN(Q13:Q14) -> 0.01 | BQ13: ='Graphiques GE'!$B$166 + 'Graphiques GE'!$B$165 -> 0.56460144 | BR13: ='Graphiques GE'!$B$165 -> 0.21880977 | BS13: ='Graphiques GE'!$B$165 -> 0.21880977 | BT13: =MAX(R13:R14)-MIN(R13:R14) -> 0.06 | BU13: ='Graphiques GE'!$B$178 + 'Graphiques GE'!$B$177 -> 0.57161199 | BV13: ='Graphiques GE'!$B$177 -> 0.2007231 | BW13: ='Graphiques GE'!$B$177 -> 0.2007231 | BX13: =MAX(S13:S14)-MIN(S13:S14) -> 0.34 | BY13: ='Graphiques GE'!$B$190 + 'Graphiques GE'!$B$189 -> 0.65234199 | BZ13: ='Graphiques GE'!$B$189 -> 0.21467532 | CA13: ='Graphiques GE'!$B$189 -> 0.21467532
... A46: 43556 | B46: =ROW()-1 -> 45 | C46: 53005191 | D46: =NA() -> #N/A | E46: 0.16 | F46: 0.84 | G46: 0.37 | H46: 0.64 | I46: 0.59 | J46: 0.46 | K46: 0.47 | L46: 0.58 | M46: 0.29 | N46: 0.48 | O46: 0.56 | P46: 0.24 | Q46: 0.36 | R46: 0.3 | S46: 0.41 | T46: =MAX(E46:E47)-MIN(E46:E47) -> 0 | U46: ='Graphiques GE'!$B$22 + 'Graphiques GE'!$B$21 -> 0.28739434 | V46: ='Graphiques GE'!$B$21 -> 0.10722768 | W46: ='Graphiques GE'!$B$21 -> 0.10722768 | X46: =MAX(F46:F47)-MIN(F46:F47) -> 0.18 | Y46: ='Graphiques GE'!$B$34 + 'Graphiques GE'!$B$33 -> 1.0536709 | Z46: ='Graphiques GE'!$B$33 -> 0.29533752 | AA46: ='Graphiques GE'!$B$33 -> 0.29533752 | AB46: =MAX(G46:G47)-MIN(G46:G47) -> 0.11 | AC46: ='Graphiques GE'!$B$46 + 'Graphiques GE'!$B$45 -> 0.37178315 | AD46: ='Graphiques GE'!$B$45 -> 0.14225537 | AE46: ='Graphiques GE'!$B$45 -> 0.14225537 | AF46: =MAX(H46:H47)-MIN(H46:H47) -> 0.02 | AG46: ='Graphiques GE'!$B$58 + 'Graphiques DE'!$B$57 -> 0.53699975 | AH46: ='Graphiques GE'!$B$57 -> 0.20752152 | AI46: ='Graphiques GE'!$B$57 -> 0.20752152 | AJ46: =MAX(I46:I47)-MIN(I46:I47) -> 0.18 | AK46: ='Graphiques GE'!$B$70 + 'Graphiques GE'!$B$69 -> 0.57285755 | AL46: ='Graphiques GE'!$B$69 -> 0.200427 | AM46: ='Graphiques GE'!$B$69 -> 0.200427 | AN46: =MAX(J46:J47)-MIN(J46:J47) -> 0.41 | AO46: ='Graphiques GE'!$B$82 + 'Graphiques GE'!$B$81 -> 0.62056864 | AP46: ='Graphiques GE'!$B$81 -> 0.23019364 | AQ46: ='Graphiques GE'!$B$81 -> 0.23019364 | AR46: =MAX(K46:K47)-MIN(K46:K47) -> 0.47 | AS46: ='Graphiques GE'!$B$94 + 'Graphiques GE'!$B$93 -> 0.73969602 | AT46: ='Graphiques GE'!$B$93 -> 0.25901546 | AU46: ='Graphiques GE'!$B$93 -> 0.25901546 | AV46: =MAX(L46:L47)-MIN(L46:L47) -> 0 | AW46: ='Graphiques GE'!$B$106 + 'Graphiques GE'!$B$105 -> 0.8508188 | AX46: ='Graphiques GE'!$B$105 -> 0.28695964 | AY46: ='Graphiques GE'!$B$105 -> 0.28695964 | AZ46: =MAX(M46:M47)-MIN(M46:M47) -> 0.5 | BA46: ='Graphiques GE'!$B$118 + 'Graphiques GE'!$B$117 -> 0.63197043 | BB46: ='Graphiques GE'!$B$117 -> 0.2321371 | BC46: ='Graphiques GE'!$B$117 -> 0.2321371 | BD46: =MAX(N46:N47)-MIN(N46:N47) -> 0.42 | BE46: ='Graphiques GE'!$B$130 + 'Graphiques GE'!$B$129 -> 0.70478713 | BF46: ='Graphiques GE'!$B$129 -> 0.2358288 | BG46: ='Graphiques GE'!$B$129 -> 0.2358288 | BH46: =MAX(O46:O47)-MIN(O46:O47) -> 0.45 | BI46: ='Graphiques GE'!$B$142 + 'Graphiques GE'!$B$141 -> 0.81153767 | BJ46: ='Graphiques GE'!$B$141 -> 0.23391267 | BK46: ='Graphiques GE'!$B$141 -> 0.23391267 | BL46: =MAX(P46:P47)-MIN(P46:P47) -> 0.01 | BM46: ='Graphiques GE'!$B$154 + 'Graphiques DE'!$B$153 -> 0.56607605 | BN46: ='Graphiques GE'!$B$153 -> 0.22173892 | BO46: ='Graphiques GE'!$B$153 -> 0.22173892 | BP46: =MAX(Q46:Q47)-MIN(Q46:Q47) -> 0.17 | BQ46: ='Graphiques GE'!$B$166 + 'Graphiques GE'!$B$165 -> 0.56460144 | BR46: ='Graphiques GE'!$B$165 -> 0.21880977 | BS46: ='Graphiques GE'!$B$165 -> 0.21880977 | BT46: =MAX(R46:R47)-MIN(R46:R47) -> 0.24 | BU46: ='Graphiques GE'!$B$178 + 'Graphiques GE'!$B$177 -> 0.57161199 | BV46: ='Graphiques GE'!$B$177 -> 0.2007231 | BW46: ='Graphiques GE'!$B$177 -> 0.2007231 | BX46: =MAX(S46:S47)-MIN(S46:S47) -> 0.2 | BY46: ='Graphiques GE'!$B$190 + 'Graphiques GE'!$B$189 -> 0.65234199 | BZ46: ='Graphiques GE'!$B$189 -> 0.21467532 | CA46: ='Graphiques GE'!$B$189 -> 0.21467532
A47: 43556 | B47: =ROW()-1 -> 46 | C47: 53020792 | D47: =NA() -> #N/A | E47: 0.16 | F47: 1.02 | G47: 0.26 | H47: 0.62 | I47: 0.77 | J47: 0.87 | K47: 0.94 | L47: 0,1,2 | M47: 0.79 | N47: 0.9 | O47: 1.01 | P47: 0.25 | Q47: 0.19 | R47: 0.54 | S47: 0.61 | T47: =MAX(E47:E48)-MIN(E47:E48) -> 0 | U47: ='Graphiques GE'!$B$22 + 'Graphiques GE'!$B$21 -> 0.28739434 | V47: ='Graphiques GE'!$B$21 -> 0.10722768 | W47: ='Graphiques GE'!$B$21 -> 0.10722768 | X47: =MAX(F47:F48)-MIN(F47:F48) -> 0.47 | Y47: ='Graphiques GE'!$B$34 + 'Graphiques GE'!$B$33 -> 1.0536709 | Z47: ='Graphiques GE'!$B$33 -> 0.29533752 | AA47: ='Graphiques GE'!$B$33 -> 0.29533752 | AB47: =MAX(G47:G48)-MIN(G47:G48) -> 0.04 | AC47: ='Graphiques GE'!$B$46 + 'Graphiques GE'!$B$45 -> 0.37178315 | AD47: ='Graphiques GE'!$B$45 -> 0.14225537 | AE47: ='Graphiques GE'!$B$45 -> 0.14225537 | AF47: =MAX(H47:H48)-MIN(H47:H48) -> 0.45 | AG47: ='Graphiques GE'!$B$58 + 'Graphiques DE'!$B$57 -> 0.53699975 | AH47: ='Graphiques GE'!$B$57 -> 0.20752152 | AI47: ='Graphiques GE'!$B$57 -> 0.20752152 | AJ47: =MAX(I47:I48)-MIN(I47:I48) -> 0.57 | AK47: ='Graphiques GE'!$B$70 + 'Graphiques GE'!$B$69 -> 0.57285755 | AL47: ='Graphiques GE'!$B$69 -> 0.200427 | AM47: ='Graphiques GE'!$B$69 -> 0.200427 | AN47: =MAX(J47:J48)-MIN(J47:J48) -> 0.77 | AO47: ='Graphiques GE'!$B$82 + 'Graphiques GE'!$B$81 -> 0.62056864 | AP47: ='Graphiques GE'!$B$81 -> 0.23019364 | AQ47: ='Graphiques GE'!$B$81 -> 0.23019364 | AR47: =MAX(K47:K48)-MIN(K47:K48) -> 0.68 | AS47: ='Graphiques GE'!$B$94 + 'Graphiques GE'!$B$93 -> 0.73969602 | AT47: ='Graphiques GE'!$B$93 -> 0.25901546 | AU47: ='Graphiques GE'!$B$93 -> 0.25901546 | AV47: =MAX(L47:L48)-MIN(L47:L48) -> 0 | AW47: ='Graphiques GE'!$B$106 + 'Graphiques GE'!$B$105 -> 0.8508188 | AX47: ='Graphiques GE'!$B$105 -> 0.28695964 | AY47: ='Graphiques GE'!$B$105 -> 0.28695964 | AZ47: =MAX(M47:M48)-MIN(M47:M48) -> 0.69 | BA47: ='Graphiques GE'!$B$118 + 'Graphiques GE'!$B$117 -> 0.63197043 | BB47: ='Graphiques GE'!$B$117 -> 0.2321371 | BC47: ='Graphiques GE'!$B$117 -> 0.2321371 | BD47: =MAX(N47:N48)-MIN(N47:N48) -> 0.67 | BE47: ='Graphiques GE'!$B$130 + 'Graphiques GE'!$B$129 -> 0.70478713 | BF47: ='Graphiques GE'!$B$129 -> 0.2358288 | BG47: ='Graphiques GE'!$B$129 -> 0.2358288 | BH47: =MAX(O47:O48)-MIN(O47:O48) -> 0.71 | BI47: ='Graphiques GE'!$B$142 + 'Graphiques GE'!$B$141 -> 0.81153767 | BJ47: ='Graphiques GE'!$B$141 -> 0.23391267 | BK47: ='Graphiques GE'!$B$141 -> 0.23391267 | BL47: =MAX(P47:P48)-MIN(P47:P48) -> 0.73 | BM47: ='Graphiques GE'!$B$154 + 'Graphiques DE'!$B$153 -> 0.56607605 | BN47: ='Graphiques GE'!$B$153 -> 0.22173892 | BO47: ='Graphiques GE'!$B$153 -> 0.22173892 | BP47: =MAX(Q47:Q48)-MIN(Q47:Q48) -> 0.77 | BQ47: ='Graphiques GE'!$B$166 + 'Graphiques GE'!$B$165 -> 0.56460144 | BR47: ='Graphiques GE'!$B$165 -> 0.21880977 | BS47: ='Graphiques GE'!$B$165 -> 0.21880977 | BT47: =MAX(R47:R48)-MIN(R47:R48) -> 0.4 | BU47: ='Graphiques GE'!$B$178 + 'Graphiques GE'!$B$177 -> 0.57161199 | BV47: ='Graphiques GE'!$B$177 -> 0.2007231 | BW47: ='Graphiques GE'!$B$177 -> 0.2007231 | BX47: =MAX(S47:S48)-MIN(S47:S48) -> 0.36 | BY47: ='Graphiques GE'!$B$190 + 'Graphiques GE'!$B$189 -> 0.65234199 | BZ47: ='Graphiques GE'!$B$189 -> 0.21467532 | CA47: ='Graphiques GE'!$B$189 -> 0.21467532
A48: 43556 | B48: =ROW()-1 -> 47 | C48: 52993246 | D48: =NA() -> #N/A | E48: 0.16 | F48: 0.55 | G48: 0.22 | H48: 0.17 | I48: 0.2 | J48: 0.1 | K48: 0.26 | L48: 0.33 | M48: 0.1 | N48: 0.23 | O48: 0.3 | P48: 0.98 | Q48: 0.96 | R48: 0.94 | S48: 0.97 | T48: =MAX(E48:E49)-MIN(E48:E49) -> 0.12 | U48: ='Graphiques GE'!$B$22 + 'Graphiques GE'!$B$21 -> 0.28739434 | V48: ='Graphiques GE'!$B$21 -> 0.10722768 | W48: ='Graphiques GE'!$B$21 -> 0.10722768 | X48: =MAX(F48:F49)-MIN(F48:F49) -> 0.33 | Y48: ='Graphiques GE'!$B$34 + 'Graphiques GE'!$B$33 -> 1.0536709 | Z48: ='Graphiques GE'!$B$33 -> 0.29533752 | AA48: ='Graphiques GE'!$B$33 -> 0.29533752 | AB48: =MAX(G48:G49)-MIN(G48:G49) -> 0.08 | AC48: ='Graphiques GE'!$B$46 + 'Graphiques GE'!$B$45 -> 0.37178315 | AD48: ='Graphiques GE'!$B$45 -> 0.14225537 | AE48: ='Graphiques GE'!$B$45 -> 0.14225537 | AF48: =MAX(H48:H49)-MIN(H48:H49) -> 0.46 | AG48: ='Graphiques GE'!$B$58 + 'Graphiques DE'!$B$57 -> 0.53699975 | AH48: ='Graphiques GE'!$B$57 -> 0.20752152 | AI48: ='Graphiques GE'!$B$57 -> 0.20752152 | AJ48: =MAX(I48:I49)-MIN(I48:I49) -> 0.29 | AK48: ='Graphiques GE'!$B$70 + 'Graphiques GE'!$B$69 -> 0.57285755 | AL48: ='Graphiques GE'!$B$69 -> 0.200427 | AM48: ='Graphiques GE'!$B$69 -> 0.200427 | AN48: =MAX(J48:J49)-MIN(J48:J49) -> 0.31 | AO48: ='Graphiques GE'!$B$82 + 'Graphiques GE'!$B$81 -> 0.62056864 | AP48: ='Graphiques GE'!$B$81 -> 0.23019364 | AQ48: ='Graphiques GE'!$B$81 -> 0.23019364 | AR48: =MAX(K48:K49)-MIN(K48:K49) -> 0.29 | AS48: ='Graphiques GE'!$B$94 + 'Graphiques GE'!$B$93 -> 0.73969602 | AT48: ='Graphiques GE'!$B$93 -> 0.25901546 | AU48: ='Graphiques GE'!$B$93 -> 0.25901546 | AV48: =MAX(L48:L49)-MIN(L48:L49) -> 0.21 | AW48: ='Graphiques GE'!$B$106 + 'Graphiques GE'!$B$105 -> 0.8508188 | AX48: ='Graphiques GE'!$B$105 -> 0.28695964 | AY48: ='Graphiques GE'!$B$105 -> 0.28695964 | AZ48: =MAX(M48:M49)-MIN(M48:M49) -> 0.01 | BA48: ='Graphiques GE'!$B$118 + 'Graphiques GE'!$B$117 -> 0.63197043 | BB48: ='Graphiques GE'!$B$117 -> 0.2321371 | BC48: ='Graphiques GE'!$B$117 -> 0.2321371 | BD48: =MAX(N48:N49)-MIN(N48:N49) -> 0.06 | BE48: ='Graphiques GE'!$B$130 + 'Graphiques GE'!$B$129 -> 0.70478713 | BF48: ='Graphiques GE'!$B$129 -> 0.2358288 | BG48: ='Graphiques GE'!$B$129 -> 0.2358288 | BH48: =MAX(O48:O49)-MIN(O48:O49) -> 0.3 | BI48: ='Graphiques GE'!$B$142 + 'Graphiques GE'!$B$141 -> 0.81153767 | BJ48: ='Graphiques GE'!$B$141 -> 0.23391267 | BK48: ='Graphiques GE'!$B$141 -> 0.23391267 | BL48: =MAX(P48:P49)-MIN(P48:P49) -> 0.81 | BM48: ='Graphiques GE'!$B$154 + 'Graphiques DE'!$B$153 -> 0.56607605 | BN48: ='Graphiques GE'!$B$153 -> 0.22173892 | BO48: ='Graphiques GE'!$B$153 -> 0.22173892 | BP48: =MAX(Q48:Q49)-MIN(Q48:Q49) -> 0.91 | BQ48: ='Graphiques GE'!$B$166 + 'Graphiques GE'!$B$165 -> 0.56460144 | BR48: ='Graphiques GE'!$B$165 -> 0.21880977 | BS48: ='Graphiques GE'!$B$165 -> 0.21880977 | BT48: =MAX(R48:R49)-MIN(R48:R49) -> 0.83 | BU48: ='Graphiques GE'!$B$178 + 'Graphiques GE'!$B$177 -> 0.57161199 | BV48: ='Graphiques GE'!$B$177 -> 0.2007231 | BW48: ='Graphiques GE'!$B$177 -> 0.2007231 | BX48: =MAX(S48:S49)-MIN(S48:S49) -> 0.85 | BY48: ='Graphiques GE'!$B$190 + 'Graphiques GE'!$B$189 -> 0.65234199 | BZ48: ='Graphiques GE'!$B$189 -> 0.21467532 | CA48: ='Graphiques GE'!$B$189 -> 0.21467532
A49: 43556 | B49: =ROW()-1 -> 48 | C49: 53005005 | D49: =NA() -> #N/A | E49: 0.04 | F49: 0.88 | G49: 0.3 | H49: 0.63 | I49: 0.49 | J49: 0.41 | K49: 0.55 | L49: 0.54 | M49: 0.11 | N49: 0.29 | O49: 0.6 | P49: 0.17 | Q49: 0.05 | R49: 0.11 | S49: 0.12 | T49: =MAX(E49:E50)-MIN(E49:E50) -> 0.01 | U49: ='Graphiques GE'!$B$22 + 'Graphiques GE'!$B$21 -> 0.28739434 | V49: ='Graphiques GE'!$B$21 -> 0.10722768 | W49: ='Graphiques GE'!$B$21 -> 0.10722768 | X49: =MAX(F49:F50)-MIN(F49:F50) -> 0.35 | Y49: ='Graphiques GE'!$B$34 + 'Graphiques GE'!$B$33 -> 1.0536709 | Z49: ='Graphiques GE'!$B$33 -> 0.29533752 | AA49: ='Graphiques GE'!$B$33 -> 0.29533752 | AB49: =MAX(G49:G50)-MIN(G49:G50) -> 0.01 | AC49: ='Graphiques GE'!$B$46 + 'Graphiques GE'!$B$45 -> 0.37178315 | AD49: ='Graphiques GE'!$B$45 -> 0.14225537 | AE49: ='Graphiques GE'!$B$45 -> 0.14225537 | AF49: =MAX(H49:H50)-MIN(H49:H50) -> 0.14 | AG49: ='Graphiques GE'!$B$58 + 'Graphiques DE'!$B$57 -> 0.53699975 | AH49: ='Graphiques GE'!$B$57 -> 0.20752152 | AI49: ='Graphiques GE'!$B$57 -> 0.20752152 | AJ49: =MAX(I49:I50)-MIN(I49:I50) -> 0.02 | AK49: ='Graphiques GE'!$B$70 + 'Graphiques GE'!$B$69 -> 0.57285755 | AL49: ='Graphiques GE'!$B$69 -> 0.200427 | AM49: ='Graphiques GE'!$B$69 -> 0.200427 | AN49: =MAX(J49:J50)-MIN(J49:J50) -> 0.03 | AO49: ='Graphiques GE'!$B$82 + 'Graphiques GE'!$B$81 -> 0.62056864 | AP49: ='Graphiques GE'!$B$81 -> 0.23019364 | AQ49: ='Graphiques GE'!$B$81 -> 0.23019364 | AR49: =MAX(K49:K50)-MIN(K49:K50) -> 0.19 | AS49: ='Graphiques GE'!$B$94 + 'Graphiques GE'!$B$93 -> 0.73969602 | AT49: ='Graphiques GE'!$B$93 -> 0.25901546 | AU49: ='Graphiques GE'!$B$93 -> 0.25901546 | AV49: =MAX(L49:L50)-MIN(L49:L50) -> 0.14 | AW49: ='Graphiques GE'!$B$106 + 'Graphiques GE'!$B$105 -> 0.8508188 | AX49: ='Graphiques GE'!$B$105 -> 0.28695964 | AY49: ='Graphiques GE'!$B$105 -> 0.28695964 | AZ49: =MAX(M49:M50)-MIN(M49:M50) -> 0.02 | BA49: ='Graphiques GE'!$B$118 + 'Graphiques GE'!$B$117 -> 0.63197043 | BB49: ='Graphiques GE'!$B$117 -> 0.2321371 | BC49: ='Graphiques GE'!$B$117 -> 0.2321371 | BD49: =MAX(N49:N50)-MIN(N49:N50) -> 0.05 | BE49: ='Graphiques GE'!$B$130 + 'Graphiques GE'!$B$129 -> 0.70478713 | BF49: ='Graphiques GE'!$B$129 -> 0.2358288 | BG49: ='Graphiques GE'!$B$129 -> 0.2358288 | BH49: =MAX(O49:O50)-MIN(O49:O50) -> 0.15 | BI49: ='Graphiques GE'!$B$142 + 'Graphiques GE'!$B$141 -> 0.81153767 | BJ49: ='Graphiques GE'!$B$141 -> 0.23391267 | BK49: ='Graphiques GE'!$B$141 -> 0.23391267 | BL49: =MAX(P49:P50)-MIN(P49:P50) -> 0.31 | BM49: ='Graphiques GE'!$B$154 + 'Graphiques DE'!$B$153 -> 0.56607605 | BN49: ='Graphiques GE'!$B$153 -> 0.22173892 | BO49: ='Graphiques GE'!$B$153 -> 0.22173892 | BP49: =MAX(Q49:Q50)-MIN(Q49:Q50) -> 0.3 | BQ49: ='Graphiques GE'!$B$166 + 'Graphiques GE'!$B$165 -> 0.56460144 | BR49: ='Graphiques GE'!$B$165 -> 0.21880977 | BS49: ='Graphiques GE'!$B$165 -> 0.21880977 | BT49: =MAX(R49:R50)-MIN(R49:R50) -> 0.3 | BU49: ='Graphiques GE'!$B$178 + 'Graphiques GE'!$B$177 -> 0.57161199 | BV49: ='Graphiques GE'!$B$177 -> 0.2007231 | BW49: ='Graphiques GE'!$B$177 -> 0.2007231 | BX49: =MAX(S49:S50)-MIN(S49:S50) -> 0.08 | BY49: ='Graphiques GE'!$B$190 + 'Graphiques GE'!$B$189 -> 0.65234199 | BZ49: ='Graphiques GE'!$B$189 -> 0.21467532 | CA49: ='Graphiques GE'!$B$189 -> 0.21467532
A50: 43556 | B50: =ROW()-1 -> 49 | C50: 52984470 | D50: =NA() -> #N/A | E50: 0.05 | F50: 0.53 | G50: 0.29 | H50: 0.49 | I50: 0.47 | J50: 0.44 | K50: 0.36 | L50: 0.68 | M50: 0.13 | N50: 0.34 | O50: 0.45 | P50: 0.48 | Q50: 0.35 | R50: 0.41 | S50: 0.2 | T50: =MAX(E50:E51)-MIN(E50:E51) -> 0.27 | U50: ='Graphiques GE'!$B$22 + 'Graphiques GE'!$B$21 -> 0.28739434 | V50: ='Graphiques GE'!$B$21 -> 0.10722768 | W50: ='Graphiques GE'!$B$21 -> 0.10722768 | X50: =MAX(F50:F51)-MIN(F50:F51) -> 0.31 | Y50: ='Graphiques GE'!$B$34 + 'Graphiques GE'!$B$33 -> 1.0536709 | Z50: ='Graphiques GE'!$B$33 -> 0.29533752 | AA50: ='Graphiques GE'!$B$33 -> 0.29533752 | AB50: =MAX(G50:G51)-MIN(G50:G51) -> 0.17 | AC50: ='Graphiques GE'!$B$46 + 'Graphiques GE'!$B$45 -> 0.37178315 | AD50: ='Graphiques GE'!$B$45 -> 0.14225537 | AE50: ='Graphiques GE'!$B$45 -> 0.14225537 | AF50: =MAX(H50:H51)-MIN(H50:H51) -> 0.37 | AG50: ='Graphiques GE'!$B$58 + 'Graphiques DE'!$B$57 -> 0.53699975 | AH50: ='Graphiques GE'!$B$57 -> 0.20752152 | AI50: ='Graphiques GE'!$B$57 -> 0.20752152 | AJ50: =MAX(I50:I51)-MIN(I50:I51) -> 0.32 | AK50: ='Graphiques GE'!$B$70 + 'Graphiques GE'!$B$69 -> 0.57285755 | AL50: ='Graphiques GE'!$B$69 -> 0.200427 | AM50: ='Graphiques GE'!$B$69 -> 0.200427 | AN50: =MAX(J50:J51)-MIN(J50:J51) -> 0.29 | AO50: ='Graphiques GE'!$B$82 + 'Graphiques GE'!$B$81 -> 0.62056864 | AP50: ='Graphiques GE'!$B$81 -> 0.23019364 | AQ50: ='Graphiques GE'!$B$81 -> 0.23019364 | AR50: =MAX(K50:K51)-MIN(K50:K51) -> 0.06 | AS50: ='Graphiques GE'!$B$94 + 'Graphiques GE'!$B$93 -> 0.73969602 | AT50: ='Graphiques GE'!$B$93 -> 0.25901546 | AU50: ='Graphiques GE'!$B$93 -> 0.25901546 | AV50: =MAX(L50:L51)-MIN(L50:L51) -> 0.57 | AW50: ='Graphiques GE'!$B$106 + 'Graphiques GE'!$B$105 -> 0.8508188 | AX50: ='Graphiques GE'!$B$105 -> 0.28695964 | AY50: ='Graphiques GE'!$B$105 -> 0.28695964 | AZ50: =MAX(M50:M51)-MIN(M50:M51) -> 0.03 | BA50: ='Graphiques GE'!$B$118 + 'Graphiques GE'!$B$117 -> 0.63197043 | BB50: ='Graphiques GE'!$B$117 -> 0.2321371 | BC50: ='Graphiques GE'!$B$117 -> 0.2321371 | BD50: =MAX(N50:N51)-MIN(N50:N51) -> 0.03 | BE50: ='Graphiques GE'!$B$130 + 'Graphiques GE'!$B$129 -> 0.70478713 | BF50: ='Graphiques GE'!$B$129 -> 0.2358288 | BG50: ='Graphiques GE'!$B$129 -> 0.2358288 | BH50: =MAX(O50:O51)-MIN(O50:O51) -> 0.01 | BI50: ='Graphiques GE'!$B$142 + 'Graphiques GE'!$B$141 -> 0.81153767 | BJ50: ='Graphiques GE'!$B$141 -> 0.23391267 | BK50: ='Graphiques GE'!$B$141 -> 0.23391267 | BL50: =MAX(P50:P51)-MIN(P50:P51) -> 0.21 | BM50: ='Graphiques GE'!$B$154 + 'Graphiques DE'!$B$153 -> 0.56607605 | BN50: ='Graphiques GE'!$B$153 -> 0.22173892 | BO50: ='Graphiques GE'!$B$153 -> 0.22173892 | BP50: =MAX(Q50:Q51)-MIN(Q50:Q51) -> 0.24 | BQ50: ='Graphiques GE'!$B$166 + 'Graphiques GE'!$B$165 -> 0.56460144 | BR50: ='Graphiques GE'!$B$165 -> 0.21880977 | BS50: ='Graphiques GE'!$B$165 -> 0.21880977 | BT50: =MAX(R50:R51)-MIN(R50:R51) -> 0.37 | BU50: ='Graphiques GE'!$B$178 + 'Graphiques GE'!$B$177 -> 0.57161199 | BV50: ='Graphiques GE'!$B$177 -> 0.2007231 | BW50: ='Graphiques GE'!$B$177 -> 0.2007231 | BX50: =MAX(S50:S51)-MIN(S50:S51) -> 0 | BY50: ='Graphiques GE'!$B$190 + 'Graphiques GE'!$B$189 -> 0.65234199 | BZ50: ='Graphiques GE'!$B$189 -> 0.21467532 | CA50: ='Graphiques GE'!$B$189 -> 0.21467532
A51: 43556 | B51: =ROW()-1 -> 50 | C51: 53012710 | D51: =NA() -> #N/A | E51: 0.32 | F51: 0.84 | G51: 0.46 | H51: 0.12 | I51: 0.15 | J51: 0.15 | K51: 0.3 | L51: 0.11 | M51: 0.16 | N51: 0.31 | O51: 0.46 | P51: 0.27 | Q51: 0.11 | R51: 0.04 | S51: 0.2 | T51: =MAX(E51:E52)-MIN(E51:E52) -> 0.12 | U51: ='Graphiques GE'!$B$22 + 'Graphiques GE'!$B$21 -> 0.28739434 | V51: ='Graphiques GE'!$B$21 -> 0.10722768 | W51: ='Graphiques GE'!$B$21 -> 0.10722768 | X51: =MAX(F51:F52)-MIN(F51:F52) -> 0.46 | Y51: ='Graphiques GE'!$B$34 + 'Graphiques GE'!$B$33 -> 1.0536709 | Z51: ='Graphiques GE'!$B$33 -> 0.29533752 | AA51: ='Graphiques GE'!$B$33 -> 0.29533752 | AB51: =MAX(G51:G52)-MIN(G51:G52) -> 0.02 | AC51: ='Graphiques GE'!$B$46 + 'Graphiques GE'!$B$45 -> 0.37178315 | AD51: ='Graphiques GE'!$B$45 -> 0.14225537 | AE51: ='Graphiques GE'!$B$45 -> 0.14225537 | AF51: =MAX(H51:H52)-MIN(H51:H52) -> 0.51 | AG51: ='Graphiques GE'!$B$58 + 'Graphiques DE'!$B$57 -> 0.53699975 | AH51: ='Graphiques GE'!$B$57 -> 0.20752152 | AI51: ='Graphiques GE'!$B$57 -> 0.20752152 | AJ51: =MAX(I51:I52)-MIN(I51:I52) -> 0.37 | AK51: ='Graphiques GE'!$B$70 + 'Graphiques GE'!$B$69 -> 0.57285755 | AL51: ='Graphiques GE'!$B$69 -> 0.200427 | AM51: ='Graphiques GE'!$B$69 -> 0.200427 | AN51: =MAX(J51:J52)-MIN(J51:J52) -> 0.31 | AO51: ='Graphiques GE'!$B$82 + 'Graphiques GE'!$B$81 -> 0.62056864 | AP51: ='Graphiques GE'!$B$81 -> 0.23019364 | AQ51: ='Graphiques GE'!$B$81 -> 0.23019364 | AR51: =MAX(K51:K52)-MIN(K51:K52) -> 0.27 | AS51: ='Graphiques GE'!$B$94 + 'Graphiques GE'!$B$93 -> 0.73969602 | AT51: ='Graphiques GE'!$B$93 -> 0.25901546 | AU51: ='Graphiques GE'!$B$93 -> 0.25901546 | AV51: =MAX(L51:L52)-MIN(L51:L52) -> 0.25 | AW51: ='Graphiques GE'!$B$106 + 'Graphiques GE'!$B$105 -> 0.8508188 | AX51: ='Graphiques GE'!$B$105 -> 0.28695964 | AY51: ='Graphiques GE'!$B$105 -> 0.28695964 | AZ51: =MAX(M51:M52)-MIN(M51:M52) -> 0.07 | BA51: ='Graphiques GE'!$B$118 + 'Graphiques GE'!$B$117 -> 0.63197043 | BB51: ='Graphiques GE'!$B$117 -> 0.2321371 | BC51: ='Graphiques GE'!$B$117 -> 0.2321371 | BD51: =MAX(N51:N52)-MIN(N51:N52) -> 0.07 | BE51: ='Graphiques GE'!$B$130 + 'Graphiques GE'!$B$129 -> 0.70478713 | BF51: ='Graphiques GE'!$B$129 -> 0.2358288 | BG51: ='Graphiques GE'!$B$129 -> 0.2358288 | BH51: =MAX(O51:O52)-MIN(O51:O52) -> 0.12 | BI51: ='Graphiques GE'!$B$142 + 'Graphiques GE'!$B$141 -> 0.81153767 | BJ51: ='Graphiques GE'!$B$141 -> 0.23391267 | BK51: ='Graphiques GE'!$B$141 -> 0.23391267 | BL51: =MAX(P51:P52)-MIN(P51:P52) -> 0.19 | BM51: ='Graphiques GE'!$B$154 + 'Graphiques DE'!$B$153 -> 0.56607605 | BN51: ='Graphiques GE'!$B$153 -> 0.22173892 | BO51: ='Graphiques GE'!$B$153 -> 0.22173892 | BP51: =MAX(Q51:Q52)-MIN(Q51:Q52) -> 0.22 | BQ51: ='Graphiques GE'!$B$166 + 'Graphiques GE'!$B$165 -> 0.56460144 | BR51: ='Graphiques GE'!$B$165 -> 0.21880977 | BS51: ='Graphiques GE'!$B$165 -> 0.21880977 | BT51: =MAX(R51:R52)-MIN(R51:R52) -> 0.35 | BU51: ='Graphiques GE'!$B$178 + 'Graphiques GE'!$B$177 -> 0.57161199 | BV51: ='Graphiques GE'!$B$177 -> 0.2007231 | BW51: ='Graphiques GE'!$B$177 -> 0.2007231 | BX51: =MAX(S51:S52)-MIN(S51:S52) -> 0.07 | BY51: ='Graphiques GE'!$B$190 + 'Graphiques GE'!$B$189 -> 0.65234199 | BZ51: ='Graphiques GE'!$B$189 -> 0.21467532 | CA51: ='Graphiques GE'!$B$189 -> 0.21467532
A52: 43556 | B52: =ROW()-1 -> 51 | C52: 53012711 | D52: =NA() -> #N/A | E52: 0.2 | F52: 0.38 | G52: 0.48 | H52: 0.63 | I52: 0.52 | J52: 0.46 | K52: 0.57 | L52: 0.36 | M52: 0.09 | N52: 0.24 | O52: 0.34 | P52: 0.46 | Q52: 0.33 | R52: 0.39 | S52: 0.13 | T52: =MAX(E52:E53)-MIN(E52:E53) -> 0.15 | U52: ='Graphiques GE'!$B$22 + 'Graphiques GE'!$B$21 -> 0.28739434 | V52: ='Graphiques GE'!$B$21 -> 0.10722768 | W52: ='Graphiques GE'!$B$21 -> 0.10722768 | X52: =MAX(F52:F53)-MIN(F52:F53) -> 0.24 | Y52: ='Graphiques GE'!$B$34 + 'Graphiques GE'!$B$33 -> 1.0536709 | Z52: ='Graphiques GE'!$B$33 -> 0.29533752 | AA52: ='Graphiques GE'!$B$33 -> 0.29533752 | AB52: =MAX(G52:G53)-MIN(G52:G53) -> 0.04 | AC52: ='Graphiques GE'!$B$46 + 'Graphiques GE'!$B$45 -> 0.37178315 | AD52: ='Graphiques GE'!$B$45 -> 0.14225537 | AE52: ='Graphiques GE'!$B$45 -> 0.14225537 | AF52: =MAX(H52:H53)-MIN(H52:H53) -> 0.25 | AG52: ='Graphiques GE'!$B$58 + 'Graphiques DE'!$B$57 -> 0.53699975 | AH52: ='Graphiques GE'!$B$57 -> 0.20752152 | AI52: ='Graphiques GE'!$B$57 -> 0.20752152 | AJ52: =MAX(I52:I53)-MIN(I52:I53) -> 0.17 | AK52: ='Graphiques GE'!$B$70 + 'Graphiques GE'!$B$69 -> 0.57285755 | AL52: ='Graphiques GE'!$B$69 -> 0.200427 | AM52: ='Graphiques GE'!$B$69 -> 0.200427 | AN52: =MAX(J52:J53)-MIN(J52:J53) -> 0.18 | AO52: ='Graphiques GE'!$B$82 + 'Graphiques GE'!$B$81 -> 0.62056864 | AP52: ='Graphiques GE'!$B$81 -> 0.23019364 | AQ52: ='Graphiques GE'!$B$81 -> 0.23019364 | AR52: =MAX(K52:K53)-MIN(K52:K53) -> 0.1 | AS52: ='Graphiques GE'!$B$94 + 'Graphiques GE'!$B$93 -> 0.73969602 | AT52: ='Graphiques GE'!$B$93 -> 0.25901546 | AU52: ='Graphiques GE'!$B$93 -> 0.25901546 | AV52: =MAX(L52:L53)-MIN(L52:L53) -> 0.2 | AW52: ='Graphiques GE'!$B$106 + 'Graphiques GE'!$B$105 -> 0.8508188 | AX52: ='Graphiques GE'!$B$105 -> 0.28695964 | AY52: ='Graphiques GE'!$B$105 -> 0.28695964 | AZ52: =MAX(M52:M53)-MIN(M52:M53) -> 0.14 | BA52: ='Graphiques GE'!$B$118 + 'Graphiques GE'!$B$117 -> 0.63197043 | BB52: ='Graphiques GE'!$B$117 -> 0.2321371 | BC52: ='Graphiques GE'!$B$117 -> 0.2321371 | BD52: =MAX(N52:N53)-MIN(N52:N53) -> 0.06 | BE52: ='Graphiques GE'!$B$130 + 'Graphiques GE'!$B$129 -> 0.70478713 | BF52: ='Graphiques GE'!$B$129 -> 0.2358288 | BG52: ='Graphiques GE'!$B$129 -> 0.2358288 | BH52: =MAX(O52:O53)-MIN(O52:O53) -> 0.12 | BI52: ='Graphiques GE'!$B$142 + 'Graphiques GE'!$B$141 -> 0.81153767 | BJ52: ='Graphiques GE'!$B$141 -> 0.23391267 | BK52: ='Graphiques GE'!$B$141 -> 0.23391267 | BL52: =MAX(P52:P53)-MIN(P52:P53) -> 0.13 | BM52: ='Graphiques GE'!$B$154 + 'Graphiques DE'!$B$153 -> 0.56607605 | BN52: ='Graphiques GE'!$B$153 -> 0.22173892 | BO52: ='Graphiques GE'!$B$153 -> 0.22173892 | BP52: =MAX(Q52:Q53)-MIN(Q52:Q53) -> 0.14 | BQ52: ='Graphiques GE'!$B$166 + 'Graphiques GE'!$B$165 -> 0.56460144 | BR52: ='Graphiques GE'!$B$165 -> 0.21880977 | BS52: ='Graphiques GE'!$B$165 -> 0.21880977 | BT52: =MAX(R52:R53)-MIN(R52:R53) -> 0.12 | BU52: ='Graphiques GE'!$B$178 + 'Graphiques GE'!$B$177 -> 0.57161199 | BV52: ='Graphiques GE'!$B$177 -> 0.2007231 | BW52: ='Graphiques GE'!$B$177 -> 0.2007231 | BX52: =MAX(S52:S53)-MIN(S52:S53) -> 0.49 | BY52: ='Graphiques GE'!$B$190 + 'Graphiques GE'!$B$189 -> 0.65234199 | BZ52: ='Graphiques GE'!$B$189 -> 0.21467532 | CA52: ='Graphiques GE'!$B$189 -> 0.21467532
A53: 43556 | B53: =ROW()-1 -> 52 | C53: 53022950 | D53: =NA() -> #N/A | E53: 0.05 | F53: 0.62 | G53: 0.44 | H53: 0.38 | I53: 0.35 | J53: 0.28 | K53: 0.47 | L53: 0.56 | M53: 0.23 | N53: 0.3 | O53: 0.46 | P53: 0.33 | Q53: 0.19 | R53: 0.27 | S53: 0.62 | T53: =MAX(E53:E54)-MIN(E53:E54) -> 0.03 | U53: ='Graphiques GE'!$B$22 + 'Graphiques GE'!$B$21 -> 0.28739434 | V53: ='Graphiques GE'!$B$21 -> 0.10722768 | W53: ='Graphiques GE'!$B$21 -> 0.10722768 | X53: =MAX(F53:F54)-MIN(F53:F54) -> 0.46 | Y53: ='Graphiques GE'!$B$34 + 'Graphiques GE'!$B$33 -> 1.0536709 | Z53: ='Graphiques GE'!$B$33 -> 0.29533752 | AA53: ='Graphiques GE'!$B$33 -> 0.29533752 | AB53: =MAX(G53:G54)-MIN(G53:G54) -> 0.19 | AC53: ='Graphiques GE'!$B$46 + 'Graphiques GE'!$B$45 -> 0.37178315 | AD53: ='Graphiques GE'!$B$45 -> 0.14225537 | AE53: ='Graphiques GE'!$B$45 -> 0.14225537 | AF53: =MAX(H53:H54)-MIN(H53:H54) -> 0.1 | AG53: ='Graphiques GE'!$B$58 + 'Graphiques DE'!$B$57 -> 0.53699975 | AH53: ='Graphiques GE'!$B$57 -> 0.20752152 | AI53: ='Graphiques GE'!$B$57 -> 0.20752152 | AJ53: =MAX(I53:I54)-MIN(I53:I54) -> 0.25 | AK53: ='Graphiques GE'!$B$70 + 'Graphiques GE'!$B$69 -> 0.57285755 | AL53: ='Graphiques GE'!$B$69 -> 0.200427 | AM53: ='Graphiques GE'!$B$69 -> 0.200427 | AN53: =MAX(J53:J54)-MIN(J53:J54) -> 0.48 | AO53: ='Graphiques GE'!$B$82 + 'Graphiques GE'!$B$81 -> 0.62056864 | AP53: ='Graphiques GE'!$B$81 -> 0.23019364 | AQ53: ='Graphiques GE'!$B$81 -> 0.23019364 | AR53: =MAX(K53:K54)-MIN(K53:K54) -> 0.43 | AS53: ='Graphiques GE'!$B$94 + 'Graphiques GE'!$B$93 -> 0.73969602 | AT53: ='Graphiques GE'!$B$93 -> 0.25901546 | AU53: ='Graphiques GE'!$B$93 -> 0.25901546 | AV53: =MAX(L53:L54)-MIN(L53:L54) -> 0.52 | AW53: ='Graphiques GE'!$B$106 + 'Graphiques GE'!$B$105 -> 0.8508188 | AX53: ='Graphiques GE'!$B$105 -> 0.28695964 | AY53: ='Graphiques GE'!$B$105 -> 0.28695964 | AZ53: =MAX(M53:M54)-MIN(M53:M54) -> 0.29 | BA53: ='Graphiques GE'!$B$118 + 'Graphiques GE'!$B$117 -> 0.63197043 | BB53: ='Graphiques GE'!$B$117 -> 0.2321371 | BC53: ='Graphiques GE'!$B$117 -> 0.2321371 | BD53: =MAX(N53:N54)-MIN(N53:N54) -> 0.32 | BE53: ='Graphiques GE'!$B$130 + 'Graphiques GE'!$B$129 -> 0.70478713 | BF53: ='Graphiques GE'!$B$129 -> 0.2358288 | BG53: ='Graphiques GE'!$B$129 -> 0.2358288 | BH53: =MAX(O53:O54)-MIN(O53:O54) -> 0.21 | BI53: ='Graphiques GE'!$B$142 + 'Graphiques GE'!$B$141 -> 0.81153767 | BJ53: ='Graphiques GE'!$B$141 -> 0.23391267 | BK53: ='Graphiques GE'!$B$141 -> 0.23391267 | BL53: =MAX(P53:P54)-MIN(P53:P54) -> 0.2 | BM53: ='Graphiques GE'!$B$154 + 'Graphiques DE'!$B$153 -> 0.56607605 | BN53: ='Graphiques GE'!$B$153 -> 0.22173892 | BO53: ='Graphiques GE'!$B$153 -> 0.22173892 | BP53: =MAX(Q53:Q54)-MIN(Q53:Q54) -> 0.12 | BQ53: ='Graphiques GE'!$B$166 + 'Graphiques GE'!$B$165 -> 0.56460144 | BR53: ='Graphiques GE'!$B$165 -> 0.21880977 | BS53: ='Graphiques GE'!$B$165 -> 0.21880977 | BT53: =MAX(R53:R54)-MIN(R53:R54) -> 0.1 | BU53: ='Graphiques GE'!$B$178 + 'Graphiques GE'!$B$177 -> 0.57161199 | BV53: ='Graphiques GE'!$B$177 -> 0.2007231 | BW53: ='Graphiques GE'!$B$177 -> 0.2007231 | BX53: =MAX(S53:S54)-MIN(S53:S54) -> 0.17 | BY53: ='Graphiques GE'!$B$190 + 'Graphiques GE'!$B$189 -> 0.65234199 | BZ53: ='Graphiques GE'!$B$189 -> 0.21467532 | CA53: ='Graphiques GE'!$B$189 -> 0.21467532
A54: 43556 | B54: =ROW()-1 -> 53 | C54: 53022976 | D54: =NA() -> #N/A | E54: 0.02 | F54: 1.08 | G54: 0.25 | H54: 0.28 | I54: 0.6 | J54: 0.76 | K54: 0.9 | L54: 1.08 | M54: 0.52 | N54: 0.62 | O54: 0.67 | P54: 0.53 | Q54: 0.07 | R54: 0.37 | S54: 0.45 | T54: =MAX(E54:E55)-MIN(E54:E55) -> 0.26 | U54: ='Graphiques GE'!$B$22 + 'Graphiques GE'!$B$21 -> 0.28739434 | V54: ='Graphiques GE'!$B$21 -> 0.10722768 | W54: ='Graphiques GE'!$B$21 -> 0.10722768 | X54: =MAX(F54:F55)-MIN(F54:F55) -> 0.42 | Y54: ='Graphiques GE'!$B$34 + 'Graphiques GE'!$B$33 -> 1.0536709 | Z54: ='Graphiques GE'!$B$33 -> 0.29533752 | AA54: ='Graphiques GE'!$B$33 -> 0.29533752 | AB54: =MAX(G54:G55)-MIN(G54:G55) -> 0.17 | AC54: ='Graphiques GE'!$B$46 + 'Graphiques GE'!$B$45 -> 0.37178315 | AD54: ='Graphiques GE'!$B$45 -> 0.14225537 | AE54: ='Graphiques GE'!$B$45 -> 0.14225537 | AF54: =MAX(H54:H55)-MIN(H54:H55) -> 0.08 | AG54: ='Graphiques GE'!$B$58 + 'Graphiques DE'!$B$57 -> 0.53699975 | AH54: ='Graphiques GE'!$B$57 -> 0.20752152 | AI54: ='Graphiques GE'!$B$57 -> 0.20752152 | AJ54: =MAX(I54:I55)-MIN(I54:I55) -> 0.35 | AK54: ='Graphiques GE'!$B$70 + 'Graphiques GE'!$B$69 -> 0.57285755 | AL54: ='Graphiques GE'!$B$69 -> 0.200427 | AM54: ='Graphiques GE'!$B$69 -> 0.200427 | AN54: =MAX(J54:J55)-MIN(J54:J55) -> 0.49 | AO54: ='Graphiques GE'!$B$82 + 'Graphiques GE'!$B$81 -> 0.62056864 | AP54: ='Graphiques GE'!$B$81 -> 0.23019364 | AQ54: ='Graphiques GE'!$B$81 -> 0.23019364 | AR54: =MAX(K54:K55)-MIN(K54:K55) -> 0.46 | AS54: ='Graphiques GE'!$B$94 + 'Graphiques GE'!$B$93 -> 0.73969602 | AT54: ='Graphiques GE'!$B$93 -> 0.25901546 | AU54: ='Graphiques GE'!$B$93 -> 0.25901546 | AV54: =MAX(L54:L55)-MIN(L54:L55) -> 0.49 | AW54: ='Graphiques GE'!$B$106 + 'Graphiques GE'!$B$105 -> 0.8508188 | AX54: ='Graphiques GE'!$B$105 -> 0.28695964 | AY54: ='Graphiques GE'!$B$105 -> 0.28695964 | AZ54: =MAX(M54:M55)-MIN(M54:M55) -> 0.23 | BA54: ='Graphiques GE'!$B$118 + 'Graphiques GE'!$B$117 -> 0.63197043 | BB54: ='Graphiques GE'!$B$117 -> 0.2321371 | BC54: ='Graphiques GE'!$B$117 -> 0.2321371 | BD54: =MAX(N54:N55)-MIN(N54:N55) -> 0.21 | BE54: ='Graphiques GE'!$B$130 + 'Graphiques GE'!$B$129 -> 0.70478713 | BF54: ='Graphiques GE'!$B$129 -> 0.2358288 | BG54: ='Graphiques GE'!$B$129 -> 0.2358288 | BH54: =MAX(O54:O55)-MIN(O54:O55) -> 0.17 | BI54: ='Graphiques GE'!$B$142 + 'Graphiques GE'!$B$141 -> 0.81153767 | BJ54: ='Graphiques GE'!$B$141 -> 0.23391267 | BK54: ='Graphiques GE'!$B$141 -> 0.23391267 | BL54: =MAX(P54:P55)-MIN(P54:P55) -> 0.17 | BM54: ='Graphiques GE'!$B$154 + 'Graphiques DE'!$B$153 -> 0.56607605 | BN54: ='Graphiques GE'!$B$153 -> 0.22173892 | BO54: ='Graphiques GE'!$B$153 -> 0.22173892 | BP54: =MAX(Q54:Q55)-MIN(Q54:Q55) -> 0.16 | BQ54: ='Graphiques GE'!$B$166 + 'Graphiques GE'!$B$165 -> 0.56460144 | BR54: ='Graphiques GE'!$B$165 -> 0.21880977 | BS54: ='Graphiques GE'!$B$165 -> 0.21880977 | BT54: =MAX(R54:R55)-MIN(R54:R55) -> 0.14 | BU54: ='Graphiques GE'!$B$178 + 'Graphiques GE'!$B$177 -> 0.57161199 | BV54: ='Graphiques GE'!$B$177 -> 0.2007231 | BW54: ='Graphiques GE'!$B$177 -> 0.2007231 | BX54: =MAX(S54:S55)-MIN(S54:S55) -> 0.3 | BY54: ='Graphiques GE'!$B$190 + 'Graphiques GE'!$B$189 -> 0.65234199 | BZ54: ='Graphiques GE'!$B$189 -> 0.21467532 | CA54: ='Graphiques GE'!$B$189 -> 0.21467532
A55: 43586 | B55: =ROW()-1 -> 54 | C55: 53030963 | D55: =NA() -> #N/A | E55: 0.28 | F55: 0.66 | G55: 0.08 | H55: 0.2 | I55: 0.25 | J55: 0.27 | K55: 0.44 | L55: 0.59 | M55: 0.29 | N55: 0.41 | O55: 0.5 | P55: 0.36 | Q55: 0.23 | R55: 0.23 | S55: 0.15 | T55: =MAX(E55:E56)-MIN(E55:E56) -> 0.23 | U55: ='Graphiques GE'!$B$22 + 'Graphiques GE'!$B$21 -> 0.28739434 | V55: ='Graphiques GE'!$B$21 -> 0.10722768 | W55: ='Graphiques GE'!$B$21 -> 0.10722768 | X55: =MAX(F55:F56)-MIN(F55:F56) -> 0.19 | Y55: ='Graphiques GE'!$B$34 + 'Graphiques GE'!$B$33 -> 1.0536709 | Z55: ='Graphiques GE'!$B$33 -> 0.29533752 | AA55: ='Graphiques GE'!$B$33 -> 0.29533752 | AB55: =MAX(G55:G56)-MIN(G55:G56) -> 0.3 | AC55: ='Graphiques GE'!$B$46 + 'Graphiques GE'!$B$45 -> 0.37178315 | AD55: ='Graphiques GE'!$B$45 -> 0.14225537 | AE55: ='Graphiques GE'!$B$45 -> 0.14225537 | AF55: =MAX(H55:H56)-MIN(H55:H56) -> 0.45 | AG55: ='Graphiques GE'!$B$58 + 'Graphiques DE'!$B$57 -> 0.53699975 | AH55: ='Graphiques GE'!$B$57 -> 0.20752152 | AI55: ='Graphiques GE'!$B$57 -> 0.20752152 | AJ55: =MAX(I55:I56)-MIN(I55:I56) -> 0.07 | AK55: ='Graphiques GE'!$B$70 + 'Graphiques GE'!$B$69 -> 0.57285755 | AL55: ='Graphiques GE'!$B$69 -> 0.200427 | AM55: ='Graphiques GE'!$B$69 -> 0.200427 | AN55: =MAX(J55:J56)-MIN(J55:J56) -> 0.01 | AO55: ='Graphiques GE'!$B$82 + 'Graphiques GE'!$B$81 -> 0.62056864 | AP55: ='Graphiques GE'!$B$81 -> 0.23019364 | AQ55: ='Graphiques GE'!$B$81 -> 0.23019364 | AR55: =MAX(K55:K56)-MIN(K55:K56) -> 0.07 | AS55: ='Graphiques GE'!$B$94 + 'Graphiques GE'!$B$93 -> 0.73969602 | AT55: ='Graphiques GE'!$B$93 -> 0.25901546 | AU55: ='Graphiques GE'!$B$93 -> 0.25901546 | AV55: =MAX(L55:L56)-MIN(L55:L56) -> 0.17 | AW55: ='Graphiques GE'!$B$106 + 'Graphiques GE'!$B$105 -> 0.8508188 | AX55: ='Graphiques GE'!$B$105 -> 0.28695964 | AY55: ='Graphiques GE'!$B$105 -> 0.28695964 | AZ55: =MAX(M55:M56)-MIN(M55:M56) -> 0.16 | BA55: ='Graphiques GE'!$B$118 + 'Graphiques GE'!$B$117 -> 0.63197043 | BB55: ='Graphiques GE'!$B$117 -> 0.2321371 | BC55: ='Graphiques GE'!$B$117 -> 0.2321371 | BD55: =MAX(N55:N56)-MIN(N55:N56) -> 0.27 | BE55: ='Graphiques GE'!$B$130 + 'Graphiques GE'!$B$129 -> 0.70478713 | BF55: ='Graphiques GE'!$B$129 -> 0.2358288 | BG55: ='Graphiques GE'!$B$129 -> 0.2358288 | BH55: =MAX(O55:O56)-MIN(O55:O56) -> 0.23 | BI55: ='Graphiques GE'!$B$142 + 'Graphiques GE'!$B$141 -> 0.81153767 | BJ55: ='Graphiques GE'!$B$141 -> 0.23391267 | BK55: ='Graphiques GE'!$B$141 -> 0.23391267 | BL55: =MAX(P55:P56)-MIN(P55:P56) -> 0.15 | BM55: ='Graphiques GE'!$B$154 + 'Graphiques DE'!$B$153 -> 0.56607605 | BN55: ='Graphiques GE'!$B$153 -> 0.22173892 | BO55: ='Graphiques GE'!$B$153 -> 0.22173892 | BP55: =MAX(Q55:Q56)-MIN(Q55:Q56) -> 0.16 | BQ55: ='Graphiques GE'!$B$166 + 'Graphiques GE'!$B$165 -> 0.56460144 | BR55: ='Graphiques GE'!$B$165 -> 0.21880977 | BS55: ='Graphiques GE'!$B$165 -> 0.21880977 | BT55: =MAX(R55:R56)-MIN(R55:R56) -> 0.05 | BU55: ='Graphiques GE'!$B$178 + 'Graphiques GE'!$B$177 -> 0.57161199 | BV55: ='Graphiques GE'!$B$177 -> 0.2007231 | BW55: ='Graphiques GE'!$B$177 -> 0.2007231 | BX55: =MAX(S55:S56)-MIN(S55:S56) -> 0.06 | BY55: ='Graphiques GE'!$B$190 + 'Graphiques GE'!$B$189 -> 0.65234199 | BZ55: ='Graphiques GE'!$B$189 -> 0.21467532 | CA55: ='Graphiques GE'!$B$189 -> 0.21467532
A56: 43586 | B56: =ROW()-1 -> 55 | C56: 53030973 | D56: =NA() -> #N/A | E56: 0.05 | F56: 0.47 | G56: 0.38 | H56: 0.65 | I56: 0.32 | J56: 0.26 | K56: 0.37 | L56: 0.42 | M56: 0.13 | N56: 0.14 | O56: 0.27 | P56: 0.51 | Q56: 0.39 | R56: 0.28 | S56: 0.21 | T56: =MAX(E56:E57)-MIN(E56:E57) -> 0.24 | U56: ='Graphiques GE'!$B$22 + 'Graphiques GE'!$B$21 -> 0.28739434 | V56: ='Graphiques GE'!$B$21 -> 0.10722768 | W56: ='Graphiques GE'!$B$21 -> 0.10722768 | X56: =MAX(F56:F57)-MIN(F56:F57) -> 0.87 | Y56: ='Graphiques GE'!$B$34 + 'Graphiques GE'!$B$33 -> 1.0536709 | Z56: ='Graphiques GE'!$B$33 -> 0.29533752 | AA56: ='Graphiques GE'!$B$33 -> 0.29533752 | AB56: =MAX(G56:G57)-MIN(G56:G57) -> 0.03 | AC56: ='Graphiques GE'!$B$46 + 'Graphiques GE'!$B$45 -> 0.37178315 | AD56: ='Graphiques GE'!$B$45 -> 0.14225537 | AE56: ='Graphiques GE'!$B$45 -> 0.14225537 | AF56: =MAX(H56:H57)-MIN(H56:H57) -> 0.08 | AG56: ='Graphiques GE'!$B$58 + 'Graphiques DE'!$B$57 -> 0.53699975 | AH56: ='Graphiques GE'!$B$57 -> 0.20752152 | AI56: ='Graphiques GE'!$B$57 -> 0.20752152 | AJ56: =MAX(I56:I57)-MIN(I56:I57) -> 0.56 | AK56: ='Graphiques GE'!$B$70 + 'Graphiques GE'!$B$69 -> 0.57285755 | AL56: ='Graphiques GE'!$B$69 -> 0.200427 | AM56: ='Graphiques GE'!$B$69 -> 0.200427 | AN56: =MAX(J56:J57)-MIN(J56:J57) -> 0.63 | AO56: ='Graphiques GE'!$B$82 + 'Graphiques GE'!$B$81 -> 0.62056864 | AP56: ='Graphiques GE'!$B$81 -> 0.23019364 | AQ56: ='Graphiques GE'!$B$81 -> 0.23019364 | AR56: =MAX(K56:K57)-MIN(K56:K57) -> 0.69 | AS56: ='Graphiques GE'!$B$94 + 'Graphiques GE'!$B$93 -> 0.73969602 | AT56: ='Graphiques GE'!$B$93 -> 0.25901546 | AU56: ='Graphiques GE'!$B$93 -> 0.25901546 | AV56: =MAX(L56:L57)-MIN(L56:L57) -> 0.78 | AW56: ='Graphiques GE'!$B$106 + 'Graphiques GE'!$B$105 -> 0.8508188 | AX56: ='Graphiques GE'!$B$105 -> 0.28695964 | AY56: ='Graphiques GE'!$B$105 -> 0.28695964 | AZ56: =MAX(M56:M57)-MIN(M56:M57) -> 0.73 | BA56: ='Graphiques GE'!$B$118 + 'Graphiques GE'!$B$117 -> 0.63197043 | BB56: ='Graphiques GE'!$B$117 -> 0.2321371 | BC56: ='Graphiques GE'!$B$117 -> 0.2321371 | BD56: =MAX(N56:N57)-MIN(N56:N57) -> 0.71 | BE56: ='Graphiques GE'!$B$130 + 'Graphiques GE'!$B$129 -> 0.70478713 | BF56: ='Graphiques GE'!$B$129 -> 0.2358288 | BG56: ='Graphiques GE'!$B$129 -> 0.2358288 | BH56: =MAX(O56:O57)-MIN(O56:O57) -> 0.81 | BI56: ='Graphiques GE'!$B$142 + 'Graphiques GE'!$B$141 -> 0.81153767 | BJ56: ='Graphiques GE'!$B$141 -> 0.23391267 | BK56: ='Graphiques GE'!$B$141 -> 0.23391267 | BL56: =MAX(P56:P57)-MIN(P56:P57) -> 0.22 | BM56: ='Graphiques GE'!$B$154 + 'Graphiques DE'!$B$153 -> 0.56607605 | BN56: ='Graphiques GE'!$B$153 -> 0.22173892 | BO56: ='Graphiques GE'!$B$153 -> 0.22173892 | BP56: =MAX(Q56:Q57)-MIN(Q56:Q57) -> 0.11 | BQ56: ='Graphiques GE'!$B$166 + 'Graphiques GE'!$B$165 -> 0.56460144 | BR56: ='Graphiques GE'!$B$165 -> 0.21880977 | BS56: ='Graphiques GE'!$B$165 -> 0.21880977 | BT56: =MAX(R56:R57)-MIN(R56:R57) -> 0.04 | BU56: ='Graphiques GE'!$B$178 + 'Graphiques GE'!$B$177 -> 0.57161199 | BV56: ='Graphiques GE'!$B$177 -> 0.2007231 | BW56: ='Graphiques GE'!$B$177 -> 0.2007231 | BX56: =MAX(S56:S57)-MIN(S56:S57) -> 0.24 | BY56: ='Graphiques GE'!$B$190 + 'Graphiques GE'!$B$189 -> 0.65234199 | BZ56: ='Graphiques GE'!$B$189 -> 0.21467532 | CA56: ='Graphiques GE'!$B$189 -> 0.21467532
A57: 43586 | B57: =ROW()-1 -> 56 | C57: 53036307 | D57: =NA() -> #N/A | E57: 0.29 | F57: 1.34 | G57: 0.35 | H57: 0.73 | I57: 0.88 | J57: 0.89 | K57: 1.06 | L57: 1.2 | M57: 0.86 | N57: 0.85 | O57: 1.08 | P57: 0.29 | Q57: 0.28 | R57: 0.32 | S57: 0.45 | T57: =MAX(E57:E58)-MIN(E57:E58) -> 0.02 | U57: ='Graphiques GE'!$B$22 + 'Graphiques GE'!$B$21 -> 0.28739434 | V57: ='Graphiques GE'!$B$21 -> 0.10722768 | W57: ='Graphiques GE'!$B$21 -> 0.10722768 | X57: =MAX(F57:F58)-MIN(F57:F58) -> 0.12 | Y57: ='Graphiques GE'!$B$34 + 'Graphiques GE'!$B$33 -> 1.0536709 | Z57: ='Graphiques GE'!$B$33 -> 0.29533752 | AA57: ='Graphiques GE'!$B$33 -> 0.29533752 | AB57: =MAX(G57:G58)-MIN(G57:G58) -> 0.342 | AC57: ='Graphiques GE'!$B$46 + 'Graphiques GE'!$B$45 -> 0.37178315 | AD57: ='Graphiques GE'!$B$45 -> 0.14225537 | AE57: ='Graphiques GE'!$B$45 -> 0.14225537 | AF57: =MAX(H57:H58)-MIN(H57:H58) -> 0.54 | AG57: ='Graphiques GE'!$B$58 + 'Graphiques DE'!$B$57 -> 0.53699975 | AH57: ='Graphiques GE'!$B$57 -> 0.20752152 | AI57: ='Graphiques GE'!$B$57 -> 0.20752152 | AJ57: =MAX(I57:I58)-MIN(I57:I58) -> 0.849 | AK57: ='Graphiques GE'!$B$70 + 'Graphiques GE'!$B$69 -> 0.57285755 | AL57: ='Graphiques GE'!$B$69 -> 0.200427 | AM57: ='Graphiques GE'!$B$69 -> 0.200427 | AN57: =MAX(J57:J58)-MIN(J57:J58) -> 0.59 | AO57: ='Graphiques GE'!$B$82 + 'Graphiques GE'!$B$81 -> 0.62056864 | AP57: ='Graphiques GE'!$B$81 -> 0.23019364 | AQ57: ='Graphiques GE'!$B$81 -> 0.23019364 | AR57: =MAX(K57:K58)-MIN(K57:K58) -> 0.68 | AS57: ='Graphiques GE'!$B$94 + 'Graphiques GE'!$B$93 -> 0.73969602 | AT57: ='Graphiques GE'!$B$93 -> 0.25901546 | AU57: ='Graphiques GE'!$B$93 -> 0.25901546 | AV57: =MAX(L57:L58)-MIN(L57:L58) -> 0.68 | AW57: ='Graphiques GE'!$B$106 + 'Graphiques GE'!$B$105 -> 0.8508188 | AX57: ='Graphiques GE'!$B$105 -> 0.28695964 | AY57: ='Graphiques GE'!$B$105 -> 0.28695964 | AZ57: =MAX(M57:M58)-MIN(M57:M58) -> 0.17 | BA57: ='Graphiques GE'!$B$118 + 'Graphiques GE'!$B$117 -> 0.63197043 | BB57: ='Graphiques GE'!$B$117 -> 0.2321371 | BC57: ='Graphiques GE'!$B$117 -> 0.2321371 | BD57: =MAX(N57:N58)-MIN(N57:N58) -> 0.03 | BE57: ='Graphiques GE'!$B$130 + 'Graphiques GE'!$B$129 -> 0.70478713 | BF57: ='Graphiques GE'!$B$129 -> 0.2358288 | BG57: ='Graphiques GE'!$B$129 -> 0.2358288 | BH57: =MAX(O57:O58)-MIN(O57:O58) -> 0.03 | BI57: ='Graphiques GE'!$B$142 + 'Graphiques GE'!$B$141 -> 0.81153767 | BJ57: ='Graphiques GE'!$B$141 -> 0.23391267 | BK57: ='Graphiques GE'!$B$141 -> 0.23391267 | BL57: =MAX(P57:P58)-MIN(P57:P58) -> 0.07 | BM57: ='Graphiques GE'!$B$154 + 'Graphiques DE'!$B$153 -> 0.56607605 | BN57: ='Graphiques GE'!$B$153 -> 0.22173892 | BO57: ='Graphiques GE'!$B$153 -> 0.22173892 | BP57: =MAX(Q57:Q58)-MIN(Q57:Q58) -> 0.12 | BQ57: ='Graphiques GE'!$B$166 + 'Graphiques GE'!$B$165 -> 0.56460144 | BR57: ='Graphiques GE'!$B$165 -> 0.21880977 | BS57: ='Graphiques GE'!$B$165 -> 0.21880977 | BT57: =MAX(R57:R58)-MIN(R57:R58) -> 0.08 | BU57: ='Graphiques GE'!$B$178 + 'Graphiques GE'!$B$177 -> 0.57161199 | BV57: ='Graphiques GE'!$B$177 -> 0.2007231 | BW57: ='Graphiques GE'!$B$177 -> 0.2007231 | BX57: =MAX(S57:S58)-MIN(S57:S58) -> 0.19 | BY57: ='Graphiques GE'!$B$190 + 'Graphiques GE'!$B$189 -> 0.65234199 | BZ57: ='Graphiques GE'!$B$189 -> 0.21467532 | CA57: ='Graphiques GE'!$B$189 -> 0.21467532
A58: 43586 | B58: =ROW()-1 -> 57 | C58: 53039653 | D58: =NA() -> #N/A | E58: 0.27 | F58: 1.22 | G58: 0.008 | H58: 0.19 | I58: 0.031 | J58: 0.3 | K58: 0.38 | L58: 0.52 | M58: 0.69 | N58: 0.88 | O58: 1.05 | P58: 0.22 | Q58: 0.16 | R58: 0.24 | S58: 0.26 | T58: =MAX(E58:E59)-MIN(E58:E59) -> 0.15 | U58: ='Graphiques GE'!$B$22 + 'Graphiques GE'!$B$21 -> 0.28739434 | V58: ='Graphiques GE'!$B$21 -> 0.10722768 | W58: ='Graphiques GE'!$B$21 -> 0.10722768 | X58: =MAX(F58:F59)-MIN(F58:F59) -> 0.55 | Y58: ='Graphiques GE'!$B$34 + 'Graphiques GE'!$B$33 -> 1.0536709 | Z58: ='Graphiques GE'!$B$33 -> 0.29533752 | AA58: ='Graphiques GE'!$B$33 -> 0.29533752 | AB58: =MAX(G58:G59)-MIN(G58:G59) -> 0.022 | AC58: ='Graphiques GE'!$B$46 + 'Graphiques GE'!$B$45 -> 0.37178315 | AD58: ='Graphiques GE'!$B$45 -> 0.14225537 | AE58: ='Graphiques GE'!$B$45 -> 0.14225537 | AF58: =MAX(H58:H59)-MIN(H58:H59) -> 0 | AG58: ='Graphiques GE'!$B$58 + 'Graphiques DE'!$B$57 -> 0.53699975 | AH58: ='Graphiques GE'!$B$57 -> 0.20752152 | AI58: ='Graphiques GE'!$B$57 -> 0.20752152 | AJ58: =MAX(I58:I59)-MIN(I58:I59) -> 0.359 | AK58: ='Graphiques GE'!$B$70 + 'Graphiques GE'!$B$69 -> 0.57285755 | AL58: ='Graphiques GE'!$B$69 -> 0.200427 | AM58: ='Graphiques GE'!$B$69 -> 0.200427 | AN58: =MAX(J58:J59)-MIN(J58:J59) -> 0.18 | AO58: ='Graphiques GE'!$B$82 + 'Graphiques GE'!$B$81 -> 0.62056864 | AP58: ='Graphiques GE'!$B$81 -> 0.23019364 | AQ58: ='Graphiques GE'!$B$81 -> 0.23019364 | AR58: =MAX(K58:K59)-MIN(K58:K59) -> 0.33 | AS58: ='Graphiques GE'!$B$94 + 'Graphiques GE'!$B$93 -> 0.73969602 | AT58: ='Graphiques GE'!$B$93 -> 0.25901546 | AU58: ='Graphiques GE'!$B$93 -> 0.25901546 | AV58: =MAX(L58:L59)-MIN(L58:L59) -> 0.37 | AW58: ='Graphiques GE'!$B$106 + 'Graphiques GE'!$B$105 -> 0.8508188 | AX58: ='Graphiques GE'!$B$105 -> 0.28695964 | AY58: ='Graphiques GE'!$B$105 -> 0.28695964 | AZ58: =MAX(M58:M59)-MIN(M58:M59) -> 0.25 | BA58: ='Graphiques GE'!$B$118 + 'Graphiques GE'!$B$117 -> 0.63197043 | BB58: ='Graphiques GE'!$B$117 -> 0.2321371 | BC58: ='Graphiques GE'!$B$117 -> 0.2321371 | BD58: =MAX(N58:N59)-MIN(N58:N59) -> 0.36 | BE58: ='Graphiques GE'!$B$130 + 'Graphiques GE'!$B$129 -> 0.70478713 | BF58: ='Graphiques GE'!$B$129 -> 0.2358288 | BG58: ='Graphiques GE'!$B$129 -> 0.2358288 | BH58: =MAX(O58:O59)-MIN(O58:O59) -> 0.51 | BI58: ='Graphiques GE'!$B$142 + 'Graphiques GE'!$B$141 -> 0.81153767 | BJ58: ='Graphiques GE'!$B$141 -> 0.23391267 | BK58: ='Graphiques GE'!$B$141 -> 0.23391267 | BL58: =MAX(P58:P59)-MIN(P58:P59) -> 0.1 | BM58: ='Graphiques GE'!$B$154 + 'Graphiques DE'!$B$153 -> 0.56607605 | BN58: ='Graphiques GE'!$B$153 -> 0.22173892 | BO58: ='Graphiques GE'!$B$153 -> 0.22173892 | BP58: =MAX(Q58:Q59)-MIN(Q58:Q59) -> 0.04 | BQ58: ='Graphiques GE'!$B$166 + 'Graphiques GE'!$B$165 -> 0.56460144 | BR58: ='Graphiques GE'!$B$165 -> 0.21880977 | BS58: ='Graphiques GE'!$B$165 -> 0.21880977 | BT58: =MAX(R58:R59)-MIN(R58:R59) -> 0.01 | BU58: ='Graphiques GE'!$B$178 + 'Graphiques GE'!$B$177 -> 0.57161199 | BV58: ='Graphiques GE'!$B$177 -> 0.2007231 | BW58: ='Graphiques GE'!$B$177 -> 0.2007231 | BX58: =MAX(S58:S59)-MIN(S58:S59) -> 0.05 | BY58: ='Graphiques GE'!$B$190 + 'Graphiques GE'!$B$189 -> 0.65234199 | BZ58: ='Graphiques GE'!$B$189 -> 0.21467532 | CA58: ='Graphiques GE'!$B$189 -> 0.21467532
A59: 43586 | B59: =ROW()-1 -> 58 | C59: 53057699 | D59: =NA() -> #N/A | E59: 0.12 | F59: 0.67 | G59: 0.03 | H59: 0.19 | I59: 0.39 | J59: 0.48 | K59: 0.71 | L59: 0.89 | M59: 0.44 | N59: 0.52 | O59: 0.54 | P59: 0.12 | Q59: 0.12 | R59: 0.25 | S59: 0.31 | T59: =MAX(E59:E60)-MIN(E59:E60) -> 0.01 | U59: ='Graphiques GE'!$B$22 + 'Graphiques GE'!$B$21 -> 0.28739434 | V59: ='Graphiques GE'!$B$21 -> 0.10722768 | W59: ='Graphiques GE'!$B$21 -> 0.10722768 | X59: =MAX(F59:F60)-MIN(F59:F60) -> 0.62 | Y59: ='Graphiques GE'!$B$34 + 'Graphiques GE'!$B$33 -> 1.0536709 | Z59: ='Graphiques GE'!$B$33 -> 0.29533752 | AA59: ='Graphiques GE'!$B$33 -> 0.29533752 | AB59: =MAX(G59:G60)-MIN(G59:G60) -> 0.21 | AC59: ='Graphiques GE'!$B$46 + 'Graphiques GE'!$B$45 -> 0.37178315 | AD59: ='Graphiques GE'!$B$45 -> 0.14225537 | AE59: ='Graphiques GE'!$B$45 -> 0.14225537 | AF59: =MAX(H59:H60)-MIN(H59:H60) -> 0.19 | AG59: ='Graphiques GE'!$B$58 + 'Graphiques DE'!$B$57 -> 0.53699975 | AH59: ='Graphiques GE'!$B$57 -> 0.20752152 | AI59: ='Graphiques GE'!$B$57 -> 0.20752152 | AJ59: =MAX(I59:I60)-MIN(I59:I60) -> 0.33 | AK59: ='Graphiques GE'!$B$70 + 'Graphiques GE'!$B$69 -> 0.57285755 | AL59: ='Graphiques GE'!$B$69 -> 0.200427 | AM59: ='Graphiques GE'!$B$69 -> 0.200427 | AN59: =MAX(J59:J60)-MIN(J59:J60) -> 0.33 | AO59: ='Graphiques GE'!$B$82 + 'Graphiques GE'!$B$81 -> 0.62056864 | AP59: ='Graphiques GE'!$B$81 -> 0.23019364 | AQ59: ='Graphiques GE'!$B$81 -> 0.23019364 | AR59: =MAX(K59:K60)-MIN(K59:K60) -> 0.26 | AS59: ='Graphiques GE'!$B$94 + 'Graphiques GE'!$B$93 -> 0.73969602 | AT59: ='Graphiques GE'!$B$93 -> 0.25901546 | AU59: ='Graphiques GE'!$B$93 -> 0.25901546 | AV59: =MAX(L59:L60)-MIN(L59:L60) -> 0.21 | AW59: ='Graphiques GE'!$B$106 + 'Graphiques GE'!$B$105 -> 0.8508188 | AX59: ='Graphiques GE'!$B$105 -> 0.28695964 | AY59: ='Graphiques GE'!$B$105 -> 0.28695964 | AZ59: =MAX(M59:M60)-MIN(M59:M60) -> 0.39 | BA59: ='Graphiques GE'!$B$118 + 'Graphiques GE'!$B$117 -> 0.63197043 | BB59: ='Graphiques GE'!$B$117 -> 0.2321371 | BC59: ='Graphiques GE'!$B$117 -> 0.2321371 | BD59: =MAX(N59:N60)-MIN(N59:N60) -> 0.41 | BE59: ='Graphiques GE'!$B$130 + 'Graphiques GE'!$B$129 -> 0.70478713 | BF59: ='Graphiques GE'!$B$129 -> 0.2358288 | BG59: ='Graphiques GE'!$B$129 -> 0.2358288 | BH59: =MAX(O59:O60)-MIN(O59:O60) -> 0.54 | BI59: ='Graphiques GE'!$B$142 + 'Graphiques GE'!$B$141 -> 0.81153767 | BJ59: ='Graphiques GE'!$B$141 -> 0.23391267 | BK59: ='Graphiques GE'!$B$141 -> 0.23391267 | BL59: =MAX(P59:P60)-MIN(P59:P60) -> 0.02 | BM59: ='Graphiques GE'!$B$154 + 'Graphiques DE'!$B$153 -> 0.56607605 | BN59: ='Graphiques GE'!$B$153 -> 0.22173892 | BO59: ='Graphiques GE'!$B$153 -> 0.22173892 | BP59: =MAX(Q59:Q60)-MIN(Q59:Q60) -> 0.01 | BQ59: ='Graphiques GE'!$B$166 + 'Graphiques GE'!$B$165 -> 0.56460144 | BR59: ='Graphiques GE'!$B$165 -> 0.21880977 | BS59: ='Graphiques GE'!$B$165 -> 0.21880977 | BT59: =MAX(R59:R60)-MIN(R59:R60) -> 0.11 | BU59: ='Graphiques GE'!$B$178 + 'Graphiques GE'!$B$177 -> 0.57161199 | BV59: ='Graphiques GE'!$B$177 -> 0.2007231 | BW59: ='Graphiques GE'!$B$177 -> 0.2007231 | BX59: =MAX(S59:S60)-MIN(S59:S60) -> 0.15 | BY59: ='Graphiques GE'!$B$190 + 'Graphiques GE'!$B$189 -> 0.65234199 | BZ59: ='Graphiques GE'!$B$189 -> 0.21467532 | CA59: ='Graphiques GE'!$B$189 -> 0.21467532
... A63: 43619 | B63: =ROW()-1 -> 62 | C63: 53057703 | D63: =NA() -> #N/A | E63: 0.38 | F63: 1.32 | G63: 0.27 | H63: 0.61 | I63: 0.79 | J63: 0.88 | K63: 0.93 | L63: 1.03 | M63: 0.87 | N63: 0.69 | O63: 0.62 | P63: 0.38 | Q63: 0.29 | R63: 0.4 | S63: 0.51 | T63: =MAX(E63:E64)-MIN(E63:E64) -> 0.08 | U63: ='Graphiques GE'!$B$22 + 'Graphiques GE'!$B$21 -> 0.28739434 | V63: ='Graphiques GE'!$B$21 -> 0.10722768 | W63: ='Graphiques GE'!$B$21 -> 0.10722768 | X63: =MAX(F63:F64)-MIN(F63:F64) -> 0.08 | Y63: ='Graphiques GE'!$B$34 + 'Graphiques GE'!$B$33 -> 1.0536709 | Z63: ='Graphiques GE'!$B$33 -> 0.29533752 | AA63: ='Graphiques GE'!$B$33 -> 0.29533752 | AB63: =MAX(G63:G64)-MIN(G63:G64) -> 0.07 | AC63: ='Graphiques GE'!$B$46 + 'Graphiques GE'!$B$45 -> 0.37178315 | AD63: ='Graphiques GE'!$B$45 -> 0.14225537 | AE63: ='Graphiques GE'!$B$45 -> 0.14225537 | AF63: =MAX(H63:H64)-MIN(H63:H64) -> 0.2 | AG63: ='Graphiques GE'!$B$58 + 'Graphiques DE'!$B$57 -> 0.53699975 | AH63: ='Graphiques GE'!$B$57 -> 0.20752152 | AI63: ='Graphiques GE'!$B$57 -> 0.20752152 | AJ63: =MAX(I63:I64)-MIN(I63:I64) -> 0.5 | AK63: ='Graphiques GE'!$B$70 + 'Graphiques GE'!$B$69 -> 0.57285755 | AL63: ='Graphiques GE'!$B$69 -> 0.200427 | AM63: ='Graphiques GE'!$B$69 -> 0.200427 | AN63: =MAX(J63:J64)-MIN(J63:J64) -> 0.53 | AO63: ='Graphiques GE'!$B$82 + 'Graphiques GE'!$B$81 -> 0.62056864 | AP63: ='Graphiques GE'!$B$81 -> 0.23019364 | AQ63: ='Graphiques GE'!$B$81 -> 0.23019364 | AR63: =MAX(K63:K64)-MIN(K63:K64) -> 0.47 | AS63: ='Graphiques GE'!$B$94 + 'Graphiques GE'!$B$93 -> 0.73969602 | AT63: ='Graphiques GE'!$B$93 -> 0.25901546 | AU63: ='Graphiques GE'!$B$93 -> 0.25901546 | AV63: =MAX(L63:L64)-MIN(L63:L64) -> 0.43 | AW63: ='Graphiques GE'!$B$106 + 'Graphiques GE'!$B$105 -> 0.8508188 | AX63: ='Graphiques GE'!$B$105 -> 0.28695964 | AY63: ='Graphiques GE'!$B$105 -> 0.28695964 | AZ63: =MAX(M63:M64)-MIN(M63:M64) -> 0.1 | BA63: ='Graphiques GE'!$B$118 + 'Graphiques GE'!$B$117 -> 0.63197043 | BB63: ='Graphiques GE'!$B$117 -> 0.2321371 | BC63: ='Graphiques GE'!$B$117 -> 0.2321371 | BD63: =MAX(N63:N64)-MIN(N63:N64) -> 0.36 | BE63: ='Graphiques GE'!$B$130 + 'Graphiques GE'!$B$129 -> 0.70478713 | BF63: ='Graphiques GE'!$B$129 -> 0.2358288 | BG63: ='Graphiques GE'!$B$129 -> 0.2358288 | BH63: =MAX(O63:O64)-MIN(O63:O64) -> 0.43 | BI63: ='Graphiques GE'!$B$142 + 'Graphiques GE'!$B$141 -> 0.81153767 | BJ63: ='Graphiques GE'!$B$141 -> 0.23391267 | BK63: ='Graphiques GE'!$B$141 -> 0.23391267 | BL63: =MAX(P63:P64)-MIN(P63:P64) -> 0 | BM63: ='Graphiques GE'!$B$154 + 'Graphiques DE'!$B$153 -> 0.56607605 | BN63: ='Graphiques GE'!$B$153 -> 0.22173892 | BO63: ='Graphiques GE'!$B$153 -> 0.22173892 | BP63: =MAX(Q63:Q64)-MIN(Q63:Q64) -> 0 | BQ63: ='Graphiques GE'!$B$166 + 'Graphiques GE'!$B$165 -> 0.56460144 | BR63: ='Graphiques GE'!$B$165 -> 0.21880977 | BS63: ='Graphiques GE'!$B$165 -> 0.21880977 | BT63: =MAX(R63:R64)-MIN(R63:R64) -> 0.13 | BU63: ='Graphiques GE'!$B$178 + 'Graphiques GE'!$B$177 -> 0.57161199 | BV63: ='Graphiques GE'!$B$177 -> 0.2007231 | BW63: ='Graphiques GE'!$B$177 -> 0.2007231 | BX63: =MAX(S63:S64)-MIN(S63:S64) -> 0.26 | BY63: ='Graphiques GE'!$B$190 + 'Graphiques GE'!$B$189 -> 0.65234199 | BZ63: ='Graphiques GE'!$B$189 -> 0.21467532 | CA63: ='Graphiques GE'!$B$189 -> 0.21467532
A64: 43619 | B64: =ROW()-1 -> 63 | C64: 53064437 | D64: =NA() -> #N/A | E64: 0.3 | F64: 1.24 | G64: 0.34 | H64: 0.41 | I64: 0.29 | J64: 0.35 | K64: 0.46 | L64: 0.6 | M64: 0.77 | N64: 1.05 | O64: 1.05 | P64: 0.38 | Q64: 0.29 | R64: 0.27 | S64: 0.25 | T64: =MAX(E64:E64)-MIN(E64:E64) -> 0 | U64: ='Graphiques GE'!$B$22 + 'Graphiques GE'!$B$21 -> 0.28739434 | V64: ='Graphiques GE'!$B$21 -> 0.10722768 | W64: ='Graphiques GE'!$B$21 -> 0.10722768 | X64: =MAX(F64:F64)-MIN(F64:F64) -> 0 | Y64: ='Graphiques GE'!$B$34 + 'Graphiques GE'!$B$33 -> 1.0536709 | Z64: ='Graphiques GE'!$B$33 -> 0.29533752 | AA64: ='Graphiques GE'!$B$33 -> 0.29533752 | AB64: =MAX(G64:G64)-MIN(G64:G64) -> 0 | AC64: ='Graphiques GE'!$B$46 + 'Graphiques GE'!$B$45 -> 0.37178315 | AD64: ='Graphiques GE'!$B$45 -> 0.14225537 | AE64: ='Graphiques GE'!$B$45 -> 0.14225537 | AF64: =MAX(H64:H64)-MIN(H64:H64) -> 0 | AG64: ='Graphiques GE'!$B$58 + 'Graphiques DE'!$B$57 -> 0.53699975 | AH64: ='Graphiques GE'!$B$57 -> 0.20752152 | AI64: ='Graphiques GE'!$B$57 -> 0.20752152 | AJ64: =MAX(I64:I64)-MIN(I64:I64) -> 0 | AK64: ='Graphiques GE'!$B$70 + 'Graphiques GE'!$B$69 -> 0.57285755 | AL64: ='Graphiques GE'!$B$69 -> 0.200427 | AM64: ='Graphiques GE'!$B$69 -> 0.200427 | AN64: =MAX(J64:J64)-MIN(J64:J64) -> 0 | AO64: ='Graphiques GE'!$B$82 + 'Graphiques GE'!$B$81 -> 0.62056864 | AP64: ='Graphiques GE'!$B$81 -> 0.23019364 | AQ64: ='Graphiques GE'!$B$81 -> 0.23019364 | AR64: =MAX(K64:K64)-MIN(K64:K64) -> 0 | AS64: ='Graphiques GE'!$B$94 + 'Graphiques GE'!$B$93 -> 0.73969602 | AT64: ='Graphiques GE'!$B$93 -> 0.25901546 | AU64: ='Graphiques GE'!$B$93 -> 0.25901546 | AV64: =MAX(L64:L64)-MIN(L64:L64) -> 0 | AW64: ='Graphiques GE'!$B$106 + 'Graphiques GE'!$B$105 -> 0.8508188 | AX64: ='Graphiques GE'!$B$105 -> 0.28695964 | AY64: ='Graphiques GE'!$B$105 -> 0.28695964 | AZ64: =MAX(M64:M64)-MIN(M64:M64) -> 0 | BA64: ='Graphiques GE'!$B$118 + 'Graphiques GE'!$B$117 -> 0.63197043 | BB64: ='Graphiques GE'!$B$117 -> 0.2321371 | BC64: ='Graphiques GE'!$B$117 -> 0.2321371 | BD64: =MAX(N64:N64)-MIN(N64:N64) -> 0 | BE64: ='Graphiques GE'!$B$130 + 'Graphiques GE'!$B$129 -> 0.70478713 | BF64: ='Graphiques GE'!$B$129 -> 0.2358288 | BG64: ='Graphiques GE'!$B$129 -> 0.2358288 | BH64: =MAX(O64:O64)-MIN(O64:O64) -> 0 | BI64: ='Graphiques GE'!$B$142 + 'Graphiques GE'!$B$141 -> 0.81153767 | BJ64: ='Graphiques GE'!$B$141 -> 0.23391267 | BK64: ='Graphiques GE'!$B$141 -> 0.23391267 | BL64: =MAX(P64:P64)-MIN(P64:P64) -> 0 | BM64: ='Graphiques GE'!$B$154 + 'Graphiques DE'!$B$153 -> 0.56607605 | BN64: ='Graphiques GE'!$B$153 -> 0.22173892 | BO64: ='Graphiques GE'!$B$153 -> 0.22173892 | BP64: =MAX(Q64:Q64)-MIN(Q64:Q64) -> 0 | BQ64: ='Graphiques GE'!$B$166 + 'Graphiques GE'!$B$165 -> 0.56460144 | BR64: ='Graphiques GE'!$B$165 -> 0.21880977 | BS64: ='Graphiques GE'!$B$165 -> 0.21880977 | BT64: =MAX(R64:R64)-MIN(R64:R64) -> 0 | BU64: ='Graphiques GE'!$B$178 + 'Graphiques GE'!$B$177 -> 0.57161199 | BV64: ='Graphiques GE'!$B$177 -> 0.2007231 | BW64: ='Graphiques GE'!$B$177 -> 0.2007231 | BX64: =MAX(S64:S64)-MIN(S64:S64) -> 0 | BY64: ='Graphiques GE'!$B$190 + 'Graphiques GE'!$B$189 -> 0.65234199 | BZ64: ='Graphiques GE'!$B$189 -> 0.21467532 | CA64: ='Graphiques GE'!$B$189 -> 0.21467532
A65: 43630 | B65: =ROW()-1 -> 64 | C65: 53078456 | D65: =NA() -> #N/A | E65: 0.19 | F65: 0.89 | G65: 0.27 | H65: 0.37 | I65: 0.25 | J65: 0.26 | K65: 0.29 | L65: 0.35 | M65: 0.46 | N65: 0.58 | O65: 0.57 | P65: 0.91 | Q65: 0.93 | R65: 0.94 | S65: 0.78 | T65: =MAX(E65:E66)-MIN(E65:E66) -> 0.11 | U65: ='Graphiques GE'!$B$22 + 'Graphiques GE'!$B$21 -> 0.28739434 | V65: ='Graphiques GE'!$B$21 -> 0.10722768 | W65: ='Graphiques GE'!$B$21 -> 0.10722768 | X65: =MAX(F65:F66)-MIN(F65:F66) -> 0.13 | Y65: ='Graphiques GE'!$B$34 + 'Graphiques GE'!$B$33 -> 1.0536709 | Z65: ='Graphiques GE'!$B$33 -> 0.29533752 | AA65: ='Graphiques GE'!$B$33 -> 0.29533752 | AB65: =MAX(G65:G66)-MIN(G65:G66) -> 0.16 | AC65: ='Graphiques GE'!$B$46 + 'Graphiques GE'!$B$45 -> 0.37178315 | AD65: ='Graphiques GE'!$B$45 -> 0.14225537 | AE65: ='Graphiques GE'!$B$45 -> 0.14225537 | AF65: =MAX(H65:H66)-MIN(H65:H66) -> 0.08 | AG65: ='Graphiques GE'!$B$58 + 'Graphiques DE'!$B$57 -> 0.53699975 | AH65: ='Graphiques GE'!$B$57 -> 0.20752152 | AI65: ='Graphiques GE'!$B$57 -> 0.20752152 | AJ65: =MAX(I65:I66)-MIN(I65:I66) -> 0.1 | AK65: ='Graphiques GE'!$B$70 + 'Graphiques GE'!$B$69 -> 0.57285755 | AL65: ='Graphiques GE'!$B$69 -> 0.200427 | AM65: ='Graphiques GE'!$B$69 -> 0.200427 | AN65: =MAX(J65:J66)-MIN(J65:J66) -> 0.01 | AO65: ='Graphiques GE'!$B$82 + 'Graphiques GE'!$B$81 -> 0.62056864 | AP65: ='Graphiques GE'!$B$81 -> 0.23019364 | AQ65: ='Graphiques GE'!$B$81 -> 0.23019364 | AR65: =MAX(K65:K66)-MIN(K65:K66) -> 0.07 | AS65: ='Graphiques GE'!$B$94 + 'Graphiques GE'!$B$93 -> 0.73969602 | AT65: ='Graphiques GE'!$B$93 -> 0.25901546 | AU65: ='Graphiques GE'!$B$93 -> 0.25901546 | AV65: =MAX(L65:L66)-MIN(L65:L66) -> 0.15 | AW65: ='Graphiques GE'!$B$106 + 'Graphiques GE'!$B$105 -> 0.8508188 | AX65: ='Graphiques GE'!$B$105 -> 0.28695964 | AY65: ='Graphiques GE'!$B$105 -> 0.28695964 | AZ65: =MAX(M65:M66)-MIN(M65:M66) -> 0.1 | BA65: ='Graphiques GE'!$B$118 + 'Graphiques GE'!$B$117 -> 0.63197043 | BB65: ='Graphiques GE'!$B$117 -> 0.2321371 | BC65: ='Graphiques GE'!$B$117 -> 0.2321371 | BD65: =MAX(N65:N66)-MIN(N65:N66) -> 0.12 | BE65: ='Graphiques GE'!$B$130 + 'Graphiques GE'!$B$129 -> 0.70478713 | BF65: ='Graphiques GE'!$B$129 -> 0.2358288 | BG65: ='Graphiques GE'!$B$129 -> 0.2358288 | BH65: =MAX(O65:O66)-MIN(O65:O66) -> 0.19 | BI65: ='Graphiques GE'!$B$142 + 'Graphiques GE'!$B$141 -> 0.81153767 | BJ65: ='Graphiques GE'!$B$141 -> 0.23391267 | BK65: ='Graphiques GE'!$B$141 -> 0.23391267 | BL65: =MAX(P65:P66)-MIN(P65:P66) -> 0.12 | BM65: ='Graphiques GE'!$B$154 + 'Graphiques DE'!$B$153 -> 0.56607605 | BN65: ='Graphiques GE'!$B$153 -> 0.22173892 | BO65: ='Graphiques GE'!$B$153 -> 0.22173892 | BP65: =MAX(Q65:Q66)-MIN(Q65:Q66) -> 0.22 | BQ65: ='Graphiques GE'!$B$166 + 'Graphiques GE'!$B$165 -> 0.56460144 | BR65: ='Graphiques GE'!$B$165 -> 0.21880977 | BS65: ='Graphiques GE'!$B$165 -> 0.21880977 | BT65: =MAX(R65:R66)-MIN(R65:R66) -> 0.24 | BU65: ='Graphiques GE'!$B$178 + 'Graphiques GE'!$B$177 -> 0.57161199 | BV65: ='Graphiques GE'!$B$177 -> 0.2007231 | BW65: ='Graphiques GE'!$B$177 -> 0.2007231 | BX65: =MAX(S65:S66)-MIN(S65:S66) -> 0 | BY65: ='Graphiques GE'!$B$190 + 'Graphiques GE'!$B$189 -> 0.65234199 | BZ65: ='Graphiques GE'!$B$189 -> 0.21467532 | CA65: ='Graphiques GE'!$B$189 -> 0.21467532
A66: 43633 | B66: =ROW()-1 -> 65 | C66: 53084911 | D66: =NA() -> #N/A | E66: 0.3 | F66: 1.02 | G66: 0.43 | H66: 0.45 | I66: 0.35 | J66: 0.27 | K66: 0.22 | L66: 0.2 | M66: 0.56 | N66: 0.7 | O66: 0.76 | P66: 0.79 | Q66: 0.71 | R66: 0.7 | S66: 0.78 | T66: =MAX(E66:E67)-MIN(E66:E67) -> 0.05 | U66: ='Graphiques GE'!$B$22 + 'Graphiques GE'!$B$21 -> 0.28739434 | V66: ='Graphiques GE'!$B$21 -> 0.10722768 | W66: ='Graphiques GE'!$B$21 -> 0.10722768 | X66: =MAX(F66:F67)-MIN(F66:F67) -> 0.61 | Y66: ='Graphiques GE'!$B$34 + 'Graphiques GE'!$B$33 -> 1.0536709 | Z66: ='Graphiques GE'!$B$33 -> 0.29533752 | AA66: ='Graphiques GE'!$B$33 -> 0.29533752 | AB66: =MAX(G66:G67)-MIN(G66:G67) -> 0.02 | AC66: ='Graphiques GE'!$B$46 + 'Graphiques GE'!$B$45 -> 0.37178315 | AD66: ='Graphiques GE'!$B$45 -> 0.14225537 | AE66: ='Graphiques GE'!$B$45 -> 0.14225537 | AF66: =MAX(H66:H67)-MIN(H66:H67) -> 0.1 | AG66: ='Graphiques GE'!$B$58 + 'Graphiques DE'!$B$57 -> 0.53699975 | AH66: ='Graphiques GE'!$B$57 -> 0.20752152 | AI66: ='Graphiques GE'!$B$57 -> 0.20752152 | AJ66: =MAX(I66:I67)-MIN(I66:I67) -> 0.24 | AK66: ='Graphiques GE'!$B$70 + 'Graphiques GE'!$B$69 -> 0.57285755 | AL66: ='Graphiques GE'!$B$69 -> 0.200427 | AM66: ='Graphiques GE'!$B$69 -> 0.200427 | AN66: =MAX(J66:J67)-MIN(J66:J67) -> 0.19 | AO66: ='Graphiques GE'!$B$82 + 'Graphiques GE'!$B$81 -> 0.62056864 | AP66: ='Graphiques GE'!$B$81 -> 0.23019364 | AQ66: ='Graphiques GE'!$B$81 -> 0.23019364 | AR66: =MAX(K66:K67)-MIN(K66:K67) -> 0.1 | AS66: ='Graphiques GE'!$B$94 + 'Graphiques GE'!$B$93 -> 0.73969602 | AT66: ='Graphiques GE'!$B$93 -> 0.25901546 | AU66: ='Graphiques GE'!$B$93 -> 0.25901546 | AV66: =MAX(L66:L67)-MIN(L66:L67) -> 0.01 | AW66: ='Graphiques GE'!$B$106 + 'Graphiques GE'!$B$105 -> 0.8508188 | AX66: ='Graphiques GE'!$B$105 -> 0.28695964 | AY66: ='Graphiques GE'!$B$105 -> 0.28695964 | AZ66: =MAX(M66:M67)-MIN(M66:M67) -> 0.17 | BA66: ='Graphiques GE'!$B$118 + 'Graphiques GE'!$B$117 -> 0.63197043 | BB66: ='Graphiques GE'!$B$117 -> 0.2321371 | BC66: ='Graphiques GE'!$B$117 -> 0.2321371 | BD66: =MAX(N66:N67)-MIN(N66:N67) -> 0.29 | BE66: ='Graphiques GE'!$B$130 + 'Graphiques GE'!$B$129 -> 0.70478713 | BF66: ='Graphiques GE'!$B$129 -> 0.2358288 | BG66: ='Graphiques GE'!$B$129 -> 0.2358288 | BH66: =MAX(O66:O67)-MIN(O66:O67) -> 0.34 | BI66: ='Graphiques GE'!$B$142 + 'Graphiques GE'!$B$141 -> 0.81153767 | BJ66: ='Graphiques GE'!$B$141 -> 0.23391267 | BK66: ='Graphiques GE'!$B$141 -> 0.23391267 | BL66: =MAX(P66:P67)-MIN(P66:P67) -> 0.11 | BM66: ='Graphiques GE'!$B$154 + 'Graphiques DE'!$B$153 -> 0.56607605 | BN66: ='Graphiques GE'!$B$153 -> 0.22173892 | BO66: ='Graphiques GE'!$B$153 -> 0.22173892 | BP66: =MAX(Q66:Q67)-MIN(Q66:Q67) -> 0.26 | BQ66: ='Graphiques GE'!$B$166 + 'Graphiques GE'!$B$165 -> 0.56460144 | BR66: ='Graphiques GE'!$B$165 -> 0.21880977 | BS66: ='Graphiques GE'!$B$165 -> 0.21880977 | BT66: =MAX(R66:R67)-MIN(R66:R67) -> 0.21 | BU66: ='Graphiques GE'!$B$178 + 'Graphiques GE'!$B$177 -> 0.57161199 | BV66: ='Graphiques GE'!$B$177 -> 0.2007231 | BW66: ='Graphiques GE'!$B$177 -> 0.2007231 | BX66: =MAX(S66:S67)-MIN(S66:S67) -> 0.17 | BY66: ='Graphiques GE'!$B$190 + 'Graphiques GE'!$B$189 -> 0.65234199 | BZ66: ='Graphiques GE'!$B$189 -> 0.21467532 | CA66: ='Graphiques GE'!$B$189 -> 0.21467532
A67: 43636 | B67: =ROW()-1 -> 66 | C67: 53093702 | D67: =NA() -> #N/A | E67: 0.35 | F67: 0.41 | G67: 0.41 | H67: 0.55 | I67: 0.59 | J67: 0.46 | K67: 0.32 | L67: 0.21 | M67: 0.39 | N67: 0.41 | O67: 0.42 | P67: 0.9 | Q67: 0.97 | R67: 0.91 | S67: 0.95 | T67: =MAX(E67:E68)-MIN(E67:E68) -> 0.03 | U67: ='Graphiques GE'!$B$22 + 'Graphiques GE'!$B$21 -> 0.28739434 | V67: ='Graphiques GE'!$B$21 -> 0.10722768 | W67: ='Graphiques GE'!$B$21 -> 0.10722768 | X67: =MAX(F67:F68)-MIN(F67:F68) -> 0.52 | Y67: ='Graphiques GE'!$B$34 + 'Graphiques GE'!$B$33 -> 1.0536709 | Z67: ='Graphiques GE'!$B$33 -> 0.29533752 | AA67: ='Graphiques GE'!$B$33 -> 0.29533752 | AB67: =MAX(G67:G68)-MIN(G67:G68) -> 0.28 | AC67: ='Graphiques GE'!$B$46 + 'Graphiques GE'!$B$45 -> 0.37178315 | AD67: ='Graphiques GE'!$B$45 -> 0.14225537 | AE67: ='Graphiques GE'!$B$45 -> 0.14225537 | AF67: =MAX(H67:H68)-MIN(H67:H68) -> 0.16 | AG67: ='Graphiques GE'!$B$58 + 'Graphiques DE'!$B$57 -> 0.53699975 | AH67: ='Graphiques GE'!$B$57 -> 0.20752152 | AI67: ='Graphiques GE'!$B$57 -> 0.20752152 | AJ67: =MAX(I67:I68)-MIN(I67:I68) -> 0.25 | AK67: ='Graphiques GE'!$B$70 + 'Graphiques GE'!$B$69 -> 0.57285755 | AL67: ='Graphiques GE'!$B$69 -> 0.200427 | AM67: ='Graphiques GE'!$B$69 -> 0.200427 | AN67: =MAX(J67:J68)-MIN(J67:J68) -> 0.02 | AO67: ='Graphiques GE'!$B$82 + 'Graphiques GE'!$B$81 -> 0.62056864 | AP67: ='Graphiques GE'!$B$81 -> 0.23019364 | AQ67: ='Graphiques GE'!$B$81 -> 0.23019364 | AR67: =MAX(K67:K68)-MIN(K67:K68) -> 0.14 | AS67: ='Graphiques GE'!$B$94 + 'Graphiques GE'!$B$93 -> 0.73969602 | AT67: ='Graphiques GE'!$B$93 -> 0.25901546 | AU67: ='Graphiques GE'!$B$93 -> 0.25901546 | AV67: =MAX(L67:L68)-MIN(L67:L68) -> 0.32 | AW67: ='Graphiques GE'!$B$106 + 'Graphiques GE'!$B$105 -> 0.8508188 | AX67: ='Graphiques GE'!$B$105 -> 0.28695964 | AY67: ='Graphiques GE'!$B$105 -> 0.28695964 | AZ67: =MAX(M67:M68)-MIN(M67:M68) -> 0.05 | BA67: ='Graphiques GE'!$B$118 + 'Graphiques GE'!$B$117 -> 0.63197043 | BB67: ='Graphiques GE'!$B$117 -> 0.2321371 | BC67: ='Graphiques GE'!$B$117 -> 0.2321371 | BD67: =MAX(N67:N68)-MIN(N67:N68) -> 0.13 | BE67: ='Graphiques GE'!$B$130 + 'Graphiques GE'!$B$129 -> 0.70478713 | BF67: ='Graphiques GE'!$B$129 -> 0.2358288 | BG67: ='Graphiques GE'!$B$129 -> 0.2358288 | BH67: =MAX(O67:O68)-MIN(O67:O68) -> 0.25 | BI67: ='Graphiques GE'!$B$142 + 'Graphiques GE'!$B$141 -> 0.81153767 | BJ67: ='Graphiques GE'!$B$141 -> 0.23391267 | BK67: ='Graphiques GE'!$B$141 -> 0.23391267 | BL67: =MAX(P67:P68)-MIN(P67:P68) -> 0.82 | BM67: ='Graphiques GE'!$B$154 + 'Graphiques DE'!$B$153 -> 0.56607605 | BN67: ='Graphiques GE'!$B$153 -> 0.22173892 | BO67: ='Graphiques GE'!$B$153 -> 0.22173892 | BP67: =MAX(Q67:Q68)-MIN(Q67:Q68) -> 0.83 | BQ67: ='Graphiques GE'!$B$166 + 'Graphiques GE'!$B$165 -> 0.56460144 | BR67: ='Graphiques GE'!$B$165 -> 0.21880977 | BS67: ='Graphiques GE'!$B$165 -> 0.21880977 | BT67: =MAX(R67:R68)-MIN(R67:R68) -> 0.63 | BU67: ='Graphiques GE'!$B$178 + 'Graphiques GE'!$B$177 -> 0.57161199 | BV67: ='Graphiques GE'!$B$177 -> 0.2007231 | BW67: ='Graphiques GE'!$B$177 -> 0.2007231 | BX67: =MAX(S67:S68)-MIN(S67:S68) -> 0.54 | BY67: ='Graphiques GE'!$B$190 + 'Graphiques GE'!$B$189 -> 0.65234199 | BZ67: ='Graphiques GE'!$B$189 -> 0.21467532 | CA67: ='Graphiques GE'!$B$189 -> 0.21467532
A68: 43636 | B68: =ROW()-1 -> 67 | C68: 53071968 | D68: =NA() -> #N/A | E68: 0.32 | F68: 0.93 | G68: 0.13 | H68: 0.39 | I68: 0.34 | J68: 0.48 | K68: 0.46 | L68: 0.53 | M68: 0.44 | N68: 0.54 | O68: 0.67 | P68: 0.08 | Q68: 0.14 | R68: 0.28 | S68: 0.41 | T68: =MAX(E68:E69)-MIN(E68:E69) -> 0.01 | U68: ='Graphiques GE'!$B$22 + 'Graphiques GE'!$B$21 -> 0.28739434 | V68: ='Graphiques GE'!$B$21 -> 0.10722768 | W68: ='Graphiques GE'!$B$21 -> 0.10722768 | X68: =MAX(F68:F69)-MIN(F68:F69) -> 0.09 | Y68: ='Graphiques GE'!$B$34 + 'Graphiques GE'!$B$33 -> 1.0536709 | Z68: ='Graphiques GE'!$B$33 -> 0.29533752 | AA68: ='Graphiques GE'!$B$33 -> 0.29533752 | AB68: =MAX(G68:G69)-MIN(G68:G69) -> 0.28 | AC68: ='Graphiques GE'!$B$46 + 'Graphiques GE'!$B$45 -> 0.37178315 | AD68: ='Graphiques GE'!$B$45 -> 0.14225537 | AE68: ='Graphiques GE'!$B$45 -> 0.14225537 | AF68: =MAX(H68:H69)-MIN(H68:H69) -> 0.27 | AG68: ='Graphiques GE'!$B$58 + 'Graphiques DE'!$B$57 -> 0.53699975 | AH68: ='Graphiques GE'!$B$57 -> 0.20752152 | AI68: ='Graphiques GE'!$B$57 -> 0.20752152 | AJ68: =MAX(I68:I69)-MIN(I68:I69) -> 0.43 | AK68: ='Graphiques GE'!$B$70 + 'Graphiques GE'!$B$69 -> 0.57285755 | AL68: ='Graphiques GE'!$B$69 -> 0.200427 | AM68: ='Graphiques GE'!$B$69 -> 0.200427 | AN68: =MAX(J68:J69)-MIN(J68:J69) -> 0.31 | AO68: ='Graphiques GE'!$B$82 + 'Graphiques GE'!$B$81 -> 0.62056864 | AP68: ='Graphiques GE'!$B$81 -> 0.23019364 | AQ68: ='Graphiques GE'!$B$81 -> 0.23019364 | AR68: =MAX(K68:K69)-MIN(K68:K69) -> 0.42 | AS68: ='Graphiques GE'!$B$94 + 'Graphiques GE'!$B$93 -> 0.73969602 | AT68: ='Graphiques GE'!$B$93 -> 0.25901546 | AU68: ='Graphiques GE'!$B$93 -> 0.25901546 | AV68: =MAX(L68:L69)-MIN(L68:L69) -> 0.42 | AW68: ='Graphiques GE'!$B$106 + 'Graphiques GE'!$B$105 -> 0.8508188 | AX68: ='Graphiques GE'!$B$105 -> 0.28695964 | AY68: ='Graphiques GE'!$B$105 -> 0.28695964 | AZ68: =MAX(M68:M69)-MIN(M68:M69) -> 0.32 | BA68: ='Graphiques GE'!$B$118 + 'Graphiques GE'!$B$117 -> 0.63197043 | BB68: ='Graphiques GE'!$B$117 -> 0.2321371 | BC68: ='Graphiques GE'!$B$117 -> 0.2321371 | BD68: =MAX(N68:N69)-MIN(N68:N69) -> 0.27 | BE68: ='Graphiques GE'!$B$130 + 'Graphiques GE'!$B$129 -> 0.70478713 | BF68: ='Graphiques GE'!$B$129 -> 0.2358288 | BG68: ='Graphiques GE'!$B$129 -> 0.2358288 | BH68: =MAX(O68:O69)-MIN(O68:O69) -> 0.23 | BI68: ='Graphiques GE'!$B$142 + 'Graphiques GE'!$B$141 -> 0.81153767 | BJ68: ='Graphiques GE'!$B$141 -> 0.23391267 | BK68: ='Graphiques GE'!$B$141 -> 0.23391267 | BL68: =MAX(P68:P69)-MIN(P68:P69) -> 0.52 | BM68: ='Graphiques GE'!$B$154 + 'Graphiques DE'!$B$153 -> 0.56607605 | BN68: ='Graphiques GE'!$B$153 -> 0.22173892 | BO68: ='Graphiques GE'!$B$153 -> 0.22173892 | BP68: =MAX(Q68:Q69)-MIN(Q68:Q69) -> 0.48 | BQ68: ='Graphiques GE'!$B$166 + 'Graphiques GE'!$B$165 -> 0.56460144 | BR68: ='Graphiques GE'!$B$165 -> 0.21880977 | BS68: ='Graphiques GE'!$B$165 -> 0.21880977 | BT68: =MAX(R68:R69)-MIN(R68:R69) -> 0.39 | BU68: ='Graphiques GE'!$B$178 + 'Graphiques GE'!$B$177 -> 0.57161199 | BV68: ='Graphiques GE'!$B$177 -> 0.2007231 | BW68: ='Graphiques GE'!$B$177 -> 0.2007231 | BX68: =MAX(S68:S69)-MIN(S68:S69) -> 0.34 | BY68: ='Graphiques GE'!$B$190 + 'Graphiques GE'!$B$189 -> 0.65234199 | BZ68: ='Graphiques GE'!$B$189 -> 0.21467532 | CA68: ='Graphiques GE'!$B$189 -> 0.21467532
