Workbook

Sheet Graphiques GI
A2: Nombre d'OF depuis le 01/01/2019
A3: =MAX(TableauGI[Ordre pièce]) -> 72
A7: Température
A8: Moyenne | B8: =AVERAGE(TableauGI[Température lors de la mesure (°C)]) -> #N/A
A9: Max | B9: =MAX(TableauGI[Température lors de la mesure (°C)]) -> #N/A
A10: Mini | B10: =MIN(TableauGI[Température lors de la mesure (°C)]) -> #N/A
A18: Cercle P12
A19: Spécification client sup | B19: 0.4
A20: Spécification client inf | B20: 0
A21: Ecart Type (Global) | B21: =_xlfn.STDEV.S(TableauGI[Cercle P12]) -> 0.10756415
A22: Moyenne X̅ | B22: =AVERAGE(TableauGI[Cercle P12]) -> 0.18219444
A23: LCS | B23: =(B22+(2.66*B25)) -> 0.53117167
A24: LCI | B24: =0 -> 0
A25: Moyenne Etendu R̅ | B25: =AVERAGE(TableauGI[Etendu P12]) -> 0.13119444
A26: Pp | B26: =(B19-B20)/(6*B21) -> 0.61978519
A27: Ppk | B27: =MIN((B19-B22)/(3*B21),(B22-B20)/(3*B21)) -> 0.56460709
A30: Cercle P22
A31: Spécification client sup | B31: 1.4
A32: Spécification client inf | B32: 0
A33: Ecart Type (Global) | B33: =_xlfn.STDEV.S(TableauGI[Cercle P22]) -> 0.26672248
A34: Moyenne X̅ | B34: =AVERAGE(TableauGI[Cercle P22]) -> 0.54522222
A35: LCS | B35: =(B34+(2.66*B37)) -> 1.3697114
A36: LCI | B36: =0 -> 0
A37: Moyenne Etendu R̅ | B37: =AVERAGE(TableauGI[Etendu P22]) -> 0.30995833
A38: Pp | B38: =(B31-B32)/(6*B33) -> 0.87481691
A39: Ppk | B39: =MIN((B31-B34)/(3*B33),(B34-B32)/(3*B33)) -> 0.68138517
A42: Cercle P22/L
A43: Spécification client sup | B43: 0.5
A44: Spécification client inf | B44: 0
A45: Ecart Type (Global) | B45: =_xlfn.STDEV.S(TableauGI[Cercle P22/L]) -> 0.12688907
A46: Moyenne X̅ | B46: =AVERAGE(TableauGI[Cercle P22/L]) -> 0.16669444
A47: LCS | B47: =(B46+(2.66*B49)) -> 0.55586722
A48: LCI | B48: =0 -> 0
A49: Moyenne Etendu R̅ | B49: =AVERAGE(TableauGI[Etendu P22/L]) -> 0.14630556
A50: Pp | B50: =(B43-B44)/(6*B45) -> 0.65674164
A51: Ppk | B51: =MIN((B43-B46)/(3*B45),(B46-B44)/(3*B45)) -> 0.43790073
A54: Cercle D1
A55: Spécification client sup | B55: 1.4
A56: Spécification client inf | B56: 0
A57: Ecart Type (Global) | B57: =_xlfn.STDEV.S(TableauGI[cercle D1]) -> 0.16452818
...

Sheet Graphiques GE
A2: Nombre d'OF depuis le 01/01/2019
A3: =MAX(TableauGE[Ordre pièce]) -> 72
A7: Température
A8: Moyenne | B8: =AVERAGE(TableauGE[Température lors de la mesure (°C)]) -> #N/A
A9: Max | B9: =MAX(TableauGE[Température lors de la mesure (°C)]) -> #N/A
A10: Mini | B10: =MIN(TableauGE[Température lors de la mesure (°C)]) -> #N/A
A18: Cercle P11
A19: Spécification client sup | B19: 0.4
A20: Spécification client inf | B20: 0
A21: Ecart Type (Global) | B21: =_xlfn.STDEV.S(TableauGE[Cercle P11]) -> 0.10722768
A22: Moyenne X̅ | B22: =AVERAGE(TableauGE[Cercle P11]) -> 0.18016667
A23: LCS | B23: =(B22+(2.66*B25)) -> 0.45119111
A24: LCI | B24: =0 -> 0
A25: Moyenne Etendu R̅ | B25: =AVERAGE(TableauGE[Etendu P11]) -> 0.10188889
A26: Pp | B26: =(B19-B20)/(6*B21) -> 0.62173003
A27: Ppk | B27: =MIN((B19-B22)/(3*B21),(B22-B20)/(3*B21)) -> 0.56007514
A30: Cercle P21
A31: Spécification client sup | B31: 1.4
A32: Spécification client inf | B32: 0
A33: Ecart Type (Global) | B33: =_xlfn.STDEV.S(TableauGE[Cercle P21]) -> 0.29533752
A34: Moyenne X̅ | B34: =AVERAGE(TableauGE[Cercle P21]) -> 0.75833333
A35: LCS | B35: =(B34+(2.66*B37)) -> 1.4633811
A36: LCI | B36: =0 -> 0
A37: Moyenne Etendu R̅ | B37: =AVERAGE(TableauGE[Etendu P21]) -> 0.26505556
A38: Pp | B38: =(B31-B32)/(6*B33) -> 0.79005651
A39: Ppk | B39: =MIN((B31-B34)/(3*B33),(B34-B32)/(3*B33)) -> 0.72421847
A42: Cercle P21/L
A43: Spécification client sup | B43: 0.5
A44: Spécification client inf | B44: 0
A45: Ecart Type (Global) | B45: =_xlfn.STDEV.S(TableauGE[Cercle P21/L]) -> 0.14225537
A46: Moyenne X̅ | B46: =AVERAGE(TableauGE[Cercle P21/L]) -> 0.22952778
A47: LCS | B47: =(B46+(2.66*B49)) -> 0.68143222
A48: LCI | B48: =0 -> 0
A49: Moyenne Etendu R̅ | B49: =AVERAGE(TableauGE[Etendu P21/L]) -> 0.16988889
A50: Pp | B50: =(B43-B44)/(6*B45) -> 0.58580096
A51: Ppk | B51: =MIN((B43-B46)/(3*B45),(B46-B44)/(3*B45)) -> 0.53783037
A54: Cercle G1
A55: Spécification client sup | B55: 1.4
A56: Spécification client inf | B56: 0
A57: Ecart Type (Global) | B57: =_xlfn.STDEV.S(TableauGE[cercle G1]) -> 0.20752152
...

Sheet Graphiques DE
A2: Nombre d'OF depuis le 01/01/2019
A3: =MAX(TableauDE[Ordre pièce]) -> 74
A7: Température
A8: Moyenne | B8: =AVERAGE(TableauDE[Température lors de la mesure (°C)]) -> #N/A
A9: Max | B9: =MAX(TableauDE[Température lors de la mesure (°C)]) -> #N/A
A10: Mini | B10: =MIN(TableauDE[Température lors de la mesure (°C)]) -> #N/A
A18: Cercle P12
A19: Spécification client sup | B19: 0.4
A20: Spécification client inf | B20: 0
A21: Ecart Type (Global) | B21: =_xlfn.STDEV.S(TableauDE[Cercle P12]) -> 0.095874564
A22: Moyenne X̅ | B22: =AVERAGE(TableauDE[Cercle P12]) -> 0.18928378
A23: LCS | B23: =(B22+(2.66*B25)) -> 0.43058892
A24: LCI | B24: =0 -> 0
A25: Moyenne Etendu R̅ | B25: =AVERAGE(TableauDE[Etendu P12]) -> 0.090716216
A26: Pp | B26: =(B19-B20)/(6*B21) -> 0.69535301
A27: Ppk | B27: =MIN((B19-B22)/(3*B21),(B22-B20)/(3*B21)) -> 0.65809524
A30: Cercle P22
A31: Spécification client sup | B31: 1.4
A32: Spécification client inf | B32: 0
A33: Ecart Type (Global) | B33: =_xlfn.STDEV.S(TableauDE[Cercle P22]) -> 0.20747447
A34: Moyenne X̅ | B34: =AVERAGE(TableauDE[Cercle P22]) -> 0.44404054
A35: LCS | B35: =(B34+(2.66*B37)) -> 0.99225216
A36: LCI | B36: =0 -> 0
A37: Moyenne Etendu R̅ | B37: =AVERAGE(TableauDE[Etendu P22]) -> 0.20609459
A38: Pp | B38: =(B31-B32)/(6*B33) -> 1.1246364
A39: Ppk | B39: =MIN((B31-B34)/(3*B33),(B34-B32)/(3*B33)) -> 0.71340591
A42: Cercle P22/L
A43: Spécification client sup | B43: 0.5
A44: Spécification client inf | B44: 0
A45: Ecart Type (Global) | B45: =_xlfn.STDEV.S(TableauDE[Cercle P22/L]) -> 0.13449975
A46: Moyenne X̅ | B46: =AVERAGE(TableauDE[Cercle P22/L]) -> 0.24681081
A47: LCS | B47: =(B46+(2.66*B49)) -> 0.61439405
A48: LCI | B48: =0 -> 0
A49: Moyenne Etendu R̅ | B49: =AVERAGE(TableauDE[Etendu P22/L]) -> 0.13818919
A50: Pp | B50: =(B43-B44)/(6*B45) -> 0.61957984
A51: Ppk | B51: =MIN((B43-B46)/(3*B45),(B46-B44)/(3*B45)) -> 0.61167601
A54: Cercle D1
A55: Spécification client sup | B55: 1.4
A56: Spécification client inf | B56: 0
A57: Ecart Type (Global) | B57: =_xlfn.STDEV.S(TableauDE[Cercle P22/L]) -> 0.13449975
...

Sheet Graphiques DI
A2: Nombre d'OF depuis le 01/01/2019
A3: =MAX(TableauDI[Ordre pièce]) -> 74
A7: Température
A8: Moyenne | B8: =AVERAGE(TableauDI[Température lors de la mesure (°C)]) -> #N/A
A9: Max | B9: =MAX(TableauDI[Température lors de la mesure (°C)]) -> #N/A
A10: Mini | B10: =MIN(TableauDI[Température lors de la mesure (°C)]) -> #N/A
A18: Cercle P11
A19: Spécification client sup | B19: 0.4
A20: Spécification client inf | B20: 0
A21: Ecart Type (Global) | B21: =_xlfn.STDEV.S(TableauDI[Cercle P11]) -> 0.086366534
A22: Moyenne X̅ | B22: =AVERAGE(TableauDI[Cercle P11]) -> 0.15758108
A23: LCS | B23: =(B22+(2.66*B25)) -> 0.37818135
A24: LCI | B24: =0 -> 0
A25: Moyenne Etendu R̅ | B25: =AVERAGE(TableauDI[Etendu P11]) -> 0.082932432
A26: Pp | B26: =(B19-B20)/(6*B21) -> 0.77190392
A27: Ppk | B27: =MIN((B19-B22)/(3*B21),(B22-B20)/(3*B21)) -> 0.60818727
A30: Cercle P21
A31: Spécification client sup | B31: 1.4
A32: Spécification client inf | B32: 0
A33: Ecart Type (Global) | B33: =_xlfn.STDEV.S(TableauDI[Cercle P21]) -> 0.19746992
A34: Moyenne X̅ | B34: =AVERAGE(TableauDI[Cercle P21]) -> 0.59395946
A35: LCS | B35: =(B34+(2.66*B37)) -> 1.1909138
A36: LCI | B36: =0 -> 0
A37: Moyenne Etendu R̅ | B37: =AVERAGE(TableauDI[Etendu P21]) -> 0.22441892
A38: Pp | B38: =(B31-B32)/(6*B33) -> 1.1816146
A39: Ppk | B39: =MIN((B31-B34)/(3*B33),(B34-B32)/(3*B33)) -> 1.0026159
A42: Cercle P21/L
A43: Spécification client sup | B43: 0.5
A44: Spécification client inf | B44: 0
A45: Ecart Type (Global) | B45: =_xlfn.STDEV.S(TableauDI[Cercle P21/L]) -> 0.14097948
A46: Moyenne X̅ | B46: =AVERAGE(TableauDI[Cercle P21/L]) -> 0.21013514
A47: LCS | B47: =(B46+(2.66*B49)) -> 0.58742378
A48: LCI | B48: =0 -> 0
A49: Moyenne Etendu R̅ | B49: =AVERAGE(TableauDI[Etendu P21/L]) -> 0.14183784
A50: Pp | B50: =(B43-B44)/(6*B45) -> 0.59110256
A51: Ppk | B51: =MIN((B43-B46)/(3*B45),(B46-B44)/(3*B45)) -> 0.49684567
A54: Cercle G1
A55: Spécification client sup | B55: 1.4
A56: Spécification client inf | B56: 0
A57: Ecart Type (Global) | B57: =_xlfn.STDEV.S(TableauDI[cercle G1]) -> 0.14198212
...

Sheet GAUCHE Intrados (GI)
A1: Date de la mesure | B1: Ordre pièce | C1: N°OF | D1: Température lors de la mesure (°C) | E1: Cercle P12 | F1: Cercle P22 | G1: Cercle P22/L | H1: cercle D1 | I1: cercle D2 | J1: cercle D3 | K1: cercle D4 | L1: cercle D5 | M1: cercle D6 | N1: cercle D7 | O1: cercle D8 | P1: cercle D9 | Q1: cercle D10 | R1: cercle D11 | S1: Etendu P12 | T1: Seuil 1 sigma P12 | U1: Seuil 2 sigma P12 | V1: Seuil 3 sigma P12 | W1: Etendu P22 | X1: Seuil 1 sigma P22 | Y1: Seuil 2 sigma P22 | Z1: Seuil 3 sigma P22 | AA1: Etendu P22/L | AB1: Seuil 1 sigma P22/L | AC1: Seuil 2 sigma P22/L | AD1: Seuil 3 sigma P22/L | AE1: Etendu D1 | AF1: Seuil 1 sigma D1 | AG1: Seuil 2 sigma D1 | AH1: Seuil 3 sigma D1 | AI1: Etendu D2 | AJ1: Seuil 1 sigma D2 | AK1: Seuil 2 sigma D2 | AL1: Seuil 3 sigma D2 | AM1: Etendu D3 | AN1: Seuil 1 sigma D3 | AO1: Seuil 2 sigma D3 | AP1: Seuil 3 sigma D3 | AQ1: Etendu D4 | AR1: Seuil 1 sigma D4 | AS1: Seuil 2 sigma D4 | AT1: Seuil 3 sigma D4 | AU1: Etendu D5 | AV1: Seuil 1 sigma D5 | AW1: Seuil 2 sigma D5 | AX1: Seuil 3 sigma D5 | AY1: Etendu D6 | AZ1: Seuil 1 sigma D6 | BA1: Seuil 2 sigma D6 | BB1: Seuil 3 sigma D6 | BC1: Etendu D7 | BD1: Seuil 1 sigma D7 | BE1: Seuil 2 sigma D7 | BF1: Seuil 3 sigma D7 | BG1: Etendu D8 | BH1: Seuil 1 sigma D8 | BI1: Seuil 2 sigma D8 | BJ1: Seuil 3 sigma D8 | BK1: Etendu D9 | BL1: Seuil 1 sigma D9 | BM1: Seuil 2 sigma D9 | BN1: Seuil 3 sigma D9 | BO1: Etendu D10 | BP1: Seuil 1 sigma D10 | BQ1: Seuil 2 sigma D10 | BR1: Seuil 3 sigma D10 | BS1: Etendu D11 | BT1: Seuil 1 sigma D11 | BU1: Seuil 2 sigma D11 | BV1: Seuil 3 sigma D11
A2: 43466 | B2: =ROW()-1 -> 1 | C2: 52889412 | D2: =NA() -> #N/A | E2: 0.06 | F2: 0.54 | G2: 0.12 | H2: 0.23 | I2: 0.26 | J2: 0.27 | K2: 0.27 | L2: 0.22 | M2: 0.33 | N2: 0.33 | O2: 0.31 | P2: 0.38 | Q2: 0.41 | R2: 0.4 | S2: =MAX(E2:E3)-MIN(E2:E3) -> 0.04 | T2: ='Graphiques GI'!$B$22 + 'Graphiques GI'!$B$21 -> 0.28975859 | U2: ='Graphiques GI'!$B$21 -> 0.10756415 | V2: ='Graphiques GI'!$B$21 -> 0.10756415 | W2: =MAX(F2:F3)-MIN(F2:F3) -> 0.05 | X2: ='Graphiques GI'!$B$34 + 'Graphiques GI'!$B$33 -> 0.8119447 | Y2: ='Graphiques GI'!$B$33 -> 0.26672248 | Z2: ='Graphiques GI'!$B$33 -> 0.26672248 | AA2: =MAX(G2:G3)-MIN(G2:G3) -> 0.02 | AB2: ='Graphiques GI'!$B$46 + 'Graphiques GI'!$B$45 -> 0.29358351 | AC2: ='Graphiques GI'!$B$45 -> 0.12688907 | AD2: ='Graphiques GI'!$B$45 -> 0.12688907 | AE2: =MAX(H2:H3)-MIN(H2:H3) -> 0.01 | AF2: ='Graphiques GI'!$B$58 + 'Graphiques GI'!$B$57 -> 0.44586151 | AG2: ='Graphiques GI'!$B$57 -> 0.16452818 | AH2: ='Graphiques GI'!$B$57 -> 0.16452818 | AI2: =MAX(I2:I3)-MIN(I2:I3) -> 0.16 | AJ2: ='Graphiques GI'!$B$70 + 'Graphiques GI'!$B$69 -> 0.43350372 | AK2: ='Graphiques GI'!$B$69 -> 0.16369816 | AL2: ='Graphiques GI'!$B$69 -> 0.16369816 | AM2: =MAX(J2:J3)-MIN(J2:J3) -> 0.1 | AN2: ='Graphiques GI'!$B$82 + 'Graphiques GI'!$B$81 -> 0.61833435 | AO2: ='Graphiques GI'!$B$81 -> 0.1846857 | AP2: ='Graphiques GI'!$B$81 -> 0.1846857 | AQ2: =MAX(K2:K3)-MIN(K2:K3) -> 0.07 | AR2: ='Graphiques GI'!$B$94 + 'Graphiques GI'!$B$93 -> 0.51434309 | AS2: ='Graphiques GI'!$B$93 -> 0.19019032 | AT2: ='Graphiques GI'!$B$93 -> 0.19019032 | AU2: =MAX(L2:L3)-MIN(L2:L3) -> 0.04 | AV2: ='Graphiques GI'!$B$106 + 'Graphiques GI'!$B$105 -> 0.43080514 | AW2: ='Graphiques GI'!$B$105 -> 0.17391625 | AX2: ='Graphiques GI'!$B$105 -> 0.17391625 | AY2: =MAX(M2:M3)-MIN(M2:M3) -> 0.04 | AZ2: ='Graphiques GI'!$B$118 + 'Graphiques GI'!$B$117 -> 0.54303418 | BA2: ='Graphiques GI'!$B$117 -> 0.20896474 | BB2: ='Graphiques GI'!$B$117 -> 0.20896474 | BC2: =MAX(N2:N3)-MIN(N2:N3) -> 0.1 | BD2: ='Graphiques GI'!$B$130 + 'Graphiques GI'!$B$129 -> 0.62703807 | BE2: ='Graphiques GI'!$B$129 -> 0.24103807 | BF2: ='Graphiques GI'!$B$129 -> 0.24103807 | BG2: =MAX(O2:O3)-MIN(O2:O3) -> 0.41 | BH2: ='Graphiques GI'!$B$142 + 'Graphiques GI'!$B$141 -> 0.78975212 | BI2: ='Graphiques GI'!$B$141 -> 0.22812712 | BJ2: ='Graphiques GI'!$B$141 -> 0.22812712 | BK2: =MAX(P2:P3)-MIN(P2:P3) -> 0.2 | BL2: ='Graphiques GI'!$B$154 + 'Graphiques GI'!$B$153 -> 0.69737848 | BM2: ='Graphiques GI'!$B$153 -> 0.19929515 | BN2: ='Graphiques GI'!$B$153 -> 0.19929515 | BO2: =MAX(Q2:Q3)-MIN(Q2:Q3) -> 0.29 | BP2: ='Graphiques GI'!$B$166 + 'Graphiques GI'!$B$165 -> 0.73399069 | BQ2: ='Graphiques GI'!$B$165 -> 0.20681013 | BR2: ='Graphiques GI'!$B$165 -> 0.20681013 | BS2: =MAX(R2:R3)-MIN(R2:R3) -> 0.37 | BT2: ='Graphiques GI'!$B$178 + 'Graphiques GI'!$B$177 -> 0.70591448 | BU2: ='Graphiques GI'!$B$177 -> 0.19680337 | BV2: ='Graphiques GI'!$B$177 -> 0.19680337
A3: 43466 | B3: =ROW()-1 -> 2 | C3: 52889413 | D3: =NA() -> #N/A | E3: 0.1 | F3: 0.59 | G3: 0.1 | H3: 0.22 | I3: 0.1 | J3: 0.17 | K3: 0.2 | L3: 0.26 | M3: 0.37 | N3: 0.43 | O3: 0.72 | P3: 0.58 | Q3: 0.7 | R3: 0.77 | S3: =MAX(E3:E4)-MIN(E3:E4) -> 0.08 | T3: ='Graphiques GI'!$B$22 + 'Graphiques GI'!$B$21 -> 0.28975859 | U3: ='Graphiques GI'!$B$21 -> 0.10756415 | V3: ='Graphiques GI'!$B$21 -> 0.10756415 | W3: =MAX(F3:F4)-MIN(F3:F4) -> 0.21 | X3: ='Graphiques GI'!$B$34 + 'Graphiques GI'!$B$33 -> 0.8119447 | Y3: ='Graphiques GI'!$B$33 -> 0.26672248 | Z3: ='Graphiques GI'!$B$33 -> 0.26672248 | AA3: =MAX(G3:G4)-MIN(G3:G4) -> 0.07 | AB3: ='Graphiques GI'!$B$46 + 'Graphiques GI'!$B$45 -> 0.29358351 | AC3: ='Graphiques GI'!$B$45 -> 0.12688907 | AD3: ='Graphiques GI'!$B$45 -> 0.12688907 | AE3: =MAX(H3:H4)-MIN(H3:H4) -> 0.02 | AF3: ='Graphiques GI'!$B$58 + 'Graphiques GI'!$B$57 -> 0.44586151 | AG3: ='Graphiques GI'!$B$57 -> 0.16452818 | AH3: ='Graphiques GI'!$B$57 -> 0.16452818 | AI3: =MAX(I3:I4)-MIN(I3:I4) -> 0.14 | AJ3: ='Graphiques GI'!$B$70 + 'Graphiques GI'!$B$69 -> 0.43350372 | AK3: ='Graphiques GI'!$B$69 -> 0.16369816 | AL3: ='Graphiques GI'!$B$69 -> 0.16369816 | AM3: =MAX(J3:J4)-MIN(J3:J4) -> 0.06 | AN3: ='Graphiques GI'!$B$82 + 'Graphiques GI'!$B$81 -> 0.61833435 | AO3: ='Graphiques GI'!$B$81 -> 0.1846857 | AP3: ='Graphiques GI'!$B$81 -> 0.1846857 | AQ3: =MAX(K3:K4)-MIN(K3:K4) -> 0.07 | AR3: ='Graphiques GI'!$B$94 + 'Graphiques GI'!$B$93 -> 0.51434309 | AS3: ='Graphiques GI'!$B$93 -> 0.19019032 | AT3: ='Graphiques GI'!$B$93 -> 0.19019032 | AU3: =MAX(L3:L4)-MIN(L3:L4) -> 0.04 | AV3: ='Graphiques GI'!$B$106 + 'Graphiques GI'!$B$105 -> 0.43080514 | AW3: ='Graphiques GI'!$B$105 -> 0.17391625 | AX3: ='Graphiques GI'!$B$105 -> 0.17391625 | AY3: =MAX(M3:M4)-MIN(M3:M4) -> 0.09 | AZ3: ='Graphiques GI'!$B$118 + 'Graphiques GI'!$B$117 -> 0.54303418 | BA3: ='Graphiques GI'!$B$117 -> 0.20896474 | BB3: ='Graphiques GI'!$B$117 -> 0.20896474 | BC3: =MAX(N3:N4)-MIN(N3:N4) -> 0.14 | BD3: ='Graphiques GI'!$B$130 + 'Graphiques GI'!$B$129 -> 0.62703807 | BE3: ='Graphiques GI'!$B$129 -> 0.24103807 | BF3: ='Graphiques GI'!$B$129 -> 0.24103807 | BG3: =MAX(O3:O4)-MIN(O3:O4) -> 0.08 | BH3: ='Graphiques GI'!$B$142 + 'Graphiques GI'!$B$141 -> 0.78975212 | BI3: ='Graphiques GI'!$B$141 -> 0.22812712 | BJ3: ='Graphiques GI'!$B$141 -> 0.22812712 | BK3: =MAX(P3:P4)-MIN(P3:P4) -> 0.15 | BL3: ='Graphiques GI'!$B$154 + 'Graphiques GI'!$B$153 -> 0.69737848 | BM3: ='Graphiques GI'!$B$153 -> 0.19929515 | BN3: ='Graphiques GI'!$B$153 -> 0.19929515 | BO3: =MAX(Q3:Q4)-MIN(Q3:Q4) -> 0.13 | BP3: ='Graphiques GI'!$B$166 + 'Graphiques GI'!$B$165 -> 0.73399069 | BQ3: ='Graphiques GI'!$B$165 -> 0.20681013 | BR3: ='Graphiques GI'!$B$165 -> 0.20681013 | BS3: =MAX(R3:R4)-MIN(R3:R4) -> 0.03 | BT3: ='Graphiques GI'!$B$178 + 'Graphiques GI'!$B$177 -> 0.70591448 | BU3: ='Graphiques GI'!$B$177 -> 0.19680337 | BV3: ='Graphiques GI'!$B$177 -> 0.19680337
A4: 43466 | B4: =ROW()-1 -> 3 | C4: 52889414 | D4: =NA() -> #N/A | E4: 0.02 | F4: 0.38 | G4: 0.03 | H4: 0.2 | I4: 0.24 | J4: 0.23 | K4: 0.27 | L4: 0.22 | M4: 0.28 | N4: 0.29 | O4: 0.64 | P4: 0.73 | Q4: 0.83 | R4: 0.74 | S4: =MAX(E4:E5)-MIN(E4:E5) -> 0.21 | T4: ='Graphiques GI'!$B$22 + 'Graphiques GI'!$B$21 -> 0.28975859 | U4: ='Graphiques GI'!$B$21 -> 0.10756415 | V4: ='Graphiques GI'!$B$21 -> 0.10756415 | W4: =MAX(F4:F5)-MIN(F4:F5) -> 0.33 | X4: ='Graphiques GI'!$B$34 + 'Graphiques GI'!$B$33 -> 0.8119447 | Y4: ='Graphiques GI'!$B$33 -> 0.26672248 | Z4: ='Graphiques GI'!$B$33 -> 0.26672248 | AA4: =MAX(G4:G5)-MIN(G4:G5) -> 0.26 | AB4: ='Graphiques GI'!$B$46 + 'Graphiques GI'!$B$45 -> 0.29358351 | AC4: ='Graphiques GI'!$B$45 -> 0.12688907 | AD4: ='Graphiques GI'!$B$45 -> 0.12688907 | AE4: =MAX(H4:H5)-MIN(H4:H5) -> 0.04 | AF4: ='Graphiques GI'!$B$58 + 'Graphiques GI'!$B$57 -> 0.44586151 | AG4: ='Graphiques GI'!$B$57 -> 0.16452818 | AH4: ='Graphiques GI'!$B$57 -> 0.16452818 | AI4: =MAX(I4:I5)-MIN(I4:I5) -> 0.13 | AJ4: ='Graphiques GI'!$B$70 + 'Graphiques GI'!$B$69 -> 0.43350372 | AK4: ='Graphiques GI'!$B$69 -> 0.16369816 | AL4: ='Graphiques GI'!$B$69 -> 0.16369816 | AM4: =MAX(J4:J5)-MIN(J4:J5) -> 0.2 | AN4: ='Graphiques GI'!$B$82 + 'Graphiques GI'!$B$81 -> 0.61833435 | AO4: ='Graphiques GI'!$B$81 -> 0.1846857 | AP4: ='Graphiques GI'!$B$81 -> 0.1846857 | AQ4: =MAX(K4:K5)-MIN(K4:K5) -> 0.14 | AR4: ='Graphiques GI'!$B$94 + 'Graphiques GI'!$B$93 -> 0.51434309 | AS4: ='Graphiques GI'!$B$93 -> 0.19019032 | AT4: ='Graphiques GI'!$B$93 -> 0.19019032 | AU4: =MAX(L4:L5)-MIN(L4:L5) -> 0.04 | AV4: ='Graphiques GI'!$B$106 + 'Graphiques GI'!$B$105 -> 0.43080514 | AW4: ='Graphiques GI'!$B$105 -> 0.17391625 | AX4: ='Graphiques GI'!$B$105 -> 0.17391625 | AY4: =MAX(M4:M5)-MIN(M4:M5) -> 0.18 | AZ4: ='Graphiques GI'!$B$118 + 'Graphiques GI'!$B$117 -> 0.54303418 | BA4: ='Graphiques GI'!$B$117 -> 0.20896474 | BB4: ='Graphiques GI'!$B$117 -> 0.20896474 | BC4: =MAX(N4:N5)-MIN(N4:N5) -> 0.23 | BD4: ='Graphiques GI'!$B$130 + 'Graphiques GI'!$B$129 -> 0.62703807 | BE4: ='Graphiques GI'!$B$129 -> 0.24103807 | BF4: ='Graphiques GI'!$B$129 -> 0.24103807 | BG4: =MAX(O4:O5)-MIN(O4:O5) -> 0.19 | BH4: ='Graphiques GI'!$B$142 + 'Graphiques GI'!$B$141 -> 0.78975212 | BI4: ='Graphiques GI'!$B$141 -> 0.22812712 | BJ4: ='Graphiques GI'!$B$141 -> 0.22812712 | BK4: =MAX(P4:P5)-MIN(P4:P5) -> 0.29 | BL4: ='Graphiques GI'!$B$154 + 'Graphiques GI'!$B$153 -> 0.69737848 | BM4: ='Graphiques GI'!$B$153 -> 0.19929515 | BN4: ='Graphiques GI'!$B$153 -> 0.19929515 | BO4: =MAX(Q4:Q5)-MIN(Q4:Q5) -> 0.41 | BP4: ='Graphiques GI'!$B$166 + 'Graphiques GI'!$B$165 -> 0.73399069 | BQ4: ='Graphiques GI'!$B$165 -> 0.20681013 | BR4: ='Graphiques GI'!$B$165 -> 0.20681013 | BS4: =MAX(R4:R5)-MIN(R4:R5) -> 0.18 | BT4: ='Graphiques GI'!$B$178 + 'Graphiques GI'!$B$177 -> 0.70591448 | BU4: ='Graphiques GI'!$B$177 -> 0.19680337 | BV4: ='Graphiques GI'!$B$177 -> 0.19680337
A5: 43466 | B5: =ROW()-1 -> 4 | C5: 52889415 | D5: =NA() -> #N/A | E5: 0.23 | F5: 0.05 | G5: 0.29 | H5: 0.24 | I5: 0.11 | J5: 0.03 | K5: 0.13 | L5: 0.18 | M5: 0.1 | N5: 0.06 | O5: 0.45 | P5: 0.44 | Q5: 0.42 | R5: 0.56 | S5: =MAX(E5:E6)-MIN(E5:E6) -> 0.1 | T5: ='Graphiques GI'!$B$22 + 'Graphiques GI'!$B$21 -> 0.28975859 | U5: ='Graphiques GI'!$B$21 -> 0.10756415 | V5: ='Graphiques GI'!$B$21 -> 0.10756415 | W5: =MAX(F5:F6)-MIN(F5:F6) -> 0.26 | X5: ='Graphiques GI'!$B$34 + 'Graphiques GI'!$B$33 -> 0.8119447 | Y5: ='Graphiques GI'!$B$33 -> 0.26672248 | Z5: ='Graphiques GI'!$B$33 -> 0.26672248 | AA5: =MAX(G5:G6)-MIN(G5:G6) -> 0.13 | AB5: ='Graphiques GI'!$B$46 + 'Graphiques GI'!$B$45 -> 0.29358351 | AC5: ='Graphiques GI'!$B$45 -> 0.12688907 | AD5: ='Graphiques GI'!$B$45 -> 0.12688907 | AE5: =MAX(H5:H6)-MIN(H5:H6) -> 0.06 | AF5: ='Graphiques GI'!$B$58 + 'Graphiques GI'!$B$57 -> 0.44586151 | AG5: ='Graphiques GI'!$B$57 -> 0.16452818 | AH5: ='Graphiques GI'!$B$57 -> 0.16452818 | AI5: =MAX(I5:I6)-MIN(I5:I6) -> 0.1 | AJ5: ='Graphiques GI'!$B$70 + 'Graphiques GI'!$B$69 -> 0.43350372 | AK5: ='Graphiques GI'!$B$69 -> 0.16369816 | AL5: ='Graphiques GI'!$B$69 -> 0.16369816 | AM5: =MAX(J5:J6)-MIN(J5:J6) -> 0.14 | AN5: ='Graphiques GI'!$B$82 + 'Graphiques GI'!$B$81 -> 0.61833435 | AO5: ='Graphiques GI'!$B$81 -> 0.1846857 | AP5: ='Graphiques GI'!$B$81 -> 0.1846857 | AQ5: =MAX(K5:K6)-MIN(K5:K6) -> 0.07 | AR5: ='Graphiques GI'!$B$94 + 'Graphiques GI'!$B$93 -> 0.51434309 | AS5: ='Graphiques GI'!$B$93 -> 0.19019032 | AT5: ='Graphiques GI'!$B$93 -> 0.19019032 | AU5: =MAX(L5:L6)-MIN(L5:L6) -> 0.03 | AV5: ='Graphiques GI'!$B$106 + 'Graphiques GI'!$B$105 -> 0.43080514 | AW5: ='Graphiques GI'!$B$105 -> 0.17391625 | AX5: ='Graphiques GI'!$B$105 -> 0.17391625 | AY5: =MAX(M5:M6)-MIN(M5:M6) -> 0.1 | AZ5: ='Graphiques GI'!$B$118 + 'Graphiques GI'!$B$117 -> 0.54303418 | BA5: ='Graphiques GI'!$B$117 -> 0.20896474 | BB5: ='Graphiques GI'!$B$117 -> 0.20896474 | BC5: =MAX(N5:N6)-MIN(N5:N6) -> 0.17 | BD5: ='Graphiques GI'!$B$130 + 'Graphiques GI'!$B$129 -> 0.62703807 | BE5: ='Graphiques GI'!$B$129 -> 0.24103807 | BF5: ='Graphiques GI'!$B$129 -> 0.24103807 | BG5: =MAX(O5:O6)-MIN(O5:O6) -> 0.08 | BH5: ='Graphiques GI'!$B$142 + 'Graphiques GI'!$B$141 -> 0.78975212 | BI5: ='Graphiques GI'!$B$141 -> 0.22812712 | BJ5: ='Graphiques GI'!$B$141 -> 0.22812712 | BK5: =MAX(P5:P6)-MIN(P5:P6) -> 0.1 | BL5: ='Graphiques GI'!$B$154 + 'Graphiques GI'!$B$153 -> 0.69737848 | BM5: ='Graphiques GI'!$B$153 -> 0.19929515 | BN5: ='Graphiques GI'!$B$153 -> 0.19929515 | BO5: =MAX(Q5:Q6)-MIN(Q5:Q6) -> 0.22 | BP5: ='Graphiques GI'!$B$166 + 'Graphiques GI'!$B$165 -> 0.73399069 | BQ5: ='Graphiques GI'!$B$165 -> 0.20681013 | BR5: ='Graphiques GI'!$B$165 -> 0.20681013 | BS5: =MAX(R5:R6)-MIN(R5:R6) -> 0.07 | BT5: ='Graphiques GI'!$B$178 + 'Graphiques GI'!$B$177 -> 0.70591448 | BU5: ='Graphiques GI'!$B$177 -> 0.19680337 | BV5: ='Graphiques GI'!$B$177 -> 0.19680337
A6: 43466 | B6: =ROW()-1 -> 5 | C6: 52891322 | D6: =NA() -> #N/A | E6: 0.13 | F6: 0.31 | G6: 0.16 | H6: 0.18 | I6: 0.21 | J6: 0.17 | K6: 0.2 | L6: 0.15 | M6: 0.2 | N6: 0.23 | O6: 0.53 | P6: 0.54 | Q6: 0.64 | R6: 0.63 | S6: =MAX(E6:E7)-MIN(E6:E7) -> 0.13 | T6: ='Graphiques GI'!$B$22 + 'Graphiques GI'!$B$21 -> 0.28975859 | U6: ='Graphiques GI'!$B$21 -> 0.10756415 | V6: ='Graphiques GI'!$B$21 -> 0.10756415 | W6: =MAX(F6:F7)-MIN(F6:F7) -> 0.26 | X6: ='Graphiques GI'!$B$34 + 'Graphiques GI'!$B$33 -> 0.8119447 | Y6: ='Graphiques GI'!$B$33 -> 0.26672248 | Z6: ='Graphiques GI'!$B$33 -> 0.26672248 | AA6: =MAX(G6:G7)-MIN(G6:G7) -> 0.28 | AB6: ='Graphiques GI'!$B$46 + 'Graphiques GI'!$B$45 -> 0.29358351 | AC6: ='Graphiques GI'!$B$45 -> 0.12688907 | AD6: ='Graphiques GI'!$B$45 -> 0.12688907 | AE6: =MAX(H6:H7)-MIN(H6:H7) -> 0.4 | AF6: ='Graphiques GI'!$B$58 + 'Graphiques GI'!$B$57 -> 0.44586151 | AG6: ='Graphiques GI'!$B$57 -> 0.16452818 | AH6: ='Graphiques GI'!$B$57 -> 0.16452818 | AI6: =MAX(I6:I7)-MIN(I6:I7) -> 0.16 | AJ6: ='Graphiques GI'!$B$70 + 'Graphiques GI'!$B$69 -> 0.43350372 | AK6: ='Graphiques GI'!$B$69 -> 0.16369816 | AL6: ='Graphiques GI'!$B$69 -> 0.16369816 | AM6: =MAX(J6:J7)-MIN(J6:J7) -> 0.22 | AN6: ='Graphiques GI'!$B$82 + 'Graphiques GI'!$B$81 -> 0.61833435 | AO6: ='Graphiques GI'!$B$81 -> 0.1846857 | AP6: ='Graphiques GI'!$B$81 -> 0.1846857 | AQ6: =MAX(K6:K7)-MIN(K6:K7) -> 0.19 | AR6: ='Graphiques GI'!$B$94 + 'Graphiques GI'!$B$93 -> 0.51434309 | AS6: ='Graphiques GI'!$B$93 -> 0.19019032 | AT6: ='Graphiques GI'!$B$93 -> 0.19019032 | AU6: =MAX(L6:L7)-MIN(L6:L7) -> 0.13 | AV6: ='Graphiques GI'!$B$106 + 'Graphiques GI'!$B$105 -> 0.43080514 | AW6: ='Graphiques GI'!$B$105 -> 0.17391625 | AX6: ='Graphiques GI'!$B$105 -> 0.17391625 | AY6: =MAX(M6:M7)-MIN(M6:M7) -> 0.2 | AZ6: ='Graphiques GI'!$B$118 + 'Graphiques GI'!$B$117 -> 0.54303418 | BA6: ='Graphiques GI'!$B$117 -> 0.20896474 | BB6: ='Graphiques GI'!$B$117 -> 0.20896474 | BC6: =MAX(N6:N7)-MIN(N6:N7) -> 0.29 | BD6: ='Graphiques GI'!$B$130 + 'Graphiques GI'!$B$129 -> 0.62703807 | BE6: ='Graphiques GI'!$B$129 -> 0.24103807 | BF6: ='Graphiques GI'!$B$129 -> 0.24103807 | BG6: =MAX(O6:O7)-MIN(O6:O7) -> 0.18 | BH6: ='Graphiques GI'!$B$142 + 'Graphiques GI'!$B$141 -> 0.78975212 | BI6: ='Graphiques GI'!$B$141 -> 0.22812712 | BJ6: ='Graphiques GI'!$B$141 -> 0.22812712 | BK6: =MAX(P6:P7)-MIN(P6:P7) -> 0.14 | BL6: ='Graphiques GI'!$B$154 + 'Graphiques GI'!$B$153 -> 0.69737848 | BM6: ='Graphiques GI'!$B$153 -> 0.19929515 | BN6: ='Graphiques GI'!$B$153 -> 0.19929515 | BO6: =MAX(Q6:Q7)-MIN(Q6:Q7) -> 0.17 | BP6: ='Graphiques GI'!$B$166 + 'Graphiques GI'!$B$165 -> 0.73399069 | BQ6: ='Graphiques GI'!$B$165 -> 0.20681013 | BR6: ='Graphiques GI'!$B$165 -> 0.20681013 | BS6: =MAX(R6:R7)-MIN(R6:R7) -> 0.08 | BT6: ='Graphiques GI'!$B$178 + 'Graphiques GI'!$B$177 -> 0.70591448 | BU6: ='Graphiques GI'!$B$177 -> 0.19680337 | BV6: ='Graphiques GI'!$B$177 -> 0.19680337
A7: 43466 | B7: =ROW()-1 -> 6 | C7: 52882812 | D7: =NA() -> #N/A | E7: 0.26 | F7: 0.57 | G7: 0.44 | H7: 0.58 | I7: 0.37 | J7: 0.39 | K7: 0.39 | L7: 0.28 | M7: 0.4 | N7: 0.52 | O7: 0.35 | P7: 0.4 | Q7: 0.47 | R7: 0.55 | S7: =MAX(E7:E8)-MIN(E7:E8) -> 0.17 | T7: ='Graphiques GI'!$B$22 + 'Graphiques GI'!$B$21 -> 0.28975859 | U7: ='Graphiques GI'!$B$21 -> 0.10756415 | V7: ='Graphiques GI'!$B$21 -> 0.10756415 | W7: =MAX(F7:F8)-MIN(F7:F8) -> 0.11 | X7: ='Graphiques GI'!$B$34 + 'Graphiques GI'!$B$33 -> 0.8119447 | Y7: ='Graphiques GI'!$B$33 -> 0.26672248 | Z7: ='Graphiques GI'!$B$33 -> 0.26672248 | AA7: =MAX(G7:G8)-MIN(G7:G8) -> 0.33 | AB7: ='Graphiques GI'!$B$46 + 'Graphiques GI'!$B$45 -> 0.29358351 | AC7: ='Graphiques GI'!$B$45 -> 0.12688907 | AD7: ='Graphiques GI'!$B$45 -> 0.12688907 | AE7: =MAX(H7:H8)-MIN(H7:H8) -> 0.4 | AF7: ='Graphiques GI'!$B$58 + 'Graphiques GI'!$B$57 -> 0.44586151 | AG7: ='Graphiques GI'!$B$57 -> 0.16452818 | AH7: ='Graphiques GI'!$B$57 -> 0.16452818 | AI7: =MAX(I7:I8)-MIN(I7:I8) -> 0.26 | AJ7: ='Graphiques GI'!$B$70 + 'Graphiques GI'!$B$69 -> 0.43350372 | AK7: ='Graphiques GI'!$B$69 -> 0.16369816 | AL7: ='Graphiques GI'!$B$69 -> 0.16369816 | AM7: =MAX(J7:J8)-MIN(J7:J8) -> 0.32 | AN7: ='Graphiques GI'!$B$82 + 'Graphiques GI'!$B$81 -> 0.61833435 | AO7: ='Graphiques GI'!$B$81 -> 0.1846857 | AP7: ='Graphiques GI'!$B$81 -> 0.1846857 | AQ7: =MAX(K7:K8)-MIN(K7:K8) -> 0.27 | AR7: ='Graphiques GI'!$B$94 + 'Graphiques GI'!$B$93 -> 0.51434309 | AS7: ='Graphiques GI'!$B$93 -> 0.19019032 | AT7: ='Graphiques GI'!$B$93 -> 0.19019032 | AU7: =MAX(L7:L8)-MIN(L7:L8) -> 0.07 | AV7: ='Graphiques GI'!$B$106 + 'Graphiques GI'!$B$105 -> 0.43080514 | AW7: ='Graphiques GI'!$B$105 -> 0.17391625 | AX7: ='Graphiques GI'!$B$105 -> 0.17391625 | AY7: =MAX(M7:M8)-MIN(M7:M8) -> 0.04 | AZ7: ='Graphiques GI'!$B$118 + 'Graphiques GI'!$B$117 -> 0.54303418 | BA7: ='Graphiques GI'!$B$117 -> 0.20896474 | BB7: ='Graphiques GI'!$B$117 -> 0.20896474 | BC7: =MAX(N7:N8)-MIN(N7:N8) -> 0.07 | BD7: ='Graphiques GI'!$B$130 + 'Graphiques GI'!$B$129 -> 0.62703807 | BE7: ='Graphiques GI'!$B$129 -> 0.24103807 | BF7: ='Graphiques GI'!$B$129 -> 0.24103807 | BG7: =MAX(O7:O8)-MIN(O7:O8) -> 0.28 | BH7: ='Graphiques GI'!$B$142 + 'Graphiques GI'!$B$141 -> 0.78975212 | BI7: ='Graphiques GI'!$B$141 -> 0.22812712 | BJ7: ='Graphiques GI'!$B$141 -> 0.22812712 | BK7: =MAX(P7:P8)-MIN(P7:P8) -> 0.29 | BL7: ='Graphiques GI'!$B$154 + 'Graphiques GI'!$B$153 -> 0.69737848 | BM7: ='Graphiques GI'!$B$153 -> 0.19929515 | BN7: ='Graphiques GI'!$B$153 -> 0.19929515 | BO7: =MAX(Q7:Q8)-MIN(Q7:Q8) -> 0.2 | BP7: ='Graphiques GI'!$B$166 + 'Graphiques GI'!$B$165 -> 0.73399069 | BQ7: ='Graphiques GI'!$B$165 -> 0.20681013 | BR7: ='Graphiques GI'!$B$165 -> 0.20681013 | BS7: =MAX(R7:R8)-MIN(R7:R8) -> 0.4 | BT7: ='Graphiques GI'!$B$178 + 'Graphiques GI'!$B$177 -> 0.70591448 | BU7: ='Graphiques GI'!$B$177 -> 0.19680337 | BV7: ='Graphiques GI'!$B$177 -> 0.19680337
A8: 43466 | B8: =ROW()-1 -> 7 | C8: 52891326 | D8: =NA() -> #N/A | E8: 0.09 | F8: 0.68 | G8: 0.11 | H8: 0.18 | I8: 0.11 | J8: 0.07 | K8: 0.12 | L8: 0.21 | M8: 0.36 | N8: 0.45 | O8: 0.07 | P8: 0.11 | Q8: 0.27 | R8: 0.15 | S8: =MAX(E8:E9)-MIN(E8:E9) -> 0.07 | T8: ='Graphiques GI'!$B$22 + 'Graphiques GI'!$B$21 -> 0.28975859 | U8: ='Graphiques GI'!$B$21 -> 0.10756415 | V8: ='Graphiques GI'!$B$21 -> 0.10756415 | W8: =MAX(F8:F9)-MIN(F8:F9) -> 0.12 | X8: ='Graphiques GI'!$B$34 + 'Graphiques GI'!$B$33 -> 0.8119447 | Y8: ='Graphiques GI'!$B$33 -> 0.26672248 | Z8: ='Graphiques GI'!$B$33 -> 0.26672248 | AA8: =MAX(G8:G9)-MIN(G8:G9) -> 0.06 | AB8: ='Graphiques GI'!$B$46 + 'Graphiques GI'!$B$45 -> 0.29358351 | AC8: ='Graphiques GI'!$B$45 -> 0.12688907 | AD8: ='Graphiques GI'!$B$45 -> 0.12688907 | AE8: =MAX(H8:H9)-MIN(H8:H9) -> 0.26 | AF8: ='Graphiques GI'!$B$58 + 'Graphiques GI'!$B$57 -> 0.44586151 | AG8: ='Graphiques GI'!$B$57 -> 0.16452818 | AH8: ='Graphiques GI'!$B$57 -> 0.16452818 | AI8: =MAX(I8:I9)-MIN(I8:I9) -> 0.37 | AJ8: ='Graphiques GI'!$B$70 + 'Graphiques GI'!$B$69 -> 0.43350372 | AK8: ='Graphiques GI'!$B$69 -> 0.16369816 | AL8: ='Graphiques GI'!$B$69 -> 0.16369816 | AM8: =MAX(J8:J9)-MIN(J8:J9) -> 0.37 | AN8: ='Graphiques GI'!$B$82 + 'Graphiques GI'!$B$81 -> 0.61833435 | AO8: ='Graphiques GI'!$B$81 -> 0.1846857 | AP8: ='Graphiques GI'!$B$81 -> 0.1846857 | AQ8: =MAX(K8:K9)-MIN(K8:K9) -> 0.44 | AR8: ='Graphiques GI'!$B$94 + 'Graphiques GI'!$B$93 -> 0.51434309 | AS8: ='Graphiques GI'!$B$93 -> 0.19019032 | AT8: ='Graphiques GI'!$B$93 -> 0.19019032 | AU8: =MAX(L8:L9)-MIN(L8:L9) -> 0.19 | AV8: ='Graphiques GI'!$B$106 + 'Graphiques GI'!$B$105 -> 0.43080514 | AW8: ='Graphiques GI'!$B$105 -> 0.17391625 | AX8: ='Graphiques GI'!$B$105 -> 0.17391625 | AY8: =MAX(M8:M9)-MIN(M8:M9) -> 0.14 | AZ8: ='Graphiques GI'!$B$118 + 'Graphiques GI'!$B$117 -> 0.54303418 | BA8: ='Graphiques GI'!$B$117 -> 0.20896474 | BB8: ='Graphiques GI'!$B$117 -> 0.20896474 | BC8: =MAX(N8:N9)-MIN(N8:N9) -> 0.09 | BD8: ='Graphiques GI'!$B$130 + 'Graphiques GI'!$B$129 -> 0.62703807 | BE8: ='Graphiques GI'!$B$129 -> 0.24103807 | BF8: ='Graphiques GI'!$B$129 -> 0.24103807 | BG8: =MAX(O8:O9)-MIN(O8:O9) -> 0.23 | BH8: ='Graphiques GI'!$B$142 + 'Graphiques GI'!$B$141 -> 0.78975212 | BI8: ='Graphiques GI'!$B$141 -> 0.22812712 | BJ8: ='Graphiques GI'!$B$141 -> 0.22812712 | BK8: =MAX(P8:P9)-MIN(P8:P9) -> 0.18 | BL8: ='Graphiques GI'!$B$154 + 'Graphiques GI'!$B$153 -> 0.69737848 | BM8: ='Graphiques GI'!$B$153 -> 0.19929515 | BN8: ='Graphiques GI'!$B$153 -> 0.19929515 | BO8: =MAX(Q8:Q9)-MIN(Q8:Q9) -> 0.2 | BP8: ='Graphiques GI'!$B$166 + 'Graphiques GI'!$B$165 -> 0.73399069 | BQ8: ='Graphiques GI'!$B$165 -> 0.20681013 | BR8: ='Graphiques GI'!$B$165 -> 0.20681013 | BS8: =MAX(R8:R9)-MIN(R8:R9) -> 0.21 | BT8: ='Graphiques GI'!$B$178 + 'Graphiques GI'!$B$177 -> 0.70591448 | BU8: ='Graphiques GI'!$B$177 -> 0.19680337 | BV8: ='Graphiques GI'!$B$177 -> 0.19680337
A9: 43466 | B9: =ROW()-1 -> 8 | C9: 52905976 | D9: =NA() -> #N/A | E9: 0.16 | F9: 0.56 | G9: 0.05 | H9: 0.44 | I9: 0.48 | J9: 0.44 | K9: 0.56 | L9: 0.4 | M9: 0.5 | N9: 0.54 | O9: 0.3 | P9: 0.29 | Q9: 0.07 | R9: 0.36 | S9: =MAX(E9:E10)-MIN(E9:E10) -> 0.08 | T9: ='Graphiques GI'!$B$22 + 'Graphiques GI'!$B$21 -> 0.28975859 | U9: ='Graphiques GI'!$B$21 -> 0.10756415 | V9: ='Graphiques GI'!$B$21 -> 0.10756415 | W9: =MAX(F9:F10)-MIN(F9:F10) -> 0.11 | X9: ='Graphiques GI'!$B$34 + 'Graphiques GI'!$B$33 -> 0.8119447 | Y9: ='Graphiques GI'!$B$33 -> 0.26672248 | Z9: ='Graphiques GI'!$B$33 -> 0.26672248 | AA9: =MAX(G9:G10)-MIN(G9:G10) -> 0.05 | AB9: ='Graphiques GI'!$B$46 + 'Graphiques GI'!$B$45 -> 0.29358351 | AC9: ='Graphiques GI'!$B$45 -> 0.12688907 | AD9: ='Graphiques GI'!$B$45 -> 0.12688907 | AE9: =MAX(H9:H10)-MIN(H9:H10) -> 0.24 | AF9: ='Graphiques GI'!$B$58 + 'Graphiques GI'!$B$57 -> 0.44586151 | AG9: ='Graphiques GI'!$B$57 -> 0.16452818 | AH9: ='Graphiques GI'!$B$57 -> 0.16452818 | AI9: =MAX(I9:I10)-MIN(I9:I10) -> 0.31 | AJ9: ='Graphiques GI'!$B$70 + 'Graphiques GI'!$B$69 -> 0.43350372 | AK9: ='Graphiques GI'!$B$69 -> 0.16369816 | AL9: ='Graphiques GI'!$B$69 -> 0.16369816 | AM9: =MAX(J9:J10)-MIN(J9:J10) -> 0.3 | AN9: ='Graphiques GI'!$B$82 + 'Graphiques GI'!$B$81 -> 0.61833435 | AO9: ='Graphiques GI'!$B$81 -> 0.1846857 | AP9: ='Graphiques GI'!$B$81 -> 0.1846857 | AQ9: =MAX(K9:K10)-MIN(K9:K10) -> 0.38 | AR9: ='Graphiques GI'!$B$94 + 'Graphiques GI'!$B$93 -> 0.51434309 | AS9: ='Graphiques GI'!$B$93 -> 0.19019032 | AT9: ='Graphiques GI'!$B$93 -> 0.19019032 | AU9: =MAX(L9:L10)-MIN(L9:L10) -> 0.2 | AV9: ='Graphiques GI'!$B$106 + 'Graphiques GI'!$B$105 -> 0.43080514 | AW9: ='Graphiques GI'!$B$105 -> 0.17391625 | AX9: ='Graphiques GI'!$B$105 -> 0.17391625 | AY9: =MAX(M9:M10)-MIN(M9:M10) -> 0.24 | AZ9: ='Graphiques GI'!$B$118 + 'Graphiques GI'!$B$117 -> 0.54303418 | BA9: ='Graphiques GI'!$B$117 -> 0.20896474 | BB9: ='Graphiques GI'!$B$117 -> 0.20896474 | BC9: =MAX(N9:N10)-MIN(N9:N10) -> 0.2 | BD9: ='Graphiques GI'!$B$130 + 'Graphiques GI'!$B$129 -> 0.62703807 | BE9: ='Graphiques GI'!$B$129 -> 0.24103807 | BF9: ='Graphiques GI'!$B$129 -> 0.24103807 | BG9: =MAX(O9:O10)-MIN(O9:O10) -> 0.11 | BH9: ='Graphiques GI'!$B$142 + 'Graphiques GI'!$B$141 -> 0.78975212 | BI9: ='Graphiques GI'!$B$141 -> 0.22812712 | BJ9: ='Graphiques GI'!$B$141 -> 0.22812712 | BK9: =MAX(P9:P10)-MIN(P9:P10) -> 0.12 | BL9: ='Graphiques GI'!$B$154 + 'Graphiques GI'!$B$153 -> 0.69737848 | BM9: ='Graphiques GI'!$B$153 -> 0.19929515 | BN9: ='Graphiques GI'!$B$153 -> 0.19929515 | BO9: =MAX(Q9:Q10)-MIN(Q9:Q10) -> 0.42 | BP9: ='Graphiques GI'!$B$166 + 'Graphiques GI'!$B$165 -> 0.73399069 | BQ9: ='Graphiques GI'!$B$165 -> 0.20681013 | BR9: ='Graphiques GI'!$B$165 -> 0.20681013 | BS9: =MAX(R9:R10)-MIN(R9:R10) -> 0.05 | BT9: ='Graphiques GI'!$B$178 + 'Graphiques GI'!$B$177 -> 0.70591448 | BU9: ='Graphiques GI'!$B$177 -> 0.19680337 | BV9: ='Graphiques GI'!$B$177 -> 0.19680337
A10: 43466 | B10: =ROW()-1 -> 9 | C10: 52891325 | D10: =NA() -> #N/A | E10: 0.08 | F10: 0.45 | G10: 0.1 | H10: 0.2 | I10: 0.17 | J10: 0.14 | K10: 0.18 | L10: 0.2 | M10: 0.26 | N10: 0.34 | O10: 0.41 | P10: 0.41 | Q10: 0.49 | R10: 0.41 | S10: =MAX(E10:E11)-MIN(E10:E11) -> 0.07 | T10: ='Graphiques GI'!$B$22 + 'Graphiques GI'!$B$21 -> 0.28975859 | U10: ='Graphiques GI'!$B$21 -> 0.10756415 | V10: ='Graphiques GI'!$B$21 -> 0.10756415 | W10: =MAX(F10:F11)-MIN(F10:F11) -> 0.26 | X10: ='Graphiques GI'!$B$34 + 'Graphiques GI'!$B$33 -> 0.8119447 | Y10: ='Graphiques GI'!$B$33 -> 0.26672248 | Z10: ='Graphiques GI'!$B$33 -> 0.26672248 | AA10: =MAX(G10:G11)-MIN(G10:G11) -> 0.03 | AB10: ='Graphiques GI'!$B$46 + 'Graphiques GI'!$B$45 -> 0.29358351 | AC10: ='Graphiques GI'!$B$45 -> 0.12688907 | AD10: ='Graphiques GI'!$B$45 -> 0.12688907 | AE10: =MAX(H10:H11)-MIN(H10:H11) -> 0.12 | AF10: ='Graphiques GI'!$B$58 + 'Graphiques GI'!$B$57 -> 0.44586151 | AG10: ='Graphiques GI'!$B$57 -> 0.16452818 | AH10: ='Graphiques GI'!$B$57 -> 0.16452818 | AI10: =MAX(I10:I11)-MIN(I10:I11) -> 0.09 | AJ10: ='Graphiques GI'!$B$70 + 'Graphiques GI'!$B$69 -> 0.43350372 | AK10: ='Graphiques GI'!$B$69 -> 0.16369816 | AL10: ='Graphiques GI'!$B$69 -> 0.16369816 | AM10: =MAX(J10:J11)-MIN(J10:J11) -> 0.06 | AN10: ='Graphiques GI'!$B$82 + 'Graphiques GI'!$B$81 -> 0.61833435 | AO10: ='Graphiques GI'!$B$81 -> 0.1846857 | AP10: ='Graphiques GI'!$B$81 -> 0.1846857 | AQ10: =MAX(K10:K11)-MIN(K10:K11) -> 0.13 | AR10: ='Graphiques GI'!$B$94 + 'Graphiques GI'!$B$93 -> 0.51434309 | AS10: ='Graphiques GI'!$B$93 -> 0.19019032 | AT10: ='Graphiques GI'!$B$93 -> 0.19019032 | AU10: =MAX(L10:L11)-MIN(L10:L11) -> 0.17 | AV10: ='Graphiques GI'!$B$106 + 'Graphiques GI'!$B$105 -> 0.43080514 | AW10: ='Graphiques GI'!$B$105 -> 0.17391625 | AX10: ='Graphiques GI'!$B$105 -> 0.17391625 | AY10: =MAX(M10:M11)-MIN(M10:M11) -> 0.23 | AZ10: ='Graphiques GI'!$B$118 + 'Graphiques GI'!$B$117 -> 0.54303418 | BA10: ='Graphiques GI'!$B$117 -> 0.20896474 | BB10: ='Graphiques GI'!$B$117 -> 0.20896474 | BC10: =MAX(N10:N11)-MIN(N10:N11) -> 0.29 | BD10: ='Graphiques GI'!$B$130 + 'Graphiques GI'!$B$129 -> 0.62703807 | BE10: ='Graphiques GI'!$B$129 -> 0.24103807 | BF10: ='Graphiques GI'!$B$129 -> 0.24103807 | BG10: =MAX(O10:O11)-MIN(O10:O11) -> 0.03 | BH10: ='Graphiques GI'!$B$142 + 'Graphiques GI'!$B$141 -> 0.78975212 | BI10: ='Graphiques GI'!$B$141 -> 0.22812712 | BJ10: ='Graphiques GI'!$B$141 -> 0.22812712 | BK10: =MAX(P10:P11)-MIN(P10:P11) -> 0.07 | BL10: ='Graphiques GI'!$B$154 + 'Graphiques GI'!$B$153 -> 0.69737848 | BM10: ='Graphiques GI'!$B$153 -> 0.19929515 | BN10: ='Graphiques GI'!$B$153 -> 0.19929515 | BO10: =MAX(Q10:Q11)-MIN(Q10:Q11) -> 0.27 | BP10: ='Graphiques GI'!$B$166 + 'Graphiques GI'!$B$165 -> 0.73399069 | BQ10: ='Graphiques GI'!$B$165 -> 0.20681013 | BR10: ='Graphiques GI'!$B$165 -> 0.20681013 | BS10: =MAX(R10:R11)-MIN(R10:R11) -> 0.18 | BT10: ='Graphiques GI'!$B$178 + 'Graphiques GI'!$B$177 -> 0.70591448 | BU10: ='Graphiques GI'!$B$177 -> 0.19680337 | BV10: ='Graphiques GI'!$B$177 -> 0.19680337
A11: 43466 | B11: =ROW()-1 -> 10 | C11: 52889411 | D11: =NA() -> #N/A | E11: 0.01 | F11: 0.19 | G11: 0.13 | H11: 0.08 | I11: 0.08 | J11: 0.08 | K11: 0.05 | L11: 0.03 | M11: 0.03 | N11: 0.05 | O11: 0.38 | P11: 0.34 | Q11: 0.76 | R11: 0.59 | S11: =MAX(E11:E12)-MIN(E11:E12) -> 0.04 | T11: ='Graphiques GI'!$B$22 + 'Graphiques GI'!$B$21 -> 0.28975859 | U11: ='Graphiques GI'!$B$21 -> 0.10756415 | V11: ='Graphiques GI'!$B$21 -> 0.10756415 | W11: =MAX(F11:F12)-MIN(F11:F12) -> 0.31 | X11: ='Graphiques GI'!$B$34 + 'Graphiques GI'!$B$33 -> 0.8119447 | Y11: ='Graphiques GI'!$B$33 -> 0.26672248 | Z11: ='Graphiques GI'!$B$33 -> 0.26672248 | AA11: =MAX(G11:G12)-MIN(G11:G12) -> 0.17 | AB11: ='Graphiques GI'!$B$46 + 'Graphiques GI'!$B$45 -> 0.29358351 | AC11: ='Graphiques GI'!$B$45 -> 0.12688907 | AD11: ='Graphiques GI'!$B$45 -> 0.12688907 | AE11: =MAX(H11:H12)-MIN(H11:H12) -> 0.23 | AF11: ='Graphiques GI'!$B$58 + 'Graphiques GI'!$B$57 -> 0.44586151 | AG11: ='Graphiques GI'!$B$57 -> 0.16452818 | AH11: ='Graphiques GI'!$B$57 -> 0.16452818 | AI11: =MAX(I11:I12)-MIN(I11:I12) -> 0.13 | AJ11: ='Graphiques GI'!$B$70 + 'Graphiques GI'!$B$69 -> 0.43350372 | AK11: ='Graphiques GI'!$B$69 -> 0.16369816 | AL11: ='Graphiques GI'!$B$69 -> 0.16369816 | AM11: =MAX(J11:J12)-MIN(J11:J12) -> 0.17 | AN11: ='Graphiques GI'!$B$82 + 'Graphiques GI'!$B$81 -> 0.61833435 | AO11: ='Graphiques GI'!$B$81 -> 0.1846857 | AP11: ='Graphiques GI'!$B$81 -> 0.1846857 | AQ11: =MAX(K11:K12)-MIN(K11:K12) -> 0.2 | AR11: ='Graphiques GI'!$B$94 + 'Graphiques GI'!$B$93 -> 0.51434309 | AS11: ='Graphiques GI'!$B$93 -> 0.19019032 | AT11: ='Graphiques GI'!$B$93 -> 0.19019032 | AU11: =MAX(L11:L12)-MIN(L11:L12) -> 0.14 | AV11: ='Graphiques GI'!$B$106 + 'Graphiques GI'!$B$105 -> 0.43080514 | AW11: ='Graphiques GI'!$B$105 -> 0.17391625 | AX11: ='Graphiques GI'!$B$105 -> 0.17391625 | AY11: =MAX(M11:M12)-MIN(M11:M12) -> 0.35 | AZ11: ='Graphiques GI'!$B$118 + 'Graphiques GI'!$B$117 -> 0.54303418 | BA11: ='Graphiques GI'!$B$117 -> 0.20896474 | BB11: ='Graphiques GI'!$B$117 -> 0.20896474 | BC11: =MAX(N11:N12)-MIN(N11:N12) -> 0.23 | BD11: ='Graphiques GI'!$B$130 + 'Graphiques GI'!$B$129 -> 0.62703807 | BE11: ='Graphiques GI'!$B$129 -> 0.24103807 | BF11: ='Graphiques GI'!$B$129 -> 0.24103807 | BG11: =MAX(O11:O12)-MIN(O11:O12) -> 0.34 | BH11: ='Graphiques GI'!$B$142 + 'Graphiques GI'!$B$141 -> 0.78975212 | BI11: ='Graphiques GI'!$B$141 -> 0.22812712 | BJ11: ='Graphiques GI'!$B$141 -> 0.22812712 | BK11: =MAX(P11:P12)-MIN(P11:P12) -> 0.42 | BL11: ='Graphiques GI'!$B$154 + 'Graphiques GI'!$B$153 -> 0.69737848 | BM11: ='Graphiques GI'!$B$153 -> 0.19929515 | BN11: ='Graphiques GI'!$B$153 -> 0.19929515 | BO11: =MAX(Q11:Q12)-MIN(Q11:Q12) -> 0.01 | BP11: ='Graphiques GI'!$B$166 + 'Graphiques GI'!$B$165 -> 0.73399069 | BQ11: ='Graphiques GI'!$B$165 -> 0.20681013 | BR11: ='Graphiques GI'!$B$165 -> 0.20681013 | BS11: =MAX(R11:R12)-MIN(R11:R12) -> 0.27 | BT11: ='Graphiques GI'!$B$178 + 'Graphiques GI'!$B$177 -> 0.70591448 | BU11: ='Graphiques GI'!$B$177 -> 0.19680337 | BV11: ='Graphiques GI'!$B$177 -> 0.19680337
A12: 43466 | B12: =ROW()-1 -> 11 | C12: 52891327 | D12: =NA() -> #N/A | E12: 0.05 | F12: 0.5 | G12: 0.3 | H12: 0.31 | I12: 0.21 | J12: 0.25 | K12: 0.25 | L12: 0.17 | M12: 0.38 | N12: 0.28 | O12: 0.72 | P12: 0.76 | Q12: 0.77 | R12: 0.86 | S12: =MAX(E12:E13)-MIN(E12:E13) -> 0.02 | T12: ='Graphiques GI'!$B$22 + 'Graphiques GI'!$B$21 -> 0.28975859 | U12: ='Graphiques GI'!$B$21 -> 0.10756415 | V12: ='Graphiques GI'!$B$21 -> 0.10756415 | W12: =MAX(F12:F13)-MIN(F12:F13) -> 0.24 | X12: ='Graphiques GI'!$B$34 + 'Graphiques GI'!$B$33 -> 0.8119447 | Y12: ='Graphiques GI'!$B$33 -> 0.26672248 | Z12: ='Graphiques GI'!$B$33 -> 0.26672248 | AA12: =MAX(G12:G13)-MIN(G12:G13) -> 0.29 | AB12: ='Graphiques GI'!$B$46 + 'Graphiques GI'!$B$45 -> 0.29358351 | AC12: ='Graphiques GI'!$B$45 -> 0.12688907 | AD12: ='Graphiques GI'!$B$45 -> 0.12688907 | AE12: =MAX(H12:H13)-MIN(H12:H13) -> 0.08 | AF12: ='Graphiques GI'!$B$58 + 'Graphiques GI'!$B$57 -> 0.44586151 | AG12: ='Graphiques GI'!$B$57 -> 0.16452818 | AH12: ='Graphiques GI'!$B$57 -> 0.16452818 | AI12: =MAX(I12:I13)-MIN(I12:I13) -> 0.02 | AJ12: ='Graphiques GI'!$B$70 + 'Graphiques GI'!$B$69 -> 0.43350372 | AK12: ='Graphiques GI'!$B$69 -> 0.16369816 | AL12: ='Graphiques GI'!$B$69 -> 0.16369816 | AM12: =MAX(J12:J13)-MIN(J12:J13) -> 0.06 | AN12: ='Graphiques GI'!$B$82 + 'Graphiques GI'!$B$81 -> 0.61833435 | AO12: ='Graphiques GI'!$B$81 -> 0.1846857 | AP12: ='Graphiques GI'!$B$81 -> 0.1846857 | AQ12: =MAX(K12:K13)-MIN(K12:K13) -> 0.07 | AR12: ='Graphiques GI'!$B$94 + 'Graphiques GI'!$B$93 -> 0.51434309 | AS12: ='Graphiques GI'!$B$93 -> 0.19019032 | AT12: ='Graphiques GI'!$B$93 -> 0.19019032 | AU12: =MAX(L12:L13)-MIN(L12:L13) -> 0.02 | AV12: ='Graphiques GI'!$B$106 + 'Graphiques GI'!$B$105 -> 0.43080514 | AW12: ='Graphiques GI'!$B$105 -> 0.17391625 | AX12: ='Graphiques GI'!$B$105 -> 0.17391625 | AY12: =MAX(M12:M13)-MIN(M12:M13) -> 0.22 | AZ12: ='Graphiques GI'!$B$118 + 'Graphiques GI'!$B$117 -> 0.54303418 | BA12: ='Graphiques GI'!$B$117 -> 0.20896474 | BB12: ='Graphiques GI'!$B$117 -> 0.20896474 | BC12: =MAX(N12:N13)-MIN(N12:N13) -> 0.06 | BD12: ='Graphiques GI'!$B$130 + 'Graphiques GI'!$B$129 -> 0.62703807 | BE12: ='Graphiques GI'!$B$129 -> 0.24103807 | BF12: ='Graphiques GI'!$B$129 -> 0.24103807 | BG12: =MAX(O12:O13)-MIN(O12:O13) -> 0.65 | BH12: ='Graphiques GI'!$B$142 + 'Graphiques GI'!$B$141 -> 0.78975212 | BI12: ='Graphiques GI'!$B$141 -> 0.22812712 | BJ12: ='Graphiques GI'!$B$141 -> 0.22812712 | BK12: =MAX(P12:P13)-MIN(P12:P13) -> 0.58 | BL12: ='Graphiques GI'!$B$154 + 'Graphiques GI'!$B$153 -> 0.69737848 | BM12: ='Graphiques GI'!$B$153 -> 0.19929515 | BN12: ='Graphiques GI'!$B$153 -> 0.19929515 | BO12: =MAX(Q12:Q13)-MIN(Q12:Q13) -> 0.5 | BP12: ='Graphiques GI'!$B$166 + 'Graphiques GI'!$B$165 -> 0.73399069 | BQ12: ='Graphiques GI'!$B$165 -> 0.20681013 | BR12: ='Graphiques GI'!$B$165 -> 0.20681013 | BS12: =MAX(R12:R13)-MIN(R12:R13) -> 0.53 | BT12: ='Graphiques GI'!$B$178 + 'Graphiques GI'!$B$177 -> 0.70591448 | BU12: ='Graphiques GI'!$B$177 -> 0.19680337 | BV12: ='Graphiques GI'!$B$177 -> 0.19680337
A13: 43466 | B13: =ROW()-1 -> 12 | C13: 52910398 | D13: =NA() -> #N/A | E13: 0.07 | F13: 0.26 | G13: 0.01 | H13: 0.23 | I13: 0.19 | J13: 0.19 | K13: 0.18 | L13: 0.15 | M13: 0.16 | N13: 0.22 | O13: 0.07 | P13: 0.18 | Q13: 0.27 | R13: 0.33 | S13: =MAX(E13:E14)-MIN(E13:E14) -> 0.09 | T13: ='Graphiques GI'!$B$22 + 'Graphiques GI'!$B$21 -> 0.28975859 | U13: ='Graphiques GI'!$B$21 -> 0.10756415 | V13: ='Graphiques GI'!$B$21 -> 0.10756415 | W13: =MAX(F13:F14)-MIN(F13:F14) -> 0.56 | X13: ='Graphiques GI'!$B$34 + 'Graphiques GI'!$B$33 -> 0.8119447 | Y13: ='Graphiques GI'!$B$33 -> 0.26672248 | Z13: ='Graphiques GI'!$B$33 -> 0.26672248 | AA13: =MAX(G13:G14)-MIN(G13:G14) -> 0.22 | AB13: ='Graphiques GI'!$B$46 + 'Graphiques GI'!$B$45 -> 0.29358351 | AC13: ='Graphiques GI'!$B$45 -> 0.12688907 | AD13: ='Graphiques GI'!$B$45 -> 0.12688907 | AE13: =MAX(H13:H14)-MIN(H13:H14) -> 0.15 | AF13: ='Graphiques GI'!$B$58 + 'Graphiques GI'!$B$57 -> 0.44586151 | AG13: ='Graphiques GI'!$B$57 -> 0.16452818 | AH13: ='Graphiques GI'!$B$57 -> 0.16452818 | AI13: =MAX(I13:I14)-MIN(I13:I14) -> 0.03 | AJ13: ='Graphiques GI'!$B$70 + 'Graphiques GI'!$B$69 -> 0.43350372 | AK13: ='Graphiques GI'!$B$69 -> 0.16369816 | AL13: ='Graphiques GI'!$B$69 -> 0.16369816 | AM13: =MAX(J13:J14)-MIN(J13:J14) -> 0.07 | AN13: ='Graphiques GI'!$B$82 + 'Graphiques GI'!$B$81 -> 0.61833435 | AO13: ='Graphiques GI'!$B$81 -> 0.1846857 | AP13: ='Graphiques GI'!$B$81 -> 0.1846857 | AQ13: =MAX(K13:K14)-MIN(K13:K14) -> 0.15 | AR13: ='Graphiques GI'!$B$94 + 'Graphiques GI'!$B$93 -> 0.51434309 | AS13: ='Graphiques GI'!$B$93 -> 0.19019032 | AT13: ='Graphiques GI'!$B$93 -> 0.19019032 | AU13: =MAX(L13:L14)-MIN(L13:L14) -> 0.26 | AV13: ='Graphiques GI'!$B$106 + 'Graphiques GI'!$B$105 -> 0.43080514 | AW13: ='Graphiques GI'!$B$105 -> 0.17391625 | AX13: ='Graphiques GI'!$B$105 -> 0.17391625 | AY13: =MAX(M13:M14)-MIN(M13:M14) -> 0.4 | AZ13: ='Graphiques GI'!$B$118 + 'Graphiques GI'!$B$117 -> 0.54303418 | BA13: ='Graphiques GI'!$B$117 -> 0.20896474 | BB13: ='Graphiques GI'!$B$117 -> 0.20896474 | BC13: =MAX(N13:N14)-MIN(N13:N14) -> 0.42 | BD13: ='Graphiques GI'!$B$130 + 'Graphiques GI'!$B$129 -> 0.62703807 | BE13: ='Graphiques GI'!$B$129 -> 0.24103807 | BF13: ='Graphiques GI'!$B$129 -> 0.24103807 | BG13: =MAX(O13:O14)-MIN(O13:O14) -> 0.63 | BH13: ='Graphiques GI'!$B$142 + 'Graphiques GI'!$B$141 -> 0.78975212 | BI13: ='Graphiques GI'!$B$141 -> 0.22812712 | BJ13: ='Graphiques GI'!$B$141 -> 0.22812712 | BK13: =MAX(P13:P14)-MIN(P13:P14) -> 0.31 | BL13: ='Graphiques GI'!$B$154 + 'Graphiques GI'!$B$153 -> 0.69737848 | BM13: ='Graphiques GI'!$B$153 -> 0.19929515 | BN13: ='Graphiques GI'!$B$153 -> 0.19929515 | BO13: =MAX(Q13:Q14)-MIN(Q13:Q14) -> 0.18 | BP13: ='Graphiques GI'!$B$166 + 'Graphiques GI'!$B$165 -> 0.73399069 | BQ13: ='Graphiques GI'!$B$165 -> 0.20681013 | BR13: ='Graphiques GI'!$B$165 -> 0.20681013 | BS13: =MAX(R13:R14)-MIN(R13:R14) -> 0.27 | BT13: ='Graphiques GI'!$B$178 + 'Graphiques GI'!$B$177 -> 0.70591448 | BU13: ='Graphiques GI'!$B$177 -> 0.19680337 | BV13: ='Graphiques GI'!$B$177 -> 0.19680337
... A63: 43619 | B63: =ROW()-1 -> 62 | C63: 53057703 | D63: =NA() -> #N/A | E63: 0.13 | F63: 0.13 | G63: 0.31 | H63: 0.11 | I63: 0.14 | J63: 0.08 | K63: 0.09 | L63: 0.06 | M63: 0.11 | N63: 0.04 | O63: 0.08 | P63: 0.14 | Q63: 0.3 | R63: 0.28 | S63: =MAX(E63:E64)-MIN(E63:E64) -> 0.02 | T63: ='Graphiques GI'!$B$22 + 'Graphiques GI'!$B$21 -> 0.28975859 | U63: ='Graphiques GI'!$B$21 -> 0.10756415 | V63: ='Graphiques GI'!$B$21 -> 0.10756415 | W63: =MAX(F63:F64)-MIN(F63:F64) -> 0.12 | X63: ='Graphiques GI'!$B$34 + 'Graphiques GI'!$B$33 -> 0.8119447 | Y63: ='Graphiques GI'!$B$33 -> 0.26672248 | Z63: ='Graphiques GI'!$B$33 -> 0.26672248 | AA63: =MAX(G63:G64)-MIN(G63:G64) -> 0.05 | AB63: ='Graphiques GI'!$B$46 + 'Graphiques GI'!$B$45 -> 0.29358351 | AC63: ='Graphiques GI'!$B$45 -> 0.12688907 | AD63: ='Graphiques GI'!$B$45 -> 0.12688907 | AE63: =MAX(H63:H64)-MIN(H63:H64) -> 0.09 | AF63: ='Graphiques GI'!$B$58 + 'Graphiques GI'!$B$57 -> 0.44586151 | AG63: ='Graphiques GI'!$B$57 -> 0.16452818 | AH63: ='Graphiques GI'!$B$57 -> 0.16452818 | AI63: =MAX(I63:I64)-MIN(I63:I64) -> 0.16 | AJ63: ='Graphiques GI'!$B$70 + 'Graphiques GI'!$B$69 -> 0.43350372 | AK63: ='Graphiques GI'!$B$69 -> 0.16369816 | AL63: ='Graphiques GI'!$B$69 -> 0.16369816 | AM63: =MAX(J63:J64)-MIN(J63:J64) -> 0.18 | AN63: ='Graphiques GI'!$B$82 + 'Graphiques GI'!$B$81 -> 0.61833435 | AO63: ='Graphiques GI'!$B$81 -> 0.1846857 | AP63: ='Graphiques GI'!$B$81 -> 0.1846857 | AQ63: =MAX(K63:K64)-MIN(K63:K64) -> 0.07 | AR63: ='Graphiques GI'!$B$94 + 'Graphiques GI'!$B$93 -> 0.51434309 | AS63: ='Graphiques GI'!$B$93 -> 0.19019032 | AT63: ='Graphiques GI'!$B$93 -> 0.19019032 | AU63: =MAX(L63:L64)-MIN(L63:L64) -> 0.04 | AV63: ='Graphiques GI'!$B$106 + 'Graphiques GI'!$B$105 -> 0.43080514 | AW63: ='Graphiques GI'!$B$105 -> 0.17391625 | AX63: ='Graphiques GI'!$B$105 -> 0.17391625 | AY63: =MAX(M63:M64)-MIN(M63:M64) -> 0.08 | AZ63: ='Graphiques GI'!$B$118 + 'Graphiques GI'!$B$117 -> 0.54303418 | BA63: ='Graphiques GI'!$B$117 -> 0.20896474 | BB63: ='Graphiques GI'!$B$117 -> 0.20896474 | BC63: =MAX(N63:N64)-MIN(N63:N64) -> 0.18 | BD63: ='Graphiques GI'!$B$130 + 'Graphiques GI'!$B$129 -> 0.62703807 | BE63: ='Graphiques GI'!$B$129 -> 0.24103807 | BF63: ='Graphiques GI'!$B$129 -> 0.24103807 | BG63: =MAX(O63:O64)-MIN(O63:O64) -> 0.39 | BH63: ='Graphiques GI'!$B$142 + 'Graphiques GI'!$B$141 -> 0.78975212 | BI63: ='Graphiques GI'!$B$141 -> 0.22812712 | BJ63: ='Graphiques GI'!$B$141 -> 0.22812712 | BK63: =MAX(P63:P64)-MIN(P63:P64) -> 0.36 | BL63: ='Graphiques GI'!$B$154 + 'Graphiques GI'!$B$153 -> 0.69737848 | BM63: ='Graphiques GI'!$B$153 -> 0.19929515 | BN63: ='Graphiques GI'!$B$153 -> 0.19929515 | BO63: =MAX(Q63:Q64)-MIN(Q63:Q64) -> 0.19 | BP63: ='Graphiques GI'!$B$166 + 'Graphiques GI'!$B$165 -> 0.73399069 | BQ63: ='Graphiques GI'!$B$165 -> 0.20681013 | BR63: ='Graphiques GI'!$B$165 -> 0.20681013 | BS63: =MAX(R63:R64)-MIN(R63:R64) -> 0.27 | BT63: ='Graphiques GI'!$B$178 + 'Graphiques GI'!$B$177 -> 0.70591448 | BU63: ='Graphiques GI'!$B$177 -> 0.19680337 | BV63: ='Graphiques GI'!$B$177 -> 0.19680337
A64: 43619 | B64: =ROW()-1 -> 63 | C64: 53064437 | D64: =NA() -> #N/A | E64: 0.15 | F64: 0.25 | G64: 0.26 | H64: 0.2 | I64: 0.3 | J64: 0.26 | K64: 0.16 | L64: 0.1 | M64: 0.19 | N64: 0.22 | O64: 0.47 | P64: 0.5 | Q64: 0.49 | R64: 0.55 | S64: =MAX(E64:E64)-MIN(E64:E64) -> 0 | T64: ='Graphiques GI'!$B$22 + 'Graphiques GI'!$B$21 -> 0.28975859 | U64: ='Graphiques GI'!$B$21 -> 0.10756415 | V64: ='Graphiques GI'!$B$21 -> 0.10756415 | W64: =MAX(F64:F64)-MIN(F64:F64) -> 0 | X64: ='Graphiques GI'!$B$34 + 'Graphiques GI'!$B$33 -> 0.8119447 | Y64: ='Graphiques GI'!$B$33 -> 0.26672248 | Z64: ='Graphiques GI'!$B$33 -> 0.26672248 | AA64: =MAX(G64:G64)-MIN(G64:G64) -> 0 | AB64: ='Graphiques GI'!$B$46 + 'Graphiques GI'!$B$45 -> 0.29358351 | AC64: ='Graphiques GI'!$B$45 -> 0.12688907 | AD64: ='Graphiques GI'!$B$45 -> 0.12688907 | AE64: =MAX(H64:H64)-MIN(H64:H64) -> 0 | AF64: ='Graphiques GI'!$B$58 + 'Graphiques GI'!$B$57 -> 0.44586151 | AG64: ='Graphiques GI'!$B$57 -> 0.16452818 | AH64: ='Graphiques GI'!$B$57 -> 0.16452818 | AI64: =MAX(I64:I64)-MIN(I64:I64) -> 0 | AJ64: ='Graphiques GI'!$B$70 + 'Graphiques GI'!$B$69 -> 0.43350372 | AK64: ='Graphiques GI'!$B$69 -> 0.16369816 | AL64: ='Graphiques GI'!$B$69 -> 0.16369816 | AM64: =MAX(J64:J64)-MIN(J64:J64) -> 0 | AN64: ='Graphiques GI'!$B$82 + 'Graphiques GI'!$B$81 -> 0.61833435 | AO64: ='Graphiques GI'!$B$81 -> 0.1846857 | AP64: ='Graphiques GI'!$B$81 -> 0.1846857 | AQ64: =MAX(K64:K64)-MIN(K64:K64) -> 0 | AR64: ='Graphiques GI'!$B$94 + 'Graphiques GI'!$B$93 -> 0.51434309 | AS64: ='Graphiques GI'!$B$93 -> 0.19019032 | AT64: ='Graphiques GI'!$B$93 -> 0.19019032 | AU64: =MAX(L64:L64)-MIN(L64:L64) -> 0 | AV64: ='Graphiques GI'!$B$106 + 'Graphiques GI'!$B$105 -> 0.43080514 | AW64: ='Graphiques GI'!$B$105 -> 0.17391625 | AX64: ='Graphiques GI'!$B$105 -> 0.17391625 | AY64: =MAX(M64:M64)-MIN(M64:M64) -> 0 | AZ64: ='Graphiques GI'!$B$118 + 'Graphiques GI'!$B$117 -> 0.54303418 | BA64: ='Graphiques GI'!$B$117 -> 0.20896474 | BB64: ='Graphiques GI'!$B$117 -> 0.20896474 | BC64: =MAX(N64:N64)-MIN(N64:N64) -> 0 | BD64: ='Graphiques GI'!$B$130 + 'Graphiques GI'!$B$129 -> 0.62703807 | BE64: ='Graphiques GI'!$B$129 -> 0.24103807 | BF64: ='Graphiques GI'!$B$129 -> 0.24103807 | BG64: =MAX(O64:O64)-MIN(O64:O64) -> 0 | BH64: ='Graphiques GI'!$B$142 + 'Graphiques GI'!$B$141 -> 0.78975212 | BI64: ='Graphiques GI'!$B$141 -> 0.22812712 | BJ64: ='Graphiques GI'!$B$141 -> 0.22812712 | BK64: =MAX(P64:P64)-MIN(P64:P64) -> 0 | BL64: ='Graphiques GI'!$B$154 + 'Graphiques GI'!$B$153 -> 0.69737848 | BM64: ='Graphiques GI'!$B$153 -> 0.19929515 | BN64: ='Graphiques GI'!$B$153 -> 0.19929515 | BO64: =MAX(Q64:Q64)-MIN(Q64:Q64) -> 0 | BP64: ='Graphiques GI'!$B$166 + 'Graphiques GI'!$B$165 -> 0.73399069 | BQ64: ='Graphiques GI'!$B$165 -> 0.20681013 | BR64: ='Graphiques GI'!$B$165 -> 0.20681013 | BS64: =MAX(R64:R64)-MIN(R64:R64) -> 0 | BT64: ='Graphiques GI'!$B$178 + 'Graphiques GI'!$B$177 -> 0.70591448 | BU64: ='Graphiques GI'!$B$177 -> 0.19680337 | BV64: ='Graphiques GI'!$B$177 -> 0.19680337
A65: 43630 | B65: =ROW()-1 -> 64 | C65: 53078456 | D65: =NA() -> #N/A | E65: 0.3 | F65: 0.49 | G65: 0.03 | H65: 0.42 | I65: 0.38 | J65: 0.46 | K65: 0.56 | L65: 0.31 | M65: 0.39 | N65: 0.4 | O65: 0.57 | P65: 0.61 | Q65: 0.59 | R65: 0.53 | S65: =MAX(E65:E133)-MIN(E65:E133) -> 0.316 | T65: ='Graphiques GI'!$B$22 + 'Graphiques GI'!$B$21 -> 0.28975859 | U65: ='Graphiques GI'!$B$21 -> 0.10756415 | V65: ='Graphiques GI'!$B$21 -> 0.10756415 | W65: =MAX(F65:F133)-MIN(F65:F133) -> 0.895 | X65: ='Graphiques GI'!$B$34 + 'Graphiques GI'!$B$33 -> 0.8119447 | Y65: ='Graphiques GI'!$B$33 -> 0.26672248 | Z65: ='Graphiques GI'!$B$33 -> 0.26672248 | AA65: =MAX(G65:G133)-MIN(G65:G133) -> 0.25 | AB65: ='Graphiques GI'!$B$46 + 'Graphiques GI'!$B$45 -> 0.29358351 | AC65: ='Graphiques GI'!$B$45 -> 0.12688907 | AD65: ='Graphiques GI'!$B$45 -> 0.12688907 | AE65: =MAX(H65:H133)-MIN(H65:H133) -> 0.512 | AF65: ='Graphiques GI'!$B$58 + 'Graphiques GI'!$B$57 -> 0.44586151 | AG65: ='Graphiques GI'!$B$57 -> 0.16452818 | AH65: ='Graphiques GI'!$B$57 -> 0.16452818 | AI65: =MAX(I65:I133)-MIN(I65:I133) -> 0.38 | AJ65: ='Graphiques GI'!$B$70 + 'Graphiques GI'!$B$69 -> 0.43350372 | AK65: ='Graphiques GI'!$B$69 -> 0.16369816 | AL65: ='Graphiques GI'!$B$69 -> 0.16369816 | AM65: =MAX(J65:J133)-MIN(J65:J133) -> 0.39 | AN65: ='Graphiques GI'!$B$82 + 'Graphiques GI'!$B$81 -> 0.61833435 | AO65: ='Graphiques GI'!$B$81 -> 0.1846857 | AP65: ='Graphiques GI'!$B$81 -> 0.1846857 | AQ65: =MAX(K65:K133)-MIN(K65:K133) -> 0.45 | AR65: ='Graphiques GI'!$B$94 + 'Graphiques GI'!$B$93 -> 0.51434309 | AS65: ='Graphiques GI'!$B$93 -> 0.19019032 | AT65: ='Graphiques GI'!$B$93 -> 0.19019032 | AU65: =MAX(L65:L133)-MIN(L65:L133) -> 0.586 | AV65: ='Graphiques GI'!$B$106 + 'Graphiques GI'!$B$105 -> 0.43080514 | AW65: ='Graphiques GI'!$B$105 -> 0.17391625 | AX65: ='Graphiques GI'!$B$105 -> 0.17391625 | AY65: =MAX(M65:M133)-MIN(M65:M133) -> 0.793 | AZ65: ='Graphiques GI'!$B$118 + 'Graphiques GI'!$B$117 -> 0.54303418 | BA65: ='Graphiques GI'!$B$117 -> 0.20896474 | BB65: ='Graphiques GI'!$B$117 -> 0.20896474 | BC65: =MAX(N65:N133)-MIN(N65:N133) -> 0.756 | BD65: ='Graphiques GI'!$B$130 + 'Graphiques GI'!$B$129 -> 0.62703807 | BE65: ='Graphiques GI'!$B$129 -> 0.24103807 | BF65: ='Graphiques GI'!$B$129 -> 0.24103807 | BG65: =MAX(O65:O133)-MIN(O65:O133) -> 0.559 | BH65: ='Graphiques GI'!$B$142 + 'Graphiques GI'!$B$141 -> 0.78975212 | BI65: ='Graphiques GI'!$B$141 -> 0.22812712 | BJ65: ='Graphiques GI'!$B$141 -> 0.22812712 | BK65: =MAX(P65:P133)-MIN(P65:P133) -> 0.612 | BL65: ='Graphiques GI'!$B$154 + 'Graphiques GI'!$B$153 -> 0.69737848 | BM65: ='Graphiques GI'!$B$153 -> 0.19929515 | BN65: ='Graphiques GI'!$B$153 -> 0.19929515 | BO65: =MAX(Q65:Q133)-MIN(Q65:Q133) -> 0.734 | BP65: ='Graphiques GI'!$B$166 + 'Graphiques GI'!$B$165 -> 0.73399069 | BQ65: ='Graphiques GI'!$B$165 -> 0.20681013 | BR65: ='Graphiques GI'!$B$165 -> 0.20681013 | BS65: =MAX(R65:R133)-MIN(R65:R133) -> 0.543 | BT65: ='Graphiques GI'!$B$178 + 'Graphiques GI'!$B$177 -> 0.70591448 | BU65: ='Graphiques GI'!$B$177 -> 0.19680337 | BV65: ='Graphiques GI'!$B$177 -> 0.19680337
A66: 43633 | B66: =ROW()-1 -> 65 | C66: 53084911 | D66: =NA() -> #N/A | E66: 0.04 | F66: 0.26 | G66: 0.21 | H66: 0.14 | I66: 0.21 | J66: 0.29 | K66: 0.29 | L66: 0.12 | M66: 0.23 | N66: 0.21 | O66: 0.26 | P66: 0.2 | Q66: 0.36 | R66: 0.33 | S66: =MAX(E66:E134)-MIN(E66:E134) -> 0.316 | T66: ='Graphiques GI'!$B$22 + 'Graphiques GI'!$B$21 -> 0.28975859 | U66: ='Graphiques GI'!$B$21 -> 0.10756415 | V66: ='Graphiques GI'!$B$21 -> 0.10756415 | W66: =MAX(F66:F134)-MIN(F66:F134) -> 0.895 | X66: ='Graphiques GI'!$B$34 + 'Graphiques GI'!$B$33 -> 0.8119447 | Y66: ='Graphiques GI'!$B$33 -> 0.26672248 | Z66: ='Graphiques GI'!$B$33 -> 0.26672248 | AA66: =MAX(G66:G134)-MIN(G66:G134) -> 0.194 | AB66: ='Graphiques GI'!$B$46 + 'Graphiques GI'!$B$45 -> 0.29358351 | AC66: ='Graphiques GI'!$B$45 -> 0.12688907 | AD66: ='Graphiques GI'!$B$45 -> 0.12688907 | AE66: =MAX(H66:H134)-MIN(H66:H134) -> 0.512 | AF66: ='Graphiques GI'!$B$58 + 'Graphiques GI'!$B$57 -> 0.44586151 | AG66: ='Graphiques GI'!$B$57 -> 0.16452818 | AH66: ='Graphiques GI'!$B$57 -> 0.16452818 | AI66: =MAX(I66:I134)-MIN(I66:I134) -> 0.38 | AJ66: ='Graphiques GI'!$B$70 + 'Graphiques GI'!$B$69 -> 0.43350372 | AK66: ='Graphiques GI'!$B$69 -> 0.16369816 | AL66: ='Graphiques GI'!$B$69 -> 0.16369816 | AM66: =MAX(J66:J134)-MIN(J66:J134) -> 0.39 | AN66: ='Graphiques GI'!$B$82 + 'Graphiques GI'!$B$81 -> 0.61833435 | AO66: ='Graphiques GI'!$B$81 -> 0.1846857 | AP66: ='Graphiques GI'!$B$81 -> 0.1846857 | AQ66: =MAX(K66:K134)-MIN(K66:K134) -> 0.397 | AR66: ='Graphiques GI'!$B$94 + 'Graphiques GI'!$B$93 -> 0.51434309 | AS66: ='Graphiques GI'!$B$93 -> 0.19019032 | AT66: ='Graphiques GI'!$B$93 -> 0.19019032 | AU66: =MAX(L66:L134)-MIN(L66:L134) -> 0.586 | AV66: ='Graphiques GI'!$B$106 + 'Graphiques GI'!$B$105 -> 0.43080514 | AW66: ='Graphiques GI'!$B$105 -> 0.17391625 | AX66: ='Graphiques GI'!$B$105 -> 0.17391625 | AY66: =MAX(M66:M134)-MIN(M66:M134) -> 0.793 | AZ66: ='Graphiques GI'!$B$118 + 'Graphiques GI'!$B$117 -> 0.54303418 | BA66: ='Graphiques GI'!$B$117 -> 0.20896474 | BB66: ='Graphiques GI'!$B$117 -> 0.20896474 | BC66: =MAX(N66:N134)-MIN(N66:N134) -> 0.756 | BD66: ='Graphiques GI'!$B$130 + 'Graphiques GI'!$B$129 -> 0.62703807 | BE66: ='Graphiques GI'!$B$129 -> 0.24103807 | BF66: ='Graphiques GI'!$B$129 -> 0.24103807 | BG66: =MAX(O66:O134)-MIN(O66:O134) -> 0.559 | BH66: ='Graphiques GI'!$B$142 + 'Graphiques GI'!$B$141 -> 0.78975212 | BI66: ='Graphiques GI'!$B$141 -> 0.22812712 | BJ66: ='Graphiques GI'!$B$141 -> 0.22812712 | BK66: =MAX(P66:P134)-MIN(P66:P134) -> 0.612 | BL66: ='Graphiques GI'!$B$154 + 'Graphiques GI'!$B$153 -> 0.69737848 | BM66: ='Graphiques GI'!$B$153 -> 0.19929515 | BN66: ='Graphiques GI'!$B$153 -> 0.19929515 | BO66: =MAX(Q66:Q134)-MIN(Q66:Q134) -> 0.734 | BP66: ='Graphiques GI'!$B$166 + 'Graphiques GI'!$B$165 -> 0.73399069 | BQ66: ='Graphiques GI'!$B$165 -> 0.20681013 | BR66: ='Graphiques GI'!$B$165 -> 0.20681013 | BS66: =MAX(R66:R134)-MIN(R66:R134) -> 0.543 | BT66: ='Graphiques GI'!$B$178 + 'Graphiques GI'!$B$177 -> 0.70591448 | BU66: ='Graphiques GI'!$B$177 -> 0.19680337 | BV66: ='Graphiques GI'!$B$177 -> 0.19680337
