Workbook
Name Feries: T_Feries[Date]
Name L_Annee: T_Annee[Annèe]
Name L_Mois: T_Mois[Mois]
Name L_Nom: T_Nom[Nom et prénom]
Name num_mois: T_Mois[Nb]

Sheet Explications formule MOD
A2: 43466 | B2: =A2-MOD(A2-0,7) -> 43463 | D2: =_xlfn.FORMULATEXT(B2) -> =A2-MOD(A2-0;7) | E2: Permet de trouver le samedi avant une date
A3: 43466 | B3: =A3-MOD(A3-1,7) -> 43464 | D3: =_xlfn.FORMULATEXT(B3) -> =A3-MOD(A3-1;7) | E3: Permet de trouver le dimanche avant une date
A4: 43466 | B4: =A4-MOD(A4-2,7) -> 43465 | D4: =_xlfn.FORMULATEXT(B4) -> =A4-MOD(A4-2;7) | E4: Permet de trouver le lundi avant une date
A5: 43466 | B5: =A5-MOD(A5-3,7) -> 43466 | D5: =_xlfn.FORMULATEXT(B5) -> =A5-MOD(A5-3;7) | E5: Permet de trouver le mardi avant une date
A6: 43466 | B6: =A6-MOD(A6-4,7) -> 43460 | D6: =_xlfn.FORMULATEXT(B6) -> =A6-MOD(A6-4;7) | E6: Permet de trouver le mercredi avant une date
A7: 43466 | B7: =A7-MOD(A7-5,7) -> 43461 | D7: =_xlfn.FORMULATEXT(B7) -> =A7-MOD(A7-5;7) | E7: Permet de trouver le jeudi avant une date
A8: 43466 | B8: =A8-MOD(A8-6,7) -> 43462 | D8: =_xlfn.FORMULATEXT(B8) -> =A8-MOD(A8-6;7) | E8: Permet de trouver le vendredi avant une date
B11: Source : | C11: http://www.astuceshebdo.com/2009/12/excel-une-formule-pour-calculer-la-date.html

Sheet Paramètres
A1: Nom et prénom | C1: Annèe | E1: Mois | F1: Nb | H1: Jours fériés | I1: Date
A2: A | C2: 2018 | E2: janvier | F2: 1 | H2: Jour de l'an | I2: =DATE('Semaine 1'!C1,1,1) -> 43466
A3: B | C3: 2019 | E3: février | F3: 2 | H3: Pâques | I3: =FLOOR(DAY(MINUTE('Semaine 1'!C1/38)/2+56)&"/5/"&'Semaine 1'!C1,7)-34 -> 43576
A4: C | C4: 2020 | E4: mars | F4: 3 | H4: Lundi de Pâques | I4: =I3+1 -> 43577
A5: D | C5: 2021 | E5: avril | F5: 4 | H5: Fête du travail | I5: =DATE('Semaine 1'!C1,5,1) -> 43586
A6: E | C6: 2022 | E6: mai | F6: 5 | H6: Armistice 39/45 | I6: =DATE('Semaine 1'!C1,5,8) -> 43593
A7: F | C7: 2023 | E7: juin | F7: 6 | H7: Ascension | I7: =I3 + 39 -> 43615
A8: G | C8: 2024 | E8: juillet | F8: 7 | H8: Pentecôte | I8: =I3+ 49 -> 43625
A9: H | C9: 2025 | E9: août | F9: 8 | H9: Lundi de Pentecôte | I9: =I3 + 50 -> 43626
A10: I | C10: 2026 | E10: septembre | F10: 9 | H10: Fête Nationale | I10: =DATE('Semaine 1'!C1,7,14) -> 43660
A11: J | C11: 2027 | E11: octobre | F11: 10 | H11: Assomption | I11: =DATE('Semaine 1'!C1,8,15) -> 43692
A12: K | C12: 2028 | E12: novembre | F12: 11 | H12: Toussaint | I12: =DATE('Semaine 1'!C1,11,1) -> 43770
A13: L | C13: 2029 | E13: décembre | F13: 12 | H13: Armistice 14/18 | I13: =DATE('Semaine 1'!C1,11,11) -> 43780
A14: M | C14: 2030 | H14: Noël | I14: =DATE('Semaine 1'!C1,12,25) -> 43824
A15: N
A16: O
A17: P
A18: Q
A19: R

Sheet Semaine 1
B1: Annèe : | C1: 2019 | F1: Mois : | G1: janvier | I1: Date : | J1: =DATE(C1,VLOOKUP(G1,T_Mois[],2,FALSE),1) -> 43466 | K1: =_xlfn.FORMULATEXT(J1) -> =DATE(C1;RECHERCHEV(G1;T_Mois;2;FAUX);1)
A2: Nombre d'enfant | B2: NOM et PRENOM | C2: Prévisionnel | F2: Réel | I2: Facture | N2: Nombre d'enfant | O2: NOM et PRENOM | P2: Présence / semaine | Q2: Total Heures Contrat semaines 02 | R2: Total Heures réelles semaines 02 | S2: Total Heures sup semaines 02 | T2: Total Heures facturables semaines 02 | U2: Total Dû semaines 02
C3: Heure d'arrivée | D3: Heure de départ | E3: Durée | F3: Heure d'arrivée | G3: Heure de départ | H3: Durée | I3: Durée Facturable | J3: Taux horaire | K3: Dû par la famille
B4: =_xlfn.FORMULATEXT(B5) -> =NO.SEMAINE.ISO(J1)
A5: Semaine : | B5: =_xlfn.ISOWEEKNUM(J1) -> 1 | C5: =J1-MOD(J1-2,7) -> 43465 | L5: =_xlfn.FORMULATEXT(C5) -> =J1-MOD(J1-2;7)
A6: 1 | B6: A | C6: 0 | D6: 0 | E6: =IF(OR(C6="abs",C6="",C6="CA"),0,D6-C6) -> 0 | F6: 0 | G6: 0 | H6: =IF(OR(F6="abs",F6="",F6="ca"),0,G6-F6) -> 0 | I6: =MAX(H6-E6,0) -> 0 | J6: 8.75 | K6: =(I6*24)*J6 -> 0 | N6: 1 | O6: A | P6: =SUMPRODUCT(($B$6:$B$26=B6)*(($H$118:$H$138>0)+($H$90:$H$110>0)+($H$62:$H$82>0)+($H$34:$H$54>0)+($H$6:$H$26>0))) -> 0 | Q6: =SUM($E6+$E34+$E62+$E90+$E118) -> 1 | R6: =SUM($H6+$H34+$H62+$H90+$H118) -> 0 | S6: =SUM($I6+$I34+$I62+$I90+$I118) -> 0 | T6: =SUM(Q6+S6) -> 1 | U6: =(S6*24)*J6 -> 0
A7: 2 | B7: B | C7: 0.3125 | D7: 0.77083333 | E7: =IF(OR(C7="abs",C7="",C7="CA"),0,D7-C7) -> 0.45833333 | F7: 0 | G7: 0 | H7: =IF(OR(F7="abs",F7="",F7="ca"),0,G7-F7) -> 0 | I7: =MAX(H7-E7,0) -> 0 | J7: 8 | K7: =(I7*24)*J7 -> 0 | N7: 2 | O7: B | P7: =SUMPRODUCT(($B$6:$B$26=B7)*(($H$118:$H$138>0)+($H$90:$H$110>0)+($H$62:$H$82>0)+($H$34:$H$54>0)+($H$6:$H$26>0))) -> 0 | Q7: =SUM($E7+$E35+$E63+$E91+$E119) -> 2.0625 | R7: =SUM($H7+$H35+$H63+$H91+$H119) -> 0 | S7: =SUM($I7+$I35+$I63+$I91+$I119) -> 0 | T7: =SUM(Q7+S7) -> 2.0625 | U7: =(S7*24)*J7 -> 0
A8: 3 | B8: C | C8: 0.3125 | D8: 0.75 | E8: =IF(OR(C8="abs",C8="",C8="CA"),0,D8-C8) -> 0.4375 | F8: 0 | G8: 0 | H8: =IF(OR(F8="abs",F8="",F8="ca"),0,G8-F8) -> 0 | I8: =MAX(H8-E8,0) -> 0 | J8: 8.75 | K8: =(I8*24)*J8 -> 0 | N8: 3 | O8: C | P8: =SUMPRODUCT(($B$6:$B$26=B8)*(($H$118:$H$138>0)+($H$90:$H$110>0)+($H$62:$H$82>0)+($H$34:$H$54>0)+($H$6:$H$26>0))) -> 0 | Q8: =SUM($E8+$E36+$E64+$E92+$E120) -> 1.3125 | R8: =SUM($H8+$H36+$H64+$H92+$H120) -> 0 | S8: =SUM($I8+$I36+$I64+$I92+$I120) -> 0 | T8: =SUM(Q8+S8) -> 1.3125 | U8: =(S8*24)*J8 -> 0
A9: 4 | B9: D | C9: 0 | D9: 0 | E9: =IF(OR(C9="abs",C9="",C9="CA"),0,D9-C9) -> 0 | F9: 0 | G9: 0 | H9: =IF(OR(F9="abs",F9="",F9="ca"),0,G9-F9) -> 0 | I9: =MAX(H9-E9,0) -> 0 | J9: 9.75 | K9: =(I9*24)*J9 -> 0 | N9: 4 | O9: D | P9: =SUMPRODUCT(($B$6:$B$26=B9)*(($H$118:$H$138>0)+($H$90:$H$110>0)+($H$62:$H$82>0)+($H$34:$H$54>0)+($H$6:$H$26>0))) -> 0 | Q9: =SUM($E9+$E37+$E65+$E93+$E121) -> 0.39583333 | R9: =SUM($H9+$H37+$H65+$H93+$H121) -> 0 | S9: =SUM($I9+$I37+$I65+$I93+$I121) -> 0 | T9: =SUM(Q9+S9) -> 0.39583333 | U9: =(S9*24)*J9 -> 0
A10: 5 | B10: E | C10: 0.33333333 | D10: 0.75 | E10: =IF(OR(C10="abs",C10="",C10="CA"),0,D10-C10) -> 0.41666667 | F10: 0 | G10: 0 | H10: =IF(OR(F10="abs",F10="",F10="ca"),0,G10-F10) -> 0 | I10: =MAX(H10-E10,0) -> 0 | J10: 9.25 | K10: =(I10*24)*J10 -> 0 | N10: 5 | O10: E | P10: =SUMPRODUCT(($B$6:$B$26=B10)*(($H$118:$H$138>0)+($H$90:$H$110>0)+($H$62:$H$82>0)+($H$34:$H$54>0)+($H$6:$H$26>0))) -> 0 | Q10: =SUM($E10+$E38+$E66+$E94+$E122) -> 0.83333333 | R10: =SUM($H10+$H38+$H66+$H94+$H122) -> 0 | S10: =SUM($I10+$I38+$I66+$I94+$I122) -> 0 | T10: =SUM(Q10+S10) -> 0.83333333 | U10: =(S10*24)*J10 -> 0
A11: 6 | B11: F | C11: 0.375 | D11: 0.6875 | E11: =IF(OR(C11="abs",C11="",C11="CA"),0,D11-C11) -> 0.3125 | F11: 0 | G11: 0 | H11: =IF(OR(F11="abs",F11="",F11="ca"),0,G11-F11) -> 0 | I11: =MAX(H11-E11,0) -> 0 | J11: 8 | K11: =(I11*24)*J11 -> 0 | N11: 6 | O11: F | P11: =SUMPRODUCT(($B$6:$B$26=B11)*(($H$118:$H$138>0)+($H$90:$H$110>0)+($H$62:$H$82>0)+($H$34:$H$54>0)+($H$6:$H$26>0))) -> 0 | Q11: =SUM($E11+$E39+$E67+$E95+$E123) -> 1.4375 | R11: =SUM($H11+$H39+$H67+$H95+$H123) -> 0 | S11: =SUM($I11+$I39+$I67+$I95+$I123) -> 0 | T11: =SUM(Q11+S11) -> 1.4375 | U11: =(S11*24)*J11 -> 0
A12: 7 | B12: G | C12: 0 | D12: 0 | E12: =IF(OR(C12="abs",C12="",C12="CA"),0,D12-C12) -> 0 | F12: 0 | G12: 0 | H12: =IF(OR(F12="abs",F12="",F12="ca"),0,G12-F12) -> 0 | I12: =MAX(H12-E12,0) -> 0 | J12: 9.5 | K12: =(I12*24)*J12 -> 0 | N12: 7 | O12: G | P12: =SUMPRODUCT(($B$6:$B$26=B12)*(($H$118:$H$138>0)+($H$90:$H$110>0)+($H$62:$H$82>0)+($H$34:$H$54>0)+($H$6:$H$26>0))) -> 0 | Q12: =SUM($E12+$E40+$E68+$E96+$E124) -> 0.625 | R12: =SUM($H12+$H40+$H68+$H96+$H124) -> 0 | S12: =SUM($I12+$I40+$I68+$I96+$I124) -> 0 | T12: =SUM(Q12+S12) -> 0.625 | U12: =(S12*24)*J12 -> 0
A13: 8 | B13: H | C13: 0.3125 | D13: 0.75 | E13: =IF(OR(C13="abs",C13="",C13="CA"),0,D13-C13) -> 0.4375 | F13: 0 | G13: 0 | H13: =IF(OR(F13="abs",F13="",F13="ca"),0,G13-F13) -> 0 | I13: =MAX(H13-E13,0) -> 0 | J13: 9.5 | K13: =(I13*24)*J13 -> 0 | N13: 8 | O13: H | P13: =SUMPRODUCT(($B$6:$B$26=B13)*(($H$118:$H$138>0)+($H$90:$H$110>0)+($H$62:$H$82>0)+($H$34:$H$54>0)+($H$6:$H$26>0))) -> 0 | Q13: =SUM($E13+$E41+$E69+$E97+$E125) -> 0.875 | R13: =SUM($H13+$H41+$H69+$H97+$H125) -> 0 | S13: =SUM($I13+$I41+$I69+$I97+$I125) -> 0 | T13: =SUM(Q13+S13) -> 0.875 | U13: =(S13*24)*J13 -> 0
A14: 9 | B14: I | C14: 0.41666667 | D14: 0.70833333 | E14: =IF(OR(C14="abs",C14="",C14="CA"),0,D14-C14) -> 0.29166667 | F14: 0 | G14: 0 | H14: =IF(OR(F14="abs",F14="",F14="ca"),0,G14-F14) -> 0 | I14: =MAX(H14-E14,0) -> 0 | J14: 7.5 | K14: =(I14*24)*J14 -> 0 | N14: 9 | O14: I | P14: =SUMPRODUCT(($B$6:$B$26=B14)*(($H$118:$H$138>0)+($H$90:$H$110>0)+($H$62:$H$82>0)+($H$34:$H$54>0)+($H$6:$H$26>0))) -> 0 | Q14: =SUM($E14+$E42+$E70+$E98+$E126) -> 1.4583333 | R14: =SUM($H14+$H42+$H70+$H98+$H126) -> 0 | S14: =SUM($I14+$I42+$I70+$I98+$I126) -> 0 | T14: =SUM(Q14+S14) -> 1.4583333 | U14: =(S14*24)*J14 -> 0
A15: 10 | B15: J | C15: 0 | D15: 0 | E15: =IF(OR(C15="abs",C15="",C15="CA"),0,D15-C15) -> 0 | F15: 0 | G15: 0 | H15: =IF(OR(F15="abs",F15="",F15="ca"),0,G15-F15) -> 0 | I15: =MAX(H15-E15,0) -> 0 | J15: 9.75 | K15: =(I15*24)*J15 -> 0 | N15: 10 | O15: J | P15: =SUMPRODUCT(($B$6:$B$26=B15)*(($H$118:$H$138>0)+($H$90:$H$110>0)+($H$62:$H$82>0)+($H$34:$H$54>0)+($H$6:$H$26>0))) -> 0 | Q15: =SUM($E15+$E43+$E71+$E99+$E127) -> 0.39583333 | R15: =SUM($H15+$H43+$H71+$H99+$H127) -> 0 | S15: =SUM($I15+$I43+$I71+$I99+$I127) -> 0 | T15: =SUM(Q15+S15) -> 0.39583333 | U15: =(S15*24)*J15 -> 0
A16: 11 | B16: K | C16: 0 | D16: 0 | E16: =IF(OR(C16="abs",C16="",C16="CA"),0,D16-C16) -> 0 | F16: 0 | G16: 0 | H16: =IF(OR(F16="abs",F16="",F16="ca"),0,G16-F16) -> 0 | I16: =MAX(H16-E16,0) -> 0 | J16: 8.75 | K16: =(I16*24)*J16 -> 0 | N16: 11 | O16: K | P16: =SUMPRODUCT(($B$6:$B$26=B16)*(($H$118:$H$138>0)+($H$90:$H$110>0)+($H$62:$H$82>0)+($H$34:$H$54>0)+($H$6:$H$26>0))) -> 0 | Q16: =SUM($E16+$E44+$E72+$E100+$E128) -> 1.1875 | R16: =SUM($H16+$H44+$H72+$H100+$H128) -> 0 | S16: =SUM($I16+$I44+$I72+$I100+$I128) -> 0 | T16: =SUM(Q16+S16) -> 1.1875 | U16: =(S16*24)*J16 -> 0
A17: 12 | B17: L | C17: 0.3125 | D17: 0.71875 | E17: =IF(OR(C17="abs",C17="",C17="CA"),0,D17-C17) -> 0.40625 | F17: 0 | G17: 0 | H17: =IF(OR(F17="abs",F17="",F17="ca"),0,G17-F17) -> 0 | I17: =MAX(H17-E17,0) -> 0 | J17: 8.5 | K17: =(I17*24)*J17 -> 0 | N17: 12 | O17: L | P17: =SUMPRODUCT(($B$6:$B$26=B17)*(($H$118:$H$138>0)+($H$90:$H$110>0)+($H$62:$H$82>0)+($H$34:$H$54>0)+($H$6:$H$26>0))) -> 0 | Q17: =SUM($E17+$E45+$E73+$E101+$E129) -> 1.625 | R17: =SUM($H17+$H45+$H73+$H101+$H129) -> 0 | S17: =SUM($I17+$I45+$I73+$I101+$I129) -> 0 | T17: =SUM(Q17+S17) -> 1.625 | U17: =(S17*24)*J17 -> 0
A18: 13 | B18: M | C18: 0.35416667 | D18: 0.77083333 | E18: =IF(OR(C18="abs",C18="",C18="CA"),0,D18-C18) -> 0.41666667 | F18: 0 | G18: 0 | H18: =IF(OR(F18="abs",F18="",F18="ca"),0,G18-F18) -> 0 | I18: =MAX(H18-E18,0) -> 0 | J18: 8.75 | K18: =(I18*24)*J18 -> 0 | N18: 13 | O18: M | P18: =SUMPRODUCT(($B$6:$B$26=B18)*(($H$118:$H$138>0)+($H$90:$H$110>0)+($H$62:$H$82>0)+($H$34:$H$54>0)+($H$6:$H$26>0))) -> 0 | Q18: =SUM($E18+$E46+$E74+$E102+$E130) -> 1.25 | R18: =SUM($H18+$H46+$H74+$H102+$H130) -> 0 | S18: =SUM($I18+$I46+$I74+$I102+$I130) -> 0 | T18: =SUM(Q18+S18) -> 1.25 | U18: =(S18*24)*J18 -> 0
A19: 14 | B19: N | C19: 0 | D19: 0 | E19: =IF(OR(C19="abs",C19="",C19="CA"),0,D19-C19) -> 0 | F19: 0 | G19: 0 | H19: 0 | I19: =MAX(H19-E19,0) -> 0 | J19: 9 | K19: =(I19*24)*J19 -> 0 | N19: 14 | O19: N | P19: =SUMPRODUCT(($B$6:$B$26=B19)*(($H$118:$H$138>0)+($H$90:$H$110>0)+($H$62:$H$82>0)+($H$34:$H$54>0)+($H$6:$H$26>0))) -> 0 | Q19: =SUM($E19+$E47+$E75+$E103+$E131) -> 0.52083333 | R19: =SUM($H19+$H47+$H75+$H103+$H131) -> 0 | S19: =SUM($I19+$I47+$I75+$I103+$I131) -> 0 | T19: =SUM(Q19+S19) -> 0.52083333 | U19: =(S19*24)*J19 -> 0
A20: 15 | B20: O | C20: 0.36458333 | D20: 0.68402778 | E20: =IF(OR(C20="abs",C20="",C20="CA"),0,D20-C20) -> 0.31944444 | F20: 0 | G20: 0 | H20: =IF(OR(F20="abs",F20="",F20="ca"),0,G20-F20) -> 0 | I20: =MAX(H20-E20,0) -> 0 | J20: 8.75 | K20: =(I20*24)*J20 -> 0 | N20: 15 | O20: O | P20: 0 | Q20: =SUM($E20+$E48+$E76+$E104+$E132) -> 0.95833333 | R20: 0 | S20: 0 | T20: =SUM(Q20+S20) -> 0.95833333 | U20: 0
A21: 16 | B21: P | C21: 0.41666667 | D21: 0.75 | E21: =IF(OR(C21="abs",C21="",C21="CA"),0,D21-C21) -> 0.33333333 | F21: 0 | G21: 0 | H21: =IF(OR(F21="abs",F21="",F21="ca"),0,G21-F21) -> 0 | I21: =MAX(H21-E21,0) -> 0 | J21: 7.75 | K21: =(I21*24)*J21 -> 0 | N21: 16 | O21: P | P21: 0 | Q21: =SUM($E21+$E49+$E77+$E105+$E133) -> 1.6666667 | R21: 0 | S21: 0 | T21: =SUM(Q21+S21) -> 1.6666667 | U21: 0
A22: 17 | B22: Q | C22: 0 | D22: 0 | E22: =IF(OR(C22="abs",C22="",C22="CA"),0,D22-C22) -> 0 | F22: 0 | G22: 0 | H22: =IF(OR(F22="abs",F22="",F22="ca"),0,G22-F22) -> 0 | I22: =MAX(H22-E22,0) -> 0 | J22: 8.75 | K22: =(I22*24)*J22 -> 0 | N22: 17 | O22: Q | P22: 0 | Q22: =SUM($E22+$E50+$E78+$E106+$E134) -> 0.97916667 | R22: =SUM($H22+$H50+$H78+$H106+$H134) -> 0 | S22: =SUM($I22+$I50+$I78+$I106+$I134) -> 0 | T22: =SUM(Q22+S22) -> 0.97916667 | U22: =(S22*24)*J22 -> 0
A23: 18 | B23: R | C23: 0.35416667 | D23: 0.66666667 | E23: =IF(OR(C23="abs",C23="",C23="CA"),0,D23-C23) -> 0.3125 | F23: 0 | G23: 0 | H23: =IF(OR(F23="abs",F23="",F23="ca"),0,G23-F23) -> 0 | I23: =MAX(H23-E23,0) -> 0 | J23: 8.25 | K23: =(I23*24)*J23 -> 0 | N23: 18 | O23: R | P23: =SUMPRODUCT(($B$6:$B$26=B23)*(($H$118:$H$138>0)+($H$90:$H$110>0)+($H$62:$H$82>0)+($H$34:$H$54>0)+($H$6:$H$26>0))) -> 0 | Q23: =SUM($E23+$E51+$E79+$E107+$E135) -> 1.25 | R23: =SUM($H23+$H51+$H79+$H107+$H135) -> 0 | S23: =SUM($I23+$I51+$I79+$I107+$I135) -> 0 | T23: =SUM(Q23+S23) -> 1.25 | U23: =(S23*24)*J23 -> 0
A24: 19 | I24: =MAX(H24-E24,0) -> 0 | N24: 19 | P24: =SUMPRODUCT(($B$6:$B$26=B24)*(($H$118:$H$138>0)+($H$90:$H$110>0)+($H$62:$H$82>0)+($H$34:$H$54>0)+($H$6:$H$26>0))) -> 0 | Q24: =SUM($E24+$E52+$E80+$E108+$E136) -> 0 | R24: =SUM($H24+$H52+$H80+$H108+$H136) -> 0 | S24: =SUM($I24+$I52+$I80+$I108+$I136) -> 0 | T24: =SUM(Q24+S24) -> 0 | U24: =(S24*24)*J24 -> 0
A25: 20 | I25: =MAX(H25-E25,0) -> 0 | N25: 20 | P25: =SUMPRODUCT(($B$6:$B$26=B25)*(($H$118:$H$138>0)+($H$90:$H$110>0)+($H$62:$H$82>0)+($H$34:$H$54>0)+($H$6:$H$26>0))) -> 0 | Q25: =SUM($E25+$E53+$E81+$E109+$E137) -> 0 | R25: =SUM($H25+$H53+$H81+$H109+$H137) -> 0 | S25: =SUM($I25+$I53+$I81+$I109+$I137) -> 0 | T25: =SUM(Q25+S25) -> 0 | U25: =(S25*24)*J25 -> 0
A26: 21 | I26: =MAX(H26-E26,0) -> 0 | N26: 21 | P26: =SUMPRODUCT(($B$6:$B$26=B26)*(($H$118:$H$138>0)+($H$90:$H$110>0)+($H$62:$H$82>0)+($H$34:$H$54>0)+($H$6:$H$26>0))) -> 0 | Q26: =SUM($E26+$E54+$E82+$E110+$E138) -> 0 | R26: =SUM($H26+$H54+$H82+$H110+$H138) -> 0 | S26: =SUM($I26+$I54+$I82+$I110+$I138) -> 0 | T26: =SUM(Q26+S26) -> 0 | U26: =(S26*24)*J26 -> 0
A27: 22 | I27: =MAX(H27-E27,0) -> 0 | N27: 22 | Q27: =SUM($E27+$E55+$E83+$E111+$E139) -> 0 | R27: =SUM($H27+$H55+$H83+$H111+$H139) -> 0 | S27: =SUM($I27+$I55+$I83+$I111+$I139) -> 0 | T27: =SUM(Q27+S27) -> 0 | U27: =(S27*24)*J27 -> 0
A28: 23 | I28: =MAX(H28-E28,0) -> 0 | N28: 23 | Q28: =SUM($E28+$E56+$E84+$E112+$E140) -> 0 | R28: =SUM($H28+$H56+$H84+$H112+$H140) -> 0 | S28: =SUM($I28+$I56+$I84+$I112+$I140) -> 0 | T28: =SUM(Q28+S28) -> 0 | U28: =(S28*24)*J28 -> 0
A29: 24 | I29: =MAX(H29-E29,0) -> 0 | N29: 24 | Q29: =SUM($E29+$E57+$E85+$E113+$E141) -> 0 | R29: =SUM($H29+$H57+$H85+$H113+$H141) -> 0 | S29: =SUM($I29+$I57+$I85+$I113+$I141) -> 0 | T29: =SUM(Q29+S29) -> 0 | U29: =(S29*24)*J29 -> 0
A30: 25 | I30: =MAX(H30-E30,0) -> 0 | N30: 25 | Q30: =SUM($E30+$E58+$E86+$E114+$E142) -> 0 | R30: =SUM($H30+$H58+$H86+$H114+$H142) -> 0 | S30: =SUM($I30+$I58+$I86+$I114+$I142) -> 0 | T30: =SUM(Q30+S30) -> 0 | U30: =(S30*24)*J30 -> 0
A31: TOTAL | I31: =SUM(I6:I30) -> 0 | K31: =SUM(K6:K30) -> 0 | P31: =SUM(P6:P30) -> 0 | Q31: =SUM(Q6:Q30) -> 19.833333 | R31: =SUM(R6:R30) -> 0 | T31: =SUM(T6:T30) -> 19.833333 | U31: =SUM(U6:U30) -> 0
Q32: =((11.5/24)*10)*5 -> 23.958333 | R32: =((11.5/24)*10)*5 -> 23.958333 | U32: =Q31/Q32 -> 0.82782609
C33: =C5+1 -> 43466 | L33: =_xlfn.FORMULATEXT(C33) -> =C5+1
A34: 1 | B34: A | C34: 0.375 | D34: 0.70833333 | E34: =IF(OR(C34="abs",C34="",C34="CA"),0,D34-C34) -> 0.33333333 | F34: 0 | G34: 0 | H34: =IF(OR(F34="abs",F34="",F34="ca"),0,G34-F34) -> 0 | I34: =MAX(H34-E34,0) -> 0 | J34: 8.75 | K34: =(I34*24)*J34 -> 0
A35: 2 | B35: B | C35: 0.3125 | D35: 0.77083333 | E35: =IF(OR(C35="abs",C35="",C35="CA"),0,D35-C35) -> 0.45833333 | F35: 0 | G35: 0 | H35: =IF(OR(F35="abs",F35="",F35="ca"),0,G35-F35) -> 0 | I35: =MAX(H35-E35,0) -> 0 | J35: 8 | K35: =(I35*24)*J35 -> 0
A36: 3 | B36: C | C36: 0.3125 | D36: 0.75 | E36: =IF(OR(C36="abs",C36="",C36="CA"),0,D36-C36) -> 0.4375 | F36: 0 | G36: 0 | H36: =IF(OR(F36="abs",F36="",F36="ca"),0,G36-F36) -> 0 | I36: =MAX(H36-E36,0) -> 0 | J36: 8.75 | K36: =(I36*24)*J36 -> 0
A37: 4 | B37: D | C37: 0 | D37: 0 | E37: =IF(OR(C37="abs",C37="",C37="CA"),0,D37-C37) -> 0 | F37: 0 | G37: 0 | H37: =IF(OR(F37="abs",F37="",F37="ca"),0,G37-F37) -> 0 | I37: =MAX(H37-E37,0) -> 0 | J37: 9.75 | K37: =(I37*24)*J37 -> 0 | N37: Validation des données
A38: 5 | B38: E | C38: 0 | D38: 0 | E38: =IF(OR(C38="abs",C38="",C38="CA"),0,D38-C38) -> 0 | F38: 0 | G38: 0 | H38: =IF(OR(F38="abs",F38="",F38="ca"),0,G38-F38) -> 0 | I38: =MAX(H38-E38,0) -> 0 | J38: 9.25 | K38: =(I38*24)*J38 -> 0
A39: 6 | B39: F | C39: 0.32291667 | D39: 0.73958333 | E39: =IF(OR(C39="abs",C39="",C39="CA"),0,D39-C39) -> 0.41666667 | F39: 0 | G39: 0 | H39: =IF(OR(F39="abs",F39="",F39="ca"),0,G39-F39) -> 0 | I39: =MAX(H39-E39,0) -> 0 | J39: 8 | K39: =(I39*24)*J39 -> 0
A40: 7 | B40: G | C40: 0.375 | D40: 0.6875 | E40: =IF(OR(C40="abs",C40="",C40="CA"),0,D40-C40) -> 0.3125 | F40: 0 | G40: 0 | H40: =IF(OR(F40="abs",F40="",F40="ca"),0,G40-F40) -> 0 | I40: =MAX(H40-E40,0) -> 0 | J40: 9.5 | K40: =(I40*24)*J40 -> 0
A41: 8 | B41: H | C41: 0 | D41: 0 | E41: =IF(OR(C41="abs",C41="",C41="CA"),0,D41-C41) -> 0 | F41: 0 | G41: 0 | H41: =IF(OR(F41="abs",F41="",F41="ca"),0,G41-F41) -> 0 | I41: =MAX(H41-E41,0) -> 0 | J41: 9.5 | K41: =(I41*24)*J41 -> 0 | N41: Validation des données
A42: 9 | B42: I | C42: 0.41666667 | D42: 0.70833333 | E42: =IF(OR(C42="abs",C42="",C42="CA"),0,D42-C42) -> 0.29166667 | F42: 0 | G42: 0 | H42: =IF(OR(F42="abs",F42="",F42="ca"),0,G42-F42) -> 0 | I42: =MAX(H42-E42,0) -> 0 | J42: 7.5 | K42: =(I42*24)*J42 -> 0
A43: 10 | B43: J | C43: 0 | D43: 0 | E43: =IF(OR(C43="abs",C43="",C43="CA"),0,D43-C43) -> 0 | F43: 0 | G43: 0 | H43: =IF(OR(F43="abs",F43="",F43="ca"),0,G43-F43) -> 0 | I43: =MAX(H43-E43,0) -> 0 | J43: 9.75 | K43: =(I43*24)*J43 -> 0
A44: 11 | B44: K | C44: 0.375 | D44: 0.77083333 | E44: =IF(OR(C44="abs",C44="",C44="CA"),0,D44-C44) -> 0.39583333 | F44: 0 | G44: 0 | H44: =IF(OR(F44="abs",F44="",F44="ca"),0,G44-F44) -> 0 | I44: =MAX(H44-E44,0) -> 0 | J44: 8.75 | K44: =(I44*24)*J44 -> 0
A45: 12 | B45: L | C45: 0.3125 | D45: 0.72916667 | E45: =IF(OR(C45="abs",C45="",C45="CA"),0,D45-C45) -> 0.41666667 | F45: 0 | G45: 0 | H45: =IF(OR(F45="abs",F45="",F45="ca"),0,G45-F45) -> 0 | I45: =MAX(H45-E45,0) -> 0 | J45: 8.5 | K45: =(I45*24)*J45 -> 0
A46: 13 | B46: M | C46: 0 | D46: 0 | E46: =IF(OR(C46="abs",C46="",C46="CA"),0,D46-C46) -> 0 | F46: 0 | G46: 0 | H46: =IF(OR(F46="abs",F46="",F46="ca"),0,G46-F46) -> 0 | I46: =MAX(H46-E46,0) -> 0 | J46: 8.75 | K46: =(I46*24)*J46 -> 0
A47: 14 | B47: N | C47: 0 | D47: 0 | E47: =IF(OR(C47="abs",C47="",C47="CA"),0,D47-C47) -> 0 | F47: 0 | G47: 0 | H47: =IF(OR(F47="abs",F47="",F47="ca"),0,G47-F47) -> 0 | I47: =MAX(H47-E47,0) -> 0 | J47: 9 | K47: =(I47*24)*J47 -> 0
A48: 15 | B48: O | C48: 0.36458333 | D48: 0.68402778 | E48: =IF(OR(C48="abs",C48="",C48="CA"),0,D48-C48) -> 0.31944444 | F48: 0 | G48: 0 | H48: =IF(OR(F48="abs",F48="",F48="ca"),0,G48-F48) -> 0 | I48: =MAX(H48-E48,0) -> 0 | J48: 8.75 | K48: =(I48*24)*J48 -> 0
A49: 16 | B49: P | C49: 0.41666667 | D49: 0.75 | E49: =IF(OR(C49="abs",C49="",C49="CA"),0,D49-C49) -> 0.33333333 | F49: 0 | G49: 0 | H49: =IF(OR(F49="abs",F49="",F49="ca"),0,G49-F49) -> 0 | I49: =MAX(H49-E49,0) -> 0 | J49: 7.75 | K49: =(I49*24)*J49 -> 0
A50: 17 | B50: Q | C50: 0.35416667 | D50: 0.54166667 | E50: =IF(OR(C50="abs",C50="",C50="CA"),0,D50-C50) -> 0.1875 | F50: 0 | G50: 0 | H50: =IF(OR(F50="abs",F50="",F50="ca"),0,G50-F50) -> 0 | I50: =MAX(H50-E50,0) -> 0 | J50: 8.75 | K50: =(I50*24)*J50 -> 0
A51: 18 | B51: R | C51: 0 | D51: 0 | E51: =IF(OR(C51="abs",C51="",C51="CA"),0,D51-C51) -> 0 | F51: 0 | G51: 0 | H51: =IF(OR(F51="abs",F51="",F51="ca"),0,G51-F51) -> 0 | I51: =MAX(H51-E51,0) -> 0 | J51: 8.25 | K51: =(I51*24)*J51 -> 0
A52: 19 | I52: =MAX(H52-E52,0) -> 0
A53: 20 | I53: =MAX(H53-E53,0) -> 0
A54: 21 | I54: =MAX(H54-E54,0) -> 0
A55: 22 | I55: =MAX(H55-E55,0) -> 0
A56: 23 | I56: =MAX(H56-E56,0) -> 0
A57: 24 | I57: =MAX(H57-E57,0) -> 0
A58: 25 | I58: =MAX(H58-E58,0) -> 0
A59: TOTAL | I59: =SUM(I34:I58) -> 0 | K59: =SUM(K34:K58) -> 0
C61: =C33+1 -> 43467 | L61: =_xlfn.FORMULATEXT(C61) -> =C33+1
A62: 1 | B62: A | C62: 0 | D62: 0 | E62: =IF(OR(C62="abs",C62="",C62="CA"),0,D62-C62) -> 0 | F62: 0 | G62: 0 | H62: =IF(OR(F62="abs",F62="",F62="ca"),0,G62-F62) -> 0 | I62: =MAX(H62-E62,0) -> 0 | J62: 8.75 | K62: =(I62*24)*J62 -> 0
A63: 2 | B63: B | C63: 0.35416667 | D63: 0.70833333 | E63: =IF(OR(C63="abs",C63="",C63="CA"),0,D63-C63) -> 0.35416667 | F63: 0 | G63: 0 | H63: =IF(OR(F63="abs",F63="",F63="ca"),0,G63-F63) -> 0 | I63: =MAX(H63-E63,0) -> 0 | J63: 8 | K63: =(I63*24)*J63 -> 0
A64: 3 | B64: C | C64: 0.3125 | D64: 0.75 | E64: =IF(OR(C64="abs",C64="",C64="CA"),0,D64-C64) -> 0.4375 | F64: 0 | G64: 0 | H64: =IF(OR(F64="abs",F64="",F64="ca"),0,G64-F64) -> 0 | I64: =MAX(H64-E64,0) -> 0 | J64: 8.75 | K64: =(I64*24)*J64 -> 0
A65: 4 | B65: D | C65: 0 | D65: 0 | E65: =IF(OR(C65="abs",C65="",C65="CA"),0,D65-C65) -> 0 | F65: 0 | G65: 0 | H65: =IF(OR(F65="abs",F65="",F65="ca"),0,G65-F65) -> 0 | I65: =MAX(H65-E65,0) -> 0 | J65: 9.75 | K65: =(I65*24)*J65 -> 0
A66: 5 | B66: E | C66: 0 | D66: 0 | E66: =IF(OR(C66="abs",C66="",C66="CA"),0,D66-C66) -> 0 | F66: 0 | G66: 0 | H66: =IF(OR(F66="abs",F66="",F66="ca"),0,G66-F66) -> 0 | I66: =MAX(H66-E66,0) -> 0 | J66: 9.25 | K66: =(I66*24)*J66 -> 0
A67: 6 | B67: F | C67: 0 | D67: 0 | E67: =IF(OR(C67="abs",C67="",C67="CA"),0,D67-C67) -> 0 | F67: 0 | G67: 0 | H67: =IF(OR(F67="abs",F67="",F67="ca"),0,G67-F67) -> 0 | I67: =MAX(H67-E67,0) -> 0 | J67: 8 | K67: =(I67*24)*J67 -> 0
A68: 7 | B68: G | C68: 0 | D68: 0 | E68: =IF(OR(C68="abs",C68="",C68="CA"),0,D68-C68) -> 0 | F68: 0 | G68: 0 | H68: =IF(OR(F68="abs",F68="",F68="ca"),0,G68-F68) -> 0 | I68: =MAX(H68-E68,0) -> 0 | J68: 9.5 | K68: =(I68*24)*J68 -> 0
A69: 8 | B69: H | C69: 0 | D69: 0 | E69: =IF(OR(C69="abs",C69="",C69="CA"),0,D69-C69) -> 0 | F69: 0 | G69: 0 | H69: =IF(OR(F69="abs",F69="",F69="ca"),0,G69-F69) -> 0 | I69: =MAX(H69-E69,0) -> 0 | J69: 9.5 | K69: =(I69*24)*J69 -> 0
A70: 9 | B70: I | C70: 0.41666667 | D70: 0.70833333 | E70: =IF(OR(C70="abs",C70="",C70="CA"),0,D70-C70) -> 0.29166667 | F70: 0 | G70: 0 | H70: =IF(OR(F70="abs",F70="",F70="ca"),0,G70-F70) -> 0 | I70: =MAX(H70-E70,0) -> 0 | J70: 7.5 | K70: =(I70*24)*J70 -> 0
A71: 10 | B71: J | C71: 0.35416667 | D71: 0.75 | E71: =IF(OR(C71="abs",C71="",C71="CA"),0,D71-C71) -> 0.39583333 | F71: 0 | G71: 0 | H71: =IF(OR(F71="abs",F71="",F71="ca"),0,G71-F71) -> 0 | I71: =MAX(H71-E71,0) -> 0 | J71: 9.75 | K71: =(I71*24)*J71 -> 0
A72: 11 | B72: K | C72: 0.375 | D72: 0.77083333 | E72: =IF(OR(C72="abs",C72="",C72="CA"),0,D72-C72) -> 0.39583333 | F72: 0 | G72: 0 | H72: =IF(OR(F72="abs",F72="",F72="ca"),0,G72-F72) -> 0 | I72: =MAX(H72-E72,0) -> 0 | J72: 8.75 | K72: =(I72*24)*J72 -> 0
A73: 12 | B73: L | C73: 0 | D73: 0 | E73: =IF(OR(C73="abs",C73="",C73="CA"),0,D73-C73) -> 0 | F73: 0 | G73: 0 | H73: =IF(OR(F73="abs",F73="",F73="ca"),0,G73-F73) -> 0 | I73: =MAX(H73-E73,0) -> 0 | J73: 8.5 | K73: =(I73*24)*J73 -> 0
... A79: 18 | B79: R | C79: 0.35416667 | D79: 0.66666667 | E79: =IF(OR(C79="abs",C79="",C79="CA"),0,D79-C79) -> 0.3125 | F79: 0 | G79: 0 | H79: =IF(OR(F79="abs",F79="",F79="ca"),0,G79-F79) -> 0 | I79: =MAX(H79-E79,0) -> 0 | J79: 8.25 | K79: =(I79*24)*J79 -> 0
A80: 19 | I80: =MAX(H80-E80,0) -> 0
A81: 20 | I81: =MAX(H81-E81,0) -> 0
A82: 21 | I82: =MAX(H82-E82,0) -> 0
A83: 22 | I83: =MAX(H83-E83,0) -> 0
A84: 23 | I84: =MAX(H84-E84,0) -> 0
A85: 24 | I85: =MAX(H85-E85,0) -> 0
A86: 25 | I86: =MAX(H86-E86,0) -> 0
A87: TOTAL | I87: =SUM(I62:I86) -> 0 | K87: =SUM(K62:K86) -> 0
C89: =C61+1 -> 43468 | L89: =_xlfn.FORMULATEXT(C89) -> =C61+1
A90: 1 | B90: A | C90: 0.375 | D90: 0.70833333 | E90: =IF(OR(C90="abs",C90="",C90="CA"),0,D90-C90) -> 0.33333333 | F90: 0 | G90: 0 | H90: =IF(OR(F90="abs",F90="",F90="ca"),0,G90-F90) -> 0 | I90: =MAX(H90-E90,0) -> 0 | J90: 8.75 | K90: =(I90*24)*J90 -> 0
A91: 2 | B91: B | C91: 0.3125 | D91: 0.77083333 | E91: =IF(OR(C91="abs",C91="",C91="CA"),0,D91-C91) -> 0.45833333 | F91: 0 | G91: 0 | H91: =IF(OR(F91="abs",F91="",F91="ca"),0,G91-F91) -> 0 | I91: =MAX(H91-E91,0) -> 0 | J91: 8 | K91: =(I91*24)*J91 -> 0
A92: 3 | B92: C | C92: 0 | D92: 0 | E92: =IF(OR(C92="abs",C92="",C92="CA"),0,D92-C92) -> 0 | F92: 0 | G92: 0 | H92: =IF(OR(F92="abs",F92="",F92="ca"),0,G92-F92) -> 0 | I92: =MAX(H92-E92,0) -> 0 | J92: 8.75 | K92: =(I92*24)*J92 -> 0
A93: 4 | B93: D | C93: 0 | D93: 0 | E93: =IF(OR(C93="abs",C93="",C93="CA"),0,D93-C93) -> 0 | F93: 0 | G93: 0 | H93: =IF(OR(F93="abs",F93="",F93="ca"),0,G93-F93) -> 0 | I93: =MAX(H93-E93,0) -> 0 | J93: 9.75 | K93: =(I93*24)*J93 -> 0
A94: 5 | B94: E | C94: 0 | D94: 0 | E94: =IF(OR(C94="abs",C94="",C94="CA"),0,D94-C94) -> 0 | F94: 0 | G94: 0 | H94: =IF(OR(F94="abs",F94="",F94="ca"),0,G94-F94) -> 0 | I94: =MAX(H94-E94,0) -> 0 | J94: 9.25 | K94: =(I94*24)*J94 -> 0
A95: 6 | B95: F | C95: 0.375 | D95: 0.72916667 | E95: =IF(OR(C95="abs",C95="",C95="CA"),0,D95-C95) -> 0.35416667 | F95: 0 | G95: 0 | H95: =IF(OR(F95="abs",F95="",F95="ca"),0,G95-F95) -> 0 | I95: =MAX(H95-E95,0) -> 0 | J95: 8 | K95: =(I95*24)*J95 -> 0
A96: 7 | B96: G | C96: 0.375 | D96: 0.6875 | E96: =IF(OR(C96="abs",C96="",C96="CA"),0,D96-C96) -> 0.3125 | F96: 0 | G96: 0 | H96: =IF(OR(F96="abs",F96="",F96="ca"),0,G96-F96) -> 0 | I96: =MAX(H96-E96,0) -> 0 | J96: 9.5 | K96: =(I96*24)*J96 -> 0
A97: 8 | B97: H | C97: 0.3125 | D97: 0.75 | E97: =IF(OR(C97="abs",C97="",C97="CA"),0,D97-C97) -> 0.4375 | F97: 0 | G97: 0 | H97: =IF(OR(F97="abs",F97="",F97="ca"),0,G97-F97) -> 0 | I97: =MAX(H97-E97,0) -> 0 | J97: 9.5 | K97: =(I97*24)*J97 -> 0
A98: 9 | B98: I | C98: 0.41666667 | D98: 0.70833333 | E98: =IF(OR(C98="abs",C98="",C98="CA"),0,D98-C98) -> 0.29166667 | F98: 0 | G98: 0 | H98: =IF(OR(F98="abs",F98="",F98="ca"),0,G98-F98) -> 0 | I98: =MAX(H98-E98,0) -> 0 | J98: 7.5 | K98: =(I98*24)*J98 -> 0
A99: 10 | B99: J | C99: 0 | D99: 0 | E99: =IF(OR(C99="abs",C99="",C99="CA"),0,D99-C99) -> 0 | F99: 0 | G99: 0 | H99: =IF(OR(F99="abs",F99="",F99="ca"),0,G99-F99) -> 0 | I99: =MAX(H99-E99,0) -> 0 | J99: 9.75 | K99: =(I99*24)*J99 -> 0
A100: 11 | B100: K | C100: 0 | D100: 0 | E100: =IF(OR(C100="abs",C100="",C100="CA"),0,D100-C100) -> 0 | F100: 0 | G100: 0 | H100: =IF(OR(F100="abs",F100="",F100="ca"),0,G100-F100) -> 0 | I100: =MAX(H100-E100,0) -> 0 | J100: 8.75 | K100: =(I100*24)*J100 -> 0
A101: 12 | B101: L | C101: 0.3125 | D101: 0.72916667 | E101: =IF(OR(C101="abs",C101="",C101="CA"),0,D101-C101) -> 0.41666667 | F101: 0 | G101: 0 | H101: =IF(OR(F101="abs",F101="",F101="ca"),0,G101-F101) -> 0 | I101: =MAX(H101-E101,0) -> 0 | J101: 8.5 | K101: =(I101*24)*J101 -> 0
A102: 13 | B102: M | C102: 0 | D102: 0 | E102: =IF(OR(C102="abs",C102="",C102="CA"),0,D102-C102) -> 0 | F102: 0 | G102: 0 | H102: =IF(OR(F102="abs",F102="",F102="ca"),0,G102-F102) -> 0 | I102: =MAX(H102-E102,0) -> 0 | J102: 8.75 | K102: =(I102*24)*J102 -> 0
A103: 14 | B103: N | C103: 0.41666667 | D103: 0.66666667 | E103: =IF(OR(C103="abs",C103="",C103="CA"),0,D103-C103) -> 0.25 | F103: 0 | G103: 0 | I103: =MAX(H103-E103,0) -> 0 | J103: 9 | K103: =(I103*24)*J103 -> 0
A104: 15 | B104: O | C104: 0 | D104: 0 | E104: =IF(OR(C104="abs",C104="",C104="CA"),0,D104-C104) -> 0 | F104: 0 | G104: 0 | H104: =IF(OR(F104="abs",F104="",F104="ca"),0,G104-F104) -> 0 | I104: =MAX(H104-E104,0) -> 0 | J104: 8.75 | K104: =(I104*24)*J104 -> 0
A105: 16 | B105: P | C105: 0.41666667 | D105: 0.75 | E105: =IF(OR(C105="abs",C105="",C105="CA"),0,D105-C105) -> 0.33333333 | F105: 0 | G105: 0 | H105: =IF(OR(F105="abs",F105="",F105="ca"),0,G105-F105) -> 0 | I105: =MAX(H105-E105,0) -> 0 | J105: 7.75 | K105: =(I105*24)*J105 -> 0
A106: 17 | B106: Q | C106: 0.35416667 | D106: 0.75 | E106: =IF(OR(C106="abs",C106="",C106="CA"),0,D106-C106) -> 0.39583333 | F106: 0 | G106: 0 | H106: =IF(OR(F106="abs",F106="",F106="ca"),0,G106-F106) -> 0 | I106: =MAX(H106-E106,0) -> 0 | J106: 8.75 | K106: =(I106*24)*J106 -> 0
A107: 18 | B107: R | C107: 0.35416667 | D107: 0.66666667 | E107: =IF(OR(C107="abs",C107="",C107="CA"),0,D107-C107) -> 0.3125 | F107: 0 | G107: 0 | H107: =IF(OR(F107="abs",F107="",F107="ca"),0,G107-F107) -> 0 | I107: =MAX(H107-E107,0) -> 0 | J107: 8.25 | K107: =(I107*24)*J107 -> 0
...

Sheet Semaine 2
B1: Annèe : | C1: =YEAR(J1) -> 2019 | D1: =_xlfn.FORMULATEXT(C1) -> =ANNEE(J1) | F1: Mois : | G1: =INDEX(T_Mois[Mois],MATCH(MONTH(J1),T_Mois[Nb],0)) -> janvier | I1: Date : | J1: ='Semaine 1'!C117+3 -> 43472 | K1: =_xlfn.FORMULATEXT(J1) -> ='Semaine 1'!C117+3
A2: Nombre d'enfant | B2: NOM et PRENOM | C2: Prévisionnel | F2: Réel | I2: Facture | N2: Nombre d'enfant | O2: NOM et PRENOM | P2: Présence / semaine | Q2: Total Heures Contrat semaines 02 | R2: Total Heures réelles semaines 02 | S2: Total Heures sup semaines 02 | T2: Total Heures facturables semaines 02 | U2: Total Dû semaines 02
C3: Heure d'arrivée | D3: Heure de départ | E3: Durée | F3: Heure d'arrivée | G3: Heure de départ | H3: Durée | I3: Durée Facturable | J3: Taux horaire | K3: Dû par la famille
B4: =_xlfn.FORMULATEXT(B5) -> =NO.SEMAINE.ISO(J1) | F4: =_xlfn.FORMULATEXT(G1) -> =INDEX(T_Mois[Mois];EQUIV(MOIS(J1);T_Mois[Nb];0))
A5: Semaine : | B5: =_xlfn.ISOWEEKNUM(J1) -> 2 | C5: =J1 -> 43472 | L5: =_xlfn.FORMULATEXT(C5) -> =J1
A6: 1 | B6: A | C6: 0 | D6: 0 | E6: =IF(OR(C6="abs",C6="",C6="CA"),0,D6-C6) -> 0 | F6: 0 | G6: 0 | H6: =IF(OR(F6="abs",F6="",F6="ca"),0,G6-F6) -> 0 | I6: =MAX(H6-E6,0) -> 0 | J6: 8.75 | K6: =(I6*24)*J6 -> 0 | N6: 1 | O6: A | P6: =SUMPRODUCT(($B$6:$B$26=B6)*(($H$118:$H$138>0)+($H$90:$H$110>0)+($H$62:$H$82>0)+($H$34:$H$54>0)+($H$6:$H$26>0))) -> 0 | Q6: =SUM($E6+$E34+$E62+$E90+$E118) -> 1 | R6: =SUM($H6+$H34+$H62+$H90+$H118) -> 0 | S6: =SUM($I6+$I34+$I62+$I90+$I118) -> 0 | T6: =SUM(Q6+S6) -> 1 | U6: =(S6*24)*J6 -> 0
A7: 2 | B7: B | C7: 0.3125 | D7: 0.77083333 | E7: =IF(OR(C7="abs",C7="",C7="CA"),0,D7-C7) -> 0.45833333 | F7: 0 | G7: 0 | H7: =IF(OR(F7="abs",F7="",F7="ca"),0,G7-F7) -> 0 | I7: =MAX(H7-E7,0) -> 0 | J7: 8 | K7: =(I7*24)*J7 -> 0 | N7: 2 | O7: B | P7: =SUMPRODUCT(($B$6:$B$26=B7)*(($H$118:$H$138>0)+($H$90:$H$110>0)+($H$62:$H$82>0)+($H$34:$H$54>0)+($H$6:$H$26>0))) -> 0 | Q7: =SUM($E7+$E35+$E63+$E91+$E119) -> 2.0625 | R7: =SUM($H7+$H35+$H63+$H91+$H119) -> 0 | S7: =SUM($I7+$I35+$I63+$I91+$I119) -> 0 | T7: =SUM(Q7+S7) -> 2.0625 | U7: =(S7*24)*J7 -> 0
A8: 3 | B8: C | C8: 0.3125 | D8: 0.75 | E8: =IF(OR(C8="abs",C8="",C8="CA"),0,D8-C8) -> 0.4375 | F8: 0 | G8: 0 | H8: =IF(OR(F8="abs",F8="",F8="ca"),0,G8-F8) -> 0 | I8: =MAX(H8-E8,0) -> 0 | J8: 8.75 | K8: =(I8*24)*J8 -> 0 | N8: 3 | O8: C | P8: =SUMPRODUCT(($B$6:$B$26=B8)*(($H$118:$H$138>0)+($H$90:$H$110>0)+($H$62:$H$82>0)+($H$34:$H$54>0)+($H$6:$H$26>0))) -> 0 | Q8: =SUM($E8+$E36+$E64+$E92+$E120) -> 1.3125 | R8: =SUM($H8+$H36+$H64+$H92+$H120) -> 0 | S8: =SUM($I8+$I36+$I64+$I92+$I120) -> 0 | T8: =SUM(Q8+S8) -> 1.3125 | U8: =(S8*24)*J8 -> 0
A9: 4 | B9: D | C9: 0 | D9: 0 | E9: =IF(OR(C9="abs",C9="",C9="CA"),0,D9-C9) -> 0 | F9: 0 | G9: 0 | H9: =IF(OR(F9="abs",F9="",F9="ca"),0,G9-F9) -> 0 | I9: =MAX(H9-E9,0) -> 0 | J9: 9.75 | K9: =(I9*24)*J9 -> 0 | N9: 4 | O9: D | P9: =SUMPRODUCT(($B$6:$B$26=B9)*(($H$118:$H$138>0)+($H$90:$H$110>0)+($H$62:$H$82>0)+($H$34:$H$54>0)+($H$6:$H$26>0))) -> 0 | Q9: =SUM($E9+$E37+$E65+$E93+$E121) -> 0.39583333 | R9: =SUM($H9+$H37+$H65+$H93+$H121) -> 0 | S9: =SUM($I9+$I37+$I65+$I93+$I121) -> 0 | T9: =SUM(Q9+S9) -> 0.39583333 | U9: =(S9*24)*J9 -> 0
A10: 5 | B10: E | C10: 0.33333333 | D10: 0.75 | E10: =IF(OR(C10="abs",C10="",C10="CA"),0,D10-C10) -> 0.41666667 | F10: 0 | G10: 0 | H10: =IF(OR(F10="abs",F10="",F10="ca"),0,G10-F10) -> 0 | I10: =MAX(H10-E10,0) -> 0 | J10: 9.25 | K10: =(I10*24)*J10 -> 0 | N10: 5 | O10: E | P10: =SUMPRODUCT(($B$6:$B$26=B10)*(($H$118:$H$138>0)+($H$90:$H$110>0)+($H$62:$H$82>0)+($H$34:$H$54>0)+($H$6:$H$26>0))) -> 0 | Q10: =SUM($E10+$E38+$E66+$E94+$E122) -> 0.83333333 | R10: =SUM($H10+$H38+$H66+$H94+$H122) -> 0 | S10: =SUM($I10+$I38+$I66+$I94+$I122) -> 0 | T10: =SUM(Q10+S10) -> 0.83333333 | U10: =(S10*24)*J10 -> 0
A11: 6 | B11: F | C11: 0.375 | D11: 0.6875 | E11: =IF(OR(C11="abs",C11="",C11="CA"),0,D11-C11) -> 0.3125 | F11: 0 | G11: 0 | H11: =IF(OR(F11="abs",F11="",F11="ca"),0,G11-F11) -> 0 | I11: =MAX(H11-E11,0) -> 0 | J11: 8 | K11: =(I11*24)*J11 -> 0 | N11: 6 | O11: F | P11: =SUMPRODUCT(($B$6:$B$26=B11)*(($H$118:$H$138>0)+($H$90:$H$110>0)+($H$62:$H$82>0)+($H$34:$H$54>0)+($H$6:$H$26>0))) -> 0 | Q11: =SUM($E11+$E39+$E67+$E95+$E123) -> 1.4375 | R11: =SUM($H11+$H39+$H67+$H95+$H123) -> 0 | S11: =SUM($I11+$I39+$I67+$I95+$I123) -> 0 | T11: =SUM(Q11+S11) -> 1.4375 | U11: =(S11*24)*J11 -> 0
A12: 7 | B12: G | C12: 0 | D12: 0 | E12: =IF(OR(C12="abs",C12="",C12="CA"),0,D12-C12) -> 0 | F12: 0 | G12: 0 | H12: =IF(OR(F12="abs",F12="",F12="ca"),0,G12-F12) -> 0 | I12: =MAX(H12-E12,0) -> 0 | J12: 9.5 | K12: =(I12*24)*J12 -> 0 | N12: 7 | O12: G | P12: =SUMPRODUCT(($B$6:$B$26=B12)*(($H$118:$H$138>0)+($H$90:$H$110>0)+($H$62:$H$82>0)+($H$34:$H$54>0)+($H$6:$H$26>0))) -> 0 | Q12: =SUM($E12+$E40+$E68+$E96+$E124) -> 0.625 | R12: =SUM($H12+$H40+$H68+$H96+$H124) -> 0 | S12: =SUM($I12+$I40+$I68+$I96+$I124) -> 0 | T12: =SUM(Q12+S12) -> 0.625 | U12: =(S12*24)*J12 -> 0
A13: 8 | B13: H | C13: 0.3125 | D13: 0.75 | E13: =IF(OR(C13="abs",C13="",C13="CA"),0,D13-C13) -> 0.4375 | F13: 0 | G13: 0 | H13: =IF(OR(F13="abs",F13="",F13="ca"),0,G13-F13) -> 0 | I13: =MAX(H13-E13,0) -> 0 | J13: 9.5 | K13: =(I13*24)*J13 -> 0 | N13: 8 | O13: H | P13: =SUMPRODUCT(($B$6:$B$26=B13)*(($H$118:$H$138>0)+($H$90:$H$110>0)+($H$62:$H$82>0)+($H$34:$H$54>0)+($H$6:$H$26>0))) -> 0 | Q13: =SUM($E13+$E41+$E69+$E97+$E125) -> 0.875 | R13: =SUM($H13+$H41+$H69+$H97+$H125) -> 0 | S13: =SUM($I13+$I41+$I69+$I97+$I125) -> 0 | T13: =SUM(Q13+S13) -> 0.875 | U13: =(S13*24)*J13 -> 0
A14: 9 | B14: I | C14: 0.41666667 | D14: 0.70833333 | E14: =IF(OR(C14="abs",C14="",C14="CA"),0,D14-C14) -> 0.29166667 | F14: 0 | G14: 0 | H14: =IF(OR(F14="abs",F14="",F14="ca"),0,G14-F14) -> 0 | I14: =MAX(H14-E14,0) -> 0 | J14: 7.5 | K14: =(I14*24)*J14 -> 0 | N14: 9 | O14: I | P14: =SUMPRODUCT(($B$6:$B$26=B14)*(($H$118:$H$138>0)+($H$90:$H$110>0)+($H$62:$H$82>0)+($H$34:$H$54>0)+($H$6:$H$26>0))) -> 0 | Q14: =SUM($E14+$E42+$E70+$E98+$E126) -> 1.4583333 | R14: =SUM($H14+$H42+$H70+$H98+$H126) -> 0 | S14: =SUM($I14+$I42+$I70+$I98+$I126) -> 0 | T14: =SUM(Q14+S14) -> 1.4583333 | U14: =(S14*24)*J14 -> 0
A15: 10 | B15: J | C15: 0 | D15: 0 | E15: =IF(OR(C15="abs",C15="",C15="CA"),0,D15-C15) -> 0 | F15: 0 | G15: 0 | H15: =IF(OR(F15="abs",F15="",F15="ca"),0,G15-F15) -> 0 | I15: =MAX(H15-E15,0) -> 0 | J15: 9.75 | K15: =(I15*24)*J15 -> 0 | N15: 10 | O15: J | P15: =SUMPRODUCT(($B$6:$B$26=B15)*(($H$118:$H$138>0)+($H$90:$H$110>0)+($H$62:$H$82>0)+($H$34:$H$54>0)+($H$6:$H$26>0))) -> 0 | Q15: =SUM($E15+$E43+$E71+$E99+$E127) -> 0.39583333 | R15: =SUM($H15+$H43+$H71+$H99+$H127) -> 0 | S15: =SUM($I15+$I43+$I71+$I99+$I127) -> 0 | T15: =SUM(Q15+S15) -> 0.39583333 | U15: =(S15*24)*J15 -> 0
A16: 11 | B16: K | C16: 0 | D16: 0 | E16: =IF(OR(C16="abs",C16="",C16="CA"),0,D16-C16) -> 0 | F16: 0 | G16: 0 | H16: =IF(OR(F16="abs",F16="",F16="ca"),0,G16-F16) -> 0 | I16: =MAX(H16-E16,0) -> 0 | J16: 8.75 | K16: =(I16*24)*J16 -> 0 | N16: 11 | O16: K | P16: =SUMPRODUCT(($B$6:$B$26=B16)*(($H$118:$H$138>0)+($H$90:$H$110>0)+($H$62:$H$82>0)+($H$34:$H$54>0)+($H$6:$H$26>0))) -> 0 | Q16: =SUM($E16+$E44+$E72+$E100+$E128) -> 1.1875 | R16: =SUM($H16+$H44+$H72+$H100+$H128) -> 0 | S16: =SUM($I16+$I44+$I72+$I100+$I128) -> 0 | T16: =SUM(Q16+S16) -> 1.1875 | U16: =(S16*24)*J16 -> 0
A17: 12 | B17: L | C17: 0.3125 | D17: 0.71875 | E17: =IF(OR(C17="abs",C17="",C17="CA"),0,D17-C17) -> 0.40625 | F17: 0 | G17: 0 | H17: =IF(OR(F17="abs",F17="",F17="ca"),0,G17-F17) -> 0 | I17: =MAX(H17-E17,0) -> 0 | J17: 8.5 | K17: =(I17*24)*J17 -> 0 | N17: 12 | O17: L | P17: =SUMPRODUCT(($B$6:$B$26=B17)*(($H$118:$H$138>0)+($H$90:$H$110>0)+($H$62:$H$82>0)+($H$34:$H$54>0)+($H$6:$H$26>0))) -> 0 | Q17: =SUM($E17+$E45+$E73+$E101+$E129) -> 1.625 | R17: =SUM($H17+$H45+$H73+$H101+$H129) -> 0 | S17: =SUM($I17+$I45+$I73+$I101+$I129) -> 0 | T17: =SUM(Q17+S17) -> 1.625 | U17: =(S17*24)*J17 -> 0
A18: 13 | B18: M | C18: 0.35416667 | D18: 0.77083333 | E18: =IF(OR(C18="abs",C18="",C18="CA"),0,D18-C18) -> 0.41666667 | F18: 0 | G18: 0 | H18: =IF(OR(F18="abs",F18="",F18="ca"),0,G18-F18) -> 0 | I18: =MAX(H18-E18,0) -> 0 | J18: 8.75 | K18: =(I18*24)*J18 -> 0 | N18: 13 | O18: M | P18: =SUMPRODUCT(($B$6:$B$26=B18)*(($H$118:$H$138>0)+($H$90:$H$110>0)+($H$62:$H$82>0)+($H$34:$H$54>0)+($H$6:$H$26>0))) -> 0 | Q18: =SUM($E18+$E46+$E74+$E102+$E130) -> 1.25 | R18: =SUM($H18+$H46+$H74+$H102+$H130) -> 0 | S18: =SUM($I18+$I46+$I74+$I102+$I130) -> 0 | T18: =SUM(Q18+S18) -> 1.25 | U18: =(S18*24)*J18 -> 0
A19: 14 | B19: N | C19: 0 | D19: 0 | E19: =IF(OR(C19="abs",C19="",C19="CA"),0,D19-C19) -> 0 | F19: 0 | G19: 0 | H19: 0 | I19: =MAX(H19-E19,0) -> 0 | J19: 9 | K19: =(I19*24)*J19 -> 0 | N19: 14 | O19: N | P19: =SUMPRODUCT(($B$6:$B$26=B19)*(($H$118:$H$138>0)+($H$90:$H$110>0)+($H$62:$H$82>0)+($H$34:$H$54>0)+($H$6:$H$26>0))) -> 0 | Q19: =SUM($E19+$E47+$E75+$E103+$E131) -> 0.52083333 | R19: =SUM($H19+$H47+$H75+$H103+$H131) -> 0 | S19: =SUM($I19+$I47+$I75+$I103+$I131) -> 0 | T19: =SUM(Q19+S19) -> 0.52083333 | U19: =(S19*24)*J19 -> 0
A20: 15 | B20: O | C20: 0.36458333 | D20: 0.68402778 | E20: =IF(OR(C20="abs",C20="",C20="CA"),0,D20-C20) -> 0.31944444 | F20: 0 | G20: 0 | H20: =IF(OR(F20="abs",F20="",F20="ca"),0,G20-F20) -> 0 | I20: =MAX(H20-E20,0) -> 0 | J20: 8.75 | K20: =(I20*24)*J20 -> 0 | N20: 15 | O20: O | P20: 0 | Q20: =SUM($E20+$E48+$E76+$E104+$E132) -> 0.95833333 | R20: 0 | S20: 0 | T20: =SUM(Q20+S20) -> 0.95833333 | U20: 0
A21: 16 | B21: P | C21: 0.41666667 | D21: 0.75 | E21: =IF(OR(C21="abs",C21="",C21="CA"),0,D21-C21) -> 0.33333333 | F21: 0 | G21: 0 | H21: =IF(OR(F21="abs",F21="",F21="ca"),0,G21-F21) -> 0 | I21: =MAX(H21-E21,0) -> 0 | J21: 7.75 | K21: =(I21*24)*J21 -> 0 | N21: 16 | O21: P | P21: 0 | Q21: =SUM($E21+$E49+$E77+$E105+$E133) -> 1.6666667 | R21: 0 | S21: 0 | T21: =SUM(Q21+S21) -> 1.6666667 | U21: 0
A22: 17 | B22: Q | C22: 0 | D22: 0 | E22: =IF(OR(C22="abs",C22="",C22="CA"),0,D22-C22) -> 0 | F22: 0 | G22: 0 | H22: =IF(OR(F22="abs",F22="",F22="ca"),0,G22-F22) -> 0 | I22: =MAX(H22-E22,0) -> 0 | J22: 8.75 | K22: =(I22*24)*J22 -> 0 | N22: 17 | O22: Q | P22: 0 | Q22: =SUM($E22+$E50+$E78+$E106+$E134) -> 0.97916667 | R22: =SUM($H22+$H50+$H78+$H106+$H134) -> 0 | S22: =SUM($I22+$I50+$I78+$I106+$I134) -> 0 | T22: =SUM(Q22+S22) -> 0.97916667 | U22: =(S22*24)*J22 -> 0
A23: 18 | B23: R | C23: 0.35416667 | D23: 0.66666667 | E23: =IF(OR(C23="abs",C23="",C23="CA"),0,D23-C23) -> 0.3125 | F23: 0 | G23: 0 | H23: =IF(OR(F23="abs",F23="",F23="ca"),0,G23-F23) -> 0 | I23: =MAX(H23-E23,0) -> 0 | J23: 8.25 | K23: =(I23*24)*J23 -> 0 | N23: 18 | O23: R | P23: =SUMPRODUCT(($B$6:$B$26=B23)*(($H$118:$H$138>0)+($H$90:$H$110>0)+($H$62:$H$82>0)+($H$34:$H$54>0)+($H$6:$H$26>0))) -> 0 | Q23: =SUM($E23+$E51+$E79+$E107+$E135) -> 1.25 | R23: =SUM($H23+$H51+$H79+$H107+$H135) -> 0 | S23: =SUM($I23+$I51+$I79+$I107+$I135) -> 0 | T23: =SUM(Q23+S23) -> 1.25 | U23: =(S23*24)*J23 -> 0
A24: 19 | I24: =MAX(H24-E24,0) -> 0 | N24: 19 | P24: =SUMPRODUCT(($B$6:$B$26=B24)*(($H$118:$H$138>0)+($H$90:$H$110>0)+($H$62:$H$82>0)+($H$34:$H$54>0)+($H$6:$H$26>0))) -> 0 | Q24: =SUM($E24+$E52+$E80+$E108+$E136) -> 0 | R24: =SUM($H24+$H52+$H80+$H108+$H136) -> 0 | S24: =SUM($I24+$I52+$I80+$I108+$I136) -> 0 | T24: =SUM(Q24+S24) -> 0 | U24: =(S24*24)*J24 -> 0
A25: 20 | I25: =MAX(H25-E25,0) -> 0 | N25: 20 | P25: =SUMPRODUCT(($B$6:$B$26=B25)*(($H$118:$H$138>0)+($H$90:$H$110>0)+($H$62:$H$82>0)+($H$34:$H$54>0)+($H$6:$H$26>0))) -> 0 | Q25: =SUM($E25+$E53+$E81+$E109+$E137) -> 0 | R25: =SUM($H25+$H53+$H81+$H109+$H137) -> 0 | S25: =SUM($I25+$I53+$I81+$I109+$I137) -> 0 | T25: =SUM(Q25+S25) -> 0 | U25: =(S25*24)*J25 -> 0
A26: 21 | I26: =MAX(H26-E26,0) -> 0 | N26: 21 | P26: =SUMPRODUCT(($B$6:$B$26=B26)*(($H$118:$H$138>0)+($H$90:$H$110>0)+($H$62:$H$82>0)+($H$34:$H$54>0)+($H$6:$H$26>0))) -> 0 | Q26: =SUM($E26+$E54+$E82+$E110+$E138) -> 0 | R26: =SUM($H26+$H54+$H82+$H110+$H138) -> 0 | S26: =SUM($I26+$I54+$I82+$I110+$I138) -> 0 | T26: =SUM(Q26+S26) -> 0 | U26: =(S26*24)*J26 -> 0
A27: 22 | I27: =MAX(H27-E27,0) -> 0 | N27: 22 | Q27: =SUM($E27+$E55+$E83+$E111+$E139) -> 0 | R27: =SUM($H27+$H55+$H83+$H111+$H139) -> 0 | S27: =SUM($I27+$I55+$I83+$I111+$I139) -> 0 | T27: =SUM(Q27+S27) -> 0 | U27: =(S27*24)*J27 -> 0
A28: 23 | I28: =MAX(H28-E28,0) -> 0 | N28: 23 | Q28: =SUM($E28+$E56+$E84+$E112+$E140) -> 0 | R28: =SUM($H28+$H56+$H84+$H112+$H140) -> 0 | S28: =SUM($I28+$I56+$I84+$I112+$I140) -> 0 | T28: =SUM(Q28+S28) -> 0 | U28: =(S28*24)*J28 -> 0
A29: 24 | I29: =MAX(H29-E29,0) -> 0 | N29: 24 | Q29: =SUM($E29+$E57+$E85+$E113+$E141) -> 0 | R29: =SUM($H29+$H57+$H85+$H113+$H141) -> 0 | S29: =SUM($I29+$I57+$I85+$I113+$I141) -> 0 | T29: =SUM(Q29+S29) -> 0 | U29: =(S29*24)*J29 -> 0
A30: 25 | I30: =MAX(H30-E30,0) -> 0 | N30: 25 | Q30: =SUM($E30+$E58+$E86+$E114+$E142) -> 0 | R30: =SUM($H30+$H58+$H86+$H114+$H142) -> 0 | S30: =SUM($I30+$I58+$I86+$I114+$I142) -> 0 | T30: =SUM(Q30+S30) -> 0 | U30: =(S30*24)*J30 -> 0
A31: TOTAL | I31: =SUM(I6:I30) -> 0 | K31: =SUM(K6:K30) -> 0 | P31: =SUM(P6:P30) -> 0 | Q31: =SUM(Q6:Q30) -> 19.833333 | R31: =SUM(R6:R30) -> 0 | T31: =SUM(T6:T30) -> 19.833333 | U31: =SUM(U6:U30) -> 0
Q32: =((11.5/24)*10)*5 -> 23.958333 | R32: =((11.5/24)*10)*5 -> 23.958333 | U32: =Q31/Q32 -> 0.82782609
C33: =C5+1 -> 43473 | L33: =_xlfn.FORMULATEXT(C33) -> =C5+1
A34: 1 | B34: A | C34: 0.375 | D34: 0.70833333 | E34: =IF(OR(C34="abs",C34="",C34="CA"),0,D34-C34) -> 0.33333333 | F34: 0 | G34: 0 | H34: =IF(OR(F34="abs",F34="",F34="ca"),0,G34-F34) -> 0 | I34: =MAX(H34-E34,0) -> 0 | J34: 8.75 | K34: =(I34*24)*J34 -> 0
A35: 2 | B35: B | C35: 0.3125 | D35: 0.77083333 | E35: =IF(OR(C35="abs",C35="",C35="CA"),0,D35-C35) -> 0.45833333 | F35: 0 | G35: 0 | H35: =IF(OR(F35="abs",F35="",F35="ca"),0,G35-F35) -> 0 | I35: =MAX(H35-E35,0) -> 0 | J35: 8 | K35: =(I35*24)*J35 -> 0
A36: 3 | B36: C | C36: 0.3125 | D36: 0.75 | E36: =IF(OR(C36="abs",C36="",C36="CA"),0,D36-C36) -> 0.4375 | F36: 0 | G36: 0 | H36: =IF(OR(F36="abs",F36="",F36="ca"),0,G36-F36) -> 0 | I36: =MAX(H36-E36,0) -> 0 | J36: 8.75 | K36: =(I36*24)*J36 -> 0
A37: 4 | B37: D | C37: 0 | D37: 0 | E37: =IF(OR(C37="abs",C37="",C37="CA"),0,D37-C37) -> 0 | F37: 0 | G37: 0 | H37: =IF(OR(F37="abs",F37="",F37="ca"),0,G37-F37) -> 0 | I37: =MAX(H37-E37,0) -> 0 | J37: 9.75 | K37: =(I37*24)*J37 -> 0
A38: 5 | B38: E | C38: 0 | D38: 0 | E38: =IF(OR(C38="abs",C38="",C38="CA"),0,D38-C38) -> 0 | F38: 0 | G38: 0 | H38: =IF(OR(F38="abs",F38="",F38="ca"),0,G38-F38) -> 0 | I38: =MAX(H38-E38,0) -> 0 | J38: 9.25 | K38: =(I38*24)*J38 -> 0
A39: 6 | B39: F | C39: 0.32291667 | D39: 0.73958333 | E39: =IF(OR(C39="abs",C39="",C39="CA"),0,D39-C39) -> 0.41666667 | F39: 0 | G39: 0 | H39: =IF(OR(F39="abs",F39="",F39="ca"),0,G39-F39) -> 0 | I39: =MAX(H39-E39,0) -> 0 | J39: 8 | K39: =(I39*24)*J39 -> 0
A40: 7 | B40: G | C40: 0.375 | D40: 0.6875 | E40: =IF(OR(C40="abs",C40="",C40="CA"),0,D40-C40) -> 0.3125 | F40: 0 | G40: 0 | H40: =IF(OR(F40="abs",F40="",F40="ca"),0,G40-F40) -> 0 | I40: =MAX(H40-E40,0) -> 0 | J40: 9.5 | K40: =(I40*24)*J40 -> 0
A41: 8 | B41: H | C41: 0 | D41: 0 | E41: =IF(OR(C41="abs",C41="",C41="CA"),0,D41-C41) -> 0 | F41: 0 | G41: 0 | H41: =IF(OR(F41="abs",F41="",F41="ca"),0,G41-F41) -> 0 | I41: =MAX(H41-E41,0) -> 0 | J41: 9.5 | K41: =(I41*24)*J41 -> 0
A42: 9 | B42: I | C42: 0.41666667 | D42: 0.70833333 | E42: =IF(OR(C42="abs",C42="",C42="CA"),0,D42-C42) -> 0.29166667 | F42: 0 | G42: 0 | H42: =IF(OR(F42="abs",F42="",F42="ca"),0,G42-F42) -> 0 | I42: =MAX(H42-E42,0) -> 0 | J42: 7.5 | K42: =(I42*24)*J42 -> 0
A43: 10 | B43: J | C43: 0 | D43: 0 | E43: =IF(OR(C43="abs",C43="",C43="CA"),0,D43-C43) -> 0 | F43: 0 | G43: 0 | H43: =IF(OR(F43="abs",F43="",F43="ca"),0,G43-F43) -> 0 | I43: =MAX(H43-E43,0) -> 0 | J43: 9.75 | K43: =(I43*24)*J43 -> 0
A44: 11 | B44: K | C44: 0.375 | D44: 0.77083333 | E44: =IF(OR(C44="abs",C44="",C44="CA"),0,D44-C44) -> 0.39583333 | F44: 0 | G44: 0 | H44: =IF(OR(F44="abs",F44="",F44="ca"),0,G44-F44) -> 0 | I44: =MAX(H44-E44,0) -> 0 | J44: 8.75 | K44: =(I44*24)*J44 -> 0
A45: 12 | B45: L | C45: 0.3125 | D45: 0.72916667 | E45: =IF(OR(C45="abs",C45="",C45="CA"),0,D45-C45) -> 0.41666667 | F45: 0 | G45: 0 | H45: =IF(OR(F45="abs",F45="",F45="ca"),0,G45-F45) -> 0 | I45: =MAX(H45-E45,0) -> 0 | J45: 8.5 | K45: =(I45*24)*J45 -> 0
... A51: 18 | B51: R | C51: 0 | D51: 0 | E51: =IF(OR(C51="abs",C51="",C51="CA"),0,D51-C51) -> 0 | F51: 0 | G51: 0 | H51: =IF(OR(F51="abs",F51="",F51="ca"),0,G51-F51) -> 0 | I51: =MAX(H51-E51,0) -> 0 | J51: 8.25 | K51: =(I51*24)*J51 -> 0
A52: 19 | I52: =MAX(H52-E52,0) -> 0
A53: 20 | I53: =MAX(H53-E53,0) -> 0
A54: 21 | I54: =MAX(H54-E54,0) -> 0
A55: 22 | I55: =MAX(H55-E55,0) -> 0
A56: 23 | I56: =MAX(H56-E56,0) -> 0
A57: 24 | I57: =MAX(H57-E57,0) -> 0
A58: 25 | I58: =MAX(H58-E58,0) -> 0
A59: TOTAL | I59: =SUM(I34:I58) -> 0 | K59: =SUM(K34:K58) -> 0
C61: =C33+1 -> 43474 | L61: =_xlfn.FORMULATEXT(C61) -> =C33+1
A62: 1 | B62: A | C62: 0 | D62: 0 | E62: =IF(OR(C62="abs",C62="",C62="CA"),0,D62-C62) -> 0 | F62: 0 | G62: 0 | H62: =IF(OR(F62="abs",F62="",F62="ca"),0,G62-F62) -> 0 | I62: =MAX(H62-E62,0) -> 0 | J62: 8.75 | K62: =(I62*24)*J62 -> 0
A63: 2 | B63: B | C63: 0.35416667 | D63: 0.70833333 | E63: =IF(OR(C63="abs",C63="",C63="CA"),0,D63-C63) -> 0.35416667 | F63: 0 | G63: 0 | H63: =IF(OR(F63="abs",F63="",F63="ca"),0,G63-F63) -> 0 | I63: =MAX(H63-E63,0) -> 0 | J63: 8 | K63: =(I63*24)*J63 -> 0
A64: 3 | B64: C | C64: 0.3125 | D64: 0.75 | E64: =IF(OR(C64="abs",C64="",C64="CA"),0,D64-C64) -> 0.4375 | F64: 0 | G64: 0 | H64: =IF(OR(F64="abs",F64="",F64="ca"),0,G64-F64) -> 0 | I64: =MAX(H64-E64,0) -> 0 | J64: 8.75 | K64: =(I64*24)*J64 -> 0
A65: 4 | B65: D | C65: 0 | D65: 0 | E65: =IF(OR(C65="abs",C65="",C65="CA"),0,D65-C65) -> 0 | F65: 0 | G65: 0 | H65: =IF(OR(F65="abs",F65="",F65="ca"),0,G65-F65) -> 0 | I65: =MAX(H65-E65,0) -> 0 | J65: 9.75 | K65: =(I65*24)*J65 -> 0
A66: 5 | B66: E | C66: 0 | D66: 0 | E66: =IF(OR(C66="abs",C66="",C66="CA"),0,D66-C66) -> 0 | F66: 0 | G66: 0 | H66: =IF(OR(F66="abs",F66="",F66="ca"),0,G66-F66) -> 0 | I66: =MAX(H66-E66,0) -> 0 | J66: 9.25 | K66: =(I66*24)*J66 -> 0
A67: 6 | B67: F | C67: 0 | D67: 0 | E67: =IF(OR(C67="abs",C67="",C67="CA"),0,D67-C67) -> 0 | F67: 0 | G67: 0 | H67: =IF(OR(F67="abs",F67="",F67="ca"),0,G67-F67) -> 0 | I67: =MAX(H67-E67,0) -> 0 | J67: 8 | K67: =(I67*24)*J67 -> 0
A68: 7 | B68: G | C68: 0 | D68: 0 | E68: =IF(OR(C68="abs",C68="",C68="CA"),0,D68-C68) -> 0 | F68: 0 | G68: 0 | H68: =IF(OR(F68="abs",F68="",F68="ca"),0,G68-F68) -> 0 | I68: =MAX(H68-E68,0) -> 0 | J68: 9.5 | K68: =(I68*24)*J68 -> 0
A69: 8 | B69: H | C69: 0 | D69: 0 | E69: =IF(OR(C69="abs",C69="",C69="CA"),0,D69-C69) -> 0 | F69: 0 | G69: 0 | H69: =IF(OR(F69="abs",F69="",F69="ca"),0,G69-F69) -> 0 | I69: =MAX(H69-E69,0) -> 0 | J69: 9.5 | K69: =(I69*24)*J69 -> 0
A70: 9 | B70: I | C70: 0.41666667 | D70: 0.70833333 | E70: =IF(OR(C70="abs",C70="",C70="CA"),0,D70-C70) -> 0.29166667 | F70: 0 | G70: 0 | H70: =IF(OR(F70="abs",F70="",F70="ca"),0,G70-F70) -> 0 | I70: =MAX(H70-E70,0) -> 0 | J70: 7.5 | K70: =(I70*24)*J70 -> 0
A71: 10 | B71: J | C71: 0.35416667 | D71: 0.75 | E71: =IF(OR(C71="abs",C71="",C71="CA"),0,D71-C71) -> 0.39583333 | F71: 0 | G71: 0 | H71: =IF(OR(F71="abs",F71="",F71="ca"),0,G71-F71) -> 0 | I71: =MAX(H71-E71,0) -> 0 | J71: 9.75 | K71: =(I71*24)*J71 -> 0
A72: 11 | B72: K | C72: 0.375 | D72: 0.77083333 | E72: =IF(OR(C72="abs",C72="",C72="CA"),0,D72-C72) -> 0.39583333 | F72: 0 | G72: 0 | H72: =IF(OR(F72="abs",F72="",F72="ca"),0,G72-F72) -> 0 | I72: =MAX(H72-E72,0) -> 0 | J72: 8.75 | K72: =(I72*24)*J72 -> 0
A73: 12 | B73: L | C73: 0 | D73: 0 | E73: =IF(OR(C73="abs",C73="",C73="CA"),0,D73-C73) -> 0 | F73: 0 | G73: 0 | H73: =IF(OR(F73="abs",F73="",F73="ca"),0,G73-F73) -> 0 | I73: =MAX(H73-E73,0) -> 0 | J73: 8.5 | K73: =(I73*24)*J73 -> 0
... A79: 18 | B79: R | C79: 0.35416667 | D79: 0.66666667 | E79: =IF(OR(C79="abs",C79="",C79="CA"),0,D79-C79) -> 0.3125 | F79: 0 | G79: 0 | H79: =IF(OR(F79="abs",F79="",F79="ca"),0,G79-F79) -> 0 | I79: =MAX(H79-E79,0) -> 0 | J79: 8.25 | K79: =(I79*24)*J79 -> 0
A80: 19 | I80: =MAX(H80-E80,0) -> 0
A81: 20 | I81: =MAX(H81-E81,0) -> 0
A82: 21 | I82: =MAX(H82-E82,0) -> 0
A83: 22 | I83: =MAX(H83-E83,0) -> 0
A84: 23 | I84: =MAX(H84-E84,0) -> 0
A85: 24 | I85: =MAX(H85-E85,0) -> 0
A86: 25 | I86: =MAX(H86-E86,0) -> 0
A87: TOTAL | I87: =SUM(I62:I86) -> 0 | K87: =SUM(K62:K86) -> 0
C89: =C61+1 -> 43475 | L89: =_xlfn.FORMULATEXT(C89) -> =C61+1
A90: 1 | B90: A | C90: 0.375 | D90: 0.70833333 | E90: =IF(OR(C90="abs",C90="",C90="CA"),0,D90-C90) -> 0.33333333 | F90: 0 | G90: 0 | H90: =IF(OR(F90="abs",F90="",F90="ca"),0,G90-F90) -> 0 | I90: =MAX(H90-E90,0) -> 0 | J90: 8.75 | K90: =(I90*24)*J90 -> 0
A91: 2 | B91: B | C91: 0.3125 | D91: 0.77083333 | E91: =IF(OR(C91="abs",C91="",C91="CA"),0,D91-C91) -> 0.45833333 | F91: 0 | G91: 0 | H91: =IF(OR(F91="abs",F91="",F91="ca"),0,G91-F91) -> 0 | I91: =MAX(H91-E91,0) -> 0 | J91: 8 | K91: =(I91*24)*J91 -> 0
A92: 3 | B92: C | C92: 0 | D92: 0 | E92: =IF(OR(C92="abs",C92="",C92="CA"),0,D92-C92) -> 0 | F92: 0 | G92: 0 | H92: =IF(OR(F92="abs",F92="",F92="ca"),0,G92-F92) -> 0 | I92: =MAX(H92-E92,0) -> 0 | J92: 8.75 | K92: =(I92*24)*J92 -> 0
A93: 4 | B93: D | C93: 0 | D93: 0 | E93: =IF(OR(C93="abs",C93="",C93="CA"),0,D93-C93) -> 0 | F93: 0 | G93: 0 | H93: =IF(OR(F93="abs",F93="",F93="ca"),0,G93-F93) -> 0 | I93: =MAX(H93-E93,0) -> 0 | J93: 9.75 | K93: =(I93*24)*J93 -> 0
A94: 5 | B94: E | C94: 0 | D94: 0 | E94: =IF(OR(C94="abs",C94="",C94="CA"),0,D94-C94) -> 0 | F94: 0 | G94: 0 | H94: =IF(OR(F94="abs",F94="",F94="ca"),0,G94-F94) -> 0 | I94: =MAX(H94-E94,0) -> 0 | J94: 9.25 | K94: =(I94*24)*J94 -> 0
A95: 6 | B95: F | C95: 0.375 | D95: 0.72916667 | E95: =IF(OR(C95="abs",C95="",C95="CA"),0,D95-C95) -> 0.35416667 | F95: 0 | G95: 0 | H95: =IF(OR(F95="abs",F95="",F95="ca"),0,G95-F95) -> 0 | I95: =MAX(H95-E95,0) -> 0 | J95: 8 | K95: =(I95*24)*J95 -> 0
A96: 7 | B96: G | C96: 0.375 | D96: 0.6875 | E96: =IF(OR(C96="abs",C96="",C96="CA"),0,D96-C96) -> 0.3125 | F96: 0 | G96: 0 | H96: =IF(OR(F96="abs",F96="",F96="ca"),0,G96-F96) -> 0 | I96: =MAX(H96-E96,0) -> 0 | J96: 9.5 | K96: =(I96*24)*J96 -> 0
A97: 8 | B97: H | C97: 0.3125 | D97: 0.75 | E97: =IF(OR(C97="abs",C97="",C97="CA"),0,D97-C97) -> 0.4375 | F97: 0 | G97: 0 | H97: =IF(OR(F97="abs",F97="",F97="ca"),0,G97-F97) -> 0 | I97: =MAX(H97-E97,0) -> 0 | J97: 9.5 | K97: =(I97*24)*J97 -> 0
A98: 9 | B98: I | C98: 0.41666667 | D98: 0.70833333 | E98: =IF(OR(C98="abs",C98="",C98="CA"),0,D98-C98) -> 0.29166667 | F98: 0 | G98: 0 | H98: =IF(OR(F98="abs",F98="",F98="ca"),0,G98-F98) -> 0 | I98: =MAX(H98-E98,0) -> 0 | J98: 7.5 | K98: =(I98*24)*J98 -> 0
A99: 10 | B99: J | C99: 0 | D99: 0 | E99: =IF(OR(C99="abs",C99="",C99="CA"),0,D99-C99) -> 0 | F99: 0 | G99: 0 | H99: =IF(OR(F99="abs",F99="",F99="ca"),0,G99-F99) -> 0 | I99: =MAX(H99-E99,0) -> 0 | J99: 9.75 | K99: =(I99*24)*J99 -> 0
A100: 11 | B100: K | C100: 0 | D100: 0 | E100: =IF(OR(C100="abs",C100="",C100="CA"),0,D100-C100) -> 0 | F100: 0 | G100: 0 | H100: =IF(OR(F100="abs",F100="",F100="ca"),0,G100-F100) -> 0 | I100: =MAX(H100-E100,0) -> 0 | J100: 8.75 | K100: =(I100*24)*J100 -> 0
A101: 12 | B101: L | C101: 0.3125 | D101: 0.72916667 | E101: =IF(OR(C101="abs",C101="",C101="CA"),0,D101-C101) -> 0.41666667 | F101: 0 | G101: 0 | H101: =IF(OR(F101="abs",F101="",F101="ca"),0,G101-F101) -> 0 | I101: =MAX(H101-E101,0) -> 0 | J101: 8.5 | K101: =(I101*24)*J101 -> 0
A102: 13 | B102: M | C102: 0 | D102: 0 | E102: =IF(OR(C102="abs",C102="",C102="CA"),0,D102-C102) -> 0 | F102: 0 | G102: 0 | H102: =IF(OR(F102="abs",F102="",F102="ca"),0,G102-F102) -> 0 | I102: =MAX(H102-E102,0) -> 0 | J102: 8.75 | K102: =(I102*24)*J102 -> 0
A103: 14 | B103: N | C103: 0.41666667 | D103: 0.66666667 | E103: =IF(OR(C103="abs",C103="",C103="CA"),0,D103-C103) -> 0.25 | F103: 0 | G103: 0 | I103: =MAX(H103-E103,0) -> 0 | J103: 9 | K103: =(I103*24)*J103 -> 0
A104: 15 | B104: O | C104: 0 | D104: 0 | E104: =IF(OR(C104="abs",C104="",C104="CA"),0,D104-C104) -> 0 | F104: 0 | G104: 0 | H104: =IF(OR(F104="abs",F104="",F104="ca"),0,G104-F104) -> 0 | I104: =MAX(H104-E104,0) -> 0 | J104: 8.75 | K104: =(I104*24)*J104 -> 0
A105: 16 | B105: P | C105: 0.41666667 | D105: 0.75 | E105: =IF(OR(C105="abs",C105="",C105="CA"),0,D105-C105) -> 0.33333333 | F105: 0 | G105: 0 | H105: =IF(OR(F105="abs",F105="",F105="ca"),0,G105-F105) -> 0 | I105: =MAX(H105-E105,0) -> 0 | J105: 7.75 | K105: =(I105*24)*J105 -> 0
A106: 17 | B106: Q | C106: 0.35416667 | D106: 0.75 | E106: =IF(OR(C106="abs",C106="",C106="CA"),0,D106-C106) -> 0.39583333 | F106: 0 | G106: 0 | H106: =IF(OR(F106="abs",F106="",F106="ca"),0,G106-F106) -> 0 | I106: =MAX(H106-E106,0) -> 0 | J106: 8.75 | K106: =(I106*24)*J106 -> 0
A107: 18 | B107: R | C107: 0.35416667 | D107: 0.66666667 | E107: =IF(OR(C107="abs",C107="",C107="CA"),0,D107-C107) -> 0.3125 | F107: 0 | G107: 0 | H107: =IF(OR(F107="abs",F107="",F107="ca"),0,G107-F107) -> 0 | I107: =MAX(H107-E107,0) -> 0 | J107: 8.25 | K107: =(I107*24)*J107 -> 0
A108: 19 | I108: =MAX(H108-E108,0) -> 0
A109: 20 | I109: =MAX(H109-E109,0) -> 0
A110: 21 | I110: =MAX(H110-E110,0) -> 0
A111: 22 | I111: =MAX(H111-E111,0) -> 0
A112: 23 | I112: =MAX(H112-E112,0) -> 0
...

Sheet Semaine 3
B1: Annèe : | C1: =YEAR(J1) -> 2019 | F1: Mois : | G1: =INDEX(T_Mois[Mois],MATCH(MONTH(J1),T_Mois[Nb],0)) -> janvier | I1: Date : | J1: ='Semaine 2'!C117+3 -> 43479
A2: Nombre d'enfant | B2: NOM et PRENOM | C2: Prévisionnel | F2: Réel | I2: Facture | N2: Nombre d'enfant | O2: NOM et PRENOM | P2: Présence / semaine | Q2: Total Heures Contrat semaines 02 | R2: Total Heures réelles semaines 02 | S2: Total Heures sup semaines 02 | T2: Total Heures facturables semaines 02 | U2: Total Dû semaines 02
C3: Heure d'arrivée | D3: Heure de départ | E3: Durée | F3: Heure d'arrivée | G3: Heure de départ | H3: Durée | I3: Durée Facturable | J3: Taux horaire | K3: Dû par la famille
A5: Semaine : | B5: =_xlfn.ISOWEEKNUM(J1) -> 3 | C5: =J1 -> 43479
A6: 1 | B6: A | C6: 0 | D6: 0 | E6: =IF(OR(C6="abs",C6="",C6="CA"),0,D6-C6) -> 0 | F6: 0 | G6: 0 | H6: =IF(OR(F6="abs",F6="",F6="ca"),0,G6-F6) -> 0 | I6: =MAX(H6-E6,0) -> 0 | J6: 8.75 | K6: =(I6*24)*J6 -> 0 | N6: 1 | O6: A | P6: =SUMPRODUCT(($B$6:$B$26=B6)*(($H$118:$H$138>0)+($H$90:$H$110>0)+($H$62:$H$82>0)+($H$34:$H$54>0)+($H$6:$H$26>0))) -> 0 | Q6: =SUM($E6+$E34+$E62+$E90+$E118) -> 1 | R6: =SUM($H6+$H34+$H62+$H90+$H118) -> 0 | S6: =SUM($I6+$I34+$I62+$I90+$I118) -> 0 | T6: =SUM(Q6+S6) -> 1 | U6: =(S6*24)*J6 -> 0
A7: 2 | B7: B | C7: 0.3125 | D7: 0.77083333 | E7: =IF(OR(C7="abs",C7="",C7="CA"),0,D7-C7) -> 0.45833333 | F7: 0 | G7: 0 | H7: =IF(OR(F7="abs",F7="",F7="ca"),0,G7-F7) -> 0 | I7: =MAX(H7-E7,0) -> 0 | J7: 8 | K7: =(I7*24)*J7 -> 0 | N7: 2 | O7: B | P7: =SUMPRODUCT(($B$6:$B$26=B7)*(($H$118:$H$138>0)+($H$90:$H$110>0)+($H$62:$H$82>0)+($H$34:$H$54>0)+($H$6:$H$26>0))) -> 0 | Q7: =SUM($E7+$E35+$E63+$E91+$E119) -> 2.0625 | R7: =SUM($H7+$H35+$H63+$H91+$H119) -> 0 | S7: =SUM($I7+$I35+$I63+$I91+$I119) -> 0 | T7: =SUM(Q7+S7) -> 2.0625 | U7: =(S7*24)*J7 -> 0
A8: 3 | B8: C | C8: 0.3125 | D8: 0.75 | E8: =IF(OR(C8="abs",C8="",C8="CA"),0,D8-C8) -> 0.4375 | F8: 0 | G8: 0 | H8: =IF(OR(F8="abs",F8="",F8="ca"),0,G8-F8) -> 0 | I8: =MAX(H8-E8,0) -> 0 | J8: 8.75 | K8: =(I8*24)*J8 -> 0 | N8: 3 | O8: C | P8: =SUMPRODUCT(($B$6:$B$26=B8)*(($H$118:$H$138>0)+($H$90:$H$110>0)+($H$62:$H$82>0)+($H$34:$H$54>0)+($H$6:$H$26>0))) -> 0 | Q8: =SUM($E8+$E36+$E64+$E92+$E120) -> 1.3125 | R8: =SUM($H8+$H36+$H64+$H92+$H120) -> 0 | S8: =SUM($I8+$I36+$I64+$I92+$I120) -> 0 | T8: =SUM(Q8+S8) -> 1.3125 | U8: =(S8*24)*J8 -> 0
A9: 4 | B9: D | C9: 0 | D9: 0 | E9: =IF(OR(C9="abs",C9="",C9="CA"),0,D9-C9) -> 0 | F9: 0 | G9: 0 | H9: =IF(OR(F9="abs",F9="",F9="ca"),0,G9-F9) -> 0 | I9: =MAX(H9-E9,0) -> 0 | J9: 9.75 | K9: =(I9*24)*J9 -> 0 | N9: 4 | O9: D | P9: =SUMPRODUCT(($B$6:$B$26=B9)*(($H$118:$H$138>0)+($H$90:$H$110>0)+($H$62:$H$82>0)+($H$34:$H$54>0)+($H$6:$H$26>0))) -> 0 | Q9: =SUM($E9+$E37+$E65+$E93+$E121) -> 0.39583333 | R9: =SUM($H9+$H37+$H65+$H93+$H121) -> 0 | S9: =SUM($I9+$I37+$I65+$I93+$I121) -> 0 | T9: =SUM(Q9+S9) -> 0.39583333 | U9: =(S9*24)*J9 -> 0
A10: 5 | B10: E | C10: 0.33333333 | D10: 0.75 | E10: =IF(OR(C10="abs",C10="",C10="CA"),0,D10-C10) -> 0.41666667 | F10: 0 | G10: 0 | H10: =IF(OR(F10="abs",F10="",F10="ca"),0,G10-F10) -> 0 | I10: =MAX(H10-E10,0) -> 0 | J10: 9.25 | K10: =(I10*24)*J10 -> 0 | N10: 5 | O10: E | P10: =SUMPRODUCT(($B$6:$B$26=B10)*(($H$118:$H$138>0)+($H$90:$H$110>0)+($H$62:$H$82>0)+($H$34:$H$54>0)+($H$6:$H$26>0))) -> 0 | Q10: =SUM($E10+$E38+$E66+$E94+$E122) -> 0.83333333 | R10: =SUM($H10+$H38+$H66+$H94+$H122) -> 0 | S10: =SUM($I10+$I38+$I66+$I94+$I122) -> 0 | T10: =SUM(Q10+S10) -> 0.83333333 | U10: =(S10*24)*J10 -> 0
A11: 6 | B11: F | C11: 0.375 | D11: 0.6875 | E11: =IF(OR(C11="abs",C11="",C11="CA"),0,D11-C11) -> 0.3125 | F11: 0 | G11: 0 | H11: =IF(OR(F11="abs",F11="",F11="ca"),0,G11-F11) -> 0 | I11: =MAX(H11-E11,0) -> 0 | J11: 8 | K11: =(I11*24)*J11 -> 0 | N11: 6 | O11: F | P11: =SUMPRODUCT(($B$6:$B$26=B11)*(($H$118:$H$138>0)+($H$90:$H$110>0)+($H$62:$H$82>0)+($H$34:$H$54>0)+($H$6:$H$26>0))) -> 0 | Q11: =SUM($E11+$E39+$E67+$E95+$E123) -> 1.4375 | R11: =SUM($H11+$H39+$H67+$H95+$H123) -> 0 | S11: =SUM($I11+$I39+$I67+$I95+$I123) -> 0 | T11: =SUM(Q11+S11) -> 1.4375 | U11: =(S11*24)*J11 -> 0
A12: 7 | B12: G | C12: 0 | D12: 0 | E12: =IF(OR(C12="abs",C12="",C12="CA"),0,D12-C12) -> 0 | F12: 0 | G12: 0 | H12: =IF(OR(F12="abs",F12="",F12="ca"),0,G12-F12) -> 0 | I12: =MAX(H12-E12,0) -> 0 | J12: 9.5 | K12: =(I12*24)*J12 -> 0 | N12: 7 | O12: G | P12: =SUMPRODUCT(($B$6:$B$26=B12)*(($H$118:$H$138>0)+($H$90:$H$110>0)+($H$62:$H$82>0)+($H$34:$H$54>0)+($H$6:$H$26>0))) -> 0 | Q12: =SUM($E12+$E40+$E68+$E96+$E124) -> 0.625 | R12: =SUM($H12+$H40+$H68+$H96+$H124) -> 0 | S12: =SUM($I12+$I40+$I68+$I96+$I124) -> 0 | T12: =SUM(Q12+S12) -> 0.625 | U12: =(S12*24)*J12 -> 0
A13: 8 | B13: H | C13: 0.3125 | D13: 0.75 | E13: =IF(OR(C13="abs",C13="",C13="CA"),0,D13-C13) -> 0.4375 | F13: 0 | G13: 0 | H13: =IF(OR(F13="abs",F13="",F13="ca"),0,G13-F13) -> 0 | I13: =MAX(H13-E13,0) -> 0 | J13: 9.5 | K13: =(I13*24)*J13 -> 0 | N13: 8 | O13: H | P13: =SUMPRODUCT(($B$6:$B$26=B13)*(($H$118:$H$138>0)+($H$90:$H$110>0)+($H$62:$H$82>0)+($H$34:$H$54>0)+($H$6:$H$26>0))) -> 0 | Q13: =SUM($E13+$E41+$E69+$E97+$E125) -> 0.875 | R13: =SUM($H13+$H41+$H69+$H97+$H125) -> 0 | S13: =SUM($I13+$I41+$I69+$I97+$I125) -> 0 | T13: =SUM(Q13+S13) -> 0.875 | U13: =(S13*24)*J13 -> 0
A14: 9 | B14: I | C14: 0.41666667 | D14: 0.70833333 | E14: =IF(OR(C14="abs",C14="",C14="CA"),0,D14-C14) -> 0.29166667 | F14: 0 | G14: 0 | H14: =IF(OR(F14="abs",F14="",F14="ca"),0,G14-F14) -> 0 | I14: =MAX(H14-E14,0) -> 0 | J14: 7.5 | K14: =(I14*24)*J14 -> 0 | N14: 9 | O14: I | P14: =SUMPRODUCT(($B$6:$B$26=B14)*(($H$118:$H$138>0)+($H$90:$H$110>0)+($H$62:$H$82>0)+($H$34:$H$54>0)+($H$6:$H$26>0))) -> 0 | Q14: =SUM($E14+$E42+$E70+$E98+$E126) -> 1.4583333 | R14: =SUM($H14+$H42+$H70+$H98+$H126) -> 0 | S14: =SUM($I14+$I42+$I70+$I98+$I126) -> 0 | T14: =SUM(Q14+S14) -> 1.4583333 | U14: =(S14*24)*J14 -> 0
A15: 10 | B15: J | C15: 0 | D15: 0 | E15: =IF(OR(C15="abs",C15="",C15="CA"),0,D15-C15) -> 0 | F15: 0 | G15: 0 | H15: =IF(OR(F15="abs",F15="",F15="ca"),0,G15-F15) -> 0 | I15: =MAX(H15-E15,0) -> 0 | J15: 9.75 | K15: =(I15*24)*J15 -> 0 | N15: 10 | O15: J | P15: =SUMPRODUCT(($B$6:$B$26=B15)*(($H$118:$H$138>0)+($H$90:$H$110>0)+($H$62:$H$82>0)+($H$34:$H$54>0)+($H$6:$H$26>0))) -> 0 | Q15: =SUM($E15+$E43+$E71+$E99+$E127) -> 0.39583333 | R15: =SUM($H15+$H43+$H71+$H99+$H127) -> 0 | S15: =SUM($I15+$I43+$I71+$I99+$I127) -> 0 | T15: =SUM(Q15+S15) -> 0.39583333 | U15: =(S15*24)*J15 -> 0
A16: 11 | B16: K | C16: 0 | D16: 0 | E16: =IF(OR(C16="abs",C16="",C16="CA"),0,D16-C16) -> 0 | F16: 0 | G16: 0 | H16: =IF(OR(F16="abs",F16="",F16="ca"),0,G16-F16) -> 0 | I16: =MAX(H16-E16,0) -> 0 | J16: 8.75 | K16: =(I16*24)*J16 -> 0 | N16: 11 | O16: K | P16: =SUMPRODUCT(($B$6:$B$26=B16)*(($H$118:$H$138>0)+($H$90:$H$110>0)+($H$62:$H$82>0)+($H$34:$H$54>0)+($H$6:$H$26>0))) -> 0 | Q16: =SUM($E16+$E44+$E72+$E100+$E128) -> 1.1875 | R16: =SUM($H16+$H44+$H72+$H100+$H128) -> 0 | S16: =SUM($I16+$I44+$I72+$I100+$I128) -> 0 | T16: =SUM(Q16+S16) -> 1.1875 | U16: =(S16*24)*J16 -> 0
A17: 12 | B17: L | C17: 0.3125 | D17: 0.71875 | E17: =IF(OR(C17="abs",C17="",C17="CA"),0,D17-C17) -> 0.40625 | F17: 0 | G17: 0 | H17: =IF(OR(F17="abs",F17="",F17="ca"),0,G17-F17) -> 0 | I17: =MAX(H17-E17,0) -> 0 | J17: 8.5 | K17: =(I17*24)*J17 -> 0 | N17: 12 | O17: L | P17: =SUMPRODUCT(($B$6:$B$26=B17)*(($H$118:$H$138>0)+($H$90:$H$110>0)+($H$62:$H$82>0)+($H$34:$H$54>0)+($H$6:$H$26>0))) -> 0 | Q17: =SUM($E17+$E45+$E73+$E101+$E129) -> 1.625 | R17: =SUM($H17+$H45+$H73+$H101+$H129) -> 0 | S17: =SUM($I17+$I45+$I73+$I101+$I129) -> 0 | T17: =SUM(Q17+S17) -> 1.625 | U17: =(S17*24)*J17 -> 0
A18: 13 | B18: M | C18: 0.35416667 | D18: 0.77083333 | E18: =IF(OR(C18="abs",C18="",C18="CA"),0,D18-C18) -> 0.41666667 | F18: 0 | G18: 0 | H18: =IF(OR(F18="abs",F18="",F18="ca"),0,G18-F18) -> 0 | I18: =MAX(H18-E18,0) -> 0 | J18: 8.75 | K18: =(I18*24)*J18 -> 0 | N18: 13 | O18: M | P18: =SUMPRODUCT(($B$6:$B$26=B18)*(($H$118:$H$138>0)+($H$90:$H$110>0)+($H$62:$H$82>0)+($H$34:$H$54>0)+($H$6:$H$26>0))) -> 0 | Q18: =SUM($E18+$E46+$E74+$E102+$E130) -> 1.25 | R18: =SUM($H18+$H46+$H74+$H102+$H130) -> 0 | S18: =SUM($I18+$I46+$I74+$I102+$I130) -> 0 | T18: =SUM(Q18+S18) -> 1.25 | U18: =(S18*24)*J18 -> 0
A19: 14 | B19: N | C19: 0 | D19: 0 | E19: =IF(OR(C19="abs",C19="",C19="CA"),0,D19-C19) -> 0 | F19: 0 | G19: 0 | H19: 0 | I19: =MAX(H19-E19,0) -> 0 | J19: 9 | K19: =(I19*24)*J19 -> 0 | N19: 14 | O19: N | P19: =SUMPRODUCT(($B$6:$B$26=B19)*(($H$118:$H$138>0)+($H$90:$H$110>0)+($H$62:$H$82>0)+($H$34:$H$54>0)+($H$6:$H$26>0))) -> 0 | Q19: =SUM($E19+$E47+$E75+$E103+$E131) -> 0.52083333 | R19: =SUM($H19+$H47+$H75+$H103+$H131) -> 0 | S19: =SUM($I19+$I47+$I75+$I103+$I131) -> 0 | T19: =SUM(Q19+S19) -> 0.52083333 | U19: =(S19*24)*J19 -> 0
A20: 15 | B20: O | C20: 0.36458333 | D20: 0.68402778 | E20: =IF(OR(C20="abs",C20="",C20="CA"),0,D20-C20) -> 0.31944444 | F20: 0 | G20: 0 | H20: =IF(OR(F20="abs",F20="",F20="ca"),0,G20-F20) -> 0 | I20: =MAX(H20-E20,0) -> 0 | J20: 8.75 | K20: =(I20*24)*J20 -> 0 | N20: 15 | O20: O | P20: 0 | Q20: =SUM($E20+$E48+$E76+$E104+$E132) -> 0.95833333 | R20: 0 | S20: 0 | T20: =SUM(Q20+S20) -> 0.95833333 | U20: 0
A21: 16 | B21: P | C21: 0.41666667 | D21: 0.75 | E21: =IF(OR(C21="abs",C21="",C21="CA"),0,D21-C21) -> 0.33333333 | F21: 0 | G21: 0 | H21: =IF(OR(F21="abs",F21="",F21="ca"),0,G21-F21) -> 0 | I21: =MAX(H21-E21,0) -> 0 | J21: 7.75 | K21: =(I21*24)*J21 -> 0 | N21: 16 | O21: P | P21: 0 | Q21: =SUM($E21+$E49+$E77+$E105+$E133) -> 1.6666667 | R21: 0 | S21: 0 | T21: =SUM(Q21+S21) -> 1.6666667 | U21: 0
A22: 17 | B22: Q | C22: 0 | D22: 0 | E22: =IF(OR(C22="abs",C22="",C22="CA"),0,D22-C22) -> 0 | F22: 0 | G22: 0 | H22: =IF(OR(F22="abs",F22="",F22="ca"),0,G22-F22) -> 0 | I22: =MAX(H22-E22,0) -> 0 | J22: 8.75 | K22: =(I22*24)*J22 -> 0 | N22: 17 | O22: Q | P22: 0 | Q22: =SUM($E22+$E50+$E78+$E106+$E134) -> 0.97916667 | R22: =SUM($H22+$H50+$H78+$H106+$H134) -> 0 | S22: =SUM($I22+$I50+$I78+$I106+$I134) -> 0 | T22: =SUM(Q22+S22) -> 0.97916667 | U22: =(S22*24)*J22 -> 0
A23: 18 | B23: R | C23: 0.35416667 | D23: 0.66666667 | E23: =IF(OR(C23="abs",C23="",C23="CA"),0,D23-C23) -> 0.3125 | F23: 0 | G23: 0 | H23: =IF(OR(F23="abs",F23="",F23="ca"),0,G23-F23) -> 0 | I23: =MAX(H23-E23,0) -> 0 | J23: 8.25 | K23: =(I23*24)*J23 -> 0 | N23: 18 | O23: R | P23: =SUMPRODUCT(($B$6:$B$26=B23)*(($H$118:$H$138>0)+($H$90:$H$110>0)+($H$62:$H$82>0)+($H$34:$H$54>0)+($H$6:$H$26>0))) -> 0 | Q23: =SUM($E23+$E51+$E79+$E107+$E135) -> 1.25 | R23: =SUM($H23+$H51+$H79+$H107+$H135) -> 0 | S23: =SUM($I23+$I51+$I79+$I107+$I135) -> 0 | T23: =SUM(Q23+S23) -> 1.25 | U23: =(S23*24)*J23 -> 0
A24: 19 | I24: =MAX(H24-E24,0) -> 0 | N24: 19 | P24: =SUMPRODUCT(($B$6:$B$26=B24)*(($H$118:$H$138>0)+($H$90:$H$110>0)+($H$62:$H$82>0)+($H$34:$H$54>0)+($H$6:$H$26>0))) -> 0 | Q24: =SUM($E24+$E52+$E80+$E108+$E136) -> 0 | R24: =SUM($H24+$H52+$H80+$H108+$H136) -> 0 | S24: =SUM($I24+$I52+$I80+$I108+$I136) -> 0 | T24: =SUM(Q24+S24) -> 0 | U24: =(S24*24)*J24 -> 0
A25: 20 | I25: =MAX(H25-E25,0) -> 0 | N25: 20 | P25: =SUMPRODUCT(($B$6:$B$26=B25)*(($H$118:$H$138>0)+($H$90:$H$110>0)+($H$62:$H$82>0)+($H$34:$H$54>0)+($H$6:$H$26>0))) -> 0 | Q25: =SUM($E25+$E53+$E81+$E109+$E137) -> 0 | R25: =SUM($H25+$H53+$H81+$H109+$H137) -> 0 | S25: =SUM($I25+$I53+$I81+$I109+$I137) -> 0 | T25: =SUM(Q25+S25) -> 0 | U25: =(S25*24)*J25 -> 0
A26: 21 | I26: =MAX(H26-E26,0) -> 0 | N26: 21 | P26: =SUMPRODUCT(($B$6:$B$26=B26)*(($H$118:$H$138>0)+($H$90:$H$110>0)+($H$62:$H$82>0)+($H$34:$H$54>0)+($H$6:$H$26>0))) -> 0 | Q26: =SUM($E26+$E54+$E82+$E110+$E138) -> 0 | R26: =SUM($H26+$H54+$H82+$H110+$H138) -> 0 | S26: =SUM($I26+$I54+$I82+$I110+$I138) -> 0 | T26: =SUM(Q26+S26) -> 0 | U26: =(S26*24)*J26 -> 0
A27: 22 | I27: =MAX(H27-E27,0) -> 0 | N27: 22 | Q27: =SUM($E27+$E55+$E83+$E111+$E139) -> 0 | R27: =SUM($H27+$H55+$H83+$H111+$H139) -> 0 | S27: =SUM($I27+$I55+$I83+$I111+$I139) -> 0 | T27: =SUM(Q27+S27) -> 0 | U27: =(S27*24)*J27 -> 0
A28: 23 | I28: =MAX(H28-E28,0) -> 0 | N28: 23 | Q28: =SUM($E28+$E56+$E84+$E112+$E140) -> 0 | R28: =SUM($H28+$H56+$H84+$H112+$H140) -> 0 | S28: =SUM($I28+$I56+$I84+$I112+$I140) -> 0 | T28: =SUM(Q28+S28) -> 0 | U28: =(S28*24)*J28 -> 0
A29: 24 | I29: =MAX(H29-E29,0) -> 0 | N29: 24 | Q29: =SUM($E29+$E57+$E85+$E113+$E141) -> 0 | R29: =SUM($H29+$H57+$H85+$H113+$H141) -> 0 | S29: =SUM($I29+$I57+$I85+$I113+$I141) -> 0 | T29: =SUM(Q29+S29) -> 0 | U29: =(S29*24)*J29 -> 0
A30: 25 | I30: =MAX(H30-E30,0) -> 0 | N30: 25 | Q30: =SUM($E30+$E58+$E86+$E114+$E142) -> 0 | R30: =SUM($H30+$H58+$H86+$H114+$H142) -> 0 | S30: =SUM($I30+$I58+$I86+$I114+$I142) -> 0 | T30: =SUM(Q30+S30) -> 0 | U30: =(S30*24)*J30 -> 0
A31: TOTAL | I31: =SUM(I6:I30) -> 0 | K31: =SUM(K6:K30) -> 0 | P31: =SUM(P6:P30) -> 0 | Q31: =SUM(Q6:Q30) -> 19.833333 | R31: =SUM(R6:R30) -> 0 | T31: =SUM(T6:T30) -> 19.833333 | U31: =SUM(U6:U30) -> 0
Q32: =((11.5/24)*10)*5 -> 23.958333 | R32: =((11.5/24)*10)*5 -> 23.958333 | U32: =Q31/Q32 -> 0.82782609
C33: =C5+1 -> 43480
A34: 1 | B34: A | C34: 0.375 | D34: 0.70833333 | E34: =IF(OR(C34="abs",C34="",C34="CA"),0,D34-C34) -> 0.33333333 | F34: 0 | G34: 0 | H34: =IF(OR(F34="abs",F34="",F34="ca"),0,G34-F34) -> 0 | I34: =MAX(H34-E34,0) -> 0 | J34: 8.75 | K34: =(I34*24)*J34 -> 0
A35: 2 | B35: B | C35: 0.3125 | D35: 0.77083333 | E35: =IF(OR(C35="abs",C35="",C35="CA"),0,D35-C35) -> 0.45833333 | F35: 0 | G35: 0 | H35: =IF(OR(F35="abs",F35="",F35="ca"),0,G35-F35) -> 0 | I35: =MAX(H35-E35,0) -> 0 | J35: 8 | K35: =(I35*24)*J35 -> 0
A36: 3 | B36: C | C36: 0.3125 | D36: 0.75 | E36: =IF(OR(C36="abs",C36="",C36="CA"),0,D36-C36) -> 0.4375 | F36: 0 | G36: 0 | H36: =IF(OR(F36="abs",F36="",F36="ca"),0,G36-F36) -> 0 | I36: =MAX(H36-E36,0) -> 0 | J36: 8.75 | K36: =(I36*24)*J36 -> 0
A37: 4 | B37: D | C37: 0 | D37: 0 | E37: =IF(OR(C37="abs",C37="",C37="CA"),0,D37-C37) -> 0 | F37: 0 | G37: 0 | H37: =IF(OR(F37="abs",F37="",F37="ca"),0,G37-F37) -> 0 | I37: =MAX(H37-E37,0) -> 0 | J37: 9.75 | K37: =(I37*24)*J37 -> 0
A38: 5 | B38: E | C38: 0 | D38: 0 | E38: =IF(OR(C38="abs",C38="",C38="CA"),0,D38-C38) -> 0 | F38: 0 | G38: 0 | H38: =IF(OR(F38="abs",F38="",F38="ca"),0,G38-F38) -> 0 | I38: =MAX(H38-E38,0) -> 0 | J38: 9.25 | K38: =(I38*24)*J38 -> 0
A39: 6 | B39: F | C39: 0.32291667 | D39: 0.73958333 | E39: =IF(OR(C39="abs",C39="",C39="CA"),0,D39-C39) -> 0.41666667 | F39: 0 | G39: 0 | H39: =IF(OR(F39="abs",F39="",F39="ca"),0,G39-F39) -> 0 | I39: =MAX(H39-E39,0) -> 0 | J39: 8 | K39: =(I39*24)*J39 -> 0
A40: 7 | B40: G | C40: 0.375 | D40: 0.6875 | E40: =IF(OR(C40="abs",C40="",C40="CA"),0,D40-C40) -> 0.3125 | F40: 0 | G40: 0 | H40: =IF(OR(F40="abs",F40="",F40="ca"),0,G40-F40) -> 0 | I40: =MAX(H40-E40,0) -> 0 | J40: 9.5 | K40: =(I40*24)*J40 -> 0
A41: 8 | B41: H | C41: 0 | D41: 0 | E41: =IF(OR(C41="abs",C41="",C41="CA"),0,D41-C41) -> 0 | F41: 0 | G41: 0 | H41: =IF(OR(F41="abs",F41="",F41="ca"),0,G41-F41) -> 0 | I41: =MAX(H41-E41,0) -> 0 | J41: 9.5 | K41: =(I41*24)*J41 -> 0
A42: 9 | B42: I | C42: 0.41666667 | D42: 0.70833333 | E42: =IF(OR(C42="abs",C42="",C42="CA"),0,D42-C42) -> 0.29166667 | F42: 0 | G42: 0 | H42: =IF(OR(F42="abs",F42="",F42="ca"),0,G42-F42) -> 0 | I42: =MAX(H42-E42,0) -> 0 | J42: 7.5 | K42: =(I42*24)*J42 -> 0
A43: 10 | B43: J | C43: 0 | D43: 0 | E43: =IF(OR(C43="abs",C43="",C43="CA"),0,D43-C43) -> 0 | F43: 0 | G43: 0 | H43: =IF(OR(F43="abs",F43="",F43="ca"),0,G43-F43) -> 0 | I43: =MAX(H43-E43,0) -> 0 | J43: 9.75 | K43: =(I43*24)*J43 -> 0
A44: 11 | B44: K | C44: 0.375 | D44: 0.77083333 | E44: =IF(OR(C44="abs",C44="",C44="CA"),0,D44-C44) -> 0.39583333 | F44: 0 | G44: 0 | H44: =IF(OR(F44="abs",F44="",F44="ca"),0,G44-F44) -> 0 | I44: =MAX(H44-E44,0) -> 0 | J44: 8.75 | K44: =(I44*24)*J44 -> 0
A45: 12 | B45: L | C45: 0.3125 | D45: 0.72916667 | E45: =IF(OR(C45="abs",C45="",C45="CA"),0,D45-C45) -> 0.41666667 | F45: 0 | G45: 0 | H45: =IF(OR(F45="abs",F45="",F45="ca"),0,G45-F45) -> 0 | I45: =MAX(H45-E45,0) -> 0 | J45: 8.5 | K45: =(I45*24)*J45 -> 0
... A51: 18 | B51: R | C51: 0 | D51: 0 | E51: =IF(OR(C51="abs",C51="",C51="CA"),0,D51-C51) -> 0 | F51: 0 | G51: 0 | H51: =IF(OR(F51="abs",F51="",F51="ca"),0,G51-F51) -> 0 | I51: =MAX(H51-E51,0) -> 0 | J51: 8.25 | K51: =(I51*24)*J51 -> 0
A52: 19 | I52: =MAX(H52-E52,0) -> 0
A53: 20 | I53: =MAX(H53-E53,0) -> 0
A54: 21 | I54: =MAX(H54-E54,0) -> 0
A55: 22 | I55: =MAX(H55-E55,0) -> 0
A56: 23 | I56: =MAX(H56-E56,0) -> 0
A57: 24 | I57: =MAX(H57-E57,0) -> 0
A58: 25 | I58: =MAX(H58-E58,0) -> 0
A59: TOTAL | I59: =SUM(I34:I58) -> 0 | K59: =SUM(K34:K58) -> 0
C61: =C33+1 -> 43481
A62: 1 | B62: A | C62: 0 | D62: 0 | E62: =IF(OR(C62="abs",C62="",C62="CA"),0,D62-C62) -> 0 | F62: 0 | G62: 0 | H62: =IF(OR(F62="abs",F62="",F62="ca"),0,G62-F62) -> 0 | I62: =MAX(H62-E62,0) -> 0 | J62: 8.75 | K62: =(I62*24)*J62 -> 0
A63: 2 | B63: B | C63: 0.35416667 | D63: 0.70833333 | E63: =IF(OR(C63="abs",C63="",C63="CA"),0,D63-C63) -> 0.35416667 | F63: 0 | G63: 0 | H63: =IF(OR(F63="abs",F63="",F63="ca"),0,G63-F63) -> 0 | I63: =MAX(H63-E63,0) -> 0 | J63: 8 | K63: =(I63*24)*J63 -> 0
A64: 3 | B64: C | C64: 0.3125 | D64: 0.75 | E64: =IF(OR(C64="abs",C64="",C64="CA"),0,D64-C64) -> 0.4375 | F64: 0 | G64: 0 | H64: =IF(OR(F64="abs",F64="",F64="ca"),0,G64-F64) -> 0 | I64: =MAX(H64-E64,0) -> 0 | J64: 8.75 | K64: =(I64*24)*J64 -> 0
A65: 4 | B65: D | C65: 0 | D65: 0 | E65: =IF(OR(C65="abs",C65="",C65="CA"),0,D65-C65) -> 0 | F65: 0 | G65: 0 | H65: =IF(OR(F65="abs",F65="",F65="ca"),0,G65-F65) -> 0 | I65: =MAX(H65-E65,0) -> 0 | J65: 9.75 | K65: =(I65*24)*J65 -> 0
A66: 5 | B66: E | C66: 0 | D66: 0 | E66: =IF(OR(C66="abs",C66="",C66="CA"),0,D66-C66) -> 0 | F66: 0 | G66: 0 | H66: =IF(OR(F66="abs",F66="",F66="ca"),0,G66-F66) -> 0 | I66: =MAX(H66-E66,0) -> 0 | J66: 9.25 | K66: =(I66*24)*J66 -> 0
A67: 6 | B67: F | C67: 0 | D67: 0 | E67: =IF(OR(C67="abs",C67="",C67="CA"),0,D67-C67) -> 0 | F67: 0 | G67: 0 | H67: =IF(OR(F67="abs",F67="",F67="ca"),0,G67-F67) -> 0 | I67: =MAX(H67-E67,0) -> 0 | J67: 8 | K67: =(I67*24)*J67 -> 0
A68: 7 | B68: G | C68: 0 | D68: 0 | E68: =IF(OR(C68="abs",C68="",C68="CA"),0,D68-C68) -> 0 | F68: 0 | G68: 0 | H68: =IF(OR(F68="abs",F68="",F68="ca"),0,G68-F68) -> 0 | I68: =MAX(H68-E68,0) -> 0 | J68: 9.5 | K68: =(I68*24)*J68 -> 0
A69: 8 | B69: H | C69: 0 | D69: 0 | E69: =IF(OR(C69="abs",C69="",C69="CA"),0,D69-C69) -> 0 | F69: 0 | G69: 0 | H69: =IF(OR(F69="abs",F69="",F69="ca"),0,G69-F69) -> 0 | I69: =MAX(H69-E69,0) -> 0 | J69: 9.5 | K69: =(I69*24)*J69 -> 0
A70: 9 | B70: I | C70: 0.41666667 | D70: 0.70833333 | E70: =IF(OR(C70="abs",C70="",C70="CA"),0,D70-C70) -> 0.29166667 | F70: 0 | G70: 0 | H70: =IF(OR(F70="abs",F70="",F70="ca"),0,G70-F70) -> 0 | I70: =MAX(H70-E70,0) -> 0 | J70: 7.5 | K70: =(I70*24)*J70 -> 0
A71: 10 | B71: J | C71: 0.35416667 | D71: 0.75 | E71: =IF(OR(C71="abs",C71="",C71="CA"),0,D71-C71) -> 0.39583333 | F71: 0 | G71: 0 | H71: =IF(OR(F71="abs",F71="",F71="ca"),0,G71-F71) -> 0 | I71: =MAX(H71-E71,0) -> 0 | J71: 9.75 | K71: =(I71*24)*J71 -> 0
A72: 11 | B72: K | C72: 0.375 | D72: 0.77083333 | E72: =IF(OR(C72="abs",C72="",C72="CA"),0,D72-C72) -> 0.39583333 | F72: 0 | G72: 0 | H72: =IF(OR(F72="abs",F72="",F72="ca"),0,G72-F72) -> 0 | I72: =MAX(H72-E72,0) -> 0 | J72: 8.75 | K72: =(I72*24)*J72 -> 0
A73: 12 | B73: L | C73: 0 | D73: 0 | E73: =IF(OR(C73="abs",C73="",C73="CA"),0,D73-C73) -> 0 | F73: 0 | G73: 0 | H73: =IF(OR(F73="abs",F73="",F73="ca"),0,G73-F73) -> 0 | I73: =MAX(H73-E73,0) -> 0 | J73: 8.5 | K73: =(I73*24)*J73 -> 0
... A79: 18 | B79: R | C79: 0.35416667 | D79: 0.66666667 | E79: =IF(OR(C79="abs",C79="",C79="CA"),0,D79-C79) -> 0.3125 | F79: 0 | G79: 0 | H79: =IF(OR(F79="abs",F79="",F79="ca"),0,G79-F79) -> 0 | I79: =MAX(H79-E79,0) -> 0 | J79: 8.25 | K79: =(I79*24)*J79 -> 0
A80: 19 | I80: =MAX(H80-E80,0) -> 0
A81: 20 | I81: =MAX(H81-E81,0) -> 0
A82: 21 | I82: =MAX(H82-E82,0) -> 0
A83: 22 | I83: =MAX(H83-E83,0) -> 0
A84: 23 | I84: =MAX(H84-E84,0) -> 0
A85: 24 | I85: =MAX(H85-E85,0) -> 0
A86: 25 | I86: =MAX(H86-E86,0) -> 0
A87: TOTAL | I87: =SUM(I62:I86) -> 0 | K87: =SUM(K62:K86) -> 0
C89: =C61+1 -> 43482
A90: 1 | B90: A | C90: 0.375 | D90: 0.70833333 | E90: =IF(OR(C90="abs",C90="",C90="CA"),0,D90-C90) -> 0.33333333 | F90: 0 | G90: 0 | H90: =IF(OR(F90="abs",F90="",F90="ca"),0,G90-F90) -> 0 | I90: =MAX(H90-E90,0) -> 0 | J90: 8.75 | K90: =(I90*24)*J90 -> 0
A91: 2 | B91: B | C91: 0.3125 | D91: 0.77083333 | E91: =IF(OR(C91="abs",C91="",C91="CA"),0,D91-C91) -> 0.45833333 | F91: 0 | G91: 0 | H91: =IF(OR(F91="abs",F91="",F91="ca"),0,G91-F91) -> 0 | I91: =MAX(H91-E91,0) -> 0 | J91: 8 | K91: =(I91*24)*J91 -> 0
A92: 3 | B92: C | C92: 0 | D92: 0 | E92: =IF(OR(C92="abs",C92="",C92="CA"),0,D92-C92) -> 0 | F92: 0 | G92: 0 | H92: =IF(OR(F92="abs",F92="",F92="ca"),0,G92-F92) -> 0 | I92: =MAX(H92-E92,0) -> 0 | J92: 8.75 | K92: =(I92*24)*J92 -> 0
A93: 4 | B93: D | C93: 0 | D93: 0 | E93: =IF(OR(C93="abs",C93="",C93="CA"),0,D93-C93) -> 0 | F93: 0 | G93: 0 | H93: =IF(OR(F93="abs",F93="",F93="ca"),0,G93-F93) -> 0 | I93: =MAX(H93-E93,0) -> 0 | J93: 9.75 | K93: =(I93*24)*J93 -> 0
A94: 5 | B94: E | C94: 0 | D94: 0 | E94: =IF(OR(C94="abs",C94="",C94="CA"),0,D94-C94) -> 0 | F94: 0 | G94: 0 | H94: =IF(OR(F94="abs",F94="",F94="ca"),0,G94-F94) -> 0 | I94: =MAX(H94-E94,0) -> 0 | J94: 9.25 | K94: =(I94*24)*J94 -> 0
A95: 6 | B95: F | C95: 0.375 | D95: 0.72916667 | E95: =IF(OR(C95="abs",C95="",C95="CA"),0,D95-C95) -> 0.35416667 | F95: 0 | G95: 0 | H95: =IF(OR(F95="abs",F95="",F95="ca"),0,G95-F95) -> 0 | I95: =MAX(H95-E95,0) -> 0 | J95: 8 | K95: =(I95*24)*J95 -> 0
A96: 7 | B96: G | C96: 0.375 | D96: 0.6875 | E96: =IF(OR(C96="abs",C96="",C96="CA"),0,D96-C96) -> 0.3125 | F96: 0 | G96: 0 | H96: =IF(OR(F96="abs",F96="",F96="ca"),0,G96-F96) -> 0 | I96: =MAX(H96-E96,0) -> 0 | J96: 9.5 | K96: =(I96*24)*J96 -> 0
A97: 8 | B97: H | C97: 0.3125 | D97: 0.75 | E97: =IF(OR(C97="abs",C97="",C97="CA"),0,D97-C97) -> 0.4375 | F97: 0 | G97: 0 | H97: =IF(OR(F97="abs",F97="",F97="ca"),0,G97-F97) -> 0 | I97: =MAX(H97-E97,0) -> 0 | J97: 9.5 | K97: =(I97*24)*J97 -> 0
A98: 9 | B98: I | C98: 0.41666667 | D98: 0.70833333 | E98: =IF(OR(C98="abs",C98="",C98="CA"),0,D98-C98) -> 0.29166667 | F98: 0 | G98: 0 | H98: =IF(OR(F98="abs",F98="",F98="ca"),0,G98-F98) -> 0 | I98: =MAX(H98-E98,0) -> 0 | J98: 7.5 | K98: =(I98*24)*J98 -> 0
A99: 10 | B99: J | C99: 0 | D99: 0 | E99: =IF(OR(C99="abs",C99="",C99="CA"),0,D99-C99) -> 0 | F99: 0 | G99: 0 | H99: =IF(OR(F99="abs",F99="",F99="ca"),0,G99-F99) -> 0 | I99: =MAX(H99-E99,0) -> 0 | J99: 9.75 | K99: =(I99*24)*J99 -> 0
A100: 11 | B100: K | C100: 0 | D100: 0 | E100: =IF(OR(C100="abs",C100="",C100="CA"),0,D100-C100) -> 0 | F100: 0 | G100: 0 | H100: =IF(OR(F100="abs",F100="",F100="ca"),0,G100-F100) -> 0 | I100: =MAX(H100-E100,0) -> 0 | J100: 8.75 | K100: =(I100*24)*J100 -> 0
A101: 12 | B101: L | C101: 0.3125 | D101: 0.72916667 | E101: =IF(OR(C101="abs",C101="",C101="CA"),0,D101-C101) -> 0.41666667 | F101: 0 | G101: 0 | H101: =IF(OR(F101="abs",F101="",F101="ca"),0,G101-F101) -> 0 | I101: =MAX(H101-E101,0) -> 0 | J101: 8.5 | K101: =(I101*24)*J101 -> 0
A102: 13 | B102: M | C102: 0 | D102: 0 | E102: =IF(OR(C102="abs",C102="",C102="CA"),0,D102-C102) -> 0 | F102: 0 | G102: 0 | H102: =IF(OR(F102="abs",F102="",F102="ca"),0,G102-F102) -> 0 | I102: =MAX(H102-E102,0) -> 0 | J102: 8.75 | K102: =(I102*24)*J102 -> 0
A103: 14 | B103: N | C103: 0.41666667 | D103: 0.66666667 | E103: =IF(OR(C103="abs",C103="",C103="CA"),0,D103-C103) -> 0.25 | F103: 0 | G103: 0 | I103: =MAX(H103-E103,0) -> 0 | J103: 9 | K103: =(I103*24)*J103 -> 0
A104: 15 | B104: O | C104: 0 | D104: 0 | E104: =IF(OR(C104="abs",C104="",C104="CA"),0,D104-C104) -> 0 | F104: 0 | G104: 0 | H104: =IF(OR(F104="abs",F104="",F104="ca"),0,G104-F104) -> 0 | I104: =MAX(H104-E104,0) -> 0 | J104: 8.75 | K104: =(I104*24)*J104 -> 0
A105: 16 | B105: P | C105: 0.41666667 | D105: 0.75 | E105: =IF(OR(C105="abs",C105="",C105="CA"),0,D105-C105) -> 0.33333333 | F105: 0 | G105: 0 | H105: =IF(OR(F105="abs",F105="",F105="ca"),0,G105-F105) -> 0 | I105: =MAX(H105-E105,0) -> 0 | J105: 7.75 | K105: =(I105*24)*J105 -> 0
A106: 17 | B106: Q | C106: 0.35416667 | D106: 0.75 | E106: =IF(OR(C106="abs",C106="",C106="CA"),0,D106-C106) -> 0.39583333 | F106: 0 | G106: 0 | H106: =IF(OR(F106="abs",F106="",F106="ca"),0,G106-F106) -> 0 | I106: =MAX(H106-E106,0) -> 0 | J106: 8.75 | K106: =(I106*24)*J106 -> 0
A107: 18 | B107: R | C107: 0.35416667 | D107: 0.66666667 | E107: =IF(OR(C107="abs",C107="",C107="CA"),0,D107-C107) -> 0.3125 | F107: 0 | G107: 0 | H107: =IF(OR(F107="abs",F107="",F107="ca"),0,G107-F107) -> 0 | I107: =MAX(H107-E107,0) -> 0 | J107: 8.25 | K107: =(I107*24)*J107 -> 0
A108: 19 | I108: =MAX(H108-E108,0) -> 0
A109: 20 | I109: =MAX(H109-E109,0) -> 0
A110: 21 | I110: =MAX(H110-E110,0) -> 0
A111: 22 | I111: =MAX(H111-E111,0) -> 0
A112: 23 | I112: =MAX(H112-E112,0) -> 0
A113: 24 | I113: =MAX(H113-E113,0) -> 0
...

Sheet Semaine 4
B1: Annèe : | C1: =YEAR(J1) -> 2019 | F1: Mois : | G1: =INDEX(T_Mois[Mois],MATCH(MONTH(J1),T_Mois[Nb],0)) -> janvier | I1: Date : | J1: ='Semaine 3'!C117+3 -> 43486
A2: Nombre d'enfant | B2: NOM et PRENOM | C2: Prévisionnel | F2: Réel | I2: Facture | N2: Nombre d'enfant | O2: NOM et PRENOM | P2: Présence / semaine | Q2: Total Heures Contrat semaines 02 | R2: Total Heures réelles semaines 02 | S2: Total Heures sup semaines 02 | T2: Total Heures facturables semaines 02 | U2: Total Dû semaines 02
C3: Heure d'arrivée | D3: Heure de départ | E3: Durée | F3: Heure d'arrivée | G3: Heure de départ | H3: Durée | I3: Durée Facturable | J3: Taux horaire | K3: Dû par la famille
A5: Semaine : | B5: =_xlfn.ISOWEEKNUM(J1) -> 4 | C5: =J1 -> 43486
A6: 1 | B6: A | C6: 0 | D6: 0 | E6: =IF(OR(C6="abs",C6="",C6="CA"),0,D6-C6) -> 0 | F6: 0 | G6: 0 | H6: =IF(OR(F6="abs",F6="",F6="ca"),0,G6-F6) -> 0 | I6: =MAX(H6-E6,0) -> 0 | J6: 8.75 | K6: =(I6*24)*J6 -> 0 | N6: 1 | O6: A | P6: =SUMPRODUCT(($B$6:$B$26=B6)*(($H$118:$H$138>0)+($H$90:$H$110>0)+($H$62:$H$82>0)+($H$34:$H$54>0)+($H$6:$H$26>0))) -> 0 | Q6: =SUM($E6+$E34+$E62+$E90+$E118) -> 1 | R6: =SUM($H6+$H34+$H62+$H90+$H118) -> 0 | S6: =SUM($I6+$I34+$I62+$I90+$I118) -> 0 | T6: =SUM(Q6+S6) -> 1 | U6: =(S6*24)*J6 -> 0
A7: 2 | B7: B | C7: 0.3125 | D7: 0.77083333 | E7: =IF(OR(C7="abs",C7="",C7="CA"),0,D7-C7) -> 0.45833333 | F7: 0 | G7: 0 | H7: =IF(OR(F7="abs",F7="",F7="ca"),0,G7-F7) -> 0 | I7: =MAX(H7-E7,0) -> 0 | J7: 8 | K7: =(I7*24)*J7 -> 0 | N7: 2 | O7: B | P7: =SUMPRODUCT(($B$6:$B$26=B7)*(($H$118:$H$138>0)+($H$90:$H$110>0)+($H$62:$H$82>0)+($H$34:$H$54>0)+($H$6:$H$26>0))) -> 0 | Q7: =SUM($E7+$E35+$E63+$E91+$E119) -> 2.0625 | R7: =SUM($H7+$H35+$H63+$H91+$H119) -> 0 | S7: =SUM($I7+$I35+$I63+$I91+$I119) -> 0 | T7: =SUM(Q7+S7) -> 2.0625 | U7: =(S7*24)*J7 -> 0
A8: 3 | B8: C | C8: 0.3125 | D8: 0.75 | E8: =IF(OR(C8="abs",C8="",C8="CA"),0,D8-C8) -> 0.4375 | F8: 0 | G8: 0 | H8: =IF(OR(F8="abs",F8="",F8="ca"),0,G8-F8) -> 0 | I8: =MAX(H8-E8,0) -> 0 | J8: 8.75 | K8: =(I8*24)*J8 -> 0 | N8: 3 | O8: C | P8: =SUMPRODUCT(($B$6:$B$26=B8)*(($H$118:$H$138>0)+($H$90:$H$110>0)+($H$62:$H$82>0)+($H$34:$H$54>0)+($H$6:$H$26>0))) -> 0 | Q8: =SUM($E8+$E36+$E64+$E92+$E120) -> 1.3125 | R8: =SUM($H8+$H36+$H64+$H92+$H120) -> 0 | S8: =SUM($I8+$I36+$I64+$I92+$I120) -> 0 | T8: =SUM(Q8+S8) -> 1.3125 | U8: =(S8*24)*J8 -> 0
A9: 4 | B9: D | C9: 0 | D9: 0 | E9: =IF(OR(C9="abs",C9="",C9="CA"),0,D9-C9) -> 0 | F9: 0 | G9: 0 | H9: =IF(OR(F9="abs",F9="",F9="ca"),0,G9-F9) -> 0 | I9: =MAX(H9-E9,0) -> 0 | J9: 9.75 | K9: =(I9*24)*J9 -> 0 | N9: 4 | O9: D | P9: =SUMPRODUCT(($B$6:$B$26=B9)*(($H$118:$H$138>0)+($H$90:$H$110>0)+($H$62:$H$82>0)+($H$34:$H$54>0)+($H$6:$H$26>0))) -> 0 | Q9: =SUM($E9+$E37+$E65+$E93+$E121) -> 0.39583333 | R9: =SUM($H9+$H37+$H65+$H93+$H121) -> 0 | S9: =SUM($I9+$I37+$I65+$I93+$I121) -> 0 | T9: =SUM(Q9+S9) -> 0.39583333 | U9: =(S9*24)*J9 -> 0
A10: 5 | B10: E | C10: 0.33333333 | D10: 0.75 | E10: =IF(OR(C10="abs",C10="",C10="CA"),0,D10-C10) -> 0.41666667 | F10: 0 | G10: 0 | H10: =IF(OR(F10="abs",F10="",F10="ca"),0,G10-F10) -> 0 | I10: =MAX(H10-E10,0) -> 0 | J10: 9.25 | K10: =(I10*24)*J10 -> 0 | N10: 5 | O10: E | P10: =SUMPRODUCT(($B$6:$B$26=B10)*(($H$118:$H$138>0)+($H$90:$H$110>0)+($H$62:$H$82>0)+($H$34:$H$54>0)+($H$6:$H$26>0))) -> 0 | Q10: =SUM($E10+$E38+$E66+$E94+$E122) -> 0.83333333 | R10: =SUM($H10+$H38+$H66+$H94+$H122) -> 0 | S10: =SUM($I10+$I38+$I66+$I94+$I122) -> 0 | T10: =SUM(Q10+S10) -> 0.83333333 | U10: =(S10*24)*J10 -> 0
A11: 6 | B11: F | C11: 0.375 | D11: 0.6875 | E11: =IF(OR(C11="abs",C11="",C11="CA"),0,D11-C11) -> 0.3125 | F11: 0 | G11: 0 | H11: =IF(OR(F11="abs",F11="",F11="ca"),0,G11-F11) -> 0 | I11: =MAX(H11-E11,0) -> 0 | J11: 8 | K11: =(I11*24)*J11 -> 0 | N11: 6 | O11: F | P11: =SUMPRODUCT(($B$6:$B$26=B11)*(($H$118:$H$138>0)+($H$90:$H$110>0)+($H$62:$H$82>0)+($H$34:$H$54>0)+($H$6:$H$26>0))) -> 0 | Q11: =SUM($E11+$E39+$E67+$E95+$E123) -> 1.4375 | R11: =SUM($H11+$H39+$H67+$H95+$H123) -> 0 | S11: =SUM($I11+$I39+$I67+$I95+$I123) -> 0 | T11: =SUM(Q11+S11) -> 1.4375 | U11: =(S11*24)*J11 -> 0
A12: 7 | B12: G | C12: 0 | D12: 0 | E12: =IF(OR(C12="abs",C12="",C12="CA"),0,D12-C12) -> 0 | F12: 0 | G12: 0 | H12: =IF(OR(F12="abs",F12="",F12="ca"),0,G12-F12) -> 0 | I12: =MAX(H12-E12,0) -> 0 | J12: 9.5 | K12: =(I12*24)*J12 -> 0 | N12: 7 | O12: G | P12: =SUMPRODUCT(($B$6:$B$26=B12)*(($H$118:$H$138>0)+($H$90:$H$110>0)+($H$62:$H$82>0)+($H$34:$H$54>0)+($H$6:$H$26>0))) -> 0 | Q12: =SUM($E12+$E40+$E68+$E96+$E124) -> 0.625 | R12: =SUM($H12+$H40+$H68+$H96+$H124) -> 0 | S12: =SUM($I12+$I40+$I68+$I96+$I124) -> 0 | T12: =SUM(Q12+S12) -> 0.625 | U12: =(S12*24)*J12 -> 0
A13: 8 | B13: H | C13: 0.3125 | D13: 0.75 | E13: =IF(OR(C13="abs",C13="",C13="CA"),0,D13-C13) -> 0.4375 | F13: 0 | G13: 0 | H13: =IF(OR(F13="abs",F13="",F13="ca"),0,G13-F13) -> 0 | I13: =MAX(H13-E13,0) -> 0 | J13: 9.5 | K13: =(I13*24)*J13 -> 0 | N13: 8 | O13: H | P13: =SUMPRODUCT(($B$6:$B$26=B13)*(($H$118:$H$138>0)+($H$90:$H$110>0)+($H$62:$H$82>0)+($H$34:$H$54>0)+($H$6:$H$26>0))) -> 0 | Q13: =SUM($E13+$E41+$E69+$E97+$E125) -> 0.875 | R13: =SUM($H13+$H41+$H69+$H97+$H125) -> 0 | S13: =SUM($I13+$I41+$I69+$I97+$I125) -> 0 | T13: =SUM(Q13+S13) -> 0.875 | U13: =(S13*24)*J13 -> 0
A14: 9 | B14: I | C14: 0.41666667 | D14: 0.70833333 | E14: =IF(OR(C14="abs",C14="",C14="CA"),0,D14-C14) -> 0.29166667 | F14: 0 | G14: 0 | H14: =IF(OR(F14="abs",F14="",F14="ca"),0,G14-F14) -> 0 | I14: =MAX(H14-E14,0) -> 0 | J14: 7.5 | K14: =(I14*24)*J14 -> 0 | N14: 9 | O14: I | P14: =SUMPRODUCT(($B$6:$B$26=B14)*(($H$118:$H$138>0)+($H$90:$H$110>0)+($H$62:$H$82>0)+($H$34:$H$54>0)+($H$6:$H$26>0))) -> 0 | Q14: =SUM($E14+$E42+$E70+$E98+$E126) -> 1.4583333 | R14: =SUM($H14+$H42+$H70+$H98+$H126) -> 0 | S14: =SUM($I14+$I42+$I70+$I98+$I126) -> 0 | T14: =SUM(Q14+S14) -> 1.4583333 | U14: =(S14*24)*J14 -> 0
A15: 10 | B15: J | C15: 0 | D15: 0 | E15: =IF(OR(C15="abs",C15="",C15="CA"),0,D15-C15) -> 0 | F15: 0 | G15: 0 | H15: =IF(OR(F15="abs",F15="",F15="ca"),0,G15-F15) -> 0 | I15: =MAX(H15-E15,0) -> 0 | J15: 9.75 | K15: =(I15*24)*J15 -> 0 | N15: 10 | O15: J | P15: =SUMPRODUCT(($B$6:$B$26=B15)*(($H$118:$H$138>0)+($H$90:$H$110>0)+($H$62:$H$82>0)+($H$34:$H$54>0)+($H$6:$H$26>0))) -> 0 | Q15: =SUM($E15+$E43+$E71+$E99+$E127) -> 0.39583333 | R15: =SUM($H15+$H43+$H71+$H99+$H127) -> 0 | S15: =SUM($I15+$I43+$I71+$I99+$I127) -> 0 | T15: =SUM(Q15+S15) -> 0.39583333 | U15: =(S15*24)*J15 -> 0
A16: 11 | B16: K | C16: 0 | D16: 0 | E16: =IF(OR(C16="abs",C16="",C16="CA"),0,D16-C16) -> 0 | F16: 0 | G16: 0 | H16: =IF(OR(F16="abs",F16="",F16="ca"),0,G16-F16) -> 0 | I16: =MAX(H16-E16,0) -> 0 | J16: 8.75 | K16: =(I16*24)*J16 -> 0 | N16: 11 | O16: K | P16: =SUMPRODUCT(($B$6:$B$26=B16)*(($H$118:$H$138>0)+($H$90:$H$110>0)+($H$62:$H$82>0)+($H$34:$H$54>0)+($H$6:$H$26>0))) -> 0 | Q16: =SUM($E16+$E44+$E72+$E100+$E128) -> 1.1875 | R16: =SUM($H16+$H44+$H72+$H100+$H128) -> 0 | S16: =SUM($I16+$I44+$I72+$I100+$I128) -> 0 | T16: =SUM(Q16+S16) -> 1.1875 | U16: =(S16*24)*J16 -> 0
A17: 12 | B17: L | C17: 0.3125 | D17: 0.71875 | E17: =IF(OR(C17="abs",C17="",C17="CA"),0,D17-C17) -> 0.40625 | F17: 0 | G17: 0 | H17: =IF(OR(F17="abs",F17="",F17="ca"),0,G17-F17) -> 0 | I17: =MAX(H17-E17,0) -> 0 | J17: 8.5 | K17: =(I17*24)*J17 -> 0 | N17: 12 | O17: L | P17: =SUMPRODUCT(($B$6:$B$26=B17)*(($H$118:$H$138>0)+($H$90:$H$110>0)+($H$62:$H$82>0)+($H$34:$H$54>0)+($H$6:$H$26>0))) -> 0 | Q17: =SUM($E17+$E45+$E73+$E101+$E129) -> 1.625 | R17: =SUM($H17+$H45+$H73+$H101+$H129) -> 0 | S17: =SUM($I17+$I45+$I73+$I101+$I129) -> 0 | T17: =SUM(Q17+S17) -> 1.625 | U17: =(S17*24)*J17 -> 0
A18: 13 | B18: M | C18: 0.35416667 | D18: 0.77083333 | E18: =IF(OR(C18="abs",C18="",C18="CA"),0,D18-C18) -> 0.41666667 | F18: 0 | G18: 0 | H18: =IF(OR(F18="abs",F18="",F18="ca"),0,G18-F18) -> 0 | I18: =MAX(H18-E18,0) -> 0 | J18: 8.75 | K18: =(I18*24)*J18 -> 0 | N18: 13 | O18: M | P18: =SUMPRODUCT(($B$6:$B$26=B18)*(($H$118:$H$138>0)+($H$90:$H$110>0)+($H$62:$H$82>0)+($H$34:$H$54>0)+($H$6:$H$26>0))) -> 0 | Q18: =SUM($E18+$E46+$E74+$E102+$E130) -> 1.25 | R18: =SUM($H18+$H46+$H74+$H102+$H130) -> 0 | S18: =SUM($I18+$I46+$I74+$I102+$I130) -> 0 | T18: =SUM(Q18+S18) -> 1.25 | U18: =(S18*24)*J18 -> 0
A19: 14 | B19: N | C19: 0 | D19: 0 | E19: =IF(OR(C19="abs",C19="",C19="CA"),0,D19-C19) -> 0 | F19: 0 | G19: 0 | H19: 0 | I19: =MAX(H19-E19,0) -> 0 | J19: 9 | K19: =(I19*24)*J19 -> 0 | N19: 14 | O19: N | P19: =SUMPRODUCT(($B$6:$B$26=B19)*(($H$118:$H$138>0)+($H$90:$H$110>0)+($H$62:$H$82>0)+($H$34:$H$54>0)+($H$6:$H$26>0))) -> 0 | Q19: =SUM($E19+$E47+$E75+$E103+$E131) -> 0.52083333 | R19: =SUM($H19+$H47+$H75+$H103+$H131) -> 0 | S19: =SUM($I19+$I47+$I75+$I103+$I131) -> 0 | T19: =SUM(Q19+S19) -> 0.52083333 | U19: =(S19*24)*J19 -> 0
A20: 15 | B20: O | C20: 0.36458333 | D20: 0.68402778 | E20: =IF(OR(C20="abs",C20="",C20="CA"),0,D20-C20) -> 0.31944444 | F20: 0 | G20: 0 | H20: =IF(OR(F20="abs",F20="",F20="ca"),0,G20-F20) -> 0 | I20: =MAX(H20-E20,0) -> 0 | J20: 8.75 | K20: =(I20*24)*J20 -> 0 | N20: 15 | O20: O | P20: 0 | Q20: =SUM($E20+$E48+$E76+$E104+$E132) -> 0.95833333 | R20: 0 | S20: 0 | T20: =SUM(Q20+S20) -> 0.95833333 | U20: 0
A21: 16 | B21: P | C21: 0.41666667 | D21: 0.75 | E21: =IF(OR(C21="abs",C21="",C21="CA"),0,D21-C21) -> 0.33333333 | F21: 0 | G21: 0 | H21: =IF(OR(F21="abs",F21="",F21="ca"),0,G21-F21) -> 0 | I21: =MAX(H21-E21,0) -> 0 | J21: 7.75 | K21: =(I21*24)*J21 -> 0 | N21: 16 | O21: P | P21: 0 | Q21: =SUM($E21+$E49+$E77+$E105+$E133) -> 1.6666667 | R21: 0 | S21: 0 | T21: =SUM(Q21+S21) -> 1.6666667 | U21: 0
A22: 17 | B22: Q | C22: 0 | D22: 0 | E22: =IF(OR(C22="abs",C22="",C22="CA"),0,D22-C22) -> 0 | F22: 0 | G22: 0 | H22: =IF(OR(F22="abs",F22="",F22="ca"),0,G22-F22) -> 0 | I22: =MAX(H22-E22,0) -> 0 | J22: 8.75 | K22: =(I22*24)*J22 -> 0 | N22: 17 | O22: Q | P22: 0 | Q22: =SUM($E22+$E50+$E78+$E106+$E134) -> 0.97916667 | R22: =SUM($H22+$H50+$H78+$H106+$H134) -> 0 | S22: =SUM($I22+$I50+$I78+$I106+$I134) -> 0 | T22: =SUM(Q22+S22) -> 0.97916667 | U22: =(S22*24)*J22 -> 0
A23: 18 | B23: R | C23: 0.35416667 | D23: 0.66666667 | E23: =IF(OR(C23="abs",C23="",C23="CA"),0,D23-C23) -> 0.3125 | F23: 0 | G23: 0 | H23: =IF(OR(F23="abs",F23="",F23="ca"),0,G23-F23) -> 0 | I23: =MAX(H23-E23,0) -> 0 | J23: 8.25 | K23: =(I23*24)*J23 -> 0 | N23: 18 | O23: R | P23: =SUMPRODUCT(($B$6:$B$26=B23)*(($H$118:$H$138>0)+($H$90:$H$110>0)+($H$62:$H$82>0)+($H$34:$H$54>0)+($H$6:$H$26>0))) -> 0 | Q23: =SUM($E23+$E51+$E79+$E107+$E135) -> 1.25 | R23: =SUM($H23+$H51+$H79+$H107+$H135) -> 0 | S23: =SUM($I23+$I51+$I79+$I107+$I135) -> 0 | T23: =SUM(Q23+S23) -> 1.25 | U23: =(S23*24)*J23 -> 0
A24: 19 | I24: =MAX(H24-E24,0) -> 0 | N24: 19 | P24: =SUMPRODUCT(($B$6:$B$26=B24)*(($H$118:$H$138>0)+($H$90:$H$110>0)+($H$62:$H$82>0)+($H$34:$H$54>0)+($H$6:$H$26>0))) -> 0 | Q24: =SUM($E24+$E52+$E80+$E108+$E136) -> 0 | R24: =SUM($H24+$H52+$H80+$H108+$H136) -> 0 | S24: =SUM($I24+$I52+$I80+$I108+$I136) -> 0 | T24: =SUM(Q24+S24) -> 0 | U24: =(S24*24)*J24 -> 0
A25: 20 | I25: =MAX(H25-E25,0) -> 0 | N25: 20 | P25: =SUMPRODUCT(($B$6:$B$26=B25)*(($H$118:$H$138>0)+($H$90:$H$110>0)+($H$62:$H$82>0)+($H$34:$H$54>0)+($H$6:$H$26>0))) -> 0 | Q25: =SUM($E25+$E53+$E81+$E109+$E137) -> 0 | R25: =SUM($H25+$H53+$H81+$H109+$H137) -> 0 | S25: =SUM($I25+$I53+$I81+$I109+$I137) -> 0 | T25: =SUM(Q25+S25) -> 0 | U25: =(S25*24)*J25 -> 0
A26: 21 | I26: =MAX(H26-E26,0) -> 0 | N26: 21 | P26: =SUMPRODUCT(($B$6:$B$26=B26)*(($H$118:$H$138>0)+($H$90:$H$110>0)+($H$62:$H$82>0)+($H$34:$H$54>0)+($H$6:$H$26>0))) -> 0 | Q26: =SUM($E26+$E54+$E82+$E110+$E138) -> 0 | R26: =SUM($H26+$H54+$H82+$H110+$H138) -> 0 | S26: =SUM($I26+$I54+$I82+$I110+$I138) -> 0 | T26: =SUM(Q26+S26) -> 0 | U26: =(S26*24)*J26 -> 0
A27: 22 | I27: =MAX(H27-E27,0) -> 0 | N27: 22 | Q27: =SUM($E27+$E55+$E83+$E111+$E139) -> 0 | R27: =SUM($H27+$H55+$H83+$H111+$H139) -> 0 | S27: =SUM($I27+$I55+$I83+$I111+$I139) -> 0 | T27: =SUM(Q27+S27) -> 0 | U27: =(S27*24)*J27 -> 0
A28: 23 | I28: =MAX(H28-E28,0) -> 0 | N28: 23 | Q28: =SUM($E28+$E56+$E84+$E112+$E140) -> 0 | R28: =SUM($H28+$H56+$H84+$H112+$H140) -> 0 | S28: =SUM($I28+$I56+$I84+$I112+$I140) -> 0 | T28: =SUM(Q28+S28) -> 0 | U28: =(S28*24)*J28 -> 0
A29: 24 | I29: =MAX(H29-E29,0) -> 0 | N29: 24 | Q29: =SUM($E29+$E57+$E85+$E113+$E141) -> 0 | R29: =SUM($H29+$H57+$H85+$H113+$H141) -> 0 | S29: =SUM($I29+$I57+$I85+$I113+$I141) -> 0 | T29: =SUM(Q29+S29) -> 0 | U29: =(S29*24)*J29 -> 0
A30: 25 | I30: =MAX(H30-E30,0) -> 0 | N30: 25 | Q30: =SUM($E30+$E58+$E86+$E114+$E142) -> 0 | R30: =SUM($H30+$H58+$H86+$H114+$H142) -> 0 | S30: =SUM($I30+$I58+$I86+$I114+$I142) -> 0 | T30: =SUM(Q30+S30) -> 0 | U30: =(S30*24)*J30 -> 0
A31: TOTAL | I31: =SUM(I6:I30) -> 0 | K31: =SUM(K6:K30) -> 0 | P31: =SUM(P6:P30) -> 0 | Q31: =SUM(Q6:Q30) -> 19.833333 | R31: =SUM(R6:R30) -> 0 | T31: =SUM(T6:T30) -> 19.833333 | U31: =SUM(U6:U30) -> 0
Q32: =((11.5/24)*10)*5 -> 23.958333 | R32: =((11.5/24)*10)*5 -> 23.958333 | U32: =Q31/Q32 -> 0.82782609
C33: =C5+1 -> 43487
A34: 1 | B34: A | C34: 0.375 | D34: 0.70833333 | E34: =IF(OR(C34="abs",C34="",C34="CA"),0,D34-C34) -> 0.33333333 | F34: 0 | G34: 0 | H34: =IF(OR(F34="abs",F34="",F34="ca"),0,G34-F34) -> 0 | I34: =MAX(H34-E34,0) -> 0 | J34: 8.75 | K34: =(I34*24)*J34 -> 0
A35: 2 | B35: B | C35: 0.3125 | D35: 0.77083333 | E35: =IF(OR(C35="abs",C35="",C35="CA"),0,D35-C35) -> 0.45833333 | F35: 0 | G35: 0 | H35: =IF(OR(F35="abs",F35="",F35="ca"),0,G35-F35) -> 0 | I35: =MAX(H35-E35,0) -> 0 | J35: 8 | K35: =(I35*24)*J35 -> 0
A36: 3 | B36: C | C36: 0.3125 | D36: 0.75 | E36: =IF(OR(C36="abs",C36="",C36="CA"),0,D36-C36) -> 0.4375 | F36: 0 | G36: 0 | H36: =IF(OR(F36="abs",F36="",F36="ca"),0,G36-F36) -> 0 | I36: =MAX(H36-E36,0) -> 0 | J36: 8.75 | K36: =(I36*24)*J36 -> 0
A37: 4 | B37: D | C37: 0 | D37: 0 | E37: =IF(OR(C37="abs",C37="",C37="CA"),0,D37-C37) -> 0 | F37: 0 | G37: 0 | H37: =IF(OR(F37="abs",F37="",F37="ca"),0,G37-F37) -> 0 | I37: =MAX(H37-E37,0) -> 0 | J37: 9.75 | K37: =(I37*24)*J37 -> 0
A38: 5 | B38: E | C38: 0 | D38: 0 | E38: =IF(OR(C38="abs",C38="",C38="CA"),0,D38-C38) -> 0 | F38: 0 | G38: 0 | H38: =IF(OR(F38="abs",F38="",F38="ca"),0,G38-F38) -> 0 | I38: =MAX(H38-E38,0) -> 0 | J38: 9.25 | K38: =(I38*24)*J38 -> 0
A39: 6 | B39: F | C39: 0.32291667 | D39: 0.73958333 | E39: =IF(OR(C39="abs",C39="",C39="CA"),0,D39-C39) -> 0.41666667 | F39: 0 | G39: 0 | H39: =IF(OR(F39="abs",F39="",F39="ca"),0,G39-F39) -> 0 | I39: =MAX(H39-E39,0) -> 0 | J39: 8 | K39: =(I39*24)*J39 -> 0
A40: 7 | B40: G | C40: 0.375 | D40: 0.6875 | E40: =IF(OR(C40="abs",C40="",C40="CA"),0,D40-C40) -> 0.3125 | F40: 0 | G40: 0 | H40: =IF(OR(F40="abs",F40="",F40="ca"),0,G40-F40) -> 0 | I40: =MAX(H40-E40,0) -> 0 | J40: 9.5 | K40: =(I40*24)*J40 -> 0
A41: 8 | B41: H | C41: 0 | D41: 0 | E41: =IF(OR(C41="abs",C41="",C41="CA"),0,D41-C41) -> 0 | F41: 0 | G41: 0 | H41: =IF(OR(F41="abs",F41="",F41="ca"),0,G41-F41) -> 0 | I41: =MAX(H41-E41,0) -> 0 | J41: 9.5 | K41: =(I41*24)*J41 -> 0
A42: 9 | B42: I | C42: 0.41666667 | D42: 0.70833333 | E42: =IF(OR(C42="abs",C42="",C42="CA"),0,D42-C42) -> 0.29166667 | F42: 0 | G42: 0 | H42: =IF(OR(F42="abs",F42="",F42="ca"),0,G42-F42) -> 0 | I42: =MAX(H42-E42,0) -> 0 | J42: 7.5 | K42: =(I42*24)*J42 -> 0
A43: 10 | B43: J | C43: 0 | D43: 0 | E43: =IF(OR(C43="abs",C43="",C43="CA"),0,D43-C43) -> 0 | F43: 0 | G43: 0 | H43: =IF(OR(F43="abs",F43="",F43="ca"),0,G43-F43) -> 0 | I43: =MAX(H43-E43,0) -> 0 | J43: 9.75 | K43: =(I43*24)*J43 -> 0
A44: 11 | B44: K | C44: 0.375 | D44: 0.77083333 | E44: =IF(OR(C44="abs",C44="",C44="CA"),0,D44-C44) -> 0.39583333 | F44: 0 | G44: 0 | H44: =IF(OR(F44="abs",F44="",F44="ca"),0,G44-F44) -> 0 | I44: =MAX(H44-E44,0) -> 0 | J44: 8.75 | K44: =(I44*24)*J44 -> 0
A45: 12 | B45: L | C45: 0.3125 | D45: 0.72916667 | E45: =IF(OR(C45="abs",C45="",C45="CA"),0,D45-C45) -> 0.41666667 | F45: 0 | G45: 0 | H45: =IF(OR(F45="abs",F45="",F45="ca"),0,G45-F45) -> 0 | I45: =MAX(H45-E45,0) -> 0 | J45: 8.5 | K45: =(I45*24)*J45 -> 0
... A51: 18 | B51: R | C51: 0 | D51: 0 | E51: =IF(OR(C51="abs",C51="",C51="CA"),0,D51-C51) -> 0 | F51: 0 | G51: 0 | H51: =IF(OR(F51="abs",F51="",F51="ca"),0,G51-F51) -> 0 | I51: =MAX(H51-E51,0) -> 0 | J51: 8.25 | K51: =(I51*24)*J51 -> 0
A52: 19 | I52: =MAX(H52-E52,0) -> 0
A53: 20 | I53: =MAX(H53-E53,0) -> 0
A54: 21 | I54: =MAX(H54-E54,0) -> 0
A55: 22 | I55: =MAX(H55-E55,0) -> 0
A56: 23 | I56: =MAX(H56-E56,0) -> 0
A57: 24 | I57: =MAX(H57-E57,0) -> 0
A58: 25 | I58: =MAX(H58-E58,0) -> 0
A59: TOTAL | I59: =SUM(I34:I58) -> 0 | K59: =SUM(K34:K58) -> 0
C61: =C33+1 -> 43488
A62: 1 | B62: A | C62: 0 | D62: 0 | E62: =IF(OR(C62="abs",C62="",C62="CA"),0,D62-C62) -> 0 | F62: 0 | G62: 0 | H62: =IF(OR(F62="abs",F62="",F62="ca"),0,G62-F62) -> 0 | I62: =MAX(H62-E62,0) -> 0 | J62: 8.75 | K62: =(I62*24)*J62 -> 0
A63: 2 | B63: B | C63: 0.35416667 | D63: 0.70833333 | E63: =IF(OR(C63="abs",C63="",C63="CA"),0,D63-C63) -> 0.35416667 | F63: 0 | G63: 0 | H63: =IF(OR(F63="abs",F63="",F63="ca"),0,G63-F63) -> 0 | I63: =MAX(H63-E63,0) -> 0 | J63: 8 | K63: =(I63*24)*J63 -> 0
A64: 3 | B64: C | C64: 0.3125 | D64: 0.75 | E64: =IF(OR(C64="abs",C64="",C64="CA"),0,D64-C64) -> 0.4375 | F64: 0 | G64: 0 | H64: =IF(OR(F64="abs",F64="",F64="ca"),0,G64-F64) -> 0 | I64: =MAX(H64-E64,0) -> 0 | J64: 8.75 | K64: =(I64*24)*J64 -> 0
A65: 4 | B65: D | C65: 0 | D65: 0 | E65: =IF(OR(C65="abs",C65="",C65="CA"),0,D65-C65) -> 0 | F65: 0 | G65: 0 | H65: =IF(OR(F65="abs",F65="",F65="ca"),0,G65-F65) -> 0 | I65: =MAX(H65-E65,0) -> 0 | J65: 9.75 | K65: =(I65*24)*J65 -> 0
A66: 5 | B66: E | C66: 0 | D66: 0 | E66: =IF(OR(C66="abs",C66="",C66="CA"),0,D66-C66) -> 0 | F66: 0 | G66: 0 | H66: =IF(OR(F66="abs",F66="",F66="ca"),0,G66-F66) -> 0 | I66: =MAX(H66-E66,0) -> 0 | J66: 9.25 | K66: =(I66*24)*J66 -> 0
A67: 6 | B67: F | C67: 0 | D67: 0 | E67: =IF(OR(C67="abs",C67="",C67="CA"),0,D67-C67) -> 0 | F67: 0 | G67: 0 | H67: =IF(OR(F67="abs",F67="",F67="ca"),0,G67-F67) -> 0 | I67: =MAX(H67-E67,0) -> 0 | J67: 8 | K67: =(I67*24)*J67 -> 0
A68: 7 | B68: G | C68: 0 | D68: 0 | E68: =IF(OR(C68="abs",C68="",C68="CA"),0,D68-C68) -> 0 | F68: 0 | G68: 0 | H68: =IF(OR(F68="abs",F68="",F68="ca"),0,G68-F68) -> 0 | I68: =MAX(H68-E68,0) -> 0 | J68: 9.5 | K68: =(I68*24)*J68 -> 0
A69: 8 | B69: H | C69: 0 | D69: 0 | E69: =IF(OR(C69="abs",C69="",C69="CA"),0,D69-C69) -> 0 | F69: 0 | G69: 0 | H69: =IF(OR(F69="abs",F69="",F69="ca"),0,G69-F69) -> 0 | I69: =MAX(H69-E69,0) -> 0 | J69: 9.5 | K69: =(I69*24)*J69 -> 0
A70: 9 | B70: I | C70: 0.41666667 | D70: 0.70833333 | E70: =IF(OR(C70="abs",C70="",C70="CA"),0,D70-C70) -> 0.29166667 | F70: 0 | G70: 0 | H70: =IF(OR(F70="abs",F70="",F70="ca"),0,G70-F70) -> 0 | I70: =MAX(H70-E70,0) -> 0 | J70: 7.5 | K70: =(I70*24)*J70 -> 0
A71: 10 | B71: J | C71: 0.35416667 | D71: 0.75 | E71: =IF(OR(C71="abs",C71="",C71="CA"),0,D71-C71) -> 0.39583333 | F71: 0 | G71: 0 | H71: =IF(OR(F71="abs",F71="",F71="ca"),0,G71-F71) -> 0 | I71: =MAX(H71-E71,0) -> 0 | J71: 9.75 | K71: =(I71*24)*J71 -> 0
A72: 11 | B72: K | C72: 0.375 | D72: 0.77083333 | E72: =IF(OR(C72="abs",C72="",C72="CA"),0,D72-C72) -> 0.39583333 | F72: 0 | G72: 0 | H72: =IF(OR(F72="abs",F72="",F72="ca"),0,G72-F72) -> 0 | I72: =MAX(H72-E72,0) -> 0 | J72: 8.75 | K72: =(I72*24)*J72 -> 0
A73: 12 | B73: L | C73: 0 | D73: 0 | E73: =IF(OR(C73="abs",C73="",C73="CA"),0,D73-C73) -> 0 | F73: 0 | G73: 0 | H73: =IF(OR(F73="abs",F73="",F73="ca"),0,G73-F73) -> 0 | I73: =MAX(H73-E73,0) -> 0 | J73: 8.5 | K73: =(I73*24)*J73 -> 0
... A79: 18 | B79: R | C79: 0.35416667 | D79: 0.66666667 | E79: =IF(OR(C79="abs",C79="",C79="CA"),0,D79-C79) -> 0.3125 | F79: 0 | G79: 0 | H79: =IF(OR(F79="abs",F79="",F79="ca"),0,G79-F79) -> 0 | I79: =MAX(H79-E79,0) -> 0 | J79: 8.25 | K79: =(I79*24)*J79 -> 0
A80: 19 | I80: =MAX(H80-E80,0) -> 0
A81: 20 | I81: =MAX(H81-E81,0) -> 0
A82: 21 | I82: =MAX(H82-E82,0) -> 0
A83: 22 | I83: =MAX(H83-E83,0) -> 0
A84: 23 | I84: =MAX(H84-E84,0) -> 0
A85: 24 | I85: =MAX(H85-E85,0) -> 0
A86: 25 | I86: =MAX(H86-E86,0) -> 0
A87: TOTAL | I87: =SUM(I62:I86) -> 0 | K87: =SUM(K62:K86) -> 0
C89: =C61+1 -> 43489
A90: 1 | B90: A | C90: 0.375 | D90: 0.70833333 | E90: =IF(OR(C90="abs",C90="",C90="CA"),0,D90-C90) -> 0.33333333 | F90: 0 | G90: 0 | H90: =IF(OR(F90="abs",F90="",F90="ca"),0,G90-F90) -> 0 | I90: =MAX(H90-E90,0) -> 0 | J90: 8.75 | K90: =(I90*24)*J90 -> 0
A91: 2 | B91: B | C91: 0.3125 | D91: 0.77083333 | E91: =IF(OR(C91="abs",C91="",C91="CA"),0,D91-C91) -> 0.45833333 | F91: 0 | G91: 0 | H91: =IF(OR(F91="abs",F91="",F91="ca"),0,G91-F91) -> 0 | I91: =MAX(H91-E91,0) -> 0 | J91: 8 | K91: =(I91*24)*J91 -> 0
A92: 3 | B92: C | C92: 0 | D92: 0 | E92: =IF(OR(C92="abs",C92="",C92="CA"),0,D92-C92) -> 0 | F92: 0 | G92: 0 | H92: =IF(OR(F92="abs",F92="",F92="ca"),0,G92-F92) -> 0 | I92: =MAX(H92-E92,0) -> 0 | J92: 8.75 | K92: =(I92*24)*J92 -> 0
A93: 4 | B93: D | C93: 0 | D93: 0 | E93: =IF(OR(C93="abs",C93="",C93="CA"),0,D93-C93) -> 0 | F93: 0 | G93: 0 | H93: =IF(OR(F93="abs",F93="",F93="ca"),0,G93-F93) -> 0 | I93: =MAX(H93-E93,0) -> 0 | J93: 9.75 | K93: =(I93*24)*J93 -> 0
A94: 5 | B94: E | C94: 0 | D94: 0 | E94: =IF(OR(C94="abs",C94="",C94="CA"),0,D94-C94) -> 0 | F94: 0 | G94: 0 | H94: =IF(OR(F94="abs",F94="",F94="ca"),0,G94-F94) -> 0 | I94: =MAX(H94-E94,0) -> 0 | J94: 9.25 | K94: =(I94*24)*J94 -> 0
A95: 6 | B95: F | C95: 0.375 | D95: 0.72916667 | E95: =IF(OR(C95="abs",C95="",C95="CA"),0,D95-C95) -> 0.35416667 | F95: 0 | G95: 0 | H95: =IF(OR(F95="abs",F95="",F95="ca"),0,G95-F95) -> 0 | I95: =MAX(H95-E95,0) -> 0 | J95: 8 | K95: =(I95*24)*J95 -> 0
A96: 7 | B96: G | C96: 0.375 | D96: 0.6875 | E96: =IF(OR(C96="abs",C96="",C96="CA"),0,D96-C96) -> 0.3125 | F96: 0 | G96: 0 | H96: =IF(OR(F96="abs",F96="",F96="ca"),0,G96-F96) -> 0 | I96: =MAX(H96-E96,0) -> 0 | J96: 9.5 | K96: =(I96*24)*J96 -> 0
A97: 8 | B97: H | C97: 0.3125 | D97: 0.75 | E97: =IF(OR(C97="abs",C97="",C97="CA"),0,D97-C97) -> 0.4375 | F97: 0 | G97: 0 | H97: =IF(OR(F97="abs",F97="",F97="ca"),0,G97-F97) -> 0 | I97: =MAX(H97-E97,0) -> 0 | J97: 9.5 | K97: =(I97*24)*J97 -> 0
A98: 9 | B98: I | C98: 0.41666667 | D98: 0.70833333 | E98: =IF(OR(C98="abs",C98="",C98="CA"),0,D98-C98) -> 0.29166667 | F98: 0 | G98: 0 | H98: =IF(OR(F98="abs",F98="",F98="ca"),0,G98-F98) -> 0 | I98: =MAX(H98-E98,0) -> 0 | J98: 7.5 | K98: =(I98*24)*J98 -> 0
A99: 10 | B99: J | C99: 0 | D99: 0 | E99: =IF(OR(C99="abs",C99="",C99="CA"),0,D99-C99) -> 0 | F99: 0 | G99: 0 | H99: =IF(OR(F99="abs",F99="",F99="ca"),0,G99-F99) -> 0 | I99: =MAX(H99-E99,0) -> 0 | J99: 9.75 | K99: =(I99*24)*J99 -> 0
A100: 11 | B100: K | C100: 0 | D100: 0 | E100: =IF(OR(C100="abs",C100="",C100="CA"),0,D100-C100) -> 0 | F100: 0 | G100: 0 | H100: =IF(OR(F100="abs",F100="",F100="ca"),0,G100-F100) -> 0 | I100: =MAX(H100-E100,0) -> 0 | J100: 8.75 | K100: =(I100*24)*J100 -> 0
A101: 12 | B101: L | C101: 0.3125 | D101: 0.72916667 | E101: =IF(OR(C101="abs",C101="",C101="CA"),0,D101-C101) -> 0.41666667 | F101: 0 | G101: 0 | H101: =IF(OR(F101="abs",F101="",F101="ca"),0,G101-F101) -> 0 | I101: =MAX(H101-E101,0) -> 0 | J101: 8.5 | K101: =(I101*24)*J101 -> 0
A102: 13 | B102: M | C102: 0 | D102: 0 | E102: =IF(OR(C102="abs",C102="",C102="CA"),0,D102-C102) -> 0 | F102: 0 | G102: 0 | H102: =IF(OR(F102="abs",F102="",F102="ca"),0,G102-F102) -> 0 | I102: =MAX(H102-E102,0) -> 0 | J102: 8.75 | K102: =(I102*24)*J102 -> 0
A103: 14 | B103: N | C103: 0.41666667 | D103: 0.66666667 | E103: =IF(OR(C103="abs",C103="",C103="CA"),0,D103-C103) -> 0.25 | F103: 0 | G103: 0 | I103: =MAX(H103-E103,0) -> 0 | J103: 9 | K103: =(I103*24)*J103 -> 0
A104: 15 | B104: O | C104: 0 | D104: 0 | E104: =IF(OR(C104="abs",C104="",C104="CA"),0,D104-C104) -> 0 | F104: 0 | G104: 0 | H104: =IF(OR(F104="abs",F104="",F104="ca"),0,G104-F104) -> 0 | I104: =MAX(H104-E104,0) -> 0 | J104: 8.75 | K104: =(I104*24)*J104 -> 0
A105: 16 | B105: P | C105: 0.41666667 | D105: 0.75 | E105: =IF(OR(C105="abs",C105="",C105="CA"),0,D105-C105) -> 0.33333333 | F105: 0 | G105: 0 | H105: =IF(OR(F105="abs",F105="",F105="ca"),0,G105-F105) -> 0 | I105: =MAX(H105-E105,0) -> 0 | J105: 7.75 | K105: =(I105*24)*J105 -> 0
A106: 17 | B106: Q | C106: 0.35416667 | D106: 0.75 | E106: =IF(OR(C106="abs",C106="",C106="CA"),0,D106-C106) -> 0.39583333 | F106: 0 | G106: 0 | H106: =IF(OR(F106="abs",F106="",F106="ca"),0,G106-F106) -> 0 | I106: =MAX(H106-E106,0) -> 0 | J106: 8.75 | K106: =(I106*24)*J106 -> 0
A107: 18 | B107: R | C107: 0.35416667 | D107: 0.66666667 | E107: =IF(OR(C107="abs",C107="",C107="CA"),0,D107-C107) -> 0.3125 | F107: 0 | G107: 0 | H107: =IF(OR(F107="abs",F107="",F107="ca"),0,G107-F107) -> 0 | I107: =MAX(H107-E107,0) -> 0 | J107: 8.25 | K107: =(I107*24)*J107 -> 0
A108: 19 | I108: =MAX(H108-E108,0) -> 0
A109: 20 | I109: =MAX(H109-E109,0) -> 0
A110: 21 | I110: =MAX(H110-E110,0) -> 0
A111: 22 | I111: =MAX(H111-E111,0) -> 0
A112: 23 | I112: =MAX(H112-E112,0) -> 0
A113: 24 | I113: =MAX(H113-E113,0) -> 0
...

Sheet Semaine 5
B1: Annèe : | C1: =YEAR(J1) -> 2019 | F1: Mois : | G1: =INDEX(T_Mois[Mois],MATCH(MONTH(J1),T_Mois[Nb],0)) -> janvier | I1: Date : | J1: ='Semaine 4'!C117+3 -> 43493
A2: Nombre d'enfant | B2: NOM et PRENOM | C2: Prévisionnel | F2: Réel | I2: Facture | N2: Nombre d'enfant | O2: NOM et PRENOM | P2: Présence / semaine | Q2: Total Heures Contrat semaines 02 | R2: Total Heures réelles semaines 02 | S2: Total Heures sup semaines 02 | T2: Total Heures facturables semaines 02 | U2: Total Dû semaines 02
C3: Heure d'arrivée | D3: Heure de départ | E3: Durée | F3: Heure d'arrivée | G3: Heure de départ | H3: Durée | I3: Durée Facturable | J3: Taux horaire | K3: Dû par la famille
A5: Semaine : | B5: =_xlfn.ISOWEEKNUM(J1) -> 5 | C5: =J1 -> 43493
A6: 1 | B6: A | C6: 0 | D6: 0 | E6: =IF(OR(C6="abs",C6="",C6="CA"),0,D6-C6) -> 0 | F6: 0 | G6: 0 | H6: =IF(OR(F6="abs",F6="",F6="ca"),0,G6-F6) -> 0 | I6: =MAX(H6-E6,0) -> 0 | J6: 8.75 | K6: =(I6*24)*J6 -> 0 | N6: 1 | O6: A | P6: =SUMPRODUCT(($B$6:$B$26=B6)*(($H$118:$H$138>0)+($H$90:$H$110>0)+($H$62:$H$82>0)+($H$34:$H$54>0)+($H$6:$H$26>0))) -> 0 | Q6: =SUM($E6+$E34+$E62+$E90+$E118) -> 1 | R6: =SUM($H6+$H34+$H62+$H90+$H118) -> 0 | S6: =SUM($I6+$I34+$I62+$I90+$I118) -> 0 | T6: =SUM(Q6+S6) -> 1 | U6: =(S6*24)*J6 -> 0
A7: 2 | B7: B | C7: 0.3125 | D7: 0.77083333 | E7: =IF(OR(C7="abs",C7="",C7="CA"),0,D7-C7) -> 0.45833333 | F7: 0 | G7: 0 | H7: =IF(OR(F7="abs",F7="",F7="ca"),0,G7-F7) -> 0 | I7: =MAX(H7-E7,0) -> 0 | J7: 8 | K7: =(I7*24)*J7 -> 0 | N7: 2 | O7: B | P7: =SUMPRODUCT(($B$6:$B$26=B7)*(($H$118:$H$138>0)+($H$90:$H$110>0)+($H$62:$H$82>0)+($H$34:$H$54>0)+($H$6:$H$26>0))) -> 0 | Q7: =SUM($E7+$E35+$E63+$E91+$E119) -> 2.0625 | R7: =SUM($H7+$H35+$H63+$H91+$H119) -> 0 | S7: =SUM($I7+$I35+$I63+$I91+$I119) -> 0 | T7: =SUM(Q7+S7) -> 2.0625 | U7: =(S7*24)*J7 -> 0
A8: 3 | B8: C | C8: 0.3125 | D8: 0.75 | E8: =IF(OR(C8="abs",C8="",C8="CA"),0,D8-C8) -> 0.4375 | F8: 0 | G8: 0 | H8: =IF(OR(F8="abs",F8="",F8="ca"),0,G8-F8) -> 0 | I8: =MAX(H8-E8,0) -> 0 | J8: 8.75 | K8: =(I8*24)*J8 -> 0 | N8: 3 | O8: C | P8: =SUMPRODUCT(($B$6:$B$26=B8)*(($H$118:$H$138>0)+($H$90:$H$110>0)+($H$62:$H$82>0)+($H$34:$H$54>0)+($H$6:$H$26>0))) -> 0 | Q8: =SUM($E8+$E36+$E64+$E92+$E120) -> 1.3125 | R8: =SUM($H8+$H36+$H64+$H92+$H120) -> 0 | S8: =SUM($I8+$I36+$I64+$I92+$I120) -> 0 | T8: =SUM(Q8+S8) -> 1.3125 | U8: =(S8*24)*J8 -> 0
A9: 4 | B9: D | C9: 0 | D9: 0 | E9: =IF(OR(C9="abs",C9="",C9="CA"),0,D9-C9) -> 0 | F9: 0 | G9: 0 | H9: =IF(OR(F9="abs",F9="",F9="ca"),0,G9-F9) -> 0 | I9: =MAX(H9-E9,0) -> 0 | J9: 9.75 | K9: =(I9*24)*J9 -> 0 | N9: 4 | O9: D | P9: =SUMPRODUCT(($B$6:$B$26=B9)*(($H$118:$H$138>0)+($H$90:$H$110>0)+($H$62:$H$82>0)+($H$34:$H$54>0)+($H$6:$H$26>0))) -> 0 | Q9: =SUM($E9+$E37+$E65+$E93+$E121) -> 0.39583333 | R9: =SUM($H9+$H37+$H65+$H93+$H121) -> 0 | S9: =SUM($I9+$I37+$I65+$I93+$I121) -> 0 | T9: =SUM(Q9+S9) -> 0.39583333 | U9: =(S9*24)*J9 -> 0
A10: 5 | B10: E | C10: 0.33333333 | D10: 0.75 | E10: =IF(OR(C10="abs",C10="",C10="CA"),0,D10-C10) -> 0.41666667 | F10: 0 | G10: 0 | H10: =IF(OR(F10="abs",F10="",F10="ca"),0,G10-F10) -> 0 | I10: =MAX(H10-E10,0) -> 0 | J10: 9.25 | K10: =(I10*24)*J10 -> 0 | N10: 5 | O10: E | P10: =SUMPRODUCT(($B$6:$B$26=B10)*(($H$118:$H$138>0)+($H$90:$H$110>0)+($H$62:$H$82>0)+($H$34:$H$54>0)+($H$6:$H$26>0))) -> 0 | Q10: =SUM($E10+$E38+$E66+$E94+$E122) -> 0.83333333 | R10: =SUM($H10+$H38+$H66+$H94+$H122) -> 0 | S10: =SUM($I10+$I38+$I66+$I94+$I122) -> 0 | T10: =SUM(Q10+S10) -> 0.83333333 | U10: =(S10*24)*J10 -> 0
A11: 6 | B11: F | C11: 0.375 | D11: 0.6875 | E11: =IF(OR(C11="abs",C11="",C11="CA"),0,D11-C11) -> 0.3125 | F11: 0 | G11: 0 | H11: =IF(OR(F11="abs",F11="",F11="ca"),0,G11-F11) -> 0 | I11: =MAX(H11-E11,0) -> 0 | J11: 8 | K11: =(I11*24)*J11 -> 0 | N11: 6 | O11: F | P11: =SUMPRODUCT(($B$6:$B$26=B11)*(($H$118:$H$138>0)+($H$90:$H$110>0)+($H$62:$H$82>0)+($H$34:$H$54>0)+($H$6:$H$26>0))) -> 0 | Q11: =SUM($E11+$E39+$E67+$E95+$E123) -> 1.4375 | R11: =SUM($H11+$H39+$H67+$H95+$H123) -> 0 | S11: =SUM($I11+$I39+$I67+$I95+$I123) -> 0 | T11: =SUM(Q11+S11) -> 1.4375 | U11: =(S11*24)*J11 -> 0
A12: 7 | B12: G | C12: 0 | D12: 0 | E12: =IF(OR(C12="abs",C12="",C12="CA"),0,D12-C12) -> 0 | F12: 0 | G12: 0 | H12: =IF(OR(F12="abs",F12="",F12="ca"),0,G12-F12) -> 0 | I12: =MAX(H12-E12,0) -> 0 | J12: 9.5 | K12: =(I12*24)*J12 -> 0 | N12: 7 | O12: G | P12: =SUMPRODUCT(($B$6:$B$26=B12)*(($H$118:$H$138>0)+($H$90:$H$110>0)+($H$62:$H$82>0)+($H$34:$H$54>0)+($H$6:$H$26>0))) -> 0 | Q12: =SUM($E12+$E40+$E68+$E96+$E124) -> 0.625 | R12: =SUM($H12+$H40+$H68+$H96+$H124) -> 0 | S12: =SUM($I12+$I40+$I68+$I96+$I124) -> 0 | T12: =SUM(Q12+S12) -> 0.625 | U12: =(S12*24)*J12 -> 0
A13: 8 | B13: H | C13: 0.3125 | D13: 0.75 | E13: =IF(OR(C13="abs",C13="",C13="CA"),0,D13-C13) -> 0.4375 | F13: 0 | G13: 0 | H13: =IF(OR(F13="abs",F13="",F13="ca"),0,G13-F13) -> 0 | I13: =MAX(H13-E13,0) -> 0 | J13: 9.5 | K13: =(I13*24)*J13 -> 0 | N13: 8 | O13: H | P13: =SUMPRODUCT(($B$6:$B$26=B13)*(($H$118:$H$138>0)+($H$90:$H$110>0)+($H$62:$H$82>0)+($H$34:$H$54>0)+($H$6:$H$26>0))) -> 0 | Q13: =SUM($E13+$E41+$E69+$E97+$E125) -> 0.875 | R13: =SUM($H13+$H41+$H69+$H97+$H125) -> 0 | S13: =SUM($I13+$I41+$I69+$I97+$I125) -> 0 | T13: =SUM(Q13+S13) -> 0.875 | U13: =(S13*24)*J13 -> 0
A14: 9 | B14: I | C14: 0.41666667 | D14: 0.70833333 | E14: =IF(OR(C14="abs",C14="",C14="CA"),0,D14-C14) -> 0.29166667 | F14: 0 | G14: 0 | H14: =IF(OR(F14="abs",F14="",F14="ca"),0,G14-F14) -> 0 | I14: =MAX(H14-E14,0) -> 0 | J14: 7.5 | K14: =(I14*24)*J14 -> 0 | N14: 9 | O14: I | P14: =SUMPRODUCT(($B$6:$B$26=B14)*(($H$118:$H$138>0)+($H$90:$H$110>0)+($H$62:$H$82>0)+($H$34:$H$54>0)+($H$6:$H$26>0))) -> 0 | Q14: =SUM($E14+$E42+$E70+$E98+$E126) -> 1.4583333 | R14: =SUM($H14+$H42+$H70+$H98+$H126) -> 0 | S14: =SUM($I14+$I42+$I70+$I98+$I126) -> 0 | T14: =SUM(Q14+S14) -> 1.4583333 | U14: =(S14*24)*J14 -> 0
A15: 10 | B15: J | C15: 0 | D15: 0 | E15: =IF(OR(C15="abs",C15="",C15="CA"),0,D15-C15) -> 0 | F15: 0 | G15: 0 | H15: =IF(OR(F15="abs",F15="",F15="ca"),0,G15-F15) -> 0 | I15: =MAX(H15-E15,0) -> 0 | J15: 9.75 | K15: =(I15*24)*J15 -> 0 | N15: 10 | O15: J | P15: =SUMPRODUCT(($B$6:$B$26=B15)*(($H$118:$H$138>0)+($H$90:$H$110>0)+($H$62:$H$82>0)+($H$34:$H$54>0)+($H$6:$H$26>0))) -> 0 | Q15: =SUM($E15+$E43+$E71+$E99+$E127) -> 0.39583333 | R15: =SUM($H15+$H43+$H71+$H99+$H127) -> 0 | S15: =SUM($I15+$I43+$I71+$I99+$I127) -> 0 | T15: =SUM(Q15+S15) -> 0.39583333 | U15: =(S15*24)*J15 -> 0
A16: 11 | B16: K | C16: 0 | D16: 0 | E16: =IF(OR(C16="abs",C16="",C16="CA"),0,D16-C16) -> 0 | F16: 0 | G16: 0 | H16: =IF(OR(F16="abs",F16="",F16="ca"),0,G16-F16) -> 0 | I16: =MAX(H16-E16,0) -> 0 | J16: 8.75 | K16: =(I16*24)*J16 -> 0 | N16: 11 | O16: K | P16: =SUMPRODUCT(($B$6:$B$26=B16)*(($H$118:$H$138>0)+($H$90:$H$110>0)+($H$62:$H$82>0)+($H$34:$H$54>0)+($H$6:$H$26>0))) -> 0 | Q16: =SUM($E16+$E44+$E72+$E100+$E128) -> 1.1875 | R16: =SUM($H16+$H44+$H72+$H100+$H128) -> 0 | S16: =SUM($I16+$I44+$I72+$I100+$I128) -> 0 | T16: =SUM(Q16+S16) -> 1.1875 | U16: =(S16*24)*J16 -> 0
A17: 12 | B17: L | C17: 0.3125 | D17: 0.71875 | E17: =IF(OR(C17="abs",C17="",C17="CA"),0,D17-C17) -> 0.40625 | F17: 0 | G17: 0 | H17: =IF(OR(F17="abs",F17="",F17="ca"),0,G17-F17) -> 0 | I17: =MAX(H17-E17,0) -> 0 | J17: 8.5 | K17: =(I17*24)*J17 -> 0 | N17: 12 | O17: L | P17: =SUMPRODUCT(($B$6:$B$26=B17)*(($H$118:$H$138>0)+($H$90:$H$110>0)+($H$62:$H$82>0)+($H$34:$H$54>0)+($H$6:$H$26>0))) -> 0 | Q17: =SUM($E17+$E45+$E73+$E101+$E129) -> 1.625 | R17: =SUM($H17+$H45+$H73+$H101+$H129) -> 0 | S17: =SUM($I17+$I45+$I73+$I101+$I129) -> 0 | T17: =SUM(Q17+S17) -> 1.625 | U17: =(S17*24)*J17 -> 0
A18: 13 | B18: M | C18: 0.35416667 | D18: 0.77083333 | E18: =IF(OR(C18="abs",C18="",C18="CA"),0,D18-C18) -> 0.41666667 | F18: 0 | G18: 0 | H18: =IF(OR(F18="abs",F18="",F18="ca"),0,G18-F18) -> 0 | I18: =MAX(H18-E18,0) -> 0 | J18: 8.75 | K18: =(I18*24)*J18 -> 0 | N18: 13 | O18: M | P18: =SUMPRODUCT(($B$6:$B$26=B18)*(($H$118:$H$138>0)+($H$90:$H$110>0)+($H$62:$H$82>0)+($H$34:$H$54>0)+($H$6:$H$26>0))) -> 0 | Q18: =SUM($E18+$E46+$E74+$E102+$E130) -> 1.25 | R18: =SUM($H18+$H46+$H74+$H102+$H130) -> 0 | S18: =SUM($I18+$I46+$I74+$I102+$I130) -> 0 | T18: =SUM(Q18+S18) -> 1.25 | U18: =(S18*24)*J18 -> 0
A19: 14 | B19: N | C19: 0 | D19: 0 | E19: =IF(OR(C19="abs",C19="",C19="CA"),0,D19-C19) -> 0 | F19: 0 | G19: 0 | H19: 0 | I19: =MAX(H19-E19,0) -> 0 | J19: 9 | K19: =(I19*24)*J19 -> 0 | N19: 14 | O19: N | P19: =SUMPRODUCT(($B$6:$B$26=B19)*(($H$118:$H$138>0)+($H$90:$H$110>0)+($H$62:$H$82>0)+($H$34:$H$54>0)+($H$6:$H$26>0))) -> 0 | Q19: =SUM($E19+$E47+$E75+$E103+$E131) -> 0.52083333 | R19: =SUM($H19+$H47+$H75+$H103+$H131) -> 0 | S19: =SUM($I19+$I47+$I75+$I103+$I131) -> 0 | T19: =SUM(Q19+S19) -> 0.52083333 | U19: =(S19*24)*J19 -> 0
A20: 15 | B20: O | C20: 0.36458333 | D20: 0.68402778 | E20: =IF(OR(C20="abs",C20="",C20="CA"),0,D20-C20) -> 0.31944444 | F20: 0 | G20: 0 | H20: =IF(OR(F20="abs",F20="",F20="ca"),0,G20-F20) -> 0 | I20: =MAX(H20-E20,0) -> 0 | J20: 8.75 | K20: =(I20*24)*J20 -> 0 | N20: 15 | O20: O | P20: 0 | Q20: =SUM($E20+$E48+$E76+$E104+$E132) -> 0.95833333 | R20: 0 | S20: 0 | T20: =SUM(Q20+S20) -> 0.95833333 | U20: 0
A21: 16 | B21: P | C21: 0.41666667 | D21: 0.75 | E21: =IF(OR(C21="abs",C21="",C21="CA"),0,D21-C21) -> 0.33333333 | F21: 0 | G21: 0 | H21: =IF(OR(F21="abs",F21="",F21="ca"),0,G21-F21) -> 0 | I21: =MAX(H21-E21,0) -> 0 | J21: 7.75 | K21: =(I21*24)*J21 -> 0 | N21: 16 | O21: P | P21: 0 | Q21: =SUM($E21+$E49+$E77+$E105+$E133) -> 1.6666667 | R21: 0 | S21: 0 | T21: =SUM(Q21+S21) -> 1.6666667 | U21: 0
A22: 17 | B22: Q | C22: 0 | D22: 0 | E22: =IF(OR(C22="abs",C22="",C22="CA"),0,D22-C22) -> 0 | F22: 0 | G22: 0 | H22: =IF(OR(F22="abs",F22="",F22="ca"),0,G22-F22) -> 0 | I22: =MAX(H22-E22,0) -> 0 | J22: 8.75 | K22: =(I22*24)*J22 -> 0 | N22: 17 | O22: Q | P22: 0 | Q22: =SUM($E22+$E50+$E78+$E106+$E134) -> 0.97916667 | R22: =SUM($H22+$H50+$H78+$H106+$H134) -> 0 | S22: =SUM($I22+$I50+$I78+$I106+$I134) -> 0 | T22: =SUM(Q22+S22) -> 0.97916667 | U22: =(S22*24)*J22 -> 0
A23: 18 | B23: R | C23: 0.35416667 | D23: 0.66666667 | E23: =IF(OR(C23="abs",C23="",C23="CA"),0,D23-C23) -> 0.3125 | F23: 0 | G23: 0 | H23: =IF(OR(F23="abs",F23="",F23="ca"),0,G23-F23) -> 0 | I23: =MAX(H23-E23,0) -> 0 | J23: 8.25 | K23: =(I23*24)*J23 -> 0 | N23: 18 | O23: R | P23: =SUMPRODUCT(($B$6:$B$26=B23)*(($H$118:$H$138>0)+($H$90:$H$110>0)+($H$62:$H$82>0)+($H$34:$H$54>0)+($H$6:$H$26>0))) -> 0 | Q23: =SUM($E23+$E51+$E79+$E107+$E135) -> 1.25 | R23: =SUM($H23+$H51+$H79+$H107+$H135) -> 0 | S23: =SUM($I23+$I51+$I79+$I107+$I135) -> 0 | T23: =SUM(Q23+S23) -> 1.25 | U23: =(S23*24)*J23 -> 0
A24: 19 | I24: =MAX(H24-E24,0) -> 0 | N24: 19 | P24: =SUMPRODUCT(($B$6:$B$26=B24)*(($H$118:$H$138>0)+($H$90:$H$110>0)+($H$62:$H$82>0)+($H$34:$H$54>0)+($H$6:$H$26>0))) -> 0 | Q24: =SUM($E24+$E52+$E80+$E108+$E136) -> 0 | R24: =SUM($H24+$H52+$H80+$H108+$H136) -> 0 | S24: =SUM($I24+$I52+$I80+$I108+$I136) -> 0 | T24: =SUM(Q24+S24) -> 0 | U24: =(S24*24)*J24 -> 0
A25: 20 | I25: =MAX(H25-E25,0) -> 0 | N25: 20 | P25: =SUMPRODUCT(($B$6:$B$26=B25)*(($H$118:$H$138>0)+($H$90:$H$110>0)+($H$62:$H$82>0)+($H$34:$H$54>0)+($H$6:$H$26>0))) -> 0 | Q25: =SUM($E25+$E53+$E81+$E109+$E137) -> 0 | R25: =SUM($H25+$H53+$H81+$H109+$H137) -> 0 | S25: =SUM($I25+$I53+$I81+$I109+$I137) -> 0 | T25: =SUM(Q25+S25) -> 0 | U25: =(S25*24)*J25 -> 0
A26: 21 | I26: =MAX(H26-E26,0) -> 0 | N26: 21 | P26: =SUMPRODUCT(($B$6:$B$26=B26)*(($H$118:$H$138>0)+($H$90:$H$110>0)+($H$62:$H$82>0)+($H$34:$H$54>0)+($H$6:$H$26>0))) -> 0 | Q26: =SUM($E26+$E54+$E82+$E110+$E138) -> 0 | R26: =SUM($H26+$H54+$H82+$H110+$H138) -> 0 | S26: =SUM($I26+$I54+$I82+$I110+$I138) -> 0 | T26: =SUM(Q26+S26) -> 0 | U26: =(S26*24)*J26 -> 0
A27: 22 | I27: =MAX(H27-E27,0) -> 0 | N27: 22 | Q27: =SUM($E27+$E55+$E83+$E111+$E139) -> 0 | R27: =SUM($H27+$H55+$H83+$H111+$H139) -> 0 | S27: =SUM($I27+$I55+$I83+$I111+$I139) -> 0 | T27: =SUM(Q27+S27) -> 0 | U27: =(S27*24)*J27 -> 0
A28: 23 | I28: =MAX(H28-E28,0) -> 0 | N28: 23 | Q28: =SUM($E28+$E56+$E84+$E112+$E140) -> 0 | R28: =SUM($H28+$H56+$H84+$H112+$H140) -> 0 | S28: =SUM($I28+$I56+$I84+$I112+$I140) -> 0 | T28: =SUM(Q28+S28) -> 0 | U28: =(S28*24)*J28 -> 0
A29: 24 | I29: =MAX(H29-E29,0) -> 0 | N29: 24 | Q29: =SUM($E29+$E57+$E85+$E113+$E141) -> 0 | R29: =SUM($H29+$H57+$H85+$H113+$H141) -> 0 | S29: =SUM($I29+$I57+$I85+$I113+$I141) -> 0 | T29: =SUM(Q29+S29) -> 0 | U29: =(S29*24)*J29 -> 0
A30: 25 | I30: =MAX(H30-E30,0) -> 0 | N30: 25 | Q30: =SUM($E30+$E58+$E86+$E114+$E142) -> 0 | R30: =SUM($H30+$H58+$H86+$H114+$H142) -> 0 | S30: =SUM($I30+$I58+$I86+$I114+$I142) -> 0 | T30: =SUM(Q30+S30) -> 0 | U30: =(S30*24)*J30 -> 0
A31: TOTAL | I31: =SUM(I6:I30) -> 0 | K31: =SUM(K6:K30) -> 0 | P31: =SUM(P6:P30) -> 0 | Q31: =SUM(Q6:Q30) -> 19.833333 | R31: =SUM(R6:R30) -> 0 | T31: =SUM(T6:T30) -> 19.833333 | U31: =SUM(U6:U30) -> 0
Q32: =((11.5/24)*10)*5 -> 23.958333 | R32: =((11.5/24)*10)*5 -> 23.958333 | U32: =Q31/Q32 -> 0.82782609
C33: =C5+1 -> 43494
A34: 1 | B34: A | C34: 0.375 | D34: 0.70833333 | E34: =IF(OR(C34="abs",C34="",C34="CA"),0,D34-C34) -> 0.33333333 | F34: 0 | G34: 0 | H34: =IF(OR(F34="abs",F34="",F34="ca"),0,G34-F34) -> 0 | I34: =MAX(H34-E34,0) -> 0 | J34: 8.75 | K34: =(I34*24)*J34 -> 0
A35: 2 | B35: B | C35: 0.3125 | D35: 0.77083333 | E35: =IF(OR(C35="abs",C35="",C35="CA"),0,D35-C35) -> 0.45833333 | F35: 0 | G35: 0 | H35: =IF(OR(F35="abs",F35="",F35="ca"),0,G35-F35) -> 0 | I35: =MAX(H35-E35,0) -> 0 | J35: 8 | K35: =(I35*24)*J35 -> 0
A36: 3 | B36: C | C36: 0.3125 | D36: 0.75 | E36: =IF(OR(C36="abs",C36="",C36="CA"),0,D36-C36) -> 0.4375 | F36: 0 | G36: 0 | H36: =IF(OR(F36="abs",F36="",F36="ca"),0,G36-F36) -> 0 | I36: =MAX(H36-E36,0) -> 0 | J36: 8.75 | K36: =(I36*24)*J36 -> 0
A37: 4 | B37: D | C37: 0 | D37: 0 | E37: =IF(OR(C37="abs",C37="",C37="CA"),0,D37-C37) -> 0 | F37: 0 | G37: 0 | H37: =IF(OR(F37="abs",F37="",F37="ca"),0,G37-F37) -> 0 | I37: =MAX(H37-E37,0) -> 0 | J37: 9.75 | K37: =(I37*24)*J37 -> 0
A38: 5 | B38: E | C38: 0 | D38: 0 | E38: =IF(OR(C38="abs",C38="",C38="CA"),0,D38-C38) -> 0 | F38: 0 | G38: 0 | H38: =IF(OR(F38="abs",F38="",F38="ca"),0,G38-F38) -> 0 | I38: =MAX(H38-E38,0) -> 0 | J38: 9.25 | K38: =(I38*24)*J38 -> 0
A39: 6 | B39: F | C39: 0.32291667 | D39: 0.73958333 | E39: =IF(OR(C39="abs",C39="",C39="CA"),0,D39-C39) -> 0.41666667 | F39: 0 | G39: 0 | H39: =IF(OR(F39="abs",F39="",F39="ca"),0,G39-F39) -> 0 | I39: =MAX(H39-E39,0) -> 0 | J39: 8 | K39: =(I39*24)*J39 -> 0
A40: 7 | B40: G | C40: 0.375 | D40: 0.6875 | E40: =IF(OR(C40="abs",C40="",C40="CA"),0,D40-C40) -> 0.3125 | F40: 0 | G40: 0 | H40: =IF(OR(F40="abs",F40="",F40="ca"),0,G40-F40) -> 0 | I40: =MAX(H40-E40,0) -> 0 | J40: 9.5 | K40: =(I40*24)*J40 -> 0
A41: 8 | B41: H | C41: 0 | D41: 0 | E41: =IF(OR(C41="abs",C41="",C41="CA"),0,D41-C41) -> 0 | F41: 0 | G41: 0 | H41: =IF(OR(F41="abs",F41="",F41="ca"),0,G41-F41) -> 0 | I41: =MAX(H41-E41,0) -> 0 | J41: 9.5 | K41: =(I41*24)*J41 -> 0
A42: 9 | B42: I | C42: 0.41666667 | D42: 0.70833333 | E42: =IF(OR(C42="abs",C42="",C42="CA"),0,D42-C42) -> 0.29166667 | F42: 0 | G42: 0 | H42: =IF(OR(F42="abs",F42="",F42="ca"),0,G42-F42) -> 0 | I42: =MAX(H42-E42,0) -> 0 | J42: 7.5 | K42: =(I42*24)*J42 -> 0
A43: 10 | B43: J | C43: 0 | D43: 0 | E43: =IF(OR(C43="abs",C43="",C43="CA"),0,D43-C43) -> 0 | F43: 0 | G43: 0 | H43: =IF(OR(F43="abs",F43="",F43="ca"),0,G43-F43) -> 0 | I43: =MAX(H43-E43,0) -> 0 | J43: 9.75 | K43: =(I43*24)*J43 -> 0
A44: 11 | B44: K | C44: 0.375 | D44: 0.77083333 | E44: =IF(OR(C44="abs",C44="",C44="CA"),0,D44-C44) -> 0.39583333 | F44: 0 | G44: 0 | H44: =IF(OR(F44="abs",F44="",F44="ca"),0,G44-F44) -> 0 | I44: =MAX(H44-E44,0) -> 0 | J44: 8.75 | K44: =(I44*24)*J44 -> 0
A45: 12 | B45: L | C45: 0.3125 | D45: 0.72916667 | E45: =IF(OR(C45="abs",C45="",C45="CA"),0,D45-C45) -> 0.41666667 | F45: 0 | G45: 0 | H45: =IF(OR(F45="abs",F45="",F45="ca"),0,G45-F45) -> 0 | I45: =MAX(H45-E45,0) -> 0 | J45: 8.5 | K45: =(I45*24)*J45 -> 0
... A51: 18 | B51: R | C51: 0 | D51: 0 | E51: =IF(OR(C51="abs",C51="",C51="CA"),0,D51-C51) -> 0 | F51: 0 | G51: 0 | H51: =IF(OR(F51="abs",F51="",F51="ca"),0,G51-F51) -> 0 | I51: =MAX(H51-E51,0) -> 0 | J51: 8.25 | K51: =(I51*24)*J51 -> 0
A52: 19 | I52: =MAX(H52-E52,0) -> 0
A53: 20 | I53: =MAX(H53-E53,0) -> 0
A54: 21 | I54: =MAX(H54-E54,0) -> 0
A55: 22 | I55: =MAX(H55-E55,0) -> 0
A56: 23 | I56: =MAX(H56-E56,0) -> 0
A57: 24 | I57: =MAX(H57-E57,0) -> 0
A58: 25 | I58: =MAX(H58-E58,0) -> 0
A59: TOTAL | I59: =SUM(I34:I58) -> 0 | K59: =SUM(K34:K58) -> 0
C61: =C33+1 -> 43495
A62: 1 | B62: A | C62: 0 | D62: 0 | E62: =IF(OR(C62="abs",C62="",C62="CA"),0,D62-C62) -> 0 | F62: 0 | G62: 0 | H62: =IF(OR(F62="abs",F62="",F62="ca"),0,G62-F62) -> 0 | I62: =MAX(H62-E62,0) -> 0 | J62: 8.75 | K62: =(I62*24)*J62 -> 0
A63: 2 | B63: B | C63: 0.35416667 | D63: 0.70833333 | E63: =IF(OR(C63="abs",C63="",C63="CA"),0,D63-C63) -> 0.35416667 | F63: 0 | G63: 0 | H63: =IF(OR(F63="abs",F63="",F63="ca"),0,G63-F63) -> 0 | I63: =MAX(H63-E63,0) -> 0 | J63: 8 | K63: =(I63*24)*J63 -> 0
A64: 3 | B64: C | C64: 0.3125 | D64: 0.75 | E64: =IF(OR(C64="abs",C64="",C64="CA"),0,D64-C64) -> 0.4375 | F64: 0 | G64: 0 | H64: =IF(OR(F64="abs",F64="",F64="ca"),0,G64-F64) -> 0 | I64: =MAX(H64-E64,0) -> 0 | J64: 8.75 | K64: =(I64*24)*J64 -> 0
A65: 4 | B65: D | C65: 0 | D65: 0 | E65: =IF(OR(C65="abs",C65="",C65="CA"),0,D65-C65) -> 0 | F65: 0 | G65: 0 | H65: =IF(OR(F65="abs",F65="",F65="ca"),0,G65-F65) -> 0 | I65: =MAX(H65-E65,0) -> 0 | J65: 9.75 | K65: =(I65*24)*J65 -> 0
A66: 5 | B66: E | C66: 0 | D66: 0 | E66: =IF(OR(C66="abs",C66="",C66="CA"),0,D66-C66) -> 0 | F66: 0 | G66: 0 | H66: =IF(OR(F66="abs",F66="",F66="ca"),0,G66-F66) -> 0 | I66: =MAX(H66-E66,0) -> 0 | J66: 9.25 | K66: =(I66*24)*J66 -> 0
A67: 6 | B67: F | C67: 0 | D67: 0 | E67: =IF(OR(C67="abs",C67="",C67="CA"),0,D67-C67) -> 0 | F67: 0 | G67: 0 | H67: =IF(OR(F67="abs",F67="",F67="ca"),0,G67-F67) -> 0 | I67: =MAX(H67-E67,0) -> 0 | J67: 8 | K67: =(I67*24)*J67 -> 0
A68: 7 | B68: G | C68: 0 | D68: 0 | E68: =IF(OR(C68="abs",C68="",C68="CA"),0,D68-C68) -> 0 | F68: 0 | G68: 0 | H68: =IF(OR(F68="abs",F68="",F68="ca"),0,G68-F68) -> 0 | I68: =MAX(H68-E68,0) -> 0 | J68: 9.5 | K68: =(I68*24)*J68 -> 0
A69: 8 | B69: H | C69: 0 | D69: 0 | E69: =IF(OR(C69="abs",C69="",C69="CA"),0,D69-C69) -> 0 | F69: 0 | G69: 0 | H69: =IF(OR(F69="abs",F69="",F69="ca"),0,G69-F69) -> 0 | I69: =MAX(H69-E69,0) -> 0 | J69: 9.5 | K69: =(I69*24)*J69 -> 0
A70: 9 | B70: I | C70: 0.41666667 | D70: 0.70833333 | E70: =IF(OR(C70="abs",C70="",C70="CA"),0,D70-C70) -> 0.29166667 | F70: 0 | G70: 0 | H70: =IF(OR(F70="abs",F70="",F70="ca"),0,G70-F70) -> 0 | I70: =MAX(H70-E70,0) -> 0 | J70: 7.5 | K70: =(I70*24)*J70 -> 0
A71: 10 | B71: J | C71: 0.35416667 | D71: 0.75 | E71: =IF(OR(C71="abs",C71="",C71="CA"),0,D71-C71) -> 0.39583333 | F71: 0 | G71: 0 | H71: =IF(OR(F71="abs",F71="",F71="ca"),0,G71-F71) -> 0 | I71: =MAX(H71-E71,0) -> 0 | J71: 9.75 | K71: =(I71*24)*J71 -> 0
A72: 11 | B72: K | C72: 0.375 | D72: 0.77083333 | E72: =IF(OR(C72="abs",C72="",C72="CA"),0,D72-C72) -> 0.39583333 | F72: 0 | G72: 0 | H72: =IF(OR(F72="abs",F72="",F72="ca"),0,G72-F72) -> 0 | I72: =MAX(H72-E72,0) -> 0 | J72: 8.75 | K72: =(I72*24)*J72 -> 0
A73: 12 | B73: L | C73: 0 | D73: 0 | E73: =IF(OR(C73="abs",C73="",C73="CA"),0,D73-C73) -> 0 | F73: 0 | G73: 0 | H73: =IF(OR(F73="abs",F73="",F73="ca"),0,G73-F73) -> 0 | I73: =MAX(H73-E73,0) -> 0 | J73: 8.5 | K73: =(I73*24)*J73 -> 0
... A79: 18 | B79: R | C79: 0.35416667 | D79: 0.66666667 | E79: =IF(OR(C79="abs",C79="",C79="CA"),0,D79-C79) -> 0.3125 | F79: 0 | G79: 0 | H79: =IF(OR(F79="abs",F79="",F79="ca"),0,G79-F79) -> 0 | I79: =MAX(H79-E79,0) -> 0 | J79: 8.25 | K79: =(I79*24)*J79 -> 0
A80: 19 | I80: =MAX(H80-E80,0) -> 0
A81: 20 | I81: =MAX(H81-E81,0) -> 0
A82: 21 | I82: =MAX(H82-E82,0) -> 0
A83: 22 | I83: =MAX(H83-E83,0) -> 0
A84: 23 | I84: =MAX(H84-E84,0) -> 0
A85: 24 | I85: =MAX(H85-E85,0) -> 0
A86: 25 | I86: =MAX(H86-E86,0) -> 0
A87: TOTAL | I87: =SUM(I62:I86) -> 0 | K87: =SUM(K62:K86) -> 0
C89: =C61+1 -> 43496
A90: 1 | B90: A | C90: 0.375 | D90: 0.70833333 | E90: =IF(OR(C90="abs",C90="",C90="CA"),0,D90-C90) -> 0.33333333 | F90: 0 | G90: 0 | H90: =IF(OR(F90="abs",F90="",F90="ca"),0,G90-F90) -> 0 | I90: =MAX(H90-E90,0) -> 0 | J90: 8.75 | K90: =(I90*24)*J90 -> 0
A91: 2 | B91: B | C91: 0.3125 | D91: 0.77083333 | E91: =IF(OR(C91="abs",C91="",C91="CA"),0,D91-C91) -> 0.45833333 | F91: 0 | G91: 0 | H91: =IF(OR(F91="abs",F91="",F91="ca"),0,G91-F91) -> 0 | I91: =MAX(H91-E91,0) -> 0 | J91: 8 | K91: =(I91*24)*J91 -> 0
A92: 3 | B92: C | C92: 0 | D92: 0 | E92: =IF(OR(C92="abs",C92="",C92="CA"),0,D92-C92) -> 0 | F92: 0 | G92: 0 | H92: =IF(OR(F92="abs",F92="",F92="ca"),0,G92-F92) -> 0 | I92: =MAX(H92-E92,0) -> 0 | J92: 8.75 | K92: =(I92*24)*J92 -> 0
A93: 4 | B93: D | C93: 0 | D93: 0 | E93: =IF(OR(C93="abs",C93="",C93="CA"),0,D93-C93) -> 0 | F93: 0 | G93: 0 | H93: =IF(OR(F93="abs",F93="",F93="ca"),0,G93-F93) -> 0 | I93: =MAX(H93-E93,0) -> 0 | J93: 9.75 | K93: =(I93*24)*J93 -> 0
A94: 5 | B94: E | C94: 0 | D94: 0 | E94: =IF(OR(C94="abs",C94="",C94="CA"),0,D94-C94) -> 0 | F94: 0 | G94: 0 | H94: =IF(OR(F94="abs",F94="",F94="ca"),0,G94-F94) -> 0 | I94: =MAX(H94-E94,0) -> 0 | J94: 9.25 | K94: =(I94*24)*J94 -> 0
A95: 6 | B95: F | C95: 0.375 | D95: 0.72916667 | E95: =IF(OR(C95="abs",C95="",C95="CA"),0,D95-C95) -> 0.35416667 | F95: 0 | G95: 0 | H95: =IF(OR(F95="abs",F95="",F95="ca"),0,G95-F95) -> 0 | I95: =MAX(H95-E95,0) -> 0 | J95: 8 | K95: =(I95*24)*J95 -> 0
A96: 7 | B96: G | C96: 0.375 | D96: 0.6875 | E96: =IF(OR(C96="abs",C96="",C96="CA"),0,D96-C96) -> 0.3125 | F96: 0 | G96: 0 | H96: =IF(OR(F96="abs",F96="",F96="ca"),0,G96-F96) -> 0 | I96: =MAX(H96-E96,0) -> 0 | J96: 9.5 | K96: =(I96*24)*J96 -> 0
A97: 8 | B97: H | C97: 0.3125 | D97: 0.75 | E97: =IF(OR(C97="abs",C97="",C97="CA"),0,D97-C97) -> 0.4375 | F97: 0 | G97: 0 | H97: =IF(OR(F97="abs",F97="",F97="ca"),0,G97-F97) -> 0 | I97: =MAX(H97-E97,0) -> 0 | J97: 9.5 | K97: =(I97*24)*J97 -> 0
A98: 9 | B98: I | C98: 0.41666667 | D98: 0.70833333 | E98: =IF(OR(C98="abs",C98="",C98="CA"),0,D98-C98) -> 0.29166667 | F98: 0 | G98: 0 | H98: =IF(OR(F98="abs",F98="",F98="ca"),0,G98-F98) -> 0 | I98: =MAX(H98-E98,0) -> 0 | J98: 7.5 | K98: =(I98*24)*J98 -> 0
A99: 10 | B99: J | C99: 0 | D99: 0 | E99: =IF(OR(C99="abs",C99="",C99="CA"),0,D99-C99) -> 0 | F99: 0 | G99: 0 | H99: =IF(OR(F99="abs",F99="",F99="ca"),0,G99-F99) -> 0 | I99: =MAX(H99-E99,0) -> 0 | J99: 9.75 | K99: =(I99*24)*J99 -> 0
A100: 11 | B100: K | C100: 0 | D100: 0 | E100: =IF(OR(C100="abs",C100="",C100="CA"),0,D100-C100) -> 0 | F100: 0 | G100: 0 | H100: =IF(OR(F100="abs",F100="",F100="ca"),0,G100-F100) -> 0 | I100: =MAX(H100-E100,0) -> 0 | J100: 8.75 | K100: =(I100*24)*J100 -> 0
A101: 12 | B101: L | C101: 0.3125 | D101: 0.72916667 | E101: =IF(OR(C101="abs",C101="",C101="CA"),0,D101-C101) -> 0.41666667 | F101: 0 | G101: 0 | H101: =IF(OR(F101="abs",F101="",F101="ca"),0,G101-F101) -> 0 | I101: =MAX(H101-E101,0) -> 0 | J101: 8.5 | K101: =(I101*24)*J101 -> 0
A102: 13 | B102: M | C102: 0 | D102: 0 | E102: =IF(OR(C102="abs",C102="",C102="CA"),0,D102-C102) -> 0 | F102: 0 | G102: 0 | H102: =IF(OR(F102="abs",F102="",F102="ca"),0,G102-F102) -> 0 | I102: =MAX(H102-E102,0) -> 0 | J102: 8.75 | K102: =(I102*24)*J102 -> 0
A103: 14 | B103: N | C103: 0.41666667 | D103: 0.66666667 | E103: =IF(OR(C103="abs",C103="",C103="CA"),0,D103-C103) -> 0.25 | F103: 0 | G103: 0 | I103: =MAX(H103-E103,0) -> 0 | J103: 9 | K103: =(I103*24)*J103 -> 0
A104: 15 | B104: O | C104: 0 | D104: 0 | E104: =IF(OR(C104="abs",C104="",C104="CA"),0,D104-C104) -> 0 | F104: 0 | G104: 0 | H104: =IF(OR(F104="abs",F104="",F104="ca"),0,G104-F104) -> 0 | I104: =MAX(H104-E104,0) -> 0 | J104: 8.75 | K104: =(I104*24)*J104 -> 0
A105: 16 | B105: P | C105: 0.41666667 | D105: 0.75 | E105: =IF(OR(C105="abs",C105="",C105="CA"),0,D105-C105) -> 0.33333333 | F105: 0 | G105: 0 | H105: =IF(OR(F105="abs",F105="",F105="ca"),0,G105-F105) -> 0 | I105: =MAX(H105-E105,0) -> 0 | J105: 7.75 | K105: =(I105*24)*J105 -> 0
A106: 17 | B106: Q | C106: 0.35416667 | D106: 0.75 | E106: =IF(OR(C106="abs",C106="",C106="CA"),0,D106-C106) -> 0.39583333 | F106: 0 | G106: 0 | H106: =IF(OR(F106="abs",F106="",F106="ca"),0,G106-F106) -> 0 | I106: =MAX(H106-E106,0) -> 0 | J106: 8.75 | K106: =(I106*24)*J106 -> 0
A107: 18 | B107: R | C107: 0.35416667 | D107: 0.66666667 | E107: =IF(OR(C107="abs",C107="",C107="CA"),0,D107-C107) -> 0.3125 | F107: 0 | G107: 0 | H107: =IF(OR(F107="abs",F107="",F107="ca"),0,G107-F107) -> 0 | I107: =MAX(H107-E107,0) -> 0 | J107: 8.25 | K107: =(I107*24)*J107 -> 0
A108: 19 | I108: =MAX(H108-E108,0) -> 0
A109: 20 | I109: =MAX(H109-E109,0) -> 0
A110: 21 | I110: =MAX(H110-E110,0) -> 0
A111: 22 | I111: =MAX(H111-E111,0) -> 0
A112: 23 | I112: =MAX(H112-E112,0) -> 0
A113: 24 | I113: =MAX(H113-E113,0) -> 0
...

Sheet Semaine 6
B1: Annèe : | C1: =YEAR(J1) -> 2019 | F1: Mois : | G1: =INDEX(T_Mois[Mois],MATCH(MONTH(J1),T_Mois[Nb],0)) -> février | I1: Date : | J1: ='Semaine 5'!C117+3 -> 43500
A2: Nombre d'enfant | B2: NOM et PRENOM | C2: Prévisionnel | F2: Réel | I2: Facture | N2: Nombre d'enfant | O2: NOM et PRENOM | P2: Présence / semaine | Q2: Total Heures Contrat semaines 02 | R2: Total Heures réelles semaines 02 | S2: Total Heures sup semaines 02 | T2: Total Heures facturables semaines 02 | U2: Total Dû semaines 02
C3: Heure d'arrivée | D3: Heure de départ | E3: Durée | F3: Heure d'arrivée | G3: Heure de départ | H3: Durée | I3: Durée Facturable | J3: Taux horaire | K3: Dû par la famille
A5: Semaine : | B5: =_xlfn.ISOWEEKNUM(J1) -> 6 | C5: =J1 -> 43500
A6: 1 | B6: A | C6: 0 | D6: 0 | E6: =IF(OR(C6="abs",C6="",C6="CA"),0,D6-C6) -> 0 | F6: 0 | G6: 0 | H6: =IF(OR(F6="abs",F6="",F6="ca"),0,G6-F6) -> 0 | I6: =MAX(H6-E6,0) -> 0 | J6: 8.75 | K6: =(I6*24)*J6 -> 0 | N6: 1 | O6: A | P6: =SUMPRODUCT(($B$6:$B$26=B6)*(($H$118:$H$138>0)+($H$90:$H$110>0)+($H$62:$H$82>0)+($H$34:$H$54>0)+($H$6:$H$26>0))) -> 0 | Q6: =SUM($E6+$E34+$E62+$E90+$E118) -> 1 | R6: =SUM($H6+$H34+$H62+$H90+$H118) -> 0 | S6: =SUM($I6+$I34+$I62+$I90+$I118) -> 0 | T6: =SUM(Q6+S6) -> 1 | U6: =(S6*24)*J6 -> 0
A7: 2 | B7: B | C7: 0.3125 | D7: 0.77083333 | E7: =IF(OR(C7="abs",C7="",C7="CA"),0,D7-C7) -> 0.45833333 | F7: 0 | G7: 0 | H7: =IF(OR(F7="abs",F7="",F7="ca"),0,G7-F7) -> 0 | I7: =MAX(H7-E7,0) -> 0 | J7: 8 | K7: =(I7*24)*J7 -> 0 | N7: 2 | O7: B | P7: =SUMPRODUCT(($B$6:$B$26=B7)*(($H$118:$H$138>0)+($H$90:$H$110>0)+($H$62:$H$82>0)+($H$34:$H$54>0)+($H$6:$H$26>0))) -> 0 | Q7: =SUM($E7+$E35+$E63+$E91+$E119) -> 2.0625 | R7: =SUM($H7+$H35+$H63+$H91+$H119) -> 0 | S7: =SUM($I7+$I35+$I63+$I91+$I119) -> 0 | T7: =SUM(Q7+S7) -> 2.0625 | U7: =(S7*24)*J7 -> 0
A8: 3 | B8: C | C8: 0.3125 | D8: 0.75 | E8: =IF(OR(C8="abs",C8="",C8="CA"),0,D8-C8) -> 0.4375 | F8: 0 | G8: 0 | H8: =IF(OR(F8="abs",F8="",F8="ca"),0,G8-F8) -> 0 | I8: =MAX(H8-E8,0) -> 0 | J8: 8.75 | K8: =(I8*24)*J8 -> 0 | N8: 3 | O8: C | P8: =SUMPRODUCT(($B$6:$B$26=B8)*(($H$118:$H$138>0)+($H$90:$H$110>0)+($H$62:$H$82>0)+($H$34:$H$54>0)+($H$6:$H$26>0))) -> 0 | Q8: =SUM($E8+$E36+$E64+$E92+$E120) -> 1.3125 | R8: =SUM($H8+$H36+$H64+$H92+$H120) -> 0 | S8: =SUM($I8+$I36+$I64+$I92+$I120) -> 0 | T8: =SUM(Q8+S8) -> 1.3125 | U8: =(S8*24)*J8 -> 0
A9: 4 | B9: D | C9: 0 | D9: 0 | E9: =IF(OR(C9="abs",C9="",C9="CA"),0,D9-C9) -> 0 | F9: 0 | G9: 0 | H9: =IF(OR(F9="abs",F9="",F9="ca"),0,G9-F9) -> 0 | I9: =MAX(H9-E9,0) -> 0 | J9: 9.75 | K9: =(I9*24)*J9 -> 0 | N9: 4 | O9: D | P9: =SUMPRODUCT(($B$6:$B$26=B9)*(($H$118:$H$138>0)+($H$90:$H$110>0)+($H$62:$H$82>0)+($H$34:$H$54>0)+($H$6:$H$26>0))) -> 0 | Q9: =SUM($E9+$E37+$E65+$E93+$E121) -> 0.39583333 | R9: =SUM($H9+$H37+$H65+$H93+$H121) -> 0 | S9: =SUM($I9+$I37+$I65+$I93+$I121) -> 0 | T9: =SUM(Q9+S9) -> 0.39583333 | U9: =(S9*24)*J9 -> 0
A10: 5 | B10: E | C10: 0.33333333 | D10: 0.75 | E10: =IF(OR(C10="abs",C10="",C10="CA"),0,D10-C10) -> 0.41666667 | F10: 0 | G10: 0 | H10: =IF(OR(F10="abs",F10="",F10="ca"),0,G10-F10) -> 0 | I10: =MAX(H10-E10,0) -> 0 | J10: 9.25 | K10: =(I10*24)*J10 -> 0 | N10: 5 | O10: E | P10: =SUMPRODUCT(($B$6:$B$26=B10)*(($H$118:$H$138>0)+($H$90:$H$110>0)+($H$62:$H$82>0)+($H$34:$H$54>0)+($H$6:$H$26>0))) -> 0 | Q10: =SUM($E10+$E38+$E66+$E94+$E122) -> 0.83333333 | R10: =SUM($H10+$H38+$H66+$H94+$H122) -> 0 | S10: =SUM($I10+$I38+$I66+$I94+$I122) -> 0 | T10: =SUM(Q10+S10) -> 0.83333333 | U10: =(S10*24)*J10 -> 0
A11: 6 | B11: F | C11: 0.375 | D11: 0.6875 | E11: =IF(OR(C11="abs",C11="",C11="CA"),0,D11-C11) -> 0.3125 | F11: 0 | G11: 0 | H11: =IF(OR(F11="abs",F11="",F11="ca"),0,G11-F11) -> 0 | I11: =MAX(H11-E11,0) -> 0 | J11: 8 | K11: =(I11*24)*J11 -> 0 | N11: 6 | O11: F | P11: =SUMPRODUCT(($B$6:$B$26=B11)*(($H$118:$H$138>0)+($H$90:$H$110>0)+($H$62:$H$82>0)+($H$34:$H$54>0)+($H$6:$H$26>0))) -> 0 | Q11: =SUM($E11+$E39+$E67+$E95+$E123) -> 1.4375 | R11: =SUM($H11+$H39+$H67+$H95+$H123) -> 0 | S11: =SUM($I11+$I39+$I67+$I95+$I123) -> 0 | T11: =SUM(Q11+S11) -> 1.4375 | U11: =(S11*24)*J11 -> 0
A12: 7 | B12: G | C12: 0 | D12: 0 | E12: =IF(OR(C12="abs",C12="",C12="CA"),0,D12-C12) -> 0 | F12: 0 | G12: 0 | H12: =IF(OR(F12="abs",F12="",F12="ca"),0,G12-F12) -> 0 | I12: =MAX(H12-E12,0) -> 0 | J12: 9.5 | K12: =(I12*24)*J12 -> 0 | N12: 7 | O12: G | P12: =SUMPRODUCT(($B$6:$B$26=B12)*(($H$118:$H$138>0)+($H$90:$H$110>0)+($H$62:$H$82>0)+($H$34:$H$54>0)+($H$6:$H$26>0))) -> 0 | Q12: =SUM($E12+$E40+$E68+$E96+$E124) -> 0.625 | R12: =SUM($H12+$H40+$H68+$H96+$H124) -> 0 | S12: =SUM($I12+$I40+$I68+$I96+$I124) -> 0 | T12: =SUM(Q12+S12) -> 0.625 | U12: =(S12*24)*J12 -> 0
A13: 8 | B13: H | C13: 0.3125 | D13: 0.75 | E13: =IF(OR(C13="abs",C13="",C13="CA"),0,D13-C13) -> 0.4375 | F13: 0 | G13: 0 | H13: =IF(OR(F13="abs",F13="",F13="ca"),0,G13-F13) -> 0 | I13: =MAX(H13-E13,0) -> 0 | J13: 9.5 | K13: =(I13*24)*J13 -> 0 | N13: 8 | O13: H | P13: =SUMPRODUCT(($B$6:$B$26=B13)*(($H$118:$H$138>0)+($H$90:$H$110>0)+($H$62:$H$82>0)+($H$34:$H$54>0)+($H$6:$H$26>0))) -> 0 | Q13: =SUM($E13+$E41+$E69+$E97+$E125) -> 0.875 | R13: =SUM($H13+$H41+$H69+$H97+$H125) -> 0 | S13: =SUM($I13+$I41+$I69+$I97+$I125) -> 0 | T13: =SUM(Q13+S13) -> 0.875 | U13: =(S13*24)*J13 -> 0
A14: 9 | B14: I | C14: 0.41666667 | D14: 0.70833333 | E14: =IF(OR(C14="abs",C14="",C14="CA"),0,D14-C14) -> 0.29166667 | F14: 0 | G14: 0 | H14: =IF(OR(F14="abs",F14="",F14="ca"),0,G14-F14) -> 0 | I14: =MAX(H14-E14,0) -> 0 | J14: 7.5 | K14: =(I14*24)*J14 -> 0 | N14: 9 | O14: I | P14: =SUMPRODUCT(($B$6:$B$26=B14)*(($H$118:$H$138>0)+($H$90:$H$110>0)+($H$62:$H$82>0)+($H$34:$H$54>0)+($H$6:$H$26>0))) -> 0 | Q14: =SUM($E14+$E42+$E70+$E98+$E126) -> 1.4583333 | R14: =SUM($H14+$H42+$H70+$H98+$H126) -> 0 | S14: =SUM($I14+$I42+$I70+$I98+$I126) -> 0 | T14: =SUM(Q14+S14) -> 1.4583333 | U14: =(S14*24)*J14 -> 0
A15: 10 | B15: J | C15: 0 | D15: 0 | E15: =IF(OR(C15="abs",C15="",C15="CA"),0,D15-C15) -> 0 | F15: 0 | G15: 0 | H15: =IF(OR(F15="abs",F15="",F15="ca"),0,G15-F15) -> 0 | I15: =MAX(H15-E15,0) -> 0 | J15: 9.75 | K15: =(I15*24)*J15 -> 0 | N15: 10 | O15: J | P15: =SUMPRODUCT(($B$6:$B$26=B15)*(($H$118:$H$138>0)+($H$90:$H$110>0)+($H$62:$H$82>0)+($H$34:$H$54>0)+($H$6:$H$26>0))) -> 0 | Q15: =SUM($E15+$E43+$E71+$E99+$E127) -> 0.39583333 | R15: =SUM($H15+$H43+$H71+$H99+$H127) -> 0 | S15: =SUM($I15+$I43+$I71+$I99+$I127) -> 0 | T15: =SUM(Q15+S15) -> 0.39583333 | U15: =(S15*24)*J15 -> 0
A16: 11 | B16: K | C16: 0 | D16: 0 | E16: =IF(OR(C16="abs",C16="",C16="CA"),0,D16-C16) -> 0 | F16: 0 | G16: 0 | H16: =IF(OR(F16="abs",F16="",F16="ca"),0,G16-F16) -> 0 | I16: =MAX(H16-E16,0) -> 0 | J16: 8.75 | K16: =(I16*24)*J16 -> 0 | N16: 11 | O16: K | P16: =SUMPRODUCT(($B$6:$B$26=B16)*(($H$118:$H$138>0)+($H$90:$H$110>0)+($H$62:$H$82>0)+($H$34:$H$54>0)+($H$6:$H$26>0))) -> 0 | Q16: =SUM($E16+$E44+$E72+$E100+$E128) -> 1.1875 | R16: =SUM($H16+$H44+$H72+$H100+$H128) -> 0 | S16: =SUM($I16+$I44+$I72+$I100+$I128) -> 0 | T16: =SUM(Q16+S16) -> 1.1875 | U16: =(S16*24)*J16 -> 0
A17: 12 | B17: L | C17: 0.3125 | D17: 0.71875 | E17: =IF(OR(C17="abs",C17="",C17="CA"),0,D17-C17) -> 0.40625 | F17: 0 | G17: 0 | H17: =IF(OR(F17="abs",F17="",F17="ca"),0,G17-F17) -> 0 | I17: =MAX(H17-E17,0) -> 0 | J17: 8.5 | K17: =(I17*24)*J17 -> 0 | N17: 12 | O17: L | P17: =SUMPRODUCT(($B$6:$B$26=B17)*(($H$118:$H$138>0)+($H$90:$H$110>0)+($H$62:$H$82>0)+($H$34:$H$54>0)+($H$6:$H$26>0))) -> 0 | Q17: =SUM($E17+$E45+$E73+$E101+$E129) -> 1.625 | R17: =SUM($H17+$H45+$H73+$H101+$H129) -> 0 | S17: =SUM($I17+$I45+$I73+$I101+$I129) -> 0 | T17: =SUM(Q17+S17) -> 1.625 | U17: =(S17*24)*J17 -> 0
A18: 13 | B18: M | C18: 0.35416667 | D18: 0.77083333 | E18: =IF(OR(C18="abs",C18="",C18="CA"),0,D18-C18) -> 0.41666667 | F18: 0 | G18: 0 | H18: =IF(OR(F18="abs",F18="",F18="ca"),0,G18-F18) -> 0 | I18: =MAX(H18-E18,0) -> 0 | J18: 8.75 | K18: =(I18*24)*J18 -> 0 | N18: 13 | O18: M | P18: =SUMPRODUCT(($B$6:$B$26=B18)*(($H$118:$H$138>0)+($H$90:$H$110>0)+($H$62:$H$82>0)+($H$34:$H$54>0)+($H$6:$H$26>0))) -> 0 | Q18: =SUM($E18+$E46+$E74+$E102+$E130) -> 1.25 | R18: =SUM($H18+$H46+$H74+$H102+$H130) -> 0 | S18: =SUM($I18+$I46+$I74+$I102+$I130) -> 0 | T18: =SUM(Q18+S18) -> 1.25 | U18: =(S18*24)*J18 -> 0
A19: 14 | B19: N | C19: 0 | D19: 0 | E19: =IF(OR(C19="abs",C19="",C19="CA"),0,D19-C19) -> 0 | F19: 0 | G19: 0 | H19: 0 | I19: =MAX(H19-E19,0) -> 0 | J19: 9 | K19: =(I19*24)*J19 -> 0 | N19: 14 | O19: N | P19: =SUMPRODUCT(($B$6:$B$26=B19)*(($H$118:$H$138>0)+($H$90:$H$110>0)+($H$62:$H$82>0)+($H$34:$H$54>0)+($H$6:$H$26>0))) -> 0 | Q19: =SUM($E19+$E47+$E75+$E103+$E131) -> 0.52083333 | R19: =SUM($H19+$H47+$H75+$H103+$H131) -> 0 | S19: =SUM($I19+$I47+$I75+$I103+$I131) -> 0 | T19: =SUM(Q19+S19) -> 0.52083333 | U19: =(S19*24)*J19 -> 0
A20: 15 | B20: O | C20: 0.36458333 | D20: 0.68402778 | E20: =IF(OR(C20="abs",C20="",C20="CA"),0,D20-C20) -> 0.31944444 | F20: 0 | G20: 0 | H20: =IF(OR(F20="abs",F20="",F20="ca"),0,G20-F20) -> 0 | I20: =MAX(H20-E20,0) -> 0 | J20: 8.75 | K20: =(I20*24)*J20 -> 0 | N20: 15 | O20: O | P20: 0 | Q20: =SUM($E20+$E48+$E76+$E104+$E132) -> 0.95833333 | R20: 0 | S20: 0 | T20: =SUM(Q20+S20) -> 0.95833333 | U20: 0
A21: 16 | B21: P | C21: 0.41666667 | D21: 0.75 | E21: =IF(OR(C21="abs",C21="",C21="CA"),0,D21-C21) -> 0.33333333 | F21: 0 | G21: 0 | H21: =IF(OR(F21="abs",F21="",F21="ca"),0,G21-F21) -> 0 | I21: =MAX(H21-E21,0) -> 0 | J21: 7.75 | K21: =(I21*24)*J21 -> 0 | N21: 16 | O21: P | P21: 0 | Q21: =SUM($E21+$E49+$E77+$E105+$E133) -> 1.6666667 | R21: 0 | S21: 0 | T21: =SUM(Q21+S21) -> 1.6666667 | U21: 0
A22: 17 | B22: Q | C22: 0 | D22: 0 | E22: =IF(OR(C22="abs",C22="",C22="CA"),0,D22-C22) -> 0 | F22: 0 | G22: 0 | H22: =IF(OR(F22="abs",F22="",F22="ca"),0,G22-F22) -> 0 | I22: =MAX(H22-E22,0) -> 0 | J22: 8.75 | K22: =(I22*24)*J22 -> 0 | N22: 17 | O22: Q | P22: 0 | Q22: =SUM($E22+$E50+$E78+$E106+$E134) -> 0.97916667 | R22: =SUM($H22+$H50+$H78+$H106+$H134) -> 0 | S22: =SUM($I22+$I50+$I78+$I106+$I134) -> 0 | T22: =SUM(Q22+S22) -> 0.97916667 | U22: =(S22*24)*J22 -> 0
A23: 18 | B23: R | C23: 0.35416667 | D23: 0.66666667 | E23: =IF(OR(C23="abs",C23="",C23="CA"),0,D23-C23) -> 0.3125 | F23: 0 | G23: 0 | H23: =IF(OR(F23="abs",F23="",F23="ca"),0,G23-F23) -> 0 | I23: =MAX(H23-E23,0) -> 0 | J23: 8.25 | K23: =(I23*24)*J23 -> 0 | N23: 18 | O23: R | P23: =SUMPRODUCT(($B$6:$B$26=B23)*(($H$118:$H$138>0)+($H$90:$H$110>0)+($H$62:$H$82>0)+($H$34:$H$54>0)+($H$6:$H$26>0))) -> 0 | Q23: =SUM($E23+$E51+$E79+$E107+$E135) -> 1.25 | R23: =SUM($H23+$H51+$H79+$H107+$H135) -> 0 | S23: =SUM($I23+$I51+$I79+$I107+$I135) -> 0 | T23: =SUM(Q23+S23) -> 1.25 | U23: =(S23*24)*J23 -> 0
A24: 19 | I24: =MAX(H24-E24,0) -> 0 | N24: 19 | P24: =SUMPRODUCT(($B$6:$B$26=B24)*(($H$118:$H$138>0)+($H$90:$H$110>0)+($H$62:$H$82>0)+($H$34:$H$54>0)+($H$6:$H$26>0))) -> 0 | Q24: =SUM($E24+$E52+$E80+$E108+$E136) -> 0 | R24: =SUM($H24+$H52+$H80+$H108+$H136) -> 0 | S24: =SUM($I24+$I52+$I80+$I108+$I136) -> 0 | T24: =SUM(Q24+S24) -> 0 | U24: =(S24*24)*J24 -> 0
A25: 20 | I25: =MAX(H25-E25,0) -> 0 | N25: 20 | P25: =SUMPRODUCT(($B$6:$B$26=B25)*(($H$118:$H$138>0)+($H$90:$H$110>0)+($H$62:$H$82>0)+($H$34:$H$54>0)+($H$6:$H$26>0))) -> 0 | Q25: =SUM($E25+$E53+$E81+$E109+$E137) -> 0 | R25: =SUM($H25+$H53+$H81+$H109+$H137) -> 0 | S25: =SUM($I25+$I53+$I81+$I109+$I137) -> 0 | T25: =SUM(Q25+S25) -> 0 | U25: =(S25*24)*J25 -> 0
A26: 21 | I26: =MAX(H26-E26,0) -> 0 | N26: 21 | P26: =SUMPRODUCT(($B$6:$B$26=B26)*(($H$118:$H$138>0)+($H$90:$H$110>0)+($H$62:$H$82>0)+($H$34:$H$54>0)+($H$6:$H$26>0))) -> 0 | Q26: =SUM($E26+$E54+$E82+$E110+$E138) -> 0 | R26: =SUM($H26+$H54+$H82+$H110+$H138) -> 0 | S26: =SUM($I26+$I54+$I82+$I110+$I138) -> 0 | T26: =SUM(Q26+S26) -> 0 | U26: =(S26*24)*J26 -> 0
A27: 22 | I27: =MAX(H27-E27,0) -> 0 | N27: 22 | Q27: =SUM($E27+$E55+$E83+$E111+$E139) -> 0 | R27: =SUM($H27+$H55+$H83+$H111+$H139) -> 0 | S27: =SUM($I27+$I55+$I83+$I111+$I139) -> 0 | T27: =SUM(Q27+S27) -> 0 | U27: =(S27*24)*J27 -> 0
A28: 23 | I28: =MAX(H28-E28,0) -> 0 | N28: 23 | Q28: =SUM($E28+$E56+$E84+$E112+$E140) -> 0 | R28: =SUM($H28+$H56+$H84+$H112+$H140) -> 0 | S28: =SUM($I28+$I56+$I84+$I112+$I140) -> 0 | T28: =SUM(Q28+S28) -> 0 | U28: =(S28*24)*J28 -> 0
A29: 24 | I29: =MAX(H29-E29,0) -> 0 | N29: 24 | Q29: =SUM($E29+$E57+$E85+$E113+$E141) -> 0 | R29: =SUM($H29+$H57+$H85+$H113+$H141) -> 0 | S29: =SUM($I29+$I57+$I85+$I113+$I141) -> 0 | T29: =SUM(Q29+S29) -> 0 | U29: =(S29*24)*J29 -> 0
A30: 25 | I30: =MAX(H30-E30,0) -> 0 | N30: 25 | Q30: =SUM($E30+$E58+$E86+$E114+$E142) -> 0 | R30: =SUM($H30+$H58+$H86+$H114+$H142) -> 0 | S30: =SUM($I30+$I58+$I86+$I114+$I142) -> 0 | T30: =SUM(Q30+S30) -> 0 | U30: =(S30*24)*J30 -> 0
A31: TOTAL | I31: =SUM(I6:I30) -> 0 | K31: =SUM(K6:K30) -> 0 | P31: =SUM(P6:P30) -> 0 | Q31: =SUM(Q6:Q30) -> 19.833333 | R31: =SUM(R6:R30) -> 0 | T31: =SUM(T6:T30) -> 19.833333 | U31: =SUM(U6:U30) -> 0
Q32: =((11.5/24)*10)*5 -> 23.958333 | R32: =((11.5/24)*10)*5 -> 23.958333 | U32: =Q31/Q32 -> 0.82782609
C33: =C5+1 -> 43501
A34: 1 | B34: A | C34: 0.375 | D34: 0.70833333 | E34: =IF(OR(C34="abs",C34="",C34="CA"),0,D34-C34) -> 0.33333333 | F34: 0 | G34: 0 | H34: =IF(OR(F34="abs",F34="",F34="ca"),0,G34-F34) -> 0 | I34: =MAX(H34-E34,0) -> 0 | J34: 8.75 | K34: =(I34*24)*J34 -> 0
A35: 2 | B35: B | C35: 0.3125 | D35: 0.77083333 | E35: =IF(OR(C35="abs",C35="",C35="CA"),0,D35-C35) -> 0.45833333 | F35: 0 | G35: 0 | H35: =IF(OR(F35="abs",F35="",F35="ca"),0,G35-F35) -> 0 | I35: =MAX(H35-E35,0) -> 0 | J35: 8 | K35: =(I35*24)*J35 -> 0
A36: 3 | B36: C | C36: 0.3125 | D36: 0.75 | E36: =IF(OR(C36="abs",C36="",C36="CA"),0,D36-C36) -> 0.4375 | F36: 0 | G36: 0 | H36: =IF(OR(F36="abs",F36="",F36="ca"),0,G36-F36) -> 0 | I36: =MAX(H36-E36,0) -> 0 | J36: 8.75 | K36: =(I36*24)*J36 -> 0
A37: 4 | B37: D | C37: 0 | D37: 0 | E37: =IF(OR(C37="abs",C37="",C37="CA"),0,D37-C37) -> 0 | F37: 0 | G37: 0 | H37: =IF(OR(F37="abs",F37="",F37="ca"),0,G37-F37) -> 0 | I37: =MAX(H37-E37,0) -> 0 | J37: 9.75 | K37: =(I37*24)*J37 -> 0
A38: 5 | B38: E | C38: 0 | D38: 0 | E38: =IF(OR(C38="abs",C38="",C38="CA"),0,D38-C38) -> 0 | F38: 0 | G38: 0 | H38: =IF(OR(F38="abs",F38="",F38="ca"),0,G38-F38) -> 0 | I38: =MAX(H38-E38,0) -> 0 | J38: 9.25 | K38: =(I38*24)*J38 -> 0
A39: 6 | B39: F | C39: 0.32291667 | D39: 0.73958333 | E39: =IF(OR(C39="abs",C39="",C39="CA"),0,D39-C39) -> 0.41666667 | F39: 0 | G39: 0 | H39: =IF(OR(F39="abs",F39="",F39="ca"),0,G39-F39) -> 0 | I39: =MAX(H39-E39,0) -> 0 | J39: 8 | K39: =(I39*24)*J39 -> 0
A40: 7 | B40: G | C40: 0.375 | D40: 0.6875 | E40: =IF(OR(C40="abs",C40="",C40="CA"),0,D40-C40) -> 0.3125 | F40: 0 | G40: 0 | H40: =IF(OR(F40="abs",F40="",F40="ca"),0,G40-F40) -> 0 | I40: =MAX(H40-E40,0) -> 0 | J40: 9.5 | K40: =(I40*24)*J40 -> 0
A41: 8 | B41: H | C41: 0 | D41: 0 | E41: =IF(OR(C41="abs",C41="",C41="CA"),0,D41-C41) -> 0 | F41: 0 | G41: 0 | H41: =IF(OR(F41="abs",F41="",F41="ca"),0,G41-F41) -> 0 | I41: =MAX(H41-E41,0) -> 0 | J41: 9.5 | K41: =(I41*24)*J41 -> 0
A42: 9 | B42: I | C42: 0.41666667 | D42: 0.70833333 | E42: =IF(OR(C42="abs",C42="",C42="CA"),0,D42-C42) -> 0.29166667 | F42: 0 | G42: 0 | H42: =IF(OR(F42="abs",F42="",F42="ca"),0,G42-F42) -> 0 | I42: =MAX(H42-E42,0) -> 0 | J42: 7.5 | K42: =(I42*24)*J42 -> 0
A43: 10 | B43: J | C43: 0 | D43: 0 | E43: =IF(OR(C43="abs",C43="",C43="CA"),0,D43-C43) -> 0 | F43: 0 | G43: 0 | H43: =IF(OR(F43="abs",F43="",F43="ca"),0,G43-F43) -> 0 | I43: =MAX(H43-E43,0) -> 0 | J43: 9.75 | K43: =(I43*24)*J43 -> 0
A44: 11 | B44: K | C44: 0.375 | D44: 0.77083333 | E44: =IF(OR(C44="abs",C44="",C44="CA"),0,D44-C44) -> 0.39583333 | F44: 0 | G44: 0 | H44: =IF(OR(F44="abs",F44="",F44="ca"),0,G44-F44) -> 0 | I44: =MAX(H44-E44,0) -> 0 | J44: 8.75 | K44: =(I44*24)*J44 -> 0
A45: 12 | B45: L | C45: 0.3125 | D45: 0.72916667 | E45: =IF(OR(C45="abs",C45="",C45="CA"),0,D45-C45) -> 0.41666667 | F45: 0 | G45: 0 | H45: =IF(OR(F45="abs",F45="",F45="ca"),0,G45-F45) -> 0 | I45: =MAX(H45-E45,0) -> 0 | J45: 8.5 | K45: =(I45*24)*J45 -> 0
... A51: 18 | B51: R | C51: 0 | D51: 0 | E51: =IF(OR(C51="abs",C51="",C51="CA"),0,D51-C51) -> 0 | F51: 0 | G51: 0 | H51: =IF(OR(F51="abs",F51="",F51="ca"),0,G51-F51) -> 0 | I51: =MAX(H51-E51,0) -> 0 | J51: 8.25 | K51: =(I51*24)*J51 -> 0
A52: 19 | I52: =MAX(H52-E52,0) -> 0
A53: 20 | I53: =MAX(H53-E53,0) -> 0
A54: 21 | I54: =MAX(H54-E54,0) -> 0
A55: 22 | I55: =MAX(H55-E55,0) -> 0
A56: 23 | I56: =MAX(H56-E56,0) -> 0
A57: 24 | I57: =MAX(H57-E57,0) -> 0
A58: 25 | I58: =MAX(H58-E58,0) -> 0
A59: TOTAL | I59: =SUM(I34:I58) -> 0 | K59: =SUM(K34:K58) -> 0
C61: =C33+1 -> 43502
A62: 1 | B62: A | C62: 0 | D62: 0 | E62: =IF(OR(C62="abs",C62="",C62="CA"),0,D62-C62) -> 0 | F62: 0 | G62: 0 | H62: =IF(OR(F62="abs",F62="",F62="ca"),0,G62-F62) -> 0 | I62: =MAX(H62-E62,0) -> 0 | J62: 8.75 | K62: =(I62*24)*J62 -> 0
A63: 2 | B63: B | C63: 0.35416667 | D63: 0.70833333 | E63: =IF(OR(C63="abs",C63="",C63="CA"),0,D63-C63) -> 0.35416667 | F63: 0 | G63: 0 | H63: =IF(OR(F63="abs",F63="",F63="ca"),0,G63-F63) -> 0 | I63: =MAX(H63-E63,0) -> 0 | J63: 8 | K63: =(I63*24)*J63 -> 0
A64: 3 | B64: C | C64: 0.3125 | D64: 0.75 | E64: =IF(OR(C64="abs",C64="",C64="CA"),0,D64-C64) -> 0.4375 | F64: 0 | G64: 0 | H64: =IF(OR(F64="abs",F64="",F64="ca"),0,G64-F64) -> 0 | I64: =MAX(H64-E64,0) -> 0 | J64: 8.75 | K64: =(I64*24)*J64 -> 0
A65: 4 | B65: D | C65: 0 | D65: 0 | E65: =IF(OR(C65="abs",C65="",C65="CA"),0,D65-C65) -> 0 | F65: 0 | G65: 0 | H65: =IF(OR(F65="abs",F65="",F65="ca"),0,G65-F65) -> 0 | I65: =MAX(H65-E65,0) -> 0 | J65: 9.75 | K65: =(I65*24)*J65 -> 0
A66: 5 | B66: E | C66: 0 | D66: 0 | E66: =IF(OR(C66="abs",C66="",C66="CA"),0,D66-C66) -> 0 | F66: 0 | G66: 0 | H66: =IF(OR(F66="abs",F66="",F66="ca"),0,G66-F66) -> 0 | I66: =MAX(H66-E66,0) -> 0 | J66: 9.25 | K66: =(I66*24)*J66 -> 0
A67: 6 | B67: F | C67: 0 | D67: 0 | E67: =IF(OR(C67="abs",C67="",C67="CA"),0,D67-C67) -> 0 | F67: 0 | G67: 0 | H67: =IF(OR(F67="abs",F67="",F67="ca"),0,G67-F67) -> 0 | I67: =MAX(H67-E67,0) -> 0 | J67: 8 | K67: =(I67*24)*J67 -> 0
A68: 7 | B68: G | C68: 0 | D68: 0 | E68: =IF(OR(C68="abs",C68="",C68="CA"),0,D68-C68) -> 0 | F68: 0 | G68: 0 | H68: =IF(OR(F68="abs",F68="",F68="ca"),0,G68-F68) -> 0 | I68: =MAX(H68-E68,0) -> 0 | J68: 9.5 | K68: =(I68*24)*J68 -> 0
A69: 8 | B69: H | C69: 0 | D69: 0 | E69: =IF(OR(C69="abs",C69="",C69="CA"),0,D69-C69) -> 0 | F69: 0 | G69: 0 | H69: =IF(OR(F69="abs",F69="",F69="ca"),0,G69-F69) -> 0 | I69: =MAX(H69-E69,0) -> 0 | J69: 9.5 | K69: =(I69*24)*J69 -> 0
A70: 9 | B70: I | C70: 0.41666667 | D70: 0.70833333 | E70: =IF(OR(C70="abs",C70="",C70="CA"),0,D70-C70) -> 0.29166667 | F70: 0 | G70: 0 | H70: =IF(OR(F70="abs",F70="",F70="ca"),0,G70-F70) -> 0 | I70: =MAX(H70-E70,0) -> 0 | J70: 7.5 | K70: =(I70*24)*J70 -> 0
A71: 10 | B71: J | C71: 0.35416667 | D71: 0.75 | E71: =IF(OR(C71="abs",C71="",C71="CA"),0,D71-C71) -> 0.39583333 | F71: 0 | G71: 0 | H71: =IF(OR(F71="abs",F71="",F71="ca"),0,G71-F71) -> 0 | I71: =MAX(H71-E71,0) -> 0 | J71: 9.75 | K71: =(I71*24)*J71 -> 0
A72: 11 | B72: K | C72: 0.375 | D72: 0.77083333 | E72: =IF(OR(C72="abs",C72="",C72="CA"),0,D72-C72) -> 0.39583333 | F72: 0 | G72: 0 | H72: =IF(OR(F72="abs",F72="",F72="ca"),0,G72-F72) -> 0 | I72: =MAX(H72-E72,0) -> 0 | J72: 8.75 | K72: =(I72*24)*J72 -> 0
A73: 12 | B73: L | C73: 0 | D73: 0 | E73: =IF(OR(C73="abs",C73="",C73="CA"),0,D73-C73) -> 0 | F73: 0 | G73: 0 | H73: =IF(OR(F73="abs",F73="",F73="ca"),0,G73-F73) -> 0 | I73: =MAX(H73-E73,0) -> 0 | J73: 8.5 | K73: =(I73*24)*J73 -> 0
... A79: 18 | B79: R | C79: 0.35416667 | D79: 0.66666667 | E79: =IF(OR(C79="abs",C79="",C79="CA"),0,D79-C79) -> 0.3125 | F79: 0 | G79: 0 | H79: =IF(OR(F79="abs",F79="",F79="ca"),0,G79-F79) -> 0 | I79: =MAX(H79-E79,0) -> 0 | J79: 8.25 | K79: =(I79*24)*J79 -> 0
A80: 19 | I80: =MAX(H80-E80,0) -> 0
A81: 20 | I81: =MAX(H81-E81,0) -> 0
A82: 21 | I82: =MAX(H82-E82,0) -> 0
A83: 22 | I83: =MAX(H83-E83,0) -> 0
A84: 23 | I84: =MAX(H84-E84,0) -> 0
A85: 24 | I85: =MAX(H85-E85,0) -> 0
A86: 25 | I86: =MAX(H86-E86,0) -> 0
A87: TOTAL | I87: =SUM(I62:I86) -> 0 | K87: =SUM(K62:K86) -> 0
C89: =C61+1 -> 43503
A90: 1 | B90: A | C90: 0.375 | D90: 0.70833333 | E90: =IF(OR(C90="abs",C90="",C90="CA"),0,D90-C90) -> 0.33333333 | F90: 0 | G90: 0 | H90: =IF(OR(F90="abs",F90="",F90="ca"),0,G90-F90) -> 0 | I90: =MAX(H90-E90,0) -> 0 | J90: 8.75 | K90: =(I90*24)*J90 -> 0
A91: 2 | B91: B | C91: 0.3125 | D91: 0.77083333 | E91: =IF(OR(C91="abs",C91="",C91="CA"),0,D91-C91) -> 0.45833333 | F91: 0 | G91: 0 | H91: =IF(OR(F91="abs",F91="",F91="ca"),0,G91-F91) -> 0 | I91: =MAX(H91-E91,0) -> 0 | J91: 8 | K91: =(I91*24)*J91 -> 0
A92: 3 | B92: C | C92: 0 | D92: 0 | E92: =IF(OR(C92="abs",C92="",C92="CA"),0,D92-C92) -> 0 | F92: 0 | G92: 0 | H92: =IF(OR(F92="abs",F92="",F92="ca"),0,G92-F92) -> 0 | I92: =MAX(H92-E92,0) -> 0 | J92: 8.75 | K92: =(I92*24)*J92 -> 0
A93: 4 | B93: D | C93: 0 | D93: 0 | E93: =IF(OR(C93="abs",C93="",C93="CA"),0,D93-C93) -> 0 | F93: 0 | G93: 0 | H93: =IF(OR(F93="abs",F93="",F93="ca"),0,G93-F93) -> 0 | I93: =MAX(H93-E93,0) -> 0 | J93: 9.75 | K93: =(I93*24)*J93 -> 0
A94: 5 | B94: E | C94: 0 | D94: 0 | E94: =IF(OR(C94="abs",C94="",C94="CA"),0,D94-C94) -> 0 | F94: 0 | G94: 0 | H94: =IF(OR(F94="abs",F94="",F94="ca"),0,G94-F94) -> 0 | I94: =MAX(H94-E94,0) -> 0 | J94: 9.25 | K94: =(I94*24)*J94 -> 0
A95: 6 | B95: F | C95: 0.375 | D95: 0.72916667 | E95: =IF(OR(C95="abs",C95="",C95="CA"),0,D95-C95) -> 0.35416667 | F95: 0 | G95: 0 | H95: =IF(OR(F95="abs",F95="",F95="ca"),0,G95-F95) -> 0 | I95: =MAX(H95-E95,0) -> 0 | J95: 8 | K95: =(I95*24)*J95 -> 0
A96: 7 | B96: G | C96: 0.375 | D96: 0.6875 | E96: =IF(OR(C96="abs",C96="",C96="CA"),0,D96-C96) -> 0.3125 | F96: 0 | G96: 0 | H96: =IF(OR(F96="abs",F96="",F96="ca"),0,G96-F96) -> 0 | I96: =MAX(H96-E96,0) -> 0 | J96: 9.5 | K96: =(I96*24)*J96 -> 0
A97: 8 | B97: H | C97: 0.3125 | D97: 0.75 | E97: =IF(OR(C97="abs",C97="",C97="CA"),0,D97-C97) -> 0.4375 | F97: 0 | G97: 0 | H97: =IF(OR(F97="abs",F97="",F97="ca"),0,G97-F97) -> 0 | I97: =MAX(H97-E97,0) -> 0 | J97: 9.5 | K97: =(I97*24)*J97 -> 0
A98: 9 | B98: I | C98: 0.41666667 | D98: 0.70833333 | E98: =IF(OR(C98="abs",C98="",C98="CA"),0,D98-C98) -> 0.29166667 | F98: 0 | G98: 0 | H98: =IF(OR(F98="abs",F98="",F98="ca"),0,G98-F98) -> 0 | I98: =MAX(H98-E98,0) -> 0 | J98: 7.5 | K98: =(I98*24)*J98 -> 0
A99: 10 | B99: J | C99: 0 | D99: 0 | E99: =IF(OR(C99="abs",C99="",C99="CA"),0,D99-C99) -> 0 | F99: 0 | G99: 0 | H99: =IF(OR(F99="abs",F99="",F99="ca"),0,G99-F99) -> 0 | I99: =MAX(H99-E99,0) -> 0 | J99: 9.75 | K99: =(I99*24)*J99 -> 0
A100: 11 | B100: K | C100: 0 | D100: 0 | E100: =IF(OR(C100="abs",C100="",C100="CA"),0,D100-C100) -> 0 | F100: 0 | G100: 0 | H100: =IF(OR(F100="abs",F100="",F100="ca"),0,G100-F100) -> 0 | I100: =MAX(H100-E100,0) -> 0 | J100: 8.75 | K100: =(I100*24)*J100 -> 0
A101: 12 | B101: L | C101: 0.3125 | D101: 0.72916667 | E101: =IF(OR(C101="abs",C101="",C101="CA"),0,D101-C101) -> 0.41666667 | F101: 0 | G101: 0 | H101: =IF(OR(F101="abs",F101="",F101="ca"),0,G101-F101) -> 0 | I101: =MAX(H101-E101,0) -> 0 | J101: 8.5 | K101: =(I101*24)*J101 -> 0
A102: 13 | B102: M | C102: 0 | D102: 0 | E102: =IF(OR(C102="abs",C102="",C102="CA"),0,D102-C102) -> 0 | F102: 0 | G102: 0 | H102: =IF(OR(F102="abs",F102="",F102="ca"),0,G102-F102) -> 0 | I102: =MAX(H102-E102,0) -> 0 | J102: 8.75 | K102: =(I102*24)*J102 -> 0
A103: 14 | B103: N | C103: 0.41666667 | D103: 0.66666667 | E103: =IF(OR(C103="abs",C103="",C103="CA"),0,D103-C103) -> 0.25 | F103: 0 | G103: 0 | I103: =MAX(H103-E103,0) -> 0 | J103: 9 | K103: =(I103*24)*J103 -> 0
A104: 15 | B104: O | C104: 0 | D104: 0 | E104: =IF(OR(C104="abs",C104="",C104="CA"),0,D104-C104) -> 0 | F104: 0 | G104: 0 | H104: =IF(OR(F104="abs",F104="",F104="ca"),0,G104-F104) -> 0 | I104: =MAX(H104-E104,0) -> 0 | J104: 8.75 | K104: =(I104*24)*J104 -> 0
A105: 16 | B105: P | C105: 0.41666667 | D105: 0.75 | E105: =IF(OR(C105="abs",C105="",C105="CA"),0,D105-C105) -> 0.33333333 | F105: 0 | G105: 0 | H105: =IF(OR(F105="abs",F105="",F105="ca"),0,G105-F105) -> 0 | I105: =MAX(H105-E105,0) -> 0 | J105: 7.75 | K105: =(I105*24)*J105 -> 0
A106: 17 | B106: Q | C106: 0.35416667 | D106: 0.75 | E106: =IF(OR(C106="abs",C106="",C106="CA"),0,D106-C106) -> 0.39583333 | F106: 0 | G106: 0 | H106: =IF(OR(F106="abs",F106="",F106="ca"),0,G106-F106) -> 0 | I106: =MAX(H106-E106,0) -> 0 | J106: 8.75 | K106: =(I106*24)*J106 -> 0
A107: 18 | B107: R | C107: 0.35416667 | D107: 0.66666667 | E107: =IF(OR(C107="abs",C107="",C107="CA"),0,D107-C107) -> 0.3125 | F107: 0 | G107: 0 | H107: =IF(OR(F107="abs",F107="",F107="ca"),0,G107-F107) -> 0 | I107: =MAX(H107-E107,0) -> 0 | J107: 8.25 | K107: =(I107*24)*J107 -> 0
A108: 19 | I108: =MAX(H108-E108,0) -> 0
A109: 20 | I109: =MAX(H109-E109,0) -> 0
A110: 21 | I110: =MAX(H110-E110,0) -> 0
A111: 22 | I111: =MAX(H111-E111,0) -> 0
A112: 23 | I112: =MAX(H112-E112,0) -> 0
A113: 24 | I113: =MAX(H113-E113,0) -> 0
...
