Workbook
Name Feries: T_Feries[Date]
Name L_Annee: T_Annee[Annèe]
Name L_Mois: T_Mois[Mois]
Name L_Nom: T_Nom[Nom et prénom]
Name num_mois: T_Mois[Nb]

Sheet Explications formule MOD
A2: 43466 | B2: =A2-MOD(A2-0,7) -> 43463 | D2: =_xlfn.FORMULATEXT(B2) -> =A2-MOD(A2-0;7) | E2: Permet de trouver le samedi avant une date
A3: 43466 | B3: =A3-MOD(A3-1,7) -> 43464 | D3: =_xlfn.FORMULATEXT(B3) -> =A3-MOD(A3-1;7) | E3: Permet de trouver le dimanche avant une date
A4: 43466 | B4: =A4-MOD(A4-2,7) -> 43465 | D4: =_xlfn.FORMULATEXT(B4) -> =A4-MOD(A4-2;7) | E4: Permet de trouver le lundi avant une date
A5: 43466 | B5: =A5-MOD(A5-3,7) -> 43466 | D5: =_xlfn.FORMULATEXT(B5) -> =A5-MOD(A5-3;7) | E5: Permet de trouver le mardi avant une date
A6: 43466 | B6: =A6-MOD(A6-4,7) -> 43460 | D6: =_xlfn.FORMULATEXT(B6) -> =A6-MOD(A6-4;7) | E6: Permet de trouver le mercredi avant une date
A7: 43466 | B7: =A7-MOD(A7-5,7) -> 43461 | D7: =_xlfn.FORMULATEXT(B7) -> =A7-MOD(A7-5;7) | E7: Permet de trouver le jeudi avant une date
A8: 43466 | B8: =A8-MOD(A8-6,7) -> 43462 | D8: =_xlfn.FORMULATEXT(B8) -> =A8-MOD(A8-6;7) | E8: Permet de trouver le vendredi avant une date
B11: Source : | C11: http://www.astuceshebdo.com/2009/12/excel-une-formule-pour-calculer-la-date.html

Sheet Paramètres
A1: Nom et prénom | C1: Annèe | E1: Mois | F1: Nb | H1: Jours fériés | I1: Date
A2: A | C2: 2018 | E2: janvier | F2: 1 | H2: Jour de l'an | I2: =DATE('Semaine 1'!C1,1,1) -> 43466
A3: B | C3: 2019 | E3: février | F3: 2 | H3: Pâques | I3: =FLOOR(DAY(MINUTE('Semaine 1'!C1/38)/2+56)&"/5/"&'Semaine 1'!C1,7)-34 -> 43576
A4: C | C4: 2020 | E4: mars | F4: 3 | H4: Lundi de Pâques | I4: =I3+1 -> 43577
A5: D | C5: 2021 | E5: avril | F5: 4 | H5: Fête du travail | I5: =DATE('Semaine 1'!C1,5,1) -> 43586
A6: E | C6: 2022 | E6: mai | F6: 5 | H6: Armistice 39/45 | I6: =DATE('Semaine 1'!C1,5,8) -> 43593
A7: F | C7: 2023 | E7: juin | F7: 6 | H7: Ascension | I7: =I3 + 39 -> 43615
A8: G | C8: 2024 | E8: juillet | F8: 7 | H8: Pentecôte | I8: =I3+ 49 -> 43625
A9: H | C9: 2025 | E9: août | F9: 8 | H9: Lundi de Pentecôte | I9: =I3 + 50 -> 43626
A10: I | C10: 2026 | E10: septembre | F10: 9 | H10: Fête Nationale | I10: =DATE('Semaine 1'!C1,7,14) -> 43660
A11: J | C11: 2027 | E11: octobre | F11: 10 | H11: Assomption | I11: =DATE('Semaine 1'!C1,8,15) -> 43692
A12: K | C12: 2028 | E12: novembre | F12: 11 | H12: Toussaint | I12: =DATE('Semaine 1'!C1,11,1) -> 43770
A13: L | C13: 2029 | E13: décembre | F13: 12 | H13: Armistice 14/18 | I13: =DATE('Semaine 1'!C1,11,11) -> 43780
A14: M | C14: 2030 | H14: Noël | I14: =DATE('Semaine 1'!C1,12,25) -> 43824
A15: N
A16: O
A17: P
A18: Q
A19: R

Sheet Semaine 1
B1: Annèe : | C1: 2019 | F1: Mois : | G1: janvier | I1: Date : | J1: =DATE(C1,VLOOKUP(G1,T_Mois[],2,FALSE),1) -> 43466 | K1: =_xlfn.FORMULATEXT(J1) -> =DATE(C1;RECHERCHEV(G1;T_Mois;2;FAUX);1)
A2: Nombre d'enfant | B2: NOM et PRENOM | C2: Prévisionnel | F2: Réel | I2: Facture | N2: Nombre d'enfant | O2: NOM et PRENOM | P2: Présence / semaine | Q2: Total Heures Contrat semaines 02 | R2: Total Heures réelles semaines 02 | S2: Total Heures sup semaines 02 | T2: Total Heures facturables semaines 02 | U2: Total Dû semaines 02
C3: Heure d'arrivée | D3: Heure de départ | E3: Durée | F3: Heure d'arrivée | G3: Heure de départ | H3: Durée | I3: Durée Facturable | J3: Taux horaire | K3: Dû par la famille
B4: =_xlfn.FORMULATEXT(B5) -> =NO.SEMAINE.ISO(J1)
A5: Semaine : | B5: =_xlfn.ISOWEEKNUM(J1) -> 1 | C5: =J1-MOD(J1-2,7) -> 43465 | L5: =_xlfn.FORMULATEXT(C5) -> =J1-MOD(J1-2;7)
A6: 1 | B6: A | C6: 0 | D6: 0 | E6: =IF(OR(C6="abs",C6="",C6="CA"),0,D6-C6) -> 0 | F6: 0 | G6: 0 | H6: =IF(OR(F6="abs",F6="",F6="ca"),0,G6-F6) -> 0 | I6: =MAX(H6-E6,0) -> 0 | J6: 8.75 | K6: =(I6*24)*J6 -> 0 | N6: 1 | O6: A | P6: =SUMPRODUCT(($B$6:$B$26=B6)*(($H$118:$H$138>0)+($H$90:$H$110>0)+($H$62:$H$82>0)+($H$34:$H$54>0)+($H$6:$H$26>0))) -> 0 | Q6: =SUM($E6+$E34+$E62+$E90+$E118) -> 1 | R6: =SUM($H6+$H34+$H62+$H90+$H118) -> 0 | S6: =SUM($I6+$I34+$I62+$I90+$I118) -> 0 | T6: =SUM(Q6+S6) -> 1 | U6: =(S6*24)*J6 -> 0
A7: 2 | B7: B | C7: 0.3125 | D7: 0.77083333 | E7: =IF(OR(C7="abs",C7="",C7="CA"),0,D7-C7) -> 0.45833333 | F7: 0 | G7: 0 | H7: =IF(OR(F7="abs",F7="",F7="ca"),0,G7-F7) -> 0 | I7: =MAX(H7-E7,0) -> 0 | J7: 8 | K7: =(I7*24)*J7 -> 0 | N7: 2 | O7: B | P7: =SUMPRODUCT(($B$6:$B$26=B7)*(($H$118:$H$138>0)+($H$90:$H$110>0)+($H$62:$H$82>0)+($H$34:$H$54>0)+($H$6:$H$26>0))) -> 0 | Q7: =SUM($E7+$E35+$E63+$E91+$E119) -> 2.0625 | R7: =SUM($H7+$H35+$H63+$H91+$H119) -> 0 | S7: =SUM($I7+$I35+$I63+$I91+$I119) -> 0 | T7: =SUM(Q7+S7) -> 2.0625 | U7: =(S7*24)*J7 -> 0
A8: 3 | B8: C | C8: 0.3125 | D8: 0.75 | E8: =IF(OR(C8="abs",C8="",C8="CA"),0,D8-C8) -> 0.4375 | F8: 0 | G8: 0 | H8: =IF(OR(F8="abs",F8="",F8="ca"),0,G8-F8) -> 0 | I8: =MAX(H8-E8,0) -> 0 | J8: 8.75 | K8: =(I8*24)*J8 -> 0 | N8: 3 | O8: C | P8: =SUMPRODUCT(($B$6:$B$26=B8)*(($H$118:$H$138>0)+($H$90:$H$110>0)+($H$62:$H$82>0)+($H$34:$H$54>0)+($H$6:$H$26>0))) -> 0 | Q8: =SUM($E8+$E36+$E64+$E92+$E120) -> 1.3125 | R8: =SUM($H8+$H36+$H64+$H92+$H120) -> 0 | S8: =SUM($I8+$I36+$I64+$I92+$I120) -> 0 | T8: =SUM(Q8+S8) -> 1.3125 | U8: =(S8*24)*J8 -> 0
A9: 4 | B9: D | C9: 0 | D9: 0 | E9: =IF(OR(C9="abs",C9="",C9="CA"),0,D9-C9) -> 0 | F9: 0 | G9: 0 | H9: =IF(OR(F9="abs",F9="",F9="ca"),0,G9-F9) -> 0 | I9: =MAX(H9-E9,0) -> 0 | J9: 9.75 | K9: =(I9*24)*J9 -> 0 | N9: 4 | O9: D | P9: =SUMPRODUCT(($B$6:$B$26=B9)*(($H$118:$H$138>0)+($H$90:$H$110>0)+($H$62:$H$82>0)+($H$34:$H$54>0)+($H$6:$H$26>0))) -> 0 | Q9: =SUM($E9+$E37+$E65+$E93+$E121) -> 0.39583333 | R9: =SUM($H9+$H37+$H65+$H93+$H121) -> 0 | S9: =SUM($I9+$I37+$I65+$I93+$I121) -> 0 | T9: =SUM(Q9+S9) -> 0.39583333 | U9: =(S9*24)*J9 -> 0
A10: 5 | B10: E | C10: 0.33333333 | D10: 0.75 | E10: =IF(OR(C10="abs",C10="",C10="CA"),0,D10-C10) -> 0.41666667 | F10: 0 | G10: 0 | H10: =IF(OR(F10="abs",F10="",F10="ca"),0,G10-F10) -> 0 | I10: =MAX(H10-E10,0) -> 0 | J10: 9.25 | K10: =(I10*24)*J10 -> 0 | N10: 5 | O10: E | P10: =SUMPRODUCT(($B$6:$B$26=B10)*(($H$118:$H$138>0)+($H$90:$H$110>0)+($H$62:$H$82>0)+($H$34:$H$54>0)+($H$6:$H$26>0))) -> 0 | Q10: =SUM($E10+$E38+$E66+$E94+$E122) -> 0.83333333 | R10: =SUM($H10+$H38+$H66+$H94+$H122) -> 0 | S10: =SUM($I10+$I38+$I66+$I94+$I122) -> 0 | T10: =SUM(Q10+S10) -> 0.83333333 | U10: =(S10*24)*J10 -> 0
A11: 6 | B11: F | C11: 0.375 | D11: 0.6875 | E11: =IF(OR(C11="abs",C11="",C11="CA"),0,D11-C11) -> 0.3125 | F11: 0 | G11: 0 | H11: =IF(OR(F11="abs",F11="",F11="ca"),0,G11-F11) -> 0 | I11: =MAX(H11-E11,0) -> 0 | J11: 8 | K11: =(I11*24)*J11 -> 0 | N11: 6 | O11: F | P11: =SUMPRODUCT(($B$6:$B$26=B11)*(($H$118:$H$138>0)+($H$90:$H$110>0)+($H$62:$H$82>0)+($H$34:$H$54>0)+($H$6:$H$26>0))) -> 0 | Q11: =SUM($E11+$E39+$E67+$E95+$E123) -> 1.4375 | R11: =SUM($H11+$H39+$H67+$H95+$H123) -> 0 | S11: =SUM($I11+$I39+$I67+$I95+$I123) -> 0 | T11: =SUM(Q11+S11) -> 1.4375 | U11: =(S11*24)*J11 -> 0
A12: 7 | B12: G | C12: 0 | D12: 0 | E12: =IF(OR(C12="abs",C12="",C12="CA"),0,D12-C12) -> 0 | F12: 0 | G12: 0 | H12: =IF(OR(F12="abs",F12="",F12="ca"),0,G12-F12) -> 0 | I12: =MAX(H12-E12,0) -> 0 | J12: 9.5 | K12: =(I12*24)*J12 -> 0 | N12: 7 | O12: G | P12: =SUMPRODUCT(($B$6:$B$26=B12)*(($H$118:$H$138>0)+($H$90:$H$110>0)+($H$62:$H$82>0)+($H$34:$H$54>0)+($H$6:$H$26>0))) -> 0 | Q12: =SUM($E12+$E40+$E68+$E96+$E124) -> 0.625 | R12: =SUM($H12+$H40+$H68+$H96+$H124) -> 0 | S12: =SUM($I12+$I40+$I68+$I96+$I124) -> 0 | T12: =SUM(Q12+S12) -> 0.625 | U12: =(S12*24)*J12 -> 0
A13: 8 | B13: H | C13: 0.3125 | D13: 0.75 | E13: =IF(OR(C13="abs",C13="",C13="CA"),0,D13-C13) -> 0.4375 | F13: 0 | G13: 0 | H13: =IF(OR(F13="abs",F13="",F13="ca"),0,G13-F13) -> 0 | I13: =MAX(H13-E13,0) -> 0 | J13: 9.5 | K13: =(I13*24)*J13 -> 0 | N13: 8 | O13: H | P13: =SUMPRODUCT(($B$6:$B$26=B13)*(($H$118:$H$138>0)+($H$90:$H$110>0)+($H$62:$H$82>0)+($H$34:$H$54>0)+($H$6:$H$26>0))) -> 0 | Q13: =SUM($E13+$E41+$E69+$E97+$E125) -> 0.875 | R13: =SUM($H13+$H41+$H69+$H97+$H125) -> 0 | S13: =SUM($I13+$I41+$I69+$I97+$I125) -> 0 | T13: =SUM(Q13+S13) -> 0.875 | U13: =(S13*24)*J13 -> 0
A14: 9 | B14: I | C14: 0.41666667 | D14: 0.70833333 | E14: =IF(OR(C14="abs",C14="",C14="CA"),0,D14-C14) -> 0.29166667 | F14: 0 | G14: 0 | H14: =IF(OR(F14="abs",F14="",F14="ca"),0,G14-F14) -> 0 | I14: =MAX(H14-E14,0) -> 0 | J14: 7.5 | K14: =(I14*24)*J14 -> 0 | N14: 9 | O14: I | P14: =SUMPRODUCT(($B$6:$B$26=B14)*(($H$118:$H$138>0)+($H$90:$H$110>0)+($H$62:$H$82>0)+($H$34:$H$54>0)+($H$6:$H$26>0))) -> 0 | Q14: =SUM($E14+$E42+$E70+$E98+$E126) -> 1.4583333 | R14: =SUM($H14+$H42+$H70+$H98+$H126) -> 0 | S14: =SUM($I14+$I42+$I70+$I98+$I126) -> 0 | T14: =SUM(Q14+S14) -> 1.4583333 | U14: =(S14*24)*J14 -> 0
A15: 10 | B15: J | C15: 0 | D15: 0 | E15: =IF(OR(C15="abs",C15="",C15="CA"),0,D15-C15) -> 0 | F15: 0 | G15: 0 | H15: =IF(OR(F15="abs",F15="",F15="ca"),0,G15-F15) -> 0 | I15: =MAX(H15-E15,0) -> 0 | J15: 9.75 | K15: =(I15*24)*J15 -> 0 | N15: 10 | O15: J | P15: =SUMPRODUCT(($B$6:$B$26=B15)*(($H$118:$H$138>0)+($H$90:$H$110>0)+($H$62:$H$82>0)+($H$34:$H$54>0)+($H$6:$H$26>0))) -> 0 | Q15: =SUM($E15+$E43+$E71+$E99+$E127) -> 0.39583333 | R15: =SUM($H15+$H43+$H71+$H99+$H127) -> 0 | S15: =SUM($I15+$I43+$I71+$I99+$I127) -> 0 | T15: =SUM(Q15+S15) -> 0.39583333 | U15: =(S15*24)*J15 -> 0
A16: 11 | B16: K | C16: 0 | D16: 0 | E16: =IF(OR(C16="abs",C16="",C16="CA"),0,D16-C16) -> 0 | F16: 0 | G16: 0 | H16: =IF(OR(F16="abs",F16="",F16="ca"),0,G16-F16) -> 0 | I16: =MAX(H16-E16,0) -> 0 | J16: 8.75 | K16: =(I16*24)*J16 -> 0 | N16: 11 | O16: K | P16: =SUMPRODUCT(($B$6:$B$26=B16)*(($H$118:$H$138>0)+($H$90:$H$110>0)+($H$62:$H$82>0)+($H$34:$H$54>0)+($H$6:$H$26>0))) -> 0 | Q16: =SUM($E16+$E44+$E72+$E100+$E128) -> 1.1875 | R16: =SUM($H16+$H44+$H72+$H100+$H128) -> 0 | S16: =SUM($I16+$I44+$I72+$I100+$I128) -> 0 | T16: =SUM(Q16+S16) -> 1.1875 | U16: =(S16*24)*J16 -> 0
A17: 12 | B17: L | C17: 0.3125 | D17: 0.71875 | E17: =IF(OR(C17="abs",C17="",C17="CA"),0,D17-C17) -> 0.40625 | F17: 0 | G17: 0 | H17: =IF(OR(F17="abs",F17="",F17="ca"),0,G17-F17) -> 0 | I17: =MAX(H17-E17,0) -> 0 | J17: 8.5 | K17: =(I17*24)*J17 -> 0 | N17: 12 | O17: L | P17: =SUMPRODUCT(($B$6:$B$26=B17)*(($H$118:$H$138>0)+($H$90:$H$110>0)+($H$62:$H$82>0)+($H$34:$H$54>0)+($H$6:$H$26>0))) -> 0 | Q17: =SUM($E17+$E45+$E73+$E101+$E129) -> 1.625 | R17: =SUM($H17+$H45+$H73+$H101+$H129) -> 0 | S17: =SUM($I17+$I45+$I73+$I101+$I129) -> 0 | T17: =SUM(Q17+S17) -> 1.625 | U17: =(S17*24)*J17 -> 0
A18: 13 | B18: M | C18: 0.35416667 | D18: 0.77083333 | E18: =IF(OR(C18="abs",C18="",C18="CA"),0,D18-C18) -> 0.41666667 | F18: 0 | G18: 0 | H18: =IF(OR(F18="abs",F18="",F18="ca"),0,G18-F18) -> 0 | I18: =MAX(H18-E18,0) -> 0 | J18: 8.75 | K18: =(I18*24)*J18 -> 0 | N18: 13 | O18: M | P18: =SUMPRODUCT(($B$6:$B$26=B18)*(($H$118:$H$138>0)+($H$90:$H$110>0)+($H$62:$H$82>0)+($H$34:$H$54>0)+($H$6:$H$26>0))) -> 0 | Q18: =SUM($E18+$E46+$E74+$E102+$E130) -> 1.25 | R18: =SUM($H18+$H46+$H74+$H102+$H130) -> 0 | S18: =SUM($I18+$I46+$I74+$I102+$I130) -> 0 | T18: =SUM(Q18+S18) -> 1.25 | U18: =(S18*24)*J18 -> 0
A19: 14 | B19: N | C19: 0 | D19: 0 | E19: =IF(OR(C19="abs",C19="",C19="CA"),0,D19-C19) -> 0 | F19: 0 | G19: 0 | H19: 0 | I19: =MAX(H19-E19,0) -> 0 | J19: 9 | K19: =(I19*24)*J19 -> 0 | N19: 14 | O19: N | P19: =SUMPRODUCT(($B$6:$B$26=B19)*(($H$118:$H$138>0)+($H$90:$H$110>0)+($H$62:$H$82>0)+($H$34:$H$54>0)+($H$6:$H$26>0))) -> 0 | Q19: =SUM($E19+$E47+$E75+$E103+$E131) -> 0.52083333 | R19: =SUM($H19+$H47+$H75+$H103+$H131) -> 0 | S19: =SUM($I19+$I47+$I75+$I103+$I131) -> 0 | T19: =SUM(Q19+S19) -> 0.52083333 | U19: =(S19*24)*J19 -> 0
A20: 15 | B20: O | C20: 0.36458333 | D20: 0.68402778 | E20: =IF(OR(C20="abs",C20="",C20="CA"),0,D20-C20) -> 0.31944444 | F20: 0 | G20: 0 | H20: =IF(OR(F20="abs",F20="",F20="ca"),0,G20-F20) -> 0 | I20: =MAX(H20-E20,0) -> 0 | J20: 8.75 | K20: =(I20*24)*J20 -> 0 | N20: 15 | O20: O | P20: 0 | Q20: =SUM($E20+$E48+$E76+$E104+$E132) -> 0.95833333 | R20: 0 | S20: 0 | T20: =SUM(Q20+S20) -> 0.95833333 | U20: 0
A21: 16 | B21: P | C21: 0.41666667 | D21: 0.75 | E21: =IF(OR(C21="abs",C21="",C21="CA"),0,D21-C21) -> 0.33333333 | F21: 0 | G21: 0 | H21: =IF(OR(F21="abs",F21="",F21="ca"),0,G21-F21) -> 0 | I21: =MAX(H21-E21,0) -> 0 | J21: 7.75 | K21: =(I21*24)*J21 -> 0 | N21: 16 | O21: P | P21: 0 | Q21: =SUM($E21+$E49+$E77+$E105+$E133) -> 1.6666667 | R21: 0 | S21: 0 | T21: =SUM(Q21+S21) -> 1.6666667 | U21: 0
A22: 17 | B22: Q | C22: 0 | D22: 0 | E22: =IF(OR(C22="abs",C22="",C22="CA"),0,D22-C22) -> 0 | F22: 0 | G22: 0 | H22: =IF(OR(F22="abs",F22="",F22="ca"),0,G22-F22) -> 0 | I22: =MAX(H22-E22,0) -> 0 | J22: 8.75 | K22: =(I22*24)*J22 -> 0 | N22: 17 | O22: Q | P22: 0 | Q22: =SUM($E22+$E50+$E78+$E106+$E134) -> 0.97916667 | R22: =SUM($H22+$H50+$H78+$H106+$H134) -> 0 | S22: =SUM($I22+$I50+$I78+$I106+$I134) -> 0 | T22: =SUM(Q22+S22) -> 0.97916667 | U22: =(S22*24)*J22 -> 0
A23: 18 | B23: R | C23: 0.35416667 | D23: 0.66666667 | E23: =IF(OR(C23="abs",C23="",C23="CA"),0,D23-C23) -> 0.3125 | F23: 0 | G23: 0 | H23: =IF(OR(F23="abs",F23="",F23="ca"),0,G23-F23) -> 0 | I23: =MAX(H23-E23,0) -> 0 | J23: 8.25 | K23: =(I23*24)*J23 -> 0 | N23: 18 | O23: R | P23: =SUMPRODUCT(($B$6:$B$26=B23)*(($H$118:$H$138>0)+($H$90:$H$110>0)+($H$62:$H$82>0)+($H$34:$H$54>0)+($H$6:$H$26>0))) -> 0 | Q23: =SUM($E23+$E51+$E79+$E107+$E135) -> 1.25 | R23: =SUM($H23+$H51+$H79+$H107+$H135) -> 0 | S23: =SUM($I23+$I51+$I79+$I107+$I135) -> 0 | T23: =SUM(Q23+S23) -> 1.25 | U23: =(S23*24)*J23 -> 0
A24: 19 | I24: =MAX(H24-E24,0) -> 0 | N24: 19 | P24: =SUMPRODUCT(($B$6:$B$26=B24)*(($H$118:$H$138>0)+($H$90:$H$110>0)+($H$62:$H$82>0)+($H$34:$H$54>0)+($H$6:$H$26>0))) -> 0 | Q24: =SUM($E24+$E52+$E80+$E108+$E136) -> 0 | R24: =SUM($H24+$H52+$H80+$H108+$H136) -> 0 | S24: =SUM($I24+$I52+$I80+$I108+$I136) -> 0 | T24: =SUM(Q24+S24) -> 0 | U24: =(S24*24)*J24 -> 0
A25: 20 | I25: =MAX(H25-E25,0) -> 0 | N25: 20 | P25: =SUMPRODUCT(($B$6:$B$26=B25)*(($H$118:$H$138>0)+($H$90:$H$110>0)+($H$62:$H$82>0)+($H$34:$H$54>0)+($H$6:$H$26>0))) -> 0 | Q25: =SUM($E25+$E53+$E81+$E109+$E137) -> 0 | R25: =SUM($H25+$H53+$H81+$H109+$H137) -> 0 | S25: =SUM($I25+$I53+$I81+$I109+$I137) -> 0 | T25: =SUM(Q25+S25) -> 0 | U25: =(S25*24)*J25 -> 0
A26: 21 | I26: =MAX(H26-E26,0) -> 0 | N26: 21 | P26: =SUMPRODUCT(($B$6:$B$26=B26)*(($H$118:$H$138>0)+($H$90:$H$110>0)+($H$62:$H$82>0)+($H$34:$H$54>0)+($H$6:$H$26>0))) -> 0 | Q26: =SUM($E26+$E54+$E82+$E110+$E138) -> 0 | R26: =SUM($H26+$H54+$H82+$H110+$H138) -> 0 | S26: =SUM($I26+$I54+$I82+$I110+$I138) -> 0 | T26: =SUM(Q26+S26) -> 0 | U26: =(S26*24)*J26 -> 0
A27: 22 | I27: =MAX(H27-E27,0) -> 0 | N27: 22 | Q27: =SUM($E27+$E55+$E83+$E111+$E139) -> 0 | R27: =SUM($H27+$H55+$H83+$H111+$H139) -> 0 | S27: =SUM($I27+$I55+$I83+$I111+$I139) -> 0 | T27: =SUM(Q27+S27) -> 0 | U27: =(S27*24)*J27 -> 0
A28: 23 | I28: =MAX(H28-E28,0) -> 0 | N28: 23 | Q28: =SUM($E28+$E56+$E84+$E112+$E140) -> 0 | R28: =SUM($H28+$H56+$H84+$H112+$H140) -> 0 | S28: =SUM($I28+$I56+$I84+$I112+$I140) -> 0 | T28: =SUM(Q28+S28) -> 0 | U28: =(S28*24)*J28 -> 0
A29: 24 | I29: =MAX(H29-E29,0) -> 0 | N29: 24 | Q29: =SUM($E29+$E57+$E85+$E113+$E141) -> 0 | R29: =SUM($H29+$H57+$H85+$H113+$H141) -> 0 | S29: =SUM($I29+$I57+$I85+$I113+$I141) -> 0 | T29: =SUM(Q29+S29) -> 0 | U29: =(S29*24)*J29 -> 0
A30: 25 | I30: =MAX(H30-E30,0) -> 0 | N30: 25 | Q30: =SUM($E30+$E58+$E86+$E114+$E142) -> 0 | R30: =SUM($H30+$H58+$H86+$H114+$H142) -> 0 | S30: =SUM($I30+$I58+$I86+$I114+$I142) -> 0 | T30: =SUM(Q30+S30) -> 0 | U30: =(S30*24)*J30 -> 0
A31: TOTAL | I31: =SUM(I6:I30) -> 0 | K31: =SUM(K6:K30) -> 0 | P31: =SUM(P6:P30) -> 0 | Q31: =SUM(Q6:Q30) -> 19.833333 | R31: =SUM(R6:R30) -> 0 | T31: =SUM(T6:T30) -> 19.833333 | U31: =SUM(U6:U30) -> 0
Q32: =((11.5/24)*10)*5 -> 23.958333 | R32: =((11.5/24)*10)*5 -> 23.958333 | U32: =Q31/Q32 -> 0.82782609
C33: =C5+1 -> 43466 | L33: =_xlfn.FORMULATEXT(C33) -> =C5+1
A34: 1 | B34: A | C34: 0.375 | D34: 0.70833333 | E34: =IF(OR(C34="abs",C34="",C34="CA"),0,D34-C34) -> 0.33333333 | F34: 0 | G34: 0 | H34: =IF(OR(F34="abs",F34="",F34="ca"),0,G34-F34) -> 0 | I34: =MAX(H34-E34,0) -> 0 | J34: 8.75 | K34: =(I34*24)*J34 -> 0
A35: 2 | B35: B | C35: 0.3125 | D35: 0.77083333 | E35: =IF(OR(C35="abs",C35="",C35="CA"),0,D35-C35) -> 0.45833333 | F35: 0 | G35: 0 | H35: =IF(OR(F35="abs",F35="",F35="ca"),0,G35-F35) -> 0 | I35: =MAX(H35-E35,0) -> 0 | J35: 8 | K35: =(I35*24)*J35 -> 0
A36: 3 | B36: C | C36: 0.3125 | D36: 0.75 | E36: =IF(OR(C36="abs",C36="",C36="CA"),0,D36-C36) -> 0.4375 | F36: 0 | G36: 0 | H36: =IF(OR(F36="abs",F36="",F36="ca"),0,G36-F36) -> 0 | I36: =MAX(H36-E36,0) -> 0 | J36: 8.75 | K36: =(I36*24)*J36 -> 0
A37: 4 | B37: D | C37: 0 | D37: 0 | E37: =IF(OR(C37="abs",C37="",C37="CA"),0,D37-C37) -> 0 | F37: 0 | G37: 0 | H37: =IF(OR(F37="abs",F37="",F37="ca"),0,G37-F37) -> 0 | I37: =MAX(H37-E37,0) -> 0 | J37: 9.75 | K37: =(I37*24)*J37 -> 0 | N37: Validation des données
A38: 5 | B38: E | C38: 0 | D38: 0 | E38: =IF(OR(C38="abs",C38="",C38="CA"),0,D38-C38) -> 0 | F38: 0 | G38: 0 | H38: =IF(OR(F38="abs",F38="",F38="ca"),0,G38-F38) -> 0 | I38: =MAX(H38-E38,0) -> 0 | J38: 9.25 | K38: =(I38*24)*J38 -> 0
A39: 6 | B39: F | C39: 0.32291667 | D39: 0.73958333 | E39: =IF(OR(C39="abs",C39="",C39="CA"),0,D39-C39) -> 0.41666667 | F39: 0 | G39: 0 | H39: =IF(OR(F39="abs",F39="",F39="ca"),0,G39-F39) -> 0 | I39: =MAX(H39-E39,0) -> 0 | J39: 8 | K39: =(I39*24)*J39 -> 0
A40: 7 | B40: G | C40: 0.375 | D40: 0.6875 | E40: =IF(OR(C40="abs",C40="",C40="CA"),0,D40-C40) -> 0.3125 | F40: 0 | G40: 0 | H40: =IF(OR(F40="abs",F40="",F40="ca"),0,G40-F40) -> 0 | I40: =MAX(H40-E40,0) -> 0 | J40: 9.5 | K40: =(I40*24)*J40 -> 0
...

Sheet Semaine 2
B1: Annèe : | C1: =YEAR(J1) -> 2019 | D1: =_xlfn.FORMULATEXT(C1) -> =ANNEE(J1) | F1: Mois : | G1: =INDEX(T_Mois[Mois],MATCH(MONTH(J1),T_Mois[Nb],0)) -> janvier | I1: Date : | J1: ='Semaine 1'!C117+3 -> 43472 | K1: =_xlfn.FORMULATEXT(J1) -> ='Semaine 1'!C117+3
A2: Nombre d'enfant | B2: NOM et PRENOM | C2: Prévisionnel | F2: Réel | I2: Facture | N2: Nombre d'enfant | O2: NOM et PRENOM | P2: Présence / semaine | Q2: Total Heures Contrat semaines 02 | R2: Total Heures réelles semaines 02 | S2: Total Heures sup semaines 02 | T2: Total Heures facturables semaines 02 | U2: Total Dû semaines 02
C3: Heure d'arrivée | D3: Heure de départ | E3: Durée | F3: Heure d'arrivée | G3: Heure de départ | H3: Durée | I3: Durée Facturable | J3: Taux horaire | K3: Dû par la famille
B4: =_xlfn.FORMULATEXT(B5) -> =NO.SEMAINE.ISO(J1) | F4: =_xlfn.FORMULATEXT(G1) -> =INDEX(T_Mois[Mois];EQUIV(MOIS(J1);T_Mois[Nb];0))
A5: Semaine : | B5: =_xlfn.ISOWEEKNUM(J1) -> 2 | C5: =J1 -> 43472 | L5: =_xlfn.FORMULATEXT(C5) -> =J1
A6: 1 | B6: A | C6: 0 | D6: 0 | E6: =IF(OR(C6="abs",C6="",C6="CA"),0,D6-C6) -> 0 | F6: 0 | G6: 0 | H6: =IF(OR(F6="abs",F6="",F6="ca"),0,G6-F6) -> 0 | I6: =MAX(H6-E6,0) -> 0 | J6: 8.75 | K6: =(I6*24)*J6 -> 0 | N6: 1 | O6: A | P6: =SUMPRODUCT(($B$6:$B$26=B6)*(($H$118:$H$138>0)+($H$90:$H$110>0)+($H$62:$H$82>0)+($H$34:$H$54>0)+($H$6:$H$26>0))) -> 0 | Q6: =SUM($E6+$E34+$E62+$E90+$E118) -> 1 | R6: =SUM($H6+$H34+$H62+$H90+$H118) -> 0 | S6: =SUM($I6+$I34+$I62+$I90+$I118) -> 0 | T6: =SUM(Q6+S6) -> 1 | U6: =(S6*24)*J6 -> 0
A7: 2 | B7: B | C7: 0.3125 | D7: 0.77083333 | E7: =IF(OR(C7="abs",C7="",C7="CA"),0,D7-C7) -> 0.45833333 | F7: 0 | G7: 0 | H7: =IF(OR(F7="abs",F7="",F7="ca"),0,G7-F7) -> 0 | I7: =MAX(H7-E7,0) -> 0 | J7: 8 | K7: =(I7*24)*J7 -> 0 | N7: 2 | O7: B | P7: =SUMPRODUCT(($B$6:$B$26=B7)*(($H$118:$H$138>0)+($H$90:$H$110>0)+($H$62:$H$82>0)+($H$34:$H$54>0)+($H$6:$H$26>0))) -> 0 | Q7: =SUM($E7+$E35+$E63+$E91+$E119) -> 2.0625 | R7: =SUM($H7+$H35+$H63+$H91+$H119) -> 0 | S7: =SUM($I7+$I35+$I63+$I91+$I119) -> 0 | T7: =SUM(Q7+S7) -> 2.0625 | U7: =(S7*24)*J7 -> 0
A8: 3 | B8: C | C8: 0.3125 | D8: 0.75 | E8: =IF(OR(C8="abs",C8="",C8="CA"),0,D8-C8) -> 0.4375 | F8: 0 | G8: 0 | H8: =IF(OR(F8="abs",F8="",F8="ca"),0,G8-F8) -> 0 | I8: =MAX(H8-E8,0) -> 0 | J8: 8.75 | K8: =(I8*24)*J8 -> 0 | N8: 3 | O8: C | P8: =SUMPRODUCT(($B$6:$B$26=B8)*(($H$118:$H$138>0)+($H$90:$H$110>0)+($H$62:$H$82>0)+($H$34:$H$54>0)+($H$6:$H$26>0))) -> 0 | Q8: =SUM($E8+$E36+$E64+$E92+$E120) -> 1.3125 | R8: =SUM($H8+$H36+$H64+$H92+$H120) -> 0 | S8: =SUM($I8+$I36+$I64+$I92+$I120) -> 0 | T8: =SUM(Q8+S8) -> 1.3125 | U8: =(S8*24)*J8 -> 0
A9: 4 | B9: D | C9: 0 | D9: 0 | E9: =IF(OR(C9="abs",C9="",C9="CA"),0,D9-C9) -> 0 | F9: 0 | G9: 0 | H9: =IF(OR(F9="abs",F9="",F9="ca"),0,G9-F9) -> 0 | I9: =MAX(H9-E9,0) -> 0 | J9: 9.75 | K9: =(I9*24)*J9 -> 0 | N9: 4 | O9: D | P9: =SUMPRODUCT(($B$6:$B$26=B9)*(($H$118:$H$138>0)+($H$90:$H$110>0)+($H$62:$H$82>0)+($H$34:$H$54>0)+($H$6:$H$26>0))) -> 0 | Q9: =SUM($E9+$E37+$E65+$E93+$E121) -> 0.39583333 | R9: =SUM($H9+$H37+$H65+$H93+$H121) -> 0 | S9: =SUM($I9+$I37+$I65+$I93+$I121) -> 0 | T9: =SUM(Q9+S9) -> 0.39583333 | U9: =(S9*24)*J9 -> 0
A10: 5 | B10: E | C10: 0.33333333 | D10: 0.75 | E10: =IF(OR(C10="abs",C10="",C10="CA"),0,D10-C10) -> 0.41666667 | F10: 0 | G10: 0 | H10: =IF(OR(F10="abs",F10="",F10="ca"),0,G10-F10) -> 0 | I10: =MAX(H10-E10,0) -> 0 | J10: 9.25 | K10: =(I10*24)*J10 -> 0 | N10: 5 | O10: E | P10: =SUMPRODUCT(($B$6:$B$26=B10)*(($H$118:$H$138>0)+($H$90:$H$110>0)+($H$62:$H$82>0)+($H$34:$H$54>0)+($H$6:$H$26>0))) -> 0 | Q10: =SUM($E10+$E38+$E66+$E94+$E122) -> 0.83333333 | R10: =SUM($H10+$H38+$H66+$H94+$H122) -> 0 | S10: =SUM($I10+$I38+$I66+$I94+$I122) -> 0 | T10: =SUM(Q10+S10) -> 0.83333333 | U10: =(S10*24)*J10 -> 0
A11: 6 | B11: F | C11: 0.375 | D11: 0.6875 | E11: =IF(OR(C11="abs",C11="",C11="CA"),0,D11-C11) -> 0.3125 | F11: 0 | G11: 0 | H11: =IF(OR(F11="abs",F11="",F11="ca"),0,G11-F11) -> 0 | I11: =MAX(H11-E11,0) -> 0 | J11: 8 | K11: =(I11*24)*J11 -> 0 | N11: 6 | O11: F | P11: =SUMPRODUCT(($B$6:$B$26=B11)*(($H$118:$H$138>0)+($H$90:$H$110>0)+($H$62:$H$82>0)+($H$34:$H$54>0)+($H$6:$H$26>0))) -> 0 | Q11: =SUM($E11+$E39+$E67+$E95+$E123) -> 1.4375 | R11: =SUM($H11+$H39+$H67+$H95+$H123) -> 0 | S11: =SUM($I11+$I39+$I67+$I95+$I123) -> 0 | T11: =SUM(Q11+S11) -> 1.4375 | U11: =(S11*24)*J11 -> 0
A12: 7 | B12: G | C12: 0 | D12: 0 | E12: =IF(OR(C12="abs",C12="",C12="CA"),0,D12-C12) -> 0 | F12: 0 | G12: 0 | H12: =IF(OR(F12="abs",F12="",F12="ca"),0,G12-F12) -> 0 | I12: =MAX(H12-E12,0) -> 0 | J12: 9.5 | K12: =(I12*24)*J12 -> 0 | N12: 7 | O12: G | P12: =SUMPRODUCT(($B$6:$B$26=B12)*(($H$118:$H$138>0)+($H$90:$H$110>0)+($H$62:$H$82>0)+($H$34:$H$54>0)+($H$6:$H$26>0))) -> 0 | Q12: =SUM($E12+$E40+$E68+$E96+$E124) -> 0.625 | R12: =SUM($H12+$H40+$H68+$H96+$H124) -> 0 | S12: =SUM($I12+$I40+$I68+$I96+$I124) -> 0 | T12: =SUM(Q12+S12) -> 0.625 | U12: =(S12*24)*J12 -> 0
A13: 8 | B13: H | C13: 0.3125 | D13: 0.75 | E13: =IF(OR(C13="abs",C13="",C13="CA"),0,D13-C13) -> 0.4375 | F13: 0 | G13: 0 | H13: =IF(OR(F13="abs",F13="",F13="ca"),0,G13-F13) -> 0 | I13: =MAX(H13-E13,0) -> 0 | J13: 9.5 | K13: =(I13*24)*J13 -> 0 | N13: 8 | O13: H | P13: =SUMPRODUCT(($B$6:$B$26=B13)*(($H$118:$H$138>0)+($H$90:$H$110>0)+($H$62:$H$82>0)+($H$34:$H$54>0)+($H$6:$H$26>0))) -> 0 | Q13: =SUM($E13+$E41+$E69+$E97+$E125) -> 0.875 | R13: =SUM($H13+$H41+$H69+$H97+$H125) -> 0 | S13: =SUM($I13+$I41+$I69+$I97+$I125) -> 0 | T13: =SUM(Q13+S13) -> 0.875 | U13: =(S13*24)*J13 -> 0
A14: 9 | B14: I | C14: 0.41666667 | D14: 0.70833333 | E14: =IF(OR(C14="abs",C14="",C14="CA"),0,D14-C14) -> 0.29166667 | F14: 0 | G14: 0 | H14: =IF(OR(F14="abs",F14="",F14="ca"),0,G14-F14) -> 0 | I14: =MAX(H14-E14,0) -> 0 | J14: 7.5 | K14: =(I14*24)*J14 -> 0 | N14: 9 | O14: I | P14: =SUMPRODUCT(($B$6:$B$26=B14)*(($H$118:$H$138>0)+($H$90:$H$110>0)+($H$62:$H$82>0)+($H$34:$H$54>0)+($H$6:$H$26>0))) -> 0 | Q14: =SUM($E14+$E42+$E70+$E98+$E126) -> 1.4583333 | R14: =SUM($H14+$H42+$H70+$H98+$H126) -> 0 | S14: =SUM($I14+$I42+$I70+$I98+$I126) -> 0 | T14: =SUM(Q14+S14) -> 1.4583333 | U14: =(S14*24)*J14 -> 0
A15: 10 | B15: J | C15: 0 | D15: 0 | E15: =IF(OR(C15="abs",C15="",C15="CA"),0,D15-C15) -> 0 | F15: 0 | G15: 0 | H15: =IF(OR(F15="abs",F15="",F15="ca"),0,G15-F15) -> 0 | I15: =MAX(H15-E15,0) -> 0 | J15: 9.75 | K15: =(I15*24)*J15 -> 0 | N15: 10 | O15: J | P15: =SUMPRODUCT(($B$6:$B$26=B15)*(($H$118:$H$138>0)+($H$90:$H$110>0)+($H$62:$H$82>0)+($H$34:$H$54>0)+($H$6:$H$26>0))) -> 0 | Q15: =SUM($E15+$E43+$E71+$E99+$E127) -> 0.39583333 | R15: =SUM($H15+$H43+$H71+$H99+$H127) -> 0 | S15: =SUM($I15+$I43+$I71+$I99+$I127) -> 0 | T15: =SUM(Q15+S15) -> 0.39583333 | U15: =(S15*24)*J15 -> 0
A16: 11 | B16: K | C16: 0 | D16: 0 | E16: =IF(OR(C16="abs",C16="",C16="CA"),0,D16-C16) -> 0 | F16: 0 | G16: 0 | H16: =IF(OR(F16="abs",F16="",F16="ca"),0,G16-F16) -> 0 | I16: =MAX(H16-E16,0) -> 0 | J16: 8.75 | K16: =(I16*24)*J16 -> 0 | N16: 11 | O16: K | P16: =SUMPRODUCT(($B$6:$B$26=B16)*(($H$118:$H$138>0)+($H$90:$H$110>0)+($H$62:$H$82>0)+($H$34:$H$54>0)+($H$6:$H$26>0))) -> 0 | Q16: =SUM($E16+$E44+$E72+$E100+$E128) -> 1.1875 | R16: =SUM($H16+$H44+$H72+$H100+$H128) -> 0 | S16: =SUM($I16+$I44+$I72+$I100+$I128) -> 0 | T16: =SUM(Q16+S16) -> 1.1875 | U16: =(S16*24)*J16 -> 0
A17: 12 | B17: L | C17: 0.3125 | D17: 0.71875 | E17: =IF(OR(C17="abs",C17="",C17="CA"),0,D17-C17) -> 0.40625 | F17: 0 | G17: 0 | H17: =IF(OR(F17="abs",F17="",F17="ca"),0,G17-F17) -> 0 | I17: =MAX(H17-E17,0) -> 0 | J17: 8.5 | K17: =(I17*24)*J17 -> 0 | N17: 12 | O17: L | P17: =SUMPRODUCT(($B$6:$B$26=B17)*(($H$118:$H$138>0)+($H$90:$H$110>0)+($H$62:$H$82>0)+($H$34:$H$54>0)+($H$6:$H$26>0))) -> 0 | Q17: =SUM($E17+$E45+$E73+$E101+$E129) -> 1.625 | R17: =SUM($H17+$H45+$H73+$H101+$H129) -> 0 | S17: =SUM($I17+$I45+$I73+$I101+$I129) -> 0 | T17: =SUM(Q17+S17) -> 1.625 | U17: =(S17*24)*J17 -> 0
A18: 13 | B18: M | C18: 0.35416667 | D18: 0.77083333 | E18: =IF(OR(C18="abs",C18="",C18="CA"),0,D18-C18) -> 0.41666667 | F18: 0 | G18: 0 | H18: =IF(OR(F18="abs",F18="",F18="ca"),0,G18-F18) -> 0 | I18: =MAX(H18-E18,0) -> 0 | J18: 8.75 | K18: =(I18*24)*J18 -> 0 | N18: 13 | O18: M | P18: =SUMPRODUCT(($B$6:$B$26=B18)*(($H$118:$H$138>0)+($H$90:$H$110>0)+($H$62:$H$82>0)+($H$34:$H$54>0)+($H$6:$H$26>0))) -> 0 | Q18: =SUM($E18+$E46+$E74+$E102+$E130) -> 1.25 | R18: =SUM($H18+$H46+$H74+$H102+$H130) -> 0 | S18: =SUM($I18+$I46+$I74+$I102+$I130) -> 0 | T18: =SUM(Q18+S18) -> 1.25 | U18: =(S18*24)*J18 -> 0
A19: 14 | B19: N | C19: 0 | D19: 0 | E19: =IF(OR(C19="abs",C19="",C19="CA"),0,D19-C19) -> 0 | F19: 0 | G19: 0 | H19: 0 | I19: =MAX(H19-E19,0) -> 0 | J19: 9 | K19: =(I19*24)*J19 -> 0 | N19: 14 | O19: N | P19: =SUMPRODUCT(($B$6:$B$26=B19)*(($H$118:$H$138>0)+($H$90:$H$110>0)+($H$62:$H$82>0)+($H$34:$H$54>0)+($H$6:$H$26>0))) -> 0 | Q19: =SUM($E19+$E47+$E75+$E103+$E131) -> 0.52083333 | R19: =SUM($H19+$H47+$H75+$H103+$H131) -> 0 | S19: =SUM($I19+$I47+$I75+$I103+$I131) -> 0 | T19: =SUM(Q19+S19) -> 0.52083333 | U19: =(S19*24)*J19 -> 0
A20: 15 | B20: O | C20: 0.36458333 | D20: 0.68402778 | E20: =IF(OR(C20="abs",C20="",C20="CA"),0,D20-C20) -> 0.31944444 | F20: 0 | G20: 0 | H20: =IF(OR(F20="abs",F20="",F20="ca"),0,G20-F20) -> 0 | I20: =MAX(H20-E20,0) -> 0 | J20: 8.75 | K20: =(I20*24)*J20 -> 0 | N20: 15 | O20: O | P20: 0 | Q20: =SUM($E20+$E48+$E76+$E104+$E132) -> 0.95833333 | R20: 0 | S20: 0 | T20: =SUM(Q20+S20) -> 0.95833333 | U20: 0
A21: 16 | B21: P | C21: 0.41666667 | D21: 0.75 | E21: =IF(OR(C21="abs",C21="",C21="CA"),0,D21-C21) -> 0.33333333 | F21: 0 | G21: 0 | H21: =IF(OR(F21="abs",F21="",F21="ca"),0,G21-F21) -> 0 | I21: =MAX(H21-E21,0) -> 0 | J21: 7.75 | K21: =(I21*24)*J21 -> 0 | N21: 16 | O21: P | P21: 0 | Q21: =SUM($E21+$E49+$E77+$E105+$E133) -> 1.6666667 | R21: 0 | S21: 0 | T21: =SUM(Q21+S21) -> 1.6666667 | U21: 0
A22: 17 | B22: Q | C22: 0 | D22: 0 | E22: =IF(OR(C22="abs",C22="",C22="CA"),0,D22-C22) -> 0 | F22: 0 | G22: 0 | H22: =IF(OR(F22="abs",F22="",F22="ca"),0,G22-F22) -> 0 | I22: =MAX(H22-E22,0) -> 0 | J22: 8.75 | K22: =(I22*24)*J22 -> 0 | N22: 17 | O22: Q | P22: 0 | Q22: =SUM($E22+$E50+$E78+$E106+$E134) -> 0.97916667 | R22: =SUM($H22+$H50+$H78+$H106+$H134) -> 0 | S22: =SUM($I22+$I50+$I78+$I106+$I134) -> 0 | T22: =SUM(Q22+S22) -> 0.97916667 | U22: =(S22*24)*J22 -> 0
A23: 18 | B23: R | C23: 0.35416667 | D23: 0.66666667 | E23: =IF(OR(C23="abs",C23="",C23="CA"),0,D23-C23) -> 0.3125 | F23: 0 | G23: 0 | H23: =IF(OR(F23="abs",F23="",F23="ca"),0,G23-F23) -> 0 | I23: =MAX(H23-E23,0) -> 0 | J23: 8.25 | K23: =(I23*24)*J23 -> 0 | N23: 18 | O23: R | P23: =SUMPRODUCT(($B$6:$B$26=B23)*(($H$118:$H$138>0)+($H$90:$H$110>0)+($H$62:$H$82>0)+($H$34:$H$54>0)+($H$6:$H$26>0))) -> 0 | Q23: =SUM($E23+$E51+$E79+$E107+$E135) -> 1.25 | R23: =SUM($H23+$H51+$H79+$H107+$H135) -> 0 | S23: =SUM($I23+$I51+$I79+$I107+$I135) -> 0 | T23: =SUM(Q23+S23) -> 1.25 | U23: =(S23*24)*J23 -> 0
A24: 19 | I24: =MAX(H24-E24,0) -> 0 | N24: 19 | P24: =SUMPRODUCT(($B$6:$B$26=B24)*(($H$118:$H$138>0)+($H$90:$H$110>0)+($H$62:$H$82>0)+($H$34:$H$54>0)+($H$6:$H$26>0))) -> 0 | Q24: =SUM($E24+$E52+$E80+$E108+$E136) -> 0 | R24: =SUM($H24+$H52+$H80+$H108+$H136) -> 0 | S24: =SUM($I24+$I52+$I80+$I108+$I136) -> 0 | T24: =SUM(Q24+S24) -> 0 | U24: =(S24*24)*J24 -> 0
A25: 20 | I25: =MAX(H25-E25,0) -> 0 | N25: 20 | P25: =SUMPRODUCT(($B$6:$B$26=B25)*(($H$118:$H$138>0)+($H$90:$H$110>0)+($H$62:$H$82>0)+($H$34:$H$54>0)+($H$6:$H$26>0))) -> 0 | Q25: =SUM($E25+$E53+$E81+$E109+$E137) -> 0 | R25: =SUM($H25+$H53+$H81+$H109+$H137) -> 0 | S25: =SUM($I25+$I53+$I81+$I109+$I137) -> 0 | T25: =SUM(Q25+S25) -> 0 | U25: =(S25*24)*J25 -> 0
A26: 21 | I26: =MAX(H26-E26,0) -> 0 | N26: 21 | P26: =SUMPRODUCT(($B$6:$B$26=B26)*(($H$118:$H$138>0)+($H$90:$H$110>0)+($H$62:$H$82>0)+($H$34:$H$54>0)+($H$6:$H$26>0))) -> 0 | Q26: =SUM($E26+$E54+$E82+$E110+$E138) -> 0 | R26: =SUM($H26+$H54+$H82+$H110+$H138) -> 0 | S26: =SUM($I26+$I54+$I82+$I110+$I138) -> 0 | T26: =SUM(Q26+S26) -> 0 | U26: =(S26*24)*J26 -> 0
A27: 22 | I27: =MAX(H27-E27,0) -> 0 | N27: 22 | Q27: =SUM($E27+$E55+$E83+$E111+$E139) -> 0 | R27: =SUM($H27+$H55+$H83+$H111+$H139) -> 0 | S27: =SUM($I27+$I55+$I83+$I111+$I139) -> 0 | T27: =SUM(Q27+S27) -> 0 | U27: =(S27*24)*J27 -> 0
A28: 23 | I28: =MAX(H28-E28,0) -> 0 | N28: 23 | Q28: =SUM($E28+$E56+$E84+$E112+$E140) -> 0 | R28: =SUM($H28+$H56+$H84+$H112+$H140) -> 0 | S28: =SUM($I28+$I56+$I84+$I112+$I140) -> 0 | T28: =SUM(Q28+S28) -> 0 | U28: =(S28*24)*J28 -> 0
A29: 24 | I29: =MAX(H29-E29,0) -> 0 | N29: 24 | Q29: =SUM($E29+$E57+$E85+$E113+$E141) -> 0 | R29: =SUM($H29+$H57+$H85+$H113+$H141) -> 0 | S29: =SUM($I29+$I57+$I85+$I113+$I141) -> 0 | T29: =SUM(Q29+S29) -> 0 | U29: =(S29*24)*J29 -> 0
A30: 25 | I30: =MAX(H30-E30,0) -> 0 | N30: 25 | Q30: =SUM($E30+$E58+$E86+$E114+$E142) -> 0 | R30: =SUM($H30+$H58+$H86+$H114+$H142) -> 0 | S30: =SUM($I30+$I58+$I86+$I114+$I142) -> 0 | T30: =SUM(Q30+S30) -> 0 | U30: =(S30*24)*J30 -> 0
A31: TOTAL | I31: =SUM(I6:I30) -> 0 | K31: =SUM(K6:K30) -> 0 | P31: =SUM(P6:P30) -> 0 | Q31: =SUM(Q6:Q30) -> 19.833333 | R31: =SUM(R6:R30) -> 0 | T31: =SUM(T6:T30) -> 19.833333 | U31: =SUM(U6:U30) -> 0
Q32: =((11.5/24)*10)*5 -> 23.958333 | R32: =((11.5/24)*10)*5 -> 23.958333 | U32: =Q31/Q32 -> 0.82782609
C33: =C5+1 -> 43473 | L33: =_xlfn.FORMULATEXT(C33) -> =C5+1
A34: 1 | B34: A | C34: 0.375 | D34: 0.70833333 | E34: =IF(OR(C34="abs",C34="",C34="CA"),0,D34-C34) -> 0.33333333 | F34: 0 | G34: 0 | H34: =IF(OR(F34="abs",F34="",F34="ca"),0,G34-F34) -> 0 | I34: =MAX(H34-E34,0) -> 0 | J34: 8.75 | K34: =(I34*24)*J34 -> 0
A35: 2 | B35: B | C35: 0.3125 | D35: 0.77083333 | E35: =IF(OR(C35="abs",C35="",C35="CA"),0,D35-C35) -> 0.45833333 | F35: 0 | G35: 0 | H35: =IF(OR(F35="abs",F35="",F35="ca"),0,G35-F35) -> 0 | I35: =MAX(H35-E35,0) -> 0 | J35: 8 | K35: =(I35*24)*J35 -> 0
A36: 3 | B36: C | C36: 0.3125 | D36: 0.75 | E36: =IF(OR(C36="abs",C36="",C36="CA"),0,D36-C36) -> 0.4375 | F36: 0 | G36: 0 | H36: =IF(OR(F36="abs",F36="",F36="ca"),0,G36-F36) -> 0 | I36: =MAX(H36-E36,0) -> 0 | J36: 8.75 | K36: =(I36*24)*J36 -> 0
A37: 4 | B37: D | C37: 0 | D37: 0 | E37: =IF(OR(C37="abs",C37="",C37="CA"),0,D37-C37) -> 0 | F37: 0 | G37: 0 | H37: =IF(OR(F37="abs",F37="",F37="ca"),0,G37-F37) -> 0 | I37: =MAX(H37-E37,0) -> 0 | J37: 9.75 | K37: =(I37*24)*J37 -> 0
A38: 5 | B38: E | C38: 0 | D38: 0 | E38: =IF(OR(C38="abs",C38="",C38="CA"),0,D38-C38) -> 0 | F38: 0 | G38: 0 | H38: =IF(OR(F38="abs",F38="",F38="ca"),0,G38-F38) -> 0 | I38: =MAX(H38-E38,0) -> 0 | J38: 9.25 | K38: =(I38*24)*J38 -> 0
A39: 6 | B39: F | C39: 0.32291667 | D39: 0.73958333 | E39: =IF(OR(C39="abs",C39="",C39="CA"),0,D39-C39) -> 0.41666667 | F39: 0 | G39: 0 | H39: =IF(OR(F39="abs",F39="",F39="ca"),0,G39-F39) -> 0 | I39: =MAX(H39-E39,0) -> 0 | J39: 8 | K39: =(I39*24)*J39 -> 0
A40: 7 | B40: G | C40: 0.375 | D40: 0.6875 | E40: =IF(OR(C40="abs",C40="",C40="CA"),0,D40-C40) -> 0.3125 | F40: 0 | G40: 0 | H40: =IF(OR(F40="abs",F40="",F40="ca"),0,G40-F40) -> 0 | I40: =MAX(H40-E40,0) -> 0 | J40: 9.5 | K40: =(I40*24)*J40 -> 0
...

Sheet Semaine 3
B1: Annèe : | C1: =YEAR(J1) -> 2019 | F1: Mois : | G1: =INDEX(T_Mois[Mois],MATCH(MONTH(J1),T_Mois[Nb],0)) -> janvier | I1: Date : | J1: ='Semaine 2'!C117+3 -> 43479
A2: Nombre d'enfant | B2: NOM et PRENOM | C2: Prévisionnel | F2: Réel | I2: Facture | N2: Nombre d'enfant | O2: NOM et PRENOM | P2: Présence / semaine | Q2: Total Heures Contrat semaines 02 | R2: Total Heures réelles semaines 02 | S2: Total Heures sup semaines 02 | T2: Total Heures facturables semaines 02 | U2: Total Dû semaines 02
C3: Heure d'arrivée | D3: Heure de départ | E3: Durée | F3: Heure d'arrivée | G3: Heure de départ | H3: Durée | I3: Durée Facturable | J3: Taux horaire | K3: Dû par la famille
A5: Semaine : | B5: =_xlfn.ISOWEEKNUM(J1) -> 3 | C5: =J1 -> 43479
A6: 1 | B6: A | C6: 0 | D6: 0 | E6: =IF(OR(C6="abs",C6="",C6="CA"),0,D6-C6) -> 0 | F6: 0 | G6: 0 | H6: =IF(OR(F6="abs",F6="",F6="ca"),0,G6-F6) -> 0 | I6: =MAX(H6-E6,0) -> 0 | J6: 8.75 | K6: =(I6*24)*J6 -> 0 | N6: 1 | O6: A | P6: =SUMPRODUCT(($B$6:$B$26=B6)*(($H$118:$H$138>0)+($H$90:$H$110>0)+($H$62:$H$82>0)+($H$34:$H$54>0)+($H$6:$H$26>0))) -> 0 | Q6: =SUM($E6+$E34+$E62+$E90+$E118) -> 1 | R6: =SUM($H6+$H34+$H62+$H90+$H118) -> 0 | S6: =SUM($I6+$I34+$I62+$I90+$I118) -> 0 | T6: =SUM(Q6+S6) -> 1 | U6: =(S6*24)*J6 -> 0
A7: 2 | B7: B | C7: 0.3125 | D7: 0.77083333 | E7: =IF(OR(C7="abs",C7="",C7="CA"),0,D7-C7) -> 0.45833333 | F7: 0 | G7: 0 | H7: =IF(OR(F7="abs",F7="",F7="ca"),0,G7-F7) -> 0 | I7: =MAX(H7-E7,0) -> 0 | J7: 8 | K7: =(I7*24)*J7 -> 0 | N7: 2 | O7: B | P7: =SUMPRODUCT(($B$6:$B$26=B7)*(($H$118:$H$138>0)+($H$90:$H$110>0)+($H$62:$H$82>0)+($H$34:$H$54>0)+($H$6:$H$26>0))) -> 0 | Q7: =SUM($E7+$E35+$E63+$E91+$E119) -> 2.0625 | R7: =SUM($H7+$H35+$H63+$H91+$H119) -> 0 | S7: =SUM($I7+$I35+$I63+$I91+$I119) -> 0 | T7: =SUM(Q7+S7) -> 2.0625 | U7: =(S7*24)*J7 -> 0
A8: 3 | B8: C | C8: 0.3125 | D8: 0.75 | E8: =IF(OR(C8="abs",C8="",C8="CA"),0,D8-C8) -> 0.4375 | F8: 0 | G8: 0 | H8: =IF(OR(F8="abs",F8="",F8="ca"),0,G8-F8) -> 0 | I8: =MAX(H8-E8,0) -> 0 | J8: 8.75 | K8: =(I8*24)*J8 -> 0 | N8: 3 | O8: C | P8: =SUMPRODUCT(($B$6:$B$26=B8)*(($H$118:$H$138>0)+($H$90:$H$110>0)+($H$62:$H$82>0)+($H$34:$H$54>0)+($H$6:$H$26>0))) -> 0 | Q8: =SUM($E8+$E36+$E64+$E92+$E120) -> 1.3125 | R8: =SUM($H8+$H36+$H64+$H92+$H120) -> 0 | S8: =SUM($I8+$I36+$I64+$I92+$I120) -> 0 | T8: =SUM(Q8+S8) -> 1.3125 | U8: =(S8*24)*J8 -> 0
A9: 4 | B9: D | C9: 0 | D9: 0 | E9: =IF(OR(C9="abs",C9="",C9="CA"),0,D9-C9) -> 0 | F9: 0 | G9: 0 | H9: =IF(OR(F9="abs",F9="",F9="ca"),0,G9-F9) -> 0 | I9: =MAX(H9-E9,0) -> 0 | J9: 9.75 | K9: =(I9*24)*J9 -> 0 | N9: 4 | O9: D | P9: =SUMPRODUCT(($B$6:$B$26=B9)*(($H$118:$H$138>0)+($H$90:$H$110>0)+($H$62:$H$82>0)+($H$34:$H$54>0)+($H$6:$H$26>0))) -> 0 | Q9: =SUM($E9+$E37+$E65+$E93+$E121) -> 0.39583333 | R9: =SUM($H9+$H37+$H65+$H93+$H121) -> 0 | S9: =SUM($I9+$I37+$I65+$I93+$I121) -> 0 | T9: =SUM(Q9+S9) -> 0.39583333 | U9: =(S9*24)*J9 -> 0
A10: 5 | B10: E | C10: 0.33333333 | D10: 0.75 | E10: =IF(OR(C10="abs",C10="",C10="CA"),0,D10-C10) -> 0.41666667 | F10: 0 | G10: 0 | H10: =IF(OR(F10="abs",F10="",F10="ca"),0,G10-F10) -> 0 | I10: =MAX(H10-E10,0) -> 0 | J10: 9.25 | K10: =(I10*24)*J10 -> 0 | N10: 5 | O10: E | P10: =SUMPRODUCT(($B$6:$B$26=B10)*(($H$118:$H$138>0)+($H$90:$H$110>0)+($H$62:$H$82>0)+($H$34:$H$54>0)+($H$6:$H$26>0))) -> 0 | Q10: =SUM($E10+$E38+$E66+$E94+$E122) -> 0.83333333 | R10: =SUM($H10+$H38+$H66+$H94+$H122) -> 0 | S10: =SUM($I10+$I38+$I66+$I94+$I122) -> 0 | T10: =SUM(Q10+S10) -> 0.83333333 | U10: =(S10*24)*J10 -> 0
A11: 6 | B11: F | C11: 0.375 | D11: 0.6875 | E11: =IF(OR(C11="abs",C11="",C11="CA"),0,D11-C11) -> 0.3125 | F11: 0 | G11: 0 | H11: =IF(OR(F11="abs",F11="",F11="ca"),0,G11-F11) -> 0 | I11: =MAX(H11-E11,0) -> 0 | J11: 8 | K11: =(I11*24)*J11 -> 0 | N11: 6 | O11: F | P11: =SUMPRODUCT(($B$6:$B$26=B11)*(($H$118:$H$138>0)+($H$90:$H$110>0)+($H$62:$H$82>0)+($H$34:$H$54>0)+($H$6:$H$26>0))) -> 0 | Q11: =SUM($E11+$E39+$E67+$E95+$E123) -> 1.4375 | R11: =SUM($H11+$H39+$H67+$H95+$H123) -> 0 | S11: =SUM($I11+$I39+$I67+$I95+$I123) -> 0 | T11: =SUM(Q11+S11) -> 1.4375 | U11: =(S11*24)*J11 -> 0
A12: 7 | B12: G | C12: 0 | D12: 0 | E12: =IF(OR(C12="abs",C12="",C12="CA"),0,D12-C12) -> 0 | F12: 0 | G12: 0 | H12: =IF(OR(F12="abs",F12="",F12="ca"),0,G12-F12) -> 0 | I12: =MAX(H12-E12,0) -> 0 | J12: 9.5 | K12: =(I12*24)*J12 -> 0 | N12: 7 | O12: G | P12: =SUMPRODUCT(($B$6:$B$26=B12)*(($H$118:$H$138>0)+($H$90:$H$110>0)+($H$62:$H$82>0)+($H$34:$H$54>0)+($H$6:$H$26>0))) -> 0 | Q12: =SUM($E12+$E40+$E68+$E96+$E124) -> 0.625 | R12: =SUM($H12+$H40+$H68+$H96+$H124) -> 0 | S12: =SUM($I12+$I40+$I68+$I96+$I124) -> 0 | T12: =SUM(Q12+S12) -> 0.625 | U12: =(S12*24)*J12 -> 0
A13: 8 | B13: H | C13: 0.3125 | D13: 0.75 | E13: =IF(OR(C13="abs",C13="",C13="CA"),0,D13-C13) -> 0.4375 | F13: 0 | G13: 0 | H13: =IF(OR(F13="abs",F13="",F13="ca"),0,G13-F13) -> 0 | I13: =MAX(H13-E13,0) -> 0 | J13: 9.5 | K13: =(I13*24)*J13 -> 0 | N13: 8 | O13: H | P13: =SUMPRODUCT(($B$6:$B$26=B13)*(($H$118:$H$138>0)+($H$90:$H$110>0)+($H$62:$H$82>0)+($H$34:$H$54>0)+($H$6:$H$26>0))) -> 0 | Q13: =SUM($E13+$E41+$E69+$E97+$E125) -> 0.875 | R13: =SUM($H13+$H41+$H69+$H97+$H125) -> 0 | S13: =SUM($I13+$I41+$I69+$I97+$I125) -> 0 | T13: =SUM(Q13+S13) -> 0.875 | U13: =(S13*24)*J13 -> 0
A14: 9 | B14: I | C14: 0.41666667 | D14: 0.70833333 | E14: =IF(OR(C14="abs",C14="",C14="CA"),0,D14-C14) -> 0.29166667 | F14: 0 | G14: 0 | H14: =IF(OR(F14="abs",F14="",F14="ca"),0,G14-F14) -> 0 | I14: =MAX(H14-E14,0) -> 0 | J14: 7.5 | K14: =(I14*24)*J14 -> 0 | N14: 9 | O14: I | P14: =SUMPRODUCT(($B$6:$B$26=B14)*(($H$118:$H$138>0)+($H$90:$H$110>0)+($H$62:$H$82>0)+($H$34:$H$54>0)+($H$6:$H$26>0))) -> 0 | Q14: =SUM($E14+$E42+$E70+$E98+$E126) -> 1.4583333 | R14: =SUM($H14+$H42+$H70+$H98+$H126) -> 0 | S14: =SUM($I14+$I42+$I70+$I98+$I126) -> 0 | T14: =SUM(Q14+S14) -> 1.4583333 | U14: =(S14*24)*J14 -> 0
A15: 10 | B15: J | C15: 0 | D15: 0 | E15: =IF(OR(C15="abs",C15="",C15="CA"),0,D15-C15) -> 0 | F15: 0 | G15: 0 | H15: =IF(OR(F15="abs",F15="",F15="ca"),0,G15-F15) -> 0 | I15: =MAX(H15-E15,0) -> 0 | J15: 9.75 | K15: =(I15*24)*J15 -> 0 | N15: 10 | O15: J | P15: =SUMPRODUCT(($B$6:$B$26=B15)*(($H$118:$H$138>0)+($H$90:$H$110>0)+($H$62:$H$82>0)+($H$34:$H$54>0)+($H$6:$H$26>0))) -> 0 | Q15: =SUM($E15+$E43+$E71+$E99+$E127) -> 0.39583333 | R15: =SUM($H15+$H43+$H71+$H99+$H127) -> 0 | S15: =SUM($I15+$I43+$I71+$I99+$I127) -> 0 | T15: =SUM(Q15+S15) -> 0.39583333 | U15: =(S15*24)*J15 -> 0
A16: 11 | B16: K | C16: 0 | D16: 0 | E16: =IF(OR(C16="abs",C16="",C16="CA"),0,D16-C16) -> 0 | F16: 0 | G16: 0 | H16: =IF(OR(F16="abs",F16="",F16="ca"),0,G16-F16) -> 0 | I16: =MAX(H16-E16,0) -> 0 | J16: 8.75 | K16: =(I16*24)*J16 -> 0 | N16: 11 | O16: K | P16: =SUMPRODUCT(($B$6:$B$26=B16)*(($H$118:$H$138>0)+($H$90:$H$110>0)+($H$62:$H$82>0)+($H$34:$H$54>0)+($H$6:$H$26>0))) -> 0 | Q16: =SUM($E16+$E44+$E72+$E100+$E128) -> 1.1875 | R16: =SUM($H16+$H44+$H72+$H100+$H128) -> 0 | S16: =SUM($I16+$I44+$I72+$I100+$I128) -> 0 | T16: =SUM(Q16+S16) -> 1.1875 | U16: =(S16*24)*J16 -> 0
A17: 12 | B17: L | C17: 0.3125 | D17: 0.71875 | E17: =IF(OR(C17="abs",C17="",C17="CA"),0,D17-C17) -> 0.40625 | F17: 0 | G17: 0 | H17: =IF(OR(F17="abs",F17="",F17="ca"),0,G17-F17) -> 0 | I17: =MAX(H17-E17,0) -> 0 | J17: 8.5 | K17: =(I17*24)*J17 -> 0 | N17: 12 | O17: L | P17: =SUMPRODUCT(($B$6:$B$26=B17)*(($H$118:$H$138>0)+($H$90:$H$110>0)+($H$62:$H$82>0)+($H$34:$H$54>0)+($H$6:$H$26>0))) -> 0 | Q17: =SUM($E17+$E45+$E73+$E101+$E129) -> 1.625 | R17: =SUM($H17+$H45+$H73+$H101+$H129) -> 0 | S17: =SUM($I17+$I45+$I73+$I101+$I129) -> 0 | T17: =SUM(Q17+S17) -> 1.625 | U17: =(S17*24)*J17 -> 0
A18: 13 | B18: M | C18: 0.35416667 | D18: 0.77083333 | E18: =IF(OR(C18="abs",C18="",C18="CA"),0,D18-C18) -> 0.41666667 | F18: 0 | G18: 0 | H18: =IF(OR(F18="abs",F18="",F18="ca"),0,G18-F18) -> 0 | I18: =MAX(H18-E18,0) -> 0 | J18: 8.75 | K18: =(I18*24)*J18 -> 0 | N18: 13 | O18: M | P18: =SUMPRODUCT(($B$6:$B$26=B18)*(($H$118:$H$138>0)+($H$90:$H$110>0)+($H$62:$H$82>0)+($H$34:$H$54>0)+($H$6:$H$26>0))) -> 0 | Q18: =SUM($E18+$E46+$E74+$E102+$E130) -> 1.25 | R18: =SUM($H18+$H46+$H74+$H102+$H130) -> 0 | S18: =SUM($I18+$I46+$I74+$I102+$I130) -> 0 | T18: =SUM(Q18+S18) -> 1.25 | U18: =(S18*24)*J18 -> 0
A19: 14 | B19: N | C19: 0 | D19: 0 | E19: =IF(OR(C19="abs",C19="",C19="CA"),0,D19-C19) -> 0 | F19: 0 | G19: 0 | H19: 0 | I19: =MAX(H19-E19,0) -> 0 | J19: 9 | K19: =(I19*24)*J19 -> 0 | N19: 14 | O19: N | P19: =SUMPRODUCT(($B$6:$B$26=B19)*(($H$118:$H$138>0)+($H$90:$H$110>0)+($H$62:$H$82>0)+($H$34:$H$54>0)+($H$6:$H$26>0))) -> 0 | Q19: =SUM($E19+$E47+$E75+$E103+$E131) -> 0.52083333 | R19: =SUM($H19+$H47+$H75+$H103+$H131) -> 0 | S19: =SUM($I19+$I47+$I75+$I103+$I131) -> 0 | T19: =SUM(Q19+S19) -> 0.52083333 | U19: =(S19*24)*J19 -> 0
A20: 15 | B20: O | C20: 0.36458333 | D20: 0.68402778 | E20: =IF(OR(C20="abs",C20="",C20="CA"),0,D20-C20) -> 0.31944444 | F20: 0 | G20: 0 | H20: =IF(OR(F20="abs",F20="",F20="ca"),0,G20-F20) -> 0 | I20: =MAX(H20-E20,0) -> 0 | J20: 8.75 | K20: =(I20*24)*J20 -> 0 | N20: 15 | O20: O | P20: 0 | Q20: =SUM($E20+$E48+$E76+$E104+$E132) -> 0.95833333 | R20: 0 | S20: 0 | T20: =SUM(Q20+S20) -> 0.95833333 | U20: 0
A21: 16 | B21: P | C21: 0.41666667 | D21: 0.75 | E21: =IF(OR(C21="abs",C21="",C21="CA"),0,D21-C21) -> 0.33333333 | F21: 0 | G21: 0 | H21: =IF(OR(F21="abs",F21="",F21="ca"),0,G21-F21) -> 0 | I21: =MAX(H21-E21,0) -> 0 | J21: 7.75 | K21: =(I21*24)*J21 -> 0 | N21: 16 | O21: P | P21: 0 | Q21: =SUM($E21+$E49+$E77+$E105+$E133) -> 1.6666667 | R21: 0 | S21: 0 | T21: =SUM(Q21+S21) -> 1.6666667 | U21: 0
A22: 17 | B22: Q | C22: 0 | D22: 0 | E22: =IF(OR(C22="abs",C22="",C22="CA"),0,D22-C22) -> 0 | F22: 0 | G22: 0 | H22: =IF(OR(F22="abs",F22="",F22="ca"),0,G22-F22) -> 0 | I22: =MAX(H22-E22,0) -> 0 | J22: 8.75 | K22: =(I22*24)*J22 -> 0 | N22: 17 | O22: Q | P22: 0 | Q22: =SUM($E22+$E50+$E78+$E106+$E134) -> 0.97916667 | R22: =SUM($H22+$H50+$H78+$H106+$H134) -> 0 | S22: =SUM($I22+$I50+$I78+$I106+$I134) -> 0 | T22: =SUM(Q22+S22) -> 0.97916667 | U22: =(S22*24)*J22 -> 0
A23: 18 | B23: R | C23: 0.35416667 | D23: 0.66666667 | E23: =IF(OR(C23="abs",C23="",C23="CA"),0,D23-C23) -> 0.3125 | F23: 0 | G23: 0 | H23: =IF(OR(F23="abs",F23="",F23="ca"),0,G23-F23) -> 0 | I23: =MAX(H23-E23,0) -> 0 | J23: 8.25 | K23: =(I23*24)*J23 -> 0 | N23: 18 | O23: R | P23: =SUMPRODUCT(($B$6:$B$26=B23)*(($H$118:$H$138>0)+($H$90:$H$110>0)+($H$62:$H$82>0)+($H$34:$H$54>0)+($H$6:$H$26>0))) -> 0 | Q23: =SUM($E23+$E51+$E79+$E107+$E135) -> 1.25 | R23: =SUM($H23+$H51+$H79+$H107+$H135) -> 0 | S23: =SUM($I23+$I51+$I79+$I107+$I135) -> 0 | T23: =SUM(Q23+S23) -> 1.25 | U23: =(S23*24)*J23 -> 0
A24: 19 | I24: =MAX(H24-E24,0) -> 0 | N24: 19 | P24: =SUMPRODUCT(($B$6:$B$26=B24)*(($H$118:$H$138>0)+($H$90:$H$110>0)+($H$62:$H$82>0)+($H$34:$H$54>0)+($H$6:$H$26>0))) -> 0 | Q24: =SUM($E24+$E52+$E80+$E108+$E136) -> 0 | R24: =SUM($H24+$H52+$H80+$H108+$H136) -> 0 | S24: =SUM($I24+$I52+$I80+$I108+$I136) -> 0 | T24: =SUM(Q24+S24) -> 0 | U24: =(S24*24)*J24 -> 0
A25: 20 | I25: =MAX(H25-E25,0) -> 0 | N25: 20 | P25: =SUMPRODUCT(($B$6:$B$26=B25)*(($H$118:$H$138>0)+($H$90:$H$110>0)+($H$62:$H$82>0)+($H$34:$H$54>0)+($H$6:$H$26>0))) -> 0 | Q25: =SUM($E25+$E53+$E81+$E109+$E137) -> 0 | R25: =SUM($H25+$H53+$H81+$H109+$H137) -> 0 | S25: =SUM($I25+$I53+$I81+$I109+$I137) -> 0 | T25: =SUM(Q25+S25) -> 0 | U25: =(S25*24)*J25 -> 0
A26: 21 | I26: =MAX(H26-E26,0) -> 0 | N26: 21 | P26: =SUMPRODUCT(($B$6:$B$26=B26)*(($H$118:$H$138>0)+($H$90:$H$110>0)+($H$62:$H$82>0)+($H$34:$H$54>0)+($H$6:$H$26>0))) -> 0 | Q26: =SUM($E26+$E54+$E82+$E110+$E138) -> 0 | R26: =SUM($H26+$H54+$H82+$H110+$H138) -> 0 | S26: =SUM($I26+$I54+$I82+$I110+$I138) -> 0 | T26: =SUM(Q26+S26) -> 0 | U26: =(S26*24)*J26 -> 0
A27: 22 | I27: =MAX(H27-E27,0) -> 0 | N27: 22 | Q27: =SUM($E27+$E55+$E83+$E111+$E139) -> 0 | R27: =SUM($H27+$H55+$H83+$H111+$H139) -> 0 | S27: =SUM($I27+$I55+$I83+$I111+$I139) -> 0 | T27: =SUM(Q27+S27) -> 0 | U27: =(S27*24)*J27 -> 0
A28: 23 | I28: =MAX(H28-E28,0) -> 0 | N28: 23 | Q28: =SUM($E28+$E56+$E84+$E112+$E140) -> 0 | R28: =SUM($H28+$H56+$H84+$H112+$H140) -> 0 | S28: =SUM($I28+$I56+$I84+$I112+$I140) -> 0 | T28: =SUM(Q28+S28) -> 0 | U28: =(S28*24)*J28 -> 0
A29: 24 | I29: =MAX(H29-E29,0) -> 0 | N29: 24 | Q29: =SUM($E29+$E57+$E85+$E113+$E141) -> 0 | R29: =SUM($H29+$H57+$H85+$H113+$H141) -> 0 | S29: =SUM($I29+$I57+$I85+$I113+$I141) -> 0 | T29: =SUM(Q29+S29) -> 0 | U29: =(S29*24)*J29 -> 0
A30: 25 | I30: =MAX(H30-E30,0) -> 0 | N30: 25 | Q30: =SUM($E30+$E58+$E86+$E114+$E142) -> 0 | R30: =SUM($H30+$H58+$H86+$H114+$H142) -> 0 | S30: =SUM($I30+$I58+$I86+$I114+$I142) -> 0 | T30: =SUM(Q30+S30) -> 0 | U30: =(S30*24)*J30 -> 0
A31: TOTAL | I31: =SUM(I6:I30) -> 0 | K31: =SUM(K6:K30) -> 0 | P31: =SUM(P6:P30) -> 0 | Q31: =SUM(Q6:Q30) -> 19.833333 | R31: =SUM(R6:R30) -> 0 | T31: =SUM(T6:T30) -> 19.833333 | U31: =SUM(U6:U30) -> 0
Q32: =((11.5/24)*10)*5 -> 23.958333 | R32: =((11.5/24)*10)*5 -> 23.958333 | U32: =Q31/Q32 -> 0.82782609
C33: =C5+1 -> 43480
A34: 1 | B34: A | C34: 0.375 | D34: 0.70833333 | E34: =IF(OR(C34="abs",C34="",C34="CA"),0,D34-C34) -> 0.33333333 | F34: 0 | G34: 0 | H34: =IF(OR(F34="abs",F34="",F34="ca"),0,G34-F34) -> 0 | I34: =MAX(H34-E34,0) -> 0 | J34: 8.75 | K34: =(I34*24)*J34 -> 0
A35: 2 | B35: B | C35: 0.3125 | D35: 0.77083333 | E35: =IF(OR(C35="abs",C35="",C35="CA"),0,D35-C35) -> 0.45833333 | F35: 0 | G35: 0 | H35: =IF(OR(F35="abs",F35="",F35="ca"),0,G35-F35) -> 0 | I35: =MAX(H35-E35,0) -> 0 | J35: 8 | K35: =(I35*24)*J35 -> 0
A36: 3 | B36: C | C36: 0.3125 | D36: 0.75 | E36: =IF(OR(C36="abs",C36="",C36="CA"),0,D36-C36) -> 0.4375 | F36: 0 | G36: 0 | H36: =IF(OR(F36="abs",F36="",F36="ca"),0,G36-F36) -> 0 | I36: =MAX(H36-E36,0) -> 0 | J36: 8.75 | K36: =(I36*24)*J36 -> 0
A37: 4 | B37: D | C37: 0 | D37: 0 | E37: =IF(OR(C37="abs",C37="",C37="CA"),0,D37-C37) -> 0 | F37: 0 | G37: 0 | H37: =IF(OR(F37="abs",F37="",F37="ca"),0,G37-F37) -> 0 | I37: =MAX(H37-E37,0) -> 0 | J37: 9.75 | K37: =(I37*24)*J37 -> 0
A38: 5 | B38: E | C38: 0 | D38: 0 | E38: =IF(OR(C38="abs",C38="",C38="CA"),0,D38-C38) -> 0 | F38: 0 | G38: 0 | H38: =IF(OR(F38="abs",F38="",F38="ca"),0,G38-F38) -> 0 | I38: =MAX(H38-E38,0) -> 0 | J38: 9.25 | K38: =(I38*24)*J38 -> 0
A39: 6 | B39: F | C39: 0.32291667 | D39: 0.73958333 | E39: =IF(OR(C39="abs",C39="",C39="CA"),0,D39-C39) -> 0.41666667 | F39: 0 | G39: 0 | H39: =IF(OR(F39="abs",F39="",F39="ca"),0,G39-F39) -> 0 | I39: =MAX(H39-E39,0) -> 0 | J39: 8 | K39: =(I39*24)*J39 -> 0
A40: 7 | B40: G | C40: 0.375 | D40: 0.6875 | E40: =IF(OR(C40="abs",C40="",C40="CA"),0,D40-C40) -> 0.3125 | F40: 0 | G40: 0 | H40: =IF(OR(F40="abs",F40="",F40="ca"),0,G40-F40) -> 0 | I40: =MAX(H40-E40,0) -> 0 | J40: 9.5 | K40: =(I40*24)*J40 -> 0
A41: 8 | B41: H | C41: 0 | D41: 0 | E41: =IF(OR(C41="abs",C41="",C41="CA"),0,D41-C41) -> 0 | F41: 0 | G41: 0 | H41: =IF(OR(F41="abs",F41="",F41="ca"),0,G41-F41) -> 0 | I41: =MAX(H41-E41,0) -> 0 | J41: 9.5 | K41: =(I41*24)*J41 -> 0
...

Sheet Semaine 4
B1: Annèe : | C1: =YEAR(J1) -> 2019 | F1: Mois : | G1: =INDEX(T_Mois[Mois],MATCH(MONTH(J1),T_Mois[Nb],0)) -> janvier | I1: Date : | J1: ='Semaine 3'!C117+3 -> 43486
A2: Nombre d'enfant | B2: NOM et PRENOM | C2: Prévisionnel | F2: Réel | I2: Facture | N2: Nombre d'enfant | O2: NOM et PRENOM | P2: Présence / semaine | Q2: Total Heures Contrat semaines 02 | R2: Total Heures réelles semaines 02 | S2: Total Heures sup semaines 02 | T2: Total Heures facturables semaines 02 | U2: Total Dû semaines 02
C3: Heure d'arrivée | D3: Heure de départ | E3: Durée | F3: Heure d'arrivée | G3: Heure de départ | H3: Durée | I3: Durée Facturable | J3: Taux horaire | K3: Dû par la famille
A5: Semaine : | B5: =_xlfn.ISOWEEKNUM(J1) -> 4 | C5: =J1 -> 43486
A6: 1 | B6: A | C6: 0 | D6: 0 | E6: =IF(OR(C6="abs",C6="",C6="CA"),0,D6-C6) -> 0 | F6: 0 | G6: 0 | H6: =IF(OR(F6="abs",F6="",F6="ca"),0,G6-F6) -> 0 | I6: =MAX(H6-E6,0) -> 0 | J6: 8.75 | K6: =(I6*24)*J6 -> 0 | N6: 1 | O6: A | P6: =SUMPRODUCT(($B$6:$B$26=B6)*(($H$118:$H$138>0)+($H$90:$H$110>0)+($H$62:$H$82>0)+($H$34:$H$54>0)+($H$6:$H$26>0))) -> 0 | Q6: =SUM($E6+$E34+$E62+$E90+$E118) -> 1 | R6: =SUM($H6+$H34+$H62+$H90+$H118) -> 0 | S6: =SUM($I6+$I34+$I62+$I90+$I118) -> 0 | T6: =SUM(Q6+S6) -> 1 | U6: =(S6*24)*J6 -> 0
A7: 2 | B7: B | C7: 0.3125 | D7: 0.77083333 | E7: =IF(OR(C7="abs",C7="",C7="CA"),0,D7-C7) -> 0.45833333 | F7: 0 | G7: 0 | H7: =IF(OR(F7="abs",F7="",F7="ca"),0,G7-F7) -> 0 | I7: =MAX(H7-E7,0) -> 0 | J7: 8 | K7: =(I7*24)*J7 -> 0 | N7: 2 | O7: B | P7: =SUMPRODUCT(($B$6:$B$26=B7)*(($H$118:$H$138>0)+($H$90:$H$110>0)+($H$62:$H$82>0)+($H$34:$H$54>0)+($H$6:$H$26>0))) -> 0 | Q7: =SUM($E7+$E35+$E63+$E91+$E119) -> 2.0625 | R7: =SUM($H7+$H35+$H63+$H91+$H119) -> 0 | S7: =SUM($I7+$I35+$I63+$I91+$I119) -> 0 | T7: =SUM(Q7+S7) -> 2.0625 | U7: =(S7*24)*J7 -> 0
A8: 3 | B8: C | C8: 0.3125 | D8: 0.75 | E8: =IF(OR(C8="abs",C8="",C8="CA"),0,D8-C8) -> 0.4375 | F8: 0 | G8: 0 | H8: =IF(OR(F8="abs",F8="",F8="ca"),0,G8-F8) -> 0 | I8: =MAX(H8-E8,0) -> 0 | J8: 8.75 | K8: =(I8*24)*J8 -> 0 | N8: 3 | O8: C | P8: =SUMPRODUCT(($B$6:$B$26=B8)*(($H$118:$H$138>0)+($H$90:$H$110>0)+($H$62:$H$82>0)+($H$34:$H$54>0)+($H$6:$H$26>0))) -> 0 | Q8: =SUM($E8+$E36+$E64+$E92+$E120) -> 1.3125 | R8: =SUM($H8+$H36+$H64+$H92+$H120) -> 0 | S8: =SUM($I8+$I36+$I64+$I92+$I120) -> 0 | T8: =SUM(Q8+S8) -> 1.3125 | U8: =(S8*24)*J8 -> 0
A9: 4 | B9: D | C9: 0 | D9: 0 | E9: =IF(OR(C9="abs",C9="",C9="CA"),0,D9-C9) -> 0 | F9: 0 | G9: 0 | H9: =IF(OR(F9="abs",F9="",F9="ca"),0,G9-F9) -> 0 | I9: =MAX(H9-E9,0) -> 0 | J9: 9.75 | K9: =(I9*24)*J9 -> 0 | N9: 4 | O9: D | P9: =SUMPRODUCT(($B$6:$B$26=B9)*(($H$118:$H$138>0)+($H$90:$H$110>0)+($H$62:$H$82>0)+($H$34:$H$54>0)+($H$6:$H$26>0))) -> 0 | Q9: =SUM($E9+$E37+$E65+$E93+$E121) -> 0.39583333 | R9: =SUM($H9+$H37+$H65+$H93+$H121) -> 0 | S9: =SUM($I9+$I37+$I65+$I93+$I121) -> 0 | T9: =SUM(Q9+S9) -> 0.39583333 | U9: =(S9*24)*J9 -> 0
A10: 5 | B10: E | C10: 0.33333333 | D10: 0.75 | E10: =IF(OR(C10="abs",C10="",C10="CA"),0,D10-C10) -> 0.41666667 | F10: 0 | G10: 0 | H10: =IF(OR(F10="abs",F10="",F10="ca"),0,G10-F10) -> 0 | I10: =MAX(H10-E10,0) -> 0 | J10: 9.25 | K10: =(I10*24)*J10 -> 0 | N10: 5 | O10: E | P10: =SUMPRODUCT(($B$6:$B$26=B10)*(($H$118:$H$138>0)+($H$90:$H$110>0)+($H$62:$H$82>0)+($H$34:$H$54>0)+($H$6:$H$26>0))) -> 0 | Q10: =SUM($E10+$E38+$E66+$E94+$E122) -> 0.83333333 | R10: =SUM($H10+$H38+$H66+$H94+$H122) -> 0 | S10: =SUM($I10+$I38+$I66+$I94+$I122) -> 0 | T10: =SUM(Q10+S10) -> 0.83333333 | U10: =(S10*24)*J10 -> 0
A11: 6 | B11: F | C11: 0.375 | D11: 0.6875 | E11: =IF(OR(C11="abs",C11="",C11="CA"),0,D11-C11) -> 0.3125 | F11: 0 | G11: 0 | H11: =IF(OR(F11="abs",F11="",F11="ca"),0,G11-F11) -> 0 | I11: =MAX(H11-E11,0) -> 0 | J11: 8 | K11: =(I11*24)*J11 -> 0 | N11: 6 | O11: F | P11: =SUMPRODUCT(($B$6:$B$26=B11)*(($H$118:$H$138>0)+($H$90:$H$110>0)+($H$62:$H$82>0)+($H$34:$H$54>0)+($H$6:$H$26>0))) -> 0 | Q11: =SUM($E11+$E39+$E67+$E95+$E123) -> 1.4375 | R11: =SUM($H11+$H39+$H67+$H95+$H123) -> 0 | S11: =SUM($I11+$I39+$I67+$I95+$I123) -> 0 | T11: =SUM(Q11+S11) -> 1.4375 | U11: =(S11*24)*J11 -> 0
A12: 7 | B12: G | C12: 0 | D12: 0 | E12: =IF(OR(C12="abs",C12="",C12="CA"),0,D12-C12) -> 0 | F12: 0 | G12: 0 | H12: =IF(OR(F12="abs",F12="",F12="ca"),0,G12-F12) -> 0 | I12: =MAX(H12-E12,0) -> 0 | J12: 9.5 | K12: =(I12*24)*J12 -> 0 | N12: 7 | O12: G | P12: =SUMPRODUCT(($B$6:$B$26=B12)*(($H$118:$H$138>0)+($H$90:$H$110>0)+($H$62:$H$82>0)+($H$34:$H$54>0)+($H$6:$H$26>0))) -> 0 | Q12: =SUM($E12+$E40+$E68+$E96+$E124) -> 0.625 | R12: =SUM($H12+$H40+$H68+$H96+$H124) -> 0 | S12: =SUM($I12+$I40+$I68+$I96+$I124) -> 0 | T12: =SUM(Q12+S12) -> 0.625 | U12: =(S12*24)*J12 -> 0
A13: 8 | B13: H | C13: 0.3125 | D13: 0.75 | E13: =IF(OR(C13="abs",C13="",C13="CA"),0,D13-C13) -> 0.4375 | F13: 0 | G13: 0 | H13: =IF(OR(F13="abs",F13="",F13="ca"),0,G13-F13) -> 0 | I13: =MAX(H13-E13,0) -> 0 | J13: 9.5 | K13: =(I13*24)*J13 -> 0 | N13: 8 | O13: H | P13: =SUMPRODUCT(($B$6:$B$26=B13)*(($H$118:$H$138>0)+($H$90:$H$110>0)+($H$62:$H$82>0)+($H$34:$H$54>0)+($H$6:$H$26>0))) -> 0 | Q13: =SUM($E13+$E41+$E69+$E97+$E125) -> 0.875 | R13: =SUM($H13+$H41+$H69+$H97+$H125) -> 0 | S13: =SUM($I13+$I41+$I69+$I97+$I125) -> 0 | T13: =SUM(Q13+S13) -> 0.875 | U13: =(S13*24)*J13 -> 0
A14: 9 | B14: I | C14: 0.41666667 | D14: 0.70833333 | E14: =IF(OR(C14="abs",C14="",C14="CA"),0,D14-C14) -> 0.29166667 | F14: 0 | G14: 0 | H14: =IF(OR(F14="abs",F14="",F14="ca"),0,G14-F14) -> 0 | I14: =MAX(H14-E14,0) -> 0 | J14: 7.5 | K14: =(I14*24)*J14 -> 0 | N14: 9 | O14: I | P14: =SUMPRODUCT(($B$6:$B$26=B14)*(($H$118:$H$138>0)+($H$90:$H$110>0)+($H$62:$H$82>0)+($H$34:$H$54>0)+($H$6:$H$26>0))) -> 0 | Q14: =SUM($E14+$E42+$E70+$E98+$E126) -> 1.4583333 | R14: =SUM($H14+$H42+$H70+$H98+$H126) -> 0 | S14: =SUM($I14+$I42+$I70+$I98+$I126) -> 0 | T14: =SUM(Q14+S14) -> 1.4583333 | U14: =(S14*24)*J14 -> 0
A15: 10 | B15: J | C15: 0 | D15: 0 | E15: =IF(OR(C15="abs",C15="",C15="CA"),0,D15-C15) -> 0 | F15: 0 | G15: 0 | H15: =IF(OR(F15="abs",F15="",F15="ca"),0,G15-F15) -> 0 | I15: =MAX(H15-E15,0) -> 0 | J15: 9.75 | K15: =(I15*24)*J15 -> 0 | N15: 10 | O15: J | P15: =SUMPRODUCT(($B$6:$B$26=B15)*(($H$118:$H$138>0)+($H$90:$H$110>0)+($H$62:$H$82>0)+($H$34:$H$54>0)+($H$6:$H$26>0))) -> 0 | Q15: =SUM($E15+$E43+$E71+$E99+$E127) -> 0.39583333 | R15: =SUM($H15+$H43+$H71+$H99+$H127) -> 0 | S15: =SUM($I15+$I43+$I71+$I99+$I127) -> 0 | T15: =SUM(Q15+S15) -> 0.39583333 | U15: =(S15*24)*J15 -> 0
A16: 11 | B16: K | C16: 0 | D16: 0 | E16: =IF(OR(C16="abs",C16="",C16="CA"),0,D16-C16) -> 0 | F16: 0 | G16: 0 | H16: =IF(OR(F16="abs",F16="",F16="ca"),0,G16-F16) -> 0 | I16: =MAX(H16-E16,0) -> 0 | J16: 8.75 | K16: =(I16*24)*J16 -> 0 | N16: 11 | O16: K | P16: =SUMPRODUCT(($B$6:$B$26=B16)*(($H$118:$H$138>0)+($H$90:$H$110>0)+($H$62:$H$82>0)+($H$34:$H$54>0)+($H$6:$H$26>0))) -> 0 | Q16: =SUM($E16+$E44+$E72+$E100+$E128) -> 1.1875 | R16: =SUM($H16+$H44+$H72+$H100+$H128) -> 0 | S16: =SUM($I16+$I44+$I72+$I100+$I128) -> 0 | T16: =SUM(Q16+S16) -> 1.1875 | U16: =(S16*24)*J16 -> 0
A17: 12 | B17: L | C17: 0.3125 | D17: 0.71875 | E17: =IF(OR(C17="abs",C17="",C17="CA"),0,D17-C17) -> 0.40625 | F17: 0 | G17: 0 | H17: =IF(OR(F17="abs",F17="",F17="ca"),0,G17-F17) -> 0 | I17: =MAX(H17-E17,0) -> 0 | J17: 8.5 | K17: =(I17*24)*J17 -> 0 | N17: 12 | O17: L | P17: =SUMPRODUCT(($B$6:$B$26=B17)*(($H$118:$H$138>0)+($H$90:$H$110>0)+($H$62:$H$82>0)+($H$34:$H$54>0)+($H$6:$H$26>0))) -> 0 | Q17: =SUM($E17+$E45+$E73+$E101+$E129) -> 1.625 | R17: =SUM($H17+$H45+$H73+$H101+$H129) -> 0 | S17: =SUM($I17+$I45+$I73+$I101+$I129) -> 0 | T17: =SUM(Q17+S17) -> 1.625 | U17: =(S17*24)*J17 -> 0
A18: 13 | B18: M | C18: 0.35416667 | D18: 0.77083333 | E18: =IF(OR(C18="abs",C18="",C18="CA"),0,D18-C18) -> 0.41666667 | F18: 0 | G18: 0 | H18: =IF(OR(F18="abs",F18="",F18="ca"),0,G18-F18) -> 0 | I18: =MAX(H18-E18,0) -> 0 | J18: 8.75 | K18: =(I18*24)*J18 -> 0 | N18: 13 | O18: M | P18: =SUMPRODUCT(($B$6:$B$26=B18)*(($H$118:$H$138>0)+($H$90:$H$110>0)+($H$62:$H$82>0)+($H$34:$H$54>0)+($H$6:$H$26>0))) -> 0 | Q18: =SUM($E18+$E46+$E74+$E102+$E130) -> 1.25 | R18: =SUM($H18+$H46+$H74+$H102+$H130) -> 0 | S18: =SUM($I18+$I46+$I74+$I102+$I130) -> 0 | T18: =SUM(Q18+S18) -> 1.25 | U18: =(S18*24)*J18 -> 0
A19: 14 | B19: N | C19: 0 | D19: 0 | E19: =IF(OR(C19="abs",C19="",C19="CA"),0,D19-C19) -> 0 | F19: 0 | G19: 0 | H19: 0 | I19: =MAX(H19-E19,0) -> 0 | J19: 9 | K19: =(I19*24)*J19 -> 0 | N19: 14 | O19: N | P19: =SUMPRODUCT(($B$6:$B$26=B19)*(($H$118:$H$138>0)+($H$90:$H$110>0)+($H$62:$H$82>0)+($H$34:$H$54>0)+($H$6:$H$26>0))) -> 0 | Q19: =SUM($E19+$E47+$E75+$E103+$E131) -> 0.52083333 | R19: =SUM($H19+$H47+$H75+$H103+$H131) -> 0 | S19: =SUM($I19+$I47+$I75+$I103+$I131) -> 0 | T19: =SUM(Q19+S19) -> 0.52083333 | U19: =(S19*24)*J19 -> 0
A20: 15 | B20: O | C20: 0.36458333 | D20: 0.68402778 | E20: =IF(OR(C20="abs",C20="",C20="CA"),0,D20-C20) -> 0.31944444 | F20: 0 | G20: 0 | H20: =IF(OR(F20="abs",F20="",F20="ca"),0,G20-F20) -> 0 | I20: =MAX(H20-E20,0) -> 0 | J20: 8.75 | K20: =(I20*24)*J20 -> 0 | N20: 15 | O20: O | P20: 0 | Q20: =SUM($E20+$E48+$E76+$E104+$E132) -> 0.95833333 | R20: 0 | S20: 0 | T20: =SUM(Q20+S20) -> 0.95833333 | U20: 0
A21: 16 | B21: P | C21: 0.41666667 | D21: 0.75 | E21: =IF(OR(C21="abs",C21="",C21="CA"),0,D21-C21) -> 0.33333333 | F21: 0 | G21: 0 | H21: =IF(OR(F21="abs",F21="",F21="ca"),0,G21-F21) -> 0 | I21: =MAX(H21-E21,0) -> 0 | J21: 7.75 | K21: =(I21*24)*J21 -> 0 | N21: 16 | O21: P | P21: 0 | Q21: =SUM($E21+$E49+$E77+$E105+$E133) -> 1.6666667 | R21: 0 | S21: 0 | T21: =SUM(Q21+S21) -> 1.6666667 | U21: 0
A22: 17 | B22: Q | C22: 0 | D22: 0 | E22: =IF(OR(C22="abs",C22="",C22="CA"),0,D22-C22) -> 0 | F22: 0 | G22: 0 | H22: =IF(OR(F22="abs",F22="",F22="ca"),0,G22-F22) -> 0 | I22: =MAX(H22-E22,0) -> 0 | J22: 8.75 | K22: =(I22*24)*J22 -> 0 | N22: 17 | O22: Q | P22: 0 | Q22: =SUM($E22+$E50+$E78+$E106+$E134) -> 0.97916667 | R22: =SUM($H22+$H50+$H78+$H106+$H134) -> 0 | S22: =SUM($I22+$I50+$I78+$I106+$I134) -> 0 | T22: =SUM(Q22+S22) -> 0.97916667 | U22: =(S22*24)*J22 -> 0
A23: 18 | B23: R | C23: 0.35416667 | D23: 0.66666667 | E23: =IF(OR(C23="abs",C23="",C23="CA"),0,D23-C23) -> 0.3125 | F23: 0 | G23: 0 | H23: =IF(OR(F23="abs",F23="",F23="ca"),0,G23-F23) -> 0 | I23: =MAX(H23-E23,0) -> 0 | J23: 8.25 | K23: =(I23*24)*J23 -> 0 | N23: 18 | O23: R | P23: =SUMPRODUCT(($B$6:$B$26=B23)*(($H$118:$H$138>0)+($H$90:$H$110>0)+($H$62:$H$82>0)+($H$34:$H$54>0)+($H$6:$H$26>0))) -> 0 | Q23: =SUM($E23+$E51+$E79+$E107+$E135) -> 1.25 | R23: =SUM($H23+$H51+$H79+$H107+$H135) -> 0 | S23: =SUM($I23+$I51+$I79+$I107+$I135) -> 0 | T23: =SUM(Q23+S23) -> 1.25 | U23: =(S23*24)*J23 -> 0
A24: 19 | I24: =MAX(H24-E24,0) -> 0 | N24: 19 | P24: =SUMPRODUCT(($B$6:$B$26=B24)*(($H$118:$H$138>0)+($H$90:$H$110>0)+($H$62:$H$82>0)+($H$34:$H$54>0)+($H$6:$H$26>0))) -> 0 | Q24: =SUM($E24+$E52+$E80+$E108+$E136) -> 0 | R24: =SUM($H24+$H52+$H80+$H108+$H136) -> 0 | S24: =SUM($I24+$I52+$I80+$I108+$I136) -> 0 | T24: =SUM(Q24+S24) -> 0 | U24: =(S24*24)*J24 -> 0
A25: 20 | I25: =MAX(H25-E25,0) -> 0 | N25: 20 | P25: =SUMPRODUCT(($B$6:$B$26=B25)*(($H$118:$H$138>0)+($H$90:$H$110>0)+($H$62:$H$82>0)+($H$34:$H$54>0)+($H$6:$H$26>0))) -> 0 | Q25: =SUM($E25+$E53+$E81+$E109+$E137) -> 0 | R25: =SUM($H25+$H53+$H81+$H109+$H137) -> 0 | S25: =SUM($I25+$I53+$I81+$I109+$I137) -> 0 | T25: =SUM(Q25+S25) -> 0 | U25: =(S25*24)*J25 -> 0
A26: 21 | I26: =MAX(H26-E26,0) -> 0 | N26: 21 | P26: =SUMPRODUCT(($B$6:$B$26=B26)*(($H$118:$H$138>0)+($H$90:$H$110>0)+($H$62:$H$82>0)+($H$34:$H$54>0)+($H$6:$H$26>0))) -> 0 | Q26: =SUM($E26+$E54+$E82+$E110+$E138) -> 0 | R26: =SUM($H26+$H54+$H82+$H110+$H138) -> 0 | S26: =SUM($I26+$I54+$I82+$I110+$I138) -> 0 | T26: =SUM(Q26+S26) -> 0 | U26: =(S26*24)*J26 -> 0
A27: 22 | I27: =MAX(H27-E27,0) -> 0 | N27: 22 | Q27: =SUM($E27+$E55+$E83+$E111+$E139) -> 0 | R27: =SUM($H27+$H55+$H83+$H111+$H139) -> 0 | S27: =SUM($I27+$I55+$I83+$I111+$I139) -> 0 | T27: =SUM(Q27+S27) -> 0 | U27: =(S27*24)*J27 -> 0
A28: 23 | I28: =MAX(H28-E28,0) -> 0 | N28: 23 | Q28: =SUM($E28+$E56+$E84+$E112+$E140) -> 0 | R28: =SUM($H28+$H56+$H84+$H112+$H140) -> 0 | S28: =SUM($I28+$I56+$I84+$I112+$I140) -> 0 | T28: =SUM(Q28+S28) -> 0 | U28: =(S28*24)*J28 -> 0
A29: 24 | I29: =MAX(H29-E29,0) -> 0 | N29: 24 | Q29: =SUM($E29+$E57+$E85+$E113+$E141) -> 0 | R29: =SUM($H29+$H57+$H85+$H113+$H141) -> 0 | S29: =SUM($I29+$I57+$I85+$I113+$I141) -> 0 | T29: =SUM(Q29+S29) -> 0 | U29: =(S29*24)*J29 -> 0
A30: 25 | I30: =MAX(H30-E30,0) -> 0 | N30: 25 | Q30: =SUM($E30+$E58+$E86+$E114+$E142) -> 0 | R30: =SUM($H30+$H58+$H86+$H114+$H142) -> 0 | S30: =SUM($I30+$I58+$I86+$I114+$I142) -> 0 | T30: =SUM(Q30+S30) -> 0 | U30: =(S30*24)*J30 -> 0
