Workbook

Sheet BD
A1: identité | B1: Titre | C1: NOM/Prénom | D1: prénom | E1: Adresse | F1: CP / Localité | G1: foot | H1: tennis | I1: réunion
A2: =B2&" "&C2&" "&D2 -> Mme 11 22 | B2: Mme | C2: 11 | D2: 22 | E2: 4125 | F2: 25000 | G2: x | I2: 43728
A3: =B3&" "&C3&" "&D3 -> Mme 33 44 | B3: Mme | C3: 33 | D3: 44 | E3: 5412 | F3: 25000 | H3: x | I3: 43682
A4: =B4&" "&C4&" "&D4 -> Mme 55 66 | B4: Mme | C4: 55 | D4: 66 | E4: 3256 | F4: 25000 | H4: x | I4: 43725
A5: =B5&" "&C5&" "&D5 -> Mme 77 88 | B5: Mme | C5: 77 | D5: 88 | E5: 6523 | F5: 25000 | G5: x | I5: 43682
A6: =B6&" "&C6&" "&D6 -> Mme 99 10 | B6: Mme | C6: 99 | D6: 10 | E6: 6523 | F6: 25000 | G6: x | I6: 43682
A7: =B7&" "&C7&" "&D7
A8: =B8&" "&C8&" "&D8
A9: =B9&" "&C9&" "&D9
A10: =B10&" "&C10&" "&D10
A11: identité | B11: Titre | C11: NOM/Prénom | D11: prénom | E11: Adresse | F11: CP / Localité | G11: Sport | H11: réunion
A12: =B12&" "&C12&" "&D12 -> Mme 11 22 | B12: Mme | C12: 11 | D12: 22 | E12: 4125 | F12: 25000 | G12: Foot | H12: 43728
A13: =B13&" "&C13&" "&D13 -> Mme 33 44 | B13: Mme | C13: 33 | D13: 44 | E13: 5412 | F13: 25000 | G13: Tennis | H13: 43682
A14: =B14&" "&C14&" "&D14 -> Mme 55 66 | B14: Mme | C14: 55 | D14: 66 | E14: 3256 | F14: 25000 | G14: Tennis | H14: 43725
A15: =B15&" "&C15&" "&D15 -> Mme 77 88 | B15: Mme | C15: 77 | D15: 88 | E15: 6523 | F15: 25000 | G15: Foot | H15: 43682
A16: =B16&" "&C16&" "&D16 -> Mme 99 10 | B16: Mme | C16: 99 | D16: 10 | E16: 6523 | F16: 25000 | G16: Foot | H16: 43682
A17: =B17&" "&C17&" "&D17
A18: =B18&" "&C18&" "&D18
A19: =B19&" "&C19&" "&D19
A20: =B20&" "&C20&" "&D20
A21: =B21&" "&C21&" "&D21
A22: =B22&" "&C22&" "&D22
A23: =B23&" "&C23&" "&D23
A24: =B24&" "&C24&" "&D24
A25: =B25&" "&C25&" "&D25
A26: =B26&" "&C26&" "&D26
A27: =B27&" "&C27&" "&D27
A28: =B28&" "&C28&" "&D28
... A50: =B50&" "&C50&" "&D50

Sheet tableau_BP
E6: 43682 | F6: foot
B13: Identification | C13: Adresse | D13: Localité | E13: Date courrier fournisseur
B14: {=IFERROR(INDEX(BD!$A$2:$A$5,SMALL(IF(BD!$I$2:$I$5=$E$6,ROW(BD!$A$2:$A$5)-ROW(BD!$A$2)+1),ROWS(B$14:B14))),"")} -> Mme 33 44 | C14: {=IFERROR(INDEX(BD!$E$2:$E$5,SMALL(IF(BD!$I$2:$I$5=$E$6,ROW(BD!$A$2:$A$5)-ROW(BD!$A$2)+1),ROWS(B$14:B14))),"")} -> 5412 | D14: {=IFERROR(INDEX(BD!$F$2:$F$5,SMALL(IF(BD!$I$2:$I$5=$E$6,ROW(BD!$A$2:$A$5)-ROW(BD!$A$2)+1),ROWS(B$14:B14))),"")} -> 25000 | E14: {=IFERROR(INDEX(BD!#REF!,SMALL(IF(BD!$I$2:$I$5=$E$6,ROW(BD!$A$2:$A$5)-ROW(BD!$A$2)+1),ROWS(C$14:C14))),"")}
B15: {=IFERROR(INDEX(BD!$A$2:$A$5,SMALL(IF(BD!$I$2:$I$5=$E$6,ROW(BD!$A$2:$A$5)-ROW(BD!$A$2)+1),ROWS(B$14:B15))),"")} -> Mme 77 88 | C15: {=IFERROR(INDEX(BD!$E$2:$E$5,SMALL(IF(BD!$I$2:$I$5=$E$6,ROW(BD!$A$2:$A$5)-ROW(BD!$A$2)+1),ROWS(B$14:B15))),"")} -> 6523 | D15: {=IFERROR(INDEX(BD!$F$2:$F$5,SMALL(IF(BD!$I$2:$I$5=$E$6,ROW(BD!$A$2:$A$5)-ROW(BD!$A$2)+1),ROWS(B$14:B15))),"")} -> 25000 | E15: {=IFERROR(INDEX(BD!#REF!,SMALL(IF(BD!$I$2:$I$5=$E$6,ROW(BD!$A$2:$A$5)-ROW(BD!$A$2)+1),ROWS(C$14:C15))),"")}
B16: {=IFERROR(INDEX(BD!$A$2:$A$5,SMALL(IF(BD!$I$2:$I$5=$E$6,ROW(BD!$A$2:$A$5)-ROW(BD!$A$2)+1),ROWS(B$14:B16))),"")} | C16: {=IFERROR(INDEX(BD!$E$2:$E$5,SMALL(IF(BD!$I$2:$I$5=$E$6,ROW(BD!$A$2:$A$5)-ROW(BD!$A$2)+1),ROWS(B$14:B16))),"")} | D16: {=IFERROR(INDEX(BD!$F$2:$F$5,SMALL(IF(BD!$I$2:$I$5=$E$6,ROW(BD!$A$2:$A$5)-ROW(BD!$A$2)+1),ROWS(B$14:B16))),"")} | E16: {=IFERROR(INDEX(BD!#REF!,SMALL(IF(BD!$I$2:$I$5=$E$6,ROW(BD!$A$2:$A$5)-ROW(BD!$A$2)+1),ROWS(C$14:C16))),"")}
B17: {=IFERROR(INDEX(BD!$A$2:$A$5,SMALL(IF(BD!$I$2:$I$5=$E$6,ROW(BD!$A$2:$A$5)-ROW(BD!$A$2)+1),ROWS(B$14:B17))),"")} | C17: {=IFERROR(INDEX(BD!$E$2:$E$5,SMALL(IF(BD!$I$2:$I$5=$E$6,ROW(BD!$A$2:$A$5)-ROW(BD!$A$2)+1),ROWS(B$14:B17))),"")} | D17: {=IFERROR(INDEX(BD!$F$2:$F$5,SMALL(IF(BD!$I$2:$I$5=$E$6,ROW(BD!$A$2:$A$5)-ROW(BD!$A$2)+1),ROWS(B$14:B17))),"")} | E17: {=IFERROR(INDEX(BD!#REF!,SMALL(IF(BD!$I$2:$I$5=$E$6,ROW(BD!$A$2:$A$5)-ROW(BD!$A$2)+1),ROWS(C$14:C17))),"")}
B18: {=IFERROR(INDEX(BD!$A$2:$A$5,SMALL(IF(BD!$I$2:$I$5=$E$6,ROW(BD!$A$2:$A$5)-ROW(BD!$A$2)+1),ROWS(B$14:B18))),"")} | C18: {=IFERROR(INDEX(BD!$E$2:$E$5,SMALL(IF(BD!$I$2:$I$5=$E$6,ROW(BD!$A$2:$A$5)-ROW(BD!$A$2)+1),ROWS(B$14:B18))),"")} | D18: {=IFERROR(INDEX(BD!$F$2:$F$5,SMALL(IF(BD!$I$2:$I$5=$E$6,ROW(BD!$A$2:$A$5)-ROW(BD!$A$2)+1),ROWS(B$14:B18))),"")} | E18: {=IFERROR(INDEX(BD!#REF!,SMALL(IF(BD!$I$2:$I$5=$E$6,ROW(BD!$A$2:$A$5)-ROW(BD!$A$2)+1),ROWS(C$14:C18))),"")}
B19: {=IFERROR(INDEX(BD!$A$2:$A$5,SMALL(IF(BD!$I$2:$I$5=$E$6,ROW(BD!$A$2:$A$5)-ROW(BD!$A$2)+1),ROWS(B$14:B19))),"")} | C19: {=IFERROR(INDEX(BD!$E$2:$E$5,SMALL(IF(BD!$I$2:$I$5=$E$6,ROW(BD!$A$2:$A$5)-ROW(BD!$A$2)+1),ROWS(B$14:B19))),"")} | D19: {=IFERROR(INDEX(BD!$F$2:$F$5,SMALL(IF(BD!$I$2:$I$5=$E$6,ROW(BD!$A$2:$A$5)-ROW(BD!$A$2)+1),ROWS(B$14:B19))),"")} | E19: {=IFERROR(INDEX(BD!#REF!,SMALL(IF(BD!$I$2:$I$5=$E$6,ROW(BD!$A$2:$A$5)-ROW(BD!$A$2)+1),ROWS(C$14:C19))),"")}
B23: réunion | C23: 43682 | G23: Avec 2 colonnes distinctes pour l'activité
B24: foot | C24: (Tous)
B25: tennis | C25: (vide)
B27: identité | C27: Adresse | D27: CP / Localité
B28: Mme 77 88 | C28: 6523 | D28: 25000
B29: Mme 99 10 | C29: 6523 | D29: 25000
B30: Total général
B39: réunion | C39: 43682 | G39: Avec 1 colonne pour l'activité
B40: Sport | C40: Foot | G40: Possibilité d'utiliser une liste déroulante pour le choix
B42: identité | C42: Adresse | D42: CP / Localité
B43: Mme 77 88 | C43: 6523 | D43: 25000
B44: Mme 99 10 | C44: 6523 | D44: 25000
