Workbook

Sheet Source
A1: Equipe | B1: Date | C1: Heure MO Totale
A2: 01 | B2: 43886 | C2: 8 | E2: =IF(ISNUMBER(MATCH('Resultat '!$D$2,B2,0)),ROW()-1,"") | F2: =IFERROR(SMALL(E:E,ROW(F1)),"") -> 2
A3: 01 | B3: 43887 | C3: 8 | E3: =IF(ISNUMBER(MATCH('Resultat '!$D$2,B3,0)),ROW()-1,"") -> 2 | F3: =IFERROR(SMALL(E:E,ROW(F2)),"") -> 15
A4: 01 | B4: 43888 | C4: 8 | E4: =IF(ISNUMBER(MATCH('Resultat '!$D$2,B4,0)),ROW()-1,"") | F4: =IFERROR(SMALL(E:E,ROW(F3)),"")
A5: 01 | B5: 43888 | C5: 8 | E5: =IF(ISNUMBER(MATCH('Resultat '!$D$2,B5,0)),ROW()-1,"") | F5: =IFERROR(SMALL(E:E,ROW(F4)),"")
A6: 01 | B6: 43890 | C6: 16 | E6: =IF(ISNUMBER(MATCH('Resultat '!$D$2,B6,0)),ROW()-1,"") | F6: =IFERROR(SMALL(E:E,ROW(F5)),"")
A7: 01 | B7: 43891 | C7: 8 | E7: =IF(ISNUMBER(MATCH('Resultat '!$D$2,B7,0)),ROW()-1,"") | F7: =IFERROR(SMALL(E:E,ROW(F6)),"")
A8: 01 | B8: 43892 | C8: 8 | E8: =IF(ISNUMBER(MATCH('Resultat '!$D$2,B8,0)),ROW()-1,"") | F8: =IFERROR(SMALL(E:E,ROW(F7)),"")
A9: 07 | B9: 43893 | C9: 16 | E9: =IF(ISNUMBER(MATCH('Resultat '!$D$2,B9,0)),ROW()-1,"") | F9: =IFERROR(SMALL(E:E,ROW(F8)),"")
A10: 07 | B10: 43886 | C10: 8 | E10: =IF(ISNUMBER(MATCH('Resultat '!$D$2,B10,0)),ROW()-1,"") | F10: =IFERROR(SMALL(E:E,ROW(F9)),"")
A11: 07 | B11: 43895 | C11: 32 | E11: =IF(ISNUMBER(MATCH('Resultat '!$D$2,B11,0)),ROW()-1,"") | F11: =IFERROR(SMALL(E:E,ROW(F10)),"")
A12: 07 | B12: 43896 | C12: 1 | E12: =IF(ISNUMBER(MATCH('Resultat '!$D$2,B12,0)),ROW()-1,"") | F12: =IFERROR(SMALL(E:E,ROW(F11)),"")
A13: 07 | B13: 43897 | C13: 16 | E13: =IF(ISNUMBER(MATCH('Resultat '!$D$2,B13,0)),ROW()-1,"") | F13: =IFERROR(SMALL(E:E,ROW(F12)),"")
... A33: 07 | B33: 43917 | C33: 8 | E33: =IF(ISNUMBER(MATCH('Resultat '!$D$2,B33,0)),ROW()-1,"") | F33: =IFERROR(SMALL(E:E,ROW(F32)),"")
A34: 07 | B34: 43918 | C34: 8 | F34: =IFERROR(SMALL(E:E,ROW(F33)),"")

Sheet Resultat 
B2: Date | D2: =TODAY() -> 43887
B4: Equipe | C4: Date | D4: Heure MO Totale
B5: =IFERROR(INDEX(Tableau1[Equipe],Source!F2),"") -> 01 | C5: =IFERROR(INDEX(Tableau1[Date],Source!F2),"") -> 43887 | D5: =IFERROR(INDEX(Tableau1[Heure MO Totale],Source!F2),"") -> 8
B6: =IFERROR(INDEX(Tableau1[Equipe],Source!F3),"") -> 07 | C6: =IFERROR(INDEX(Tableau1[Date],Source!F3),"") -> 43887 | D6: =IFERROR(INDEX(Tableau1[Heure MO Totale],Source!F3),"") -> 8
B7: =IFERROR(INDEX(Tableau1[Equipe],Source!F4),"") | C7: =IFERROR(INDEX(Tableau1[Date],Source!F4),"") | D7: =IFERROR(INDEX(Tableau1[Heure MO Totale],Source!F4),"")
B8: =IFERROR(INDEX(Tableau1[Equipe],Source!F5),"") | C8: =IFERROR(INDEX(Tableau1[Date],Source!F5),"") | D8: =IFERROR(INDEX(Tableau1[Heure MO Totale],Source!F5),"")
B9: =IFERROR(INDEX(Tableau1[Equipe],Source!F6),"") | C9: =IFERROR(INDEX(Tableau1[Date],Source!F6),"") | D9: =IFERROR(INDEX(Tableau1[Heure MO Totale],Source!F6),"")
B10: =IFERROR(INDEX(Tableau1[Equipe],Source!F7),"") | C10: =IFERROR(INDEX(Tableau1[Date],Source!F7),"") | D10: =IFERROR(INDEX(Tableau1[Heure MO Totale],Source!F7),"")
B11: =IFERROR(INDEX(Tableau1[Equipe],Source!F8),"") | C11: =IFERROR(INDEX(Tableau1[Date],Source!F8),"") | D11: =IFERROR(INDEX(Tableau1[Heure MO Totale],Source!F8),"")
B12: =IFERROR(INDEX(Tableau1[Equipe],Source!F9),"") | C12: =IFERROR(INDEX(Tableau1[Date],Source!F9),"") | D12: =IFERROR(INDEX(Tableau1[Heure MO Totale],Source!F9),"")
B13: =IFERROR(INDEX(Tableau1[Equipe],Source!F10),"") | C13: =IFERROR(INDEX(Tableau1[Date],Source!F10),"") | D13: =IFERROR(INDEX(Tableau1[Heure MO Totale],Source!F10),"")
B14: =IFERROR(INDEX(Tableau1[Equipe],Source!F11),"") | C14: =IFERROR(INDEX(Tableau1[Date],Source!F11),"") | D14: =IFERROR(INDEX(Tableau1[Heure MO Totale],Source!F11),"")
B15: =IFERROR(INDEX(Tableau1[Equipe],Source!F12),"") | C15: =IFERROR(INDEX(Tableau1[Date],Source!F12),"") | D15: =IFERROR(INDEX(Tableau1[Heure MO Totale],Source!F12),"")
B16: =IFERROR(INDEX(Tableau1[Equipe],Source!F13),"") | C16: =IFERROR(INDEX(Tableau1[Date],Source!F13),"") | D16: =IFERROR(INDEX(Tableau1[Heure MO Totale],Source!F13),"")
