Workbook
Name L_Code: #REF!
Name L_Code: #REF!
Name P_2000087: Tableau5[P_2000087]
Name P_2010101: Tableau6[P_2010101]
Name P_2050075: Tableau7[P_2050075]
Name P_2050136: Tableau8[P_2050136]
Name P_2060002: Tableau9[P_2060002]
Name P_2060172: Tableau10[P_2060172]
Name P_2090025: Tableau11[P_2090025]
Name P_2110153: Tableau12[P_2110153]
Name P_2130244: Tableau13[P_2130244]
Name P_2150116: Tableau14[P_2150116]
Name P_2150209: Tableau15[P_2150209]
Name P_2150279: Tableau16[P_2150279]
Name P_2159999: Tableau17[P_2159999]
Name P_2160456: Tableau18[P_2160456]
Name P_2160727: Tableau19[P_2160727]
Name P_2160805: Tableau20[P_2160805]
Name P_2170139: Tableau21[P_2170139]
Name P_2180347: Tableau22[P_2180347]
Name P_8300243: Tableau23[P_8300243]
Name P_8800843: Tableau24[P_8800843]
Name P_8900620: Tableau25[P_8900620]
Name P_9100034: Tableau26[P_9100034]
Name P_9300490: Tableau27[P_9300490]
Name P_9500007: Tableau28[P_9500007]
Name P_9500234: Tableau29[P_9500234]
Name P_9500579: Tableau30[P_9500579]
Name P_9600097: Tableau31[P_9600097]
Name P_9600376: Tableau32[P_9600376]
Name P_9800400: Tableau33[P_9800400]
Name Usages: OFFSET(#REF!,0,0,2000,)
Name Usages: OFFSET(#REF!,0,0,2000,)

Sheet Registre contrôle N°AMM
C1: Extraction ephyanses au 18/02/2019 - Données ouvertes du catalogue des produits phytopharmaceutiques, adjuvants, matières fertilisantes et support de culture, produits mixtes et mélanges – e.Phy
A2: Saisir n° AMM | C2: nom produit | D2: type produit | E2: seconds noms commerciaux | F2: gamme usage | G2: mentions autorisees | H2: Substances actives | I2: date decision | J2: Vente libre service
A3: P_2150209 | B3: Traitements généraux*Désherbage*Cult. Installées (1) | C3: =IFERROR(VLOOKUP(RIGHT($A3,LEN($A3)-2)*1,T_UsageProduits[],4,0),"") -> ROUNDUP VISION | D3: =IFERROR(VLOOKUP(RIGHT($A3,LEN($A3)-2)*1,T_UsageProduits[],2,0),"") -> PPP | E3: =IFERROR(VLOOKUP(RIGHT($A3,LEN($A3)-2)*1,T_UsageProduits[],5,0),"") -> ROUNDUP PERFECT | ROUNDUP SYSTEM | F3: =IFERROR(VLOOKUP(RIGHT($A3,LEN($A3)-2)*1,T_UsageProduits[],8,0),"") -> Professionnel | G3: =IFERROR(VLOOKUP(RIGHT($A3,LEN($A3)-2)*1,T_UsageProduits[],9,0),"") -> 0 | H3: =IFERROR(VLOOKUP(RIGHT($A3,LEN($A3)-2)*1,T_UsageProduits[],10,0),"") -> glyphosate sel de potassium (Glyphosate) 441.0 g/L | I3: =IFERROR(VLOOKUP(RIGHT($A3,LEN($A3)-2)*1,usages_des_produits_autorises_v!$A:$P,15,FALSE),"") -> 42571 | J3: =IFERROR(IF(F3="Professionnel","Produit professionnel",VLOOKUP(RIGHT($A3,LEN($A3)-2)*1,usages_des_produits_autorises_v!$A:$AG,33,FALSE)),"") -> Produit professionnel
A4: P_2110153 | B4: Blé*Trt Part.Aer.*Limit. Croiss. Org. Aériens | C4: =IFERROR(VLOOKUP(RIGHT($A4,LEN($A4)-2)*1,T_UsageProduits[],4,0),"") -> BOGOTA | D4: =IFERROR(VLOOKUP(RIGHT($A4,LEN($A4)-2)*1,T_UsageProduits[],2,0),"") -> PPP | E4: =IFERROR(VLOOKUP(RIGHT($A4,LEN($A4)-2)*1,T_UsageProduits[],5,0),"") -> 0 | F4: =IFERROR(VLOOKUP(RIGHT($A4,LEN($A4)-2)*1,T_UsageProduits[],8,0),"") -> Professionnel | G4: =IFERROR(VLOOKUP(RIGHT($A4,LEN($A4)-2)*1,T_UsageProduits[],9,0),"") -> 0 | H4: =IFERROR(VLOOKUP(RIGHT($A4,LEN($A4)-2)*1,T_UsageProduits[],10,0),"") -> chlorure de chlorméquat (Chlormequat) 300.0 g/L | ethéphon (Ethephon) 150.0 g/L | I4: =IFERROR(VLOOKUP(RIGHT($A4,LEN($A4)-2)*1,usages_des_produits_autorises_v!$A:$P,15,FALSE),"") -> 43329 | J4: =IFERROR(IF(F4="Professionnel","Produit professionnel",VLOOKUP(RIGHT($A4,LEN($A4)-2)*1,usages_des_produits_autorises_v!$A:$AG,33,FALSE)),"") -> Produit professionnel
A5: P_9600097 | B5: Olivier*Trt Part.Aer.*Maladie de l'oeil de paon | C5: =IFERROR(VLOOKUP(RIGHT($A5,LEN($A5)-2)*1,T_UsageProduits[],4,0),"") -> CHAMP FLO | D5: =IFERROR(VLOOKUP(RIGHT($A5,LEN($A5)-2)*1,T_UsageProduits[],2,0),"") -> PPP | E5: =IFERROR(VLOOKUP(RIGHT($A5,LEN($A5)-2)*1,T_UsageProduits[],5,0),"") -> 0 | F5: =IFERROR(VLOOKUP(RIGHT($A5,LEN($A5)-2)*1,T_UsageProduits[],8,0),"") -> Amateur / emploi autorisé dans les jardins | G5: =IFERROR(VLOOKUP(RIGHT($A5,LEN($A5)-2)*1,T_UsageProduits[],9,0),"") -> Emploi autorisé dans les jardins | Utilisable en agriculture biologique | H5: =IFERROR(VLOOKUP(RIGHT($A5,LEN($A5)-2)*1,T_UsageProduits[],10,0),"") -> cuivre de l'hydroxyde de cuivre (Copper compounds) 552.74 g/L | I5: =IFERROR(VLOOKUP(RIGHT($A5,LEN($A5)-2)*1,usages_des_produits_autorises_v!$A:$P,15,FALSE),"") -> 40213 | J5: =IFERROR(IF(F5="Professionnel","Produit professionnel",VLOOKUP(RIGHT($A5,LEN($A5)-2)*1,usages_des_produits_autorises_v!$A:$AG,33,FALSE)),"") -> Vente libre service autorisée
C6: =IFERROR(VLOOKUP(RIGHT($A6,LEN($A6)-2)*1,T_UsageProduits[],4,0),"") | D6: =IFERROR(VLOOKUP(RIGHT($A6,LEN($A6)-2)*1,T_UsageProduits[],2,0),"") | E6: =IFERROR(VLOOKUP(RIGHT($A6,LEN($A6)-2)*1,T_UsageProduits[],5,0),"") | F6: =IFERROR(VLOOKUP(RIGHT($A6,LEN($A6)-2)*1,T_UsageProduits[],8,0),"") | G6: =IFERROR(VLOOKUP(RIGHT($A6,LEN($A6)-2)*1,T_UsageProduits[],9,0),"") | H6: =IFERROR(VLOOKUP(RIGHT($A6,LEN($A6)-2)*1,T_UsageProduits[],10,0),"") | I6: =IFERROR(VLOOKUP(RIGHT($A6,LEN($A6)-2)*1,usages_des_produits_autorises_v!$A:$P,15,FALSE),"") | J6: =IFERROR(IF(F6="Professionnel","Produit professionnel",VLOOKUP(RIGHT($A6,LEN($A6)-2)*1,usages_des_produits_autorises_v!$A:$AG,33,FALSE)),"")
C7: =IFERROR(VLOOKUP(RIGHT($A7,LEN($A7)-2)*1,T_UsageProduits[],4,0),"") | D7: =IFERROR(VLOOKUP(RIGHT($A7,LEN($A7)-2)*1,T_UsageProduits[],2,0),"") | E7: =IFERROR(VLOOKUP(RIGHT($A7,LEN($A7)-2)*1,T_UsageProduits[],5,0),"") | F7: =IFERROR(VLOOKUP(RIGHT($A7,LEN($A7)-2)*1,T_UsageProduits[],8,0),"") | G7: =IFERROR(VLOOKUP(RIGHT($A7,LEN($A7)-2)*1,T_UsageProduits[],9,0),"") | H7: =IFERROR(VLOOKUP(RIGHT($A7,LEN($A7)-2)*1,T_UsageProduits[],10,0),"") | I7: =IFERROR(VLOOKUP(RIGHT($A7,LEN($A7)-2)*1,usages_des_produits_autorises_v!$A:$P,15,FALSE),"") | J7: =IFERROR(IF(F7="Professionnel","Produit professionnel",VLOOKUP(RIGHT($A7,LEN($A7)-2)*1,usages_des_produits_autorises_v!$A:$AG,33,FALSE)),"")
C8: =IFERROR(VLOOKUP(RIGHT($A8,LEN($A8)-2)*1,T_UsageProduits[],4,0),"") | D8: =IFERROR(VLOOKUP(RIGHT($A8,LEN($A8)-2)*1,T_UsageProduits[],2,0),"") | E8: =IFERROR(VLOOKUP(RIGHT($A8,LEN($A8)-2)*1,T_UsageProduits[],5,0),"") | F8: =IFERROR(VLOOKUP(RIGHT($A8,LEN($A8)-2)*1,T_UsageProduits[],8,0),"") | G8: =IFERROR(VLOOKUP(RIGHT($A8,LEN($A8)-2)*1,T_UsageProduits[],9,0),"") | H8: =IFERROR(VLOOKUP(RIGHT($A8,LEN($A8)-2)*1,T_UsageProduits[],10,0),"") | I8: =IFERROR(VLOOKUP(RIGHT($A8,LEN($A8)-2)*1,usages_des_produits_autorises_v!$A:$P,15,FALSE),"") | J8: =IFERROR(IF(F8="Professionnel","Produit professionnel",VLOOKUP(RIGHT($A8,LEN($A8)-2)*1,usages_des_produits_autorises_v!$A:$AG,33,FALSE)),"")
C9: =IFERROR(VLOOKUP(RIGHT($A9,LEN($A9)-2)*1,T_UsageProduits[],4,0),"") | D9: =IFERROR(VLOOKUP(RIGHT($A9,LEN($A9)-2)*1,T_UsageProduits[],2,0),"") | E9: =IFERROR(VLOOKUP(RIGHT($A9,LEN($A9)-2)*1,T_UsageProduits[],5,0),"") | F9: =IFERROR(VLOOKUP(RIGHT($A9,LEN($A9)-2)*1,T_UsageProduits[],8,0),"") | G9: =IFERROR(VLOOKUP(RIGHT($A9,LEN($A9)-2)*1,T_UsageProduits[],9,0),"") | H9: =IFERROR(VLOOKUP(RIGHT($A9,LEN($A9)-2)*1,T_UsageProduits[],10,0),"") | I9: =IFERROR(VLOOKUP(RIGHT($A9,LEN($A9)-2)*1,usages_des_produits_autorises_v!$A:$P,15,FALSE),"") | J9: =IFERROR(IF(F9="Professionnel","Produit professionnel",VLOOKUP(RIGHT($A9,LEN($A9)-2)*1,usages_des_produits_autorises_v!$A:$AG,33,FALSE)),"")
C10: =IFERROR(VLOOKUP(RIGHT($A10,LEN($A10)-2)*1,T_UsageProduits[],4,0),"") | D10: =IFERROR(VLOOKUP(RIGHT($A10,LEN($A10)-2)*1,T_UsageProduits[],2,0),"") | E10: =IFERROR(VLOOKUP(RIGHT($A10,LEN($A10)-2)*1,T_UsageProduits[],5,0),"") | F10: =IFERROR(VLOOKUP(RIGHT($A10,LEN($A10)-2)*1,T_UsageProduits[],8,0),"") | G10: =IFERROR(VLOOKUP(RIGHT($A10,LEN($A10)-2)*1,T_UsageProduits[],9,0),"") | H10: =IFERROR(VLOOKUP(RIGHT($A10,LEN($A10)-2)*1,T_UsageProduits[],10,0),"") | I10: =IFERROR(VLOOKUP(RIGHT($A10,LEN($A10)-2)*1,usages_des_produits_autorises_v!$A:$P,15,FALSE),"") | J10: =IFERROR(IF(F10="Professionnel","Produit professionnel",VLOOKUP(RIGHT($A10,LEN($A10)-2)*1,usages_des_produits_autorises_v!$A:$AG,33,FALSE)),"")
C11: =IFERROR(VLOOKUP(RIGHT($A11,LEN($A11)-2)*1,T_UsageProduits[],4,0),"") | D11: =IFERROR(VLOOKUP(RIGHT($A11,LEN($A11)-2)*1,T_UsageProduits[],2,0),"") | E11: =IFERROR(VLOOKUP(RIGHT($A11,LEN($A11)-2)*1,T_UsageProduits[],5,0),"") | F11: =IFERROR(VLOOKUP(RIGHT($A11,LEN($A11)-2)*1,T_UsageProduits[],8,0),"") | G11: =IFERROR(VLOOKUP(RIGHT($A11,LEN($A11)-2)*1,T_UsageProduits[],9,0),"") | H11: =IFERROR(VLOOKUP(RIGHT($A11,LEN($A11)-2)*1,T_UsageProduits[],10,0),"") | I11: =IFERROR(VLOOKUP(RIGHT($A11,LEN($A11)-2)*1,usages_des_produits_autorises_v!$A:$P,15,FALSE),"") | J11: =IFERROR(IF(F11="Professionnel","Produit professionnel",VLOOKUP(RIGHT($A11,LEN($A11)-2)*1,usages_des_produits_autorises_v!$A:$AG,33,FALSE)),"")
C12: =IFERROR(VLOOKUP(RIGHT($A12,LEN($A12)-2)*1,T_UsageProduits[],4,0),"") | D12: =IFERROR(VLOOKUP(RIGHT($A12,LEN($A12)-2)*1,T_UsageProduits[],2,0),"") | E12: =IFERROR(VLOOKUP(RIGHT($A12,LEN($A12)-2)*1,T_UsageProduits[],5,0),"") | F12: =IFERROR(VLOOKUP(RIGHT($A12,LEN($A12)-2)*1,T_UsageProduits[],8,0),"") | G12: =IFERROR(VLOOKUP(RIGHT($A12,LEN($A12)-2)*1,T_UsageProduits[],9,0),"") | H12: =IFERROR(VLOOKUP(RIGHT($A12,LEN($A12)-2)*1,T_UsageProduits[],10,0),"") | I12: =IFERROR(VLOOKUP(RIGHT($A12,LEN($A12)-2)*1,usages_des_produits_autorises_v!$A:$P,15,FALSE),"") | J12: =IFERROR(IF(F12="Professionnel","Produit professionnel",VLOOKUP(RIGHT($A12,LEN($A12)-2)*1,usages_des_produits_autorises_v!$A:$AG,33,FALSE)),"")
C13: =IFERROR(VLOOKUP(RIGHT($A13,LEN($A13)-2)*1,T_UsageProduits[],4,0),"") | D13: =IFERROR(VLOOKUP(RIGHT($A13,LEN($A13)-2)*1,T_UsageProduits[],2,0),"") | E13: =IFERROR(VLOOKUP(RIGHT($A13,LEN($A13)-2)*1,T_UsageProduits[],5,0),"") | F13: =IFERROR(VLOOKUP(RIGHT($A13,LEN($A13)-2)*1,T_UsageProduits[],8,0),"") | G13: =IFERROR(VLOOKUP(RIGHT($A13,LEN($A13)-2)*1,T_UsageProduits[],9,0),"") | H13: =IFERROR(VLOOKUP(RIGHT($A13,LEN($A13)-2)*1,T_UsageProduits[],10,0),"") | I13: =IFERROR(VLOOKUP(RIGHT($A13,LEN($A13)-2)*1,usages_des_produits_autorises_v!$A:$P,15,FALSE),"") | J13: =IFERROR(IF(F13="Professionnel","Produit professionnel",VLOOKUP(RIGHT($A13,LEN($A13)-2)*1,usages_des_produits_autorises_v!$A:$AG,33,FALSE)),"")
C14: =IFERROR(VLOOKUP(RIGHT($A14,LEN($A14)-2)*1,T_UsageProduits[],4,0),"") | D14: =IFERROR(VLOOKUP(RIGHT($A14,LEN($A14)-2)*1,T_UsageProduits[],2,0),"") | E14: =IFERROR(VLOOKUP(RIGHT($A14,LEN($A14)-2)*1,T_UsageProduits[],5,0),"") | F14: =IFERROR(VLOOKUP(RIGHT($A14,LEN($A14)-2)*1,T_UsageProduits[],8,0),"") | G14: =IFERROR(VLOOKUP(RIGHT($A14,LEN($A14)-2)*1,T_UsageProduits[],9,0),"") | H14: =IFERROR(VLOOKUP(RIGHT($A14,LEN($A14)-2)*1,T_UsageProduits[],10,0),"") | I14: =IFERROR(VLOOKUP(RIGHT($A14,LEN($A14)-2)*1,usages_des_produits_autorises_v!$A:$P,15,FALSE),"") | J14: =IFERROR(IF(F14="Professionnel","Produit professionnel",VLOOKUP(RIGHT($A14,LEN($A14)-2)*1,usages_des_produits_autorises_v!$A:$AG,33,FALSE)),"")
C15: =IFERROR(VLOOKUP(RIGHT($A15,LEN($A15)-2)*1,T_UsageProduits[],4,0),"") | D15: =IFERROR(VLOOKUP(RIGHT($A15,LEN($A15)-2)*1,T_UsageProduits[],2,0),"") | E15: =IFERROR(VLOOKUP(RIGHT($A15,LEN($A15)-2)*1,T_UsageProduits[],5,0),"") | F15: =IFERROR(VLOOKUP(RIGHT($A15,LEN($A15)-2)*1,T_UsageProduits[],8,0),"") | G15: =IFERROR(VLOOKUP(RIGHT($A15,LEN($A15)-2)*1,T_UsageProduits[],9,0),"") | H15: =IFERROR(VLOOKUP(RIGHT($A15,LEN($A15)-2)*1,T_UsageProduits[],10,0),"") | I15: =IFERROR(VLOOKUP(RIGHT($A15,LEN($A15)-2)*1,usages_des_produits_autorises_v!$A:$P,15,FALSE),"") | J15: =IFERROR(IF(F15="Professionnel","Produit professionnel",VLOOKUP(RIGHT($A15,LEN($A15)-2)*1,usages_des_produits_autorises_v!$A:$AG,33,FALSE)),"")
C16: =IFERROR(VLOOKUP(RIGHT($A16,LEN($A16)-2)*1,T_UsageProduits[],4,0),"") | D16: =IFERROR(VLOOKUP(RIGHT($A16,LEN($A16)-2)*1,T_UsageProduits[],2,0),"") | E16: =IFERROR(VLOOKUP(RIGHT($A16,LEN($A16)-2)*1,T_UsageProduits[],5,0),"") | F16: =IFERROR(VLOOKUP(RIGHT($A16,LEN($A16)-2)*1,T_UsageProduits[],8,0),"") | G16: =IFERROR(VLOOKUP(RIGHT($A16,LEN($A16)-2)*1,T_UsageProduits[],9,0),"") | H16: =IFERROR(VLOOKUP(RIGHT($A16,LEN($A16)-2)*1,T_UsageProduits[],10,0),"") | I16: =IFERROR(VLOOKUP(RIGHT($A16,LEN($A16)-2)*1,usages_des_produits_autorises_v!$A:$P,15,FALSE),"") | J16: =IFERROR(IF(F16="Professionnel","Produit professionnel",VLOOKUP(RIGHT($A16,LEN($A16)-2)*1,usages_des_produits_autorises_v!$A:$AG,33,FALSE)),"")
C17: =IFERROR(VLOOKUP(RIGHT($A17,LEN($A17)-2)*1,T_UsageProduits[],4,0),"") | D17: =IFERROR(VLOOKUP(RIGHT($A17,LEN($A17)-2)*1,T_UsageProduits[],2,0),"") | E17: =IFERROR(VLOOKUP(RIGHT($A17,LEN($A17)-2)*1,T_UsageProduits[],5,0),"") | F17: =IFERROR(VLOOKUP(RIGHT($A17,LEN($A17)-2)*1,T_UsageProduits[],8,0),"") | G17: =IFERROR(VLOOKUP(RIGHT($A17,LEN($A17)-2)*1,T_UsageProduits[],9,0),"") | H17: =IFERROR(VLOOKUP(RIGHT($A17,LEN($A17)-2)*1,T_UsageProduits[],10,0),"") | I17: =IFERROR(VLOOKUP(RIGHT($A17,LEN($A17)-2)*1,usages_des_produits_autorises_v!$A:$P,15,FALSE),"") | J17: =IFERROR(IF(F17="Professionnel","Produit professionnel",VLOOKUP(RIGHT($A17,LEN($A17)-2)*1,usages_des_produits_autorises_v!$A:$AG,33,FALSE)),"")
... C101: =IFERROR(VLOOKUP(RIGHT($A101,LEN($A101)-2)*1,T_UsageProduits[],4,0),"") | D101: =IFERROR(VLOOKUP(RIGHT($A101,LEN($A101)-2)*1,T_UsageProduits[],2,0),"") | E101: =IFERROR(VLOOKUP(RIGHT($A101,LEN($A101)-2)*1,T_UsageProduits[],5,0),"") | F101: =IFERROR(VLOOKUP(RIGHT($A101,LEN($A101)-2)*1,T_UsageProduits[],8,0),"") | G101: =IFERROR(VLOOKUP(RIGHT($A101,LEN($A101)-2)*1,T_UsageProduits[],9,0),"") | H101: =IFERROR(VLOOKUP(RIGHT($A101,LEN($A101)-2)*1,T_UsageProduits[],10,0),"") | I101: =IFERROR(VLOOKUP(RIGHT($A101,LEN($A101)-2)*1,usages_des_produits_autorises_v!$A:$P,15,FALSE),"") | J101: =IFERROR(IF(F101="Professionnel","Produit professionnel",VLOOKUP(RIGHT($A101,LEN($A101)-2)*1,usages_des_produits_autorises_v!$A:$AG,33,FALSE)),"")

Sheet usages_des_produits_autorises_v
A1: Clé | B1: (produit) type produit | C1: (produit) numero AMM | D1: (produit) nom produit | E1: (produit) seconds noms commerciaux | F1: (produit) titulaire | G1: (produit) type commercial | H1: (produit) gamme usage | I1: (produit) mentions autorisees | J1: (produit) Substances actives | K1: (produit) fonctions | L1: (produit) formulations | M1: identifiant usage lib court | N1: identifiant usage | O1: date decision | P1: stade cultural min | Q1: stade cultural max | R1: etat usage | S1: dose retenue | T1: dose retenue unite | U1: delai avant recolte jour | V1: delai avant recolte bbch | W1: nombre max d'application | X1: date fin distribution | Y1: date fin utilisation | Z1: condition emploi | AA1: ZNT aquatique (en m) | AB1: ZNT arthropodes non cibles (en m) | AC1: ZNT plantes non cibles (en m) | AD1: mentions autorisees | AE1: Clé2 | AF1: type produit | AG1: Vente libre service
A2: =C2 -> 2150209 | B2: PPP | C2: 2150209 | D2: ROUNDUP VISION | E2: ROUNDUP PERFECT | ROUNDUP SYSTEM | F2: MONSANTO SAS | G2: Produit de référence | H2: Professionnel | J2: glyphosate sel de potassium (Glyphosate) 441.0 g/L | K2: Herbicide | L2: Concentré soluble | M2: 11015932 | N2: Traitements généraux*Désherbage*Cult. Installées (1) | O2: 42571 | R2: Autorisé | S2: 3.0 | T2: L/ha | U2: 30 | Z2: Pour le désherbage en cultures légumières. | Autorisé sur graminées annuelles. | Également autorisé sous abri. | Ne pas dépasser la dose de 2880 g de substance active/ha/an. | AA2: 5.0 | AC2: 5.0 | AE2: =C2 -> 2150209 | AF2: =B2 -> PPP | AG2: =IF(OR(I2="Emploi autorisé dans les jardins",I2="Mention Abeille",I2=0,I2="Mention abeille | Emploi autorisé dans les jardins"),"Vente libre service interdite","Vente libre service autorisée") -> Vente libre service interdite
A3: =C3 -> 2150209 | B3: PPP | C3: 2150209 | D3: ROUNDUP VISION | E3: ROUNDUP PERFECT | ROUNDUP SYSTEM | F3: MONSANTO SAS | G3: Produit de référence | H3: Professionnel | J3: glyphosate sel de potassium (Glyphosate) 441.0 g/L | K3: Herbicide | L3: Concentré soluble | M3: 11015932 | N3: Traitements généraux*Désherbage*Cult. Installées (1) | O3: 42571 | R3: Autorisé | S3: 3.0 | T3: L/ha | Z3: Pour le désherbage en grandes cultures et cultures industrielles. | Autorisé sur graminées annuelles. | Également autorisé sous abri. | Ne pas dépasser la dose de 2880 g de substance active/ha/an. | AA3: 5.0 | AC3: 5.0 | AE3: =C3 -> 2150209 | AF3: =B3 -> PPP | AG3: =IF(OR(I3="Emploi autorisé dans les jardins",I3="Mention Abeille",I3=0,I3="Mention abeille | Emploi autorisé dans les jardins"),"Vente libre service interdite","Vente libre service autorisée") -> Vente libre service interdite
A4: =C4 -> 2150209 | B4: PPP | C4: 2150209 | D4: ROUNDUP VISION | E4: ROUNDUP PERFECT | ROUNDUP SYSTEM | F4: MONSANTO SAS | G4: Produit de référence | H4: Professionnel | J4: glyphosate sel de potassium (Glyphosate) 441.0 g/L | K4: Herbicide | L4: Concentré soluble | M4: 11015932 | N4: Traitements généraux*Désherbage*Cult. Installées (1) | O4: 42571 | R4: Autorisé | S4: 6.0 | T4: L/ha | U4: 30 | Z4: Pour le désherbage en cultures légumières. | Autorisé sur dicotylédones annuelles et bisannuelles. | Également autorisé sous abri. | Ne pas dépasser la dose de 2880 g de substance active/ha/an. | AA4: 5.0 | AC4: 5.0 | AE4: =C4 -> 2150209 | AF4: =B4 -> PPP | AG4: =IF(OR(I4="Emploi autorisé dans les jardins",I4="Mention Abeille",I4=0,I4="Mention abeille | Emploi autorisé dans les jardins"),"Vente libre service interdite","Vente libre service autorisée") -> Vente libre service interdite
A5: =C5 -> 2150209 | B5: PPP | C5: 2150209 | D5: ROUNDUP VISION | E5: ROUNDUP PERFECT | ROUNDUP SYSTEM | F5: MONSANTO SAS | G5: Produit de référence | H5: Professionnel | J5: glyphosate sel de potassium (Glyphosate) 441.0 g/L | K5: Herbicide | L5: Concentré soluble | M5: 11015932 | N5: Traitements généraux*Désherbage*Cult. Installées (1) | O5: 42571 | R5: Autorisé | S5: 6.0 | T5: L/ha | Z5: Pour le désherbage en grandes cultures et cultures industrielles. | Autorisé sur dicotylédones annuelles et bisannuelles. | Également autorisé sous abri. | Ne pas dépasser la dose de 2880 g de substance active/ha/an. | AA5: 5.0 | AC5: 5.0 | AE5: =C5 -> 2150209 | AF5: =B5 -> PPP | AG5: =IF(OR(I5="Emploi autorisé dans les jardins",I5="Mention Abeille",I5=0,I5="Mention abeille | Emploi autorisé dans les jardins"),"Vente libre service interdite","Vente libre service autorisée") -> Vente libre service interdite
A6: =C6 -> 2150209 | B6: PPP | C6: 2150209 | D6: ROUNDUP VISION | E6: ROUNDUP PERFECT | ROUNDUP SYSTEM | F6: MONSANTO SAS | G6: Produit de référence | H6: Professionnel | J6: glyphosate sel de potassium (Glyphosate) 441.0 g/L | K6: Herbicide | L6: Concentré soluble | M6: 11015932 | N6: Traitements généraux*Désherbage*Cult. Installées (1) | O6: 42571 | R6: Autorisé | S6: 7.0 | T6: L/ha | U6: 30 | Z6: Pour le désherbage en cultures légumières. | Autorisé sur adventices vivaces. | Également autorisé sous abri. | Ne pas dépasser la dose de 2880 g de substance active/ha/an. | AA6: 5.0 | AC6: 5.0 | AE6: =C6 -> 2150209 | AF6: =B6 -> PPP | AG6: =IF(OR(I6="Emploi autorisé dans les jardins",I6="Mention Abeille",I6=0,I6="Mention abeille | Emploi autorisé dans les jardins"),"Vente libre service interdite","Vente libre service autorisée") -> Vente libre service interdite
A7: =C7 -> 2150209 | B7: PPP | C7: 2150209 | D7: ROUNDUP VISION | E7: ROUNDUP PERFECT | ROUNDUP SYSTEM | F7: MONSANTO SAS | G7: Produit de référence | H7: Professionnel | J7: glyphosate sel de potassium (Glyphosate) 441.0 g/L | K7: Herbicide | L7: Concentré soluble | M7: 11015932 | N7: Traitements généraux*Désherbage*Cult. Installées (1) | O7: 42571 | R7: Autorisé | S7: 7.0 | T7: L/ha | Z7: Pour le désherbage en grandes cultures et cultures industrielles. | Autorisé sur adventices vivaces. | Également autorisé sous abri. | Ne pas dépasser la dose de 2880 g de substance active/ha/an. | AA7: 5.0 | AC7: 5.0 | AE7: =C7 -> 2150209 | AF7: =B7 -> PPP | AG7: =IF(OR(I7="Emploi autorisé dans les jardins",I7="Mention Abeille",I7=0,I7="Mention abeille | Emploi autorisé dans les jardins"),"Vente libre service interdite","Vente libre service autorisée") -> Vente libre service interdite
A8: =C8 -> 2150209 | B8: PPP | C8: 2150209 | D8: ROUNDUP VISION | E8: ROUNDUP PERFECT | ROUNDUP SYSTEM | F8: MONSANTO SAS | G8: Produit de référence | H8: Professionnel | J8: glyphosate sel de potassium (Glyphosate) 441.0 g/L | K8: Herbicide | L8: Concentré soluble | M8: 15105912 | N8: Blé*Désherbage | O8: 42571 | R8: Autorisé | S8: 6.0 | T8: L/ha | U8: 7 | Z8: Avant moisson | Ne pas appliquer sur blé destiné à la production de semences. | Ne pas dépasser la dose de 2160 g de substance active/ha/an. | AA8: 5.0 | AC8: 5.0 | AE8: =C8 -> 2150209 | AF8: =B8 -> PPP | AG8: =IF(OR(I8="Emploi autorisé dans les jardins",I8="Mention Abeille",I8=0,I8="Mention abeille | Emploi autorisé dans les jardins"),"Vente libre service interdite","Vente libre service autorisée") -> Vente libre service interdite
A9: =C9 -> 2150209 | B9: PPP | C9: 2150209 | D9: ROUNDUP VISION | E9: ROUNDUP PERFECT | ROUNDUP SYSTEM | F9: MONSANTO SAS | G9: Produit de référence | H9: Professionnel | J9: glyphosate sel de potassium (Glyphosate) 441.0 g/L | K9: Herbicide | L9: Concentré soluble | M9: 15105913 | N9: Orge*Désherbage | O9: 42571 | R9: Autorisé | S9: 6.0 | T9: L/ha | U9: 7 | Z9: Avant moisson | Ne pas appliquer sur orge destiné à la production de semences. | Ne pas dépasser la dose de 2160 g de substance active/ha/an. | | AA9: 5.0 | AC9: 5.0 | AE9: =C9 -> 2150209 | AF9: =B9 -> PPP | AG9: =IF(OR(I9="Emploi autorisé dans les jardins",I9="Mention Abeille",I9=0,I9="Mention abeille | Emploi autorisé dans les jardins"),"Vente libre service interdite","Vente libre service autorisée") -> Vente libre service interdite
A10: =C10 -> 2150209 | B10: PPP | C10: 2150209 | D10: ROUNDUP VISION | E10: ROUNDUP PERFECT | ROUNDUP SYSTEM | F10: MONSANTO SAS | G10: Produit de référence | H10: Professionnel | J10: glyphosate sel de potassium (Glyphosate) 441.0 g/L | K10: Herbicide | L10: Concentré soluble | M10: 201024 | N10: Cultures fruitières*Désherbage*Cult. Installées | O10: 42571 | R10: Autorisé | S10: 4.0 | T10: L/ha | U10: 21 | Z10: Autorisé sur agrumes, fruits à coque, fruits à pépins, fruits à noyau (pêcher, abricotier, cerisier et prunier) sur graminées annuelles. | Ne pas dépasser la dose de 2200 g de substance active/ha/an. | AA10: 5.0 | AC10: 5.0 | AE10: =C10 -> 2150209 | AF10: =B10 -> PPP | AG10: =IF(OR(I10="Emploi autorisé dans les jardins",I10="Mention Abeille",I10=0,I10="Mention abeille | Emploi autorisé dans les jardins"),"Vente libre service interdite","Vente libre service autorisée") -> Vente libre service interdite
A11: =C11 -> 2150209 | B11: PPP | C11: 2150209 | D11: ROUNDUP VISION | E11: ROUNDUP PERFECT | ROUNDUP SYSTEM | F11: MONSANTO SAS | G11: Produit de référence | H11: Professionnel | J11: glyphosate sel de potassium (Glyphosate) 441.0 g/L | K11: Herbicide | L11: Concentré soluble | M11: 201024 | N11: Cultures fruitières*Désherbage*Cult. Installées | O11: 42571 | R11: Autorisé | S11: 6.0 | T11: L/ha | U11: 21 | Z11: Autorisé sur agrumes, fruits à coque, fruits à pépins, fruits à noyau (pêcher, abricotier, cerisier et prunier) sur dicotylédones annuelles et bisannuelles. | Ne pas dépasser la dose de 2200 g de substance active/ha/an. | | AA11: 5.0 | AC11: 5.0 | AE11: =C11 -> 2150209 | AF11: =B11 -> PPP | AG11: =IF(OR(I11="Emploi autorisé dans les jardins",I11="Mention Abeille",I11=0,I11="Mention abeille | Emploi autorisé dans les jardins"),"Vente libre service interdite","Vente libre service autorisée") -> Vente libre service interdite
A12: =C12 -> 2150209 | B12: PPP | C12: 2150209 | D12: ROUNDUP VISION | E12: ROUNDUP PERFECT | ROUNDUP SYSTEM | F12: MONSANTO SAS | G12: Produit de référence | H12: Professionnel | J12: glyphosate sel de potassium (Glyphosate) 441.0 g/L | K12: Herbicide | L12: Concentré soluble | M12: 201024 | N12: Cultures fruitières*Désherbage*Cult. Installées | O12: 42571 | R12: Autorisé | S12: 8.0 | T12: L/ha | U12: 21 | Z12: Autorisé sur agrumes, fruits à coque, fruits à pépins, fruits à noyau (pêcher, abricotier, cerisier et prunier) sur adventices vivaces (par tache). | Ne pas dépasser la dose de 2200 g de substance active/ha/an. | AA12: 5.0 | AC12: 5.0 | AE12: =C12 -> 2150209 | AF12: =B12 -> PPP | AG12: =IF(OR(I12="Emploi autorisé dans les jardins",I12="Mention Abeille",I12=0,I12="Mention abeille | Emploi autorisé dans les jardins"),"Vente libre service interdite","Vente libre service autorisée") -> Vente libre service interdite
A13: =C13 -> 2150209 | B13: PPP | C13: 2150209 | D13: ROUNDUP VISION | E13: ROUNDUP PERFECT | ROUNDUP SYSTEM | F13: MONSANTO SAS | G13: Produit de référence | H13: Professionnel | J13: glyphosate sel de potassium (Glyphosate) 441.0 g/L | K13: Herbicide | L13: Concentré soluble | M13: 12705902 | N13: Vigne*Désherbage*Cult. Installées | O13: 42571 | R13: Autorisé | S13: 4.0 | T13: L/ha | U13: 21 | Z13: Sur graminées annuelles. | Ne pas dépasser la dose de 2200 g de substance active/ha/an. | AA13: 5.0 | AC13: 5.0 | AE13: =C13 -> 2150209 | AF13: =B13 -> PPP | AG13: =IF(OR(I13="Emploi autorisé dans les jardins",I13="Mention Abeille",I13=0,I13="Mention abeille | Emploi autorisé dans les jardins"),"Vente libre service interdite","Vente libre service autorisée") -> Vente libre service interdite
A14: =C14 -> 2150209 | B14: PPP | C14: 2150209 | D14: ROUNDUP VISION | E14: ROUNDUP PERFECT | ROUNDUP SYSTEM | F14: MONSANTO SAS | G14: Produit de référence | H14: Professionnel | J14: glyphosate sel de potassium (Glyphosate) 441.0 g/L | K14: Herbicide | L14: Concentré soluble | M14: 12705902 | N14: Vigne*Désherbage*Cult. Installées | O14: 42571 | R14: Autorisé | S14: 6.0 | T14: L/ha | U14: 21 | Z14: Sur dicotylédones annuelles et bisannuelles. | Ne pas dépasser la dose de 2200 g de substance active/ha/an. | AA14: 5.0 | AC14: 5.0 | AE14: =C14 -> 2150209 | AF14: =B14 -> PPP | AG14: =IF(OR(I14="Emploi autorisé dans les jardins",I14="Mention Abeille",I14=0,I14="Mention abeille | Emploi autorisé dans les jardins"),"Vente libre service interdite","Vente libre service autorisée") -> Vente libre service interdite
A15: =C15 -> 2150209 | B15: PPP | C15: 2150209 | D15: ROUNDUP VISION | E15: ROUNDUP PERFECT | ROUNDUP SYSTEM | F15: MONSANTO SAS | G15: Produit de référence | H15: Professionnel | J15: glyphosate sel de potassium (Glyphosate) 441.0 g/L | K15: Herbicide | L15: Concentré soluble | M15: 12705902 | N15: Vigne*Désherbage*Cult. Installées | O15: 42571 | R15: Autorisé | S15: 8.0 | T15: L/ha | U15: 21 | Z15: Sur adventices vivaces (par taches). | Ne pas dépasser la dose de 2200 g de substance active/ha/an. | AA15: 5.0 | AC15: 5.0 | AE15: =C15 -> 2150209 | AF15: =B15 -> PPP | AG15: =IF(OR(I15="Emploi autorisé dans les jardins",I15="Mention Abeille",I15=0,I15="Mention abeille | Emploi autorisé dans les jardins"),"Vente libre service interdite","Vente libre service autorisée") -> Vente libre service interdite
A16: =C16 -> 2150209 | B16: PPP | C16: 2150209 | D16: ROUNDUP VISION | E16: ROUNDUP PERFECT | ROUNDUP SYSTEM | F16: MONSANTO SAS | G16: Produit de référence | H16: Professionnel | J16: glyphosate sel de potassium (Glyphosate) 441.0 g/L | K16: Herbicide | L16: Concentré soluble | M16: 11015910 | N16: Traitements généraux*Dévitalisation*Arb. sur pied Souches | O16: 42571 | R16: Autorisé | S16: 0.33 | T16: L/m² | Z16: Dose exprimée en L/m² de souche ou de terrière. | Traitement par badigeonnage. | Ne pas dépasser la dose de 120 g/m² de souche ou de terrière. | AA16: 5.0 | AC16: 5.0 | AE16: =C16 -> 2150209 | AF16: =B16 -> PPP | AG16: =IF(OR(I16="Emploi autorisé dans les jardins",I16="Mention Abeille",I16=0,I16="Mention abeille | Emploi autorisé dans les jardins"),"Vente libre service interdite","Vente libre service autorisée") -> Vente libre service interdite
A17: =C17 -> 2150209 | B17: PPP | C17: 2150209 | D17: ROUNDUP VISION | E17: ROUNDUP PERFECT | ROUNDUP SYSTEM | F17: MONSANTO SAS | G17: Produit de référence | H17: Professionnel | J17: glyphosate sel de potassium (Glyphosate) 441.0 g/L | K17: Herbicide | L17: Concentré soluble | M17: 11015925 | N17: Traitements généraux*Destruct. Souches | O17: 42571 | R17: Autorisé | S17: 8.0 | T17: L/ha | Z17: Pour la dévitalisation des souches de vignes, l'emploi de panneaux récupérateurs est obligatoire et permet de déroger à l'application d'une zone non traitée de 5 mètres par rapport à la zone non cultivée adjacente. | Pour la dévitalisation de vigne, ne pas appliquer en présence de raisins. | Ne pas dépasser la dose de 2880 g de substance active/ha/an. | AA17: 5.0 | AC17: 5.0 | AE17: =C17 -> 2150209 | AF17: =B17 -> PPP | AG17: =IF(OR(I17="Emploi autorisé dans les jardins",I17="Mention Abeille",I17=0,I17="Mention abeille | Emploi autorisé dans les jardins"),"Vente libre service interdite","Vente libre service autorisée") -> Vente libre service interdite
A18: =C18 -> 2150209 | B18: PPP | C18: 2150209 | D18: ROUNDUP VISION | E18: ROUNDUP PERFECT | ROUNDUP SYSTEM | F18: MONSANTO SAS | G18: Produit de référence | H18: Professionnel | J18: glyphosate sel de potassium (Glyphosate) 441.0 g/L | K18: Herbicide | L18: Concentré soluble | M18: 15455911 | N18: Légumineuses fourragères*Désherbage | O18: 42571 | R18: Autorisé | S18: 1.0 | T18: L/ha | W18: 1 | Z18: Uniquement sur luzerne porte-graines de plus d'un an, de type dormante et si les conditions climatiques et hydriques hivernales sont suffisantes pour bloquer totalement la croissance de la luzerne. | Application durant la phase végétative. | AA18: 5.0 | AC18: 5.0 | AE18: =C18 -> 2150209 | AF18: =B18 -> PPP | AG18: =IF(OR(I18="Emploi autorisé dans les jardins",I18="Mention Abeille",I18=0,I18="Mention abeille | Emploi autorisé dans les jardins"),"Vente libre service interdite","Vente libre service autorisée") -> Vente libre service interdite
A19: =C19 -> 2150209 | B19: PPP | C19: 2150209 | D19: ROUNDUP VISION | E19: ROUNDUP PERFECT | ROUNDUP SYSTEM | F19: MONSANTO SAS | G19: Produit de référence | H19: Professionnel | J19: glyphosate sel de potassium (Glyphosate) 441.0 g/L | K19: Herbicide | L19: Concentré soluble | M19: 11015924 | N19: Traitements généraux*Désherbage*Avt Mise Cult. | O19: 42571 | R19: Autorisé | S19: 3.0 | T19: L/ha | Z19: Autorisé sur graminées annuelles. | Également autorisé sous abri. | Avant mise en culture de cultures autres que légumières. | Ne pas dépasser la dose de 2880 g de substance active/ha/an. | AA19: 5.0 | AC19: 5.0 | AE19: =C19 -> 2150209 | AF19: =B19 -> PPP | AG19: =IF(OR(I19="Emploi autorisé dans les jardins",I19="Mention Abeille",I19=0,I19="Mention abeille | Emploi autorisé dans les jardins"),"Vente libre service interdite","Vente libre service autorisée") -> Vente libre service interdite
A20: =C20 -> 2150209 | B20: PPP | C20: 2150209 | D20: ROUNDUP VISION | E20: ROUNDUP PERFECT | ROUNDUP SYSTEM | F20: MONSANTO SAS | G20: Produit de référence | H20: Professionnel | J20: glyphosate sel de potassium (Glyphosate) 441.0 g/L | K20: Herbicide | L20: Concentré soluble | M20: 11015924 | N20: Traitements généraux*Désherbage*Avt Mise Cult. | O20: 42571 | R20: Autorisé | S20: 6.0 | T20: L/ha | Z20: Autorisé sur dicotylédones annuelles et bisannuelles. | Également autorisé sous abri. | Avant mise en culture de cultures autres que légumières. | Ne pas dépasser la dose de 2880 g de substance active/ha/an. | AA20: 5.0 | AC20: 5.0 | AE20: =C20 -> 2150209 | AF20: =B20 -> PPP | AG20: =IF(OR(I20="Emploi autorisé dans les jardins",I20="Mention Abeille",I20=0,I20="Mention abeille | Emploi autorisé dans les jardins"),"Vente libre service interdite","Vente libre service autorisée") -> Vente libre service interdite
A21: =C21 -> 2150209 | B21: PPP | C21: 2150209 | D21: ROUNDUP VISION | E21: ROUNDUP PERFECT | ROUNDUP SYSTEM | F21: MONSANTO SAS | G21: Produit de référence | H21: Professionnel | J21: glyphosate sel de potassium (Glyphosate) 441.0 g/L | K21: Herbicide | L21: Concentré soluble | M21: 11015924 | N21: Traitements généraux*Désherbage*Avt Mise Cult. | O21: 42571 | R21: Autorisé | S21: 7.0 | T21: L/ha | Z21: Autorisé sur adventices vivaces. | Également autorisé sous abri. | Avant mise en culture de cultures autres que légumières. | Ne pas dépasser la dose de 2880 g de substance active/ha/an. | AA21: 5.0 | AC21: 5.0 | AE21: =C21 -> 2150209 | AF21: =B21 -> PPP | AG21: =IF(OR(I21="Emploi autorisé dans les jardins",I21="Mention Abeille",I21=0,I21="Mention abeille | Emploi autorisé dans les jardins"),"Vente libre service interdite","Vente libre service autorisée") -> Vente libre service interdite
A22: =C22 -> 2150209 | B22: PPP | C22: 2150209 | D22: ROUNDUP VISION | E22: ROUNDUP PERFECT | ROUNDUP SYSTEM | F22: MONSANTO SAS | G22: Produit de référence | H22: Professionnel | J22: glyphosate sel de potassium (Glyphosate) 441.0 g/L | K22: Herbicide | L22: Concentré soluble | M22: 11015924 | N22: Traitements généraux*Désherbage*Avt Mise Cult. | O22: 42571 | R22: Autorisé | S22: 3.0 | T22: L/ha | U22: 30 | Z22: Autorisé sur graminées annuelles. | Également autorisé sous abri. | Avant plantation de cultures légumières toutes espèces. | Ne pas dépasser la dose de 2880 g de substance active/ha/an. | AA22: 5.0 | AC22: 5.0 | AE22: =C22 -> 2150209 | AF22: =B22 -> PPP | AG22: =IF(OR(I22="Emploi autorisé dans les jardins",I22="Mention Abeille",I22=0,I22="Mention abeille | Emploi autorisé dans les jardins"),"Vente libre service interdite","Vente libre service autorisée") -> Vente libre service interdite
A23: =C23 -> 2150209 | B23: PPP | C23: 2150209 | D23: ROUNDUP VISION | E23: ROUNDUP PERFECT | ROUNDUP SYSTEM | F23: MONSANTO SAS | G23: Produit de référence | H23: Professionnel | J23: glyphosate sel de potassium (Glyphosate) 441.0 g/L | K23: Herbicide | L23: Concentré soluble | M23: 11015924 | N23: Traitements généraux*Désherbage*Avt Mise Cult. | O23: 42571 | R23: Autorisé | S23: 6.0 | T23: L/ha | U23: 30 | Z23: Autorisé sur dicotylédones annuelles et bisannuelles. | Également autorisé sous abri. | Avant plantation de cultures légumières toutes espèces. | Ne pas dépasser la dose de 2880 g de substance active/ha/an. | AA23: 5.0 | AC23: 5.0 | AE23: =C23 -> 2150209 | AF23: =B23 -> PPP | AG23: =IF(OR(I23="Emploi autorisé dans les jardins",I23="Mention Abeille",I23=0,I23="Mention abeille | Emploi autorisé dans les jardins"),"Vente libre service interdite","Vente libre service autorisée") -> Vente libre service interdite
A24: =C24 -> 2150209 | B24: PPP | C24: 2150209 | D24: ROUNDUP VISION | E24: ROUNDUP PERFECT | ROUNDUP SYSTEM | F24: MONSANTO SAS | G24: Produit de référence | H24: Professionnel | J24: glyphosate sel de potassium (Glyphosate) 441.0 g/L | K24: Herbicide | L24: Concentré soluble | M24: 11015924 | N24: Traitements généraux*Désherbage*Avt Mise Cult. | O24: 42571 | R24: Autorisé | S24: 7.0 | T24: L/ha | U24: 30 | Z24: Autorisé sur adventices vivaces. | Également autorisé sous abri. | Avant plantation de cultures légumières toutes espèces. | Ne pas dépasser la dose de 2880 g de substance active/ha/an. | AA24: 5.0 | AC24: 5.0 | AE24: =C24 -> 2150209 | AF24: =B24 -> PPP | AG24: =IF(OR(I24="Emploi autorisé dans les jardins",I24="Mention Abeille",I24=0,I24="Mention abeille | Emploi autorisé dans les jardins"),"Vente libre service interdite","Vente libre service autorisée") -> Vente libre service interdite
A25: =C25 -> 2150209 | B25: PPP | C25: 2150209 | D25: ROUNDUP VISION | E25: ROUNDUP PERFECT | ROUNDUP SYSTEM | F25: MONSANTO SAS | G25: Produit de référence | H25: Professionnel | J25: glyphosate sel de potassium (Glyphosate) 441.0 g/L | K25: Herbicide | L25: Concentré soluble | M25: 201024 | N25: Cultures fruitières*Désherbage*Cult. Installées | O25: 42571 | R25: Autorisé | S25: 4.0 | T25: L/ha | U25: 7 | Z25: Autorisé sur olivier (récolte sur l'arbre) sur graminées annuelles. | Ne pas dépasser la dose de 2200 g de substance active/ha/an. | AA25: 5.0 | AC25: 5.0 | AE25: =C25 -> 2150209 | AF25: =B25 -> PPP | AG25: =IF(OR(I25="Emploi autorisé dans les jardins",I25="Mention Abeille",I25=0,I25="Mention abeille | Emploi autorisé dans les jardins"),"Vente libre service interdite","Vente libre service autorisée") -> Vente libre service interdite
A26: =C26 -> 2150209 | B26: PPP | C26: 2150209 | D26: ROUNDUP VISION | E26: ROUNDUP PERFECT | ROUNDUP SYSTEM | F26: MONSANTO SAS | G26: Produit de référence | H26: Professionnel | J26: glyphosate sel de potassium (Glyphosate) 441.0 g/L | K26: Herbicide | L26: Concentré soluble | M26: 201024 | N26: Cultures fruitières*Désherbage*Cult. Installées | O26: 42571 | R26: Autorisé | S26: 6.0 | T26: L/ha | U26: 7 | Z26: Autorisé sur olivier (récolte sur l'arbre) sur dicotylédones annuelles et bisannuelles. | Ne pas dépasser la dose de 2200 g de substance active/ha/an. | | AA26: 5.0 | AC26: 5.0 | AE26: =C26 -> 2150209 | AF26: =B26 -> PPP | AG26: =IF(OR(I26="Emploi autorisé dans les jardins",I26="Mention Abeille",I26=0,I26="Mention abeille | Emploi autorisé dans les jardins"),"Vente libre service interdite","Vente libre service autorisée") -> Vente libre service interdite
A27: =C27 -> 2150209 | B27: PPP | C27: 2150209 | D27: ROUNDUP VISION | E27: ROUNDUP PERFECT | ROUNDUP SYSTEM | F27: MONSANTO SAS | G27: Produit de référence | H27: Professionnel | J27: glyphosate sel de potassium (Glyphosate) 441.0 g/L | K27: Herbicide | L27: Concentré soluble | M27: 201024 | N27: Cultures fruitières*Désherbage*Cult. Installées | O27: 42571 | R27: Autorisé | S27: 8.0 | T27: L/ha | U27: 7 | Z27: Autorisé sur olivier (récolte sur l'arbre) sur adventices vivaces (par taches). | Ne pas dépasser la dose de 2200 g de substance active/ha/an. | AA27: 5.0 | AC27: 5.0 | AE27: =C27 -> 2150209 | AF27: =B27 -> PPP | AG27: =IF(OR(I27="Emploi autorisé dans les jardins",I27="Mention Abeille",I27=0,I27="Mention abeille | Emploi autorisé dans les jardins"),"Vente libre service interdite","Vente libre service autorisée") -> Vente libre service interdite
A28: =C28 -> 2150209 | B28: PPP | C28: 2150209 | D28: ROUNDUP VISION | E28: ROUNDUP PERFECT | ROUNDUP SYSTEM | F28: MONSANTO SAS | G28: Produit de référence | H28: Professionnel | J28: glyphosate sel de potassium (Glyphosate) 441.0 g/L | K28: Herbicide | L28: Concentré soluble | M28: 201024 | N28: Cultures fruitières*Désherbage*Cult. Installées | O28: 42571 | R28: Autorisé | S28: 4.0 | T28: L/ha | U28: 14 | Z28: Autorisé sur olivier (récolte au sol) sur graminées annuelles. | Ne pas dépasser la dose de 2200 g de substance active/ha/an. | AA28: 5.0 | AC28: 5.0 | AE28: =C28 -> 2150209 | AF28: =B28 -> PPP | AG28: =IF(OR(I28="Emploi autorisé dans les jardins",I28="Mention Abeille",I28=0,I28="Mention abeille | Emploi autorisé dans les jardins"),"Vente libre service interdite","Vente libre service autorisée") -> Vente libre service interdite
A29: =C29 -> 2150209 | B29: PPP | C29: 2150209 | D29: ROUNDUP VISION | E29: ROUNDUP PERFECT | ROUNDUP SYSTEM | F29: MONSANTO SAS | G29: Produit de référence | H29: Professionnel | J29: glyphosate sel de potassium (Glyphosate) 441.0 g/L | K29: Herbicide | L29: Concentré soluble | M29: 201024 | N29: Cultures fruitières*Désherbage*Cult. Installées | O29: 42571 | R29: Autorisé | S29: 6.0 | T29: L/ha | U29: 14 | Z29: Autorisé sur olivier (récolte au sol) sur dicotylédones annuelles et bisannuelles. | Ne pas dépasser la dose de 2200 g de substance active/ha/an. | AA29: 5.0 | AC29: 5.0 | AE29: =C29 -> 2150209 | AF29: =B29 -> PPP | AG29: =IF(OR(I29="Emploi autorisé dans les jardins",I29="Mention Abeille",I29=0,I29="Mention abeille | Emploi autorisé dans les jardins"),"Vente libre service interdite","Vente libre service autorisée") -> Vente libre service interdite
A30: =C30 -> 2150209 | B30: PPP | C30: 2150209 | D30: ROUNDUP VISION | E30: ROUNDUP PERFECT | ROUNDUP SYSTEM | F30: MONSANTO SAS | G30: Produit de référence | H30: Professionnel | J30: glyphosate sel de potassium (Glyphosate) 441.0 g/L | K30: Herbicide | L30: Concentré soluble | M30: 201024 | N30: Cultures fruitières*Désherbage*Cult. Installées | O30: 42571 | R30: Autorisé | S30: 8.0 | T30: L/ha | U30: 14 | Z30: Autorisé sur olivier (récolte au sol) sur adventices vivaces (par tache). | Ne pas dépasser la dose de 2200 g de substance active/ha/an. | AA30: 5.0 | AC30: 5.0 | AE30: =C30 -> 2150209 | AF30: =B30 -> PPP | AG30: =IF(OR(I30="Emploi autorisé dans les jardins",I30="Mention Abeille",I30=0,I30="Mention abeille | Emploi autorisé dans les jardins"),"Vente libre service interdite","Vente libre service autorisée") -> Vente libre service interdite
A31: =C31 -> 2150209 | B31: PPP | C31: 2150209 | D31: ROUNDUP VISION | E31: ROUNDUP PERFECT | ROUNDUP SYSTEM | F31: MONSANTO SAS | G31: Produit de référence | H31: Professionnel | J31: glyphosate sel de potassium (Glyphosate) 441.0 g/L | K31: Herbicide | L31: Concentré soluble | M31: 201024 | N31: Cultures fruitières*Désherbage*Cult. Installées | O31: 42571 | R31: Autorisé | S31: 4.0 | T31: L/ha | U31: 90 | Z31: Autorisé sur kiwi sur graminées annuelles. | Ne pas dépasser la dose de 2200 g de substance active/ha/an. | AA31: 5.0 | AC31: 5.0 | AE31: =C31 -> 2150209 | AF31: =B31 -> PPP | AG31: =IF(OR(I31="Emploi autorisé dans les jardins",I31="Mention Abeille",I31=0,I31="Mention abeille | Emploi autorisé dans les jardins"),"Vente libre service interdite","Vente libre service autorisée") -> Vente libre service interdite
A32: =C32 -> 2150209 | B32: PPP | C32: 2150209 | D32: ROUNDUP VISION | E32: ROUNDUP PERFECT | ROUNDUP SYSTEM | F32: MONSANTO SAS | G32: Produit de référence | H32: Professionnel | J32: glyphosate sel de potassium (Glyphosate) 441.0 g/L | K32: Herbicide | L32: Concentré soluble | M32: 201024 | N32: Cultures fruitières*Désherbage*Cult. Installées | O32: 42571 | R32: Autorisé | S32: 6.0 | T32: L/ha | U32: 90 | Z32: Autorisé sur kiwi sur dicotylédones annuelles et bisannuelles. | Ne pas dépasser la dose de 2200 g de substance active/ha/an. | AA32: 5.0 | AC32: 5.0 | AE32: =C32 -> 2150209 | AF32: =B32 -> PPP | AG32: =IF(OR(I32="Emploi autorisé dans les jardins",I32="Mention Abeille",I32=0,I32="Mention abeille | Emploi autorisé dans les jardins"),"Vente libre service interdite","Vente libre service autorisée") -> Vente libre service interdite
A33: =C33 -> 2150209 | B33: PPP | C33: 2150209 | D33: ROUNDUP VISION | E33: ROUNDUP PERFECT | ROUNDUP SYSTEM | F33: MONSANTO SAS | G33: Produit de référence | H33: Professionnel | J33: glyphosate sel de potassium (Glyphosate) 441.0 g/L | K33: Herbicide | L33: Concentré soluble | M33: 201024 | N33: Cultures fruitières*Désherbage*Cult. Installées | O33: 42571 | R33: Autorisé | S33: 8.0 | T33: L/ha | U33: 90 | Z33: Autorisé sur kiwi sur adventices vivaces (par tache). | Ne pas dépasser la dose de 2200 g de substance active/ha/an. | AA33: 5.0 | AC33: 5.0 | AE33: =C33 -> 2150209 | AF33: =B33 -> PPP | AG33: =IF(OR(I33="Emploi autorisé dans les jardins",I33="Mention Abeille",I33=0,I33="Mention abeille | Emploi autorisé dans les jardins"),"Vente libre service interdite","Vente libre service autorisée") -> Vente libre service interdite
A34: =C34 -> 2150209 | B34: PPP | C34: 2150209 | D34: ROUNDUP VISION | E34: ROUNDUP PERFECT | ROUNDUP SYSTEM | F34: MONSANTO SAS | G34: Produit de référence | H34: Professionnel | J34: glyphosate sel de potassium (Glyphosate) 441.0 g/L | K34: Herbicide | L34: Concentré soluble | M34: 201024 | N34: Cultures fruitières*Désherbage*Cult. Installées | O34: 42571 | R34: Autorisé | S34: 4.0 | T34: L/ha | U34: 1 | Z34: Autorisé sur bananier sur graminées annuelles. | Ne pas dépasser la dose de 2200 g de substance active/ha/an. | AA34: 5.0 | AC34: 5.0 | AE34: =C34 -> 2150209 | AF34: =B34 -> PPP | AG34: =IF(OR(I34="Emploi autorisé dans les jardins",I34="Mention Abeille",I34=0,I34="Mention abeille | Emploi autorisé dans les jardins"),"Vente libre service interdite","Vente libre service autorisée") -> Vente libre service interdite
A35: =C35 -> 2150209 | B35: PPP | C35: 2150209 | D35: ROUNDUP VISION | E35: ROUNDUP PERFECT | ROUNDUP SYSTEM | F35: MONSANTO SAS | G35: Produit de référence | H35: Professionnel | J35: glyphosate sel de potassium (Glyphosate) 441.0 g/L | K35: Herbicide | L35: Concentré soluble | M35: 201024 | N35: Cultures fruitières*Désherbage*Cult. Installées | O35: 42571 | R35: Autorisé | S35: 6.0 | T35: L/ha | U35: 1 | Z35: Autorisé sur bananier sur dicotylédones annuelles et bisannuelles. | Ne pas dépasser la dose de 2200 g de substance active/ha/an. | AE35: =C35 -> 2150209 | AF35: =B35 -> PPP | AG35: =IF(OR(I35="Emploi autorisé dans les jardins",I35="Mention Abeille",I35=0,I35="Mention abeille | Emploi autorisé dans les jardins"),"Vente libre service interdite","Vente libre service autorisée") -> Vente libre service interdite
A36: =C36 -> 2150209 | B36: PPP | C36: 2150209 | D36: ROUNDUP VISION | E36: ROUNDUP PERFECT | ROUNDUP SYSTEM | F36: MONSANTO SAS | G36: Produit de référence | H36: Professionnel | J36: glyphosate sel de potassium (Glyphosate) 441.0 g/L | K36: Herbicide | L36: Concentré soluble | M36: 201024 | N36: Cultures fruitières*Désherbage*Cult. Installées | O36: 42571 | R36: Autorisé | S36: 8.0 | T36: L/ha | U36: 1 | Z36: Autorisé sur bananier sur adventices vivaces (par tache). | Ne pas dépasser la dose de 2200 g de substance active/ha/an. | AA36: 5.0 | AC36: 5.0 | AE36: =C36 -> 2150209 | AF36: =B36 -> PPP | AG36: =IF(OR(I36="Emploi autorisé dans les jardins",I36="Mention Abeille",I36=0,I36="Mention abeille | Emploi autorisé dans les jardins"),"Vente libre service interdite","Vente libre service autorisée") -> Vente libre service interdite
A37: =C37 -> 2159999 | B37: PPP | C37: 2159999 | D37: LIFE SCIENTIFIC PIRIMICARB | F37: LIFE SCIENTIFIC LTD | G37: Générique | H37: Professionnel | J37: pirimicarbe (Pirimicarb) 500.0 g/kg | K37: Insecticide | L37: Granulé dispersable | M37: 16603101 | N37: Laitue*Trt Part.Aer.*Pucerons | O37: 42439 | R37: Autorisé | S37: 0.5 | T37: kg/ha | U37: 14 | W37: 2 | Z37: Uniquement autorisé sur laitue sous abri. | AE37: =C37 -> 2159999 | AF37: =B37 -> PPP | AG37: =IF(OR(I37="Emploi autorisé dans les jardins",I37="Mention Abeille",I37=0,I37="Mention abeille | Emploi autorisé dans les jardins"),"Vente libre service interdite","Vente libre service autorisée") -> Vente libre service interdite
A38: =C38 -> 2159999 | B38: PPP | C38: 2159999 | D38: LIFE SCIENTIFIC PIRIMICARB | F38: LIFE SCIENTIFIC LTD | G38: Générique | H38: Professionnel | J38: pirimicarbe (Pirimicarb) 500.0 g/kg | K38: Insecticide | L38: Granulé dispersable | M38: 16823102 | N38: Fines Herbes*Trt Part.Aer.*Pucerons | O38: 42439 | R38: Autorisé | S38: 0.75 | T38: kg/ha | U38: 14 | W38: 1 | AA38: 100.0 | AE38: =C38 -> 2159999 | AF38: =B38 -> PPP | AG38: =IF(OR(I38="Emploi autorisé dans les jardins",I38="Mention Abeille",I38=0,I38="Mention abeille | Emploi autorisé dans les jardins"),"Vente libre service interdite","Vente libre service autorisée") -> Vente libre service interdite
A39: =C39 -> 2159999 | B39: PPP | C39: 2159999 | D39: LIFE SCIENTIFIC PIRIMICARB | F39: LIFE SCIENTIFIC LTD | G39: Générique | H39: Professionnel | J39: pirimicarbe (Pirimicarb) 500.0 g/kg | K39: Insecticide | L39: Granulé dispersable | M39: 16823102 | N39: Fines Herbes*Trt Part.Aer.*Pucerons | O39: 42439 | R39: Autorisé | S39: 0.5 | T39: kg/ha | U39: 14 | W39: 2 | Z39: Uniquement autorisé sous abri. | AE39: =C39 -> 2159999 | AF39: =B39 -> PPP | AG39: =IF(OR(I39="Emploi autorisé dans les jardins",I39="Mention Abeille",I39=0,I39="Mention abeille | Emploi autorisé dans les jardins"),"Vente libre service interdite","Vente libre service autorisée") -> Vente libre service interdite
A40: =C40 -> 2159999 | B40: PPP | C40: 2159999 | D40: LIFE SCIENTIFIC PIRIMICARB | F40: LIFE SCIENTIFIC LTD | G40: Générique | H40: Professionnel | J40: pirimicarbe (Pirimicarb) 500.0 g/kg | K40: Insecticide | L40: Granulé dispersable | M40: 16953104 | N40: Tomate*Trt Part.Aer.*Pucerons | O40: 42439 | R40: Autorisé | S40: 0.5 | T40: kg/ha | U40: 3 | W40: 2 | Z40: Uniquement autorisé sous abri. | Inefficace sur Myzus persicae. | AE40: =C40 -> 2159999 | AF40: =B40 -> PPP | AG40: =IF(OR(I40="Emploi autorisé dans les jardins",I40="Mention Abeille",I40=0,I40="Mention abeille | Emploi autorisé dans les jardins"),"Vente libre service interdite","Vente libre service autorisée") -> Vente libre service interdite
...

Sheet Paramètres
A1: Code | B1: N° AMM | C1: Nom produits | E1: code | F1: N° AMM | G1: Colonne1 | H1: identifiant usage | J1: Nb occurrence | L1: P_2000087 | N1: P_2010101 | P1: P_2050075 | R1: P_2050136 | T1: P_2060002 | V1: P_2060172 | X1: P_2090025 | Z1: P_2110153 | AB1: P_2130244 | AD1: P_2150116 | AF1: P_2150209 | AH1: P_2150279 | AJ1: P_2159999 | AL1: P_2160456 | AN1: P_2160727 | AP1: P_2160805 | AR1: P_2170139 | AT1: P_2180347 | AV1: P_8300243 | AX1: P_8800843 | AZ1: P_8900620 | BB1: P_9100034 | BD1: P_9300490 | BF1: P_9500007 | BH1: P_9500234 | BJ1: P_9500579 | BL1: P_9600097 | BN1: P_9600376 | BP1: P_9800400
A2: P_2000087 | B2: 2000087 | C2: COPLESS | E2: =F2&"_"&COUNTIF($F$2:F2,F2) -> 2000087_1 | F2: 2000087 | G2: P_2000087 | H2: Cerisier*Trt Part.Aer.*Bactérioses | J2: 1 | L2: Cerisier*Trt Part.Aer.*Bactérioses | N2: Plantes d'intérieur et balcons*Trt Part.Aer.*Oïdium(s) | P2: Haricots écossés frais*Trt Part.Aer.*Pourriture grise et sclérotinioses | R2: Chataignier*Trt Prod. Réc.*Désinsectisation | T2: Céleris*Trt Part.Aer.*Maladies des taches brunes (1) | V2: Pommier*Trt Part.Aer.*Tavelure(s) | X2: Betterave industrielle et fourragère*Désherbage | Z2: Orge*Trt Part.Aer.*Limit. Croiss. Org. Aériens | AB2: Pomme de terre*Trt Part.Aer.*Maladies des taches brunes | AD2: Gazons de graminées*Trt Sol*Ravageurs du sol | AF2: Traitements généraux*Désherbage*Cult. Installées (1) | AH2: Graines protéagineuses*Trt Part.Aer.*Rouille(s) | AJ2: Laitue*Trt Part.Aer.*Pucerons | AL2: Riz*Désherbage | AN2: Orge*Désherbage | AP2: Blé*Désherbage | AR2: Traitements généraux*Désinsectisation*Locx Struct. Matér. (POV) | AT2: Arbres et arbustes*Trt Part.Aer.*Aleurodes | AV2: Blé*Trt Part.Aer.*Septoriose(s) | AX2: Champignons*Trt Sol*Moucherons | AZ2: Vigne*Trt Part.Aer.*Excoriose | BB2: Blé*Trt Part.Aer.*Limit. Croiss. Org. Aériens | BD2: Houblon*Trt Part.Aer.*Mildiou(s) | BF2: Pomme de terre*Trt Part.Aer.*Mildiou(s) | BH2: Pommier*Trt Part.Aer.*Tavelure(s) | BJ2: Blé*Trt Part.Aer.*Oïdium(s) | BL2: PPAMC*Trt Part.Aer.*Maladies fongiques | BN2: Pommier*Trt Part.Aer.*Acariens et phytoptes | BP2: Vigne*Trt Part.Aer.*Mildiou(s)
A3: P_2010101 | B3: 2010101 | C3: MALADIES DES ROSIERS CPJ | E3: =F3&"_"&COUNTIF($F$2:F3,F3) -> 2000087_2 | F3: 2000087 | G3: P_2000087 | H3: Cerisier*Trt Part.Aer.*Coryneum et polystigma | J3: 2 | L3: Cerisier*Trt Part.Aer.*Coryneum et polystigma | N3: Plantes d'intérieur et balcons*Trt Part.Aer.*Maladies diverses (1) | P3: Porte graine - Légumineuses fourragères*Trt Part.Aer.*Maladies à sclérotes | R3: Forêt*Trt bois abattus*Insectes xylophages et sous corticaux | T3: Rosier*Trt Part.Aer.*Maladies des taches noires | V3: Pommier*Trt Part.Aer.*Oïdium(s) | Z3: Seigle*Trt Part.Aer.*Limit. Croiss. Org. Aériens | AB3: Pomme de terre*Trt Part.Aer.*Mildiou(s) | AF3: Blé*Désherbage | AH3: Blé*Trt Part.Aer.*Oïdium(s) | AJ3: Fines Herbes*Trt Part.Aer.*Pucerons | AN3: Blé*Désherbage | AP3: Avoine*Désherbage | AT3: Rosier*Trt Part.Aer.*Aleurodes | AV3: Pomme de terre*Trt Part.Aer.*Mildiou(s) | AX3: Concombre*Trt Part.Aer.*Mouches | AZ3: Vigne*Trt Part.Aer.*Mildiou(s) | BD3: Pêcher*Trt Part.Aer.*Cloque(s) | BH3: Pommier*Trt Part.Aer.*Oïdium(s) | BJ3: Blé*Trt Part.Aer.*Rouille(s) | BL3: Cerisier*Trt Part.Aer.*Bactérioses | BN3: Pêcher*Trt Part.Aer.*Acariens et phytoptes | BP3: Pomme de terre*Trt Part.Aer.*Mildiou(s)
A4: P_2050075 | B4: 2050075 | C4: PICTOR PRO | E4: =F4&"_"&COUNTIF($F$2:F4,F4) -> 2000087_3 | F4: 2000087 | G4: P_2000087 | H4: Fruits à coque*Trt Part.Aer.*Bactérioses | J4: 3 | L4: Fruits à coque*Trt Part.Aer.*Bactérioses | N4: Plantes d'intérieur et balcons*Trt Part.Aer.*Maladies des taches foliaires | P4: Porte graine - PPAMC, Florales et Potagères*Trt Part.Aer.*Maladies à sclérotes | R4: Traitements généraux*Désinsectisation*Locx Struct. Matér. (POV) | T4: Rosier*Trt Part.Aer.*Oïdium(s) | V4: Vigne*Trt Part.Aer.*Black rot | Z4: Blé*Trt Part.Aer.*Limit. Croiss. Org. Aériens | AB4: Tomate*Trt Part.Aer.*Mildiou(s) | AF4: Orge*Désherbage | AH4: Blé*Trt Part.Aer.*Rouille(s) | AJ4: Tomate*Trt Part.Aer.*Pucerons | AN4: Seigle*Désherbage | AP4: Orge*Désherbage | AT4: Cultures florales et plantes vertes*Trt Part.Aer.*Aleurodes | AV4: Asperge*Trt Part.Aer.*Maladies des taches brunes | AX4: Cultures florales et plantes vertes*Trt Part.Aer.*Mouches | AZ4: Vigne*Trt Part.Aer.*Rougeot parasitaire | BD4: Pomme de terre*Trt Part.Aer.*Mildiou(s) | BH4: Vigne*Trt Part.Aer.*Black rot | BJ4: Blé*Trt Part.Aer.*Septoriose(s) | BL4: Cerisier*Trt Part.Aer.*Coryneum et polystigma
A5: P_2050136 | B5: 2050136 | C5: PROFUME | E5: =F5&"_"&COUNTIF($F$2:F5,F5) -> 2000087_4 | F5: 2000087 | G5: P_2000087 | H5: Laitue*Trt Part.Aer.*Bactérioses | J5: 4 | L5: Laitue*Trt Part.Aer.*Bactérioses | P5: Porte graine - PPAMC, Florales et Potagères*Trt Part.Aer.*Phoma | R5: Traitements généraux*Fumigation (désinsectisation)*Locx Struct. Matér. (POV) | T5: Rosier*Trt Part.Aer.*Rouille(s) | V5: Vigne*Trt Part.Aer.*Oïdium(s) | AB5: Tomate*Trt Part.Aer.*Maladies des taches brunes | AF5: Cultures fruitières*Désherbage*Cult. Installées | AH5: Blé*Trt Part.Aer.*Fusarioses | AJ5: Fraisier*Trt Part.Aer.*Pucerons | AP5: Seigle*Désherbage | AV5: Concombre*Trt Part.Aer.*Mildiou(s) | AX5: Cultures ornementales*Trt Sol*Mouches | AZ5: Pomme de terre*Trt Part.Aer.*Mildiou(s) | BD5: Pommier*Trt Part.Aer.*Tavelure(s) | BH5: Vigne*Trt Part.Aer.*Oïdium(s) | BL5: Fruits à coque*Trt Part.Aer.*Bactérioses
A6: P_2060002 | B6: 2060002 | C6: DIFCOR 250 EC | E6: =F6&"_"&COUNTIF($F$2:F6,F6) -> 2000087_5 | F6: 2000087 | G6: P_2000087 | H6: Olivier*Trt Part.Aer.*Bactérioses | J6: 5 | L6: Olivier*Trt Part.Aer.*Bactérioses | P6: Porte graine - Betterave industrielle et fourragère*Trt Part.Aer.*Maladies des taches foliaires | R6: Traitements généraux*Trt Prod. Réc.*Désinsectisation | T6: Arbres et arbustes*Trt Part.Aer.*Maladies diverses (1) | V6: Vigne*Trt Part.Aer.*Rougeot parasitaire | AF6: Vigne*Désherbage*Cult. Installées | AH6: Orge*Trt Part.Aer.*Helminthosporiose et ramulariose | AJ6: Concombre*Trt Part.Aer.*Pucerons | AP6: Maïs*Désherbage | AV6: Concombre*Trt Part.Aer.*maladies des taches brunes | AX6: Melon*Trt Part.Aer.*Mouches | AZ6: Vigne*Trt Part.Aer.*Black rot | BD6: Vigne*Trt Part.Aer.*Mildiou(s) | BH6: Vigne*Trt Part.Aer.*Rougeot parasitaire | BL6: Laitue*Trt Part.Aer.*Bactérioses
A7: P_2060172 | B7: 2060172 | C7: LIDAL | E7: =F7&"_"&COUNTIF($F$2:F7,F7) -> 2000087_6 | F7: 2000087 | G7: P_2000087 | H7: Olivier*Trt Part.Aer.*Maladie de l'oeil de paon | J7: 6 | L7: Olivier*Trt Part.Aer.*Maladie de l'oeil de paon | P7: Crucifères oléagineuses*Trt Part.Aer.*Maladies fongiques des siliques | T7: Arbres et arbustes*Trt Part.Aer.*Oïdium(s) | AF7: Traitements généraux*Dévitalisation*Arb. sur pied Souches | AH7: Orge*Trt Part.Aer.*Oïdium(s) | AJ7: Poivron*Trt Part.Aer.*Pucerons | AP7: Canne à sucre*Désherbage | AV7: Graines protéagineuses*Trt Part.Aer.*Anthracnose(s) | AX7: Tomate*Trt Part.Aer.*Mouches | BL7: Olivier*Trt Part.Aer.*Bactérioses
A8: P_2090025 | B8: 2090025 | C8: GLOTRON 70 WG | E8: =F8&"_"&COUNTIF($F$2:F8,F8) -> 2000087_7 | F8: 2000087 | G8: P_2000087 | H8: Pêcher*Trt Part.Aer.*Cloque(s) | J8: 7 | L8: Pêcher*Trt Part.Aer.*Cloque(s) | P8: Crucifères oléagineuses*Trt Part.Aer.*Phoma | T8: Asperge*Trt Part.Aer.*Maladies des taches brunes | AF8: Traitements généraux*Destruct. Souches | AH8: Orge*Trt Part.Aer.*Rhynchosporiose | AJ8: Melon*Trt Part.Aer.*Pucerons | AP8: Pavot*Désherbage | AV8: Graines protéagineuses*Trt Part.Aer.*Pourriture grise et sclérotinioses | AX8: Céleris*Trt Part.Aer.*Mouches (1) | BL8: Olivier*Trt Part.Aer.*Maladie de l'oeil de paon
A9: P_2110153 | B9: 2110153 | C9: BOGOTA | E9: =F9&"_"&COUNTIF($F$2:F9,F9) -> 2000087_8 | F9: 2000087 | G9: P_2000087 | H9: Pêcher*Trt Part.Aer.*Coryneum et polystigma | J9: 8 | L9: Pêcher*Trt Part.Aer.*Coryneum et polystigma | P9: Crucifères oléagineuses*Trt Part.Aer.*Sclérotiniose | T9: Asperge*Trt Part.Aer.*Rouille(s) | AF9: Légumineuses fourragères*Désherbage | AH9: Orge*Trt Part.Aer.*Rouille(s) | AJ9: Epinard*Trt Part.Aer.*Pucerons | AP9: Oignon*Désherbage | AV9: Pois écossés frais*Trt Part.Aer.*Maladies des taches brunes | AX9: Laitue*Trt Part.Aer.*Mouches | BL9: Pêcher*Trt Part.Aer.*Cloque(s)
A10: P_2130244 | B10: 2130244 | C10: REVUS TOP | E10: =F10&"_"&COUNTIF($F$2:F10,F10) -> 2000087_9 | F10: 2000087 | G10: P_2000087 | H10: Pomme de terre*Trt Part.Aer.*Mildiou(s) | J10: 9 | L10: Pomme de terre*Trt Part.Aer.*Mildiou(s) | P10: Haricots*Trt Part.Aer.*Pourriture grise et sclérotinioses (1) | T10: Betterave potagère*Trt Part.Aer.*Maladies des taches brunes | AF10: Traitements généraux*Désherbage*Avt Mise Cult. | AH10: Orge*Trt Part.Aer.*Fusarioses | AP10: Porte graine*Désherbage | AV10: Pois écossés frais*Trt Part.Aer.*Pourriture grise et sclérotinioses | AX10: PPAMC*Trt Part.Aer.*Ravageurs divers | BL10: Pêcher*Trt Part.Aer.*Coryneum et polystigma
A11: P_2150116 | B11: 2150116 | C11: BELEM EV | E11: =F11&"_"&COUNTIF($F$2:F11,F11) -> 2000087_10 | F11: 2000087 | G11: P_2000087 | H11: Pommier*Trt Part.Aer.*Bactérioses | J11: 10 | L11: Pommier*Trt Part.Aer.*Bactérioses | P11: Lin*Trt Part.Aer.*Phoma | T11: Carotte*Trt Part.Aer.*Oïdium(s) | AH11: Crucifères oléagineuses*Trt Part.Aer.*Maladies fongiques des siliques | AP11: PPAM - non alimentaires*Désherbage | AV11: Tomate*Trt Part.Aer.*Maladies des taches brunes | BL11: Pomme de terre*Trt Part.Aer.*Mildiou(s)
A12: P_2150209 | B12: 2150209 | C12: ROUNDUP VISION | E12: =F12&"_"&COUNTIF($F$2:F12,F12) -> 2000087_11 | F12: 2000087 | G12: P_2000087 | H12: Pommier*Trt Part.Aer.*Chancre européen | J12: 11 | L12: Pommier*Trt Part.Aer.*Chancre européen | P12: Pois écossés frais*Trt Part.Aer.*Pourriture grise et sclérotinioses | T12: Chicorées - Production de racines*Trt Part.Aer.*Maladies des taches brunes | AH12: Crucifères oléagineuses*Trt Part.Aer.*Cylindrosporiose | AV12: Tomate*Trt Part.Aer.*Mildiou(s) | BL12: Pommier*Trt Part.Aer.*Bactérioses
A13: P_2150279 | B13: 2150279 | C13: RIZA | E13: =F13&"_"&COUNTIF($F$2:F13,F13) -> 2000087_12 | F13: 2000087 | G13: P_2000087 | H13: Pommier*Trt Part.Aer.*Tavelure(s) | J13: 12 | L13: Pommier*Trt Part.Aer.*Tavelure(s) | T13: Chicorées - Production de racines*Trt Part.Aer.*Oïdium(s) | AH13: Crucifères oléagineuses*Trt Part.Aer.*Sclérotiniose | AV13: Tomate*Trt Part.Aer.*Pourriture grise et sclérotinioses | BL13: Pommier*Trt Part.Aer.*Chancre européen
A14: P_2159999 | B14: 2159999 | C14: LIFE SCIENTIFIC PIRIMICARB | E14: =F14&"_"&COUNTIF($F$2:F14,F14) -> 2000087_13 | F14: 2000087 | G14: P_2000087 | H14: Prunier*Trt Part.Aer.*Bactérioses | J14: 13 | L14: Prunier*Trt Part.Aer.*Bactérioses | T14: Chicorées - Production de racines*Trt Part.Aer.*Rouille(s) | AH14: Crucifères oléagineuses*Trt Part.Aer.*Limit. Croiss. Org. Aériens | AV14: Melon*Trt Part.Aer.*Maladies des taches brunes | BL14: Pommier*Trt Part.Aer.*Tavelure(s)
A15: P_2160456 | B15: 2160456 | C15: PERMIT | E15: =F15&"_"&COUNTIF($F$2:F15,F15) -> 2000087_14 | F15: 2000087 | G15: P_2000087 | H15: Tomate*Trt Part.Aer.*Bactérioses | J15: 14 | L15: Tomate*Trt Part.Aer.*Bactérioses | T15: Choux*Trt Part.Aer.*Maladies des taches brunes | AH15: Avoine*Trt Part.Aer.*Oïdium(s) | AV15: Melon*Trt Part.Aer.*Mildiou(s) | BL15: Porte graine*Trt Part.Aer.*Maladies diverses
A16: P_2160727 | B16: 2160727 | C16: OSSETIA | E16: =F16&"_"&COUNTIF($F$2:F16,F16) -> 2000087_15 | F16: 2000087 | G16: P_2000087 | H16: Tomate*Trt Part.Aer.*Mildiou(s) | J16: 15 | L16: Tomate*Trt Part.Aer.*Mildiou(s) | T16: Pêcher*Trt Part.Aer.*Monilioses | AH16: Avoine*Trt Part.Aer.*Rouille couronnée | BL16: Prunier*Trt Part.Aer.*Bactérioses
