Workbook
Name L_Code: #REF!
Name L_Code: #REF!
Name P_2000087: Tableau5[P_2000087]
Name P_2010101: Tableau6[P_2010101]
Name P_2050075: Tableau7[P_2050075]
Name P_2050136: Tableau8[P_2050136]
Name P_2060002: Tableau9[P_2060002]
Name P_2060172: Tableau10[P_2060172]
Name P_2090025: Tableau11[P_2090025]
Name P_2110153: Tableau12[P_2110153]
Name P_2130244: Tableau13[P_2130244]
Name P_2150116: Tableau14[P_2150116]
Name P_2150209: Tableau15[P_2150209]
Name P_2150279: Tableau16[P_2150279]
Name P_2159999: Tableau17[P_2159999]
Name P_2160456: Tableau18[P_2160456]
Name P_2160727: Tableau19[P_2160727]
Name P_2160805: Tableau20[P_2160805]
Name P_2170139: Tableau21[P_2170139]
Name P_2180347: Tableau22[P_2180347]
Name P_8300243: Tableau23[P_8300243]
Name P_8800843: Tableau24[P_8800843]
Name P_8900620: Tableau25[P_8900620]
Name P_9100034: Tableau26[P_9100034]
Name P_9300490: Tableau27[P_9300490]
Name P_9500007: Tableau28[P_9500007]
Name P_9500234: Tableau29[P_9500234]
Name P_9500579: Tableau30[P_9500579]
Name P_9600097: Tableau31[P_9600097]
Name P_9600376: Tableau32[P_9600376]
Name P_9800400: Tableau33[P_9800400]
Name Usages: OFFSET(#REF!,0,0,2000,)
Name Usages: OFFSET(#REF!,0,0,2000,)

Sheet Registre contrôle N°AMM
C1: Extraction ephyanses au 18/02/2019 - Données ouvertes du catalogue des produits phytopharmaceutiques, adjuvants, matières fertilisantes et support de culture, produits mixtes et mélanges – e.Phy
A2: Saisir n° AMM | C2: nom produit | D2: type produit | E2: seconds noms commerciaux | F2: gamme usage | G2: mentions autorisees | H2: Substances actives | I2: date decision | J2: Vente libre service
A3: P_2150209 | B3: Traitements généraux*Désherbage*Cult. Installées (1) | C3: =IFERROR(VLOOKUP(RIGHT($A3,LEN($A3)-2)*1,T_UsageProduits[],4,0),"") -> ROUNDUP VISION | D3: =IFERROR(VLOOKUP(RIGHT($A3,LEN($A3)-2)*1,T_UsageProduits[],2,0),"") -> PPP | E3: =IFERROR(VLOOKUP(RIGHT($A3,LEN($A3)-2)*1,T_UsageProduits[],5,0),"") -> ROUNDUP PERFECT | ROUNDUP SYSTEM | F3: =IFERROR(VLOOKUP(RIGHT($A3,LEN($A3)-2)*1,T_UsageProduits[],8,0),"") -> Professionnel | G3: =IFERROR(VLOOKUP(RIGHT($A3,LEN($A3)-2)*1,T_UsageProduits[],9,0),"") -> 0 | H3: =IFERROR(VLOOKUP(RIGHT($A3,LEN($A3)-2)*1,T_UsageProduits[],10,0),"") -> glyphosate sel de potassium (Glyphosate) 441.0 g/L | I3: =IFERROR(VLOOKUP(RIGHT($A3,LEN($A3)-2)*1,usages_des_produits_autorises_v!$A:$P,15,FALSE),"") -> 42571 | J3: =IFERROR(IF(F3="Professionnel","Produit professionnel",VLOOKUP(RIGHT($A3,LEN($A3)-2)*1,usages_des_produits_autorises_v!$A:$AG,33,FALSE)),"") -> Produit professionnel
A4: P_2110153 | B4: Blé*Trt Part.Aer.*Limit. Croiss. Org. Aériens | C4: =IFERROR(VLOOKUP(RIGHT($A4,LEN($A4)-2)*1,T_UsageProduits[],4,0),"") -> BOGOTA | D4: =IFERROR(VLOOKUP(RIGHT($A4,LEN($A4)-2)*1,T_UsageProduits[],2,0),"") -> PPP | E4: =IFERROR(VLOOKUP(RIGHT($A4,LEN($A4)-2)*1,T_UsageProduits[],5,0),"") -> 0 | F4: =IFERROR(VLOOKUP(RIGHT($A4,LEN($A4)-2)*1,T_UsageProduits[],8,0),"") -> Professionnel | G4: =IFERROR(VLOOKUP(RIGHT($A4,LEN($A4)-2)*1,T_UsageProduits[],9,0),"") -> 0 | H4: =IFERROR(VLOOKUP(RIGHT($A4,LEN($A4)-2)*1,T_UsageProduits[],10,0),"") -> chlorure de chlorméquat (Chlormequat) 300.0 g/L | ethéphon (Ethephon) 150.0 g/L | I4: =IFERROR(VLOOKUP(RIGHT($A4,LEN($A4)-2)*1,usages_des_produits_autorises_v!$A:$P,15,FALSE),"") -> 43329 | J4: =IFERROR(IF(F4="Professionnel","Produit professionnel",VLOOKUP(RIGHT($A4,LEN($A4)-2)*1,usages_des_produits_autorises_v!$A:$AG,33,FALSE)),"") -> Produit professionnel
A5: P_9600097 | B5: Olivier*Trt Part.Aer.*Maladie de l'oeil de paon | C5: =IFERROR(VLOOKUP(RIGHT($A5,LEN($A5)-2)*1,T_UsageProduits[],4,0),"") -> CHAMP FLO | D5: =IFERROR(VLOOKUP(RIGHT($A5,LEN($A5)-2)*1,T_UsageProduits[],2,0),"") -> PPP | E5: =IFERROR(VLOOKUP(RIGHT($A5,LEN($A5)-2)*1,T_UsageProduits[],5,0),"") -> 0 | F5: =IFERROR(VLOOKUP(RIGHT($A5,LEN($A5)-2)*1,T_UsageProduits[],8,0),"") -> Amateur / emploi autorisé dans les jardins | G5: =IFERROR(VLOOKUP(RIGHT($A5,LEN($A5)-2)*1,T_UsageProduits[],9,0),"") -> Emploi autorisé dans les jardins | Utilisable en agriculture biologique | H5: =IFERROR(VLOOKUP(RIGHT($A5,LEN($A5)-2)*1,T_UsageProduits[],10,0),"") -> cuivre de l'hydroxyde de cuivre (Copper compounds) 552.74 g/L | I5: =IFERROR(VLOOKUP(RIGHT($A5,LEN($A5)-2)*1,usages_des_produits_autorises_v!$A:$P,15,FALSE),"") -> 40213 | J5: =IFERROR(IF(F5="Professionnel","Produit professionnel",VLOOKUP(RIGHT($A5,LEN($A5)-2)*1,usages_des_produits_autorises_v!$A:$AG,33,FALSE)),"") -> Vente libre service autorisée
C6: =IFERROR(VLOOKUP(RIGHT($A6,LEN($A6)-2)*1,T_UsageProduits[],4,0),"") | D6: =IFERROR(VLOOKUP(RIGHT($A6,LEN($A6)-2)*1,T_UsageProduits[],2,0),"") | E6: =IFERROR(VLOOKUP(RIGHT($A6,LEN($A6)-2)*1,T_UsageProduits[],5,0),"") | F6: =IFERROR(VLOOKUP(RIGHT($A6,LEN($A6)-2)*1,T_UsageProduits[],8,0),"") | G6: =IFERROR(VLOOKUP(RIGHT($A6,LEN($A6)-2)*1,T_UsageProduits[],9,0),"") | H6: =IFERROR(VLOOKUP(RIGHT($A6,LEN($A6)-2)*1,T_UsageProduits[],10,0),"") | I6: =IFERROR(VLOOKUP(RIGHT($A6,LEN($A6)-2)*1,usages_des_produits_autorises_v!$A:$P,15,FALSE),"") | J6: =IFERROR(IF(F6="Professionnel","Produit professionnel",VLOOKUP(RIGHT($A6,LEN($A6)-2)*1,usages_des_produits_autorises_v!$A:$AG,33,FALSE)),"")
C7: =IFERROR(VLOOKUP(RIGHT($A7,LEN($A7)-2)*1,T_UsageProduits[],4,0),"") | D7: =IFERROR(VLOOKUP(RIGHT($A7,LEN($A7)-2)*1,T_UsageProduits[],2,0),"") | E7: =IFERROR(VLOOKUP(RIGHT($A7,LEN($A7)-2)*1,T_UsageProduits[],5,0),"") | F7: =IFERROR(VLOOKUP(RIGHT($A7,LEN($A7)-2)*1,T_UsageProduits[],8,0),"") | G7: =IFERROR(VLOOKUP(RIGHT($A7,LEN($A7)-2)*1,T_UsageProduits[],9,0),"") | H7: =IFERROR(VLOOKUP(RIGHT($A7,LEN($A7)-2)*1,T_UsageProduits[],10,0),"") | I7: =IFERROR(VLOOKUP(RIGHT($A7,LEN($A7)-2)*1,usages_des_produits_autorises_v!$A:$P,15,FALSE),"") | J7: =IFERROR(IF(F7="Professionnel","Produit professionnel",VLOOKUP(RIGHT($A7,LEN($A7)-2)*1,usages_des_produits_autorises_v!$A:$AG,33,FALSE)),"")
C8: =IFERROR(VLOOKUP(RIGHT($A8,LEN($A8)-2)*1,T_UsageProduits[],4,0),"") | D8: =IFERROR(VLOOKUP(RIGHT($A8,LEN($A8)-2)*1,T_UsageProduits[],2,0),"") | E8: =IFERROR(VLOOKUP(RIGHT($A8,LEN($A8)-2)*1,T_UsageProduits[],5,0),"") | F8: =IFERROR(VLOOKUP(RIGHT($A8,LEN($A8)-2)*1,T_UsageProduits[],8,0),"") | G8: =IFERROR(VLOOKUP(RIGHT($A8,LEN($A8)-2)*1,T_UsageProduits[],9,0),"") | H8: =IFERROR(VLOOKUP(RIGHT($A8,LEN($A8)-2)*1,T_UsageProduits[],10,0),"") | I8: =IFERROR(VLOOKUP(RIGHT($A8,LEN($A8)-2)*1,usages_des_produits_autorises_v!$A:$P,15,FALSE),"") | J8: =IFERROR(IF(F8="Professionnel","Produit professionnel",VLOOKUP(RIGHT($A8,LEN($A8)-2)*1,usages_des_produits_autorises_v!$A:$AG,33,FALSE)),"")
C9: =IFERROR(VLOOKUP(RIGHT($A9,LEN($A9)-2)*1,T_UsageProduits[],4,0),"") | D9: =IFERROR(VLOOKUP(RIGHT($A9,LEN($A9)-2)*1,T_UsageProduits[],2,0),"") | E9: =IFERROR(VLOOKUP(RIGHT($A9,LEN($A9)-2)*1,T_UsageProduits[],5,0),"") | F9: =IFERROR(VLOOKUP(RIGHT($A9,LEN($A9)-2)*1,T_UsageProduits[],8,0),"") | G9: =IFERROR(VLOOKUP(RIGHT($A9,LEN($A9)-2)*1,T_UsageProduits[],9,0),"") | H9: =IFERROR(VLOOKUP(RIGHT($A9,LEN($A9)-2)*1,T_UsageProduits[],10,0),"") | I9: =IFERROR(VLOOKUP(RIGHT($A9,LEN($A9)-2)*1,usages_des_produits_autorises_v!$A:$P,15,FALSE),"") | J9: =IFERROR(IF(F9="Professionnel","Produit professionnel",VLOOKUP(RIGHT($A9,LEN($A9)-2)*1,usages_des_produits_autorises_v!$A:$AG,33,FALSE)),"")
C10: =IFERROR(VLOOKUP(RIGHT($A10,LEN($A10)-2)*1,T_UsageProduits[],4,0),"") | D10: =IFERROR(VLOOKUP(RIGHT($A10,LEN($A10)-2)*1,T_UsageProduits[],2,0),"") | E10: =IFERROR(VLOOKUP(RIGHT($A10,LEN($A10)-2)*1,T_UsageProduits[],5,0),"") | F10: =IFERROR(VLOOKUP(RIGHT($A10,LEN($A10)-2)*1,T_UsageProduits[],8,0),"") | G10: =IFERROR(VLOOKUP(RIGHT($A10,LEN($A10)-2)*1,T_UsageProduits[],9,0),"") | H10: =IFERROR(VLOOKUP(RIGHT($A10,LEN($A10)-2)*1,T_UsageProduits[],10,0),"") | I10: =IFERROR(VLOOKUP(RIGHT($A10,LEN($A10)-2)*1,usages_des_produits_autorises_v!$A:$P,15,FALSE),"") | J10: =IFERROR(IF(F10="Professionnel","Produit professionnel",VLOOKUP(RIGHT($A10,LEN($A10)-2)*1,usages_des_produits_autorises_v!$A:$AG,33,FALSE)),"")
C11: =IFERROR(VLOOKUP(RIGHT($A11,LEN($A11)-2)*1,T_UsageProduits[],4,0),"") | D11: =IFERROR(VLOOKUP(RIGHT($A11,LEN($A11)-2)*1,T_UsageProduits[],2,0),"") | E11: =IFERROR(VLOOKUP(RIGHT($A11,LEN($A11)-2)*1,T_UsageProduits[],5,0),"") | F11: =IFERROR(VLOOKUP(RIGHT($A11,LEN($A11)-2)*1,T_UsageProduits[],8,0),"") | G11: =IFERROR(VLOOKUP(RIGHT($A11,LEN($A11)-2)*1,T_UsageProduits[],9,0),"") | H11: =IFERROR(VLOOKUP(RIGHT($A11,LEN($A11)-2)*1,T_UsageProduits[],10,0),"") | I11: =IFERROR(VLOOKUP(RIGHT($A11,LEN($A11)-2)*1,usages_des_produits_autorises_v!$A:$P,15,FALSE),"") | J11: =IFERROR(IF(F11="Professionnel","Produit professionnel",VLOOKUP(RIGHT($A11,LEN($A11)-2)*1,usages_des_produits_autorises_v!$A:$AG,33,FALSE)),"")
C12: =IFERROR(VLOOKUP(RIGHT($A12,LEN($A12)-2)*1,T_UsageProduits[],4,0),"") | D12: =IFERROR(VLOOKUP(RIGHT($A12,LEN($A12)-2)*1,T_UsageProduits[],2,0),"") | E12: =IFERROR(VLOOKUP(RIGHT($A12,LEN($A12)-2)*1,T_UsageProduits[],5,0),"") | F12: =IFERROR(VLOOKUP(RIGHT($A12,LEN($A12)-2)*1,T_UsageProduits[],8,0),"") | G12: =IFERROR(VLOOKUP(RIGHT($A12,LEN($A12)-2)*1,T_UsageProduits[],9,0),"") | H12: =IFERROR(VLOOKUP(RIGHT($A12,LEN($A12)-2)*1,T_UsageProduits[],10,0),"") | I12: =IFERROR(VLOOKUP(RIGHT($A12,LEN($A12)-2)*1,usages_des_produits_autorises_v!$A:$P,15,FALSE),"") | J12: =IFERROR(IF(F12="Professionnel","Produit professionnel",VLOOKUP(RIGHT($A12,LEN($A12)-2)*1,usages_des_produits_autorises_v!$A:$AG,33,FALSE)),"")
C13: =IFERROR(VLOOKUP(RIGHT($A13,LEN($A13)-2)*1,T_UsageProduits[],4,0),"") | D13: =IFERROR(VLOOKUP(RIGHT($A13,LEN($A13)-2)*1,T_UsageProduits[],2,0),"") | E13: =IFERROR(VLOOKUP(RIGHT($A13,LEN($A13)-2)*1,T_UsageProduits[],5,0),"") | F13: =IFERROR(VLOOKUP(RIGHT($A13,LEN($A13)-2)*1,T_UsageProduits[],8,0),"") | G13: =IFERROR(VLOOKUP(RIGHT($A13,LEN($A13)-2)*1,T_UsageProduits[],9,0),"") | H13: =IFERROR(VLOOKUP(RIGHT($A13,LEN($A13)-2)*1,T_UsageProduits[],10,0),"") | I13: =IFERROR(VLOOKUP(RIGHT($A13,LEN($A13)-2)*1,usages_des_produits_autorises_v!$A:$P,15,FALSE),"") | J13: =IFERROR(IF(F13="Professionnel","Produit professionnel",VLOOKUP(RIGHT($A13,LEN($A13)-2)*1,usages_des_produits_autorises_v!$A:$AG,33,FALSE)),"")
C14: =IFERROR(VLOOKUP(RIGHT($A14,LEN($A14)-2)*1,T_UsageProduits[],4,0),"") | D14: =IFERROR(VLOOKUP(RIGHT($A14,LEN($A14)-2)*1,T_UsageProduits[],2,0),"") | E14: =IFERROR(VLOOKUP(RIGHT($A14,LEN($A14)-2)*1,T_UsageProduits[],5,0),"") | F14: =IFERROR(VLOOKUP(RIGHT($A14,LEN($A14)-2)*1,T_UsageProduits[],8,0),"") | G14: =IFERROR(VLOOKUP(RIGHT($A14,LEN($A14)-2)*1,T_UsageProduits[],9,0),"") | H14: =IFERROR(VLOOKUP(RIGHT($A14,LEN($A14)-2)*1,T_UsageProduits[],10,0),"") | I14: =IFERROR(VLOOKUP(RIGHT($A14,LEN($A14)-2)*1,usages_des_produits_autorises_v!$A:$P,15,FALSE),"") | J14: =IFERROR(IF(F14="Professionnel","Produit professionnel",VLOOKUP(RIGHT($A14,LEN($A14)-2)*1,usages_des_produits_autorises_v!$A:$AG,33,FALSE)),"")
C15: =IFERROR(VLOOKUP(RIGHT($A15,LEN($A15)-2)*1,T_UsageProduits[],4,0),"") | D15: =IFERROR(VLOOKUP(RIGHT($A15,LEN($A15)-2)*1,T_UsageProduits[],2,0),"") | E15: =IFERROR(VLOOKUP(RIGHT($A15,LEN($A15)-2)*1,T_UsageProduits[],5,0),"") | F15: =IFERROR(VLOOKUP(RIGHT($A15,LEN($A15)-2)*1,T_UsageProduits[],8,0),"") | G15: =IFERROR(VLOOKUP(RIGHT($A15,LEN($A15)-2)*1,T_UsageProduits[],9,0),"") | H15: =IFERROR(VLOOKUP(RIGHT($A15,LEN($A15)-2)*1,T_UsageProduits[],10,0),"") | I15: =IFERROR(VLOOKUP(RIGHT($A15,LEN($A15)-2)*1,usages_des_produits_autorises_v!$A:$P,15,FALSE),"") | J15: =IFERROR(IF(F15="Professionnel","Produit professionnel",VLOOKUP(RIGHT($A15,LEN($A15)-2)*1,usages_des_produits_autorises_v!$A:$AG,33,FALSE)),"")
C16: =IFERROR(VLOOKUP(RIGHT($A16,LEN($A16)-2)*1,T_UsageProduits[],4,0),"") | D16: =IFERROR(VLOOKUP(RIGHT($A16,LEN($A16)-2)*1,T_UsageProduits[],2,0),"") | E16: =IFERROR(VLOOKUP(RIGHT($A16,LEN($A16)-2)*1,T_UsageProduits[],5,0),"") | F16: =IFERROR(VLOOKUP(RIGHT($A16,LEN($A16)-2)*1,T_UsageProduits[],8,0),"") | G16: =IFERROR(VLOOKUP(RIGHT($A16,LEN($A16)-2)*1,T_UsageProduits[],9,0),"") | H16: =IFERROR(VLOOKUP(RIGHT($A16,LEN($A16)-2)*1,T_UsageProduits[],10,0),"") | I16: =IFERROR(VLOOKUP(RIGHT($A16,LEN($A16)-2)*1,usages_des_produits_autorises_v!$A:$P,15,FALSE),"") | J16: =IFERROR(IF(F16="Professionnel","Produit professionnel",VLOOKUP(RIGHT($A16,LEN($A16)-2)*1,usages_des_produits_autorises_v!$A:$AG,33,FALSE)),"")
C17: =IFERROR(VLOOKUP(RIGHT($A17,LEN($A17)-2)*1,T_UsageProduits[],4,0),"") | D17: =IFERROR(VLOOKUP(RIGHT($A17,LEN($A17)-2)*1,T_UsageProduits[],2,0),"") | E17: =IFERROR(VLOOKUP(RIGHT($A17,LEN($A17)-2)*1,T_UsageProduits[],5,0),"") | F17: =IFERROR(VLOOKUP(RIGHT($A17,LEN($A17)-2)*1,T_UsageProduits[],8,0),"") | G17: =IFERROR(VLOOKUP(RIGHT($A17,LEN($A17)-2)*1,T_UsageProduits[],9,0),"") | H17: =IFERROR(VLOOKUP(RIGHT($A17,LEN($A17)-2)*1,T_UsageProduits[],10,0),"") | I17: =IFERROR(VLOOKUP(RIGHT($A17,LEN($A17)-2)*1,usages_des_produits_autorises_v!$A:$P,15,FALSE),"") | J17: =IFERROR(IF(F17="Professionnel","Produit professionnel",VLOOKUP(RIGHT($A17,LEN($A17)-2)*1,usages_des_produits_autorises_v!$A:$AG,33,FALSE)),"")
... C101: =IFERROR(VLOOKUP(RIGHT($A101,LEN($A101)-2)*1,T_UsageProduits[],4,0),"") | D101: =IFERROR(VLOOKUP(RIGHT($A101,LEN($A101)-2)*1,T_UsageProduits[],2,0),"") | E101: =IFERROR(VLOOKUP(RIGHT($A101,LEN($A101)-2)*1,T_UsageProduits[],5,0),"") | F101: =IFERROR(VLOOKUP(RIGHT($A101,LEN($A101)-2)*1,T_UsageProduits[],8,0),"") | G101: =IFERROR(VLOOKUP(RIGHT($A101,LEN($A101)-2)*1,T_UsageProduits[],9,0),"") | H101: =IFERROR(VLOOKUP(RIGHT($A101,LEN($A101)-2)*1,T_UsageProduits[],10,0),"") | I101: =IFERROR(VLOOKUP(RIGHT($A101,LEN($A101)-2)*1,usages_des_produits_autorises_v!$A:$P,15,FALSE),"") | J101: =IFERROR(IF(F101="Professionnel","Produit professionnel",VLOOKUP(RIGHT($A101,LEN($A101)-2)*1,usages_des_produits_autorises_v!$A:$AG,33,FALSE)),"")

Sheet usages_des_produits_autorises_v
A1: Clé | B1: (produit) type produit | C1: (produit) numero AMM | D1: (produit) nom produit | E1: (produit) seconds noms commerciaux | F1: (produit) titulaire | G1: (produit) type commercial | H1: (produit) gamme usage | I1: (produit) mentions autorisees | J1: (produit) Substances actives | K1: (produit) fonctions | L1: (produit) formulations | M1: identifiant usage lib court | N1: identifiant usage | O1: date decision | P1: stade cultural min | Q1: stade cultural max | R1: etat usage | S1: dose retenue | T1: dose retenue unite | U1: delai avant recolte jour | V1: delai avant recolte bbch | W1: nombre max d'application | X1: date fin distribution | Y1: date fin utilisation | Z1: condition emploi | AA1: ZNT aquatique (en m) | AB1: ZNT arthropodes non cibles (en m) | AC1: ZNT plantes non cibles (en m) | AD1: mentions autorisees | AE1: Clé2 | AF1: type produit | AG1: Vente libre service
A2: =C2 -> 2150209 | B2: PPP | C2: 2150209 | D2: ROUNDUP VISION | E2: ROUNDUP PERFECT | ROUNDUP SYSTEM | F2: MONSANTO SAS | G2: Produit de référence | H2: Professionnel | J2: glyphosate sel de potassium (Glyphosate) 441.0 g/L | K2: Herbicide | L2: Concentré soluble | M2: 11015932 | N2: Traitements généraux*Désherbage*Cult. Installées (1) | O2: 42571 | R2: Autorisé | S2: 3.0 | T2: L/ha | U2: 30 | Z2: Pour le désherbage en cultures légumières. | Autorisé sur graminées annuelles. | Également autorisé sous abri. | Ne pas dépasser la dose de 2880 g de substance active/ha/an. | AA2: 5.0 | AC2: 5.0 | AE2: =C2 -> 2150209 | AF2: =B2 -> PPP | AG2: =IF(OR(I2="Emploi autorisé dans les jardins",I2="Mention Abeille",I2=0,I2="Mention abeille | Emploi autorisé dans les jardins"),"Vente libre service interdite","Vente libre service autorisée") -> Vente libre service interdite
A3: =C3 -> 2150209 | B3: PPP | C3: 2150209 | D3: ROUNDUP VISION | E3: ROUNDUP PERFECT | ROUNDUP SYSTEM | F3: MONSANTO SAS | G3: Produit de référence | H3: Professionnel | J3: glyphosate sel de potassium (Glyphosate) 441.0 g/L | K3: Herbicide | L3: Concentré soluble | M3: 11015932 | N3: Traitements généraux*Désherbage*Cult. Installées (1) | O3: 42571 | R3: Autorisé | S3: 3.0 | T3: L/ha | Z3: Pour le désherbage en grandes cultures et cultures industrielles. | Autorisé sur graminées annuelles. | Également autorisé sous abri. | Ne pas dépasser la dose de 2880 g de substance active/ha/an. | AA3: 5.0 | AC3: 5.0 | AE3: =C3 -> 2150209 | AF3: =B3 -> PPP | AG3: =IF(OR(I3="Emploi autorisé dans les jardins",I3="Mention Abeille",I3=0,I3="Mention abeille | Emploi autorisé dans les jardins"),"Vente libre service interdite","Vente libre service autorisée") -> Vente libre service interdite
A4: =C4 -> 2150209 | B4: PPP | C4: 2150209 | D4: ROUNDUP VISION | E4: ROUNDUP PERFECT | ROUNDUP SYSTEM | F4: MONSANTO SAS | G4: Produit de référence | H4: Professionnel | J4: glyphosate sel de potassium (Glyphosate) 441.0 g/L | K4: Herbicide | L4: Concentré soluble | M4: 11015932 | N4: Traitements généraux*Désherbage*Cult. Installées (1) | O4: 42571 | R4: Autorisé | S4: 6.0 | T4: L/ha | U4: 30 | Z4: Pour le désherbage en cultures légumières. | Autorisé sur dicotylédones annuelles et bisannuelles. | Également autorisé sous abri. | Ne pas dépasser la dose de 2880 g de substance active/ha/an. | AA4: 5.0 | AC4: 5.0 | AE4: =C4 -> 2150209 | AF4: =B4 -> PPP | AG4: =IF(OR(I4="Emploi autorisé dans les jardins",I4="Mention Abeille",I4=0,I4="Mention abeille | Emploi autorisé dans les jardins"),"Vente libre service interdite","Vente libre service autorisée") -> Vente libre service interdite
A5: =C5 -> 2150209 | B5: PPP | C5: 2150209 | D5: ROUNDUP VISION | E5: ROUNDUP PERFECT | ROUNDUP SYSTEM | F5: MONSANTO SAS | G5: Produit de référence | H5: Professionnel | J5: glyphosate sel de potassium (Glyphosate) 441.0 g/L | K5: Herbicide | L5: Concentré soluble | M5: 11015932 | N5: Traitements généraux*Désherbage*Cult. Installées (1) | O5: 42571 | R5: Autorisé | S5: 6.0 | T5: L/ha | Z5: Pour le désherbage en grandes cultures et cultures industrielles. | Autorisé sur dicotylédones annuelles et bisannuelles. | Également autorisé sous abri. | Ne pas dépasser la dose de 2880 g de substance active/ha/an. | AA5: 5.0 | AC5: 5.0 | AE5: =C5 -> 2150209 | AF5: =B5 -> PPP | AG5: =IF(OR(I5="Emploi autorisé dans les jardins",I5="Mention Abeille",I5=0,I5="Mention abeille | Emploi autorisé dans les jardins"),"Vente libre service interdite","Vente libre service autorisée") -> Vente libre service interdite
A6: =C6 -> 2150209 | B6: PPP | C6: 2150209 | D6: ROUNDUP VISION | E6: ROUNDUP PERFECT | ROUNDUP SYSTEM | F6: MONSANTO SAS | G6: Produit de référence | H6: Professionnel | J6: glyphosate sel de potassium (Glyphosate) 441.0 g/L | K6: Herbicide | L6: Concentré soluble | M6: 11015932 | N6: Traitements généraux*Désherbage*Cult. Installées (1) | O6: 42571 | R6: Autorisé | S6: 7.0 | T6: L/ha | U6: 30 | Z6: Pour le désherbage en cultures légumières. | Autorisé sur adventices vivaces. | Également autorisé sous abri. | Ne pas dépasser la dose de 2880 g de substance active/ha/an. | AA6: 5.0 | AC6: 5.0 | AE6: =C6 -> 2150209 | AF6: =B6 -> PPP | AG6: =IF(OR(I6="Emploi autorisé dans les jardins",I6="Mention Abeille",I6=0,I6="Mention abeille | Emploi autorisé dans les jardins"),"Vente libre service interdite","Vente libre service autorisée") -> Vente libre service interdite
A7: =C7 -> 2150209 | B7: PPP | C7: 2150209 | D7: ROUNDUP VISION | E7: ROUNDUP PERFECT | ROUNDUP SYSTEM | F7: MONSANTO SAS | G7: Produit de référence | H7: Professionnel | J7: glyphosate sel de potassium (Glyphosate) 441.0 g/L | K7: Herbicide | L7: Concentré soluble | M7: 11015932 | N7: Traitements généraux*Désherbage*Cult. Installées (1) | O7: 42571 | R7: Autorisé | S7: 7.0 | T7: L/ha | Z7: Pour le désherbage en grandes cultures et cultures industrielles. | Autorisé sur adventices vivaces. | Également autorisé sous abri. | Ne pas dépasser la dose de 2880 g de substance active/ha/an. | AA7: 5.0 | AC7: 5.0 | AE7: =C7 -> 2150209 | AF7: =B7 -> PPP | AG7: =IF(OR(I7="Emploi autorisé dans les jardins",I7="Mention Abeille",I7=0,I7="Mention abeille | Emploi autorisé dans les jardins"),"Vente libre service interdite","Vente libre service autorisée") -> Vente libre service interdite
A8: =C8 -> 2150209 | B8: PPP | C8: 2150209 | D8: ROUNDUP VISION | E8: ROUNDUP PERFECT | ROUNDUP SYSTEM | F8: MONSANTO SAS | G8: Produit de référence | H8: Professionnel | J8: glyphosate sel de potassium (Glyphosate) 441.0 g/L | K8: Herbicide | L8: Concentré soluble | M8: 15105912 | N8: Blé*Désherbage | O8: 42571 | R8: Autorisé | S8: 6.0 | T8: L/ha | U8: 7 | Z8: Avant moisson | Ne pas appliquer sur blé destiné à la production de semences. | Ne pas dépasser la dose de 2160 g de substance active/ha/an. | AA8: 5.0 | AC8: 5.0 | AE8: =C8 -> 2150209 | AF8: =B8 -> PPP | AG8: =IF(OR(I8="Emploi autorisé dans les jardins",I8="Mention Abeille",I8=0,I8="Mention abeille | Emploi autorisé dans les jardins"),"Vente libre service interdite","Vente libre service autorisée") -> Vente libre service interdite
A9: =C9 -> 2150209 | B9: PPP | C9: 2150209 | D9: ROUNDUP VISION | E9: ROUNDUP PERFECT | ROUNDUP SYSTEM | F9: MONSANTO SAS | G9: Produit de référence | H9: Professionnel | J9: glyphosate sel de potassium (Glyphosate) 441.0 g/L | K9: Herbicide | L9: Concentré soluble | M9: 15105913 | N9: Orge*Désherbage | O9: 42571 | R9: Autorisé | S9: 6.0 | T9: L/ha | U9: 7 | Z9: Avant moisson | Ne pas appliquer sur orge destiné à la production de semences. | Ne pas dépasser la dose de 2160 g de substance active/ha/an. | | AA9: 5.0 | AC9: 5.0 | AE9: =C9 -> 2150209 | AF9: =B9 -> PPP | AG9: =IF(OR(I9="Emploi autorisé dans les jardins",I9="Mention Abeille",I9=0,I9="Mention abeille | Emploi autorisé dans les jardins"),"Vente libre service interdite","Vente libre service autorisée") -> Vente libre service interdite
A10: =C10 -> 2150209 | B10: PPP | C10: 2150209 | D10: ROUNDUP VISION | E10: ROUNDUP PERFECT | ROUNDUP SYSTEM | F10: MONSANTO SAS | G10: Produit de référence | H10: Professionnel | J10: glyphosate sel de potassium (Glyphosate) 441.0 g/L | K10: Herbicide | L10: Concentré soluble | M10: 201024 | N10: Cultures fruitières*Désherbage*Cult. Installées | O10: 42571 | R10: Autorisé | S10: 4.0 | T10: L/ha | U10: 21 | Z10: Autorisé sur agrumes, fruits à coque, fruits à pépins, fruits à noyau (pêcher, abricotier, cerisier et prunier) sur graminées annuelles. | Ne pas dépasser la dose de 2200 g de substance active/ha/an. | AA10: 5.0 | AC10: 5.0 | AE10: =C10 -> 2150209 | AF10: =B10 -> PPP | AG10: =IF(OR(I10="Emploi autorisé dans les jardins",I10="Mention Abeille",I10=0,I10="Mention abeille | Emploi autorisé dans les jardins"),"Vente libre service interdite","Vente libre service autorisée") -> Vente libre service interdite
A11: =C11 -> 2150209 | B11: PPP | C11: 2150209 | D11: ROUNDUP VISION | E11: ROUNDUP PERFECT | ROUNDUP SYSTEM | F11: MONSANTO SAS | G11: Produit de référence | H11: Professionnel | J11: glyphosate sel de potassium (Glyphosate) 441.0 g/L | K11: Herbicide | L11: Concentré soluble | M11: 201024 | N11: Cultures fruitières*Désherbage*Cult. Installées | O11: 42571 | R11: Autorisé | S11: 6.0 | T11: L/ha | U11: 21 | Z11: Autorisé sur agrumes, fruits à coque, fruits à pépins, fruits à noyau (pêcher, abricotier, cerisier et prunier) sur dicotylédones annuelles et bisannuelles. | Ne pas dépasser la dose de 2200 g de substance active/ha/an. | | AA11: 5.0 | AC11: 5.0 | AE11: =C11 -> 2150209 | AF11: =B11 -> PPP | AG11: =IF(OR(I11="Emploi autorisé dans les jardins",I11="Mention Abeille",I11=0,I11="Mention abeille | Emploi autorisé dans les jardins"),"Vente libre service interdite","Vente libre service autorisée") -> Vente libre service interdite
A12: =C12 -> 2150209 | B12: PPP | C12: 2150209 | D12: ROUNDUP VISION | E12: ROUNDUP PERFECT | ROUNDUP SYSTEM | F12: MONSANTO SAS | G12: Produit de référence | H12: Professionnel | J12: glyphosate sel de potassium (Glyphosate) 441.0 g/L | K12: Herbicide | L12: Concentré soluble | M12: 201024 | N12: Cultures fruitières*Désherbage*Cult. Installées | O12: 42571 | R12: Autorisé | S12: 8.0 | T12: L/ha | U12: 21 | Z12: Autorisé sur agrumes, fruits à coque, fruits à pépins, fruits à noyau (pêcher, abricotier, cerisier et prunier) sur adventices vivaces (par tache). | Ne pas dépasser la dose de 2200 g de substance active/ha/an. | AA12: 5.0 | AC12: 5.0 | AE12: =C12 -> 2150209 | AF12: =B12 -> PPP | AG12: =IF(OR(I12="Emploi autorisé dans les jardins",I12="Mention Abeille",I12=0,I12="Mention abeille | Emploi autorisé dans les jardins"),"Vente libre service interdite","Vente libre service autorisée") -> Vente libre service interdite
A13: =C13 -> 2150209 | B13: PPP | C13: 2150209 | D13: ROUNDUP VISION | E13: ROUNDUP PERFECT | ROUNDUP SYSTEM | F13: MONSANTO SAS | G13: Produit de référence | H13: Professionnel | J13: glyphosate sel de potassium (Glyphosate) 441.0 g/L | K13: Herbicide | L13: Concentré soluble | M13: 12705902 | N13: Vigne*Désherbage*Cult. Installées | O13: 42571 | R13: Autorisé | S13: 4.0 | T13: L/ha | U13: 21 | Z13: Sur graminées annuelles. | Ne pas dépasser la dose de 2200 g de substance active/ha/an. | AA13: 5.0 | AC13: 5.0 | AE13: =C13 -> 2150209 | AF13: =B13 -> PPP | AG13: =IF(OR(I13="Emploi autorisé dans les jardins",I13="Mention Abeille",I13=0,I13="Mention abeille | Emploi autorisé dans les jardins"),"Vente libre service interdite","Vente libre service autorisée") -> Vente libre service interdite
A14: =C14 -> 2150209 | B14: PPP | C14: 2150209 | D14: ROUNDUP VISION | E14: ROUNDUP PERFECT | ROUNDUP SYSTEM | F14: MONSANTO SAS | G14: Produit de référence | H14: Professionnel | J14: glyphosate sel de potassium (Glyphosate) 441.0 g/L | K14: Herbicide | L14: Concentré soluble | M14: 12705902 | N14: Vigne*Désherbage*Cult. Installées | O14: 42571 | R14: Autorisé | S14: 6.0 | T14: L/ha | U14: 21 | Z14: Sur dicotylédones annuelles et bisannuelles. | Ne pas dépasser la dose de 2200 g de substance active/ha/an. | AA14: 5.0 | AC14: 5.0 | AE14: =C14 -> 2150209 | AF14: =B14 -> PPP | AG14: =IF(OR(I14="Emploi autorisé dans les jardins",I14="Mention Abeille",I14=0,I14="Mention abeille | Emploi autorisé dans les jardins"),"Vente libre service interdite","Vente libre service autorisée") -> Vente libre service interdite
A15: =C15 -> 2150209 | B15: PPP | C15: 2150209 | D15: ROUNDUP VISION | E15: ROUNDUP PERFECT | ROUNDUP SYSTEM | F15: MONSANTO SAS | G15: Produit de référence | H15: Professionnel | J15: glyphosate sel de potassium (Glyphosate) 441.0 g/L | K15: Herbicide | L15: Concentré soluble | M15: 12705902 | N15: Vigne*Désherbage*Cult. Installées | O15: 42571 | R15: Autorisé | S15: 8.0 | T15: L/ha | U15: 21 | Z15: Sur adventices vivaces (par taches). | Ne pas dépasser la dose de 2200 g de substance active/ha/an. | AA15: 5.0 | AC15: 5.0 | AE15: =C15 -> 2150209 | AF15: =B15 -> PPP | AG15: =IF(OR(I15="Emploi autorisé dans les jardins",I15="Mention Abeille",I15=0,I15="Mention abeille | Emploi autorisé dans les jardins"),"Vente libre service interdite","Vente libre service autorisée") -> Vente libre service interdite
A16: =C16 -> 2150209 | B16: PPP | C16: 2150209 | D16: ROUNDUP VISION | E16: ROUNDUP PERFECT | ROUNDUP SYSTEM | F16: MONSANTO SAS | G16: Produit de référence | H16: Professionnel | J16: glyphosate sel de potassium (Glyphosate) 441.0 g/L | K16: Herbicide | L16: Concentré soluble | M16: 11015910 | N16: Traitements généraux*Dévitalisation*Arb. sur pied Souches | O16: 42571 | R16: Autorisé | S16: 0.33 | T16: L/m² | Z16: Dose exprimée en L/m² de souche ou de terrière. | Traitement par badigeonnage. | Ne pas dépasser la dose de 120 g/m² de souche ou de terrière. | AA16: 5.0 | AC16: 5.0 | AE16: =C16 -> 2150209 | AF16: =B16 -> PPP | AG16: =IF(OR(I16="Emploi autorisé dans les jardins",I16="Mention Abeille",I16=0,I16="Mention abeille | Emploi autorisé dans les jardins"),"Vente libre service interdite","Vente libre service autorisée") -> Vente libre service interdite
A17: =C17 -> 2150209 | B17: PPP | C17: 2150209 | D17: ROUNDUP VISION | E17: ROUNDUP PERFECT | ROUNDUP SYSTEM | F17: MONSANTO SAS | G17: Produit de référence | H17: Professionnel | J17: glyphosate sel de potassium (Glyphosate) 441.0 g/L | K17: Herbicide | L17: Concentré soluble | M17: 11015925 | N17: Traitements généraux*Destruct. Souches | O17: 42571 | R17: Autorisé | S17: 8.0 | T17: L/ha | Z17: Pour la dévitalisation des souches de vignes, l'emploi de panneaux récupérateurs est obligatoire et permet de déroger à l'application d'une zone non traitée de 5 mètres par rapport à la zone non cultivée adjacente. | Pour la dévitalisation de vigne, ne pas appliquer en présence de raisins. | Ne pas dépasser la dose de 2880 g de substance active/ha/an. | AA17: 5.0 | AC17: 5.0 | AE17: =C17 -> 2150209 | AF17: =B17 -> PPP | AG17: =IF(OR(I17="Emploi autorisé dans les jardins",I17="Mention Abeille",I17=0,I17="Mention abeille | Emploi autorisé dans les jardins"),"Vente libre service interdite","Vente libre service autorisée") -> Vente libre service interdite
A18: =C18 -> 2150209 | B18: PPP | C18: 2150209 | D18: ROUNDUP VISION | E18: ROUNDUP PERFECT | ROUNDUP SYSTEM | F18: MONSANTO SAS | G18: Produit de référence | H18: Professionnel | J18: glyphosate sel de potassium (Glyphosate) 441.0 g/L | K18: Herbicide | L18: Concentré soluble | M18: 15455911 | N18: Légumineuses fourragères*Désherbage | O18: 42571 | R18: Autorisé | S18: 1.0 | T18: L/ha | W18: 1 | Z18: Uniquement sur luzerne porte-graines de plus d'un an, de type dormante et si les conditions climatiques et hydriques hivernales sont suffisantes pour bloquer totalement la croissance de la luzerne. | Application durant la phase végétative. | AA18: 5.0 | AC18: 5.0 | AE18: =C18 -> 2150209 | AF18: =B18 -> PPP | AG18: =IF(OR(I18="Emploi autorisé dans les jardins",I18="Mention Abeille",I18=0,I18="Mention abeille | Emploi autorisé dans les jardins"),"Vente libre service interdite","Vente libre service autorisée") -> Vente libre service interdite
A19: =C19 -> 2150209 | B19: PPP | C19: 2150209 | D19: ROUNDUP VISION | E19: ROUNDUP PERFECT | ROUNDUP SYSTEM | F19: MONSANTO SAS | G19: Produit de référence | H19: Professionnel | J19: glyphosate sel de potassium (Glyphosate) 441.0 g/L | K19: Herbicide | L19: Concentré soluble | M19: 11015924 | N19: Traitements généraux*Désherbage*Avt Mise Cult. | O19: 42571 | R19: Autorisé | S19: 3.0 | T19: L/ha | Z19: Autorisé sur graminées annuelles. | Également autorisé sous abri. | Avant mise en culture de cultures autres que légumières. | Ne pas dépasser la dose de 2880 g de substance active/ha/an. | AA19: 5.0 | AC19: 5.0 | AE19: =C19 -> 2150209 | AF19: =B19 -> PPP | AG19: =IF(OR(I19="Emploi autorisé dans les jardins",I19="Mention Abeille",I19=0,I19="Mention abeille | Emploi autorisé dans les jardins"),"Vente libre service interdite","Vente libre service autorisée") -> Vente libre service interdite
A20: =C20 -> 2150209 | B20: PPP | C20: 2150209 | D20: ROUNDUP VISION | E20: ROUNDUP PERFECT | ROUNDUP SYSTEM | F20: MONSANTO SAS | G20: Produit de référence | H20: Professionnel | J20: glyphosate sel de potassium (Glyphosate) 441.0 g/L | K20: Herbicide | L20: Concentré soluble | M20: 11015924 | N20: Traitements généraux*Désherbage*Avt Mise Cult. | O20: 42571 | R20: Autorisé | S20: 6.0 | T20: L/ha | Z20: Autorisé sur dicotylédones annuelles et bisannuelles. | Également autorisé sous abri. | Avant mise en culture de cultures autres que légumières. | Ne pas dépasser la dose de 2880 g de substance active/ha/an. | AA20: 5.0 | AC20: 5.0 | AE20: =C20 -> 2150209 | AF20: =B20 -> PPP | AG20: =IF(OR(I20="Emploi autorisé dans les jardins",I20="Mention Abeille",I20=0,I20="Mention abeille | Emploi autorisé dans les jardins"),"Vente libre service interdite","Vente libre service autorisée") -> Vente libre service interdite
A21: =C21 -> 2150209 | B21: PPP | C21: 2150209 | D21: ROUNDUP VISION | E21: ROUNDUP PERFECT | ROUNDUP SYSTEM | F21: MONSANTO SAS | G21: Produit de référence | H21: Professionnel | J21: glyphosate sel de potassium (Glyphosate) 441.0 g/L | K21: Herbicide | L21: Concentré soluble | M21: 11015924 | N21: Traitements généraux*Désherbage*Avt Mise Cult. | O21: 42571 | R21: Autorisé | S21: 7.0 | T21: L/ha | Z21: Autorisé sur adventices vivaces. | Également autorisé sous abri. | Avant mise en culture de cultures autres que légumières. | Ne pas dépasser la dose de 2880 g de substance active/ha/an. | AA21: 5.0 | AC21: 5.0 | AE21: =C21 -> 2150209 | AF21: =B21 -> PPP | AG21: =IF(OR(I21="Emploi autorisé dans les jardins",I21="Mention Abeille",I21=0,I21="Mention abeille | Emploi autorisé dans les jardins"),"Vente libre service interdite","Vente libre service autorisée") -> Vente libre service interdite
A22: =C22 -> 2150209 | B22: PPP | C22: 2150209 | D22: ROUNDUP VISION | E22: ROUNDUP PERFECT | ROUNDUP SYSTEM | F22: MONSANTO SAS | G22: Produit de référence | H22: Professionnel | J22: glyphosate sel de potassium (Glyphosate) 441.0 g/L | K22: Herbicide | L22: Concentré soluble | M22: 11015924 | N22: Traitements généraux*Désherbage*Avt Mise Cult. | O22: 42571 | R22: Autorisé | S22: 3.0 | T22: L/ha | U22: 30 | Z22: Autorisé sur graminées annuelles. | Également autorisé sous abri. | Avant plantation de cultures légumières toutes espèces. | Ne pas dépasser la dose de 2880 g de substance active/ha/an. | AA22: 5.0 | AC22: 5.0 | AE22: =C22 -> 2150209 | AF22: =B22 -> PPP | AG22: =IF(OR(I22="Emploi autorisé dans les jardins",I22="Mention Abeille",I22=0,I22="Mention abeille | Emploi autorisé dans les jardins"),"Vente libre service interdite","Vente libre service autorisée") -> Vente libre service interdite
A23: =C23 -> 2150209 | B23: PPP | C23: 2150209 | D23: ROUNDUP VISION | E23: ROUNDUP PERFECT | ROUNDUP SYSTEM | F23: MONSANTO SAS | G23: Produit de référence | H23: Professionnel | J23: glyphosate sel de potassium (Glyphosate) 441.0 g/L | K23: Herbicide | L23: Concentré soluble | M23: 11015924 | N23: Traitements généraux*Désherbage*Avt Mise Cult. | O23: 42571 | R23: Autorisé | S23: 6.0 | T23: L/ha | U23: 30 | Z23: Autorisé sur dicotylédones annuelles et bisannuelles. | Également autorisé sous abri. | Avant plantation de cultures légumières toutes espèces. | Ne pas dépasser la dose de 2880 g de substance active/ha/an. | AA23: 5.0 | AC23: 5.0 | AE23: =C23 -> 2150209 | AF23: =B23 -> PPP | AG23: =IF(OR(I23="Emploi autorisé dans les jardins",I23="Mention Abeille",I23=0,I23="Mention abeille | Emploi autorisé dans les jardins"),"Vente libre service interdite","Vente libre service autorisée") -> Vente libre service interdite
A24: =C24 -> 2150209 | B24: PPP | C24: 2150209 | D24: ROUNDUP VISION | E24: ROUNDUP PERFECT | ROUNDUP SYSTEM | F24: MONSANTO SAS | G24: Produit de référence | H24: Professionnel | J24: glyphosate sel de potassium (Glyphosate) 441.0 g/L | K24: Herbicide | L24: Concentré soluble | M24: 11015924 | N24: Traitements généraux*Désherbage*Avt Mise Cult. | O24: 42571 | R24: Autorisé | S24: 7.0 | T24: L/ha | U24: 30 | Z24: Autorisé sur adventices vivaces. | Également autorisé sous abri. | Avant plantation de cultures légumières toutes espèces. | Ne pas dépasser la dose de 2880 g de substance active/ha/an. | AA24: 5.0 | AC24: 5.0 | AE24: =C24 -> 2150209 | AF24: =B24 -> PPP | AG24: =IF(OR(I24="Emploi autorisé dans les jardins",I24="Mention Abeille",I24=0,I24="Mention abeille | Emploi autorisé dans les jardins"),"Vente libre service interdite","Vente libre service autorisée") -> Vente libre service interdite
A25: =C25 -> 2150209 | B25: PPP | C25: 2150209 | D25: ROUNDUP VISION | E25: ROUNDUP PERFECT | ROUNDUP SYSTEM | F25: MONSANTO SAS | G25: Produit de référence | H25: Professionnel | J25: glyphosate sel de potassium (Glyphosate) 441.0 g/L | K25: Herbicide | L25: Concentré soluble | M25: 201024 | N25: Cultures fruitières*Désherbage*Cult. Installées | O25: 42571 | R25: Autorisé | S25: 4.0 | T25: L/ha | U25: 7 | Z25: Autorisé sur olivier (récolte sur l'arbre) sur graminées annuelles. | Ne pas dépasser la dose de 2200 g de substance active/ha/an. | AA25: 5.0 | AC25: 5.0 | AE25: =C25 -> 2150209 | AF25: =B25 -> PPP | AG25: =IF(OR(I25="Emploi autorisé dans les jardins",I25="Mention Abeille",I25=0,I25="Mention abeille | Emploi autorisé dans les jardins"),"Vente libre service interdite","Vente libre service autorisée") -> Vente libre service interdite
A26: =C26 -> 2150209 | B26: PPP | C26: 2150209 | D26: ROUNDUP VISION | E26: ROUNDUP PERFECT | ROUNDUP SYSTEM | F26: MONSANTO SAS | G26: Produit de référence | H26: Professionnel | J26: glyphosate sel de potassium (Glyphosate) 441.0 g/L | K26: Herbicide | L26: Concentré soluble | M26: 201024 | N26: Cultures fruitières*Désherbage*Cult. Installées | O26: 42571 | R26: Autorisé | S26: 6.0 | T26: L/ha | U26: 7 | Z26: Autorisé sur olivier (récolte sur l'arbre) sur dicotylédones annuelles et bisannuelles. | Ne pas dépasser la dose de 2200 g de substance active/ha/an. | | AA26: 5.0 | AC26: 5.0 | AE26: =C26 -> 2150209 | AF26: =B26 -> PPP | AG26: =IF(OR(I26="Emploi autorisé dans les jardins",I26="Mention Abeille",I26=0,I26="Mention abeille | Emploi autorisé dans les jardins"),"Vente libre service interdite","Vente libre service autorisée") -> Vente libre service interdite
A27: =C27 -> 2150209 | B27: PPP | C27: 2150209 | D27: ROUNDUP VISION | E27: ROUNDUP PERFECT | ROUNDUP SYSTEM | F27: MONSANTO SAS | G27: Produit de référence | H27: Professionnel | J27: glyphosate sel de potassium (Glyphosate) 441.0 g/L | K27: Herbicide | L27: Concentré soluble | M27: 201024 | N27: Cultures fruitières*Désherbage*Cult. Installées | O27: 42571 | R27: Autorisé | S27: 8.0 | T27: L/ha | U27: 7 | Z27: Autorisé sur olivier (récolte sur l'arbre) sur adventices vivaces (par taches). | Ne pas dépasser la dose de 2200 g de substance active/ha/an. | AA27: 5.0 | AC27: 5.0 | AE27: =C27 -> 2150209 | AF27: =B27 -> PPP | AG27: =IF(OR(I27="Emploi autorisé dans les jardins",I27="Mention Abeille",I27=0,I27="Mention abeille | Emploi autorisé dans les jardins"),"Vente libre service interdite","Vente libre service autorisée") -> Vente libre service interdite
A28: =C28 -> 2150209 | B28: PPP | C28: 2150209 | D28: ROUNDUP VISION | E28: ROUNDUP PERFECT | ROUNDUP SYSTEM | F28: MONSANTO SAS | G28: Produit de référence | H28: Professionnel | J28: glyphosate sel de potassium (Glyphosate) 441.0 g/L | K28: Herbicide | L28: Concentré soluble | M28: 201024 | N28: Cultures fruitières*Désherbage*Cult. Installées | O28: 42571 | R28: Autorisé | S28: 4.0 | T28: L/ha | U28: 14 | Z28: Autorisé sur olivier (récolte au sol) sur graminées annuelles. | Ne pas dépasser la dose de 2200 g de substance active/ha/an. | AA28: 5.0 | AC28: 5.0 | AE28: =C28 -> 2150209 | AF28: =B28 -> PPP | AG28: =IF(OR(I28="Emploi autorisé dans les jardins",I28="Mention Abeille",I28=0,I28="Mention abeille | Emploi autorisé dans les jardins"),"Vente libre service interdite","Vente libre service autorisée") -> Vente libre service interdite
A29: =C29 -> 2150209 | B29: PPP | C29: 2150209 | D29: ROUNDUP VISION | E29: ROUNDUP PERFECT | ROUNDUP SYSTEM | F29: MONSANTO SAS | G29: Produit de référence | H29: Professionnel | J29: glyphosate sel de potassium (Glyphosate) 441.0 g/L | K29: Herbicide | L29: Concentré soluble | M29: 201024 | N29: Cultures fruitières*Désherbage*Cult. Installées | O29: 42571 | R29: Autorisé | S29: 6.0 | T29: L/ha | U29: 14 | Z29: Autorisé sur olivier (récolte au sol) sur dicotylédones annuelles et bisannuelles. | Ne pas dépasser la dose de 2200 g de substance active/ha/an. | AA29: 5.0 | AC29: 5.0 | AE29: =C29 -> 2150209 | AF29: =B29 -> PPP | AG29: =IF(OR(I29="Emploi autorisé dans les jardins",I29="Mention Abeille",I29=0,I29="Mention abeille | Emploi autorisé dans les jardins"),"Vente libre service interdite","Vente libre service autorisée") -> Vente libre service interdite
A30: =C30 -> 2150209 | B30: PPP | C30: 2150209 | D30: ROUNDUP VISION | E30: ROUNDUP PERFECT | ROUNDUP SYSTEM | F30: MONSANTO SAS | G30: Produit de référence | H30: Professionnel | J30: glyphosate sel de potassium (Glyphosate) 441.0 g/L | K30: Herbicide | L30: Concentré soluble | M30: 201024 | N30: Cultures fruitières*Désherbage*Cult. Installées | O30: 42571 | R30: Autorisé | S30: 8.0 | T30: L/ha | U30: 14 | Z30: Autorisé sur olivier (récolte au sol) sur adventices vivaces (par tache). | Ne pas dépasser la dose de 2200 g de substance active/ha/an. | AA30: 5.0 | AC30: 5.0 | AE30: =C30 -> 2150209 | AF30: =B30 -> PPP | AG30: =IF(OR(I30="Emploi autorisé dans les jardins",I30="Mention Abeille",I30=0,I30="Mention abeille | Emploi autorisé dans les jardins"),"Vente libre service interdite","Vente libre service autorisée") -> Vente libre service interdite
A31: =C31 -> 2150209 | B31: PPP | C31: 2150209 | D31: ROUNDUP VISION | E31: ROUNDUP PERFECT | ROUNDUP SYSTEM | F31: MONSANTO SAS | G31: Produit de référence | H31: Professionnel | J31: glyphosate sel de potassium (Glyphosate) 441.0 g/L | K31: Herbicide | L31: Concentré soluble | M31: 201024 | N31: Cultures fruitières*Désherbage*Cult. Installées | O31: 42571 | R31: Autorisé | S31: 4.0 | T31: L/ha | U31: 90 | Z31: Autorisé sur kiwi sur graminées annuelles. | Ne pas dépasser la dose de 2200 g de substance active/ha/an. | AA31: 5.0 | AC31: 5.0 | AE31: =C31 -> 2150209 | AF31: =B31 -> PPP | AG31: =IF(OR(I31="Emploi autorisé dans les jardins",I31="Mention Abeille",I31=0,I31="Mention abeille | Emploi autorisé dans les jardins"),"Vente libre service interdite","Vente libre service autorisée") -> Vente libre service interdite
A32: =C32 -> 2150209 | B32: PPP | C32: 2150209 | D32: ROUNDUP VISION | E32: ROUNDUP PERFECT | ROUNDUP SYSTEM | F32: MONSANTO SAS | G32: Produit de référence | H32: Professionnel | J32: glyphosate sel de potassium (Glyphosate) 441.0 g/L | K32: Herbicide | L32: Concentré soluble | M32: 201024 | N32: Cultures fruitières*Désherbage*Cult. Installées | O32: 42571 | R32: Autorisé | S32: 6.0 | T32: L/ha | U32: 90 | Z32: Autorisé sur kiwi sur dicotylédones annuelles et bisannuelles. | Ne pas dépasser la dose de 2200 g de substance active/ha/an. | AA32: 5.0 | AC32: 5.0 | AE32: =C32 -> 2150209 | AF32: =B32 -> PPP | AG32: =IF(OR(I32="Emploi autorisé dans les jardins",I32="Mention Abeille",I32=0,I32="Mention abeille | Emploi autorisé dans les jardins"),"Vente libre service interdite","Vente libre service autorisée") -> Vente libre service interdite
A33: =C33 -> 2150209 | B33: PPP | C33: 2150209 | D33: ROUNDUP VISION | E33: ROUNDUP PERFECT | ROUNDUP SYSTEM | F33: MONSANTO SAS | G33: Produit de référence | H33: Professionnel | J33: glyphosate sel de potassium (Glyphosate) 441.0 g/L | K33: Herbicide | L33: Concentré soluble | M33: 201024 | N33: Cultures fruitières*Désherbage*Cult. Installées | O33: 42571 | R33: Autorisé | S33: 8.0 | T33: L/ha | U33: 90 | Z33: Autorisé sur kiwi sur adventices vivaces (par tache). | Ne pas dépasser la dose de 2200 g de substance active/ha/an. | AA33: 5.0 | AC33: 5.0 | AE33: =C33 -> 2150209 | AF33: =B33 -> PPP | AG33: =IF(OR(I33="Emploi autorisé dans les jardins",I33="Mention Abeille",I33=0,I33="Mention abeille | Emploi autorisé dans les jardins"),"Vente libre service interdite","Vente libre service autorisée") -> Vente libre service interdite
A34: =C34 -> 2150209 | B34: PPP | C34: 2150209 | D34: ROUNDUP VISION | E34: ROUNDUP PERFECT | ROUNDUP SYSTEM | F34: MONSANTO SAS | G34: Produit de référence | H34: Professionnel | J34: glyphosate sel de potassium (Glyphosate) 441.0 g/L | K34: Herbicide | L34: Concentré soluble | M34: 201024 | N34: Cultures fruitières*Désherbage*Cult. Installées | O34: 42571 | R34: Autorisé | S34: 4.0 | T34: L/ha | U34: 1 | Z34: Autorisé sur bananier sur graminées annuelles. | Ne pas dépasser la dose de 2200 g de substance active/ha/an. | AA34: 5.0 | AC34: 5.0 | AE34: =C34 -> 2150209 | AF34: =B34 -> PPP | AG34: =IF(OR(I34="Emploi autorisé dans les jardins",I34="Mention Abeille",I34=0,I34="Mention abeille | Emploi autorisé dans les jardins"),"Vente libre service interdite","Vente libre service autorisée") -> Vente libre service interdite
A35: =C35 -> 2150209 | B35: PPP | C35: 2150209 | D35: ROUNDUP VISION | E35: ROUNDUP PERFECT | ROUNDUP SYSTEM | F35: MONSANTO SAS | G35: Produit de référence | H35: Professionnel | J35: glyphosate sel de potassium (Glyphosate) 441.0 g/L | K35: Herbicide | L35: Concentré soluble | M35: 201024 | N35: Cultures fruitières*Désherbage*Cult. Installées | O35: 42571 | R35: Autorisé | S35: 6.0 | T35: L/ha | U35: 1 | Z35: Autorisé sur bananier sur dicotylédones annuelles et bisannuelles. | Ne pas dépasser la dose de 2200 g de substance active/ha/an. | AE35: =C35 -> 2150209 | AF35: =B35 -> PPP | AG35: =IF(OR(I35="Emploi autorisé dans les jardins",I35="Mention Abeille",I35=0,I35="Mention abeille | Emploi autorisé dans les jardins"),"Vente libre service interdite","Vente libre service autorisée") -> Vente libre service interdite
A36: =C36 -> 2150209 | B36: PPP | C36: 2150209 | D36: ROUNDUP VISION | E36: ROUNDUP PERFECT | ROUNDUP SYSTEM | F36: MONSANTO SAS | G36: Produit de référence | H36: Professionnel | J36: glyphosate sel de potassium (Glyphosate) 441.0 g/L | K36: Herbicide | L36: Concentré soluble | M36: 201024 | N36: Cultures fruitières*Désherbage*Cult. Installées | O36: 42571 | R36: Autorisé | S36: 8.0 | T36: L/ha | U36: 1 | Z36: Autorisé sur bananier sur adventices vivaces (par tache). | Ne pas dépasser la dose de 2200 g de substance active/ha/an. | AA36: 5.0 | AC36: 5.0 | AE36: =C36 -> 2150209 | AF36: =B36 -> PPP | AG36: =IF(OR(I36="Emploi autorisé dans les jardins",I36="Mention Abeille",I36=0,I36="Mention abeille | Emploi autorisé dans les jardins"),"Vente libre service interdite","Vente libre service autorisée") -> Vente libre service interdite
A37: =C37 -> 2159999 | B37: PPP | C37: 2159999 | D37: LIFE SCIENTIFIC PIRIMICARB | F37: LIFE SCIENTIFIC LTD | G37: Générique | H37: Professionnel | J37: pirimicarbe (Pirimicarb) 500.0 g/kg | K37: Insecticide | L37: Granulé dispersable | M37: 16603101 | N37: Laitue*Trt Part.Aer.*Pucerons | O37: 42439 | R37: Autorisé | S37: 0.5 | T37: kg/ha | U37: 14 | W37: 2 | Z37: Uniquement autorisé sur laitue sous abri. | AE37: =C37 -> 2159999 | AF37: =B37 -> PPP | AG37: =IF(OR(I37="Emploi autorisé dans les jardins",I37="Mention Abeille",I37=0,I37="Mention abeille | Emploi autorisé dans les jardins"),"Vente libre service interdite","Vente libre service autorisée") -> Vente libre service interdite
A38: =C38 -> 2159999 | B38: PPP | C38: 2159999 | D38: LIFE SCIENTIFIC PIRIMICARB | F38: LIFE SCIENTIFIC LTD | G38: Générique | H38: Professionnel | J38: pirimicarbe (Pirimicarb) 500.0 g/kg | K38: Insecticide | L38: Granulé dispersable | M38: 16823102 | N38: Fines Herbes*Trt Part.Aer.*Pucerons | O38: 42439 | R38: Autorisé | S38: 0.75 | T38: kg/ha | U38: 14 | W38: 1 | AA38: 100.0 | AE38: =C38 -> 2159999 | AF38: =B38 -> PPP | AG38: =IF(OR(I38="Emploi autorisé dans les jardins",I38="Mention Abeille",I38=0,I38="Mention abeille | Emploi autorisé dans les jardins"),"Vente libre service interdite","Vente libre service autorisée") -> Vente libre service interdite
A39: =C39 -> 2159999 | B39: PPP | C39: 2159999 | D39: LIFE SCIENTIFIC PIRIMICARB | F39: LIFE SCIENTIFIC LTD | G39: Générique | H39: Professionnel | J39: pirimicarbe (Pirimicarb) 500.0 g/kg | K39: Insecticide | L39: Granulé dispersable | M39: 16823102 | N39: Fines Herbes*Trt Part.Aer.*Pucerons | O39: 42439 | R39: Autorisé | S39: 0.5 | T39: kg/ha | U39: 14 | W39: 2 | Z39: Uniquement autorisé sous abri. | AE39: =C39 -> 2159999 | AF39: =B39 -> PPP | AG39: =IF(OR(I39="Emploi autorisé dans les jardins",I39="Mention Abeille",I39=0,I39="Mention abeille | Emploi autorisé dans les jardins"),"Vente libre service interdite","Vente libre service autorisée") -> Vente libre service interdite
A40: =C40 -> 2159999 | B40: PPP | C40: 2159999 | D40: LIFE SCIENTIFIC PIRIMICARB | F40: LIFE SCIENTIFIC LTD | G40: Générique | H40: Professionnel | J40: pirimicarbe (Pirimicarb) 500.0 g/kg | K40: Insecticide | L40: Granulé dispersable | M40: 16953104 | N40: Tomate*Trt Part.Aer.*Pucerons | O40: 42439 | R40: Autorisé | S40: 0.5 | T40: kg/ha | U40: 3 | W40: 2 | Z40: Uniquement autorisé sous abri. | Inefficace sur Myzus persicae. | AE40: =C40 -> 2159999 | AF40: =B40 -> PPP | AG40: =IF(OR(I40="Emploi autorisé dans les jardins",I40="Mention Abeille",I40=0,I40="Mention abeille | Emploi autorisé dans les jardins"),"Vente libre service interdite","Vente libre service autorisée") -> Vente libre service interdite
A41: =C41 -> 2159999 | B41: PPP | C41: 2159999 | D41: LIFE SCIENTIFIC PIRIMICARB | F41: LIFE SCIENTIFIC LTD | G41: Générique | H41: Professionnel | J41: pirimicarbe (Pirimicarb) 500.0 g/kg | K41: Insecticide | L41: Granulé dispersable | M41: 16553105 | N41: Fraisier*Trt Part.Aer.*Pucerons | O41: 42439 | R41: Autorisé | S41: 0.75 | T41: kg/ha | U41: 7 | W41: 2 | Z41: Uniquement autorisé sous abri. | Inefficace sur Myzus persicae. | AE41: =C41 -> 2159999 | AF41: =B41 -> PPP | AG41: =IF(OR(I41="Emploi autorisé dans les jardins",I41="Mention Abeille",I41=0,I41="Mention abeille | Emploi autorisé dans les jardins"),"Vente libre service interdite","Vente libre service autorisée") -> Vente libre service interdite
A42: =C42 -> 2159999 | B42: PPP | C42: 2159999 | D42: LIFE SCIENTIFIC PIRIMICARB | F42: LIFE SCIENTIFIC LTD | G42: Générique | H42: Professionnel | J42: pirimicarbe (Pirimicarb) 500.0 g/kg | K42: Insecticide | L42: Granulé dispersable | M42: 16323106 | N42: Concombre*Trt Part.Aer.*Pucerons | O42: 42439 | R42: Autorisé | S42: 0.75 | T42: kg/ha | U42: 3 | W42: 1 | Z42: Uniquement autorisé sur cornichon et courgette. | Uniquement autorisé sous abri. | Inefficace sur Myzus persicae. | AE42: =C42 -> 2159999 | AF42: =B42 -> PPP | AG42: =IF(OR(I42="Emploi autorisé dans les jardins",I42="Mention Abeille",I42=0,I42="Mention abeille | Emploi autorisé dans les jardins"),"Vente libre service interdite","Vente libre service autorisée") -> Vente libre service interdite
A43: =C43 -> 2159999 | B43: PPP | C43: 2159999 | D43: LIFE SCIENTIFIC PIRIMICARB | F43: LIFE SCIENTIFIC LTD | G43: Générique | H43: Professionnel | J43: pirimicarbe (Pirimicarb) 500.0 g/kg | K43: Insecticide | L43: Granulé dispersable | M43: 16323106 | N43: Concombre*Trt Part.Aer.*Pucerons | O43: 42439 | R43: Autorisé | S43: 0.75 | T43: kg/ha | U43: 3 | W43: 2 | Z43: Uniquement autorisé sur courge. | Uniquement autorisé sous abri. | Inefficace sur Myzus persicae. | | AE43: =C43 -> 2159999 | AF43: =B43 -> PPP | AG43: =IF(OR(I43="Emploi autorisé dans les jardins",I43="Mention Abeille",I43=0,I43="Mention abeille | Emploi autorisé dans les jardins"),"Vente libre service interdite","Vente libre service autorisée") -> Vente libre service interdite
A44: =C44 -> 2159999 | B44: PPP | C44: 2159999 | D44: LIFE SCIENTIFIC PIRIMICARB | F44: LIFE SCIENTIFIC LTD | G44: Générique | H44: Professionnel | J44: pirimicarbe (Pirimicarb) 500.0 g/kg | K44: Insecticide | L44: Granulé dispersable | M44: 16323106 | N44: Concombre*Trt Part.Aer.*Pucerons | O44: 42439 | R44: Autorisé | S44: 0.75 | T44: kg/ha | U44: 7 | W44: 2 | Z44: Uniquement autorisé sur concombre. | Uniquement autorisé sous abri. | Inefficace sur Myzus persicae. | | AE44: =C44 -> 2159999 | AF44: =B44 -> PPP | AG44: =IF(OR(I44="Emploi autorisé dans les jardins",I44="Mention Abeille",I44=0,I44="Mention abeille | Emploi autorisé dans les jardins"),"Vente libre service interdite","Vente libre service autorisée") -> Vente libre service interdite
A45: =C45 -> 2159999 | B45: PPP | C45: 2159999 | D45: LIFE SCIENTIFIC PIRIMICARB | F45: LIFE SCIENTIFIC LTD | G45: Générique | H45: Professionnel | J45: pirimicarbe (Pirimicarb) 500.0 g/kg | K45: Insecticide | L45: Granulé dispersable | M45: 16863104 | N45: Poivron*Trt Part.Aer.*Pucerons | O45: 42439 | R45: Autorisé | S45: 0.5 | T45: kg/ha | U45: 3 | W45: 2 | Z45: Uniquement autorisé sous abri. | Inefficace sur Myzus persicae. | AE45: =C45 -> 2159999 | AF45: =B45 -> PPP | AG45: =IF(OR(I45="Emploi autorisé dans les jardins",I45="Mention Abeille",I45=0,I45="Mention abeille | Emploi autorisé dans les jardins"),"Vente libre service interdite","Vente libre service autorisée") -> Vente libre service interdite
A46: =C46 -> 2159999 | B46: PPP | C46: 2159999 | D46: LIFE SCIENTIFIC PIRIMICARB | F46: LIFE SCIENTIFIC LTD | G46: Générique | H46: Professionnel | J46: pirimicarbe (Pirimicarb) 500.0 g/kg | K46: Insecticide | L46: Granulé dispersable | M46: 16753103 | N46: Melon*Trt Part.Aer.*Pucerons | O46: 42439 | R46: Autorisé | S46: 0.75 | T46: kg/ha | U46: 3 | W46: 2 | Z46: Uniquement autorisé sous abri. | Inefficace sur Myzus persicae. | AE46: =C46 -> 2159999 | AF46: =B46 -> PPP | AG46: =IF(OR(I46="Emploi autorisé dans les jardins",I46="Mention Abeille",I46=0,I46="Mention abeille | Emploi autorisé dans les jardins"),"Vente libre service interdite","Vente libre service autorisée") -> Vente libre service interdite
A47: =C47 -> 2159999 | B47: PPP | C47: 2159999 | D47: LIFE SCIENTIFIC PIRIMICARB | F47: LIFE SCIENTIFIC LTD | G47: Générique | H47: Professionnel | J47: pirimicarbe (Pirimicarb) 500.0 g/kg | K47: Insecticide | L47: Granulé dispersable | M47: 16503102 | N47: Epinard*Trt Part.Aer.*Pucerons | O47: 42439 | R47: Autorisé | S47: 0.3 | T47: kg/ha | U47: 7 | W47: 1 | Z47: Uniquement autorisé sur épinard en plein champ | Inefficace sur Myzus persicae. | AA47: 100.0 | AE47: =C47 -> 2159999 | AF47: =B47 -> PPP | AG47: =IF(OR(I47="Emploi autorisé dans les jardins",I47="Mention Abeille",I47=0,I47="Mention abeille | Emploi autorisé dans les jardins"),"Vente libre service interdite","Vente libre service autorisée") -> Vente libre service interdite
A48: =C48 -> 2159999 | B48: PPP | C48: 2159999 | D48: LIFE SCIENTIFIC PIRIMICARB | F48: LIFE SCIENTIFIC LTD | G48: Générique | H48: Professionnel | J48: pirimicarbe (Pirimicarb) 500.0 g/kg | K48: Insecticide | L48: Granulé dispersable | M48: 16503102 | N48: Epinard*Trt Part.Aer.*Pucerons | O48: 42439 | R48: Autorisé | S48: 0.3 | T48: kg/ha | U48: 7 | W48: 2 | Z48: Uniquement autorisé sur épinard sous abri | Inefficace sur Myzus persicae. | AE48: =C48 -> 2159999 | AF48: =B48 -> PPP | AG48: =IF(OR(I48="Emploi autorisé dans les jardins",I48="Mention Abeille",I48=0,I48="Mention abeille | Emploi autorisé dans les jardins"),"Vente libre service interdite","Vente libre service autorisée") -> Vente libre service interdite
A49: =C49 -> 2130244 | B49: PPP | C49: 2130244 | D49: REVUS TOP | F49: SYNGENTA FRANCE SAS | G49: Produit de référence | H49: Professionnel | J49: difénoconazole (Difenoconazole) 250.0 g/L | mandipropamid (Mandipropamid) 250.0 g/L | K49: Fongicide | L49: Suspension concentrée | M49: 15653202 | N49: Pomme de terre*Trt Part.Aer.*Maladies des taches brunes | O49: 41830 | R49: Autorisé | S49: 0.6 | T49: L/ha | U49: 21 | W49: 3 | AA49: 5.0 | AE49: =C49 -> 2130244 | AF49: =B49 -> PPP | AG49: =IF(OR(I49="Emploi autorisé dans les jardins",I49="Mention Abeille",I49=0,I49="Mention abeille | Emploi autorisé dans les jardins"),"Vente libre service interdite","Vente libre service autorisée") -> Vente libre service interdite
A50: =C50 -> 2130244 | B50: PPP | C50: 2130244 | D50: REVUS TOP | F50: SYNGENTA FRANCE SAS | G50: Produit de référence | H50: Professionnel | J50: difénoconazole (Difenoconazole) 250.0 g/L | mandipropamid (Mandipropamid) 250.0 g/L | K50: Fongicide | L50: Suspension concentrée | M50: 15653201 | N50: Pomme de terre*Trt Part.Aer.*Mildiou(s) | O50: 41830 | R50: Autorisé | S50: 0.6 | T50: L/ha | U50: 21 | W50: 3 | AA50: 5.0 | AE50: =C50 -> 2130244 | AF50: =B50 -> PPP | AG50: =IF(OR(I50="Emploi autorisé dans les jardins",I50="Mention Abeille",I50=0,I50="Mention abeille | Emploi autorisé dans les jardins"),"Vente libre service interdite","Vente libre service autorisée") -> Vente libre service interdite
A51: =C51 -> 2130244 | B51: PPP | C51: 2130244 | D51: REVUS TOP | F51: SYNGENTA FRANCE SAS | G51: Produit de référence | H51: Professionnel | J51: difénoconazole (Difenoconazole) 250.0 g/L | mandipropamid (Mandipropamid) 250.0 g/L | K51: Fongicide | L51: Suspension concentrée | M51: 16953201 | N51: Tomate*Trt Part.Aer.*Mildiou(s) | O51: 42551 | P51: 21 | Q51: 89 | R51: Autorisé | S51: 0.6 | T51: L/ha | U51: 3 | W51: 3 | Z51: - Uniquement sur tomate. | - Également autorisé sous abri. | AA51: 5.0 | AE51: =C51 -> 2130244 | AF51: =B51 -> PPP | AG51: =IF(OR(I51="Emploi autorisé dans les jardins",I51="Mention Abeille",I51=0,I51="Mention abeille | Emploi autorisé dans les jardins"),"Vente libre service interdite","Vente libre service autorisée") -> Vente libre service interdite
A52: =C52 -> 2130244 | B52: PPP | C52: 2130244 | D52: REVUS TOP | F52: SYNGENTA FRANCE SAS | G52: Produit de référence | H52: Professionnel | J52: difénoconazole (Difenoconazole) 250.0 g/L | mandipropamid (Mandipropamid) 250.0 g/L | K52: Fongicide | L52: Suspension concentrée | M52: 16953207 | N52: Tomate*Trt Part.Aer.*Maladies des taches brunes | O52: 42551 | P52: 21 | Q52: 89 | R52: Autorisé | S52: 0.6 | T52: L/ha | U52: 3 | W52: 3 | Z52: - Uniquement sur tomate. | - Également autorisé sous abri. | AA52: 5.0 | AE52: =C52 -> 2130244 | AF52: =B52 -> PPP | AG52: =IF(OR(I52="Emploi autorisé dans les jardins",I52="Mention Abeille",I52=0,I52="Mention abeille | Emploi autorisé dans les jardins"),"Vente libre service interdite","Vente libre service autorisée") -> Vente libre service interdite
A53: =C53 -> 2150116 | B53: PPP | C53: 2150116 | D53: BELEM EV | F53: SBM DEVELOPPEMENT | G53: Produit de référence | H53: Professionnel | J53: cyperméthrine (Cypermethrin) 2.0 g/kg | K53: Insecticide | L53: Granulé | M53: 18502101 | N53: Gazons de graminées*Trt Sol*Ravageurs du sol | O53: 42164 | R53: Autorisé | S53: 24.0 | T53: kg/ha | W53: 1 | Z53: : | -Uniquement sur gazon d'ornement. | AE53: =C53 -> 2150116 | AF53: =B53 -> PPP | AG53: =IF(OR(I53="Emploi autorisé dans les jardins",I53="Mention Abeille",I53=0,I53="Mention abeille | Emploi autorisé dans les jardins"),"Vente libre service interdite","Vente libre service autorisée") -> Vente libre service interdite
A54: =C54 -> 8900620 | B54: PPP | C54: 8900620 | D54: FOLPAN SC | E54: FOLTANE FL | TAMOUZ | F54: ADAMA FRANCE SAS | G54: Produit de référence | H54: Professionnel | J54: Folpet (Folpet) 500.0 g/L | K54: Fongicide | L54: Suspension concentrée | M54: 12703202 | N54: Vigne*Trt Part.Aer.*Excoriose | O54: 42912 | P54: 9 | Q54: 13 | R54: Autorisé | S54: 0.3 | T54: L/hL | W54: 2 | Z54: Volume maximal de bouillie : 1000 L/ha. | AA54: 5.0 | AB54: 5.0 | AE54: =C54 -> 8900620 | AF54: =B54 -> PPP | AG54: =IF(OR(I54="Emploi autorisé dans les jardins",I54="Mention Abeille",I54=0,I54="Mention abeille | Emploi autorisé dans les jardins"),"Vente libre service interdite","Vente libre service autorisée") -> Vente libre service interdite
A55: =C55 -> 8900620 | B55: PPP | C55: 8900620 | D55: FOLPAN SC | E55: FOLTANE FL | TAMOUZ | F55: ADAMA FRANCE SAS | G55: Produit de référence | H55: Professionnel | J55: Folpet (Folpet) 500.0 g/L | K55: Fongicide | L55: Suspension concentrée | M55: 12703203 | N55: Vigne*Trt Part.Aer.*Mildiou(s) | O55: 42912 | R55: Autorisé | S55: 3.0 | T55: L/ha | U55: 28 | W55: 7 | Z55: Uniquement sur raisin de cuve. | La largeur du DVP est fonction du nombre d'applications pour contrôler l'ensemble des maladies. Elle est de 5 mètres pour 4 applications maximum et de 20 mètres pour 7 applications maximum. | | AA55: 20.0 | AB55: 5.0 | AE55: =C55 -> 8900620 | AF55: =B55 -> PPP | AG55: =IF(OR(I55="Emploi autorisé dans les jardins",I55="Mention Abeille",I55=0,I55="Mention abeille | Emploi autorisé dans les jardins"),"Vente libre service interdite","Vente libre service autorisée") -> Vente libre service interdite
A56: =C56 -> 8900620 | B56: PPP | C56: 8900620 | D56: FOLPAN SC | E56: FOLTANE FL | TAMOUZ | F56: ADAMA FRANCE SAS | G56: Produit de référence | H56: Professionnel | J56: Folpet (Folpet) 500.0 g/L | K56: Fongicide | L56: Suspension concentrée | M56: 12703207 | N56: Vigne*Trt Part.Aer.*Rougeot parasitaire | O56: 42912 | Q56: 69 | R56: Autorisé | S56: 3.0 | T56: L/ha | W56: 7 | Z56: Uniquement sur raisin de table. | La largeur du DVP est fonction du nombre d'applications pour contrôler l'ensemble des maladies. Elle est de 5 mètres pour 4 applications maximum et de 20 mètres pour 7 applications maximum. | | AA56: 20.0 | AB56: 5.0 | AE56: =C56 -> 8900620 | AF56: =B56 -> PPP | AG56: =IF(OR(I56="Emploi autorisé dans les jardins",I56="Mention Abeille",I56=0,I56="Mention abeille | Emploi autorisé dans les jardins"),"Vente libre service interdite","Vente libre service autorisée") -> Vente libre service interdite
A57: =C57 -> 8900620 | B57: PPP | C57: 8900620 | D57: FOLPAN SC | E57: FOLTANE FL | TAMOUZ | F57: ADAMA FRANCE SAS | G57: Produit de référence | H57: Professionnel | J57: Folpet (Folpet) 500.0 g/L | K57: Fongicide | L57: Suspension concentrée | M57: 15653201 | N57: Pomme de terre*Trt Part.Aer.*Mildiou(s) | O57: 42912 | R57: Retrait | S57: 3.0 | T57: L/ha | X57: 43095 | Y57: 43460 | AE57: =C57 -> 8900620 | AF57: =B57 -> PPP | AG57: =IF(OR(I57="Emploi autorisé dans les jardins",I57="Mention Abeille",I57=0,I57="Mention abeille | Emploi autorisé dans les jardins"),"Vente libre service interdite","Vente libre service autorisée") -> Vente libre service interdite
A58: =C58 -> 8900620 | B58: PPP | C58: 8900620 | D58: FOLPAN SC | E58: FOLTANE FL | TAMOUZ | F58: ADAMA FRANCE SAS | G58: Produit de référence | H58: Professionnel | J58: Folpet (Folpet) 500.0 g/L | K58: Fongicide | L58: Suspension concentrée | M58: 12703203 | N58: Vigne*Trt Part.Aer.*Mildiou(s) | O58: 42912 | R58: Autorisé | S58: 3.0 | T58: L/ha | U58: 28 | W58: 4 | Z58: Uniquement sur raisin de cuve. | La largeur du DVP est fonction du nombre d'applications pour contrôler l'ensemble des maladies. Elle est de 5 mètres pour 4 applications maximum et de 20 mètres pour 7 applications maximum. | | AA58: 5.0 | AB58: 5.0 | AE58: =C58 -> 8900620 | AF58: =B58 -> PPP | AG58: =IF(OR(I58="Emploi autorisé dans les jardins",I58="Mention Abeille",I58=0,I58="Mention abeille | Emploi autorisé dans les jardins"),"Vente libre service interdite","Vente libre service autorisée") -> Vente libre service interdite
A59: =C59 -> 8900620 | B59: PPP | C59: 8900620 | D59: FOLPAN SC | E59: FOLTANE FL | TAMOUZ | F59: ADAMA FRANCE SAS | G59: Produit de référence | H59: Professionnel | J59: Folpet (Folpet) 500.0 g/L | K59: Fongicide | L59: Suspension concentrée | M59: 12703207 | N59: Vigne*Trt Part.Aer.*Rougeot parasitaire | O59: 42912 | Q59: 69 | R59: Autorisé | S59: 3.0 | T59: L/ha | W59: 4 | Z59: Uniquement sur raisin de table. | La largeur du DVP est fonction du nombre d'applications pour contrôler l'ensemble des maladies. Elle est de 5 mètres pour 4 applications maximum et de 20 mètres pour 7 applications maximum. | | AA59: 5.0 | AB59: 5.0 | AE59: =C59 -> 8900620 | AF59: =B59 -> PPP | AG59: =IF(OR(I59="Emploi autorisé dans les jardins",I59="Mention Abeille",I59=0,I59="Mention abeille | Emploi autorisé dans les jardins"),"Vente libre service interdite","Vente libre service autorisée") -> Vente libre service interdite
A60: =C60 -> 8900620 | B60: PPP | C60: 8900620 | D60: FOLPAN SC | E60: FOLTANE FL | TAMOUZ | F60: ADAMA FRANCE SAS | G60: Produit de référence | H60: Professionnel | J60: Folpet (Folpet) 500.0 g/L | K60: Fongicide | L60: Suspension concentrée | M60: 12703206 | N60: Vigne*Trt Part.Aer.*Black rot | O60: 42912 | P60: 13 | Q60: 85 | R60: Autorisé | S60: 3.0 | T60: L/ha | U60: 28 | W60: 7 | Z60: Uniquement sur raisin de cuve. | Intervalle minimum entre les applications : 10 jours. | La largeur du DVP est fonction du nombre d'applications pour contrôler l'ensemble des maladies. Elle est de 5 mètres pour 4 applications maximum et de 20 mètres pour 7 applications maximum. | | AA60: 20.0 | AB60: 5.0 | AE60: =C60 -> 8900620 | AF60: =B60 -> PPP | AG60: =IF(OR(I60="Emploi autorisé dans les jardins",I60="Mention Abeille",I60=0,I60="Mention abeille | Emploi autorisé dans les jardins"),"Vente libre service interdite","Vente libre service autorisée") -> Vente libre service interdite
A61: =C61 -> 8900620 | B61: PPP | C61: 8900620 | D61: FOLPAN SC | E61: FOLTANE FL | TAMOUZ | F61: ADAMA FRANCE SAS | G61: Produit de référence | H61: Professionnel | J61: Folpet (Folpet) 500.0 g/L | K61: Fongicide | L61: Suspension concentrée | M61: 12703206 | N61: Vigne*Trt Part.Aer.*Black rot | O61: 42912 | P61: 13 | Q61: 85 | R61: Autorisé | S61: 3.0 | T61: L/ha | U61: 28 | W61: 4 | Z61: Uniquement sur raisin de cuve. | Intervalle minimum entre les applications : 10 jours. | La largeur du DVP est fonction du nombre d'applications pour contrôler l'ensemble des maladies. Elle est de 5 mètres pour 4 applications maximum et de 20 mètres pour 7 applications maximum. | | AA61: 5.0 | AB61: 5.0 | AE61: =C61 -> 8900620 | AF61: =B61 -> PPP | AG61: =IF(OR(I61="Emploi autorisé dans les jardins",I61="Mention Abeille",I61=0,I61="Mention abeille | Emploi autorisé dans les jardins"),"Vente libre service interdite","Vente libre service autorisée") -> Vente libre service interdite
A62: =C62 -> 8900620 | B62: PPP | C62: 8900620 | D62: FOLPAN SC | E62: FOLTANE FL | TAMOUZ | F62: ADAMA FRANCE SAS | G62: Produit de référence | H62: Professionnel | J62: Folpet (Folpet) 500.0 g/L | K62: Fongicide | L62: Suspension concentrée | M62: 12703206 | N62: Vigne*Trt Part.Aer.*Black rot | O62: 42912 | P62: 13 | Q62: 69 | R62: Autorisé | S62: 3.0 | T62: L/ha | W62: 7 | Z62: Uniquement sur raisin de table. | Intervalle minimum entre les applications : 10 jours. | La largeur du DVP est fonction du nombre d'applications pour contrôler l'ensemble des maladies. Elle est de 5 mètres pour 4 applications maximum et de 20 mètres pour 7 applications maximum. | | AA62: 20.0 | AB62: 5.0 | AE62: =C62 -> 8900620 | AF62: =B62 -> PPP | AG62: =IF(OR(I62="Emploi autorisé dans les jardins",I62="Mention Abeille",I62=0,I62="Mention abeille | Emploi autorisé dans les jardins"),"Vente libre service interdite","Vente libre service autorisée") -> Vente libre service interdite
A63: =C63 -> 8900620 | B63: PPP | C63: 8900620 | D63: FOLPAN SC | E63: FOLTANE FL | TAMOUZ | F63: ADAMA FRANCE SAS | G63: Produit de référence | H63: Professionnel | J63: Folpet (Folpet) 500.0 g/L | K63: Fongicide | L63: Suspension concentrée | M63: 12703206 | N63: Vigne*Trt Part.Aer.*Black rot | O63: 42912 | P63: 13 | Q63: 69 | R63: Autorisé | S63: 3.0 | T63: L/ha | W63: 4 | Z63: Uniquement sur raisin de table. | Intervalle minimum entre les applications : 10 jours. | La largeur du DVP est fonction du nombre d'applications pour contrôler l'ensemble des maladies. Elle est de 5 mètres pour 4 applications maximum et de 20 mètres pour 7 applications maximum. | | AA63: 5.0 | AB63: 5.0 | AE63: =C63 -> 8900620 | AF63: =B63 -> PPP | AG63: =IF(OR(I63="Emploi autorisé dans les jardins",I63="Mention Abeille",I63=0,I63="Mention abeille | Emploi autorisé dans les jardins"),"Vente libre service interdite","Vente libre service autorisée") -> Vente libre service interdite
A64: =C64 -> 8900620 | B64: PPP | C64: 8900620 | D64: FOLPAN SC | E64: FOLTANE FL | TAMOUZ | F64: ADAMA FRANCE SAS | G64: Produit de référence | H64: Professionnel | J64: Folpet (Folpet) 500.0 g/L | K64: Fongicide | L64: Suspension concentrée | M64: 12703203 | N64: Vigne*Trt Part.Aer.*Mildiou(s) | O64: 42912 | Q64: 69 | R64: Autorisé | S64: 3.0 | T64: L/ha | W64: 7 | Z64: Uniquement sur raisin de table. | La largeur du DVP est fonction du nombre d'applications pour contrôler l'ensemble des maladies. Elle est de 5 mètres pour 4 applications maximum et de 20 mètres pour 7 applications maximum. | | AA64: 20.0 | AB64: 5.0 | AE64: =C64 -> 8900620 | AF64: =B64 -> PPP | AG64: =IF(OR(I64="Emploi autorisé dans les jardins",I64="Mention Abeille",I64=0,I64="Mention abeille | Emploi autorisé dans les jardins"),"Vente libre service interdite","Vente libre service autorisée") -> Vente libre service interdite
A65: =C65 -> 8900620 | B65: PPP | C65: 8900620 | D65: FOLPAN SC | E65: FOLTANE FL | TAMOUZ | F65: ADAMA FRANCE SAS | G65: Produit de référence | H65: Professionnel | J65: Folpet (Folpet) 500.0 g/L | K65: Fongicide | L65: Suspension concentrée | M65: 12703203 | N65: Vigne*Trt Part.Aer.*Mildiou(s) | O65: 42912 | Q65: 69 | R65: Autorisé | S65: 3.0 | T65: L/ha | W65: 4 | Z65: Uniquement sur raisin de table. | La largeur du DVP est fonction du nombre d'applications pour contrôler l'ensemble des maladies. Elle est de 5 mètres pour 4 applications maximum et de 20 mètres pour 7 applications maximum. | | AA65: 5.0 | AB65: 5.0 | AE65: =C65 -> 8900620 | AF65: =B65 -> PPP | AG65: =IF(OR(I65="Emploi autorisé dans les jardins",I65="Mention Abeille",I65=0,I65="Mention abeille | Emploi autorisé dans les jardins"),"Vente libre service interdite","Vente libre service autorisée") -> Vente libre service interdite
A66: =C66 -> 8900620 | B66: PPP | C66: 8900620 | D66: FOLPAN SC | E66: FOLTANE FL | TAMOUZ | F66: ADAMA FRANCE SAS | G66: Produit de référence | H66: Professionnel | J66: Folpet (Folpet) 500.0 g/L | K66: Fongicide | L66: Suspension concentrée | M66: 12703207 | N66: Vigne*Trt Part.Aer.*Rougeot parasitaire | O66: 42912 | R66: Autorisé | S66: 3.0 | T66: L/ha | U66: 28 | W66: 7 | Z66: Uniquement sur raisin de cuve. | La largeur du DVP est fonction du nombre d'applications pour contrôler l'ensemble des maladies. Elle est de 5 mètres pour 4 applications maximum et de 20 mètres pour 7 applications maximum. | | AA66: 20.0 | AB66: 5.0 | AE66: =C66 -> 8900620 | AF66: =B66 -> PPP | AG66: =IF(OR(I66="Emploi autorisé dans les jardins",I66="Mention Abeille",I66=0,I66="Mention abeille | Emploi autorisé dans les jardins"),"Vente libre service interdite","Vente libre service autorisée") -> Vente libre service interdite
A67: =C67 -> 8900620 | B67: PPP | C67: 8900620 | D67: FOLPAN SC | E67: FOLTANE FL | TAMOUZ | F67: ADAMA FRANCE SAS | G67: Produit de référence | H67: Professionnel | J67: Folpet (Folpet) 500.0 g/L | K67: Fongicide | L67: Suspension concentrée | M67: 12703207 | N67: Vigne*Trt Part.Aer.*Rougeot parasitaire | O67: 42912 | R67: Autorisé | S67: 3.0 | T67: L/ha | U67: 28 | W67: 4 | Z67: Uniquement sur raisin de cuve. | La largeur du DVP est fonction du nombre d'applications pour contrôler l'ensemble des maladies. Elle est de 5 mètres pour 4 applications maximum et de 20 mètres pour 7 applications maximum. | | AA67: 5.0 | AB67: 5.0 | AE67: =C67 -> 8900620 | AF67: =B67 -> PPP | AG67: =IF(OR(I67="Emploi autorisé dans les jardins",I67="Mention Abeille",I67=0,I67="Mention abeille | Emploi autorisé dans les jardins"),"Vente libre service interdite","Vente libre service autorisée") -> Vente libre service interdite
A68: =C68 -> 2160727 | B68: PPP | C68: 2160727 | D68: OSSETIA | E68: THEIA | F68: ROTAM AGROCHEMICAL EUROPE LIMITED | G68: Produit de référence | H68: Professionnel | J68: diflufénicanil (Diflufenican) 500.0 g/kg | K68: Herbicide | L68: Granulé dispersable | M68: 15105913 | N68: Orge*Désherbage | O68: 42695 | Q68: 32 | R68: Autorisé | S68: 0.24 | T68: kg/ha | W68: 1 | AA68: 20.0 | AE68: =C68 -> 2160727 | AF68: =B68 -> PPP | AG68: =IF(OR(I68="Emploi autorisé dans les jardins",I68="Mention Abeille",I68=0,I68="Mention abeille | Emploi autorisé dans les jardins"),"Vente libre service interdite","Vente libre service autorisée") -> Vente libre service interdite
A69: =C69 -> 2160727 | B69: PPP | C69: 2160727 | D69: OSSETIA | E69: THEIA | F69: ROTAM AGROCHEMICAL EUROPE LIMITED | G69: Produit de référence | H69: Professionnel | J69: diflufénicanil (Diflufenican) 500.0 g/kg | K69: Herbicide | L69: Granulé dispersable | M69: 15105912 | N69: Blé*Désherbage | O69: 42695 | Q69: 32 | R69: Autorisé | S69: 0.24 | T69: kg/ha | W69: 1 | AA69: 20.0 | AE69: =C69 -> 2160727 | AF69: =B69 -> PPP | AG69: =IF(OR(I69="Emploi autorisé dans les jardins",I69="Mention Abeille",I69=0,I69="Mention abeille | Emploi autorisé dans les jardins"),"Vente libre service interdite","Vente libre service autorisée") -> Vente libre service interdite
A70: =C70 -> 2160727 | B70: PPP | C70: 2160727 | D70: OSSETIA | E70: THEIA | F70: ROTAM AGROCHEMICAL EUROPE LIMITED | G70: Produit de référence | H70: Professionnel | J70: diflufénicanil (Diflufenican) 500.0 g/kg | K70: Herbicide | L70: Granulé dispersable | M70: 15105915 | N70: Seigle*Désherbage | O70: 42695 | P70: 0 | Q70: 32 | R70: Autorisé | S70: 0.24 | T70: kg/ha | W70: 1 | Z70: =- Application en pré-levée. -> #NAME? | AA70: 20.0 | AE70: =C70 -> 2160727 | AF70: =B70 -> PPP | AG70: =IF(OR(I70="Emploi autorisé dans les jardins",I70="Mention Abeille",I70=0,I70="Mention abeille | Emploi autorisé dans les jardins"),"Vente libre service interdite","Vente libre service autorisée") -> Vente libre service interdite
A71: =C71 -> 2090025 | B71: PPP | C71: 2090025 | D71: GLOTRON 70 WG | E71: TARGET 70 WG | BETTIX 70 WG | F71: UPL France SAS | G71: Produit de référence | H71: Professionnel | J71: métamitrone (Metamitron) 700.0 g/kg | K71: Herbicide | L71: Granulé dispersable | M71: 15055911 | N71: Betterave industrielle et fourragère*Désherbage | O71: 43178 | P71: 0 | Q71: 18 | R71: Autorisé | S71: 4.0 | T71: kg/ha | W71: 1 | Z71: Fractionnement possible en respectant une dose maximale de 3 kg/ha en pré-émergence et de 1 kg/ha en post-émergence. | AA71: 5.0 | AE71: =C71 -> 2090025 | AF71: =B71 -> PPP | AG71: =IF(OR(I71="Emploi autorisé dans les jardins",I71="Mention Abeille",I71=0,I71="Mention abeille | Emploi autorisé dans les jardins"),"Vente libre service interdite","Vente libre service autorisée") -> Vente libre service interdite
A72: =C72 -> 9100034 | B72: PPP | C72: 9100034 | D72: JADEX-O-460 | E72: C3-SUN | PROFI C3 | F72: SOCIETE FINANCIERE DE PONTARLIER | G72: Produit de référence | H72: Professionnel | J72: chlorméquat (Chlormequat) 460.0 g/L | K72: Subst. Croiss. | L72: Concentré soluble | M72: 15103808 | N72: Blé*Trt Part.Aer.*Limit. Croiss. Org. Aériens | O72: 42247 | Q72: 32 | R72: Autorisé | S72: 2.0 | T72: L/ha | W72: 1 | Z72: Uniquement sur blé tendre d'hiver et épeautre. | Jusqu'au stade BBCH 32. | AA72: 5.0 | AE72: =C72 -> 9100034 | AF72: =B72 -> PPP | AG72: =IF(OR(I72="Emploi autorisé dans les jardins",I72="Mention Abeille",I72=0,I72="Mention abeille | Emploi autorisé dans les jardins"),"Vente libre service interdite","Vente libre service autorisée") -> Vente libre service interdite
A73: =C73 -> 9500234 | B73: PPP | C73: 9500234 | D73: ANTENE | E73: ALCEDO | MOLINA | F73: ISAGRO SPA | G73: Produit de revente | H73: Professionnel | J73: tetraconazole (Tetraconazole) 100.0 g/L | K73: Fongicide | L73: Concentré émulsionnable | M73: 12603203 | N73: Pommier*Trt Part.Aer.*Tavelure(s) | O73: 42713 | R73: Autorisé | S73: 0.3 | T73: L/ha | U73: 14 | W73: 3 | Z73: 3 applications maximum par campagne pour toutes substances actives de la famille des IDMs confondues | AA73: 5.0 | AE73: =C73 -> 9500234 | AF73: =B73 -> PPP | AG73: =IF(OR(I73="Emploi autorisé dans les jardins",I73="Mention Abeille",I73=0,I73="Mention abeille | Emploi autorisé dans les jardins"),"Vente libre service interdite","Vente libre service autorisée") -> Vente libre service interdite
A74: =C74 -> 9500234 | B74: PPP | C74: 9500234 | D74: ANTENE | E74: ALCEDO | MOLINA | F74: ISAGRO SPA | G74: Produit de revente | H74: Professionnel | J74: tetraconazole (Tetraconazole) 100.0 g/L | K74: Fongicide | L74: Concentré émulsionnable | M74: 12603202 | N74: Pommier*Trt Part.Aer.*Oïdium(s) | O74: 42713 | R74: Autorisé | S74: 0.25 | T74: L/ha | U74: 14 | W74: 3 | Z74: - 3 applications maximum par campagne pour toutes substances actives de la famille des IDMs confondues | AA74: 5.0 | AE74: =C74 -> 9500234 | AF74: =B74 -> PPP | AG74: =IF(OR(I74="Emploi autorisé dans les jardins",I74="Mention Abeille",I74=0,I74="Mention abeille | Emploi autorisé dans les jardins"),"Vente libre service interdite","Vente libre service autorisée") -> Vente libre service interdite
A75: =C75 -> 9500234 | B75: PPP | C75: 9500234 | D75: ANTENE | E75: ALCEDO | MOLINA | F75: ISAGRO SPA | G75: Produit de revente | H75: Professionnel | J75: tetraconazole (Tetraconazole) 100.0 g/L | K75: Fongicide | L75: Concentré émulsionnable | M75: 12703206 | N75: Vigne*Trt Part.Aer.*Black rot | O75: 42713 | R75: Autorisé | S75: 0.3 | T75: L/ha | U75: 30 | W75: 2 | Z75: 2 applications non consécutives par campagne sur tout le complexe de maladies revendiquées. | AA75: 5.0 | AE75: =C75 -> 9500234 | AF75: =B75 -> PPP | AG75: =IF(OR(I75="Emploi autorisé dans les jardins",I75="Mention Abeille",I75=0,I75="Mention abeille | Emploi autorisé dans les jardins"),"Vente libre service interdite","Vente libre service autorisée") -> Vente libre service interdite
A76: =C76 -> 9500234 | B76: PPP | C76: 9500234 | D76: ANTENE | E76: ALCEDO | MOLINA | F76: ISAGRO SPA | G76: Produit de revente | H76: Professionnel | J76: tetraconazole (Tetraconazole) 100.0 g/L | K76: Fongicide | L76: Concentré émulsionnable | M76: 12703204 | N76: Vigne*Trt Part.Aer.*Oïdium(s) | O76: 42713 | R76: Autorisé | S76: 0.25 | T76: L/ha | U76: 30 | W76: 2 | Z76: 2 applications non consécutives par campagne sur tout le complexe de maladies revendiquées. | AA76: 5.0 | AE76: =C76 -> 9500234 | AF76: =B76 -> PPP | AG76: =IF(OR(I76="Emploi autorisé dans les jardins",I76="Mention Abeille",I76=0,I76="Mention abeille | Emploi autorisé dans les jardins"),"Vente libre service interdite","Vente libre service autorisée") -> Vente libre service interdite
A77: =C77 -> 9500234 | B77: PPP | C77: 9500234 | D77: ANTENE | E77: ALCEDO | MOLINA | F77: ISAGRO SPA | G77: Produit de revente | H77: Professionnel | J77: tetraconazole (Tetraconazole) 100.0 g/L | K77: Fongicide | L77: Concentré émulsionnable | M77: 12703207 | N77: Vigne*Trt Part.Aer.*Rougeot parasitaire | O77: 42713 | R77: Autorisé | S77: 0.3 | T77: L/ha | U77: 30 | W77: 2 | Z77: 2 applications non consécutives par campagne sur tout le complexe de maladies revendiquées. | AA77: 5.0 | AE77: =C77 -> 9500234 | AF77: =B77 -> PPP | AG77: =IF(OR(I77="Emploi autorisé dans les jardins",I77="Mention Abeille",I77=0,I77="Mention abeille | Emploi autorisé dans les jardins"),"Vente libre service interdite","Vente libre service autorisée") -> Vente libre service interdite
A78: =C78 -> 2060172 | B78: PPP | C78: 2060172 | D78: LIDAL | E78: CONCORDE | F78: ISAGRO SPA | G78: Produit de revente | H78: Professionnel | J78: tétraconazole (Tetraconazole) 100.0 g/L | K78: Fongicide | L78: Concentré émulsionnable | M78: 12603203 | N78: Pommier*Trt Part.Aer.*Tavelure(s) | O78: 42247 | R78: Autorisé | S78: 0.3 | T78: L/ha | U78: 14 | W78: 3 | Z78: 3 applications maximum par campagne pour toutes substances actives de la famille des IDMs confondues | AA78: 5.0 | AE78: =C78 -> 2060172 | AF78: =B78 -> PPP | AG78: =IF(OR(I78="Emploi autorisé dans les jardins",I78="Mention Abeille",I78=0,I78="Mention abeille | Emploi autorisé dans les jardins"),"Vente libre service interdite","Vente libre service autorisée") -> Vente libre service interdite
A79: =C79 -> 2060172 | B79: PPP | C79: 2060172 | D79: LIDAL | E79: CONCORDE | F79: ISAGRO SPA | G79: Produit de revente | H79: Professionnel | J79: tétraconazole (Tetraconazole) 100.0 g/L | K79: Fongicide | L79: Concentré émulsionnable | M79: 12603202 | N79: Pommier*Trt Part.Aer.*Oïdium(s) | O79: 42247 | R79: Autorisé | S79: 0.25 | T79: L/ha | U79: 14 | W79: 3 | Z79: - 3 applications maximum par campagne pour toutes substances actives de la famille des IDMs confondues | AA79: 5.0 | AE79: =C79 -> 2060172 | AF79: =B79 -> PPP | AG79: =IF(OR(I79="Emploi autorisé dans les jardins",I79="Mention Abeille",I79=0,I79="Mention abeille | Emploi autorisé dans les jardins"),"Vente libre service interdite","Vente libre service autorisée") -> Vente libre service interdite
A80: =C80 -> 2060172 | B80: PPP | C80: 2060172 | D80: LIDAL | E80: CONCORDE | F80: ISAGRO SPA | G80: Produit de revente | H80: Professionnel | J80: tétraconazole (Tetraconazole) 100.0 g/L | K80: Fongicide | L80: Concentré émulsionnable | M80: 12703206 | N80: Vigne*Trt Part.Aer.*Black rot | O80: 42247 | R80: Autorisé | S80: 0.3 | T80: L/ha | U80: 30 | W80: 2 | Z80: 2 applications non consécutives par campagne sur tout le complexe de maladies revendiquées. | AA80: 5.0 | AE80: =C80 -> 2060172 | AF80: =B80 -> PPP | AG80: =IF(OR(I80="Emploi autorisé dans les jardins",I80="Mention Abeille",I80=0,I80="Mention abeille | Emploi autorisé dans les jardins"),"Vente libre service interdite","Vente libre service autorisée") -> Vente libre service interdite
A81: =C81 -> 2060172 | B81: PPP | C81: 2060172 | D81: LIDAL | E81: CONCORDE | F81: ISAGRO SPA | G81: Produit de revente | H81: Professionnel | J81: tétraconazole (Tetraconazole) 100.0 g/L | K81: Fongicide | L81: Concentré émulsionnable | M81: 12703204 | N81: Vigne*Trt Part.Aer.*Oïdium(s) | O81: 42247 | R81: Autorisé | S81: 0.25 | T81: L/ha | U81: 30 | W81: 2 | Z81: 2 applications non consécutives par campagne sur tout le complexe de maladies revendiquées. | AA81: 5.0 | AE81: =C81 -> 2060172 | AF81: =B81 -> PPP | AG81: =IF(OR(I81="Emploi autorisé dans les jardins",I81="Mention Abeille",I81=0,I81="Mention abeille | Emploi autorisé dans les jardins"),"Vente libre service interdite","Vente libre service autorisée") -> Vente libre service interdite
A82: =C82 -> 2060172 | B82: PPP | C82: 2060172 | D82: LIDAL | E82: CONCORDE | F82: ISAGRO SPA | G82: Produit de revente | H82: Professionnel | J82: tétraconazole (Tetraconazole) 100.0 g/L | K82: Fongicide | L82: Concentré émulsionnable | M82: 12703207 | N82: Vigne*Trt Part.Aer.*Rougeot parasitaire | O82: 42247 | R82: Autorisé | S82: 0.3 | T82: L/ha | U82: 30 | W82: 2 | Z82: 2 applications non consécutives par campagne sur tout le complexe de maladies revendiquées. | AA82: 5.0 | AE82: =C82 -> 2060172 | AF82: =B82 -> PPP | AG82: =IF(OR(I82="Emploi autorisé dans les jardins",I82="Mention Abeille",I82=0,I82="Mention abeille | Emploi autorisé dans les jardins"),"Vente libre service interdite","Vente libre service autorisée") -> Vente libre service interdite
A83: =C83 -> 2160456 | B83: PPP | C83: 2160456 | D83: PERMIT | F83: PHILAGRO France | G83: Produit de référence | H83: Professionnel | J83: halosulfuron-méthyl (Halosulfuron methyl) 750.0 g/kg | K83: Herbicide | L83: Granulé dispersable | M83: 15755901 | N83: Riz*Désherbage | O83: 42494 | P83: 12 | Q83: 24 | R83: Autorisé | S83: 0.04 | T83: kg/ha | W83: 1 | AA83: 5.0 | AC83: 50.0 | AE83: =C83 -> 2160456 | AF83: =B83 -> PPP | AG83: =IF(OR(I83="Emploi autorisé dans les jardins",I83="Mention Abeille",I83=0,I83="Mention abeille | Emploi autorisé dans les jardins"),"Vente libre service interdite","Vente libre service autorisée") -> Vente libre service interdite
A84: =C84 -> 2150279 | B84: PPP | C84: 2150279 | D84: RIZA | F84: CHEMINOVA A/S | G84: Produit de référence | H84: Professionnel | J84: tébuconazole (Tebuconazole) 200.0 g/L | K84: Fongicide | Régulateur de croissance | L84: Concentré émulsionnable | M84: 16853218 | N84: Graines protéagineuses*Trt Part.Aer.*Rouille(s) | O84: 42223 | R84: Autorisé | S84: 1.0 | T84: L/ha | U84: 28 | W84: 1 | Z84: Uniquement sur pois protéagineux et pois fourrager | | AA84: 5.0 | AE84: =C84 -> 2150279 | AF84: =B84 -> PPP | AG84: =IF(OR(I84="Emploi autorisé dans les jardins",I84="Mention Abeille",I84=0,I84="Mention abeille | Emploi autorisé dans les jardins"),"Vente libre service interdite","Vente libre service autorisée") -> Vente libre service interdite
A85: =C85 -> 2150279 | B85: PPP | C85: 2150279 | D85: RIZA | F85: CHEMINOVA A/S | G85: Produit de référence | H85: Professionnel | J85: tébuconazole (Tebuconazole) 200.0 g/L | K85: Fongicide | Régulateur de croissance | L85: Concentré émulsionnable | M85: 15103209 | N85: Blé*Trt Part.Aer.*Oïdium(s) | O85: 42223 | R85: Autorisé | S85: 1.25 | T85: L/ha | U85: 35 | W85: 1 | AA85: 5.0 | AE85: =C85 -> 2150279 | AF85: =B85 -> PPP | AG85: =IF(OR(I85="Emploi autorisé dans les jardins",I85="Mention Abeille",I85=0,I85="Mention abeille | Emploi autorisé dans les jardins"),"Vente libre service interdite","Vente libre service autorisée") -> Vente libre service interdite
A86: =C86 -> 2150279 | B86: PPP | C86: 2150279 | D86: RIZA | F86: CHEMINOVA A/S | G86: Produit de référence | H86: Professionnel | J86: tébuconazole (Tebuconazole) 200.0 g/L | K86: Fongicide | Régulateur de croissance | L86: Concentré émulsionnable | M86: 15103214 | N86: Blé*Trt Part.Aer.*Rouille(s) | O86: 42223 | R86: Autorisé | S86: 1.25 | T86: L/ha | U86: 35 | W86: 1 | AA86: 5.0 | AE86: =C86 -> 2150279 | AF86: =B86 -> PPP | AG86: =IF(OR(I86="Emploi autorisé dans les jardins",I86="Mention Abeille",I86=0,I86="Mention abeille | Emploi autorisé dans les jardins"),"Vente libre service interdite","Vente libre service autorisée") -> Vente libre service interdite
A87: =C87 -> 2150279 | B87: PPP | C87: 2150279 | D87: RIZA | F87: CHEMINOVA A/S | G87: Produit de référence | H87: Professionnel | J87: tébuconazole (Tebuconazole) 200.0 g/L | K87: Fongicide | Régulateur de croissance | L87: Concentré émulsionnable | M87: 15103202 | N87: Blé*Trt Part.Aer.*Fusarioses | O87: 42223 | R87: Autorisé | S87: 1.25 | T87: L/ha | U87: 35 | W87: 1 | AA87: 5.0 | AE87: =C87 -> 2150279 | AF87: =B87 -> PPP | AG87: =IF(OR(I87="Emploi autorisé dans les jardins",I87="Mention Abeille",I87=0,I87="Mention abeille | Emploi autorisé dans les jardins"),"Vente libre service interdite","Vente libre service autorisée") -> Vente libre service interdite
A88: =C88 -> 2150279 | B88: PPP | C88: 2150279 | D88: RIZA | F88: CHEMINOVA A/S | G88: Produit de référence | H88: Professionnel | J88: tébuconazole (Tebuconazole) 200.0 g/L | K88: Fongicide | Régulateur de croissance | L88: Concentré émulsionnable | M88: 15103226 | N88: Orge*Trt Part.Aer.*Helminthosporiose et ramulariose | O88: 42223 | R88: Autorisé | S88: 1.25 | T88: L/ha | U88: 35 | W88: 1 | AA88: 5.0 | AE88: =C88 -> 2150279 | AF88: =B88 -> PPP | AG88: =IF(OR(I88="Emploi autorisé dans les jardins",I88="Mention Abeille",I88=0,I88="Mention abeille | Emploi autorisé dans les jardins"),"Vente libre service interdite","Vente libre service autorisée") -> Vente libre service interdite
A89: =C89 -> 2150279 | B89: PPP | C89: 2150279 | D89: RIZA | F89: CHEMINOVA A/S | G89: Produit de référence | H89: Professionnel | J89: tébuconazole (Tebuconazole) 200.0 g/L | K89: Fongicide | Régulateur de croissance | L89: Concentré émulsionnable | M89: 15103225 | N89: Orge*Trt Part.Aer.*Oïdium(s) | O89: 42223 | R89: Autorisé | S89: 1.25 | T89: L/ha | U89: 35 | W89: 1 | AA89: 5.0 | AE89: =C89 -> 2150279 | AF89: =B89 -> PPP | AG89: =IF(OR(I89="Emploi autorisé dans les jardins",I89="Mention Abeille",I89=0,I89="Mention abeille | Emploi autorisé dans les jardins"),"Vente libre service interdite","Vente libre service autorisée") -> Vente libre service interdite
A90: =C90 -> 2150279 | B90: PPP | C90: 2150279 | D90: RIZA | F90: CHEMINOVA A/S | G90: Produit de référence | H90: Professionnel | J90: tébuconazole (Tebuconazole) 200.0 g/L | K90: Fongicide | Régulateur de croissance | L90: Concentré émulsionnable | M90: 15103229 | N90: Orge*Trt Part.Aer.*Rhynchosporiose | O90: 42223 | R90: Autorisé | S90: 1.25 | T90: L/ha | U90: 35 | W90: 1 | AA90: 5.0 | AE90: =C90 -> 2150279 | AF90: =B90 -> PPP | AG90: =IF(OR(I90="Emploi autorisé dans les jardins",I90="Mention Abeille",I90=0,I90="Mention abeille | Emploi autorisé dans les jardins"),"Vente libre service interdite","Vente libre service autorisée") -> Vente libre service interdite
A91: =C91 -> 2150279 | B91: PPP | C91: 2150279 | D91: RIZA | F91: CHEMINOVA A/S | G91: Produit de référence | H91: Professionnel | J91: tébuconazole (Tebuconazole) 200.0 g/L | K91: Fongicide | Régulateur de croissance | L91: Concentré émulsionnable | M91: 15103205 | N91: Orge*Trt Part.Aer.*Rouille(s) | O91: 42223 | R91: Autorisé | S91: 1.25 | T91: L/ha | U91: 35 | W91: 1 | AA91: 5.0 | AE91: =C91 -> 2150279 | AF91: =B91 -> PPP | AG91: =IF(OR(I91="Emploi autorisé dans les jardins",I91="Mention Abeille",I91=0,I91="Mention abeille | Emploi autorisé dans les jardins"),"Vente libre service interdite","Vente libre service autorisée") -> Vente libre service interdite
A92: =C92 -> 2150279 | B92: PPP | C92: 2150279 | D92: RIZA | F92: CHEMINOVA A/S | G92: Produit de référence | H92: Professionnel | J92: tébuconazole (Tebuconazole) 200.0 g/L | K92: Fongicide | Régulateur de croissance | L92: Concentré émulsionnable | M92: 121015 | N92: Orge*Trt Part.Aer.*Fusarioses | O92: 42223 | R92: Autorisé | S92: 1.25 | T92: L/ha | U92: 35 | W92: 1 | AA92: 5.0 | AE92: =C92 -> 2150279 | AF92: =B92 -> PPP | AG92: =IF(OR(I92="Emploi autorisé dans les jardins",I92="Mention Abeille",I92=0,I92="Mention abeille | Emploi autorisé dans les jardins"),"Vente libre service interdite","Vente libre service autorisée") -> Vente libre service interdite
A93: =C93 -> 2150279 | B93: PPP | C93: 2150279 | D93: RIZA | F93: CHEMINOVA A/S | G93: Produit de référence | H93: Professionnel | J93: tébuconazole (Tebuconazole) 200.0 g/L | K93: Fongicide | Régulateur de croissance | L93: Concentré émulsionnable | M93: 15203201 | N93: Crucifères oléagineuses*Trt Part.Aer.*Maladies fongiques des siliques | O93: 42223 | R93: Autorisé | S93: 1.25 | T93: L/ha | U93: 63 | W93: 2 | Z93: Sur crucifères oléagineuses de printemps, 1 à 2 applications au printemps. | AA93: 20.0 | AE93: =C93 -> 2150279 | AF93: =B93 -> PPP | AG93: =IF(OR(I93="Emploi autorisé dans les jardins",I93="Mention Abeille",I93=0,I93="Mention abeille | Emploi autorisé dans les jardins"),"Vente libre service interdite","Vente libre service autorisée") -> Vente libre service interdite
A94: =C94 -> 2150279 | B94: PPP | C94: 2150279 | D94: RIZA | F94: CHEMINOVA A/S | G94: Produit de référence | H94: Professionnel | J94: tébuconazole (Tebuconazole) 200.0 g/L | K94: Fongicide | Régulateur de croissance | L94: Concentré émulsionnable | M94: 15203201 | N94: Crucifères oléagineuses*Trt Part.Aer.*Maladies fongiques des siliques | O94: 42223 | R94: Autorisé | S94: 1.25 | T94: L/ha | U94: 63 | W94: 3 | Z94: Sur crucifères oléagineuses d'hiver : | - 1 application en hiver | - 1 à 2 applications au printemps | AA94: 5.0 | AE94: =C94 -> 2150279 | AF94: =B94 -> PPP | AG94: =IF(OR(I94="Emploi autorisé dans les jardins",I94="Mention Abeille",I94=0,I94="Mention abeille | Emploi autorisé dans les jardins"),"Vente libre service interdite","Vente libre service autorisée") -> Vente libre service interdite
A95: =C95 -> 2150279 | B95: PPP | C95: 2150279 | D95: RIZA | F95: CHEMINOVA A/S | G95: Produit de référence | H95: Professionnel | J95: tébuconazole (Tebuconazole) 200.0 g/L | K95: Fongicide | Régulateur de croissance | L95: Concentré émulsionnable | M95: 15203204 | N95: Crucifères oléagineuses*Trt Part.Aer.*Cylindrosporiose | O95: 42223 | R95: Autorisé | S95: 1.25 | T95: L/ha | U95: 63 | W95: 2 | Z95: Sur crucifères oléagineuses de printemps, 1 à 2 applications au printemps. | AA95: 20.0 | AE95: =C95 -> 2150279 | AF95: =B95 -> PPP | AG95: =IF(OR(I95="Emploi autorisé dans les jardins",I95="Mention Abeille",I95=0,I95="Mention abeille | Emploi autorisé dans les jardins"),"Vente libre service interdite","Vente libre service autorisée") -> Vente libre service interdite
A96: =C96 -> 2150279 | B96: PPP | C96: 2150279 | D96: RIZA | F96: CHEMINOVA A/S | G96: Produit de référence | H96: Professionnel | J96: tébuconazole (Tebuconazole) 200.0 g/L | K96: Fongicide | Régulateur de croissance | L96: Concentré émulsionnable | M96: 15203204 | N96: Crucifères oléagineuses*Trt Part.Aer.*Cylindrosporiose | O96: 42223 | R96: Autorisé | S96: 1.25 | T96: L/ha | U96: 63 | W96: 3 | Z96: Sur crucifères oléagineuses d'hiver : | - 1 application en hiver | - 1 à 2 applications au printemps | AA96: 5.0 | AE96: =C96 -> 2150279 | AF96: =B96 -> PPP | AG96: =IF(OR(I96="Emploi autorisé dans les jardins",I96="Mention Abeille",I96=0,I96="Mention abeille | Emploi autorisé dans les jardins"),"Vente libre service interdite","Vente libre service autorisée") -> Vente libre service interdite
A97: =C97 -> 2150279 | B97: PPP | C97: 2150279 | D97: RIZA | F97: CHEMINOVA A/S | G97: Produit de référence | H97: Professionnel | J97: tébuconazole (Tebuconazole) 200.0 g/L | K97: Fongicide | Régulateur de croissance | L97: Concentré émulsionnable | M97: 15203202 | N97: Crucifères oléagineuses*Trt Part.Aer.*Sclérotiniose | O97: 42223 | R97: Autorisé | S97: 1.25 | T97: L/ha | U97: 63 | W97: 3 | Z97: Sur crucifères oléagineuses d'hiver : | - 1 application en hiver | - 1 à 2 applications au printemps | AA97: 5.0 | AE97: =C97 -> 2150279 | AF97: =B97 -> PPP | AG97: =IF(OR(I97="Emploi autorisé dans les jardins",I97="Mention Abeille",I97=0,I97="Mention abeille | Emploi autorisé dans les jardins"),"Vente libre service interdite","Vente libre service autorisée") -> Vente libre service interdite
A98: =C98 -> 2150279 | B98: PPP | C98: 2150279 | D98: RIZA | F98: CHEMINOVA A/S | G98: Produit de référence | H98: Professionnel | J98: tébuconazole (Tebuconazole) 200.0 g/L | K98: Fongicide | Régulateur de croissance | L98: Concentré émulsionnable | M98: 15203202 | N98: Crucifères oléagineuses*Trt Part.Aer.*Sclérotiniose | O98: 42223 | R98: Autorisé | S98: 1.25 | T98: L/ha | U98: 63 | W98: 2 | Z98: Sur crucifères oléagineuses de printemps, 1 à 2 applications au printemps | AA98: 20.0 | AE98: =C98 -> 2150279 | AF98: =B98 -> PPP | AG98: =IF(OR(I98="Emploi autorisé dans les jardins",I98="Mention Abeille",I98=0,I98="Mention abeille | Emploi autorisé dans les jardins"),"Vente libre service interdite","Vente libre service autorisée") -> Vente libre service interdite
A99: =C99 -> 2150279 | B99: PPP | C99: 2150279 | D99: RIZA | F99: CHEMINOVA A/S | G99: Produit de référence | H99: Professionnel | J99: tébuconazole (Tebuconazole) 200.0 g/L | K99: Fongicide | Régulateur de croissance | L99: Concentré émulsionnable | M99: 15203801 | N99: Crucifères oléagineuses*Trt Part.Aer.*Limit. Croiss. Org. Aériens | O99: 42223 | R99: Autorisé | S99: 1.25 | T99: L/ha | U99: 63 | W99: 3 | Z99: Sur crucifères oléagineuses d'hiver : | - 1 application en hiver | - 1 à 2 applications au printemps | AA99: 5.0 | AE99: =C99 -> 2150279 | AF99: =B99 -> PPP | AG99: =IF(OR(I99="Emploi autorisé dans les jardins",I99="Mention Abeille",I99=0,I99="Mention abeille | Emploi autorisé dans les jardins"),"Vente libre service interdite","Vente libre service autorisée") -> Vente libre service interdite
A100: =C100 -> 2150279 | B100: PPP | C100: 2150279 | D100: RIZA | F100: CHEMINOVA A/S | G100: Produit de référence | H100: Professionnel | J100: tébuconazole (Tebuconazole) 200.0 g/L | K100: Fongicide | Régulateur de croissance | L100: Concentré émulsionnable | M100: 15203801 | N100: Crucifères oléagineuses*Trt Part.Aer.*Limit. Croiss. Org. Aériens | O100: 42223 | R100: Autorisé | S100: 1.25 | T100: L/ha | U100: 63 | W100: 2 | Z100: Sur crucifères oléagineuses de printemps, 1 à 2 applications au printemps. | AA100: 20.0 | AE100: =C100 -> 2150279 | AF100: =B100 -> PPP | AG100: =IF(OR(I100="Emploi autorisé dans les jardins",I100="Mention Abeille",I100=0,I100="Mention abeille | Emploi autorisé dans les jardins"),"Vente libre service interdite","Vente libre service autorisée") -> Vente libre service interdite
...

Sheet Paramètres
A1: Code | B1: N° AMM | C1: Nom produits | E1: code | F1: N° AMM | G1: Colonne1 | H1: identifiant usage | J1: Nb occurrence | L1: P_2000087 | N1: P_2010101 | P1: P_2050075 | R1: P_2050136 | T1: P_2060002 | V1: P_2060172 | X1: P_2090025 | Z1: P_2110153 | AB1: P_2130244 | AD1: P_2150116 | AF1: P_2150209 | AH1: P_2150279 | AJ1: P_2159999 | AL1: P_2160456 | AN1: P_2160727 | AP1: P_2160805 | AR1: P_2170139 | AT1: P_2180347 | AV1: P_8300243 | AX1: P_8800843 | AZ1: P_8900620 | BB1: P_9100034 | BD1: P_9300490 | BF1: P_9500007 | BH1: P_9500234 | BJ1: P_9500579 | BL1: P_9600097 | BN1: P_9600376 | BP1: P_9800400
A2: P_2000087 | B2: 2000087 | C2: COPLESS | E2: =F2&"_"&COUNTIF($F$2:F2,F2) -> 2000087_1 | F2: 2000087 | G2: P_2000087 | H2: Cerisier*Trt Part.Aer.*Bactérioses | J2: 1 | L2: Cerisier*Trt Part.Aer.*Bactérioses | N2: Plantes d'intérieur et balcons*Trt Part.Aer.*Oïdium(s) | P2: Haricots écossés frais*Trt Part.Aer.*Pourriture grise et sclérotinioses | R2: Chataignier*Trt Prod. Réc.*Désinsectisation | T2: Céleris*Trt Part.Aer.*Maladies des taches brunes (1) | V2: Pommier*Trt Part.Aer.*Tavelure(s) | X2: Betterave industrielle et fourragère*Désherbage | Z2: Orge*Trt Part.Aer.*Limit. Croiss. Org. Aériens | AB2: Pomme de terre*Trt Part.Aer.*Maladies des taches brunes | AD2: Gazons de graminées*Trt Sol*Ravageurs du sol | AF2: Traitements généraux*Désherbage*Cult. Installées (1) | AH2: Graines protéagineuses*Trt Part.Aer.*Rouille(s) | AJ2: Laitue*Trt Part.Aer.*Pucerons | AL2: Riz*Désherbage | AN2: Orge*Désherbage | AP2: Blé*Désherbage | AR2: Traitements généraux*Désinsectisation*Locx Struct. Matér. (POV) | AT2: Arbres et arbustes*Trt Part.Aer.*Aleurodes | AV2: Blé*Trt Part.Aer.*Septoriose(s) | AX2: Champignons*Trt Sol*Moucherons | AZ2: Vigne*Trt Part.Aer.*Excoriose | BB2: Blé*Trt Part.Aer.*Limit. Croiss. Org. Aériens | BD2: Houblon*Trt Part.Aer.*Mildiou(s) | BF2: Pomme de terre*Trt Part.Aer.*Mildiou(s) | BH2: Pommier*Trt Part.Aer.*Tavelure(s) | BJ2: Blé*Trt Part.Aer.*Oïdium(s) | BL2: PPAMC*Trt Part.Aer.*Maladies fongiques | BN2: Pommier*Trt Part.Aer.*Acariens et phytoptes | BP2: Vigne*Trt Part.Aer.*Mildiou(s)
A3: P_2010101 | B3: 2010101 | C3: MALADIES DES ROSIERS CPJ | E3: =F3&"_"&COUNTIF($F$2:F3,F3) -> 2000087_2 | F3: 2000087 | G3: P_2000087 | H3: Cerisier*Trt Part.Aer.*Coryneum et polystigma | J3: 2 | L3: Cerisier*Trt Part.Aer.*Coryneum et polystigma | N3: Plantes d'intérieur et balcons*Trt Part.Aer.*Maladies diverses (1) | P3: Porte graine - Légumineuses fourragères*Trt Part.Aer.*Maladies à sclérotes | R3: Forêt*Trt bois abattus*Insectes xylophages et sous corticaux | T3: Rosier*Trt Part.Aer.*Maladies des taches noires | V3: Pommier*Trt Part.Aer.*Oïdium(s) | Z3: Seigle*Trt Part.Aer.*Limit. Croiss. Org. Aériens | AB3: Pomme de terre*Trt Part.Aer.*Mildiou(s) | AF3: Blé*Désherbage | AH3: Blé*Trt Part.Aer.*Oïdium(s) | AJ3: Fines Herbes*Trt Part.Aer.*Pucerons | AN3: Blé*Désherbage | AP3: Avoine*Désherbage | AT3: Rosier*Trt Part.Aer.*Aleurodes | AV3: Pomme de terre*Trt Part.Aer.*Mildiou(s) | AX3: Concombre*Trt Part.Aer.*Mouches | AZ3: Vigne*Trt Part.Aer.*Mildiou(s) | BD3: Pêcher*Trt Part.Aer.*Cloque(s) | BH3: Pommier*Trt Part.Aer.*Oïdium(s) | BJ3: Blé*Trt Part.Aer.*Rouille(s) | BL3: Cerisier*Trt Part.Aer.*Bactérioses | BN3: Pêcher*Trt Part.Aer.*Acariens et phytoptes | BP3: Pomme de terre*Trt Part.Aer.*Mildiou(s)
A4: P_2050075 | B4: 2050075 | C4: PICTOR PRO | E4: =F4&"_"&COUNTIF($F$2:F4,F4) -> 2000087_3 | F4: 2000087 | G4: P_2000087 | H4: Fruits à coque*Trt Part.Aer.*Bactérioses | J4: 3 | L4: Fruits à coque*Trt Part.Aer.*Bactérioses | N4: Plantes d'intérieur et balcons*Trt Part.Aer.*Maladies des taches foliaires | P4: Porte graine - PPAMC, Florales et Potagères*Trt Part.Aer.*Maladies à sclérotes | R4: Traitements généraux*Désinsectisation*Locx Struct. Matér. (POV) | T4: Rosier*Trt Part.Aer.*Oïdium(s) | V4: Vigne*Trt Part.Aer.*Black rot | Z4: Blé*Trt Part.Aer.*Limit. Croiss. Org. Aériens | AB4: Tomate*Trt Part.Aer.*Mildiou(s) | AF4: Orge*Désherbage | AH4: Blé*Trt Part.Aer.*Rouille(s) | AJ4: Tomate*Trt Part.Aer.*Pucerons | AN4: Seigle*Désherbage | AP4: Orge*Désherbage | AT4: Cultures florales et plantes vertes*Trt Part.Aer.*Aleurodes | AV4: Asperge*Trt Part.Aer.*Maladies des taches brunes | AX4: Cultures florales et plantes vertes*Trt Part.Aer.*Mouches | AZ4: Vigne*Trt Part.Aer.*Rougeot parasitaire | BD4: Pomme de terre*Trt Part.Aer.*Mildiou(s) | BH4: Vigne*Trt Part.Aer.*Black rot | BJ4: Blé*Trt Part.Aer.*Septoriose(s) | BL4: Cerisier*Trt Part.Aer.*Coryneum et polystigma
A5: P_2050136 | B5: 2050136 | C5: PROFUME | E5: =F5&"_"&COUNTIF($F$2:F5,F5) -> 2000087_4 | F5: 2000087 | G5: P_2000087 | H5: Laitue*Trt Part.Aer.*Bactérioses | J5: 4 | L5: Laitue*Trt Part.Aer.*Bactérioses | P5: Porte graine - PPAMC, Florales et Potagères*Trt Part.Aer.*Phoma | R5: Traitements généraux*Fumigation (désinsectisation)*Locx Struct. Matér. (POV) | T5: Rosier*Trt Part.Aer.*Rouille(s) | V5: Vigne*Trt Part.Aer.*Oïdium(s) | AB5: Tomate*Trt Part.Aer.*Maladies des taches brunes | AF5: Cultures fruitières*Désherbage*Cult. Installées | AH5: Blé*Trt Part.Aer.*Fusarioses | AJ5: Fraisier*Trt Part.Aer.*Pucerons | AP5: Seigle*Désherbage | AV5: Concombre*Trt Part.Aer.*Mildiou(s) | AX5: Cultures ornementales*Trt Sol*Mouches | AZ5: Pomme de terre*Trt Part.Aer.*Mildiou(s) | BD5: Pommier*Trt Part.Aer.*Tavelure(s) | BH5: Vigne*Trt Part.Aer.*Oïdium(s) | BL5: Fruits à coque*Trt Part.Aer.*Bactérioses
A6: P_2060002 | B6: 2060002 | C6: DIFCOR 250 EC | E6: =F6&"_"&COUNTIF($F$2:F6,F6) -> 2000087_5 | F6: 2000087 | G6: P_2000087 | H6: Olivier*Trt Part.Aer.*Bactérioses | J6: 5 | L6: Olivier*Trt Part.Aer.*Bactérioses | P6: Porte graine - Betterave industrielle et fourragère*Trt Part.Aer.*Maladies des taches foliaires | R6: Traitements généraux*Trt Prod. Réc.*Désinsectisation | T6: Arbres et arbustes*Trt Part.Aer.*Maladies diverses (1) | V6: Vigne*Trt Part.Aer.*Rougeot parasitaire | AF6: Vigne*Désherbage*Cult. Installées | AH6: Orge*Trt Part.Aer.*Helminthosporiose et ramulariose | AJ6: Concombre*Trt Part.Aer.*Pucerons | AP6: Maïs*Désherbage | AV6: Concombre*Trt Part.Aer.*maladies des taches brunes | AX6: Melon*Trt Part.Aer.*Mouches | AZ6: Vigne*Trt Part.Aer.*Black rot | BD6: Vigne*Trt Part.Aer.*Mildiou(s) | BH6: Vigne*Trt Part.Aer.*Rougeot parasitaire | BL6: Laitue*Trt Part.Aer.*Bactérioses
A7: P_2060172 | B7: 2060172 | C7: LIDAL | E7: =F7&"_"&COUNTIF($F$2:F7,F7) -> 2000087_6 | F7: 2000087 | G7: P_2000087 | H7: Olivier*Trt Part.Aer.*Maladie de l'oeil de paon | J7: 6 | L7: Olivier*Trt Part.Aer.*Maladie de l'oeil de paon | P7: Crucifères oléagineuses*Trt Part.Aer.*Maladies fongiques des siliques | T7: Arbres et arbustes*Trt Part.Aer.*Oïdium(s) | AF7: Traitements généraux*Dévitalisation*Arb. sur pied Souches | AH7: Orge*Trt Part.Aer.*Oïdium(s) | AJ7: Poivron*Trt Part.Aer.*Pucerons | AP7: Canne à sucre*Désherbage | AV7: Graines protéagineuses*Trt Part.Aer.*Anthracnose(s) | AX7: Tomate*Trt Part.Aer.*Mouches | BL7: Olivier*Trt Part.Aer.*Bactérioses
A8: P_2090025 | B8: 2090025 | C8: GLOTRON 70 WG | E8: =F8&"_"&COUNTIF($F$2:F8,F8) -> 2000087_7 | F8: 2000087 | G8: P_2000087 | H8: Pêcher*Trt Part.Aer.*Cloque(s) | J8: 7 | L8: Pêcher*Trt Part.Aer.*Cloque(s) | P8: Crucifères oléagineuses*Trt Part.Aer.*Phoma | T8: Asperge*Trt Part.Aer.*Maladies des taches brunes | AF8: Traitements généraux*Destruct. Souches | AH8: Orge*Trt Part.Aer.*Rhynchosporiose | AJ8: Melon*Trt Part.Aer.*Pucerons | AP8: Pavot*Désherbage | AV8: Graines protéagineuses*Trt Part.Aer.*Pourriture grise et sclérotinioses | AX8: Céleris*Trt Part.Aer.*Mouches (1) | BL8: Olivier*Trt Part.Aer.*Maladie de l'oeil de paon
A9: P_2110153 | B9: 2110153 | C9: BOGOTA | E9: =F9&"_"&COUNTIF($F$2:F9,F9) -> 2000087_8 | F9: 2000087 | G9: P_2000087 | H9: Pêcher*Trt Part.Aer.*Coryneum et polystigma | J9: 8 | L9: Pêcher*Trt Part.Aer.*Coryneum et polystigma | P9: Crucifères oléagineuses*Trt Part.Aer.*Sclérotiniose | T9: Asperge*Trt Part.Aer.*Rouille(s) | AF9: Légumineuses fourragères*Désherbage | AH9: Orge*Trt Part.Aer.*Rouille(s) | AJ9: Epinard*Trt Part.Aer.*Pucerons | AP9: Oignon*Désherbage | AV9: Pois écossés frais*Trt Part.Aer.*Maladies des taches brunes | AX9: Laitue*Trt Part.Aer.*Mouches | BL9: Pêcher*Trt Part.Aer.*Cloque(s)
A10: P_2130244 | B10: 2130244 | C10: REVUS TOP | E10: =F10&"_"&COUNTIF($F$2:F10,F10) -> 2000087_9 | F10: 2000087 | G10: P_2000087 | H10: Pomme de terre*Trt Part.Aer.*Mildiou(s) | J10: 9 | L10: Pomme de terre*Trt Part.Aer.*Mildiou(s) | P10: Haricots*Trt Part.Aer.*Pourriture grise et sclérotinioses (1) | T10: Betterave potagère*Trt Part.Aer.*Maladies des taches brunes | AF10: Traitements généraux*Désherbage*Avt Mise Cult. | AH10: Orge*Trt Part.Aer.*Fusarioses | AP10: Porte graine*Désherbage | AV10: Pois écossés frais*Trt Part.Aer.*Pourriture grise et sclérotinioses | AX10: PPAMC*Trt Part.Aer.*Ravageurs divers | BL10: Pêcher*Trt Part.Aer.*Coryneum et polystigma
A11: P_2150116 | B11: 2150116 | C11: BELEM EV | E11: =F11&"_"&COUNTIF($F$2:F11,F11) -> 2000087_10 | F11: 2000087 | G11: P_2000087 | H11: Pommier*Trt Part.Aer.*Bactérioses | J11: 10 | L11: Pommier*Trt Part.Aer.*Bactérioses | P11: Lin*Trt Part.Aer.*Phoma | T11: Carotte*Trt Part.Aer.*Oïdium(s) | AH11: Crucifères oléagineuses*Trt Part.Aer.*Maladies fongiques des siliques | AP11: PPAM - non alimentaires*Désherbage | AV11: Tomate*Trt Part.Aer.*Maladies des taches brunes | BL11: Pomme de terre*Trt Part.Aer.*Mildiou(s)
A12: P_2150209 | B12: 2150209 | C12: ROUNDUP VISION | E12: =F12&"_"&COUNTIF($F$2:F12,F12) -> 2000087_11 | F12: 2000087 | G12: P_2000087 | H12: Pommier*Trt Part.Aer.*Chancre européen | J12: 11 | L12: Pommier*Trt Part.Aer.*Chancre européen | P12: Pois écossés frais*Trt Part.Aer.*Pourriture grise et sclérotinioses | T12: Chicorées - Production de racines*Trt Part.Aer.*Maladies des taches brunes | AH12: Crucifères oléagineuses*Trt Part.Aer.*Cylindrosporiose | AV12: Tomate*Trt Part.Aer.*Mildiou(s) | BL12: Pommier*Trt Part.Aer.*Bactérioses
A13: P_2150279 | B13: 2150279 | C13: RIZA | E13: =F13&"_"&COUNTIF($F$2:F13,F13) -> 2000087_12 | F13: 2000087 | G13: P_2000087 | H13: Pommier*Trt Part.Aer.*Tavelure(s) | J13: 12 | L13: Pommier*Trt Part.Aer.*Tavelure(s) | T13: Chicorées - Production de racines*Trt Part.Aer.*Oïdium(s) | AH13: Crucifères oléagineuses*Trt Part.Aer.*Sclérotiniose | AV13: Tomate*Trt Part.Aer.*Pourriture grise et sclérotinioses | BL13: Pommier*Trt Part.Aer.*Chancre européen
A14: P_2159999 | B14: 2159999 | C14: LIFE SCIENTIFIC PIRIMICARB | E14: =F14&"_"&COUNTIF($F$2:F14,F14) -> 2000087_13 | F14: 2000087 | G14: P_2000087 | H14: Prunier*Trt Part.Aer.*Bactérioses | J14: 13 | L14: Prunier*Trt Part.Aer.*Bactérioses | T14: Chicorées - Production de racines*Trt Part.Aer.*Rouille(s) | AH14: Crucifères oléagineuses*Trt Part.Aer.*Limit. Croiss. Org. Aériens | AV14: Melon*Trt Part.Aer.*Maladies des taches brunes | BL14: Pommier*Trt Part.Aer.*Tavelure(s)
A15: P_2160456 | B15: 2160456 | C15: PERMIT | E15: =F15&"_"&COUNTIF($F$2:F15,F15) -> 2000087_14 | F15: 2000087 | G15: P_2000087 | H15: Tomate*Trt Part.Aer.*Bactérioses | J15: 14 | L15: Tomate*Trt Part.Aer.*Bactérioses | T15: Choux*Trt Part.Aer.*Maladies des taches brunes | AH15: Avoine*Trt Part.Aer.*Oïdium(s) | AV15: Melon*Trt Part.Aer.*Mildiou(s) | BL15: Porte graine*Trt Part.Aer.*Maladies diverses
A16: P_2160727 | B16: 2160727 | C16: OSSETIA | E16: =F16&"_"&COUNTIF($F$2:F16,F16) -> 2000087_15 | F16: 2000087 | G16: P_2000087 | H16: Tomate*Trt Part.Aer.*Mildiou(s) | J16: 15 | L16: Tomate*Trt Part.Aer.*Mildiou(s) | T16: Pêcher*Trt Part.Aer.*Monilioses | AH16: Avoine*Trt Part.Aer.*Rouille couronnée | BL16: Prunier*Trt Part.Aer.*Bactérioses
A17: P_2160805 | B17: 2160805 | C17: STARANE HD | E17: =F17&"_"&COUNTIF($F$2:F17,F17) -> 2000087_16 | F17: 2000087 | G17: P_2000087 | H17: Vigne*Trt Part.Aer.*Bactérioses | J17: 16 | L17: Vigne*Trt Part.Aer.*Bactérioses | T17: Pêcher*Trt Part.Aer.*Oïdium(s) | AH17: Seigle*Trt Part.Aer.*Rhynchosporiose | BL17: Tomate*Trt Part.Aer.*Bactérioses
A18: P_2170139 | B18: 2170139 | C18: PIRIGRAIN AEROSOL | E18: =F18&"_"&COUNTIF($F$2:F18,F18) -> 2000087_17 | F18: 2000087 | G18: P_2000087 | H18: Vigne*Trt Part.Aer.*Mildiou(s) | J18: 17 | L18: Vigne*Trt Part.Aer.*Mildiou(s) | T18: Pommier*Trt Part.Aer.*Tavelure(s) | AH18: Seigle*Trt Part.Aer.*Rouille(s) | BL18: Tomate*Trt Part.Aer.*Mildiou(s)
A19: P_2180347 | B19: 2180347 | C19: APPLAUD STAR | E19: =F19&"_"&COUNTIF($F$2:F19,F19) -> 2000087_18 | F19: 2000087 | G19: P_2000087 | H19: Pêcher*Trt Part.Aer.*Bactérioses | J19: 18 | L19: Pêcher*Trt Part.Aer.*Bactérioses | T19: Porte graine - Légumineuses fourragères*Trt Part.Aer.*Rouille(s) | AH19: Lin*Trt Part.Aer.*Oïdium(s) | BL19: Vigne*Trt Part.Aer.*Bactérioses
A20: P_8300243 | B20: 8300243 | C20: FONGIL FL | E20: =F20&"_"&COUNTIF($F$2:F20,F20) -> 2000087_19 | F20: 2000087 | G20: P_2000087 | H20: Porte graine*Trt Part.Aer.*Maladies diverses | J20: 19 | L20: Porte graine*Trt Part.Aer.*Maladies diverses | T20: Porte graine*Trt Part.Aer.*Maladies diverses | AH20: Lin*Trt Part.Aer.*Septoriose et kabatiella (polyspora) | BL20: Vigne*Trt Part.Aer.*Mildiou(s)
A21: P_8800843 | B21: 8800843 | C21: TRIGARD 75 WP | E21: =F21&"_"&COUNTIF($F$2:F21,F21) -> 2000087_20 | F21: 2000087 | G21: P_2000087 | H21: PPAMC*Trt Part.Aer.*Maladies fongiques | J21: 20 | L21: PPAMC*Trt Part.Aer.*Maladies fongiques | T21: Prunier*Trt Part.Aer.*Monilioses | AH21: Vigne*Trt Part.Aer.*Black rot | BL21: Pêcher*Trt Part.Aer.*Bactérioses
A22: P_8900620 | B22: 8900620 | C22: FOLPAN SC | E22: =F22&"_"&COUNTIF($F$2:F22,F22) -> 2010101_1 | F22: 2010101 | G22: P_2010101 | H22: Plantes d'intérieur et balcons*Trt Part.Aer.*Oïdium(s) | J22: 21 | T22: Salsifis*Trt Part.Aer.*Oïdium(s) | AH22: Blé*Trt Part.Aer.*Septoriose(s)
A23: P_9100034 | B23: 9100034 | C23: JADEX-O-460 | E23: =F23&"_"&COUNTIF($F$2:F23,F23) -> 2010101_2 | F23: 2010101 | G23: P_2010101 | H23: Plantes d'intérieur et balcons*Trt Part.Aer.*Maladies diverses (1) | J23: 22 | T23: Tomate*Trt Part.Aer.*Maladies des taches brunes
A24: P_9300490 | B24: 9300490 | C24: SODICUIVRE 50 | E24: =F24&"_"&COUNTIF($F$2:F24,F24) -> 2010101_3 | F24: 2010101 | G24: P_2010101 | H24: Plantes d'intérieur et balcons*Trt Part.Aer.*Maladies des taches foliaires | J24: 23 | T24: Tomate*Trt Part.Aer.*Pourriture grise et sclérotinioses
A25: P_9500007 | B25: 9500007 | C25: ROMENIL | E25: =F25&"_"&COUNTIF($F$2:F25,F25) -> 2050075_1 | F25: 2050075 | G25: P_2050075 | H25: Haricots écossés frais*Trt Part.Aer.*Pourriture grise et sclérotinioses | J25: 24 | T25: Vigne*Trt Part.Aer.*Black rot
A26: P_9500234 | B26: 9500234 | C26: ANTENE | E26: =F26&"_"&COUNTIF($F$2:F26,F26) -> 2050075_2 | F26: 2050075 | G26: P_2050075 | H26: Porte graine - Légumineuses fourragères*Trt Part.Aer.*Maladies à sclérotes | J26: 25 | T26: Vigne*Trt Part.Aer.*Oïdium(s)
A27: P_9500579 | B27: 9500579 | C27: ARPEGE EW | E27: =F27&"_"&COUNTIF($F$2:F27,F27) -> 2050075_3 | F27: 2050075 | G27: P_2050075 | H27: Porte graine - PPAMC, Florales et Potagères*Trt Part.Aer.*Maladies à sclérotes | J27: 26 | T27: Vigne*Trt Part.Aer.*Rougeot parasitaire
A28: P_9600097 | B28: 9600097 | C28: CHAMP FLO | E28: =F28&"_"&COUNTIF($F$2:F28,F28) -> 2050075_4 | F28: 2050075 | G28: P_2050075 | H28: Porte graine - PPAMC, Florales et Potagères*Trt Part.Aer.*Phoma | J28: 27 | T28: Carotte*Trt Part.Aer.*Maladies des taches brunes
A29: P_9600376 | B29: 9600376 | C29: ORTUS | E29: =F29&"_"&COUNTIF($F$2:F29,F29) -> 2050075_5 | F29: 2050075 | G29: P_2050075 | H29: Porte graine - Betterave industrielle et fourragère*Trt Part.Aer.*Maladies des taches foliaires | J29: 28 | T29: Céleri-branche*Trt Part.Aer.*Maladies des taches brunes
A30: P_9800400 | B30: 9800400 | C30: CUPROFIX CM ACTIVE DISPERSS | E30: =F30&"_"&COUNTIF($F$2:F30,F30) -> 2050075_6 | F30: 2050075 | G30: P_2050075 | H30: Crucifères oléagineuses*Trt Part.Aer.*Maladies fongiques des siliques | J30: 29 | T30: Choux feuillus*Trt Part.Aer.*Maladies des taches brunes
E31: =F31&"_"&COUNTIF($F$2:F31,F31) -> 2050075_7 | F31: 2050075 | G31: P_2050075 | H31: Crucifères oléagineuses*Trt Part.Aer.*Phoma
E32: =F32&"_"&COUNTIF($F$2:F32,F32) -> 2050075_8 | F32: 2050075 | G32: P_2050075 | H32: Crucifères oléagineuses*Trt Part.Aer.*Sclérotiniose
E33: =F33&"_"&COUNTIF($F$2:F33,F33) -> 2050075_9 | F33: 2050075 | G33: P_2050075 | H33: Haricots*Trt Part.Aer.*Pourriture grise et sclérotinioses (1)
E34: =F34&"_"&COUNTIF($F$2:F34,F34) -> 2050075_10 | F34: 2050075 | G34: P_2050075 | H34: Lin*Trt Part.Aer.*Phoma
E35: =F35&"_"&COUNTIF($F$2:F35,F35) -> 2050075_11 | F35: 2050075 | G35: P_2050075 | H35: Pois écossés frais*Trt Part.Aer.*Pourriture grise et sclérotinioses
E36: =F36&"_"&COUNTIF($F$2:F36,F36) -> 2050136_1 | F36: 2050136 | G36: P_2050136 | H36: Chataignier*Trt Prod. Réc.*Désinsectisation
E37: =F37&"_"&COUNTIF($F$2:F37,F37) -> 2050136_2 | F37: 2050136 | G37: P_2050136 | H37: Forêt*Trt bois abattus*Insectes xylophages et sous corticaux
E38: =F38&"_"&COUNTIF($F$2:F38,F38) -> 2050136_3 | F38: 2050136 | G38: P_2050136 | H38: Traitements généraux*Désinsectisation*Locx Struct. Matér. (POV)
E39: =F39&"_"&COUNTIF($F$2:F39,F39) -> 2050136_4 | F39: 2050136 | G39: P_2050136 | H39: Traitements généraux*Fumigation (désinsectisation)*Locx Struct. Matér. (POV)
E40: =F40&"_"&COUNTIF($F$2:F40,F40) -> 2050136_5 | F40: 2050136 | G40: P_2050136 | H40: Traitements généraux*Trt Prod. Réc.*Désinsectisation
E41: =F41&"_"&COUNTIF($F$2:F41,F41) -> 2060002_1 | F41: 2060002 | G41: P_2060002 | H41: Céleris*Trt Part.Aer.*Maladies des taches brunes (1)
E42: =F42&"_"&COUNTIF($F$2:F42,F42) -> 2060002_2 | F42: 2060002 | G42: P_2060002 | H42: Rosier*Trt Part.Aer.*Maladies des taches noires
... E213: =F213&"_"&COUNTIF($F$2:F213,F213) -> 9800400_2 | F213: 9800400 | G213: P_9800400 | H213: Pomme de terre*Trt Part.Aer.*Mildiou(s)
E214: =F214&"_"&COUNTIF($F$2:F214,F214) -> _0 | G214: P_
