Workbook
Name L_Nom: T_BdD[Nom]
Name L_Péricentre: Tableau1[Péricentre]
Name L_Prestations: T_Prestations[Prestations]
Name Péricentre: Paramètres!$B$3:$B$6

Sheet Feuil1
A2: TARIFS 2019
A4: ADHERENTS
A6: Quotient Familial | C6: 0 à 600 | D6: 601 à 1000 | E6: 1001 à 1299 | F6: plus de 1300 | H6: Voici les différentes informations qu'il faudrait dans le tableau
A7: Journée avec repas | C7: 9 | D7: 12 | E7: 13.5 | F7: 15 | H7: - Nom Prénom de l'enfant
A8: Forfait semaine avec repas | C8: 42 | D8: 57 | E8: 64 | F8: 71 | H8: - Quotient familial
A9: Péricentre | C9: Forfait Matin : 1,25 € | H9: - Adresse mail
C10: Forfait Soir : 1,25 € | H10: Nous fonctionnons 3 semaines
A11: Camp à l'Herberie Pouancé 3-5 ans du 18 au 19 juillet | C11: 40 | D11: 45 | E11: 50 | F11: 55 | H11: - du 8 au 26 juillet du lundi au vendredi avec un forfait garderie matin et soir
A12: Camp Craon 6-8 ans du 15 au 17 juillet | C12: 70 | D12: 80 | E12: 90 | F12: 100 | H12: et de plus nous organisons 4 camps en fonction de l'age
A13: Camp Multi activité en Anjou - Ponts de cé 9-12 ans du 22 au 25 juillet | C13: 80 | D13: 90 | E13: 100 | F13: 110 | H13: - du 8 au 12 juillet à Rougé pour les 9-12 ans
A14: Camp Sportif à Rougé 9-12 ans du 8 au 12 juillet | C14: 95 | D14: 105 | E14: 115 | F14: 125 | H14: - du 15 au 17 juillet à Craon pour les 6-8 ans
H15: - du 18 au 18 juillet à l'Herberie pour les 3-5 ans
A16: NON ADHERENTS | H16: - du 22 au 25 juillet à Ponts de cé pour les 9-12 ans
A17: Quotient Familial | C17: 0 à 600 | D17: 601 à 1000 | E17: 1001 à 1299 | F17: plus de 1300
A18: Journée avec repas | C18: 9.5 | D18: 18 | E18: 19.5 | F18: 21 | H18: De plus les familles peuvent être adhérentes ou non à l'association, pour être adhérent il faut payer une cotisation de 29 €.
A19: Forfait semaine avec repas | C19: 45 | D19: 87 | E19: 94 | F19: 101 | H19: Selon que les familles sont adhérentes ou non les tarifs sont différents
C20: Forfait Matin : 1,25 € | H20: De même nous pratiquons des tarifs à la journée ou à la semaine
C21: Forfait Soir : 1,25 €
A22: Camp à l'Herberie Pouancé 3-5 ans du 18 au 19 juillet | C22: 70 | D22: 75 | E22: 80 | F22: 95
A23: Camp Craon 6-8 ans du 15 au 17 juillet | C23: 100 | D23: 110 | E23: 120 | F23: 130
A24: Camp Multi activité en Anjou - Ponts de cé 9-12 ans du 22 au 25 juillet | C24: 110 | D24: 120 | E24: 130 | F24: 140
A25: Camp Sportif à Rougé 9-12 ans du 8 au 12 juillet | C25: 125 | D25: 135 | E25: 145 | F25: 155
A27: Carte d'adhésion Familles Rurales 2019 : 29,00 €
B32: Journée avec repas | E32: 9 | F32: 12 | G32: 13.5 | H32: 15
B33: Forfait semaine avec repas | E33: 42 | F33: 57 | G33: 64 | H33: 71

Sheet Base de données
B2: Nom | C2: Prénom | D2: Adresse mail | E2: Contact | F2: Lien avec l'enfant | G2: Téléphone | H2: Age | I2: Quotient familial | J2: Adhérent
B3: Potter | C3: Harrry | D3: hpotter@free.fr | E3: Albus Dumbledore | F3: Tuteur | G3: 102030405 | H3: 9 | I3: 985 | J3: Oui
B4: Pan | C4: Peter | D4: ppan@gmail,com | E4: J M Barrie | F4: Père | G4: 09 08 07 06 05 | H4: 5 | I4: 1200 | J4: Non
B5: McCallister | C5: Kévin | D5: kmcc@yahoo,com | E5: Kate McCallister | F5: Mère | G5: 504060907 | H5: 11 | I5: 850 | J5: Oui

Sheet Planning
B2: Nom | C2: Prénom | D2: Centre | E2: 08/07/2019 | F2: 09/07/2019 | G2: 10/07/2019 | H2: 11/07/2019 | I2: 12/07/2019 | J2: 13/07/2019 | K2: 14/07/2019 | L2: 15/07/2019 | M2: 16/07/2019 | N2: 17/07/2019 | O2: 18/07/2019 | P2: 19/07/2019 | Q2: 20/07/2019 | R2: 21/07/2019 | S2: 22/07/2019 | T2: 23/07/2019 | U2: 24/07/2019 | V2: 25/07/2019 | W2: 26/07/2019 | X2: Nb prestations | Y2: Péricentre
B3: Potter | C3: =IFERROR(VLOOKUP(B3,T_BdD[#This Row],2,0),"") -> Harrry | D3: Journée avec repas | G3: 1 | L3: 1 | P3: 1 | S3: 1 | W3: 1 | X3: =COUNTA(E3:W3) -> 5
B4: Pan | C4: =IFERROR(VLOOKUP(B4,T_BdD[#This Row],2,0),"") -> Peter | X4: =COUNTA(E4:W4) -> 0 | Y4: Camp à l'Herberie Pouancé
B5: McCallister | C5: =IFERROR(VLOOKUP(B5,T_BdD[#This Row],2,0),"") -> Kévin | X5: =COUNTA(E5:W5) -> 0 | Y5: Camp Multi activité en Anjou - Ponts de cé
C6: =IFERROR(VLOOKUP(B6,T_BdD[#This Row],2,0),"") | X6: =COUNTA(E6:W6) -> 0
C7: =IFERROR(VLOOKUP(B7,T_BdD[#This Row],2,0),"") | X7: =COUNTA(E7:W7) -> 0
C8: =IFERROR(VLOOKUP(B8,T_BdD[#This Row],2,0),"") | X8: =COUNTA(E8:W8) -> 0
C9: =IFERROR(VLOOKUP(B9,T_BdD[#This Row],2,0),"") | X9: =COUNTA(E9:W9) -> 0
C10: =IFERROR(VLOOKUP(B10,T_BdD[#This Row],2,0),"") | X10: =COUNTA(E10:W10) -> 0
C11: =IFERROR(VLOOKUP(B11,T_BdD[#This Row],2,0),"") | X11: =COUNTA(E11:W11) -> 0
C12: =IFERROR(VLOOKUP(B12,T_BdD[#This Row],2,0),"") | X12: =COUNTA(E12:W12) -> 0
C13: =IFERROR(VLOOKUP(B13,T_BdD[#This Row],2,0),"") | X13: =COUNTA(E13:W13) -> 0
C14: =IFERROR(VLOOKUP(B14,T_BdD[#This Row],2,0),"") | X14: =COUNTA(E14:W14) -> 0
C15: =IFERROR(VLOOKUP(B15,T_BdD[#This Row],2,0),"") | X15: =COUNTA(E15:W15) -> 0
C16: =IFERROR(VLOOKUP(B16,T_BdD[#This Row],2,0),"") | X16: =COUNTA(E16:W16) -> 0
C17: =IFERROR(VLOOKUP(B17,T_BdD[#This Row],2,0),"") | X17: =COUNTA(E17:W17) -> 0
... C50: =IFERROR(VLOOKUP(B50,T_BdD[#This Row],2,0),"") | X50: =COUNTA(E50:W50) -> 0

Sheet Facture
B2: Nom | C2: McCallister
B3: Prénom | C3: =IFERROR(VLOOKUP($C$2,T_Planning[],2,0),"") -> Kévin
B4: Adresse mail | C4: =IFERROR(VLOOKUP($C$2,T_BdD[],3,0),"") -> kmcc@yahoo,com
B5: Contact | C5: =IFERROR(VLOOKUP($C$2,T_BdD[],4,0),"") -> Kate McCallister
B6: Lien avec l'enfant | C6: =IFERROR(VLOOKUP($C$2,T_BdD[],5,0),"") -> Mère
B7: Téléphone | C7: =IFERROR(VLOOKUP($C$2,T_BdD[],6,0),"") -> 504060907
B9: Age | C9: =IFERROR(VLOOKUP($C$2,T_BdD[],7,0),"") -> 11
B10: Quotient familial | C10: =IFERROR(VLOOKUP($C$2,T_BdD[],8,0),"") -> 850
B11: Adhérent | C11: =IFERROR(VLOOKUP($C$2,T_BdD[],9,0),"") -> Oui
C13: Lieu, le | D13: =TODAY() -> 43689
B15: Prestation | C15: Période | E15: Coût
B16: =IFERROR(VLOOKUP($C$2,T_Planning[],24,0),0) -> Camp Multi activité en Anjou - Ponts de cé | C16: =IFERROR(VLOOKUP(B16,Tableau1[],3,0),"") -> du 22 au 25 juillet | E16: =IF($C11="oui",Paramètres!P9,Paramètres!P20) -> 90
B17: =IF(B16<>0,"Forfait journalier","") -> Forfait journalier | E17: =IFERROR(2.5*VLOOKUP(Facture!B16,Tableau1[],8,0),"") -> 10
B18: Sous total 1 | E18: =SUM(E16:E17) -> 100
B19: Prestation | C19: Période | D19: Présence | E19: Coût
B20: Journée avec repas | C20: 43654 | D20: =IFERROR(VLOOKUP($C$2,Planning!$B$3:$W$50,4,0),0) -> 0 | E20: =IF(D20<>0,Paramètres!$L$38,0) -> 0
B21: Journée avec repas | C21: =C20+1 -> 43655 | D21: =IFERROR(VLOOKUP($C$2,Planning!$B$3:$W$50,5,0),0) -> 0 | E21: =IF(D21<>0,Paramètres!$L$38,0) -> 0
B22: Journée avec repas | C22: =C21+1 -> 43656 | D22: =IFERROR(VLOOKUP($C$2,Planning!$B$3:$W$50,6,0),0) -> 0 | E22: =IF(D22<>0,Paramètres!$L$38,0) -> 0
B23: Journée avec repas | C23: =C22+1 -> 43657 | D23: =IFERROR(VLOOKUP($C$2,Planning!$B$3:$W$50,7,0),0) -> 0 | E23: =IF(D23<>0,Paramètres!$L$38,0) -> 0
B24: Journée avec repas | C24: =C23+1 -> 43658 | D24: =IFERROR(VLOOKUP($C$2,Planning!$B$3:$W$50,8,0),0) -> 0 | E24: =IF(D24<>0,Paramètres!$L$38,0) -> 0
B26: Journée avec repas | C26: =C24+3 -> 43661 | D26: =IFERROR(VLOOKUP($C$2,Planning!$B$3:$W$50,11,0),0) -> 0 | E26: =IF(D26<>0,Paramètres!$L$38,0) -> 0
B27: Journée avec repas | C27: =C26+1 -> 43662 | D27: =IFERROR(VLOOKUP($C$2,Planning!$B$3:$W$50,12,0),0) -> 0 | E27: =IF(D27<>0,Paramètres!$L$38,0) -> 0
B28: Journée avec repas | C28: =C27+1 -> 43663 | D28: =IFERROR(VLOOKUP($C$2,Planning!$B$3:$W$50,13,0),0) -> 0 | E28: =IF(D28<>0,Paramètres!$L$38,0) -> 0
B29: Journée avec repas | C29: =C28+1 -> 43664 | D29: =IFERROR(VLOOKUP($C$2,Planning!$B$3:$W$50,14,0),0) -> 0 | E29: =IF(D29<>0,Paramètres!$L$38,0) -> 0
B30: Journée avec repas | C30: =C29+1 -> 43665 | D30: =IFERROR(VLOOKUP($C$2,Planning!$B$3:$W$50,15,0),0) -> 0 | E30: =IF(D30<>0,Paramètres!$L$38,0) -> 0
B32: Journée avec repas | C32: =C30+3 -> 43668 | D32: =IFERROR(VLOOKUP($C$2,Planning!$B$3:$W$50,18,0),0) -> 0 | E32: =IF(D32<>0,Paramètres!$L$38,0) -> 0
B33: Journée avec repas | C33: =C32+1 -> 43669 | D33: =IFERROR(VLOOKUP($C$2,Planning!$B$3:$W$50,19,0),0) -> 0 | E33: =IF(D33<>0,Paramètres!$L$38,0) -> 0
B34: Journée avec repas | C34: =C33+1 -> 43670 | D34: =IFERROR(VLOOKUP($C$2,Planning!$B$3:$W$50,20,0),0) -> 0 | E34: =IF(D34<>0,Paramètres!$L$38,0) -> 0
B35: Journée avec repas | C35: =C34+1 -> 43671 | D35: =IFERROR(VLOOKUP($C$2,Planning!$B$3:$W$50,21,0),0) -> 0 | E35: =IF(D35<>0,Paramètres!$L$38,0) -> 0
B36: Journée avec repas | C36: =C35+1 -> 43672 | D36: =IFERROR(VLOOKUP($C$2,Planning!$B$3:$W$50,22,0),0) -> 0 | E36: =IF(D36<>0,Paramètres!$L$38,0) -> 0
D37: =IFERROR(VLOOKUP($C$2,Planning!$B$3:$W$50,4,0),0) -> 0
B38: Forfait semaine avec repas | C38: ="Semaine "&WEEKNUM(C20,2) -> Semaine 28 | D38: =IFERROR(VLOOKUP($C$2,Planning!$B$3:$W$50,4,0),0) -> 0 | E38: =IF(D38<>0,Paramètres!$M$38,0) -> 0
B39: Forfait semaine avec repas | C39: ="Semaine "&WEEKNUM(C26,2) -> Semaine 29 | D39: =IFERROR(VLOOKUP($C$2,Planning!$B$3:$W$50,4,0),0) -> 0 | E39: =IF(D39<>0,Paramètres!$M$38,0) -> 0
B40: Forfait semaine avec repas | C40: ="Semaine "&WEEKNUM(C32,2) -> Semaine 30 | D40: =IFERROR(VLOOKUP($C$2,Planning!$B$3:$W$50,4,0),0) -> 0 | E40: =IF(D40<>0,Paramètres!$M$38,0) -> 0
B41: Sous total 2 | E41: =SUM(E20:E40) -> 0
B42: Cotisation adhérent | E42: =IF(C11="Oui",29,0) -> 29
B43: Sous total 3 | E43: =E42 -> 29
B44: Total général | E44: =E18+E41+E43 -> 129

Sheet Paramètres
B1: ADHERENTS
B2: Péricentre | C2: Tranche d'age | D2: Période | E2: 0 à 600 | F2: 601 à 1000 | G2: 1001 à 1299 | H2: plus de 1300 | I2: Nb jour | K2: QF | L2: Camp à l'Herberie Pouancé | M2: Camp Craon | N2: Camp Multi activité en Anjou - Ponts de cé | O2: Camp Sportif à Rougé
B3: Camp à l'Herberie Pouancé | C3: 3-5 ans | D3: du 18 au 19 juillet | E3: 40 | F3: 45 | G3: 50 | H3: 55 | I3: 2 | K3: 0 | L3: 40 | M3: 70 | N3: 80 | O3: 95
B4: Camp Craon | C4: 6-8 ans | D4: du 15 au 17 juillet | E4: 70 | F4: 80 | G4: 90 | H4: 100 | I4: 3 | K4: 601 | L4: 45 | M4: 80 | N4: 90 | O4: 105
B5: Camp Multi activité en Anjou - Ponts de cé | C5: 9-12 ans | D5: du 22 au 25 juillet | E5: 80 | F5: 90 | G5: 100 | H5: 110 | I5: 4 | K5: 1001 | L5: 50 | M5: 90 | N5: 100 | O5: 115
B6: Camp Sportif à Rougé | C6: 9-12 ans | D6: du 8 au 12 juillet | E6: 95 | F6: 105 | G6: 115 | H6: 125 | I6: 5 | K6: 1300 | L6: 55 | M6: 100 | N6: 110 | O6: 125
K8: QF | L8: Camp à l'Herberie Pouancé | M8: Camp Craon | N8: Camp Multi activité en Anjou - Ponts de cé | O8: Camp Sportif à Rougé | P8: Coût
K9: =Facture!C10 -> 850 | L9: =IF(Facture!$B$16=Paramètres!L$2,VLOOKUP($K$9,$K$3:$O$6,2,1),0) -> 0 | M9: =IF(Facture!$B$16=Paramètres!M$2,VLOOKUP($K$9,$K$3:$O$6,3,1),0) -> 0 | N9: =IF(Facture!$B$16=Paramètres!N$2,VLOOKUP($K$9,$K$3:$O$6,4,1),0) -> 90 | O9: =IF(Facture!$B$16=Paramètres!O$2,VLOOKUP($K$9,$K$3:$O$6,5,1),0) -> 0 | P9: =SUM(L9:O9) -> 90
B12: NON ADHERENTS
B13: Péricentre | C13: Age | D13: Période | E13: 0 à 600 | F13: 601 à 1000 | G13: 1001 à 1299 | H13: plus de 1300 | I13: Nb jour | K13: QF | L13: Camp à l'Herberie Pouancé | M13: Camp Craon | N13: Camp Multi activité en Anjou - Ponts de cé | O13: Camp Sportif à Rougé
B14: Camp à l'Herberie Pouancé | C14: 3-5 ans | D14: du 18 au 19 juillet | E14: 70 | F14: 75 | G14: 80 | H14: 95 | I14: 2 | K14: 0 | L14: 70 | M14: 100 | N14: 110 | O14: 125
B15: Camp Craon | C15: 6-8 ans | D15: du 15 au 17 juillet | E15: 100 | F15: 110 | G15: 120 | H15: 130 | I15: 3 | K15: 601 | L15: 75 | M15: 110 | N15: 120 | O15: 135
B16: Camp Multi activité en Anjou - Ponts de cé | C16: 9-12 ans | D16: du 22 au 25 juillet | E16: 110 | F16: 120 | G16: 130 | H16: 140 | I16: 4 | K16: 1001 | L16: 80 | M16: 120 | N16: 130 | O16: 145
B17: Camp Sportif à Rougé | C17: 9-12 ans | D17: du 8 au 12 juillet | E17: 125 | F17: 135 | G17: 145 | H17: 155 | I17: 5 | K17: 1300 | L17: 95 | M17: 130 | N17: 140 | O17: 155
K19: QF | L19: Camp à l'Herberie Pouancé | M19: Camp Craon | N19: Camp Multi activité en Anjou - Ponts de cé | O19: Camp Sportif à Rougé | P19: Coût
K20: =Tableau7[QF] -> 850 | L20: =IF(Facture!$B$16=Paramètres!L$13,VLOOKUP($K$20,$K$14:$O$17,2,1),0) -> 0 | M20: =IF(Facture!$B$16=Paramètres!M$13,VLOOKUP($K$20,$K$14:$O$17,3,1),0) -> 0 | N20: =IF(Facture!$B$16=Paramètres!N$13,VLOOKUP($K$20,$K$14:$O$17,4,1),0) -> 120 | O20: =IF(Facture!$B$16=Paramètres!O$13,VLOOKUP($K$20,$K$14:$O$17,5,1),0) -> 0 | P20: =SUM(L20:O20) -> 120
C23: Prestations | E23: 0 à 600 | F23: 601 à 1000 | G23: 1001 à 1299 | H23: plus de 1300 | K23: ADHERENTS
C24: ADHERENTS | K24: QF | L24: Journée avec repas | M24: Forfait semaine avec repas
C25: Journée avec repas | E25: 9 | F25: 12 | G25: 13.5 | H25: 15 | K25: 0 | L25: 9 | M25: 42
C26: Forfait semaine avec repas | E26: 42 | F26: 57 | G26: 64 | H26: 71 | K26: 601 | L26: 12 | M26: 57
C27: NON ADHERENTS | K27: 1001 | L27: 13.5 | M27: 64
C28: Journée avec repas | E28: 9.5 | F28: 18 | G28: 19.5 | H28: 21 | K28: 1300 | L28: 15 | M28: 71
C29: Forfait semaine avec repas | E29: 45 | F29: 87 | G29: 94 | H29: 101 | K29: =K20 -> 850 | L29: =VLOOKUP($K29,K25:M28,2,1) -> 12 | M29: =VLOOKUP($K29,K25:M28,3,1) -> 57
K30: NON ADHERENTS
K31: QF | L31: Journée avec repas | M31: Forfait semaine avec repas
K32: 0 | L32: 9.5 | M32: 45
K33: 601 | L33: 18 | M33: 87
K34: 1001 | L34: 19.5 | M34: 94
K35: 1300 | L35: 21 | M35: 101
K36: =K29 -> 850 | L36: =VLOOKUP($K36,K32:M35,2,1) -> 18 | M36: =VLOOKUP($K36,K32:M35,3,1) -> 87
B38: Prestations | K38: Coût | L38: =IF(Facture!$C$11="Oui",Paramètres!L29,Paramètres!L36) -> 12 | M38: =IF(Facture!$C$11="Oui",Paramètres!M29,Paramètres!M36) -> 57
B39: Journée avec repas
B40: Forfait semaine avec repas
