Workbook
Name Pause: Tableaux!$C$3
Name TempsTravail: Tableaux!$C$2

Sheet Tableaux
E1: utiliser ctrl+B pour afficher les listes déroulantes pour saisie
B2: Temps travail | C2: 0.29166667 | E2: Année | F2: Mois | G2: Semaine | H2: Delta (h) | I2: Delta (d) | K2: Année | M2: Mois | P2: Année | Q2: Mois | R2: Delta (h) | S2: Delta (d) | U2: Année | V2: Mois | W2: Semaine | X2: Delta (h) | Y2: Delta (d) | AA2: Année | AB2: Mois | AC2: Semaine | AD2: Delta (h) | AE2: Delta (d)
B3: Pause | C3: 0.041666667 | E3: 2025 | F3: décembre | G3: 53 | H3: 0.1875 | I3: =H3 -> 0.1875 | K3: {=_xlfn.UNIQUE(Delta_mensuel[Année])} -> 2025 | M3: {=_xlfn.UNIQUE(Delta_mensuel[Mois])} -> avril | P3: 2025 | Q3: avril | R3: 0.21111111 | S3: 5.0666667 | U3: 2025 | V3: avril | W3: 14 | X3: 0.0020833333 | Y3: 0.05 | AA3: 2025 | AB3: avril | AC3: 14 | AD3: 0.0020833333 | AE3: 0.05
K4: 2026 | M4: mai | P4: 2025 | Q4: mai | R4: 0.27708333 | S4: 6.65 | U4: 2025 | V4: avril | W4: 15 | X4: 0.057638889 | Y4: 1.3833333 | AA4: 2025 | AB4: avril | AC4: 15 | AD4: 0.057638889 | AE4: 1.3833333
M5: juin | P5: 2025 | Q5: juin | R5: 0.33402778 | S5: 8.0166667 | U5: 2025 | V5: avril | W5: 16 | X5: 0.056944444 | Y5: 1.3666667 | AA5: 2025 | AB5: avril | AC5: 16 | AD5: 0.056944444 | AE5: 1.3666667
M6: juillet | P6: 2025 | Q6: juillet | R6: 0.68263889 | S6: 16.383333 | U6: 2025 | V6: avril | W6: 17 | X6: 0.067361111 | Y6: 1.6166667 | AA6: 2025 | AB6: avril | AC6: 17 | AD6: 0.067361111 | AE6: 1.6166667
M7: août | P7: 2025 | Q7: août | R7: 0.63055556 | S7: 15.133333 | U7: 2025 | V7: avril | W7: 18 | X7: 0.027083333 | Y7: 0.65 | AA7: 2025 | AB7: avril | AC7: 18 | AD7: 0.027083333 | AE7: 0.65
M8: septembre | P8: 2025 | Q8: septembre | R8: 0.55625 | S8: 13.35 | U8: 2025 | V8: mai | W8: 18 | X8: 0.017361111 | Y8: 0.41666667 | AA8: 2025 | AB8: mai | AC8: 18 | AD8: 0.017361111 | AE8: 0.41666667
M9: octobre | P9: 2025 | Q9: octobre | R9: 0.82916667 | S9: 19.9 | U9: 2025 | V9: mai | W9: 19 | X9: 0.0875 | Y9: 2.1 | AA9: 2025 | AB9: mai | AC9: 19 | AD9: 0.0875 | AE9: 2.1
M10: novembre | P10: 2025 | Q10: novembre | R10: 0.43888889 | S10: 10.533333 | U10: 2025 | V10: mai | W10: 20 | X10: 0.050694444 | Y10: 1.2166667 | AA10: 2025 | AB10: mai | AC10: 20 | AD10: 0.050694444 | AE10: 1.2166667
M11: décembre | P11: 2025 | Q11: décembre | R11: 0.37430556 | S11: 8.9833333 | U11: 2025 | V11: mai | W11: 21 | X11: 0.086805556 | Y11: 2.0833333 | AA11: 2025 | AB11: mai | AC11: 21 | AD11: 0.086805556 | AE11: 2.0833333
M12: janvier | P12: 2026 | Q12: janvier | R12: 0.097916667 | S12: 2.35 | U12: 2025 | V12: mai | W12: 22 | X12: 0.034722222 | Y12: 0.83333333 | AA12: 2025 | AB12: mai | AC12: 22 | AD12: 0.034722222 | AE12: 0.83333333
M13: février | P13: 2026 | Q13: février | R13: 0 | S13: 0 | U13: 2025 | V13: juin | W13: 22 | X13: 0 | Y13: 0 | AA13: 2025 | AB13: juin | AC13: 22 | AD13: 0 | AE13: 0
U14: 2025 | V14: juin | W14: 23 | X14: 0.12847222 | Y14: 3.0833333 | AA14: 2025 | AB14: juin | AC14: 23 | AD14: 0.12847222 | AE14: 3.0833333
U15: 2025 | V15: juin | W15: 24 | X15: 0.05625 | Y15: 1.35 | AA15: 2025 | AB15: juin | AC15: 24 | AD15: 0.05625 | AE15: 1.35
U16: 2025 | V16: juin | W16: 25 | X16: 0.071527778 | Y16: 1.7166667 | AA16: 2025 | AB16: juin | AC16: 25 | AD16: 0.071527778 | AE16: 1.7166667
U17: 2025 | V17: juin | W17: 26 | X17: 0.055555556 | Y17: 1.3333333 | AA17: 2025 | AB17: juin | AC17: 26 | AD17: 0.055555556 | AE17: 1.3333333
U18: 2025 | V18: juin | W18: 27 | X18: 0.022222222 | Y18: 0.53333333 | AA18: 2025 | AB18: juin | AC18: 27 | AD18: 0.022222222 | AE18: 0.53333333
U19: 2025 | V19: juillet | W19: 27 | X19: 0.065277778 | Y19: 1.5666667 | AA19: 2025 | AB19: juillet | AC19: 27 | AD19: 0.065277778 | AE19: 1.5666667
U20: 2025 | V20: juillet | W20: 28 | X20: 0.086111111 | Y20: 2.0666667 | AA20: 2025 | AB20: juillet | AC20: 28 | AD20: 0.086111111 | AE20: 2.0666667
U21: 2025 | V21: juillet | W21: 29 | X21: 0.2 | Y21: 4.8 | AA21: 2025 | AB21: juillet | AC21: 29 | AD21: 0.2 | AE21: 4.8
U22: 2025 | V22: juillet | W22: 30 | X22: 0.15 | Y22: 3.6 | AA22: 2025 | AB22: juillet | AC22: 30 | AD22: 0.15 | AE22: 3.6
U23: 2025 | V23: juillet | W23: 31 | X23: 0.18125 | Y23: 4.35 | AA23: 2025 | AB23: juillet | AC23: 31 | AD23: 0.18125 | AE23: 4.35
U24: 2025 | V24: août | W24: 31 | X24: 0 | Y24: 0 | AA24: 2025 | AB24: août | AC24: 31 | AD24: 0 | AE24: 0
U25: 2025 | V25: août | W25: 32 | X25: 0.16805556 | Y25: 4.0333333 | AA25: 2025 | AB25: août | AC25: 32 | AD25: 0.16805556 | AE25: 4.0333333
... U58: 2026 | V58: février | W58: 9 | X58: 0 | Y58: 0 | AA58: 2026 | AB58: février | AC58: 9 | AD58: 0 | AE58: 0

Sheet 04-2025
A1: Date | B1: Arrivée | C1: Départ | D1: Pause | E1: Temps travail | F1: Delta (h) | G1: Delta (d) | H1: Semaine | N1: Année | O1: 2025
A2: 45748 | B2: 0.375 | C2: 0.70833333 | D2: 0.041666667 | E2: =IF(Tableau4_2025[[#This Row],[Arrivée]]<>"",(Tableau4_2025[[#This Row],[Départ]] - Tableau4_2025[[#This Row],[Arrivée]]) - Tableau4_2025[[#This Row],[Pause]],0) -> 0.29166667 | F2: =IF(Tableau4_2025[[#This Row],[Temps travail]]>TempsTravail,Tableau4_2025[[#This Row],[Temps travail]]-TempsTravail,0) -> 0 | G2: =IF(Tableau4_2025[[#This Row],[Temps travail]]>TempsTravail,Tableau4_2025[[#This Row],[Temps travail]]*24-TempsTravail*24,0) -> 0 | H2: =WEEKNUM(A2,2) -> 14 | J2: Semaine | K2: Delta total (h) | N2: Mois | O2: avril
A3: 45749 | B3: 0.375 | C3: 0.70833333 | D3: 0.041666667 | E3: =IF(Tableau4_2025[[#This Row],[Arrivée]]<>"",(Tableau4_2025[[#This Row],[Départ]] - Tableau4_2025[[#This Row],[Arrivée]]) - Tableau4_2025[[#This Row],[Pause]],0) -> 0.29166667 | F3: =IF(Tableau4_2025[[#This Row],[Temps travail]]>TempsTravail,Tableau4_2025[[#This Row],[Temps travail]]-TempsTravail,0) -> 0 | G3: =IF(Tableau4_2025[[#This Row],[Temps travail]]>TempsTravail,Tableau4_2025[[#This Row],[Temps travail]]*24-TempsTravail*24,0) -> 0 | H3: =WEEKNUM(A3,2) -> 14 | J3: 14 | K3: =IF(ISBLANK(L3), "", IF(L3<0, "-" & TEXT(ABS(L3)/24, "h:mm"), TEXT(L3/24, "h:mm"))) -> 0:03 | L3: =SUMIF(H:H, J3, G:G) -> 0.05
A4: 45750 | B4: 0.375 | C4: 0.70833333 | D4: 0.041666667 | E4: =IF(Tableau4_2025[[#This Row],[Arrivée]]<>"",(Tableau4_2025[[#This Row],[Départ]] - Tableau4_2025[[#This Row],[Arrivée]]) - Tableau4_2025[[#This Row],[Pause]],0) -> 0.29166667 | F4: =IF(Tableau4_2025[[#This Row],[Temps travail]]>TempsTravail,Tableau4_2025[[#This Row],[Temps travail]]-TempsTravail,0) -> 0 | G4: =IF(Tableau4_2025[[#This Row],[Temps travail]]>TempsTravail,Tableau4_2025[[#This Row],[Temps travail]]*24-TempsTravail*24,0) -> 0 | H4: =WEEKNUM(A4,2) -> 14 | J4: 15 | K4: =IF(ISBLANK(L4), "", IF(L4<0, "-" & TEXT(ABS(L4)/24, "h:mm"), TEXT(L4/24, "h:mm"))) -> 1:23 | L4: =SUMIF(H:H, J4, G:G) -> 1.3833333 | N4: Semaine | O4: Delta Hebdo. (h) | P4: DeltaHebdo. (d)
A5: 45751 | B5: 0.37916667 | C5: 0.71458333 | D5: 0.041666667 | E5: =IF(Tableau4_2025[[#This Row],[Arrivée]]<>"",(Tableau4_2025[[#This Row],[Départ]] - Tableau4_2025[[#This Row],[Arrivée]]) - Tableau4_2025[[#This Row],[Pause]],0) -> 0.29375 | F5: =IF(Tableau4_2025[[#This Row],[Temps travail]]>TempsTravail,Tableau4_2025[[#This Row],[Temps travail]]-TempsTravail,0) -> 0.0020833333 | G5: =IF(Tableau4_2025[[#This Row],[Temps travail]]>TempsTravail,Tableau4_2025[[#This Row],[Temps travail]]*24-TempsTravail*24,0) -> 0.05 | H5: =WEEKNUM(A5,2) -> 14 | J5: 16 | K5: =IF(ISBLANK(L5), "", IF(L5<0, "-" & TEXT(ABS(L5)/24, "h:mm"), TEXT(L5/24, "h:mm"))) -> 1:22 | L5: =SUMIF(H:H, J5, G:G) -> 1.3666667 | N5: 14 | O5: 0.0020833333 | P5: 0.05
A6: 45752 | D6: 0.041666667 | E6: =IF(Tableau4_2025[[#This Row],[Arrivée]]<>"",(Tableau4_2025[[#This Row],[Départ]] - Tableau4_2025[[#This Row],[Arrivée]]) - Tableau4_2025[[#This Row],[Pause]],0) -> 0 | F6: =IF(Tableau4_2025[[#This Row],[Temps travail]]>TempsTravail,Tableau4_2025[[#This Row],[Temps travail]]-TempsTravail,0) -> 0 | G6: =IF(Tableau4_2025[[#This Row],[Temps travail]]>TempsTravail,Tableau4_2025[[#This Row],[Temps travail]]*24-TempsTravail*24,0) -> 0 | H6: =WEEKNUM(A6,2) -> 14 | J6: 17 | K6: =IF(ISBLANK(L6), "", IF(L6<0, "-" & TEXT(ABS(L6)/24, "h:mm"), TEXT(L6/24, "h:mm"))) -> 1:37 | L6: =SUMIF(H:H, J6, G:G) -> 1.6166667 | N6: 15 | O6: 0.057638889 | P6: 1.3833333
A7: 45753 | D7: 0.041666667 | E7: =IF(Tableau4_2025[[#This Row],[Arrivée]]<>"",(Tableau4_2025[[#This Row],[Départ]] - Tableau4_2025[[#This Row],[Arrivée]]) - Tableau4_2025[[#This Row],[Pause]],0) -> 0 | F7: =IF(Tableau4_2025[[#This Row],[Temps travail]]>TempsTravail,Tableau4_2025[[#This Row],[Temps travail]]-TempsTravail,0) -> 0 | G7: =IF(Tableau4_2025[[#This Row],[Temps travail]]>TempsTravail,Tableau4_2025[[#This Row],[Temps travail]]*24-TempsTravail*24,0) -> 0 | H7: =WEEKNUM(A7,2) -> 14 | J7: 18 | K7: =IF(ISBLANK(L7), "", IF(L7<0, "-" & TEXT(ABS(L7)/24, "h:mm"), TEXT(L7/24, "h:mm"))) -> 0:39 | L7: =SUMIF(H:H, J7, G:G) -> 0.65 | N7: 16 | O7: 0.056944444 | P7: 1.3666667
A8: 45754 | B8: 0.33888889 | C8: 0.67638889 | D8: 0.041666667 | E8: =IF(Tableau4_2025[[#This Row],[Arrivée]]<>"",(Tableau4_2025[[#This Row],[Départ]] - Tableau4_2025[[#This Row],[Arrivée]]) - Tableau4_2025[[#This Row],[Pause]],0) -> 0.29583333 | F8: =IF(Tableau4_2025[[#This Row],[Temps travail]]>TempsTravail,Tableau4_2025[[#This Row],[Temps travail]]-TempsTravail,0) -> 0.0041666667 | G8: =IF(Tableau4_2025[[#This Row],[Temps travail]]>TempsTravail,Tableau4_2025[[#This Row],[Temps travail]]*24-TempsTravail*24,0) -> 0.1 | H8: =WEEKNUM(A8,2) -> 15 | K8: =IF(ISBLANK(L8), "", IF(L8<0, "-" & TEXT(ABS(L8)/24, "h:mm"), TEXT(L8/24, "h:mm"))) | N8: 17 | O8: 0.067361111 | P8: 1.6166667
A9: 45755 | B9: 0.33541667 | C9: 0.67847222 | D9: 0.041666667 | E9: =IF(Tableau4_2025[[#This Row],[Arrivée]]<>"",(Tableau4_2025[[#This Row],[Départ]] - Tableau4_2025[[#This Row],[Arrivée]]) - Tableau4_2025[[#This Row],[Pause]],0) -> 0.30138889 | F9: =IF(Tableau4_2025[[#This Row],[Temps travail]]>TempsTravail,Tableau4_2025[[#This Row],[Temps travail]]-TempsTravail,0) -> 0.0097222222 | G9: =IF(Tableau4_2025[[#This Row],[Temps travail]]>TempsTravail,Tableau4_2025[[#This Row],[Temps travail]]*24-TempsTravail*24,0) -> 0.23333333 | H9: =WEEKNUM(A9,2) -> 15 | J9: Total mois | K9: =IF(ISBLANK(L9), "", IF(L9<0, "-" & TEXT(ABS(L9)/24, "h:mm"), TEXT(L9/24, "h:mm"))) -> 5:04 | L9: =SUM(L3:L7) -> 5.0666667 | N9: 18 | O9: 0.027083333 | P9: 0.65
A10: 45756 | B10: 0.33402778 | C10: 0.67361111 | D10: 0.041666667 | E10: =IF(Tableau4_2025[[#This Row],[Arrivée]]<>"",(Tableau4_2025[[#This Row],[Départ]] - Tableau4_2025[[#This Row],[Arrivée]]) - Tableau4_2025[[#This Row],[Pause]],0) -> 0.29791667 | F10: =IF(Tableau4_2025[[#This Row],[Temps travail]]>TempsTravail,Tableau4_2025[[#This Row],[Temps travail]]-TempsTravail,0) -> 0.00625 | G10: =IF(Tableau4_2025[[#This Row],[Temps travail]]>TempsTravail,Tableau4_2025[[#This Row],[Temps travail]]*24-TempsTravail*24,0) -> 0.15 | H10: =WEEKNUM(A10,2) -> 15 | J10: Total année | K10: =IF(ISBLANK(L10), "", IF(L10<0, "-" & TEXT(ABS(L10)/24, "h:mm"), TEXT(L10/24, "h:mm"))) -> 8:01 | L10: =SUM(L14:L22) -> 104.01667 | N10: Total général | O10: 0.21111111 | P10: 5.0666667
A11: 45757 | B11: 0.33888889 | C11: 0.68819444 | D11: 0.041666667 | E11: =IF(Tableau4_2025[[#This Row],[Arrivée]]<>"",(Tableau4_2025[[#This Row],[Départ]] - Tableau4_2025[[#This Row],[Arrivée]]) - Tableau4_2025[[#This Row],[Pause]],0) -> 0.30763889 | F11: =IF(Tableau4_2025[[#This Row],[Temps travail]]>TempsTravail,Tableau4_2025[[#This Row],[Temps travail]]-TempsTravail,0) -> 0.015972222 | G11: =IF(Tableau4_2025[[#This Row],[Temps travail]]>TempsTravail,Tableau4_2025[[#This Row],[Temps travail]]*24-TempsTravail*24,0) -> 0.38333333 | H11: =WEEKNUM(A11,2) -> 15
A12: 45758 | B12: 0.34513889 | C12: 0.7 | D12: 0.041666667 | E12: =IF(Tableau4_2025[[#This Row],[Arrivée]]<>"",(Tableau4_2025[[#This Row],[Départ]] - Tableau4_2025[[#This Row],[Arrivée]]) - Tableau4_2025[[#This Row],[Pause]],0) -> 0.31319444 | F12: =IF(Tableau4_2025[[#This Row],[Temps travail]]>TempsTravail,Tableau4_2025[[#This Row],[Temps travail]]-TempsTravail,0) -> 0.021527778 | G12: =IF(Tableau4_2025[[#This Row],[Temps travail]]>TempsTravail,Tableau4_2025[[#This Row],[Temps travail]]*24-TempsTravail*24,0) -> 0.51666667 | H12: =WEEKNUM(A12,2) -> 15
A13: 45759 | D13: 0.041666667 | E13: =IF(Tableau4_2025[[#This Row],[Arrivée]]<>"",(Tableau4_2025[[#This Row],[Départ]] - Tableau4_2025[[#This Row],[Arrivée]]) - Tableau4_2025[[#This Row],[Pause]],0) -> 0 | F13: =IF(Tableau4_2025[[#This Row],[Temps travail]]>TempsTravail,Tableau4_2025[[#This Row],[Temps travail]]-TempsTravail,0) -> 0 | G13: =IF(Tableau4_2025[[#This Row],[Temps travail]]>TempsTravail,Tableau4_2025[[#This Row],[Temps travail]]*24-TempsTravail*24,0) -> 0 | H13: =WEEKNUM(A13,2) -> 15
A14: 45760 | D14: 0.041666667 | E14: =IF(Tableau4_2025[[#This Row],[Arrivée]]<>"",(Tableau4_2025[[#This Row],[Départ]] - Tableau4_2025[[#This Row],[Arrivée]]) - Tableau4_2025[[#This Row],[Pause]],0) -> 0 | F14: =IF(Tableau4_2025[[#This Row],[Temps travail]]>TempsTravail,Tableau4_2025[[#This Row],[Temps travail]]-TempsTravail,0) -> 0 | G14: =IF(Tableau4_2025[[#This Row],[Temps travail]]>TempsTravail,Tableau4_2025[[#This Row],[Temps travail]]*24-TempsTravail*24,0) -> 0 | H14: =WEEKNUM(A14,2) -> 15 | J14: Avril | K14: =IF(ISBLANK(L14), "", IF(L14<0, "-" & TEXT(ABS(L14)/24, "h:mm"), TEXT(L14/24, "h:mm"))) -> 5:04 | L14: ='04-2025'!L9 -> 5.0666667 | N14: Année | O14: Mois | P14: Delta Mensuel (h) | Q14: Delta Mensuel (d)
A15: 45761 | B15: 0.33958333 | C15: 0.67638889 | D15: 0.041666667 | E15: =IF(Tableau4_2025[[#This Row],[Arrivée]]<>"",(Tableau4_2025[[#This Row],[Départ]] - Tableau4_2025[[#This Row],[Arrivée]]) - Tableau4_2025[[#This Row],[Pause]],0) -> 0.29513889 | F15: =IF(Tableau4_2025[[#This Row],[Temps travail]]>TempsTravail,Tableau4_2025[[#This Row],[Temps travail]]-TempsTravail,0) -> 0.0034722222 | G15: =IF(Tableau4_2025[[#This Row],[Temps travail]]>TempsTravail,Tableau4_2025[[#This Row],[Temps travail]]*24-TempsTravail*24,0) -> 0.083333333 | H15: =WEEKNUM(A15,2) -> 16 | J15: Mai | K15: =IF(ISBLANK(L15), "", IF(L15<0, "-" & TEXT(ABS(L15)/24, "h:mm"), TEXT(L15/24, "h:mm"))) -> 6:39 | L15: ='05-2025'!L9 -> 6.65 | N15: 2025 | O15: avril | P15: 0.21111111 | Q15: 5.0666667
A16: 45762 | B16: 0.33680556 | C16: 0.70902778 | D16: 0.041666667 | E16: =IF(Tableau4_2025[[#This Row],[Arrivée]]<>"",(Tableau4_2025[[#This Row],[Départ]] - Tableau4_2025[[#This Row],[Arrivée]]) - Tableau4_2025[[#This Row],[Pause]],0) -> 0.33055556 | F16: =IF(Tableau4_2025[[#This Row],[Temps travail]]>TempsTravail,Tableau4_2025[[#This Row],[Temps travail]]-TempsTravail,0) -> 0.038888889 | G16: =IF(Tableau4_2025[[#This Row],[Temps travail]]>TempsTravail,Tableau4_2025[[#This Row],[Temps travail]]*24-TempsTravail*24,0) -> 0.93333333 | H16: =WEEKNUM(A16,2) -> 16 | J16: Juin | K16: =IF(ISBLANK(L16), "", IF(L16<0, "-" & TEXT(ABS(L16)/24, "h:mm"), TEXT(L16/24, "h:mm"))) -> 8:01 | L16: ='06-2025'!L9 -> 8.0166667 | O16: mai | P16: 0.27708333 | Q16: 6.65
A17: 45763 | B17: 0.34166667 | C17: 0.68541667 | D17: 0.041666667 | E17: =IF(Tableau4_2025[[#This Row],[Arrivée]]<>"",(Tableau4_2025[[#This Row],[Départ]] - Tableau4_2025[[#This Row],[Arrivée]]) - Tableau4_2025[[#This Row],[Pause]],0) -> 0.30208333 | F17: =IF(Tableau4_2025[[#This Row],[Temps travail]]>TempsTravail,Tableau4_2025[[#This Row],[Temps travail]]-TempsTravail,0) -> 0.010416667 | G17: =IF(Tableau4_2025[[#This Row],[Temps travail]]>TempsTravail,Tableau4_2025[[#This Row],[Temps travail]]*24-TempsTravail*24,0) -> 0.25 | H17: =WEEKNUM(A17,2) -> 16 | J17: Juillet | K17: =IF(ISBLANK(L17), "", IF(L17<0, "-" & TEXT(ABS(L17)/24, "h:mm"), TEXT(L17/24, "h:mm"))) -> 16:23 | L17: ='07-2025'!L8 -> 16.383333 | O17: juin | P17: 0.33402778 | Q17: 8.0166667
A18: 45764 | B18: 0.34097222 | C18: 0.67847222 | D18: 0.041666667 | E18: =IF(Tableau4_2025[[#This Row],[Arrivée]]<>"",(Tableau4_2025[[#This Row],[Départ]] - Tableau4_2025[[#This Row],[Arrivée]]) - Tableau4_2025[[#This Row],[Pause]],0) -> 0.29583333 | F18: =IF(Tableau4_2025[[#This Row],[Temps travail]]>TempsTravail,Tableau4_2025[[#This Row],[Temps travail]]-TempsTravail,0) -> 0.0041666667 | G18: =IF(Tableau4_2025[[#This Row],[Temps travail]]>TempsTravail,Tableau4_2025[[#This Row],[Temps travail]]*24-TempsTravail*24,0) -> 0.1 | H18: =WEEKNUM(A18,2) -> 16 | J18: Aout | K18: =IF(ISBLANK(L18), "", IF(L18<0, "-" & TEXT(ABS(L18)/24, "h:mm"), TEXT(L18/24, "h:mm"))) -> 15:08 | L18: ='08-2025'!L9 -> 15.133333 | O18: juillet | P18: 0.68263889 | Q18: 16.383333
A19: 45765 | B19: 0.33263889 | C19: 0.66458333 | D19: 0.041666667 | E19: =IF(Tableau4_2025[[#This Row],[Arrivée]]<>"",(Tableau4_2025[[#This Row],[Départ]] - Tableau4_2025[[#This Row],[Arrivée]]) - Tableau4_2025[[#This Row],[Pause]],0) -> 0.29027778 | F19: =IF(Tableau4_2025[[#This Row],[Temps travail]]>TempsTravail,Tableau4_2025[[#This Row],[Temps travail]]-TempsTravail,0) -> 0 | G19: =IF(Tableau4_2025[[#This Row],[Temps travail]]>TempsTravail,Tableau4_2025[[#This Row],[Temps travail]]*24-TempsTravail*24,0) -> 0 | H19: =WEEKNUM(A19,2) -> 16 | J19: Septembre | K19: =IF(ISBLANK(L19), "", IF(L19<0, "-" & TEXT(ABS(L19)/24, "h:mm"), TEXT(L19/24, "h:mm"))) -> 13:21 | L19: ='09-2025'!L9 -> 13.35 | O19: août | P19: 0.63055556 | Q19: 15.133333
A20: 45766 | D20: 0.041666667 | E20: =IF(Tableau4_2025[[#This Row],[Arrivée]]<>"",(Tableau4_2025[[#This Row],[Départ]] - Tableau4_2025[[#This Row],[Arrivée]]) - Tableau4_2025[[#This Row],[Pause]],0) -> 0 | F20: =IF(Tableau4_2025[[#This Row],[Temps travail]]>TempsTravail,Tableau4_2025[[#This Row],[Temps travail]]-TempsTravail,0) -> 0 | G20: =IF(Tableau4_2025[[#This Row],[Temps travail]]>TempsTravail,Tableau4_2025[[#This Row],[Temps travail]]*24-TempsTravail*24,0) -> 0 | H20: =WEEKNUM(A20,2) -> 16 | J20: Octobre | K20: =IF(ISBLANK(L20), "", IF(L20<0, "-" & TEXT(ABS(L20)/24, "h:mm"), TEXT(L20/24, "h:mm"))) -> 19:54 | L20: ='10-2025'!L9 -> 19.9 | O20: septembre | P20: 0.55625 | Q20: 13.35
A21: 45767 | D21: 0.041666667 | E21: =IF(Tableau4_2025[[#This Row],[Arrivée]]<>"",(Tableau4_2025[[#This Row],[Départ]] - Tableau4_2025[[#This Row],[Arrivée]]) - Tableau4_2025[[#This Row],[Pause]],0) -> 0 | F21: =IF(Tableau4_2025[[#This Row],[Temps travail]]>TempsTravail,Tableau4_2025[[#This Row],[Temps travail]]-TempsTravail,0) -> 0 | G21: =IF(Tableau4_2025[[#This Row],[Temps travail]]>TempsTravail,Tableau4_2025[[#This Row],[Temps travail]]*24-TempsTravail*24,0) -> 0 | H21: =WEEKNUM(A21,2) -> 16 | J21: Novembre | K21: =IF(ISBLANK(L21), "", IF(L21<0, "-" & TEXT(ABS(L21)/24, "h:mm"), TEXT(L21/24, "h:mm"))) -> 10:32 | L21: ='11-2025'!L9 -> 10.533333 | O21: octobre | P21: 0.82916667 | Q21: 19.9
A22: 45768 | D22: 0.041666667 | E22: =IF(Tableau4_2025[[#This Row],[Arrivée]]<>"",(Tableau4_2025[[#This Row],[Départ]] - Tableau4_2025[[#This Row],[Arrivée]]) - Tableau4_2025[[#This Row],[Pause]],0) -> 0 | F22: =IF(Tableau4_2025[[#This Row],[Temps travail]]>TempsTravail,Tableau4_2025[[#This Row],[Temps travail]]-TempsTravail,0) -> 0 | G22: =IF(Tableau4_2025[[#This Row],[Temps travail]]>TempsTravail,Tableau4_2025[[#This Row],[Temps travail]]*24-TempsTravail*24,0) -> 0 | H22: =WEEKNUM(A22,2) -> 17 | J22: Decembre | K22: =IF(ISBLANK(L22), "", IF(L22<0, "-" & TEXT(ABS(L22)/24, "h:mm"), TEXT(L22/24, "h:mm"))) -> 8:59 | L22: ='12-2025'!L9 -> 8.9833333 | O22: novembre | P22: 0.43888889 | Q22: 10.533333
A23: 45769 | B23: 0.34375 | C23: 0.69236111 | D23: 0.041666667 | E23: =IF(Tableau4_2025[[#This Row],[Arrivée]]<>"",(Tableau4_2025[[#This Row],[Départ]] - Tableau4_2025[[#This Row],[Arrivée]]) - Tableau4_2025[[#This Row],[Pause]],0) -> 0.30694444 | F23: =IF(Tableau4_2025[[#This Row],[Temps travail]]>TempsTravail,Tableau4_2025[[#This Row],[Temps travail]]-TempsTravail,0) -> 0.015277778 | G23: =IF(Tableau4_2025[[#This Row],[Temps travail]]>TempsTravail,Tableau4_2025[[#This Row],[Temps travail]]*24-TempsTravail*24,0) -> 0.36666667 | H23: =WEEKNUM(A23,2) -> 17 | O23: décembre | P23: 0.37430556 | Q23: 8.9833333
A24: 45770 | B24: 0.34027778 | C24: 0.7 | D24: 0.041666667 | E24: =IF(Tableau4_2025[[#This Row],[Arrivée]]<>"",(Tableau4_2025[[#This Row],[Départ]] - Tableau4_2025[[#This Row],[Arrivée]]) - Tableau4_2025[[#This Row],[Pause]],0) -> 0.31805556 | F24: =IF(Tableau4_2025[[#This Row],[Temps travail]]>TempsTravail,Tableau4_2025[[#This Row],[Temps travail]]-TempsTravail,0) -> 0.026388889 | G24: =IF(Tableau4_2025[[#This Row],[Temps travail]]>TempsTravail,Tableau4_2025[[#This Row],[Temps travail]]*24-TempsTravail*24,0) -> 0.63333333 | H24: =WEEKNUM(A24,2) -> 17 | N24: Total 2025 | P24: 4.3340278 | Q24: 104.01667
A25: 45771 | B25: 0.34305556 | C25: 0.69305556 | D25: 0.041666667 | E25: =IF(Tableau4_2025[[#This Row],[Arrivée]]<>"",(Tableau4_2025[[#This Row],[Départ]] - Tableau4_2025[[#This Row],[Arrivée]]) - Tableau4_2025[[#This Row],[Pause]],0) -> 0.30833333 | F25: =IF(Tableau4_2025[[#This Row],[Temps travail]]>TempsTravail,Tableau4_2025[[#This Row],[Temps travail]]-TempsTravail,0) -> 0.016666667 | G25: =IF(Tableau4_2025[[#This Row],[Temps travail]]>TempsTravail,Tableau4_2025[[#This Row],[Temps travail]]*24-TempsTravail*24,0) -> 0.4 | H25: =WEEKNUM(A25,2) -> 17 | N25: 2026 | O25: janvier | P25: 0.097916667 | Q25: 2.35
A26: 45772 | B26: 0.33819444 | C26: 0.68055556 | D26: 0.041666667 | E26: =IF(Tableau4_2025[[#This Row],[Arrivée]]<>"",(Tableau4_2025[[#This Row],[Départ]] - Tableau4_2025[[#This Row],[Arrivée]]) - Tableau4_2025[[#This Row],[Pause]],0) -> 0.30069444 | F26: =IF(Tableau4_2025[[#This Row],[Temps travail]]>TempsTravail,Tableau4_2025[[#This Row],[Temps travail]]-TempsTravail,0) -> 0.0090277778 | G26: =IF(Tableau4_2025[[#This Row],[Temps travail]]>TempsTravail,Tableau4_2025[[#This Row],[Temps travail]]*24-TempsTravail*24,0) -> 0.21666667 | H26: =WEEKNUM(A26,2) -> 17 | O26: février | P26: 0 | Q26: 0
A27: 45773 | D27: 0.041666667 | E27: =IF(Tableau4_2025[[#This Row],[Arrivée]]<>"",(Tableau4_2025[[#This Row],[Départ]] - Tableau4_2025[[#This Row],[Arrivée]]) - Tableau4_2025[[#This Row],[Pause]],0) -> 0 | F27: =IF(Tableau4_2025[[#This Row],[Temps travail]]>TempsTravail,Tableau4_2025[[#This Row],[Temps travail]]-TempsTravail,0) -> 0 | G27: =IF(Tableau4_2025[[#This Row],[Temps travail]]>TempsTravail,Tableau4_2025[[#This Row],[Temps travail]]*24-TempsTravail*24,0) -> 0 | H27: =WEEKNUM(A27,2) -> 17 | N27: Total 2026 | P27: 0.097916667 | Q27: 2.35
A28: 45774 | D28: 0.041666667 | E28: =IF(Tableau4_2025[[#This Row],[Arrivée]]<>"",(Tableau4_2025[[#This Row],[Départ]] - Tableau4_2025[[#This Row],[Arrivée]]) - Tableau4_2025[[#This Row],[Pause]],0) -> 0 | F28: =IF(Tableau4_2025[[#This Row],[Temps travail]]>TempsTravail,Tableau4_2025[[#This Row],[Temps travail]]-TempsTravail,0) -> 0 | G28: =IF(Tableau4_2025[[#This Row],[Temps travail]]>TempsTravail,Tableau4_2025[[#This Row],[Temps travail]]*24-TempsTravail*24,0) -> 0 | H28: =WEEKNUM(A28,2) -> 17 | N28: Total général | P28: 4.4319444 | Q28: 106.36667
A29: 45775 | B29: 0.33611111 | C29: 0.66666667 | D29: 0.041666667 | E29: =IF(Tableau4_2025[[#This Row],[Arrivée]]<>"",(Tableau4_2025[[#This Row],[Départ]] - Tableau4_2025[[#This Row],[Arrivée]]) - Tableau4_2025[[#This Row],[Pause]],0) -> 0.28888889 | F29: =IF(Tableau4_2025[[#This Row],[Temps travail]]>TempsTravail,Tableau4_2025[[#This Row],[Temps travail]]-TempsTravail,0) -> 0 | G29: =IF(Tableau4_2025[[#This Row],[Temps travail]]>TempsTravail,Tableau4_2025[[#This Row],[Temps travail]]*24-TempsTravail*24,0) -> 0 | H29: =WEEKNUM(A29,2) -> 18
A30: 45776 | B30: 0.3375 | C30: 0.67708333 | D30: 0.041666667 | E30: =IF(Tableau4_2025[[#This Row],[Arrivée]]<>"",(Tableau4_2025[[#This Row],[Départ]] - Tableau4_2025[[#This Row],[Arrivée]]) - Tableau4_2025[[#This Row],[Pause]],0) -> 0.29791667 | F30: =IF(Tableau4_2025[[#This Row],[Temps travail]]>TempsTravail,Tableau4_2025[[#This Row],[Temps travail]]-TempsTravail,0) -> 0.00625 | G30: =IF(Tableau4_2025[[#This Row],[Temps travail]]>TempsTravail,Tableau4_2025[[#This Row],[Temps travail]]*24-TempsTravail*24,0) -> 0.15 | H30: =WEEKNUM(A30,2) -> 18
A31: 45777 | B31: 0.33472222 | C31: 0.68888889 | D31: 0.041666667 | E31: =IF(Tableau4_2025[[#This Row],[Arrivée]]<>"",(Tableau4_2025[[#This Row],[Départ]] - Tableau4_2025[[#This Row],[Arrivée]]) - Tableau4_2025[[#This Row],[Pause]],0) -> 0.3125 | F31: =IF(Tableau4_2025[[#This Row],[Temps travail]]>TempsTravail,Tableau4_2025[[#This Row],[Temps travail]]-TempsTravail,0) -> 0.020833333 | G31: =IF(Tableau4_2025[[#This Row],[Temps travail]]>TempsTravail,Tableau4_2025[[#This Row],[Temps travail]]*24-TempsTravail*24,0) -> 0.5 | H31: =WEEKNUM(A31,2) -> 18

Sheet 05-2025
A1: Date | B1: Arrivée | C1: Départ | D1: Pause | E1: Temps travail | F1: Delta (h) | G1: Delta (d) | H1: Semaine | N1: Année | O1: 2025
A2: 45778 | D2: 0.041666667 | E2: =IF(Tableau5_2025[[#This Row],[Arrivée]]<>"",(Tableau5_2025[[#This Row],[Départ]] - Tableau5_2025[[#This Row],[Arrivée]]) - Tableau5_2025[[#This Row],[Pause]],0) -> 0 | F2: =IF(Tableau5_2025[[#This Row],[Temps travail]]>TempsTravail,Tableau5_2025[[#This Row],[Temps travail]]-TempsTravail,0) -> 0 | G2: =IF(Tableau5_2025[[#This Row],[Temps travail]]>TempsTravail,Tableau5_2025[[#This Row],[Temps travail]]*24-TempsTravail*24,0) -> 0 | H2: =WEEKNUM(A2,2) -> 18 | J2: Semaine | K2: Delta total (h) | N2: Mois | O2: mai
A3: 45779 | B3: 0.34305556 | C3: 0.69375 | D3: 0.041666667 | E3: =IF(Tableau5_2025[[#This Row],[Arrivée]]<>"",(Tableau5_2025[[#This Row],[Départ]] - Tableau5_2025[[#This Row],[Arrivée]]) - Tableau5_2025[[#This Row],[Pause]],0) -> 0.30902778 | F3: =IF(Tableau5_2025[[#This Row],[Temps travail]]>TempsTravail,Tableau5_2025[[#This Row],[Temps travail]]-TempsTravail,0) -> 0.017361111 | G3: =IF(Tableau5_2025[[#This Row],[Temps travail]]>TempsTravail,Tableau5_2025[[#This Row],[Temps travail]]*24-TempsTravail*24,0) -> 0.41666667 | H3: =WEEKNUM(A3,2) -> 18 | J3: 18 | K3: =IF(ISBLANK(L3), "", IF(L3<0, "-" & TEXT(ABS(L3)/24, "h:mm"), TEXT(L3/24, "h:mm"))) -> 0:25 | L3: =SUMIF(H:H, J3, G:G) -> 0.41666667
A4: 45780 | D4: 0.041666667 | E4: =IF(Tableau5_2025[[#This Row],[Arrivée]]<>"",(Tableau5_2025[[#This Row],[Départ]] - Tableau5_2025[[#This Row],[Arrivée]]) - Tableau5_2025[[#This Row],[Pause]],0) -> 0 | F4: =IF(Tableau5_2025[[#This Row],[Temps travail]]>TempsTravail,Tableau5_2025[[#This Row],[Temps travail]]-TempsTravail,0) -> 0 | G4: =IF(Tableau5_2025[[#This Row],[Temps travail]]>TempsTravail,Tableau5_2025[[#This Row],[Temps travail]]*24-TempsTravail*24,0) -> 0 | H4: =WEEKNUM(A4,2) -> 18 | J4: 19 | K4: =IF(ISBLANK(L4), "", IF(L4<0, "-" & TEXT(ABS(L4)/24, "h:mm"), TEXT(L4/24, "h:mm"))) -> 2:06 | L4: =SUMIF(H:H, J4, G:G) -> 2.1 | N4: Semaine | O4: Delta Hebdo. (h) | P4: DeltaHebdo. (d)
A5: 45781 | D5: 0.041666667 | E5: =IF(Tableau5_2025[[#This Row],[Arrivée]]<>"",(Tableau5_2025[[#This Row],[Départ]] - Tableau5_2025[[#This Row],[Arrivée]]) - Tableau5_2025[[#This Row],[Pause]],0) -> 0 | F5: =IF(Tableau5_2025[[#This Row],[Temps travail]]>TempsTravail,Tableau5_2025[[#This Row],[Temps travail]]-TempsTravail,0) -> 0 | G5: =IF(Tableau5_2025[[#This Row],[Temps travail]]>TempsTravail,Tableau5_2025[[#This Row],[Temps travail]]*24-TempsTravail*24,0) -> 0 | H5: =WEEKNUM(A5,2) -> 18 | J5: 20 | K5: =IF(ISBLANK(L5), "", IF(L5<0, "-" & TEXT(ABS(L5)/24, "h:mm"), TEXT(L5/24, "h:mm"))) -> 1:13 | L5: =SUMIF(H:H, J5, G:G) -> 1.2166667 | N5: 18 | O5: 0.017361111 | P5: 0.41666667
A6: 45782 | D6: 0.041666667 | E6: =IF(Tableau5_2025[[#This Row],[Arrivée]]<>"",(Tableau5_2025[[#This Row],[Départ]] - Tableau5_2025[[#This Row],[Arrivée]]) - Tableau5_2025[[#This Row],[Pause]],0) -> 0 | F6: =IF(Tableau5_2025[[#This Row],[Temps travail]]>TempsTravail,Tableau5_2025[[#This Row],[Temps travail]]-TempsTravail,0) -> 0 | G6: =IF(Tableau5_2025[[#This Row],[Temps travail]]>TempsTravail,Tableau5_2025[[#This Row],[Temps travail]]*24-TempsTravail*24,0) -> 0 | H6: =WEEKNUM(A6,2) -> 19 | J6: 21 | K6: =IF(ISBLANK(L6), "", IF(L6<0, "-" & TEXT(ABS(L6)/24, "h:mm"), TEXT(L6/24, "h:mm"))) -> 2:05 | L6: =SUMIF(H:H, J6, G:G) -> 2.0833333 | N6: 19 | O6: 0.0875 | P6: 2.1
A7: 45783 | B7: 0.34027778 | C7: 0.70972222 | D7: 0.041666667 | E7: =IF(Tableau5_2025[[#This Row],[Arrivée]]<>"",(Tableau5_2025[[#This Row],[Départ]] - Tableau5_2025[[#This Row],[Arrivée]]) - Tableau5_2025[[#This Row],[Pause]],0) -> 0.32777778 | F7: =IF(Tableau5_2025[[#This Row],[Temps travail]]>TempsTravail,Tableau5_2025[[#This Row],[Temps travail]]-TempsTravail,0) -> 0.036111111 | G7: =IF(Tableau5_2025[[#This Row],[Temps travail]]>TempsTravail,Tableau5_2025[[#This Row],[Temps travail]]*24-TempsTravail*24,0) -> 0.86666667 | H7: =WEEKNUM(A7,2) -> 19 | J7: 22 | K7: =IF(ISBLANK(L7), "", IF(L7<0, "-" & TEXT(ABS(L7)/24, "h:mm"), TEXT(L7/24, "h:mm"))) -> 0:50 | L7: =SUMIF(H:H, J7, G:G) -> 0.83333333 | N7: 20 | O7: 0.050694444 | P7: 1.2166667
A8: 45784 | B8: 0.34027778 | C8: 0.68819444 | D8: 0.041666667 | E8: =IF(Tableau5_2025[[#This Row],[Arrivée]]<>"",(Tableau5_2025[[#This Row],[Départ]] - Tableau5_2025[[#This Row],[Arrivée]]) - Tableau5_2025[[#This Row],[Pause]],0) -> 0.30625 | F8: =IF(Tableau5_2025[[#This Row],[Temps travail]]>TempsTravail,Tableau5_2025[[#This Row],[Temps travail]]-TempsTravail,0) -> 0.014583333 | G8: =IF(Tableau5_2025[[#This Row],[Temps travail]]>TempsTravail,Tableau5_2025[[#This Row],[Temps travail]]*24-TempsTravail*24,0) -> 0.35 | H8: =WEEKNUM(A8,2) -> 19 | K8: =IF(ISBLANK(L8), "", IF(L8<0, "-" & TEXT(ABS(L8)/24, "h:mm"), TEXT(L8/24, "h:mm"))) | N8: 21 | O8: 0.086805556 | P8: 2.0833333
A9: 45785 | B9: 0.33680556 | C9: 0.67152778 | D9: 0.041666667 | E9: =IF(Tableau5_2025[[#This Row],[Arrivée]]<>"",(Tableau5_2025[[#This Row],[Départ]] - Tableau5_2025[[#This Row],[Arrivée]]) - Tableau5_2025[[#This Row],[Pause]],0) -> 0.29305556 | F9: =IF(Tableau5_2025[[#This Row],[Temps travail]]>TempsTravail,Tableau5_2025[[#This Row],[Temps travail]]-TempsTravail,0) -> 0.0013888889 | G9: =IF(Tableau5_2025[[#This Row],[Temps travail]]>TempsTravail,Tableau5_2025[[#This Row],[Temps travail]]*24-TempsTravail*24,0) -> 0.033333333 | H9: =WEEKNUM(A9,2) -> 19 | J9: Total mois | K9: =IF(ISBLANK(L9), "", IF(L9<0, "-" & TEXT(ABS(L9)/24, "h:mm"), TEXT(L9/24, "h:mm"))) -> 6:39 | L9: =SUM(L3:L7) -> 6.65 | N9: 22 | O9: 0.034722222 | P9: 0.83333333
A10: 45786 | D10: 0.041666667 | E10: =IF(Tableau5_2025[[#This Row],[Arrivée]]<>"",(Tableau5_2025[[#This Row],[Départ]] - Tableau5_2025[[#This Row],[Arrivée]]) - Tableau5_2025[[#This Row],[Pause]],0) -> 0 | F10: =IF(Tableau5_2025[[#This Row],[Temps travail]]>TempsTravail,Tableau5_2025[[#This Row],[Temps travail]]-TempsTravail,0) -> 0 | G10: =IF(Tableau5_2025[[#This Row],[Temps travail]]>TempsTravail,Tableau5_2025[[#This Row],[Temps travail]]*24-TempsTravail*24,0) -> 0 | H10: =WEEKNUM(A10,2) -> 19 | J10: Total année | K10: =IF(ISBLANK(L10), "", IF(L10<0, "-" & TEXT(ABS(L10)/24, "h:mm"), TEXT(L10/24, "h:mm"))) -> 8:01 | L10: =SUM(L14:L22) -> 104.01667 | N10: Total général | O10: 0.27708333 | P10: 6.65
A11: 45787 | B11: 0.33888889 | C11: 0.70763889 | D11: 0.041666667 | E11: =IF(Tableau5_2025[[#This Row],[Arrivée]]<>"",(Tableau5_2025[[#This Row],[Départ]] - Tableau5_2025[[#This Row],[Arrivée]]) - Tableau5_2025[[#This Row],[Pause]],0) -> 0.32708333 | F11: =IF(Tableau5_2025[[#This Row],[Temps travail]]>TempsTravail,Tableau5_2025[[#This Row],[Temps travail]]-TempsTravail,0) -> 0.035416667 | G11: =IF(Tableau5_2025[[#This Row],[Temps travail]]>TempsTravail,Tableau5_2025[[#This Row],[Temps travail]]*24-TempsTravail*24,0) -> 0.85 | H11: =WEEKNUM(A11,2) -> 19
A12: 45788 | D12: 0.041666667 | E12: =IF(Tableau5_2025[[#This Row],[Arrivée]]<>"",(Tableau5_2025[[#This Row],[Départ]] - Tableau5_2025[[#This Row],[Arrivée]]) - Tableau5_2025[[#This Row],[Pause]],0) -> 0 | F12: =IF(Tableau5_2025[[#This Row],[Temps travail]]>TempsTravail,Tableau5_2025[[#This Row],[Temps travail]]-TempsTravail,0) -> 0 | G12: =IF(Tableau5_2025[[#This Row],[Temps travail]]>TempsTravail,Tableau5_2025[[#This Row],[Temps travail]]*24-TempsTravail*24,0) -> 0 | H12: =WEEKNUM(A12,2) -> 19
A13: 45789 | D13: 0.041666667 | E13: =IF(Tableau5_2025[[#This Row],[Arrivée]]<>"",(Tableau5_2025[[#This Row],[Départ]] - Tableau5_2025[[#This Row],[Arrivée]]) - Tableau5_2025[[#This Row],[Pause]],0) -> 0 | F13: =IF(Tableau5_2025[[#This Row],[Temps travail]]>TempsTravail,Tableau5_2025[[#This Row],[Temps travail]]-TempsTravail,0) -> 0 | G13: =IF(Tableau5_2025[[#This Row],[Temps travail]]>TempsTravail,Tableau5_2025[[#This Row],[Temps travail]]*24-TempsTravail*24,0) -> 0 | H13: =WEEKNUM(A13,2) -> 20
A14: 45790 | B14: 0.33402778 | C14: 0.67222222 | D14: 0.041666667 | E14: =IF(Tableau5_2025[[#This Row],[Arrivée]]<>"",(Tableau5_2025[[#This Row],[Départ]] - Tableau5_2025[[#This Row],[Arrivée]]) - Tableau5_2025[[#This Row],[Pause]],0) -> 0.29652778 | F14: =IF(Tableau5_2025[[#This Row],[Temps travail]]>TempsTravail,Tableau5_2025[[#This Row],[Temps travail]]-TempsTravail,0) -> 0.0048611111 | G14: =IF(Tableau5_2025[[#This Row],[Temps travail]]>TempsTravail,Tableau5_2025[[#This Row],[Temps travail]]*24-TempsTravail*24,0) -> 0.11666667 | H14: =WEEKNUM(A14,2) -> 20 | J14: Avril | K14: =IF(ISBLANK(L14), "", IF(L14<0, "-" & TEXT(ABS(L14)/24, "h:mm"), TEXT(L14/24, "h:mm"))) -> 5:04 | L14: ='04-2025'!L9 -> 5.0666667 | N14: Année | O14: Mois | P14: Delta Mensuel (h) | Q14: Delta Mensuel (d)
A15: 45791 | B15: 0.34652778 | C15: 0.69166667 | D15: 0.041666667 | E15: =IF(Tableau5_2025[[#This Row],[Arrivée]]<>"",(Tableau5_2025[[#This Row],[Départ]] - Tableau5_2025[[#This Row],[Arrivée]]) - Tableau5_2025[[#This Row],[Pause]],0) -> 0.30347222 | F15: =IF(Tableau5_2025[[#This Row],[Temps travail]]>TempsTravail,Tableau5_2025[[#This Row],[Temps travail]]-TempsTravail,0) -> 0.011805556 | G15: =IF(Tableau5_2025[[#This Row],[Temps travail]]>TempsTravail,Tableau5_2025[[#This Row],[Temps travail]]*24-TempsTravail*24,0) -> 0.28333333 | H15: =WEEKNUM(A15,2) -> 20 | J15: Mai | K15: =IF(ISBLANK(L15), "", IF(L15<0, "-" & TEXT(ABS(L15)/24, "h:mm"), TEXT(L15/24, "h:mm"))) -> 6:39 | L15: ='05-2025'!L9 -> 6.65 | N15: 2025 | O15: avril | P15: 0.21111111 | Q15: 5.0666667
A16: 45792 | B16: 0.34652778 | C16: 0.70555556 | D16: 0.041666667 | E16: =IF(Tableau5_2025[[#This Row],[Arrivée]]<>"",(Tableau5_2025[[#This Row],[Départ]] - Tableau5_2025[[#This Row],[Arrivée]]) - Tableau5_2025[[#This Row],[Pause]],0) -> 0.31736111 | F16: =IF(Tableau5_2025[[#This Row],[Temps travail]]>TempsTravail,Tableau5_2025[[#This Row],[Temps travail]]-TempsTravail,0) -> 0.025694444 | G16: =IF(Tableau5_2025[[#This Row],[Temps travail]]>TempsTravail,Tableau5_2025[[#This Row],[Temps travail]]*24-TempsTravail*24,0) -> 0.61666667 | H16: =WEEKNUM(A16,2) -> 20 | J16: Juin | K16: =IF(ISBLANK(L16), "", IF(L16<0, "-" & TEXT(ABS(L16)/24, "h:mm"), TEXT(L16/24, "h:mm"))) -> 8:01 | L16: ='06-2025'!L9 -> 8.0166667 | O16: mai | P16: 0.27708333 | Q16: 6.65
A17: 45793 | B17: 0.34861111 | C17: 0.67013889 | D17: 0.041666667 | E17: =IF(Tableau5_2025[[#This Row],[Arrivée]]<>"",(Tableau5_2025[[#This Row],[Départ]] - Tableau5_2025[[#This Row],[Arrivée]]) - Tableau5_2025[[#This Row],[Pause]],0) -> 0.27986111 | F17: =IF(Tableau5_2025[[#This Row],[Temps travail]]>TempsTravail,Tableau5_2025[[#This Row],[Temps travail]]-TempsTravail,0) -> 0 | G17: =IF(Tableau5_2025[[#This Row],[Temps travail]]>TempsTravail,Tableau5_2025[[#This Row],[Temps travail]]*24-TempsTravail*24,0) -> 0 | H17: =WEEKNUM(A17,2) -> 20 | J17: Juillet | K17: =IF(ISBLANK(L17), "", IF(L17<0, "-" & TEXT(ABS(L17)/24, "h:mm"), TEXT(L17/24, "h:mm"))) -> 16:23 | L17: ='07-2025'!L8 -> 16.383333 | O17: juin | P17: 0.33402778 | Q17: 8.0166667
A18: 45794 | B18: 0.33958333 | C18: 0.68125 | D18: 0.041666667 | E18: =IF(Tableau5_2025[[#This Row],[Arrivée]]<>"",(Tableau5_2025[[#This Row],[Départ]] - Tableau5_2025[[#This Row],[Arrivée]]) - Tableau5_2025[[#This Row],[Pause]],0) -> 0.3 | F18: =IF(Tableau5_2025[[#This Row],[Temps travail]]>TempsTravail,Tableau5_2025[[#This Row],[Temps travail]]-TempsTravail,0) -> 0.0083333333 | G18: =IF(Tableau5_2025[[#This Row],[Temps travail]]>TempsTravail,Tableau5_2025[[#This Row],[Temps travail]]*24-TempsTravail*24,0) -> 0.2 | H18: =WEEKNUM(A18,2) -> 20 | J18: Aout | K18: =IF(ISBLANK(L18), "", IF(L18<0, "-" & TEXT(ABS(L18)/24, "h:mm"), TEXT(L18/24, "h:mm"))) -> 15:08 | L18: ='08-2025'!L9 -> 15.133333 | O18: juillet | P18: 0.68263889 | Q18: 16.383333
A19: 45795 | D19: 0.041666667 | E19: =IF(Tableau5_2025[[#This Row],[Arrivée]]<>"",(Tableau5_2025[[#This Row],[Départ]] - Tableau5_2025[[#This Row],[Arrivée]]) - Tableau5_2025[[#This Row],[Pause]],0) -> 0 | F19: =IF(Tableau5_2025[[#This Row],[Temps travail]]>TempsTravail,Tableau5_2025[[#This Row],[Temps travail]]-TempsTravail,0) -> 0 | G19: =IF(Tableau5_2025[[#This Row],[Temps travail]]>TempsTravail,Tableau5_2025[[#This Row],[Temps travail]]*24-TempsTravail*24,0) -> 0 | H19: =WEEKNUM(A19,2) -> 20 | J19: Septembre | K19: =IF(ISBLANK(L19), "", IF(L19<0, "-" & TEXT(ABS(L19)/24, "h:mm"), TEXT(L19/24, "h:mm"))) -> 13:21 | L19: ='09-2025'!L9 -> 13.35 | O19: août | P19: 0.63055556 | Q19: 15.133333
A20: 45796 | B20: 0.33333333 | C20: 0.72013889 | D20: 0.041666667 | E20: =IF(Tableau5_2025[[#This Row],[Arrivée]]<>"",(Tableau5_2025[[#This Row],[Départ]] - Tableau5_2025[[#This Row],[Arrivée]]) - Tableau5_2025[[#This Row],[Pause]],0) -> 0.34513889 | F20: =IF(Tableau5_2025[[#This Row],[Temps travail]]>TempsTravail,Tableau5_2025[[#This Row],[Temps travail]]-TempsTravail,0) -> 0.053472222 | G20: =IF(Tableau5_2025[[#This Row],[Temps travail]]>TempsTravail,Tableau5_2025[[#This Row],[Temps travail]]*24-TempsTravail*24,0) -> 1.2833333 | H20: =WEEKNUM(A20,2) -> 21 | J20: Octobre | K20: =IF(ISBLANK(L20), "", IF(L20<0, "-" & TEXT(ABS(L20)/24, "h:mm"), TEXT(L20/24, "h:mm"))) -> 19:54 | L20: ='10-2025'!L9 -> 19.9 | O20: septembre | P20: 0.55625 | Q20: 13.35
A21: 45797 | B21: 0.33680556 | C21: 0.69513889 | D21: 0.041666667 | E21: =IF(Tableau5_2025[[#This Row],[Arrivée]]<>"",(Tableau5_2025[[#This Row],[Départ]] - Tableau5_2025[[#This Row],[Arrivée]]) - Tableau5_2025[[#This Row],[Pause]],0) -> 0.31666667 | F21: =IF(Tableau5_2025[[#This Row],[Temps travail]]>TempsTravail,Tableau5_2025[[#This Row],[Temps travail]]-TempsTravail,0) -> 0.025 | G21: =IF(Tableau5_2025[[#This Row],[Temps travail]]>TempsTravail,Tableau5_2025[[#This Row],[Temps travail]]*24-TempsTravail*24,0) -> 0.6 | H21: =WEEKNUM(A21,2) -> 21 | J21: Novembre | K21: =IF(ISBLANK(L21), "", IF(L21<0, "-" & TEXT(ABS(L21)/24, "h:mm"), TEXT(L21/24, "h:mm"))) -> 10:32 | L21: ='11-2025'!L9 -> 10.533333 | O21: octobre | P21: 0.82916667 | Q21: 19.9
A22: 45798 | B22: 0.34513889 | C22: 0.67847222 | D22: 0.041666667 | E22: =IF(Tableau5_2025[[#This Row],[Arrivée]]<>"",(Tableau5_2025[[#This Row],[Départ]] - Tableau5_2025[[#This Row],[Arrivée]]) - Tableau5_2025[[#This Row],[Pause]],0) -> 0.29166667 | F22: =IF(Tableau5_2025[[#This Row],[Temps travail]]>TempsTravail,Tableau5_2025[[#This Row],[Temps travail]]-TempsTravail,0) -> 0 | G22: =IF(Tableau5_2025[[#This Row],[Temps travail]]>TempsTravail,Tableau5_2025[[#This Row],[Temps travail]]*24-TempsTravail*24,0) -> 0 | H22: =WEEKNUM(A22,2) -> 21 | J22: Decembre | K22: =IF(ISBLANK(L22), "", IF(L22<0, "-" & TEXT(ABS(L22)/24, "h:mm"), TEXT(L22/24, "h:mm"))) -> 8:59 | L22: ='12-2025'!L9 -> 8.9833333 | O22: novembre | P22: 0.43888889 | Q22: 10.533333
A23: 45799 | B23: 0.33263889 | C23: 0.66944444 | D23: 0.041666667 | E23: =IF(Tableau5_2025[[#This Row],[Arrivée]]<>"",(Tableau5_2025[[#This Row],[Départ]] - Tableau5_2025[[#This Row],[Arrivée]]) - Tableau5_2025[[#This Row],[Pause]],0) -> 0.29513889 | F23: =IF(Tableau5_2025[[#This Row],[Temps travail]]>TempsTravail,Tableau5_2025[[#This Row],[Temps travail]]-TempsTravail,0) -> 0.0034722222 | G23: =IF(Tableau5_2025[[#This Row],[Temps travail]]>TempsTravail,Tableau5_2025[[#This Row],[Temps travail]]*24-TempsTravail*24,0) -> 0.083333333 | H23: =WEEKNUM(A23,2) -> 21 | O23: décembre | P23: 0.37430556 | Q23: 8.9833333
A24: 45800 | B24: 0.33611111 | C24: 0.67430556 | D24: 0.041666667 | E24: =IF(Tableau5_2025[[#This Row],[Arrivée]]<>"",(Tableau5_2025[[#This Row],[Départ]] - Tableau5_2025[[#This Row],[Arrivée]]) - Tableau5_2025[[#This Row],[Pause]],0) -> 0.29652778 | F24: =IF(Tableau5_2025[[#This Row],[Temps travail]]>TempsTravail,Tableau5_2025[[#This Row],[Temps travail]]-TempsTravail,0) -> 0.0048611111 | G24: =IF(Tableau5_2025[[#This Row],[Temps travail]]>TempsTravail,Tableau5_2025[[#This Row],[Temps travail]]*24-TempsTravail*24,0) -> 0.11666667 | H24: =WEEKNUM(A24,2) -> 21 | N24: Total 2025 | P24: 4.3340278 | Q24: 104.01667
A25: 45801 | D25: 0.041666667 | E25: =IF(Tableau5_2025[[#This Row],[Arrivée]]<>"",(Tableau5_2025[[#This Row],[Départ]] - Tableau5_2025[[#This Row],[Arrivée]]) - Tableau5_2025[[#This Row],[Pause]],0) -> 0 | F25: =IF(Tableau5_2025[[#This Row],[Temps travail]]>TempsTravail,Tableau5_2025[[#This Row],[Temps travail]]-TempsTravail,0) -> 0 | G25: =IF(Tableau5_2025[[#This Row],[Temps travail]]>TempsTravail,Tableau5_2025[[#This Row],[Temps travail]]*24-TempsTravail*24,0) -> 0 | H25: =WEEKNUM(A25,2) -> 21 | N25: 2026 | O25: janvier | P25: 0.097916667 | Q25: 2.35
A26: 45802 | D26: 0.041666667 | E26: =IF(Tableau5_2025[[#This Row],[Arrivée]]<>"",(Tableau5_2025[[#This Row],[Départ]] - Tableau5_2025[[#This Row],[Arrivée]]) - Tableau5_2025[[#This Row],[Pause]],0) -> 0 | F26: =IF(Tableau5_2025[[#This Row],[Temps travail]]>TempsTravail,Tableau5_2025[[#This Row],[Temps travail]]-TempsTravail,0) -> 0 | G26: =IF(Tableau5_2025[[#This Row],[Temps travail]]>TempsTravail,Tableau5_2025[[#This Row],[Temps travail]]*24-TempsTravail*24,0) -> 0 | H26: =WEEKNUM(A26,2) -> 21 | O26: février | P26: 0 | Q26: 0
A27: 45803 | B27: 0.33541667 | C27: 0.67569444 | D27: 0.041666667 | E27: =IF(Tableau5_2025[[#This Row],[Arrivée]]<>"",(Tableau5_2025[[#This Row],[Départ]] - Tableau5_2025[[#This Row],[Arrivée]]) - Tableau5_2025[[#This Row],[Pause]],0) -> 0.29861111 | F27: =IF(Tableau5_2025[[#This Row],[Temps travail]]>TempsTravail,Tableau5_2025[[#This Row],[Temps travail]]-TempsTravail,0) -> 0.0069444444 | G27: =IF(Tableau5_2025[[#This Row],[Temps travail]]>TempsTravail,Tableau5_2025[[#This Row],[Temps travail]]*24-TempsTravail*24,0) -> 0.16666667 | H27: =WEEKNUM(A27,2) -> 22 | N27: Total 2026 | P27: 0.097916667 | Q27: 2.35
A28: 45804 | B28: 0.33958333 | C28: 0.65208333 | D28: 0.041666667 | E28: =IF(Tableau5_2025[[#This Row],[Arrivée]]<>"",(Tableau5_2025[[#This Row],[Départ]] - Tableau5_2025[[#This Row],[Arrivée]]) - Tableau5_2025[[#This Row],[Pause]],0) -> 0.27083333 | F28: =IF(Tableau5_2025[[#This Row],[Temps travail]]>TempsTravail,Tableau5_2025[[#This Row],[Temps travail]]-TempsTravail,0) -> 0 | G28: =IF(Tableau5_2025[[#This Row],[Temps travail]]>TempsTravail,Tableau5_2025[[#This Row],[Temps travail]]*24-TempsTravail*24,0) -> 0 | H28: =WEEKNUM(A28,2) -> 22 | N28: Total général | P28: 4.4319444 | Q28: 106.36667
A29: 45805 | B29: 0.33680556 | C29: 0.67638889 | D29: 0.041666667 | E29: =IF(Tableau5_2025[[#This Row],[Arrivée]]<>"",(Tableau5_2025[[#This Row],[Départ]] - Tableau5_2025[[#This Row],[Arrivée]]) - Tableau5_2025[[#This Row],[Pause]],0) -> 0.29791667 | F29: =IF(Tableau5_2025[[#This Row],[Temps travail]]>TempsTravail,Tableau5_2025[[#This Row],[Temps travail]]-TempsTravail,0) -> 0.00625 | G29: =IF(Tableau5_2025[[#This Row],[Temps travail]]>TempsTravail,Tableau5_2025[[#This Row],[Temps travail]]*24-TempsTravail*24,0) -> 0.15 | H29: =WEEKNUM(A29,2) -> 22
A30: 45806 | D30: 0.041666667 | E30: =IF(Tableau5_2025[[#This Row],[Arrivée]]<>"",(Tableau5_2025[[#This Row],[Départ]] - Tableau5_2025[[#This Row],[Arrivée]]) - Tableau5_2025[[#This Row],[Pause]],0) -> 0 | F30: =IF(Tableau5_2025[[#This Row],[Temps travail]]>TempsTravail,Tableau5_2025[[#This Row],[Temps travail]]-TempsTravail,0) -> 0 | G30: =IF(Tableau5_2025[[#This Row],[Temps travail]]>TempsTravail,Tableau5_2025[[#This Row],[Temps travail]]*24-TempsTravail*24,0) -> 0 | H30: =WEEKNUM(A30,2) -> 22
A31: 45807 | B31: 0.31805556 | C31: 0.67291667 | D31: 0.041666667 | E31: =IF(Tableau5_2025[[#This Row],[Arrivée]]<>"",(Tableau5_2025[[#This Row],[Départ]] - Tableau5_2025[[#This Row],[Arrivée]]) - Tableau5_2025[[#This Row],[Pause]],0) -> 0.31319444 | F31: =IF(Tableau5_2025[[#This Row],[Temps travail]]>TempsTravail,Tableau5_2025[[#This Row],[Temps travail]]-TempsTravail,0) -> 0.021527778 | G31: =IF(Tableau5_2025[[#This Row],[Temps travail]]>TempsTravail,Tableau5_2025[[#This Row],[Temps travail]]*24-TempsTravail*24,0) -> 0.51666667 | H31: =WEEKNUM(A31,2) -> 22
A32: 45808 | D32: 0.041666667 | E32: =IF(Tableau5_2025[[#This Row],[Arrivée]]<>"",(Tableau5_2025[[#This Row],[Départ]] - Tableau5_2025[[#This Row],[Arrivée]]) - Tableau5_2025[[#This Row],[Pause]],0) -> 0 | F32: =IF(Tableau5_2025[[#This Row],[Temps travail]]>TempsTravail,Tableau5_2025[[#This Row],[Temps travail]]-TempsTravail,0) -> 0 | G32: =IF(Tableau5_2025[[#This Row],[Temps travail]]>TempsTravail,Tableau5_2025[[#This Row],[Temps travail]]*24-TempsTravail*24,0) -> 0 | H32: =WEEKNUM(A32,2) -> 22

Sheet 06-2025
A1: Date | B1: Arrivée | C1: Départ | D1: Pause | E1: Temps travail | F1: Delta (h) | G1: Delta (d) | H1: Semaine | N1: Année | O1: 2025
A2: 45809 | D2: 0.041666667 | E2: =IF(Tableau6_2025[[#This Row],[Arrivée]]<>"",(Tableau6_2025[[#This Row],[Départ]] - Tableau6_2025[[#This Row],[Arrivée]]) - Tableau6_2025[[#This Row],[Pause]],0) -> 0 | F2: =IF(Tableau6_2025[[#This Row],[Temps travail]]>TempsTravail,Tableau6_2025[[#This Row],[Temps travail]]-TempsTravail,0) -> 0 | G2: =IF(Tableau6_2025[[#This Row],[Temps travail]]>TempsTravail,Tableau6_2025[[#This Row],[Temps travail]]*24-TempsTravail*24,0) -> 0 | H2: =WEEKNUM(A2,2) -> 22 | J2: Semaine | K2: Delta total (h) | N2: Mois | O2: juin
A3: 45810 | B3: 0.34583333 | C3: 0.71319444 | D3: 0.041666667 | E3: =IF(Tableau6_2025[[#This Row],[Arrivée]]<>"",(Tableau6_2025[[#This Row],[Départ]] - Tableau6_2025[[#This Row],[Arrivée]]) - Tableau6_2025[[#This Row],[Pause]],0) -> 0.32569444 | F3: =IF(Tableau6_2025[[#This Row],[Temps travail]]>TempsTravail,Tableau6_2025[[#This Row],[Temps travail]]-TempsTravail,0) -> 0.034027778 | G3: =IF(Tableau6_2025[[#This Row],[Temps travail]]>TempsTravail,Tableau6_2025[[#This Row],[Temps travail]]*24-TempsTravail*24,0) -> 0.81666667 | H3: =WEEKNUM(A3,2) -> 23 | J3: 22 | K3: =IF(ISBLANK(L3), "", IF(L3<0, "-" & TEXT(ABS(L3)/24, "h:mm"), TEXT(L3/24, "h:mm"))) -> 0:00 | L3: =SUMIF(H:H, J3, G:G) -> 0
A4: 45811 | B4: 0.34236111 | C4: 0.75833333 | D4: 0.041666667 | E4: =IF(Tableau6_2025[[#This Row],[Arrivée]]<>"",(Tableau6_2025[[#This Row],[Départ]] - Tableau6_2025[[#This Row],[Arrivée]]) - Tableau6_2025[[#This Row],[Pause]],0) -> 0.37430556 | F4: =IF(Tableau6_2025[[#This Row],[Temps travail]]>TempsTravail,Tableau6_2025[[#This Row],[Temps travail]]-TempsTravail,0) -> 0.082638889 | G4: =IF(Tableau6_2025[[#This Row],[Temps travail]]>TempsTravail,Tableau6_2025[[#This Row],[Temps travail]]*24-TempsTravail*24,0) -> 1.9833333 | H4: =WEEKNUM(A4,2) -> 23 | J4: 23 | K4: =IF(ISBLANK(L4), "", IF(L4<0, "-" & TEXT(ABS(L4)/24, "h:mm"), TEXT(L4/24, "h:mm"))) -> 3:05 | L4: =SUMIF(H:H, J4, G:G) -> 3.0833333 | N4: Semaine | O4: Delta Hebdo. (h) | P4: DeltaHebdo. (d)
A5: 45812 | B5: 0.34027778 | C5: 0.68125 | D5: 0.041666667 | E5: =IF(Tableau6_2025[[#This Row],[Arrivée]]<>"",(Tableau6_2025[[#This Row],[Départ]] - Tableau6_2025[[#This Row],[Arrivée]]) - Tableau6_2025[[#This Row],[Pause]],0) -> 0.29930556 | F5: =IF(Tableau6_2025[[#This Row],[Temps travail]]>TempsTravail,Tableau6_2025[[#This Row],[Temps travail]]-TempsTravail,0) -> 0.0076388889 | G5: =IF(Tableau6_2025[[#This Row],[Temps travail]]>TempsTravail,Tableau6_2025[[#This Row],[Temps travail]]*24-TempsTravail*24,0) -> 0.18333333 | H5: =WEEKNUM(A5,2) -> 23 | J5: 24 | K5: =IF(ISBLANK(L5), "", IF(L5<0, "-" & TEXT(ABS(L5)/24, "h:mm"), TEXT(L5/24, "h:mm"))) -> 1:21 | L5: =SUMIF(H:H, J5, G:G) -> 1.35 | N5: 22 | O5: 0 | P5: 0
A6: 45813 | B6: 0.34236111 | C6: 0.67986111 | D6: 0.041666667 | E6: =IF(Tableau6_2025[[#This Row],[Arrivée]]<>"",(Tableau6_2025[[#This Row],[Départ]] - Tableau6_2025[[#This Row],[Arrivée]]) - Tableau6_2025[[#This Row],[Pause]],0) -> 0.29583333 | F6: =IF(Tableau6_2025[[#This Row],[Temps travail]]>TempsTravail,Tableau6_2025[[#This Row],[Temps travail]]-TempsTravail,0) -> 0.0041666667 | G6: =IF(Tableau6_2025[[#This Row],[Temps travail]]>TempsTravail,Tableau6_2025[[#This Row],[Temps travail]]*24-TempsTravail*24,0) -> 0.1 | H6: =WEEKNUM(A6,2) -> 23 | J6: 25 | K6: =IF(ISBLANK(L6), "", IF(L6<0, "-" & TEXT(ABS(L6)/24, "h:mm"), TEXT(L6/24, "h:mm"))) -> 1:43 | L6: =SUMIF(H:H, J6, G:G) -> 1.7166667 | N6: 23 | O6: 0.12847222 | P6: 3.0833333
A7: 45814 | B7: 0.34861111 | C7: 0.67777778 | D7: 0.041666667 | E7: =IF(Tableau6_2025[[#This Row],[Arrivée]]<>"",(Tableau6_2025[[#This Row],[Départ]] - Tableau6_2025[[#This Row],[Arrivée]]) - Tableau6_2025[[#This Row],[Pause]],0) -> 0.2875 | F7: =IF(Tableau6_2025[[#This Row],[Temps travail]]>TempsTravail,Tableau6_2025[[#This Row],[Temps travail]]-TempsTravail,0) -> 0 | G7: =IF(Tableau6_2025[[#This Row],[Temps travail]]>TempsTravail,Tableau6_2025[[#This Row],[Temps travail]]*24-TempsTravail*24,0) -> 0 | H7: =WEEKNUM(A7,2) -> 23 | J7: 26 | K7: =IF(ISBLANK(L7), "", IF(L7<0, "-" & TEXT(ABS(L7)/24, "h:mm"), TEXT(L7/24, "h:mm"))) -> 1:20 | L7: =SUMIF(H:H, J7, G:G) -> 1.3333333 | N7: 24 | O7: 0.05625 | P7: 1.35
A8: 45815 | D8: 0.041666667 | E8: =IF(Tableau6_2025[[#This Row],[Arrivée]]<>"",(Tableau6_2025[[#This Row],[Départ]] - Tableau6_2025[[#This Row],[Arrivée]]) - Tableau6_2025[[#This Row],[Pause]],0) -> 0 | F8: =IF(Tableau6_2025[[#This Row],[Temps travail]]>TempsTravail,Tableau6_2025[[#This Row],[Temps travail]]-TempsTravail,0) -> 0 | G8: =IF(Tableau6_2025[[#This Row],[Temps travail]]>TempsTravail,Tableau6_2025[[#This Row],[Temps travail]]*24-TempsTravail*24,0) -> 0 | H8: =WEEKNUM(A8,2) -> 23 | J8: 27 | K8: =IF(ISBLANK(L8), "", IF(L8<0, "-" & TEXT(ABS(L8)/24, "h:mm"), TEXT(L8/24, "h:mm"))) -> 0:32 | L8: =SUMIF(H:H, J8, G:G) -> 0.53333333 | N8: 25 | O8: 0.071527778 | P8: 1.7166667
A9: 45816 | D9: 0.041666667 | E9: =IF(Tableau6_2025[[#This Row],[Arrivée]]<>"",(Tableau6_2025[[#This Row],[Départ]] - Tableau6_2025[[#This Row],[Arrivée]]) - Tableau6_2025[[#This Row],[Pause]],0) -> 0 | F9: =IF(Tableau6_2025[[#This Row],[Temps travail]]>TempsTravail,Tableau6_2025[[#This Row],[Temps travail]]-TempsTravail,0) -> 0 | G9: =IF(Tableau6_2025[[#This Row],[Temps travail]]>TempsTravail,Tableau6_2025[[#This Row],[Temps travail]]*24-TempsTravail*24,0) -> 0 | H9: =WEEKNUM(A9,2) -> 23 | J9: Total mois | K9: =IF(ISBLANK(L9), "", IF(L9<0, "-" & TEXT(ABS(L9)/24, "h:mm"), TEXT(L9/24, "h:mm"))) -> 8:01 | L9: =SUM(L3:L8) -> 8.0166667 | N9: 26 | O9: 0.055555556 | P9: 1.3333333
A10: 45817 | B10: 0.35416667 | C10: 0.69236111 | D10: 0.041666667 | E10: =IF(Tableau6_2025[[#This Row],[Arrivée]]<>"",(Tableau6_2025[[#This Row],[Départ]] - Tableau6_2025[[#This Row],[Arrivée]]) - Tableau6_2025[[#This Row],[Pause]],0) -> 0.29652778 | F10: =IF(Tableau6_2025[[#This Row],[Temps travail]]>TempsTravail,Tableau6_2025[[#This Row],[Temps travail]]-TempsTravail,0) -> 0.0048611111 | G10: =IF(Tableau6_2025[[#This Row],[Temps travail]]>TempsTravail,Tableau6_2025[[#This Row],[Temps travail]]*24-TempsTravail*24,0) -> 0.11666667 | H10: =WEEKNUM(A10,2) -> 24 | J10: Total année | K10: =IF(ISBLANK(L10), "", IF(L10<0, "-" & TEXT(ABS(L10)/24, "h:mm"), TEXT(L10/24, "h:mm"))) -> 8:01 | L10: =SUM(L14:L22) -> 104.01667 | N10: 27 | O10: 0.022222222 | P10: 0.53333333
A11: 45818 | B11: 0.35347222 | C11: 0.69305556 | D11: 0.041666667 | E11: =IF(Tableau6_2025[[#This Row],[Arrivée]]<>"",(Tableau6_2025[[#This Row],[Départ]] - Tableau6_2025[[#This Row],[Arrivée]]) - Tableau6_2025[[#This Row],[Pause]],0) -> 0.29791667 | F11: =IF(Tableau6_2025[[#This Row],[Temps travail]]>TempsTravail,Tableau6_2025[[#This Row],[Temps travail]]-TempsTravail,0) -> 0.00625 | G11: =IF(Tableau6_2025[[#This Row],[Temps travail]]>TempsTravail,Tableau6_2025[[#This Row],[Temps travail]]*24-TempsTravail*24,0) -> 0.15 | H11: =WEEKNUM(A11,2) -> 24 | N11: Total général | O11: 0.33402778 | P11: 8.0166667
A12: 45819 | B12: 0.34791667 | C12: 0.71319444 | D12: 0.041666667 | E12: =IF(Tableau6_2025[[#This Row],[Arrivée]]<>"",(Tableau6_2025[[#This Row],[Départ]] - Tableau6_2025[[#This Row],[Arrivée]]) - Tableau6_2025[[#This Row],[Pause]],0) -> 0.32361111 | F12: =IF(Tableau6_2025[[#This Row],[Temps travail]]>TempsTravail,Tableau6_2025[[#This Row],[Temps travail]]-TempsTravail,0) -> 0.031944444 | G12: =IF(Tableau6_2025[[#This Row],[Temps travail]]>TempsTravail,Tableau6_2025[[#This Row],[Temps travail]]*24-TempsTravail*24,0) -> 0.76666667 | H12: =WEEKNUM(A12,2) -> 24
A13: 45820 | B13: 0.34513889 | C13: 0.68958333 | D13: 0.041666667 | E13: =IF(Tableau6_2025[[#This Row],[Arrivée]]<>"",(Tableau6_2025[[#This Row],[Départ]] - Tableau6_2025[[#This Row],[Arrivée]]) - Tableau6_2025[[#This Row],[Pause]],0) -> 0.30277778 | F13: =IF(Tableau6_2025[[#This Row],[Temps travail]]>TempsTravail,Tableau6_2025[[#This Row],[Temps travail]]-TempsTravail,0) -> 0.011111111 | G13: =IF(Tableau6_2025[[#This Row],[Temps travail]]>TempsTravail,Tableau6_2025[[#This Row],[Temps travail]]*24-TempsTravail*24,0) -> 0.26666667 | H13: =WEEKNUM(A13,2) -> 24
A14: 45821 | B14: 0.34722222 | C14: 0.68263889 | D14: 0.041666667 | E14: =IF(Tableau6_2025[[#This Row],[Arrivée]]<>"",(Tableau6_2025[[#This Row],[Départ]] - Tableau6_2025[[#This Row],[Arrivée]]) - Tableau6_2025[[#This Row],[Pause]],0) -> 0.29375 | F14: =IF(Tableau6_2025[[#This Row],[Temps travail]]>TempsTravail,Tableau6_2025[[#This Row],[Temps travail]]-TempsTravail,0) -> 0.0020833333 | G14: =IF(Tableau6_2025[[#This Row],[Temps travail]]>TempsTravail,Tableau6_2025[[#This Row],[Temps travail]]*24-TempsTravail*24,0) -> 0.05 | H14: =WEEKNUM(A14,2) -> 24 | J14: Avril | K14: =IF(ISBLANK(L14), "", IF(L14<0, "-" & TEXT(ABS(L14)/24, "h:mm"), TEXT(L14/24, "h:mm"))) -> 5:04 | L14: ='04-2025'!L9 -> 5.0666667 | N14: Année | O14: Mois | P14: Delta Mensuel (h) | Q14: Delta Mensuel (d)
A15: 45822 | D15: 0.041666667 | E15: =IF(Tableau6_2025[[#This Row],[Arrivée]]<>"",(Tableau6_2025[[#This Row],[Départ]] - Tableau6_2025[[#This Row],[Arrivée]]) - Tableau6_2025[[#This Row],[Pause]],0) -> 0 | F15: =IF(Tableau6_2025[[#This Row],[Temps travail]]>TempsTravail,Tableau6_2025[[#This Row],[Temps travail]]-TempsTravail,0) -> 0 | G15: =IF(Tableau6_2025[[#This Row],[Temps travail]]>TempsTravail,Tableau6_2025[[#This Row],[Temps travail]]*24-TempsTravail*24,0) -> 0 | H15: =WEEKNUM(A15,2) -> 24 | J15: Mai | K15: =IF(ISBLANK(L15), "", IF(L15<0, "-" & TEXT(ABS(L15)/24, "h:mm"), TEXT(L15/24, "h:mm"))) -> 6:39 | L15: ='05-2025'!L9 -> 6.65 | N15: 2025 | O15: avril | P15: 0.21111111 | Q15: 5.0666667
A16: 45823 | D16: 0.041666667 | E16: =IF(Tableau6_2025[[#This Row],[Arrivée]]<>"",(Tableau6_2025[[#This Row],[Départ]] - Tableau6_2025[[#This Row],[Arrivée]]) - Tableau6_2025[[#This Row],[Pause]],0) -> 0 | F16: =IF(Tableau6_2025[[#This Row],[Temps travail]]>TempsTravail,Tableau6_2025[[#This Row],[Temps travail]]-TempsTravail,0) -> 0 | G16: =IF(Tableau6_2025[[#This Row],[Temps travail]]>TempsTravail,Tableau6_2025[[#This Row],[Temps travail]]*24-TempsTravail*24,0) -> 0 | H16: =WEEKNUM(A16,2) -> 24 | J16: Juin | K16: =IF(ISBLANK(L16), "", IF(L16<0, "-" & TEXT(ABS(L16)/24, "h:mm"), TEXT(L16/24, "h:mm"))) -> 8:01 | L16: ='06-2025'!L9 -> 8.0166667 | O16: mai | P16: 0.27708333 | Q16: 6.65
A17: 45824 | B17: 0 | C17: 0.041666667 | D17: 0.041666667 | E17: =IF(Tableau6_2025[[#This Row],[Arrivée]]<>"",(Tableau6_2025[[#This Row],[Départ]] - Tableau6_2025[[#This Row],[Arrivée]]) - Tableau6_2025[[#This Row],[Pause]],0) -> 0 | F17: =IF(Tableau6_2025[[#This Row],[Temps travail]]>TempsTravail,Tableau6_2025[[#This Row],[Temps travail]]-TempsTravail,0) -> 0 | G17: =IF(Tableau6_2025[[#This Row],[Temps travail]]>TempsTravail,Tableau6_2025[[#This Row],[Temps travail]]*24-TempsTravail*24,0) -> 0 | H17: =WEEKNUM(A17,2) -> 25 | J17: Juillet | K17: =IF(ISBLANK(L17), "", IF(L17<0, "-" & TEXT(ABS(L17)/24, "h:mm"), TEXT(L17/24, "h:mm"))) -> 16:23 | L17: ='07-2025'!L8 -> 16.383333 | O17: juin | P17: 0.33402778 | Q17: 8.0166667
A18: 45825 | B18: 0.34513889 | C18: 0.69513889 | D18: 0.041666667 | E18: =IF(Tableau6_2025[[#This Row],[Arrivée]]<>"",(Tableau6_2025[[#This Row],[Départ]] - Tableau6_2025[[#This Row],[Arrivée]]) - Tableau6_2025[[#This Row],[Pause]],0) -> 0.30833333 | F18: =IF(Tableau6_2025[[#This Row],[Temps travail]]>TempsTravail,Tableau6_2025[[#This Row],[Temps travail]]-TempsTravail,0) -> 0.016666667 | G18: =IF(Tableau6_2025[[#This Row],[Temps travail]]>TempsTravail,Tableau6_2025[[#This Row],[Temps travail]]*24-TempsTravail*24,0) -> 0.4 | H18: =WEEKNUM(A18,2) -> 25 | J18: Aout | K18: =IF(ISBLANK(L18), "", IF(L18<0, "-" & TEXT(ABS(L18)/24, "h:mm"), TEXT(L18/24, "h:mm"))) -> 15:08 | L18: ='08-2025'!L9 -> 15.133333 | O18: juillet | P18: 0.68263889 | Q18: 16.383333
A19: 45826 | B19: 0.33819444 | C19: 0.71041667 | D19: 0.041666667 | E19: =IF(Tableau6_2025[[#This Row],[Arrivée]]<>"",(Tableau6_2025[[#This Row],[Départ]] - Tableau6_2025[[#This Row],[Arrivée]]) - Tableau6_2025[[#This Row],[Pause]],0) -> 0.33055556 | F19: =IF(Tableau6_2025[[#This Row],[Temps travail]]>TempsTravail,Tableau6_2025[[#This Row],[Temps travail]]-TempsTravail,0) -> 0.038888889 | G19: =IF(Tableau6_2025[[#This Row],[Temps travail]]>TempsTravail,Tableau6_2025[[#This Row],[Temps travail]]*24-TempsTravail*24,0) -> 0.93333333 | H19: =WEEKNUM(A19,2) -> 25 | J19: Septembre | K19: =IF(ISBLANK(L19), "", IF(L19<0, "-" & TEXT(ABS(L19)/24, "h:mm"), TEXT(L19/24, "h:mm"))) -> 13:21 | L19: ='09-2025'!L9 -> 13.35 | O19: août | P19: 0.63055556 | Q19: 15.133333
A20: 45827 | B20: 0.37291667 | C20: 0.71041667 | D20: 0.041666667 | E20: =IF(Tableau6_2025[[#This Row],[Arrivée]]<>"",(Tableau6_2025[[#This Row],[Départ]] - Tableau6_2025[[#This Row],[Arrivée]]) - Tableau6_2025[[#This Row],[Pause]],0) -> 0.29583333 | F20: =IF(Tableau6_2025[[#This Row],[Temps travail]]>TempsTravail,Tableau6_2025[[#This Row],[Temps travail]]-TempsTravail,0) -> 0.0041666667 | G20: =IF(Tableau6_2025[[#This Row],[Temps travail]]>TempsTravail,Tableau6_2025[[#This Row],[Temps travail]]*24-TempsTravail*24,0) -> 0.1 | H20: =WEEKNUM(A20,2) -> 25 | J20: Octobre | K20: =IF(ISBLANK(L20), "", IF(L20<0, "-" & TEXT(ABS(L20)/24, "h:mm"), TEXT(L20/24, "h:mm"))) -> 19:54 | L20: ='10-2025'!L9 -> 19.9 | O20: septembre | P20: 0.55625 | Q20: 13.35
A21: 45828 | B21: 0.34166667 | C21: 0.68680556 | D21: 0.041666667 | E21: =IF(Tableau6_2025[[#This Row],[Arrivée]]<>"",(Tableau6_2025[[#This Row],[Départ]] - Tableau6_2025[[#This Row],[Arrivée]]) - Tableau6_2025[[#This Row],[Pause]],0) -> 0.30347222 | F21: =IF(Tableau6_2025[[#This Row],[Temps travail]]>TempsTravail,Tableau6_2025[[#This Row],[Temps travail]]-TempsTravail,0) -> 0.011805556 | G21: =IF(Tableau6_2025[[#This Row],[Temps travail]]>TempsTravail,Tableau6_2025[[#This Row],[Temps travail]]*24-TempsTravail*24,0) -> 0.28333333 | H21: =WEEKNUM(A21,2) -> 25 | J21: Novembre | K21: =IF(ISBLANK(L21), "", IF(L21<0, "-" & TEXT(ABS(L21)/24, "h:mm"), TEXT(L21/24, "h:mm"))) -> 10:32 | L21: ='11-2025'!L9 -> 10.533333 | O21: octobre | P21: 0.82916667 | Q21: 19.9
A22: 45829 | D22: 0.041666667 | E22: =IF(Tableau6_2025[[#This Row],[Arrivée]]<>"",(Tableau6_2025[[#This Row],[Départ]] - Tableau6_2025[[#This Row],[Arrivée]]) - Tableau6_2025[[#This Row],[Pause]],0) -> 0 | F22: =IF(Tableau6_2025[[#This Row],[Temps travail]]>TempsTravail,Tableau6_2025[[#This Row],[Temps travail]]-TempsTravail,0) -> 0 | G22: =IF(Tableau6_2025[[#This Row],[Temps travail]]>TempsTravail,Tableau6_2025[[#This Row],[Temps travail]]*24-TempsTravail*24,0) -> 0 | H22: =WEEKNUM(A22,2) -> 25 | J22: Decembre | K22: =IF(ISBLANK(L22), "", IF(L22<0, "-" & TEXT(ABS(L22)/24, "h:mm"), TEXT(L22/24, "h:mm"))) -> 8:59 | L22: ='12-2025'!L9 -> 8.9833333 | O22: novembre | P22: 0.43888889 | Q22: 10.533333
A23: 45830 | D23: 0.041666667 | E23: =IF(Tableau6_2025[[#This Row],[Arrivée]]<>"",(Tableau6_2025[[#This Row],[Départ]] - Tableau6_2025[[#This Row],[Arrivée]]) - Tableau6_2025[[#This Row],[Pause]],0) -> 0 | F23: =IF(Tableau6_2025[[#This Row],[Temps travail]]>TempsTravail,Tableau6_2025[[#This Row],[Temps travail]]-TempsTravail,0) -> 0 | G23: =IF(Tableau6_2025[[#This Row],[Temps travail]]>TempsTravail,Tableau6_2025[[#This Row],[Temps travail]]*24-TempsTravail*24,0) -> 0 | H23: =WEEKNUM(A23,2) -> 25 | O23: décembre | P23: 0.37430556 | Q23: 8.9833333
A24: 45831 | B24: 0 | C24: 0.041666667 | D24: 0.041666667 | E24: =IF(Tableau6_2025[[#This Row],[Arrivée]]<>"",(Tableau6_2025[[#This Row],[Départ]] - Tableau6_2025[[#This Row],[Arrivée]]) - Tableau6_2025[[#This Row],[Pause]],0) -> 0 | F24: =IF(Tableau6_2025[[#This Row],[Temps travail]]>TempsTravail,Tableau6_2025[[#This Row],[Temps travail]]-TempsTravail,0) -> 0 | G24: =IF(Tableau6_2025[[#This Row],[Temps travail]]>TempsTravail,Tableau6_2025[[#This Row],[Temps travail]]*24-TempsTravail*24,0) -> 0 | H24: =WEEKNUM(A24,2) -> 26 | N24: Total 2025 | P24: 4.3340278 | Q24: 104.01667
A25: 45832 | B25: 0.34513889 | C25: 0.69305556 | D25: 0.041666667 | E25: =IF(Tableau6_2025[[#This Row],[Arrivée]]<>"",(Tableau6_2025[[#This Row],[Départ]] - Tableau6_2025[[#This Row],[Arrivée]]) - Tableau6_2025[[#This Row],[Pause]],0) -> 0.30625 | F25: =IF(Tableau6_2025[[#This Row],[Temps travail]]>TempsTravail,Tableau6_2025[[#This Row],[Temps travail]]-TempsTravail,0) -> 0.014583333 | G25: =IF(Tableau6_2025[[#This Row],[Temps travail]]>TempsTravail,Tableau6_2025[[#This Row],[Temps travail]]*24-TempsTravail*24,0) -> 0.35 | H25: =WEEKNUM(A25,2) -> 26 | N25: 2026 | O25: janvier | P25: 0.097916667 | Q25: 2.35
A26: 45833 | B26: 0.34930556 | C26: 0.69652778 | D26: 0.041666667 | E26: =IF(Tableau6_2025[[#This Row],[Arrivée]]<>"",(Tableau6_2025[[#This Row],[Départ]] - Tableau6_2025[[#This Row],[Arrivée]]) - Tableau6_2025[[#This Row],[Pause]],0) -> 0.30555556 | F26: =IF(Tableau6_2025[[#This Row],[Temps travail]]>TempsTravail,Tableau6_2025[[#This Row],[Temps travail]]-TempsTravail,0) -> 0.013888889 | G26: =IF(Tableau6_2025[[#This Row],[Temps travail]]>TempsTravail,Tableau6_2025[[#This Row],[Temps travail]]*24-TempsTravail*24,0) -> 0.33333333 | H26: =WEEKNUM(A26,2) -> 26 | O26: février | P26: 0 | Q26: 0
A27: 45834 | B27: 0.34513889 | C27: 0.69652778 | D27: 0.041666667 | E27: =IF(Tableau6_2025[[#This Row],[Arrivée]]<>"",(Tableau6_2025[[#This Row],[Départ]] - Tableau6_2025[[#This Row],[Arrivée]]) - Tableau6_2025[[#This Row],[Pause]],0) -> 0.30972222 | F27: =IF(Tableau6_2025[[#This Row],[Temps travail]]>TempsTravail,Tableau6_2025[[#This Row],[Temps travail]]-TempsTravail,0) -> 0.018055556 | G27: =IF(Tableau6_2025[[#This Row],[Temps travail]]>TempsTravail,Tableau6_2025[[#This Row],[Temps travail]]*24-TempsTravail*24,0) -> 0.43333333 | H27: =WEEKNUM(A27,2) -> 26 | N27: Total 2026 | P27: 0.097916667 | Q27: 2.35
A28: 45835 | B28: 0.35763889 | C28: 0.7 | D28: 0.041666667 | E28: =IF(Tableau6_2025[[#This Row],[Arrivée]]<>"",(Tableau6_2025[[#This Row],[Départ]] - Tableau6_2025[[#This Row],[Arrivée]]) - Tableau6_2025[[#This Row],[Pause]],0) -> 0.30069444 | F28: =IF(Tableau6_2025[[#This Row],[Temps travail]]>TempsTravail,Tableau6_2025[[#This Row],[Temps travail]]-TempsTravail,0) -> 0.0090277778 | G28: =IF(Tableau6_2025[[#This Row],[Temps travail]]>TempsTravail,Tableau6_2025[[#This Row],[Temps travail]]*24-TempsTravail*24,0) -> 0.21666667 | H28: =WEEKNUM(A28,2) -> 26 | N28: Total général | P28: 4.4319444 | Q28: 106.36667
A29: 45836 | D29: 0.041666667 | E29: =IF(Tableau6_2025[[#This Row],[Arrivée]]<>"",(Tableau6_2025[[#This Row],[Départ]] - Tableau6_2025[[#This Row],[Arrivée]]) - Tableau6_2025[[#This Row],[Pause]],0) -> 0 | F29: =IF(Tableau6_2025[[#This Row],[Temps travail]]>TempsTravail,Tableau6_2025[[#This Row],[Temps travail]]-TempsTravail,0) -> 0 | G29: =IF(Tableau6_2025[[#This Row],[Temps travail]]>TempsTravail,Tableau6_2025[[#This Row],[Temps travail]]*24-TempsTravail*24,0) -> 0 | H29: =WEEKNUM(A29,2) -> 26
A30: 45837 | D30: 0.041666667 | E30: =IF(Tableau6_2025[[#This Row],[Arrivée]]<>"",(Tableau6_2025[[#This Row],[Départ]] - Tableau6_2025[[#This Row],[Arrivée]]) - Tableau6_2025[[#This Row],[Pause]],0) -> 0 | F30: =IF(Tableau6_2025[[#This Row],[Temps travail]]>TempsTravail,Tableau6_2025[[#This Row],[Temps travail]]-TempsTravail,0) -> 0 | G30: =IF(Tableau6_2025[[#This Row],[Temps travail]]>TempsTravail,Tableau6_2025[[#This Row],[Temps travail]]*24-TempsTravail*24,0) -> 0 | H30: =WEEKNUM(A30,2) -> 26
A31: 45838 | B31: 0.34583333 | C31: 0.70138889 | D31: 0.041666667 | E31: =IF(Tableau6_2025[[#This Row],[Arrivée]]<>"",(Tableau6_2025[[#This Row],[Départ]] - Tableau6_2025[[#This Row],[Arrivée]]) - Tableau6_2025[[#This Row],[Pause]],0) -> 0.31388889 | F31: =IF(Tableau6_2025[[#This Row],[Temps travail]]>TempsTravail,Tableau6_2025[[#This Row],[Temps travail]]-TempsTravail,0) -> 0.022222222 | G31: =IF(Tableau6_2025[[#This Row],[Temps travail]]>TempsTravail,Tableau6_2025[[#This Row],[Temps travail]]*24-TempsTravail*24,0) -> 0.53333333 | H31: =WEEKNUM(A31,2) -> 27
B35: Recup

Sheet 07-2025
A1: Date | B1: Arrivée | C1: Départ | D1: Pause | E1: Temps travail | F1: Delta (h) | G1: Delta (d) | H1: Semaine | N1: Année | O1: 2025
A2: 45839 | B2: 0.34305556 | C2: 0.69305556 | D2: 0.041666667 | E2: =IF(Tableau7_2025[[#This Row],[Arrivée]]<>"",(Tableau7_2025[[#This Row],[Départ]] - Tableau7_2025[[#This Row],[Arrivée]]) - Tableau7_2025[[#This Row],[Pause]],0) -> 0.30833333 | F2: =IF(Tableau7_2025[[#This Row],[Temps travail]]>TempsTravail,Tableau7_2025[[#This Row],[Temps travail]]-TempsTravail,0) -> 0.016666667 | G2: =IF(Tableau7_2025[[#This Row],[Temps travail]]>TempsTravail,Tableau7_2025[[#This Row],[Temps travail]]*24-TempsTravail*24,0) -> 0.4 | H2: =WEEKNUM(A2,2) -> 27 | J2: Semaine | K2: Delta total (h) | N2: Mois | O2: juillet
A3: 45840 | B3: 0.33333333 | C3: 0.69583333 | D3: 0.041666667 | E3: =IF(Tableau7_2025[[#This Row],[Arrivée]]<>"",(Tableau7_2025[[#This Row],[Départ]] - Tableau7_2025[[#This Row],[Arrivée]]) - Tableau7_2025[[#This Row],[Pause]],0) -> 0.32083333 | F3: =IF(Tableau7_2025[[#This Row],[Temps travail]]>TempsTravail,Tableau7_2025[[#This Row],[Temps travail]]-TempsTravail,0) -> 0.029166667 | G3: =IF(Tableau7_2025[[#This Row],[Temps travail]]>TempsTravail,Tableau7_2025[[#This Row],[Temps travail]]*24-TempsTravail*24,0) -> 0.7 | H3: =WEEKNUM(A3,2) -> 27 | J3: 27 | K3: =IF(ISBLANK(L3), "", IF(L3<0, "-" & TEXT(ABS(L3)/24, "h:mm"), TEXT(L3/24, "h:mm"))) -> 1:34 | L3: =SUMIF(H:H, J3, G:G) -> 1.5666667
A4: 45841 | B4: 0.34444444 | C4: 0.68888889 | D4: 0.041666667 | E4: =IF(Tableau7_2025[[#This Row],[Arrivée]]<>"",(Tableau7_2025[[#This Row],[Départ]] - Tableau7_2025[[#This Row],[Arrivée]]) - Tableau7_2025[[#This Row],[Pause]],0) -> 0.30277778 | F4: =IF(Tableau7_2025[[#This Row],[Temps travail]]>TempsTravail,Tableau7_2025[[#This Row],[Temps travail]]-TempsTravail,0) -> 0.011111111 | G4: =IF(Tableau7_2025[[#This Row],[Temps travail]]>TempsTravail,Tableau7_2025[[#This Row],[Temps travail]]*24-TempsTravail*24,0) -> 0.26666667 | H4: =WEEKNUM(A4,2) -> 27 | J4: 28 | K4: =IF(ISBLANK(L4), "", IF(L4<0, "-" & TEXT(ABS(L4)/24, "h:mm"), TEXT(L4/24, "h:mm"))) -> 2:04 | L4: =SUMIF(H:H, J4, G:G) -> 2.0666667 | N4: Semaine | O4: Delta Hebdo. (h) | P4: DeltaHebdo. (d)
A5: 45842 | B5: 0.33541667 | C5: 0.67708333 | D5: 0.041666667 | E5: =IF(Tableau7_2025[[#This Row],[Arrivée]]<>"",(Tableau7_2025[[#This Row],[Départ]] - Tableau7_2025[[#This Row],[Arrivée]]) - Tableau7_2025[[#This Row],[Pause]],0) -> 0.3 | F5: =IF(Tableau7_2025[[#This Row],[Temps travail]]>TempsTravail,Tableau7_2025[[#This Row],[Temps travail]]-TempsTravail,0) -> 0.0083333333 | G5: =IF(Tableau7_2025[[#This Row],[Temps travail]]>TempsTravail,Tableau7_2025[[#This Row],[Temps travail]]*24-TempsTravail*24,0) -> 0.2 | H5: =WEEKNUM(A5,2) -> 27 | J5: 29 | K5: =IF(ISBLANK(L5), "", IF(L5<0, "-" & TEXT(ABS(L5)/24, "h:mm"), TEXT(L5/24, "h:mm"))) -> 4:48 | L5: =SUMIF(H:H, J5, G:G) -> 4.8 | N5: 27 | O5: 0.065277778 | P5: 1.5666667
A6: 45843 | D6: 0.041666667 | E6: =IF(Tableau7_2025[[#This Row],[Arrivée]]<>"",(Tableau7_2025[[#This Row],[Départ]] - Tableau7_2025[[#This Row],[Arrivée]]) - Tableau7_2025[[#This Row],[Pause]],0) -> 0 | F6: =IF(Tableau7_2025[[#This Row],[Temps travail]]>TempsTravail,Tableau7_2025[[#This Row],[Temps travail]]-TempsTravail,0) -> 0 | G6: =IF(Tableau7_2025[[#This Row],[Temps travail]]>TempsTravail,Tableau7_2025[[#This Row],[Temps travail]]*24-TempsTravail*24,0) -> 0 | H6: =WEEKNUM(A6,2) -> 27 | J6: 30 | K6: =IF(ISBLANK(L6), "", IF(L6<0, "-" & TEXT(ABS(L6)/24, "h:mm"), TEXT(L6/24, "h:mm"))) -> 3:36 | L6: =SUMIF(H:H, J6, G:G) -> 3.6 | N6: 28 | O6: 0.086111111 | P6: 2.0666667
A7: 45844 | D7: 0.041666667 | E7: =IF(Tableau7_2025[[#This Row],[Arrivée]]<>"",(Tableau7_2025[[#This Row],[Départ]] - Tableau7_2025[[#This Row],[Arrivée]]) - Tableau7_2025[[#This Row],[Pause]],0) -> 0 | F7: =IF(Tableau7_2025[[#This Row],[Temps travail]]>TempsTravail,Tableau7_2025[[#This Row],[Temps travail]]-TempsTravail,0) -> 0 | G7: =IF(Tableau7_2025[[#This Row],[Temps travail]]>TempsTravail,Tableau7_2025[[#This Row],[Temps travail]]*24-TempsTravail*24,0) -> 0 | H7: =WEEKNUM(A7,2) -> 27 | J7: 31 | K7: =IF(ISBLANK(L7), "", IF(L7<0, "-" & TEXT(ABS(L7)/24, "h:mm"), TEXT(L7/24, "h:mm"))) -> 4:21 | L7: =SUMIF(H:H, J7, G:G) -> 4.35 | N7: 29 | O7: 0.2 | P7: 4.8
A8: 45845 | B8: 0.34375 | C8: 0.69305556 | D8: 0.041666667 | E8: =IF(Tableau7_2025[[#This Row],[Arrivée]]<>"",(Tableau7_2025[[#This Row],[Départ]] - Tableau7_2025[[#This Row],[Arrivée]]) - Tableau7_2025[[#This Row],[Pause]],0) -> 0.30763889 | F8: =IF(Tableau7_2025[[#This Row],[Temps travail]]>TempsTravail,Tableau7_2025[[#This Row],[Temps travail]]-TempsTravail,0) -> 0.015972222 | G8: =IF(Tableau7_2025[[#This Row],[Temps travail]]>TempsTravail,Tableau7_2025[[#This Row],[Temps travail]]*24-TempsTravail*24,0) -> 0.38333333 | H8: =WEEKNUM(A8,2) -> 28 | L8: =SUM(L3:L7) -> 16.383333 | N8: 30 | O8: 0.15 | P8: 3.6
A9: 45846 | B9: 0.34236111 | C9: 0.68611111 | D9: 0.041666667 | E9: =IF(Tableau7_2025[[#This Row],[Arrivée]]<>"",(Tableau7_2025[[#This Row],[Départ]] - Tableau7_2025[[#This Row],[Arrivée]]) - Tableau7_2025[[#This Row],[Pause]],0) -> 0.30208333 | F9: =IF(Tableau7_2025[[#This Row],[Temps travail]]>TempsTravail,Tableau7_2025[[#This Row],[Temps travail]]-TempsTravail,0) -> 0.010416667 | G9: =IF(Tableau7_2025[[#This Row],[Temps travail]]>TempsTravail,Tableau7_2025[[#This Row],[Temps travail]]*24-TempsTravail*24,0) -> 0.25 | H9: =WEEKNUM(A9,2) -> 28 | J9: Total mois | K9: =IF(ISBLANK(L8), "", IF(L8<0, "-" & TEXT(ABS(L8)/24, "h:mm"), TEXT(L8/24, "h:mm"))) -> 16:23 | N9: 31 | O9: 0.18125 | P9: 4.35
A10: 45847 | B10: 0.34166667 | C10: 0.70277778 | D10: 0.041666667 | E10: =IF(Tableau7_2025[[#This Row],[Arrivée]]<>"",(Tableau7_2025[[#This Row],[Départ]] - Tableau7_2025[[#This Row],[Arrivée]]) - Tableau7_2025[[#This Row],[Pause]],0) -> 0.31944444 | F10: =IF(Tableau7_2025[[#This Row],[Temps travail]]>TempsTravail,Tableau7_2025[[#This Row],[Temps travail]]-TempsTravail,0) -> 0.027777778 | G10: =IF(Tableau7_2025[[#This Row],[Temps travail]]>TempsTravail,Tableau7_2025[[#This Row],[Temps travail]]*24-TempsTravail*24,0) -> 0.66666667 | H10: =WEEKNUM(A10,2) -> 28 | J10: Total année | K10: =IF(ISBLANK(L10), "", IF(L10<0, "-" & TEXT(ABS(L10)/24, "h:mm"), TEXT(L10/24, "h:mm"))) -> 8:01 | L10: =SUM(L14:L22) -> 104.01667 | N10: Total général | O10: 0.68263889 | P10: 16.383333
A11: 45848 | B11: 0.34236111 | C11: 0.69722222 | D11: 0.041666667 | E11: =IF(Tableau7_2025[[#This Row],[Arrivée]]<>"",(Tableau7_2025[[#This Row],[Départ]] - Tableau7_2025[[#This Row],[Arrivée]]) - Tableau7_2025[[#This Row],[Pause]],0) -> 0.31319444 | F11: =IF(Tableau7_2025[[#This Row],[Temps travail]]>TempsTravail,Tableau7_2025[[#This Row],[Temps travail]]-TempsTravail,0) -> 0.021527778 | G11: =IF(Tableau7_2025[[#This Row],[Temps travail]]>TempsTravail,Tableau7_2025[[#This Row],[Temps travail]]*24-TempsTravail*24,0) -> 0.51666667 | H11: =WEEKNUM(A11,2) -> 28
A12: 45849 | B12: 0.33680556 | C12: 0.68055556 | D12: 0.041666667 | E12: =IF(Tableau7_2025[[#This Row],[Arrivée]]<>"",(Tableau7_2025[[#This Row],[Départ]] - Tableau7_2025[[#This Row],[Arrivée]]) - Tableau7_2025[[#This Row],[Pause]],0) -> 0.30208333 | F12: =IF(Tableau7_2025[[#This Row],[Temps travail]]>TempsTravail,Tableau7_2025[[#This Row],[Temps travail]]-TempsTravail,0) -> 0.010416667 | G12: =IF(Tableau7_2025[[#This Row],[Temps travail]]>TempsTravail,Tableau7_2025[[#This Row],[Temps travail]]*24-TempsTravail*24,0) -> 0.25 | H12: =WEEKNUM(A12,2) -> 28
A13: 45850 | D13: 0.041666667 | E13: =IF(Tableau7_2025[[#This Row],[Arrivée]]<>"",(Tableau7_2025[[#This Row],[Départ]] - Tableau7_2025[[#This Row],[Arrivée]]) - Tableau7_2025[[#This Row],[Pause]],0) -> 0 | F13: =IF(Tableau7_2025[[#This Row],[Temps travail]]>TempsTravail,Tableau7_2025[[#This Row],[Temps travail]]-TempsTravail,0) -> 0 | G13: =IF(Tableau7_2025[[#This Row],[Temps travail]]>TempsTravail,Tableau7_2025[[#This Row],[Temps travail]]*24-TempsTravail*24,0) -> 0 | H13: =WEEKNUM(A13,2) -> 28
A14: 45851 | D14: 0.041666667 | E14: =IF(Tableau7_2025[[#This Row],[Arrivée]]<>"",(Tableau7_2025[[#This Row],[Départ]] - Tableau7_2025[[#This Row],[Arrivée]]) - Tableau7_2025[[#This Row],[Pause]],0) -> 0 | F14: =IF(Tableau7_2025[[#This Row],[Temps travail]]>TempsTravail,Tableau7_2025[[#This Row],[Temps travail]]-TempsTravail,0) -> 0 | G14: =IF(Tableau7_2025[[#This Row],[Temps travail]]>TempsTravail,Tableau7_2025[[#This Row],[Temps travail]]*24-TempsTravail*24,0) -> 0 | H14: =WEEKNUM(A14,2) -> 28 | J14: Avril | K14: =IF(ISBLANK(L14), "", IF(L14<0, "-" & TEXT(ABS(L14)/24, "h:mm"), TEXT(L14/24, "h:mm"))) -> 5:04 | L14: ='04-2025'!L9 -> 5.0666667 | N14: Année | O14: Mois | P14: Delta Mensuel (h) | Q14: Delta Mensuel (d)
A15: 45852 | B15: 0.33333333 | C15: 0.6875 | D15: 0.041666667 | E15: =IF(Tableau7_2025[[#This Row],[Arrivée]]<>"",(Tableau7_2025[[#This Row],[Départ]] - Tableau7_2025[[#This Row],[Arrivée]]) - Tableau7_2025[[#This Row],[Pause]],0) -> 0.3125 | F15: =IF(Tableau7_2025[[#This Row],[Temps travail]]>TempsTravail,Tableau7_2025[[#This Row],[Temps travail]]-TempsTravail,0) -> 0.020833333 | G15: =IF(Tableau7_2025[[#This Row],[Temps travail]]>TempsTravail,Tableau7_2025[[#This Row],[Temps travail]]*24-TempsTravail*24,0) -> 0.5 | H15: =WEEKNUM(A15,2) -> 29 | J15: Mai | K15: =IF(ISBLANK(L15), "", IF(L15<0, "-" & TEXT(ABS(L15)/24, "h:mm"), TEXT(L15/24, "h:mm"))) -> 6:39 | L15: ='05-2025'!L9 -> 6.65 | N15: 2025 | O15: avril | P15: 0.21111111 | Q15: 5.0666667
A16: 45853 | B16: 0.34305556 | C16: 0.72708333 | D16: 0.041666667 | E16: =IF(Tableau7_2025[[#This Row],[Arrivée]]<>"",(Tableau7_2025[[#This Row],[Départ]] - Tableau7_2025[[#This Row],[Arrivée]]) - Tableau7_2025[[#This Row],[Pause]],0) -> 0.34236111 | F16: =IF(Tableau7_2025[[#This Row],[Temps travail]]>TempsTravail,Tableau7_2025[[#This Row],[Temps travail]]-TempsTravail,0) -> 0.050694444 | G16: =IF(Tableau7_2025[[#This Row],[Temps travail]]>TempsTravail,Tableau7_2025[[#This Row],[Temps travail]]*24-TempsTravail*24,0) -> 1.2166667 | H16: =WEEKNUM(A16,2) -> 29 | J16: Juin | K16: =IF(ISBLANK(L16), "", IF(L16<0, "-" & TEXT(ABS(L16)/24, "h:mm"), TEXT(L16/24, "h:mm"))) -> 8:01 | L16: ='06-2025'!L9 -> 8.0166667 | O16: mai | P16: 0.27708333 | Q16: 6.65
A17: 45854 | B17: 0.33263889 | C17: 0.75763889 | D17: 0.041666667 | E17: =IF(Tableau7_2025[[#This Row],[Arrivée]]<>"",(Tableau7_2025[[#This Row],[Départ]] - Tableau7_2025[[#This Row],[Arrivée]]) - Tableau7_2025[[#This Row],[Pause]],0) -> 0.38333333 | F17: =IF(Tableau7_2025[[#This Row],[Temps travail]]>TempsTravail,Tableau7_2025[[#This Row],[Temps travail]]-TempsTravail,0) -> 0.091666667 | G17: =IF(Tableau7_2025[[#This Row],[Temps travail]]>TempsTravail,Tableau7_2025[[#This Row],[Temps travail]]*24-TempsTravail*24,0) -> 2.2 | H17: =WEEKNUM(A17,2) -> 29 | J17: Juillet | K17: =IF(ISBLANK(L17), "", IF(L17<0, "-" & TEXT(ABS(L17)/24, "h:mm"), TEXT(L17/24, "h:mm"))) -> 16:23 | L17: ='07-2025'!L8 -> 16.383333 | O17: juin | P17: 0.33402778 | Q17: 8.0166667
A18: 45855 | B18: 0.33541667 | C18: 0.70555556 | D18: 0.041666667 | E18: =IF(Tableau7_2025[[#This Row],[Arrivée]]<>"",(Tableau7_2025[[#This Row],[Départ]] - Tableau7_2025[[#This Row],[Arrivée]]) - Tableau7_2025[[#This Row],[Pause]],0) -> 0.32847222 | F18: =IF(Tableau7_2025[[#This Row],[Temps travail]]>TempsTravail,Tableau7_2025[[#This Row],[Temps travail]]-TempsTravail,0) -> 0.036805556 | G18: =IF(Tableau7_2025[[#This Row],[Temps travail]]>TempsTravail,Tableau7_2025[[#This Row],[Temps travail]]*24-TempsTravail*24,0) -> 0.88333333 | H18: =WEEKNUM(A18,2) -> 29 | J18: Aout | K18: =IF(ISBLANK(L18), "", IF(L18<0, "-" & TEXT(ABS(L18)/24, "h:mm"), TEXT(L18/24, "h:mm"))) -> 15:08 | L18: ='08-2025'!L9 -> 15.133333 | O18: juillet | P18: 0.68263889 | Q18: 16.383333
A19: 45856 | B19: 0.33611111 | C19: 0.57152778 | D19: 0.041666667 | E19: =IF(Tableau7_2025[[#This Row],[Arrivée]]<>"",(Tableau7_2025[[#This Row],[Départ]] - Tableau7_2025[[#This Row],[Arrivée]]) - Tableau7_2025[[#This Row],[Pause]],0) -> 0.19375 | F19: =IF(Tableau7_2025[[#This Row],[Temps travail]]>TempsTravail,Tableau7_2025[[#This Row],[Temps travail]]-TempsTravail,0) -> 0 | G19: =IF(Tableau7_2025[[#This Row],[Temps travail]]>TempsTravail,Tableau7_2025[[#This Row],[Temps travail]]*24-TempsTravail*24,0) -> 0 | H19: =WEEKNUM(A19,2) -> 29 | J19: Septembre | K19: =IF(ISBLANK(L19), "", IF(L19<0, "-" & TEXT(ABS(L19)/24, "h:mm"), TEXT(L19/24, "h:mm"))) -> 13:21 | L19: ='09-2025'!L9 -> 13.35 | O19: août | P19: 0.63055556 | Q19: 15.133333
A20: 45857 | D20: 0.041666667 | E20: =IF(Tableau7_2025[[#This Row],[Arrivée]]<>"",(Tableau7_2025[[#This Row],[Départ]] - Tableau7_2025[[#This Row],[Arrivée]]) - Tableau7_2025[[#This Row],[Pause]],0) -> 0 | F20: =IF(Tableau7_2025[[#This Row],[Temps travail]]>TempsTravail,Tableau7_2025[[#This Row],[Temps travail]]-TempsTravail,0) -> 0 | G20: =IF(Tableau7_2025[[#This Row],[Temps travail]]>TempsTravail,Tableau7_2025[[#This Row],[Temps travail]]*24-TempsTravail*24,0) -> 0 | H20: =WEEKNUM(A20,2) -> 29 | J20: Octobre | K20: =IF(ISBLANK(L20), "", IF(L20<0, "-" & TEXT(ABS(L20)/24, "h:mm"), TEXT(L20/24, "h:mm"))) -> 19:54 | L20: ='10-2025'!L9 -> 19.9 | O20: septembre | P20: 0.55625 | Q20: 13.35
A21: 45858 | D21: 0.041666667 | E21: =IF(Tableau7_2025[[#This Row],[Arrivée]]<>"",(Tableau7_2025[[#This Row],[Départ]] - Tableau7_2025[[#This Row],[Arrivée]]) - Tableau7_2025[[#This Row],[Pause]],0) -> 0 | F21: =IF(Tableau7_2025[[#This Row],[Temps travail]]>TempsTravail,Tableau7_2025[[#This Row],[Temps travail]]-TempsTravail,0) -> 0 | G21: =IF(Tableau7_2025[[#This Row],[Temps travail]]>TempsTravail,Tableau7_2025[[#This Row],[Temps travail]]*24-TempsTravail*24,0) -> 0 | H21: =WEEKNUM(A21,2) -> 29 | J21: Novembre | K21: =IF(ISBLANK(L21), "", IF(L21<0, "-" & TEXT(ABS(L21)/24, "h:mm"), TEXT(L21/24, "h:mm"))) -> 10:32 | L21: ='11-2025'!L9 -> 10.533333 | O21: octobre | P21: 0.82916667 | Q21: 19.9
A22: 45859 | B22: 0.33888889 | C22: 0.70277778 | D22: 0.041666667 | E22: =IF(Tableau7_2025[[#This Row],[Arrivée]]<>"",(Tableau7_2025[[#This Row],[Départ]] - Tableau7_2025[[#This Row],[Arrivée]]) - Tableau7_2025[[#This Row],[Pause]],0) -> 0.32222222 | F22: =IF(Tableau7_2025[[#This Row],[Temps travail]]>TempsTravail,Tableau7_2025[[#This Row],[Temps travail]]-TempsTravail,0) -> 0.030555556 | G22: =IF(Tableau7_2025[[#This Row],[Temps travail]]>TempsTravail,Tableau7_2025[[#This Row],[Temps travail]]*24-TempsTravail*24,0) -> 0.73333333 | H22: =WEEKNUM(A22,2) -> 30 | J22: Decembre | K22: =IF(ISBLANK(L22), "", IF(L22<0, "-" & TEXT(ABS(L22)/24, "h:mm"), TEXT(L22/24, "h:mm"))) -> 8:59 | L22: ='12-2025'!L9 -> 8.9833333 | O22: novembre | P22: 0.43888889 | Q22: 10.533333
A23: 45860 | B23: 0.33888889 | C23: 0.70902778 | D23: 0.041666667 | E23: =IF(Tableau7_2025[[#This Row],[Arrivée]]<>"",(Tableau7_2025[[#This Row],[Départ]] - Tableau7_2025[[#This Row],[Arrivée]]) - Tableau7_2025[[#This Row],[Pause]],0) -> 0.32847222 | F23: =IF(Tableau7_2025[[#This Row],[Temps travail]]>TempsTravail,Tableau7_2025[[#This Row],[Temps travail]]-TempsTravail,0) -> 0.036805556 | G23: =IF(Tableau7_2025[[#This Row],[Temps travail]]>TempsTravail,Tableau7_2025[[#This Row],[Temps travail]]*24-TempsTravail*24,0) -> 0.88333333 | H23: =WEEKNUM(A23,2) -> 30 | O23: décembre | P23: 0.37430556 | Q23: 8.9833333
A24: 45861 | B24: 0.33611111 | C24: 0.71666667 | D24: 0.041666667 | E24: =IF(Tableau7_2025[[#This Row],[Arrivée]]<>"",(Tableau7_2025[[#This Row],[Départ]] - Tableau7_2025[[#This Row],[Arrivée]]) - Tableau7_2025[[#This Row],[Pause]],0) -> 0.33888889 | F24: =IF(Tableau7_2025[[#This Row],[Temps travail]]>TempsTravail,Tableau7_2025[[#This Row],[Temps travail]]-TempsTravail,0) -> 0.047222222 | G24: =IF(Tableau7_2025[[#This Row],[Temps travail]]>TempsTravail,Tableau7_2025[[#This Row],[Temps travail]]*24-TempsTravail*24,0) -> 1.1333333 | H24: =WEEKNUM(A24,2) -> 30 | N24: Total 2025 | P24: 4.3340278 | Q24: 104.01667
A25: 45862 | B25: 0.34444444 | C25: 0.71319444 | D25: 0.041666667 | E25: =IF(Tableau7_2025[[#This Row],[Arrivée]]<>"",(Tableau7_2025[[#This Row],[Départ]] - Tableau7_2025[[#This Row],[Arrivée]]) - Tableau7_2025[[#This Row],[Pause]],0) -> 0.32708333 | F25: =IF(Tableau7_2025[[#This Row],[Temps travail]]>TempsTravail,Tableau7_2025[[#This Row],[Temps travail]]-TempsTravail,0) -> 0.035416667 | G25: =IF(Tableau7_2025[[#This Row],[Temps travail]]>TempsTravail,Tableau7_2025[[#This Row],[Temps travail]]*24-TempsTravail*24,0) -> 0.85 | H25: =WEEKNUM(A25,2) -> 30 | N25: 2026 | O25: janvier | P25: 0.097916667 | Q25: 2.35
A26: 45863 | B26: 0.33472222 | C26: 0.57013889 | D26: 0.041666667 | E26: =IF(Tableau7_2025[[#This Row],[Arrivée]]<>"",(Tableau7_2025[[#This Row],[Départ]] - Tableau7_2025[[#This Row],[Arrivée]]) - Tableau7_2025[[#This Row],[Pause]],0) -> 0.19375 | F26: =IF(Tableau7_2025[[#This Row],[Temps travail]]>TempsTravail,Tableau7_2025[[#This Row],[Temps travail]]-TempsTravail,0) -> 0 | G26: =IF(Tableau7_2025[[#This Row],[Temps travail]]>TempsTravail,Tableau7_2025[[#This Row],[Temps travail]]*24-TempsTravail*24,0) -> 0 | H26: =WEEKNUM(A26,2) -> 30 | O26: février | P26: 0 | Q26: 0
A27: 45864 | D27: 0.041666667 | E27: =IF(Tableau7_2025[[#This Row],[Arrivée]]<>"",(Tableau7_2025[[#This Row],[Départ]] - Tableau7_2025[[#This Row],[Arrivée]]) - Tableau7_2025[[#This Row],[Pause]],0) -> 0 | F27: =IF(Tableau7_2025[[#This Row],[Temps travail]]>TempsTravail,Tableau7_2025[[#This Row],[Temps travail]]-TempsTravail,0) -> 0 | G27: =IF(Tableau7_2025[[#This Row],[Temps travail]]>TempsTravail,Tableau7_2025[[#This Row],[Temps travail]]*24-TempsTravail*24,0) -> 0 | H27: =WEEKNUM(A27,2) -> 30 | N27: Total 2026 | P27: 0.097916667 | Q27: 2.35
A28: 45865 | D28: 0.041666667 | E28: =IF(Tableau7_2025[[#This Row],[Arrivée]]<>"",(Tableau7_2025[[#This Row],[Départ]] - Tableau7_2025[[#This Row],[Arrivée]]) - Tableau7_2025[[#This Row],[Pause]],0) -> 0 | F28: =IF(Tableau7_2025[[#This Row],[Temps travail]]>TempsTravail,Tableau7_2025[[#This Row],[Temps travail]]-TempsTravail,0) -> 0 | G28: =IF(Tableau7_2025[[#This Row],[Temps travail]]>TempsTravail,Tableau7_2025[[#This Row],[Temps travail]]*24-TempsTravail*24,0) -> 0 | H28: =WEEKNUM(A28,2) -> 30 | N28: Total général | P28: 4.4319444 | Q28: 106.36667
A29: 45866 | B29: 0.34097222 | C29: 0.69930556 | D29: 0.041666667 | E29: =IF(Tableau7_2025[[#This Row],[Arrivée]]<>"",(Tableau7_2025[[#This Row],[Départ]] - Tableau7_2025[[#This Row],[Arrivée]]) - Tableau7_2025[[#This Row],[Pause]],0) -> 0.31666667 | F29: =IF(Tableau7_2025[[#This Row],[Temps travail]]>TempsTravail,Tableau7_2025[[#This Row],[Temps travail]]-TempsTravail,0) -> 0.025 | G29: =IF(Tableau7_2025[[#This Row],[Temps travail]]>TempsTravail,Tableau7_2025[[#This Row],[Temps travail]]*24-TempsTravail*24,0) -> 0.6 | H29: =WEEKNUM(A29,2) -> 31
A30: 45867 | B30: 0.34097222 | C30: 0.71458333 | D30: 0.041666667 | E30: =IF(Tableau7_2025[[#This Row],[Arrivée]]<>"",(Tableau7_2025[[#This Row],[Départ]] - Tableau7_2025[[#This Row],[Arrivée]]) - Tableau7_2025[[#This Row],[Pause]],0) -> 0.33194444 | F30: =IF(Tableau7_2025[[#This Row],[Temps travail]]>TempsTravail,Tableau7_2025[[#This Row],[Temps travail]]-TempsTravail,0) -> 0.040277778 | G30: =IF(Tableau7_2025[[#This Row],[Temps travail]]>TempsTravail,Tableau7_2025[[#This Row],[Temps travail]]*24-TempsTravail*24,0) -> 0.96666667 | H30: =WEEKNUM(A30,2) -> 31
A31: 45868 | B31: 0.34305556 | C31: 0.73125 | D31: 0.041666667 | E31: =IF(Tableau7_2025[[#This Row],[Arrivée]]<>"",(Tableau7_2025[[#This Row],[Départ]] - Tableau7_2025[[#This Row],[Arrivée]]) - Tableau7_2025[[#This Row],[Pause]],0) -> 0.34652778 | F31: =IF(Tableau7_2025[[#This Row],[Temps travail]]>TempsTravail,Tableau7_2025[[#This Row],[Temps travail]]-TempsTravail,0) -> 0.054861111 | G31: =IF(Tableau7_2025[[#This Row],[Temps travail]]>TempsTravail,Tableau7_2025[[#This Row],[Temps travail]]*24-TempsTravail*24,0) -> 1.3166667 | H31: =WEEKNUM(A31,2) -> 31
A32: 45869 | B32: 0.34513889 | C32: 0.73958333 | D32: 0.041666667 | E32: =IF(Tableau7_2025[[#This Row],[Arrivée]]<>"",(Tableau7_2025[[#This Row],[Départ]] - Tableau7_2025[[#This Row],[Arrivée]]) - Tableau7_2025[[#This Row],[Pause]],0) -> 0.35277778 | F32: =IF(Tableau7_2025[[#This Row],[Temps travail]]>TempsTravail,Tableau7_2025[[#This Row],[Temps travail]]-TempsTravail,0) -> 0.061111111 | G32: =IF(Tableau7_2025[[#This Row],[Temps travail]]>TempsTravail,Tableau7_2025[[#This Row],[Temps travail]]*24-TempsTravail*24,0) -> 1.4666667 | H32: =WEEKNUM(A32,2) -> 31

Sheet 08-2025
A1: Date | B1: Arrivée | C1: Départ | D1: Pause | E1: Temps travail | F1: Delta (h) | G1: Delta (d) | H1: Semaine | N1: Année | O1: 2025
A2: 45870 | B2: 0.33888889 | C2: 0.59513889 | D2: 0.041666667 | E2: =IF(Tableau8_2025[[#This Row],[Arrivée]]<>"",(Tableau8_2025[[#This Row],[Départ]] - Tableau8_2025[[#This Row],[Arrivée]]) - Tableau8_2025[[#This Row],[Pause]],0) -> 0.21458333 | F2: =IF(Tableau8_2025[[#This Row],[Temps travail]]>TempsTravail,Tableau8_2025[[#This Row],[Temps travail]]-TempsTravail,0) -> 0 | G2: =IF(Tableau8_2025[[#This Row],[Temps travail]]>TempsTravail,Tableau8_2025[[#This Row],[Temps travail]]*24-TempsTravail*24,0) -> 0 | H2: =WEEKNUM(A2,2) -> 31 | J2: Semaine | K2: Delta total (h) | N2: Mois | O2: août
A3: 45871 | D3: 0.041666667 | E3: =IF(Tableau8_2025[[#This Row],[Arrivée]]<>"",(Tableau8_2025[[#This Row],[Départ]] - Tableau8_2025[[#This Row],[Arrivée]]) - Tableau8_2025[[#This Row],[Pause]],0) -> 0 | F3: =IF(Tableau8_2025[[#This Row],[Temps travail]]>TempsTravail,Tableau8_2025[[#This Row],[Temps travail]]-TempsTravail,0) -> 0 | G3: =IF(Tableau8_2025[[#This Row],[Temps travail]]>TempsTravail,Tableau8_2025[[#This Row],[Temps travail]]*24-TempsTravail*24,0) -> 0 | H3: =WEEKNUM(A3,2) -> 31 | J3: 31 | K3: =IF(ISBLANK(L3), "", IF(L3<0, "-" & TEXT(ABS(L3)/24, "h:mm"), TEXT(L3/24, "h:mm"))) -> 0:00 | L3: =SUMIF(H:H, J3, G:G) -> 0
A4: 45872 | D4: 0.041666667 | E4: =IF(Tableau8_2025[[#This Row],[Arrivée]]<>"",(Tableau8_2025[[#This Row],[Départ]] - Tableau8_2025[[#This Row],[Arrivée]]) - Tableau8_2025[[#This Row],[Pause]],0) -> 0 | F4: =IF(Tableau8_2025[[#This Row],[Temps travail]]>TempsTravail,Tableau8_2025[[#This Row],[Temps travail]]-TempsTravail,0) -> 0 | G4: =IF(Tableau8_2025[[#This Row],[Temps travail]]>TempsTravail,Tableau8_2025[[#This Row],[Temps travail]]*24-TempsTravail*24,0) -> 0 | H4: =WEEKNUM(A4,2) -> 31 | J4: 32 | K4: =IF(ISBLANK(L4), "", IF(L4<0, "-" & TEXT(ABS(L4)/24, "h:mm"), TEXT(L4/24, "h:mm"))) -> 4:02 | L4: =SUMIF(H:H, J4, G:G) -> 4.0333333 | N4: Semaine | O4: Delta Hebdo. (h) | P4: DeltaHebdo. (d)
A5: 45873 | B5: 0.3375 | C5: 0.69652778 | D5: 0.041666667 | E5: =IF(Tableau8_2025[[#This Row],[Arrivée]]<>"",(Tableau8_2025[[#This Row],[Départ]] - Tableau8_2025[[#This Row],[Arrivée]]) - Tableau8_2025[[#This Row],[Pause]],0) -> 0.31736111 | F5: =IF(Tableau8_2025[[#This Row],[Temps travail]]>TempsTravail,Tableau8_2025[[#This Row],[Temps travail]]-TempsTravail,0) -> 0.025694444 | G5: =IF(Tableau8_2025[[#This Row],[Temps travail]]>TempsTravail,Tableau8_2025[[#This Row],[Temps travail]]*24-TempsTravail*24,0) -> 0.61666667 | H5: =WEEKNUM(A5,2) -> 32 | J5: 33 | K5: =IF(ISBLANK(L5), "", IF(L5<0, "-" & TEXT(ABS(L5)/24, "h:mm"), TEXT(L5/24, "h:mm"))) -> 4:34 | L5: =SUMIF(H:H, J5, G:G) -> 4.5666667 | N5: 31 | O5: 0 | P5: 0
A6: 45874 | B6: 0.33472222 | C6: 0.72291667 | D6: 0.041666667 | E6: =IF(Tableau8_2025[[#This Row],[Arrivée]]<>"",(Tableau8_2025[[#This Row],[Départ]] - Tableau8_2025[[#This Row],[Arrivée]]) - Tableau8_2025[[#This Row],[Pause]],0) -> 0.34652778 | F6: =IF(Tableau8_2025[[#This Row],[Temps travail]]>TempsTravail,Tableau8_2025[[#This Row],[Temps travail]]-TempsTravail,0) -> 0.054861111 | G6: =IF(Tableau8_2025[[#This Row],[Temps travail]]>TempsTravail,Tableau8_2025[[#This Row],[Temps travail]]*24-TempsTravail*24,0) -> 1.3166667 | H6: =WEEKNUM(A6,2) -> 32 | J6: 34 | K6: =IF(ISBLANK(L6), "", IF(L6<0, "-" & TEXT(ABS(L6)/24, "h:mm"), TEXT(L6/24, "h:mm"))) -> 3:59 | L6: =SUMIF(H:H, J6, G:G) -> 3.9833333 | N6: 32 | O6: 0.16805556 | P6: 4.0333333
A7: 45875 | B7: 0.33819444 | C7: 0.72083333 | D7: 0.041666667 | E7: =IF(Tableau8_2025[[#This Row],[Arrivée]]<>"",(Tableau8_2025[[#This Row],[Départ]] - Tableau8_2025[[#This Row],[Arrivée]]) - Tableau8_2025[[#This Row],[Pause]],0) -> 0.34097222 | F7: =IF(Tableau8_2025[[#This Row],[Temps travail]]>TempsTravail,Tableau8_2025[[#This Row],[Temps travail]]-TempsTravail,0) -> 0.049305556 | G7: =IF(Tableau8_2025[[#This Row],[Temps travail]]>TempsTravail,Tableau8_2025[[#This Row],[Temps travail]]*24-TempsTravail*24,0) -> 1.1833333 | H7: =WEEKNUM(A7,2) -> 32 | J7: 35 | K7: =IF(ISBLANK(L7), "", IF(L7<0, "-" & TEXT(ABS(L7)/24, "h:mm"), TEXT(L7/24, "h:mm"))) -> 2:33 | L7: =SUMIF(H:H, J7, G:G) -> 2.55 | N7: 33 | O7: 0.19027778 | P7: 4.5666667
A8: 45876 | B8: 0.33680556 | C8: 0.70833333 | D8: 0.041666667 | E8: =IF(Tableau8_2025[[#This Row],[Arrivée]]<>"",(Tableau8_2025[[#This Row],[Départ]] - Tableau8_2025[[#This Row],[Arrivée]]) - Tableau8_2025[[#This Row],[Pause]],0) -> 0.32986111 | F8: =IF(Tableau8_2025[[#This Row],[Temps travail]]>TempsTravail,Tableau8_2025[[#This Row],[Temps travail]]-TempsTravail,0) -> 0.038194444 | G8: =IF(Tableau8_2025[[#This Row],[Temps travail]]>TempsTravail,Tableau8_2025[[#This Row],[Temps travail]]*24-TempsTravail*24,0) -> 0.91666667 | H8: =WEEKNUM(A8,2) -> 32 | J8: 36 | K8: =IF(ISBLANK(L8), "", IF(L8<0, "-" & TEXT(ABS(L8)/24, "h:mm"), TEXT(L8/24, "h:mm"))) -> 0:00 | L8: =SUMIF(H:H, J8, G:G) -> 0 | N8: 34 | O8: 0.16597222 | P8: 3.9833333
A9: 45877 | B9: 0.33541667 | C9: 0.58611111 | D9: 0.041666667 | E9: =IF(Tableau8_2025[[#This Row],[Arrivée]]<>"",(Tableau8_2025[[#This Row],[Départ]] - Tableau8_2025[[#This Row],[Arrivée]]) - Tableau8_2025[[#This Row],[Pause]],0) -> 0.20902778 | F9: =IF(Tableau8_2025[[#This Row],[Temps travail]]>TempsTravail,Tableau8_2025[[#This Row],[Temps travail]]-TempsTravail,0) -> 0 | G9: =IF(Tableau8_2025[[#This Row],[Temps travail]]>TempsTravail,Tableau8_2025[[#This Row],[Temps travail]]*24-TempsTravail*24,0) -> 0 | H9: =WEEKNUM(A9,2) -> 32 | J9: Total mois | K9: =IF(ISBLANK(L9), "", IF(L9<0, "-" & TEXT(ABS(L9)/24, "h:mm"), TEXT(L9/24, "h:mm"))) -> 15:08 | L9: =SUM(L3:L7) -> 15.133333 | N9: 35 | O9: 0.10625 | P9: 2.55
A10: 45878 | D10: 0.041666667 | E10: =IF(Tableau8_2025[[#This Row],[Arrivée]]<>"",(Tableau8_2025[[#This Row],[Départ]] - Tableau8_2025[[#This Row],[Arrivée]]) - Tableau8_2025[[#This Row],[Pause]],0) -> 0 | F10: =IF(Tableau8_2025[[#This Row],[Temps travail]]>TempsTravail,Tableau8_2025[[#This Row],[Temps travail]]-TempsTravail,0) -> 0 | G10: =IF(Tableau8_2025[[#This Row],[Temps travail]]>TempsTravail,Tableau8_2025[[#This Row],[Temps travail]]*24-TempsTravail*24,0) -> 0 | H10: =WEEKNUM(A10,2) -> 32 | J10: Total année | K10: =IF(ISBLANK(L10), "", IF(L10<0, "-" & TEXT(ABS(L10)/24, "h:mm"), TEXT(L10/24, "h:mm"))) -> 8:01 | L10: =SUM(L14:L22) -> 104.01667 | N10: Total général | O10: 0.63055556 | P10: 15.133333
A11: 45879 | D11: 0.041666667 | E11: =IF(Tableau8_2025[[#This Row],[Arrivée]]<>"",(Tableau8_2025[[#This Row],[Départ]] - Tableau8_2025[[#This Row],[Arrivée]]) - Tableau8_2025[[#This Row],[Pause]],0) -> 0 | F11: =IF(Tableau8_2025[[#This Row],[Temps travail]]>TempsTravail,Tableau8_2025[[#This Row],[Temps travail]]-TempsTravail,0) -> 0 | G11: =IF(Tableau8_2025[[#This Row],[Temps travail]]>TempsTravail,Tableau8_2025[[#This Row],[Temps travail]]*24-TempsTravail*24,0) -> 0 | H11: =WEEKNUM(A11,2) -> 32
A12: 45880 | B12: 0.33958333 | C12: 0.70138889 | D12: 0.041666667 | E12: =IF(Tableau8_2025[[#This Row],[Arrivée]]<>"",(Tableau8_2025[[#This Row],[Départ]] - Tableau8_2025[[#This Row],[Arrivée]]) - Tableau8_2025[[#This Row],[Pause]],0) -> 0.32013889 | F12: =IF(Tableau8_2025[[#This Row],[Temps travail]]>TempsTravail,Tableau8_2025[[#This Row],[Temps travail]]-TempsTravail,0) -> 0.028472222 | G12: =IF(Tableau8_2025[[#This Row],[Temps travail]]>TempsTravail,Tableau8_2025[[#This Row],[Temps travail]]*24-TempsTravail*24,0) -> 0.68333333 | H12: =WEEKNUM(A12,2) -> 33
A13: 45881 | B13: 0.34236111 | C13: 0.71180556 | D13: 0.041666667 | E13: =IF(Tableau8_2025[[#This Row],[Arrivée]]<>"",(Tableau8_2025[[#This Row],[Départ]] - Tableau8_2025[[#This Row],[Arrivée]]) - Tableau8_2025[[#This Row],[Pause]],0) -> 0.32777778 | F13: =IF(Tableau8_2025[[#This Row],[Temps travail]]>TempsTravail,Tableau8_2025[[#This Row],[Temps travail]]-TempsTravail,0) -> 0.036111111 | G13: =IF(Tableau8_2025[[#This Row],[Temps travail]]>TempsTravail,Tableau8_2025[[#This Row],[Temps travail]]*24-TempsTravail*24,0) -> 0.86666667 | H13: =WEEKNUM(A13,2) -> 33
A14: 45882 | B14: 0.33958333 | C14: 0.71805556 | D14: 0.041666667 | E14: =IF(Tableau8_2025[[#This Row],[Arrivée]]<>"",(Tableau8_2025[[#This Row],[Départ]] - Tableau8_2025[[#This Row],[Arrivée]]) - Tableau8_2025[[#This Row],[Pause]],0) -> 0.33680556 | F14: =IF(Tableau8_2025[[#This Row],[Temps travail]]>TempsTravail,Tableau8_2025[[#This Row],[Temps travail]]-TempsTravail,0) -> 0.045138889 | G14: =IF(Tableau8_2025[[#This Row],[Temps travail]]>TempsTravail,Tableau8_2025[[#This Row],[Temps travail]]*24-TempsTravail*24,0) -> 1.0833333 | H14: =WEEKNUM(A14,2) -> 33 | J14: Avril | K14: =IF(ISBLANK(L14), "", IF(L14<0, "-" & TEXT(ABS(L14)/24, "h:mm"), TEXT(L14/24, "h:mm"))) -> 5:04 | L14: ='04-2025'!L9 -> 5.0666667 | N14: Année | O14: Mois | P14: Delta Mensuel (h) | Q14: Delta Mensuel (d)
A15: 45883 | B15: 0.35694444 | C15: 0.77083333 | D15: 0.041666667 | E15: =IF(Tableau8_2025[[#This Row],[Arrivée]]<>"",(Tableau8_2025[[#This Row],[Départ]] - Tableau8_2025[[#This Row],[Arrivée]]) - Tableau8_2025[[#This Row],[Pause]],0) -> 0.37222222 | F15: =IF(Tableau8_2025[[#This Row],[Temps travail]]>TempsTravail,Tableau8_2025[[#This Row],[Temps travail]]-TempsTravail,0) -> 0.080555556 | G15: =IF(Tableau8_2025[[#This Row],[Temps travail]]>TempsTravail,Tableau8_2025[[#This Row],[Temps travail]]*24-TempsTravail*24,0) -> 1.9333333 | H15: =WEEKNUM(A15,2) -> 33 | J15: Mai | K15: =IF(ISBLANK(L15), "", IF(L15<0, "-" & TEXT(ABS(L15)/24, "h:mm"), TEXT(L15/24, "h:mm"))) -> 6:39 | L15: ='05-2025'!L9 -> 6.65 | N15: 2025 | O15: avril | P15: 0.21111111 | Q15: 5.0666667
A16: 45884 | B16: 0.33333333 | C16: 0.58333333 | D16: 0.041666667 | E16: =IF(Tableau8_2025[[#This Row],[Arrivée]]<>"",(Tableau8_2025[[#This Row],[Départ]] - Tableau8_2025[[#This Row],[Arrivée]]) - Tableau8_2025[[#This Row],[Pause]],0) -> 0.20833333 | F16: =IF(Tableau8_2025[[#This Row],[Temps travail]]>TempsTravail,Tableau8_2025[[#This Row],[Temps travail]]-TempsTravail,0) -> 0 | G16: =IF(Tableau8_2025[[#This Row],[Temps travail]]>TempsTravail,Tableau8_2025[[#This Row],[Temps travail]]*24-TempsTravail*24,0) -> 0 | H16: =WEEKNUM(A16,2) -> 33 | J16: Juin | K16: =IF(ISBLANK(L16), "", IF(L16<0, "-" & TEXT(ABS(L16)/24, "h:mm"), TEXT(L16/24, "h:mm"))) -> 8:01 | L16: ='06-2025'!L9 -> 8.0166667 | O16: mai | P16: 0.27708333 | Q16: 6.65
A17: 45885 | D17: 0.041666667 | E17: =IF(Tableau8_2025[[#This Row],[Arrivée]]<>"",(Tableau8_2025[[#This Row],[Départ]] - Tableau8_2025[[#This Row],[Arrivée]]) - Tableau8_2025[[#This Row],[Pause]],0) -> 0 | F17: =IF(Tableau8_2025[[#This Row],[Temps travail]]>TempsTravail,Tableau8_2025[[#This Row],[Temps travail]]-TempsTravail,0) -> 0 | G17: =IF(Tableau8_2025[[#This Row],[Temps travail]]>TempsTravail,Tableau8_2025[[#This Row],[Temps travail]]*24-TempsTravail*24,0) -> 0 | H17: =WEEKNUM(A17,2) -> 33 | J17: Juillet | K17: =IF(ISBLANK(L17), "", IF(L17<0, "-" & TEXT(ABS(L17)/24, "h:mm"), TEXT(L17/24, "h:mm"))) -> 16:23 | L17: ='07-2025'!L8 -> 16.383333 | O17: juin | P17: 0.33402778 | Q17: 8.0166667
A18: 45886 | D18: 0.041666667 | E18: =IF(Tableau8_2025[[#This Row],[Arrivée]]<>"",(Tableau8_2025[[#This Row],[Départ]] - Tableau8_2025[[#This Row],[Arrivée]]) - Tableau8_2025[[#This Row],[Pause]],0) -> 0 | F18: =IF(Tableau8_2025[[#This Row],[Temps travail]]>TempsTravail,Tableau8_2025[[#This Row],[Temps travail]]-TempsTravail,0) -> 0 | G18: =IF(Tableau8_2025[[#This Row],[Temps travail]]>TempsTravail,Tableau8_2025[[#This Row],[Temps travail]]*24-TempsTravail*24,0) -> 0 | H18: =WEEKNUM(A18,2) -> 33 | J18: Aout | K18: =IF(ISBLANK(L18), "", IF(L18<0, "-" & TEXT(ABS(L18)/24, "h:mm"), TEXT(L18/24, "h:mm"))) -> 15:08 | L18: ='08-2025'!L9 -> 15.133333 | O18: juillet | P18: 0.68263889 | Q18: 16.383333
A19: 45887 | B19: 0.34027778 | C19: 0.72222222 | D19: 0.041666667 | E19: =IF(Tableau8_2025[[#This Row],[Arrivée]]<>"",(Tableau8_2025[[#This Row],[Départ]] - Tableau8_2025[[#This Row],[Arrivée]]) - Tableau8_2025[[#This Row],[Pause]],0) -> 0.34027778 | F19: =IF(Tableau8_2025[[#This Row],[Temps travail]]>TempsTravail,Tableau8_2025[[#This Row],[Temps travail]]-TempsTravail,0) -> 0.048611111 | G19: =IF(Tableau8_2025[[#This Row],[Temps travail]]>TempsTravail,Tableau8_2025[[#This Row],[Temps travail]]*24-TempsTravail*24,0) -> 1.1666667 | H19: =WEEKNUM(A19,2) -> 34 | J19: Septembre | K19: =IF(ISBLANK(L19), "", IF(L19<0, "-" & TEXT(ABS(L19)/24, "h:mm"), TEXT(L19/24, "h:mm"))) -> 13:21 | L19: ='09-2025'!L9 -> 13.35 | O19: août | P19: 0.63055556 | Q19: 15.133333
A20: 45888 | B20: 0.33541667 | C20: 0.71180556 | D20: 0.041666667 | E20: =IF(Tableau8_2025[[#This Row],[Arrivée]]<>"",(Tableau8_2025[[#This Row],[Départ]] - Tableau8_2025[[#This Row],[Arrivée]]) - Tableau8_2025[[#This Row],[Pause]],0) -> 0.33472222 | F20: =IF(Tableau8_2025[[#This Row],[Temps travail]]>TempsTravail,Tableau8_2025[[#This Row],[Temps travail]]-TempsTravail,0) -> 0.043055556 | G20: =IF(Tableau8_2025[[#This Row],[Temps travail]]>TempsTravail,Tableau8_2025[[#This Row],[Temps travail]]*24-TempsTravail*24,0) -> 1.0333333 | H20: =WEEKNUM(A20,2) -> 34 | J20: Octobre | K20: =IF(ISBLANK(L20), "", IF(L20<0, "-" & TEXT(ABS(L20)/24, "h:mm"), TEXT(L20/24, "h:mm"))) -> 19:54 | L20: ='10-2025'!L9 -> 19.9 | O20: septembre | P20: 0.55625 | Q20: 13.35
A21: 45889 | B21: 0.33263889 | C21: 0.71597222 | D21: 0.041666667 | E21: =IF(Tableau8_2025[[#This Row],[Arrivée]]<>"",(Tableau8_2025[[#This Row],[Départ]] - Tableau8_2025[[#This Row],[Arrivée]]) - Tableau8_2025[[#This Row],[Pause]],0) -> 0.34166667 | F21: =IF(Tableau8_2025[[#This Row],[Temps travail]]>TempsTravail,Tableau8_2025[[#This Row],[Temps travail]]-TempsTravail,0) -> 0.05 | G21: =IF(Tableau8_2025[[#This Row],[Temps travail]]>TempsTravail,Tableau8_2025[[#This Row],[Temps travail]]*24-TempsTravail*24,0) -> 1.2 | H21: =WEEKNUM(A21,2) -> 34 | J21: Novembre | K21: =IF(ISBLANK(L21), "", IF(L21<0, "-" & TEXT(ABS(L21)/24, "h:mm"), TEXT(L21/24, "h:mm"))) -> 10:32 | L21: ='11-2025'!L9 -> 10.533333 | O21: octobre | P21: 0.82916667 | Q21: 19.9
A22: 45890 | B22: 0.33819444 | C22: 0.69583333 | D22: 0.041666667 | E22: =IF(Tableau8_2025[[#This Row],[Arrivée]]<>"",(Tableau8_2025[[#This Row],[Départ]] - Tableau8_2025[[#This Row],[Arrivée]]) - Tableau8_2025[[#This Row],[Pause]],0) -> 0.31597222 | F22: =IF(Tableau8_2025[[#This Row],[Temps travail]]>TempsTravail,Tableau8_2025[[#This Row],[Temps travail]]-TempsTravail,0) -> 0.024305556 | G22: =IF(Tableau8_2025[[#This Row],[Temps travail]]>TempsTravail,Tableau8_2025[[#This Row],[Temps travail]]*24-TempsTravail*24,0) -> 0.58333333 | H22: =WEEKNUM(A22,2) -> 34 | J22: Decembre | K22: =IF(ISBLANK(L22), "", IF(L22<0, "-" & TEXT(ABS(L22)/24, "h:mm"), TEXT(L22/24, "h:mm"))) -> 8:59 | L22: ='12-2025'!L9 -> 8.9833333 | O22: novembre | P22: 0.43888889 | Q22: 10.533333
A23: 45891 | B23: 0.33194444 | C23: 0.5875 | D23: 0.041666667 | E23: =IF(Tableau8_2025[[#This Row],[Arrivée]]<>"",(Tableau8_2025[[#This Row],[Départ]] - Tableau8_2025[[#This Row],[Arrivée]]) - Tableau8_2025[[#This Row],[Pause]],0) -> 0.21388889 | F23: =IF(Tableau8_2025[[#This Row],[Temps travail]]>TempsTravail,Tableau8_2025[[#This Row],[Temps travail]]-TempsTravail,0) -> 0 | G23: =IF(Tableau8_2025[[#This Row],[Temps travail]]>TempsTravail,Tableau8_2025[[#This Row],[Temps travail]]*24-TempsTravail*24,0) -> 0 | H23: =WEEKNUM(A23,2) -> 34 | O23: décembre | P23: 0.37430556 | Q23: 8.9833333
A24: 45892 | D24: 0.041666667 | E24: =IF(Tableau8_2025[[#This Row],[Arrivée]]<>"",(Tableau8_2025[[#This Row],[Départ]] - Tableau8_2025[[#This Row],[Arrivée]]) - Tableau8_2025[[#This Row],[Pause]],0) -> 0 | F24: =IF(Tableau8_2025[[#This Row],[Temps travail]]>TempsTravail,Tableau8_2025[[#This Row],[Temps travail]]-TempsTravail,0) -> 0 | G24: =IF(Tableau8_2025[[#This Row],[Temps travail]]>TempsTravail,Tableau8_2025[[#This Row],[Temps travail]]*24-TempsTravail*24,0) -> 0 | H24: =WEEKNUM(A24,2) -> 34 | N24: Total 2025 | P24: 4.3340278 | Q24: 104.01667
A25: 45893 | D25: 0.041666667 | E25: =IF(Tableau8_2025[[#This Row],[Arrivée]]<>"",(Tableau8_2025[[#This Row],[Départ]] - Tableau8_2025[[#This Row],[Arrivée]]) - Tableau8_2025[[#This Row],[Pause]],0) -> 0 | F25: =IF(Tableau8_2025[[#This Row],[Temps travail]]>TempsTravail,Tableau8_2025[[#This Row],[Temps travail]]-TempsTravail,0) -> 0 | G25: =IF(Tableau8_2025[[#This Row],[Temps travail]]>TempsTravail,Tableau8_2025[[#This Row],[Temps travail]]*24-TempsTravail*24,0) -> 0 | H25: =WEEKNUM(A25,2) -> 34 | N25: 2026 | O25: janvier | P25: 0.097916667 | Q25: 2.35
A26: 45894 | B26: 0.34027778 | C26: 0.70138889 | D26: 0.041666667 | E26: =IF(Tableau8_2025[[#This Row],[Arrivée]]<>"",(Tableau8_2025[[#This Row],[Départ]] - Tableau8_2025[[#This Row],[Arrivée]]) - Tableau8_2025[[#This Row],[Pause]],0) -> 0.31944444 | F26: =IF(Tableau8_2025[[#This Row],[Temps travail]]>TempsTravail,Tableau8_2025[[#This Row],[Temps travail]]-TempsTravail,0) -> 0.027777778 | G26: =IF(Tableau8_2025[[#This Row],[Temps travail]]>TempsTravail,Tableau8_2025[[#This Row],[Temps travail]]*24-TempsTravail*24,0) -> 0.66666667 | H26: =WEEKNUM(A26,2) -> 35 | O26: février | P26: 0 | Q26: 0
A27: 45895 | B27: 0.3375 | C27: 0.69236111 | D27: 0.041666667 | E27: =IF(Tableau8_2025[[#This Row],[Arrivée]]<>"",(Tableau8_2025[[#This Row],[Départ]] - Tableau8_2025[[#This Row],[Arrivée]]) - Tableau8_2025[[#This Row],[Pause]],0) -> 0.31319444 | F27: =IF(Tableau8_2025[[#This Row],[Temps travail]]>TempsTravail,Tableau8_2025[[#This Row],[Temps travail]]-TempsTravail,0) -> 0.021527778 | G27: =IF(Tableau8_2025[[#This Row],[Temps travail]]>TempsTravail,Tableau8_2025[[#This Row],[Temps travail]]*24-TempsTravail*24,0) -> 0.51666667 | H27: =WEEKNUM(A27,2) -> 35 | N27: Total 2026 | P27: 0.097916667 | Q27: 2.35
A28: 45896 | B28: 0.33819444 | C28: 0.70694444 | D28: 0.041666667 | E28: =IF(Tableau8_2025[[#This Row],[Arrivée]]<>"",(Tableau8_2025[[#This Row],[Départ]] - Tableau8_2025[[#This Row],[Arrivée]]) - Tableau8_2025[[#This Row],[Pause]],0) -> 0.32708333 | F28: =IF(Tableau8_2025[[#This Row],[Temps travail]]>TempsTravail,Tableau8_2025[[#This Row],[Temps travail]]-TempsTravail,0) -> 0.035416667 | G28: =IF(Tableau8_2025[[#This Row],[Temps travail]]>TempsTravail,Tableau8_2025[[#This Row],[Temps travail]]*24-TempsTravail*24,0) -> 0.85 | H28: =WEEKNUM(A28,2) -> 35 | N28: Total général | P28: 4.4319444 | Q28: 106.36667
A29: 45897 | B29: 0.33680556 | C29: 0.68819444 | D29: 0.041666667 | E29: =IF(Tableau8_2025[[#This Row],[Arrivée]]<>"",(Tableau8_2025[[#This Row],[Départ]] - Tableau8_2025[[#This Row],[Arrivée]]) - Tableau8_2025[[#This Row],[Pause]],0) -> 0.30972222 | F29: =IF(Tableau8_2025[[#This Row],[Temps travail]]>TempsTravail,Tableau8_2025[[#This Row],[Temps travail]]-TempsTravail,0) -> 0.018055556 | G29: =IF(Tableau8_2025[[#This Row],[Temps travail]]>TempsTravail,Tableau8_2025[[#This Row],[Temps travail]]*24-TempsTravail*24,0) -> 0.43333333 | H29: =WEEKNUM(A29,2) -> 35
A30: 45898 | B30: 0.35347222 | C30: 0.69027778 | D30: 0.041666667 | E30: =IF(Tableau8_2025[[#This Row],[Arrivée]]<>"",(Tableau8_2025[[#This Row],[Départ]] - Tableau8_2025[[#This Row],[Arrivée]]) - Tableau8_2025[[#This Row],[Pause]],0) -> 0.29513889 | F30: =IF(Tableau8_2025[[#This Row],[Temps travail]]>TempsTravail,Tableau8_2025[[#This Row],[Temps travail]]-TempsTravail,0) -> 0.0034722222 | G30: =IF(Tableau8_2025[[#This Row],[Temps travail]]>TempsTravail,Tableau8_2025[[#This Row],[Temps travail]]*24-TempsTravail*24,0) -> 0.083333333 | H30: =WEEKNUM(A30,2) -> 35
A31: 45899 | D31: 0.041666667 | E31: =IF(Tableau8_2025[[#This Row],[Arrivée]]<>"",(Tableau8_2025[[#This Row],[Départ]] - Tableau8_2025[[#This Row],[Arrivée]]) - Tableau8_2025[[#This Row],[Pause]],0) -> 0 | F31: =IF(Tableau8_2025[[#This Row],[Temps travail]]>TempsTravail,Tableau8_2025[[#This Row],[Temps travail]]-TempsTravail,0) -> 0 | G31: =IF(Tableau8_2025[[#This Row],[Temps travail]]>TempsTravail,Tableau8_2025[[#This Row],[Temps travail]]*24-TempsTravail*24,0) -> 0 | H31: =WEEKNUM(A31,2) -> 35
A32: 45900 | D32: 0.041666667 | E32: =IF(Tableau8_2025[[#This Row],[Arrivée]]<>"",(Tableau8_2025[[#This Row],[Départ]] - Tableau8_2025[[#This Row],[Arrivée]]) - Tableau8_2025[[#This Row],[Pause]],0) -> 0 | F32: =IF(Tableau8_2025[[#This Row],[Temps travail]]>TempsTravail,Tableau8_2025[[#This Row],[Temps travail]]-TempsTravail,0) -> 0 | G32: =IF(Tableau8_2025[[#This Row],[Temps travail]]>TempsTravail,Tableau8_2025[[#This Row],[Temps travail]]*24-TempsTravail*24,0) -> 0 | H32: =WEEKNUM(A32,2) -> 35

Sheet 09-2025
A1: Date | B1: Arrivée | C1: Départ | D1: Pause | E1: Temps travail | F1: Delta (h) | G1: Delta (d) | H1: Semaine | N1: Année | O1: 2025
A2: 45901 | B2: 0.34444444 | C2: 0.71597222 | D2: 0.041666667 | E2: =IF(Tableau9_2025[[#This Row],[Arrivée]]<>"",(Tableau9_2025[[#This Row],[Départ]] - Tableau9_2025[[#This Row],[Arrivée]]) - Tableau9_2025[[#This Row],[Pause]],0) -> 0.32986111 | F2: =IF(Tableau9_2025[[#This Row],[Temps travail]]>TempsTravail,Tableau9_2025[[#This Row],[Temps travail]]-TempsTravail,0) -> 0.038194444 | G2: =IF(Tableau9_2025[[#This Row],[Temps travail]]>TempsTravail,Tableau9_2025[[#This Row],[Temps travail]]*24-TempsTravail*24,0) -> 0.91666667 | H2: =WEEKNUM(A2,2) -> 36 | J2: Semaine | K2: Delta total (h) | N2: Mois | O2: septembre
A3: 45902 | B3: 0.34444444 | C3: 0.68611111 | D3: 0.041666667 | E3: =IF(Tableau9_2025[[#This Row],[Arrivée]]<>"",(Tableau9_2025[[#This Row],[Départ]] - Tableau9_2025[[#This Row],[Arrivée]]) - Tableau9_2025[[#This Row],[Pause]],0) -> 0.3 | F3: =IF(Tableau9_2025[[#This Row],[Temps travail]]>TempsTravail,Tableau9_2025[[#This Row],[Temps travail]]-TempsTravail,0) -> 0.0083333333 | G3: =IF(Tableau9_2025[[#This Row],[Temps travail]]>TempsTravail,Tableau9_2025[[#This Row],[Temps travail]]*24-TempsTravail*24,0) -> 0.2 | H3: =WEEKNUM(A3,2) -> 36 | J3: 36 | K3: =IF(ISBLANK(L3), "", IF(L3<0, "-" & TEXT(ABS(L3)/24, "h:mm"), TEXT(L3/24, "h:mm"))) -> 2:48 | L3: =SUMIF(H:H, J3, G:G) -> 2.8
A4: 45903 | B4: 0.33472222 | C4: 0.71319444 | D4: 0.041666667 | E4: =IF(Tableau9_2025[[#This Row],[Arrivée]]<>"",(Tableau9_2025[[#This Row],[Départ]] - Tableau9_2025[[#This Row],[Arrivée]]) - Tableau9_2025[[#This Row],[Pause]],0) -> 0.33680556 | F4: =IF(Tableau9_2025[[#This Row],[Temps travail]]>TempsTravail,Tableau9_2025[[#This Row],[Temps travail]]-TempsTravail,0) -> 0.045138889 | G4: =IF(Tableau9_2025[[#This Row],[Temps travail]]>TempsTravail,Tableau9_2025[[#This Row],[Temps travail]]*24-TempsTravail*24,0) -> 1.0833333 | H4: =WEEKNUM(A4,2) -> 36 | J4: 37 | K4: =IF(ISBLANK(L4), "", IF(L4<0, "-" & TEXT(ABS(L4)/24, "h:mm"), TEXT(L4/24, "h:mm"))) -> 3:15 | L4: =SUMIF(H:H, J4, G:G) -> 3.25 | N4: Semaine | O4: Delta Hebdo. (h) | P4: DeltaHebdo. (d)
A5: 45904 | B5: 0.34375 | C5: 0.70208333 | D5: 0.041666667 | E5: =IF(Tableau9_2025[[#This Row],[Arrivée]]<>"",(Tableau9_2025[[#This Row],[Départ]] - Tableau9_2025[[#This Row],[Arrivée]]) - Tableau9_2025[[#This Row],[Pause]],0) -> 0.31666667 | F5: =IF(Tableau9_2025[[#This Row],[Temps travail]]>TempsTravail,Tableau9_2025[[#This Row],[Temps travail]]-TempsTravail,0) -> 0.025 | G5: =IF(Tableau9_2025[[#This Row],[Temps travail]]>TempsTravail,Tableau9_2025[[#This Row],[Temps travail]]*24-TempsTravail*24,0) -> 0.6 | H5: =WEEKNUM(A5,2) -> 36 | J5: 38 | K5: =IF(ISBLANK(L5), "", IF(L5<0, "-" & TEXT(ABS(L5)/24, "h:mm"), TEXT(L5/24, "h:mm"))) -> 3:57 | L5: =SUMIF(H:H, J5, G:G) -> 3.95 | N5: 36 | O5: 0.11666667 | P5: 2.8
A6: 45905 | B6: 0.34305556 | C6: 0.62847222 | D6: 0.041666667 | E6: =IF(Tableau9_2025[[#This Row],[Arrivée]]<>"",(Tableau9_2025[[#This Row],[Départ]] - Tableau9_2025[[#This Row],[Arrivée]]) - Tableau9_2025[[#This Row],[Pause]],0) -> 0.24375 | F6: =IF(Tableau9_2025[[#This Row],[Temps travail]]>TempsTravail,Tableau9_2025[[#This Row],[Temps travail]]-TempsTravail,0) -> 0 | G6: =IF(Tableau9_2025[[#This Row],[Temps travail]]>TempsTravail,Tableau9_2025[[#This Row],[Temps travail]]*24-TempsTravail*24,0) -> 0 | H6: =WEEKNUM(A6,2) -> 36 | J6: 39 | K6: =IF(ISBLANK(L6), "", IF(L6<0, "-" & TEXT(ABS(L6)/24, "h:mm"), TEXT(L6/24, "h:mm"))) -> 2:41 | L6: =SUMIF(H:H, J6, G:G) -> 2.6833333 | N6: 37 | O6: 0.13541667 | P6: 3.25
A7: 45906 | D7: 0.041666667 | E7: =IF(Tableau9_2025[[#This Row],[Arrivée]]<>"",(Tableau9_2025[[#This Row],[Départ]] - Tableau9_2025[[#This Row],[Arrivée]]) - Tableau9_2025[[#This Row],[Pause]],0) -> 0 | F7: =IF(Tableau9_2025[[#This Row],[Temps travail]]>TempsTravail,Tableau9_2025[[#This Row],[Temps travail]]-TempsTravail,0) -> 0 | G7: =IF(Tableau9_2025[[#This Row],[Temps travail]]>TempsTravail,Tableau9_2025[[#This Row],[Temps travail]]*24-TempsTravail*24,0) -> 0 | H7: =WEEKNUM(A7,2) -> 36 | J7: 40 | K7: =IF(ISBLANK(L7), "", IF(L7<0, "-" & TEXT(ABS(L7)/24, "h:mm"), TEXT(L7/24, "h:mm"))) -> 0:40 | L7: =SUMIF(H:H, J7, G:G) -> 0.66666667 | N7: 38 | O7: 0.16458333 | P7: 3.95
A8: 45907 | D8: 0.041666667 | E8: =IF(Tableau9_2025[[#This Row],[Arrivée]]<>"",(Tableau9_2025[[#This Row],[Départ]] - Tableau9_2025[[#This Row],[Arrivée]]) - Tableau9_2025[[#This Row],[Pause]],0) -> 0 | F8: =IF(Tableau9_2025[[#This Row],[Temps travail]]>TempsTravail,Tableau9_2025[[#This Row],[Temps travail]]-TempsTravail,0) -> 0 | G8: =IF(Tableau9_2025[[#This Row],[Temps travail]]>TempsTravail,Tableau9_2025[[#This Row],[Temps travail]]*24-TempsTravail*24,0) -> 0 | H8: =WEEKNUM(A8,2) -> 36 | K8: =IF(ISBLANK(L8), "", IF(L8<0, "-" & TEXT(ABS(L8)/24, "h:mm"), TEXT(L8/24, "h:mm"))) | N8: 39 | O8: 0.11180556 | P8: 2.6833333
A9: 45908 | B9: 0.33541667 | C9: 0.69305556 | D9: 0.041666667 | E9: =IF(Tableau9_2025[[#This Row],[Arrivée]]<>"",(Tableau9_2025[[#This Row],[Départ]] - Tableau9_2025[[#This Row],[Arrivée]]) - Tableau9_2025[[#This Row],[Pause]],0) -> 0.31597222 | F9: =IF(Tableau9_2025[[#This Row],[Temps travail]]>TempsTravail,Tableau9_2025[[#This Row],[Temps travail]]-TempsTravail,0) -> 0.024305556 | G9: =IF(Tableau9_2025[[#This Row],[Temps travail]]>TempsTravail,Tableau9_2025[[#This Row],[Temps travail]]*24-TempsTravail*24,0) -> 0.58333333 | H9: =WEEKNUM(A9,2) -> 37 | J9: Total mois | K9: =IF(ISBLANK(L9), "", IF(L9<0, "-" & TEXT(ABS(L9)/24, "h:mm"), TEXT(L9/24, "h:mm"))) -> 13:21 | L9: =SUM(L3:L7) -> 13.35 | N9: 40 | O9: 0.027777778 | P9: 0.66666667
A10: 45909 | B10: 0.33333333 | C10: 0.69444444 | D10: 0.041666667 | E10: =IF(Tableau9_2025[[#This Row],[Arrivée]]<>"",(Tableau9_2025[[#This Row],[Départ]] - Tableau9_2025[[#This Row],[Arrivée]]) - Tableau9_2025[[#This Row],[Pause]],0) -> 0.31944444 | F10: =IF(Tableau9_2025[[#This Row],[Temps travail]]>TempsTravail,Tableau9_2025[[#This Row],[Temps travail]]-TempsTravail,0) -> 0.027777778 | G10: =IF(Tableau9_2025[[#This Row],[Temps travail]]>TempsTravail,Tableau9_2025[[#This Row],[Temps travail]]*24-TempsTravail*24,0) -> 0.66666667 | H10: =WEEKNUM(A10,2) -> 37 | J10: Total année | K10: =IF(ISBLANK(L10), "", IF(L10<0, "-" & TEXT(ABS(L10)/24, "[h]:mm"), TEXT(L10/24, "[h]:mm"))) -> 104:01 | L10: =SUM(L14:L22) -> 104.01667 | N10: Total général | O10: 0.55625 | P10: 13.35
A11: 45910 | B11: 0.32361111 | C11: 0.69305556 | D11: 0.041666667 | E11: =IF(Tableau9_2025[[#This Row],[Arrivée]]<>"",(Tableau9_2025[[#This Row],[Départ]] - Tableau9_2025[[#This Row],[Arrivée]]) - Tableau9_2025[[#This Row],[Pause]],0) -> 0.32777778 | F11: =IF(Tableau9_2025[[#This Row],[Temps travail]]>TempsTravail,Tableau9_2025[[#This Row],[Temps travail]]-TempsTravail,0) -> 0.036111111 | G11: =IF(Tableau9_2025[[#This Row],[Temps travail]]>TempsTravail,Tableau9_2025[[#This Row],[Temps travail]]*24-TempsTravail*24,0) -> 0.86666667 | H11: =WEEKNUM(A11,2) -> 37
A12: 45911 | B12: 0.33263889 | C12: 0.71319444 | D12: 0.041666667 | E12: =IF(Tableau9_2025[[#This Row],[Arrivée]]<>"",(Tableau9_2025[[#This Row],[Départ]] - Tableau9_2025[[#This Row],[Arrivée]]) - Tableau9_2025[[#This Row],[Pause]],0) -> 0.33888889 | F12: =IF(Tableau9_2025[[#This Row],[Temps travail]]>TempsTravail,Tableau9_2025[[#This Row],[Temps travail]]-TempsTravail,0) -> 0.047222222 | G12: =IF(Tableau9_2025[[#This Row],[Temps travail]]>TempsTravail,Tableau9_2025[[#This Row],[Temps travail]]*24-TempsTravail*24,0) -> 1.1333333 | H12: =WEEKNUM(A12,2) -> 37
A13: 45912 | B13: 0.33055556 | C13: 0.58333333 | D13: 0.041666667 | E13: =IF(Tableau9_2025[[#This Row],[Arrivée]]<>"",(Tableau9_2025[[#This Row],[Départ]] - Tableau9_2025[[#This Row],[Arrivée]]) - Tableau9_2025[[#This Row],[Pause]],0) -> 0.21111111 | F13: =IF(Tableau9_2025[[#This Row],[Temps travail]]>TempsTravail,Tableau9_2025[[#This Row],[Temps travail]]-TempsTravail,0) -> 0 | G13: =IF(Tableau9_2025[[#This Row],[Temps travail]]>TempsTravail,Tableau9_2025[[#This Row],[Temps travail]]*24-TempsTravail*24,0) -> 0 | H13: =WEEKNUM(A13,2) -> 37
A14: 45913 | D14: 0.041666667 | E14: =IF(Tableau9_2025[[#This Row],[Arrivée]]<>"",(Tableau9_2025[[#This Row],[Départ]] - Tableau9_2025[[#This Row],[Arrivée]]) - Tableau9_2025[[#This Row],[Pause]],0) -> 0 | F14: =IF(Tableau9_2025[[#This Row],[Temps travail]]>TempsTravail,Tableau9_2025[[#This Row],[Temps travail]]-TempsTravail,0) -> 0 | G14: =IF(Tableau9_2025[[#This Row],[Temps travail]]>TempsTravail,Tableau9_2025[[#This Row],[Temps travail]]*24-TempsTravail*24,0) -> 0 | H14: =WEEKNUM(A14,2) -> 37 | J14: Avril | K14: =IF(ISBLANK(L14), "", IF(L14<0, "-" & TEXT(ABS(L14)/24, "h:mm"), TEXT(L14/24, "h:mm"))) -> 5:04 | L14: ='04-2025'!L9 -> 5.0666667 | N14: Année | O14: Mois | P14: Delta Mensuel (h) | Q14: Delta Mensuel (d)
A15: 45914 | D15: 0.041666667 | E15: =IF(Tableau9_2025[[#This Row],[Arrivée]]<>"",(Tableau9_2025[[#This Row],[Départ]] - Tableau9_2025[[#This Row],[Arrivée]]) - Tableau9_2025[[#This Row],[Pause]],0) -> 0 | F15: =IF(Tableau9_2025[[#This Row],[Temps travail]]>TempsTravail,Tableau9_2025[[#This Row],[Temps travail]]-TempsTravail,0) -> 0 | G15: =IF(Tableau9_2025[[#This Row],[Temps travail]]>TempsTravail,Tableau9_2025[[#This Row],[Temps travail]]*24-TempsTravail*24,0) -> 0 | H15: =WEEKNUM(A15,2) -> 37 | J15: Mai | K15: =IF(ISBLANK(L15), "", IF(L15<0, "-" & TEXT(ABS(L15)/24, "h:mm"), TEXT(L15/24, "h:mm"))) -> 6:39 | L15: ='05-2025'!L9 -> 6.65 | N15: 2025 | O15: avril | P15: 0.21111111 | Q15: 5.0666667
A16: 45915 | B16: 0.3375 | C16: 0.70486111 | D16: 0.041666667 | E16: =IF(Tableau9_2025[[#This Row],[Arrivée]]<>"",(Tableau9_2025[[#This Row],[Départ]] - Tableau9_2025[[#This Row],[Arrivée]]) - Tableau9_2025[[#This Row],[Pause]],0) -> 0.32569444 | F16: =IF(Tableau9_2025[[#This Row],[Temps travail]]>TempsTravail,Tableau9_2025[[#This Row],[Temps travail]]-TempsTravail,0) -> 0.034027778 | G16: =IF(Tableau9_2025[[#This Row],[Temps travail]]>TempsTravail,Tableau9_2025[[#This Row],[Temps travail]]*24-TempsTravail*24,0) -> 0.81666667 | H16: =WEEKNUM(A16,2) -> 38 | J16: Juin | K16: =IF(ISBLANK(L16), "", IF(L16<0, "-" & TEXT(ABS(L16)/24, "h:mm"), TEXT(L16/24, "h:mm"))) -> 8:01 | L16: ='06-2025'!L9 -> 8.0166667 | O16: mai | P16: 0.27708333 | Q16: 6.65
A17: 45916 | B17: 0.33680556 | C17: 0.70972222 | D17: 0.041666667 | E17: =IF(Tableau9_2025[[#This Row],[Arrivée]]<>"",(Tableau9_2025[[#This Row],[Départ]] - Tableau9_2025[[#This Row],[Arrivée]]) - Tableau9_2025[[#This Row],[Pause]],0) -> 0.33125 | F17: =IF(Tableau9_2025[[#This Row],[Temps travail]]>TempsTravail,Tableau9_2025[[#This Row],[Temps travail]]-TempsTravail,0) -> 0.039583333 | G17: =IF(Tableau9_2025[[#This Row],[Temps travail]]>TempsTravail,Tableau9_2025[[#This Row],[Temps travail]]*24-TempsTravail*24,0) -> 0.95 | H17: =WEEKNUM(A17,2) -> 38 | J17: Juillet | K17: =IF(ISBLANK(L17), "", IF(L17<0, "-" & TEXT(ABS(L17)/24, "h:mm"), TEXT(L17/24, "h:mm"))) -> 16:23 | L17: ='07-2025'!L8 -> 16.383333 | O17: juin | P17: 0.33402778 | Q17: 8.0166667
A18: 45917 | B18: 0.33958333 | C18: 0.68611111 | D18: 0.041666667 | E18: =IF(Tableau9_2025[[#This Row],[Arrivée]]<>"",(Tableau9_2025[[#This Row],[Départ]] - Tableau9_2025[[#This Row],[Arrivée]]) - Tableau9_2025[[#This Row],[Pause]],0) -> 0.30486111 | F18: =IF(Tableau9_2025[[#This Row],[Temps travail]]>TempsTravail,Tableau9_2025[[#This Row],[Temps travail]]-TempsTravail,0) -> 0.013194444 | G18: =IF(Tableau9_2025[[#This Row],[Temps travail]]>TempsTravail,Tableau9_2025[[#This Row],[Temps travail]]*24-TempsTravail*24,0) -> 0.31666667 | H18: =WEEKNUM(A18,2) -> 38 | J18: Aout | K18: =IF(ISBLANK(L18), "", IF(L18<0, "-" & TEXT(ABS(L18)/24, "h:mm"), TEXT(L18/24, "h:mm"))) -> 15:08 | L18: ='08-2025'!L9 -> 15.133333 | O18: juillet | P18: 0.68263889 | Q18: 16.383333
A19: 45918 | B19: 0.33541667 | C19: 0.74652778 | D19: 0.041666667 | E19: =IF(Tableau9_2025[[#This Row],[Arrivée]]<>"",(Tableau9_2025[[#This Row],[Départ]] - Tableau9_2025[[#This Row],[Arrivée]]) - Tableau9_2025[[#This Row],[Pause]],0) -> 0.36944444 | F19: =IF(Tableau9_2025[[#This Row],[Temps travail]]>TempsTravail,Tableau9_2025[[#This Row],[Temps travail]]-TempsTravail,0) -> 0.077777778 | G19: =IF(Tableau9_2025[[#This Row],[Temps travail]]>TempsTravail,Tableau9_2025[[#This Row],[Temps travail]]*24-TempsTravail*24,0) -> 1.8666667 | H19: =WEEKNUM(A19,2) -> 38 | J19: Septembre | K19: =IF(ISBLANK(L19), "", IF(L19<0, "-" & TEXT(ABS(L19)/24, "h:mm"), TEXT(L19/24, "h:mm"))) -> 13:21 | L19: ='09-2025'!L9 -> 13.35 | O19: août | P19: 0.63055556 | Q19: 15.133333
A20: 45919 | B20: 0.32083333 | C20: 0.575 | D20: 0.041666667 | E20: =IF(Tableau9_2025[[#This Row],[Arrivée]]<>"",(Tableau9_2025[[#This Row],[Départ]] - Tableau9_2025[[#This Row],[Arrivée]]) - Tableau9_2025[[#This Row],[Pause]],0) -> 0.2125 | F20: =IF(Tableau9_2025[[#This Row],[Temps travail]]>TempsTravail,Tableau9_2025[[#This Row],[Temps travail]]-TempsTravail,0) -> 0 | G20: =IF(Tableau9_2025[[#This Row],[Temps travail]]>TempsTravail,Tableau9_2025[[#This Row],[Temps travail]]*24-TempsTravail*24,0) -> 0 | H20: =WEEKNUM(A20,2) -> 38 | J20: Octobre | K20: =IF(ISBLANK(L20), "", IF(L20<0, "-" & TEXT(ABS(L20)/24, "h:mm"), TEXT(L20/24, "h:mm"))) -> 19:54 | L20: ='10-2025'!L9 -> 19.9 | O20: septembre | P20: 0.55625 | Q20: 13.35
A21: 45920 | D21: 0.041666667 | E21: =IF(Tableau9_2025[[#This Row],[Arrivée]]<>"",(Tableau9_2025[[#This Row],[Départ]] - Tableau9_2025[[#This Row],[Arrivée]]) - Tableau9_2025[[#This Row],[Pause]],0) -> 0 | F21: =IF(Tableau9_2025[[#This Row],[Temps travail]]>TempsTravail,Tableau9_2025[[#This Row],[Temps travail]]-TempsTravail,0) -> 0 | G21: =IF(Tableau9_2025[[#This Row],[Temps travail]]>TempsTravail,Tableau9_2025[[#This Row],[Temps travail]]*24-TempsTravail*24,0) -> 0 | H21: =WEEKNUM(A21,2) -> 38 | J21: Novembre | K21: =IF(ISBLANK(L21), "", IF(L21<0, "-" & TEXT(ABS(L21)/24, "h:mm"), TEXT(L21/24, "h:mm"))) -> 10:32 | L21: ='11-2025'!L9 -> 10.533333 | O21: octobre | P21: 0.82916667 | Q21: 19.9
A22: 45921 | D22: 0.041666667 | E22: =IF(Tableau9_2025[[#This Row],[Arrivée]]<>"",(Tableau9_2025[[#This Row],[Départ]] - Tableau9_2025[[#This Row],[Arrivée]]) - Tableau9_2025[[#This Row],[Pause]],0) -> 0 | F22: =IF(Tableau9_2025[[#This Row],[Temps travail]]>TempsTravail,Tableau9_2025[[#This Row],[Temps travail]]-TempsTravail,0) -> 0 | G22: =IF(Tableau9_2025[[#This Row],[Temps travail]]>TempsTravail,Tableau9_2025[[#This Row],[Temps travail]]*24-TempsTravail*24,0) -> 0 | H22: =WEEKNUM(A22,2) -> 38 | J22: Decembre | K22: =IF(ISBLANK(L22), "", IF(L22<0, "-" & TEXT(ABS(L22)/24, "h:mm"), TEXT(L22/24, "h:mm"))) -> 8:59 | L22: ='12-2025'!L9 -> 8.9833333 | O22: novembre | P22: 0.43888889 | Q22: 10.533333
A23: 45922 | B23: 0.33611111 | C23: 0.69930556 | D23: 0.041666667 | E23: =IF(Tableau9_2025[[#This Row],[Arrivée]]<>"",(Tableau9_2025[[#This Row],[Départ]] - Tableau9_2025[[#This Row],[Arrivée]]) - Tableau9_2025[[#This Row],[Pause]],0) -> 0.32152778 | F23: =IF(Tableau9_2025[[#This Row],[Temps travail]]>TempsTravail,Tableau9_2025[[#This Row],[Temps travail]]-TempsTravail,0) -> 0.029861111 | G23: =IF(Tableau9_2025[[#This Row],[Temps travail]]>TempsTravail,Tableau9_2025[[#This Row],[Temps travail]]*24-TempsTravail*24,0) -> 0.71666667 | H23: =WEEKNUM(A23,2) -> 39 | O23: décembre | P23: 0.37430556 | Q23: 8.9833333
A24: 45923 | B24: 0.33263889 | C24: 0.69097222 | D24: 0.041666667 | E24: =IF(Tableau9_2025[[#This Row],[Arrivée]]<>"",(Tableau9_2025[[#This Row],[Départ]] - Tableau9_2025[[#This Row],[Arrivée]]) - Tableau9_2025[[#This Row],[Pause]],0) -> 0.31666667 | F24: =IF(Tableau9_2025[[#This Row],[Temps travail]]>TempsTravail,Tableau9_2025[[#This Row],[Temps travail]]-TempsTravail,0) -> 0.025 | G24: =IF(Tableau9_2025[[#This Row],[Temps travail]]>TempsTravail,Tableau9_2025[[#This Row],[Temps travail]]*24-TempsTravail*24,0) -> 0.6 | H24: =WEEKNUM(A24,2) -> 39 | N24: Total 2025 | P24: 4.3340278 | Q24: 104.01667
A25: 45924 | B25: 0.33888889 | C25: 0.70208333 | D25: 0.041666667 | E25: =IF(Tableau9_2025[[#This Row],[Arrivée]]<>"",(Tableau9_2025[[#This Row],[Départ]] - Tableau9_2025[[#This Row],[Arrivée]]) - Tableau9_2025[[#This Row],[Pause]],0) -> 0.32152778 | F25: =IF(Tableau9_2025[[#This Row],[Temps travail]]>TempsTravail,Tableau9_2025[[#This Row],[Temps travail]]-TempsTravail,0) -> 0.029861111 | G25: =IF(Tableau9_2025[[#This Row],[Temps travail]]>TempsTravail,Tableau9_2025[[#This Row],[Temps travail]]*24-TempsTravail*24,0) -> 0.71666667 | H25: =WEEKNUM(A25,2) -> 39 | N25: 2026 | O25: janvier | P25: 0.097916667 | Q25: 2.35
A26: 45925 | B26: 0.33819444 | C26: 0.69861111 | D26: 0.041666667 | E26: =IF(Tableau9_2025[[#This Row],[Arrivée]]<>"",(Tableau9_2025[[#This Row],[Départ]] - Tableau9_2025[[#This Row],[Arrivée]]) - Tableau9_2025[[#This Row],[Pause]],0) -> 0.31875 | F26: =IF(Tableau9_2025[[#This Row],[Temps travail]]>TempsTravail,Tableau9_2025[[#This Row],[Temps travail]]-TempsTravail,0) -> 0.027083333 | G26: =IF(Tableau9_2025[[#This Row],[Temps travail]]>TempsTravail,Tableau9_2025[[#This Row],[Temps travail]]*24-TempsTravail*24,0) -> 0.65 | H26: =WEEKNUM(A26,2) -> 39 | O26: février | P26: 0 | Q26: 0
A27: 45926 | B27: 0.32222222 | C27: 0.57916667 | D27: 0.041666667 | E27: =IF(Tableau9_2025[[#This Row],[Arrivée]]<>"",(Tableau9_2025[[#This Row],[Départ]] - Tableau9_2025[[#This Row],[Arrivée]]) - Tableau9_2025[[#This Row],[Pause]],0) -> 0.21527778 | F27: =IF(Tableau9_2025[[#This Row],[Temps travail]]>TempsTravail,Tableau9_2025[[#This Row],[Temps travail]]-TempsTravail,0) -> 0 | G27: =IF(Tableau9_2025[[#This Row],[Temps travail]]>TempsTravail,Tableau9_2025[[#This Row],[Temps travail]]*24-TempsTravail*24,0) -> 0 | H27: =WEEKNUM(A27,2) -> 39 | N27: Total 2026 | P27: 0.097916667 | Q27: 2.35
A28: 45927 | D28: 0.041666667 | E28: =IF(Tableau9_2025[[#This Row],[Arrivée]]<>"",(Tableau9_2025[[#This Row],[Départ]] - Tableau9_2025[[#This Row],[Arrivée]]) - Tableau9_2025[[#This Row],[Pause]],0) -> 0 | F28: =IF(Tableau9_2025[[#This Row],[Temps travail]]>TempsTravail,Tableau9_2025[[#This Row],[Temps travail]]-TempsTravail,0) -> 0 | G28: =IF(Tableau9_2025[[#This Row],[Temps travail]]>TempsTravail,Tableau9_2025[[#This Row],[Temps travail]]*24-TempsTravail*24,0) -> 0 | H28: =WEEKNUM(A28,2) -> 39 | N28: Total général | P28: 4.4319444 | Q28: 106.36667
A29: 45928 | D29: 0.041666667 | E29: =IF(Tableau9_2025[[#This Row],[Arrivée]]<>"",(Tableau9_2025[[#This Row],[Départ]] - Tableau9_2025[[#This Row],[Arrivée]]) - Tableau9_2025[[#This Row],[Pause]],0) -> 0 | F29: =IF(Tableau9_2025[[#This Row],[Temps travail]]>TempsTravail,Tableau9_2025[[#This Row],[Temps travail]]-TempsTravail,0) -> 0 | G29: =IF(Tableau9_2025[[#This Row],[Temps travail]]>TempsTravail,Tableau9_2025[[#This Row],[Temps travail]]*24-TempsTravail*24,0) -> 0 | H29: =WEEKNUM(A29,2) -> 39
A30: 45929 | B30: 0.34166667 | C30: 0.70277778 | D30: 0.041666667 | E30: =IF(Tableau9_2025[[#This Row],[Arrivée]]<>"",(Tableau9_2025[[#This Row],[Départ]] - Tableau9_2025[[#This Row],[Arrivée]]) - Tableau9_2025[[#This Row],[Pause]],0) -> 0.31944444 | F30: =IF(Tableau9_2025[[#This Row],[Temps travail]]>TempsTravail,Tableau9_2025[[#This Row],[Temps travail]]-TempsTravail,0) -> 0.027777778 | G30: =IF(Tableau9_2025[[#This Row],[Temps travail]]>TempsTravail,Tableau9_2025[[#This Row],[Temps travail]]*24-TempsTravail*24,0) -> 0.66666667 | H30: =WEEKNUM(A30,2) -> 40
A31: 45930 | B31: 0.33333333 | C31: 0.66666667 | D31: 0.041666667 | E31: =IF(Tableau9_2025[[#This Row],[Arrivée]]<>"",(Tableau9_2025[[#This Row],[Départ]] - Tableau9_2025[[#This Row],[Arrivée]]) - Tableau9_2025[[#This Row],[Pause]],0) -> 0.29166667 | F31: =IF(Tableau9_2025[[#This Row],[Temps travail]]>TempsTravail,Tableau9_2025[[#This Row],[Temps travail]]-TempsTravail,0) -> 0 | G31: =IF(Tableau9_2025[[#This Row],[Temps travail]]>TempsTravail,Tableau9_2025[[#This Row],[Temps travail]]*24-TempsTravail*24,0) -> 0 | H31: =WEEKNUM(A31,2) -> 40

Sheet 10-2025
A1: Date | B1: Arrivée | C1: Départ | D1: Pause | E1: Temps travail | F1: Delta (h) | G1: Delta (d) | H1: Semaine | N1: Année | O1: 2025
A2: 45931 | B2: 0.33263889 | C2: 0.70277778 | D2: 0.041666667 | E2: =IF(Tableau10_2025[[#This Row],[Arrivée]]<>"",(Tableau10_2025[[#This Row],[Départ]] - Tableau10_2025[[#This Row],[Arrivée]]) - Tableau10_2025[[#This Row],[Pause]],0) -> 0.32847222 | F2: =IF(Tableau10_2025[[#This Row],[Temps travail]]>TempsTravail,Tableau10_2025[[#This Row],[Temps travail]]-TempsTravail,0) -> 0.036805556 | G2: =IF(Tableau10_2025[[#This Row],[Temps travail]]>TempsTravail,Tableau10_2025[[#This Row],[Temps travail]]*24-TempsTravail*24,0) -> 0.88333333 | H2: =WEEKNUM(A2,2) -> 40 | J2: Semaine | K2: Delta total (h) | N2: Mois | O2: octobre
A3: 45932 | B3: 0.32916667 | C3: 0.69583333 | D3: 0.041666667 | E3: =IF(Tableau10_2025[[#This Row],[Arrivée]]<>"",(Tableau10_2025[[#This Row],[Départ]] - Tableau10_2025[[#This Row],[Arrivée]]) - Tableau10_2025[[#This Row],[Pause]],0) -> 0.325 | F3: =IF(Tableau10_2025[[#This Row],[Temps travail]]>TempsTravail,Tableau10_2025[[#This Row],[Temps travail]]-TempsTravail,0) -> 0.033333333 | G3: =IF(Tableau10_2025[[#This Row],[Temps travail]]>TempsTravail,Tableau10_2025[[#This Row],[Temps travail]]*24-TempsTravail*24,0) -> 0.8 | H3: =WEEKNUM(A3,2) -> 40 | J3: 40 | K3: =IF(ISBLANK(L3), "", IF(L3<0, "-" & TEXT(ABS(L3)/24, "h:mm"), TEXT(L3/24, "h:mm"))) -> 1:41 | L3: =SUMIF(H:H, J3, G:G) -> 1.6833333
A4: 45933 | B4: 0.33333333 | C4: 0.66666667 | D4: 0.041666667 | E4: =IF(Tableau10_2025[[#This Row],[Arrivée]]<>"",(Tableau10_2025[[#This Row],[Départ]] - Tableau10_2025[[#This Row],[Arrivée]]) - Tableau10_2025[[#This Row],[Pause]],0) -> 0.29166667 | F4: =IF(Tableau10_2025[[#This Row],[Temps travail]]>TempsTravail,Tableau10_2025[[#This Row],[Temps travail]]-TempsTravail,0) -> 0 | G4: =IF(Tableau10_2025[[#This Row],[Temps travail]]>TempsTravail,Tableau10_2025[[#This Row],[Temps travail]]*24-TempsTravail*24,0) -> 0 | H4: =WEEKNUM(A4,2) -> 40 | J4: 41 | K4: =IF(ISBLANK(L4), "", IF(L4<0, "-" & TEXT(ABS(L4)/24, "h:mm"), TEXT(L4/24, "h:mm"))) -> 1:18 | L4: =SUMIF(H:H, J4, G:G) -> 1.3 | N4: Semaine | O4: Delta Hebdo. (h) | P4: DeltaHebdo. (d)
A5: 45934 | D5: 0.041666667 | E5: =IF(Tableau10_2025[[#This Row],[Arrivée]]<>"",(Tableau10_2025[[#This Row],[Départ]] - Tableau10_2025[[#This Row],[Arrivée]]) - Tableau10_2025[[#This Row],[Pause]],0) -> 0 | F5: =IF(Tableau10_2025[[#This Row],[Temps travail]]>TempsTravail,Tableau10_2025[[#This Row],[Temps travail]]-TempsTravail,0) -> 0 | G5: =IF(Tableau10_2025[[#This Row],[Temps travail]]>TempsTravail,Tableau10_2025[[#This Row],[Temps travail]]*24-TempsTravail*24,0) -> 0 | H5: =WEEKNUM(A5,2) -> 40 | J5: 42 | K5: =IF(ISBLANK(L5), "", IF(L5<0, "-" & TEXT(ABS(L5)/24, "h:mm"), TEXT(L5/24, "h:mm"))) -> 4:00 | L5: =SUMIF(H:H, J5, G:G) -> 4 | N5: 40 | O5: 0.070138889 | P5: 1.6833333
A6: 45935 | D6: 0.041666667 | E6: =IF(Tableau10_2025[[#This Row],[Arrivée]]<>"",(Tableau10_2025[[#This Row],[Départ]] - Tableau10_2025[[#This Row],[Arrivée]]) - Tableau10_2025[[#This Row],[Pause]],0) -> 0 | F6: =IF(Tableau10_2025[[#This Row],[Temps travail]]>TempsTravail,Tableau10_2025[[#This Row],[Temps travail]]-TempsTravail,0) -> 0 | G6: =IF(Tableau10_2025[[#This Row],[Temps travail]]>TempsTravail,Tableau10_2025[[#This Row],[Temps travail]]*24-TempsTravail*24,0) -> 0 | H6: =WEEKNUM(A6,2) -> 40 | J6: 43 | K6: =IF(ISBLANK(L6), "", IF(L6<0, "-" & TEXT(ABS(L6)/24, "h:mm"), TEXT(L6/24, "h:mm"))) -> 6:26 | L6: =SUMIF(H:H, J6, G:G) -> 6.4333333 | N6: 41 | O6: 0.054166667 | P6: 1.3
A7: 45936 | B7: 0.3375 | C7: 0.70902778 | D7: 0.041666667 | E7: =IF(Tableau10_2025[[#This Row],[Arrivée]]<>"",(Tableau10_2025[[#This Row],[Départ]] - Tableau10_2025[[#This Row],[Arrivée]]) - Tableau10_2025[[#This Row],[Pause]],0) -> 0.32986111 | F7: =IF(Tableau10_2025[[#This Row],[Temps travail]]>TempsTravail,Tableau10_2025[[#This Row],[Temps travail]]-TempsTravail,0) -> 0.038194444 | G7: =IF(Tableau10_2025[[#This Row],[Temps travail]]>TempsTravail,Tableau10_2025[[#This Row],[Temps travail]]*24-TempsTravail*24,0) -> 0.91666667 | H7: =WEEKNUM(A7,2) -> 41 | J7: 44 | K7: =IF(ISBLANK(L7), "", IF(L7<0, "-" & TEXT(ABS(L7)/24, "h:mm"), TEXT(L7/24, "h:mm"))) -> 6:29 | L7: =SUMIF(H:H, J7, G:G) -> 6.4833333 | N7: 42 | O7: 0.16666667 | P7: 4
A8: 45937 | B8: 0.33333333 | C8: 0.66666667 | D8: 0.041666667 | E8: =IF(Tableau10_2025[[#This Row],[Arrivée]]<>"",(Tableau10_2025[[#This Row],[Départ]] - Tableau10_2025[[#This Row],[Arrivée]]) - Tableau10_2025[[#This Row],[Pause]],0) -> 0.29166667 | F8: =IF(Tableau10_2025[[#This Row],[Temps travail]]>TempsTravail,Tableau10_2025[[#This Row],[Temps travail]]-TempsTravail,0) -> 0 | G8: =IF(Tableau10_2025[[#This Row],[Temps travail]]>TempsTravail,Tableau10_2025[[#This Row],[Temps travail]]*24-TempsTravail*24,0) -> 0 | H8: =WEEKNUM(A8,2) -> 41 | K8: =IF(ISBLANK(L8), "", IF(L8<0, "-" & TEXT(ABS(L8)/24, "h:mm"), TEXT(L8/24, "h:mm"))) | N8: 43 | O8: 0.26805556 | P8: 6.4333333
A9: 45938 | B9: 0.52083333 | C9: 0.75347222 | D9: 0.041666667 | E9: =IF(Tableau10_2025[[#This Row],[Arrivée]]<>"",(Tableau10_2025[[#This Row],[Départ]] - Tableau10_2025[[#This Row],[Arrivée]]) - Tableau10_2025[[#This Row],[Pause]],0) -> 0.19097222 | F9: =IF(Tableau10_2025[[#This Row],[Temps travail]]>TempsTravail,Tableau10_2025[[#This Row],[Temps travail]]-TempsTravail,0) -> 0 | G9: =IF(Tableau10_2025[[#This Row],[Temps travail]]>TempsTravail,Tableau10_2025[[#This Row],[Temps travail]]*24-TempsTravail*24,0) -> 0 | H9: =WEEKNUM(A9,2) -> 41 | J9: Total mois | K9: =IF(ISBLANK(L9), "", IF(L9<0, "-" & TEXT(ABS(L9)/24, "h:mm"), TEXT(L9/24, "h:mm"))) -> 19:54 | L9: =SUM(L3:L7) -> 19.9 | N9: 44 | O9: 0.27013889 | P9: 6.4833333
A10: 45939 | B10: 0.33333333 | C10: 0.68263889 | D10: 0.041666667 | E10: =IF(Tableau10_2025[[#This Row],[Arrivée]]<>"",(Tableau10_2025[[#This Row],[Départ]] - Tableau10_2025[[#This Row],[Arrivée]]) - Tableau10_2025[[#This Row],[Pause]],0) -> 0.30763889 | F10: =IF(Tableau10_2025[[#This Row],[Temps travail]]>TempsTravail,Tableau10_2025[[#This Row],[Temps travail]]-TempsTravail,0) -> 0.015972222 | G10: =IF(Tableau10_2025[[#This Row],[Temps travail]]>TempsTravail,Tableau10_2025[[#This Row],[Temps travail]]*24-TempsTravail*24,0) -> 0.38333333 | H10: =WEEKNUM(A10,2) -> 41 | J10: Total année | K10: =IF(ISBLANK(L10), "", IF(L10<0, "-" & TEXT(ABS(L10)/24, "[h]:mm"), TEXT(L10/24, "[h]:mm"))) -> 104:01 | L10: =SUM(L14:L22) -> 104.01667 | N10: Total général | O10: 0.82916667 | P10: 19.9
A11: 45940 | B11: 0.35069444 | C11: 0.58888889 | D11: 0.041666667 | E11: =IF(Tableau10_2025[[#This Row],[Arrivée]]<>"",(Tableau10_2025[[#This Row],[Départ]] - Tableau10_2025[[#This Row],[Arrivée]]) - Tableau10_2025[[#This Row],[Pause]],0) -> 0.19652778 | F11: =IF(Tableau10_2025[[#This Row],[Temps travail]]>TempsTravail,Tableau10_2025[[#This Row],[Temps travail]]-TempsTravail,0) -> 0 | G11: =IF(Tableau10_2025[[#This Row],[Temps travail]]>TempsTravail,Tableau10_2025[[#This Row],[Temps travail]]*24-TempsTravail*24,0) -> 0 | H11: =WEEKNUM(A11,2) -> 41
A12: 45941 | D12: 0.041666667 | E12: =IF(Tableau10_2025[[#This Row],[Arrivée]]<>"",(Tableau10_2025[[#This Row],[Départ]] - Tableau10_2025[[#This Row],[Arrivée]]) - Tableau10_2025[[#This Row],[Pause]],0) -> 0 | F12: =IF(Tableau10_2025[[#This Row],[Temps travail]]>TempsTravail,Tableau10_2025[[#This Row],[Temps travail]]-TempsTravail,0) -> 0 | G12: =IF(Tableau10_2025[[#This Row],[Temps travail]]>TempsTravail,Tableau10_2025[[#This Row],[Temps travail]]*24-TempsTravail*24,0) -> 0 | H12: =WEEKNUM(A12,2) -> 41
A13: 45942 | D13: 0.041666667 | E13: =IF(Tableau10_2025[[#This Row],[Arrivée]]<>"",(Tableau10_2025[[#This Row],[Départ]] - Tableau10_2025[[#This Row],[Arrivée]]) - Tableau10_2025[[#This Row],[Pause]],0) -> 0 | F13: =IF(Tableau10_2025[[#This Row],[Temps travail]]>TempsTravail,Tableau10_2025[[#This Row],[Temps travail]]-TempsTravail,0) -> 0 | G13: =IF(Tableau10_2025[[#This Row],[Temps travail]]>TempsTravail,Tableau10_2025[[#This Row],[Temps travail]]*24-TempsTravail*24,0) -> 0 | H13: =WEEKNUM(A13,2) -> 41
A14: 45943 | B14: 0.32986111 | C14: 0.71319444 | D14: 0.041666667 | E14: =IF(Tableau10_2025[[#This Row],[Arrivée]]<>"",(Tableau10_2025[[#This Row],[Départ]] - Tableau10_2025[[#This Row],[Arrivée]]) - Tableau10_2025[[#This Row],[Pause]],0) -> 0.34166667 | F14: =IF(Tableau10_2025[[#This Row],[Temps travail]]>TempsTravail,Tableau10_2025[[#This Row],[Temps travail]]-TempsTravail,0) -> 0.05 | G14: =IF(Tableau10_2025[[#This Row],[Temps travail]]>TempsTravail,Tableau10_2025[[#This Row],[Temps travail]]*24-TempsTravail*24,0) -> 1.2 | H14: =WEEKNUM(A14,2) -> 42 | J14: Avril | K14: =IF(ISBLANK(L14), "", IF(L14<0, "-" & TEXT(ABS(L14)/24, "h:mm"), TEXT(L14/24, "h:mm"))) -> 5:04 | L14: ='04-2025'!L9 -> 5.0666667 | N14: Année | O14: Mois | P14: Delta Mensuel (h) | Q14: Delta Mensuel (d)
A15: 45944 | B15: 0.32638889 | C15: 0.71180556 | D15: 0.041666667 | E15: =IF(Tableau10_2025[[#This Row],[Arrivée]]<>"",(Tableau10_2025[[#This Row],[Départ]] - Tableau10_2025[[#This Row],[Arrivée]]) - Tableau10_2025[[#This Row],[Pause]],0) -> 0.34375 | F15: =IF(Tableau10_2025[[#This Row],[Temps travail]]>TempsTravail,Tableau10_2025[[#This Row],[Temps travail]]-TempsTravail,0) -> 0.052083333 | G15: =IF(Tableau10_2025[[#This Row],[Temps travail]]>TempsTravail,Tableau10_2025[[#This Row],[Temps travail]]*24-TempsTravail*24,0) -> 1.25 | H15: =WEEKNUM(A15,2) -> 42 | J15: Mai | K15: =IF(ISBLANK(L15), "", IF(L15<0, "-" & TEXT(ABS(L15)/24, "h:mm"), TEXT(L15/24, "h:mm"))) -> 6:39 | L15: ='05-2025'!L9 -> 6.65 | N15: 2025 | O15: avril | P15: 0.21111111 | Q15: 5.0666667
A16: 45945 | B16: 0.33263889 | C16: 0.70069444 | D16: 0.041666667 | E16: =IF(Tableau10_2025[[#This Row],[Arrivée]]<>"",(Tableau10_2025[[#This Row],[Départ]] - Tableau10_2025[[#This Row],[Arrivée]]) - Tableau10_2025[[#This Row],[Pause]],0) -> 0.32638889 | F16: =IF(Tableau10_2025[[#This Row],[Temps travail]]>TempsTravail,Tableau10_2025[[#This Row],[Temps travail]]-TempsTravail,0) -> 0.034722222 | G16: =IF(Tableau10_2025[[#This Row],[Temps travail]]>TempsTravail,Tableau10_2025[[#This Row],[Temps travail]]*24-TempsTravail*24,0) -> 0.83333333 | H16: =WEEKNUM(A16,2) -> 42 | J16: Juin | K16: =IF(ISBLANK(L16), "", IF(L16<0, "-" & TEXT(ABS(L16)/24, "h:mm"), TEXT(L16/24, "h:mm"))) -> 8:01 | L16: ='06-2025'!L9 -> 8.0166667 | O16: mai | P16: 0.27708333 | Q16: 6.65
A17: 45946 | B17: 0.33333333 | C17: 0.69652778 | D17: 0.041666667 | E17: =IF(Tableau10_2025[[#This Row],[Arrivée]]<>"",(Tableau10_2025[[#This Row],[Départ]] - Tableau10_2025[[#This Row],[Arrivée]]) - Tableau10_2025[[#This Row],[Pause]],0) -> 0.32152778 | F17: =IF(Tableau10_2025[[#This Row],[Temps travail]]>TempsTravail,Tableau10_2025[[#This Row],[Temps travail]]-TempsTravail,0) -> 0.029861111 | G17: =IF(Tableau10_2025[[#This Row],[Temps travail]]>TempsTravail,Tableau10_2025[[#This Row],[Temps travail]]*24-TempsTravail*24,0) -> 0.71666667 | H17: =WEEKNUM(A17,2) -> 42 | J17: Juillet | K17: =IF(ISBLANK(L17), "", IF(L17<0, "-" & TEXT(ABS(L17)/24, "h:mm"), TEXT(L17/24, "h:mm"))) -> 16:23 | L17: ='07-2025'!L8 -> 16.383333 | O17: juin | P17: 0.33402778 | Q17: 8.0166667
A18: 45947 | B18: 0.33263889 | C18: 0.59513889 | D18: 0.041666667 | E18: =IF(Tableau10_2025[[#This Row],[Arrivée]]<>"",(Tableau10_2025[[#This Row],[Départ]] - Tableau10_2025[[#This Row],[Arrivée]]) - Tableau10_2025[[#This Row],[Pause]],0) -> 0.22083333 | F18: =IF(Tableau10_2025[[#This Row],[Temps travail]]>TempsTravail,Tableau10_2025[[#This Row],[Temps travail]]-TempsTravail,0) -> 0 | G18: =IF(Tableau10_2025[[#This Row],[Temps travail]]>TempsTravail,Tableau10_2025[[#This Row],[Temps travail]]*24-TempsTravail*24,0) -> 0 | H18: =WEEKNUM(A18,2) -> 42 | J18: Aout | K18: =IF(ISBLANK(L18), "", IF(L18<0, "-" & TEXT(ABS(L18)/24, "h:mm"), TEXT(L18/24, "h:mm"))) -> 15:08 | L18: ='08-2025'!L9 -> 15.133333 | O18: juillet | P18: 0.68263889 | Q18: 16.383333
A19: 45948 | D19: 0.041666667 | E19: =IF(Tableau10_2025[[#This Row],[Arrivée]]<>"",(Tableau10_2025[[#This Row],[Départ]] - Tableau10_2025[[#This Row],[Arrivée]]) - Tableau10_2025[[#This Row],[Pause]],0) -> 0 | F19: =IF(Tableau10_2025[[#This Row],[Temps travail]]>TempsTravail,Tableau10_2025[[#This Row],[Temps travail]]-TempsTravail,0) -> 0 | G19: =IF(Tableau10_2025[[#This Row],[Temps travail]]>TempsTravail,Tableau10_2025[[#This Row],[Temps travail]]*24-TempsTravail*24,0) -> 0 | H19: =WEEKNUM(A19,2) -> 42 | J19: Septembre | K19: =IF(ISBLANK(L19), "", IF(L19<0, "-" & TEXT(ABS(L19)/24, "h:mm"), TEXT(L19/24, "h:mm"))) -> 13:21 | L19: ='09-2025'!L9 -> 13.35 | O19: août | P19: 0.63055556 | Q19: 15.133333
A20: 45949 | D20: 0.041666667 | E20: =IF(Tableau10_2025[[#This Row],[Arrivée]]<>"",(Tableau10_2025[[#This Row],[Départ]] - Tableau10_2025[[#This Row],[Arrivée]]) - Tableau10_2025[[#This Row],[Pause]],0) -> 0 | F20: =IF(Tableau10_2025[[#This Row],[Temps travail]]>TempsTravail,Tableau10_2025[[#This Row],[Temps travail]]-TempsTravail,0) -> 0 | G20: =IF(Tableau10_2025[[#This Row],[Temps travail]]>TempsTravail,Tableau10_2025[[#This Row],[Temps travail]]*24-TempsTravail*24,0) -> 0 | H20: =WEEKNUM(A20,2) -> 42 | J20: Octobre | K20: =IF(ISBLANK(L20), "", IF(L20<0, "-" & TEXT(ABS(L20)/24, "h:mm"), TEXT(L20/24, "h:mm"))) -> 19:54 | L20: ='10-2025'!L9 -> 19.9 | O20: septembre | P20: 0.55625 | Q20: 13.35
A21: 45950 | B21: 0.33402778 | C21: 0.71458333 | D21: 0.041666667 | E21: =IF(Tableau10_2025[[#This Row],[Arrivée]]<>"",(Tableau10_2025[[#This Row],[Départ]] - Tableau10_2025[[#This Row],[Arrivée]]) - Tableau10_2025[[#This Row],[Pause]],0) -> 0.33888889 | F21: =IF(Tableau10_2025[[#This Row],[Temps travail]]>TempsTravail,Tableau10_2025[[#This Row],[Temps travail]]-TempsTravail,0) -> 0.047222222 | G21: =IF(Tableau10_2025[[#This Row],[Temps travail]]>TempsTravail,Tableau10_2025[[#This Row],[Temps travail]]*24-TempsTravail*24,0) -> 1.1333333 | H21: =WEEKNUM(A21,2) -> 43 | J21: Novembre | K21: =IF(ISBLANK(L21), "", IF(L21<0, "-" & TEXT(ABS(L21)/24, "h:mm"), TEXT(L21/24, "h:mm"))) -> 10:32 | L21: ='11-2025'!L9 -> 10.533333 | O21: octobre | P21: 0.82916667 | Q21: 19.9
A22: 45951 | B22: 0.32777778 | C22: 0.73680556 | D22: 0.041666667 | E22: =IF(Tableau10_2025[[#This Row],[Arrivée]]<>"",(Tableau10_2025[[#This Row],[Départ]] - Tableau10_2025[[#This Row],[Arrivée]]) - Tableau10_2025[[#This Row],[Pause]],0) -> 0.36736111 | F22: =IF(Tableau10_2025[[#This Row],[Temps travail]]>TempsTravail,Tableau10_2025[[#This Row],[Temps travail]]-TempsTravail,0) -> 0.075694444 | G22: =IF(Tableau10_2025[[#This Row],[Temps travail]]>TempsTravail,Tableau10_2025[[#This Row],[Temps travail]]*24-TempsTravail*24,0) -> 1.8166667 | H22: =WEEKNUM(A22,2) -> 43 | J22: Decembre | K22: =IF(ISBLANK(L22), "", IF(L22<0, "-" & TEXT(ABS(L22)/24, "h:mm"), TEXT(L22/24, "h:mm"))) -> 8:59 | L22: ='12-2025'!L9 -> 8.9833333 | O22: novembre | P22: 0.43888889 | Q22: 10.533333
A23: 45952 | B23: 0.3375 | C23: 0.74027778 | D23: 0.041666667 | E23: =IF(Tableau10_2025[[#This Row],[Arrivée]]<>"",(Tableau10_2025[[#This Row],[Départ]] - Tableau10_2025[[#This Row],[Arrivée]]) - Tableau10_2025[[#This Row],[Pause]],0) -> 0.36111111 | F23: =IF(Tableau10_2025[[#This Row],[Temps travail]]>TempsTravail,Tableau10_2025[[#This Row],[Temps travail]]-TempsTravail,0) -> 0.069444444 | G23: =IF(Tableau10_2025[[#This Row],[Temps travail]]>TempsTravail,Tableau10_2025[[#This Row],[Temps travail]]*24-TempsTravail*24,0) -> 1.6666667 | H23: =WEEKNUM(A23,2) -> 43 | O23: décembre | P23: 0.37430556 | Q23: 8.9833333
A24: 45953 | B24: 0.33402778 | C24: 0.74305556 | D24: 0.041666667 | E24: =IF(Tableau10_2025[[#This Row],[Arrivée]]<>"",(Tableau10_2025[[#This Row],[Départ]] - Tableau10_2025[[#This Row],[Arrivée]]) - Tableau10_2025[[#This Row],[Pause]],0) -> 0.36736111 | F24: =IF(Tableau10_2025[[#This Row],[Temps travail]]>TempsTravail,Tableau10_2025[[#This Row],[Temps travail]]-TempsTravail,0) -> 0.075694444 | G24: =IF(Tableau10_2025[[#This Row],[Temps travail]]>TempsTravail,Tableau10_2025[[#This Row],[Temps travail]]*24-TempsTravail*24,0) -> 1.8166667 | H24: =WEEKNUM(A24,2) -> 43 | N24: Total 2025 | P24: 4.3340278 | Q24: 104.01667
A25: 45954 | B25: 0.30069444 | C25: 0.59097222 | D25: 0.041666667 | E25: =IF(Tableau10_2025[[#This Row],[Arrivée]]<>"",(Tableau10_2025[[#This Row],[Départ]] - Tableau10_2025[[#This Row],[Arrivée]]) - Tableau10_2025[[#This Row],[Pause]],0) -> 0.24861111 | F25: =IF(Tableau10_2025[[#This Row],[Temps travail]]>TempsTravail,Tableau10_2025[[#This Row],[Temps travail]]-TempsTravail,0) -> 0 | G25: =IF(Tableau10_2025[[#This Row],[Temps travail]]>TempsTravail,Tableau10_2025[[#This Row],[Temps travail]]*24-TempsTravail*24,0) -> 0 | H25: =WEEKNUM(A25,2) -> 43 | N25: 2026 | O25: janvier | P25: 0.097916667 | Q25: 2.35
A26: 45955 | D26: 0.041666667 | E26: =IF(Tableau10_2025[[#This Row],[Arrivée]]<>"",(Tableau10_2025[[#This Row],[Départ]] - Tableau10_2025[[#This Row],[Arrivée]]) - Tableau10_2025[[#This Row],[Pause]],0) -> 0 | F26: =IF(Tableau10_2025[[#This Row],[Temps travail]]>TempsTravail,Tableau10_2025[[#This Row],[Temps travail]]-TempsTravail,0) -> 0 | G26: =IF(Tableau10_2025[[#This Row],[Temps travail]]>TempsTravail,Tableau10_2025[[#This Row],[Temps travail]]*24-TempsTravail*24,0) -> 0 | H26: =WEEKNUM(A26,2) -> 43 | O26: février | P26: 0 | Q26: 0
A27: 45956 | D27: 0.041666667 | E27: =IF(Tableau10_2025[[#This Row],[Arrivée]]<>"",(Tableau10_2025[[#This Row],[Départ]] - Tableau10_2025[[#This Row],[Arrivée]]) - Tableau10_2025[[#This Row],[Pause]],0) -> 0 | F27: =IF(Tableau10_2025[[#This Row],[Temps travail]]>TempsTravail,Tableau10_2025[[#This Row],[Temps travail]]-TempsTravail,0) -> 0 | G27: =IF(Tableau10_2025[[#This Row],[Temps travail]]>TempsTravail,Tableau10_2025[[#This Row],[Temps travail]]*24-TempsTravail*24,0) -> 0 | H27: =WEEKNUM(A27,2) -> 43 | N27: Total 2026 | P27: 0.097916667 | Q27: 2.35
A28: 45957 | B28: 0.33125 | C28: 0.71111111 | D28: 0.041666667 | E28: =IF(Tableau10_2025[[#This Row],[Arrivée]]<>"",(Tableau10_2025[[#This Row],[Départ]] - Tableau10_2025[[#This Row],[Arrivée]]) - Tableau10_2025[[#This Row],[Pause]],0) -> 0.33819444 | F28: =IF(Tableau10_2025[[#This Row],[Temps travail]]>TempsTravail,Tableau10_2025[[#This Row],[Temps travail]]-TempsTravail,0) -> 0.046527778 | G28: =IF(Tableau10_2025[[#This Row],[Temps travail]]>TempsTravail,Tableau10_2025[[#This Row],[Temps travail]]*24-TempsTravail*24,0) -> 1.1166667 | H28: =WEEKNUM(A28,2) -> 44 | N28: Total général | P28: 4.4319444 | Q28: 106.36667
A29: 45958 | B29: 0.34652778 | C29: 0.72222222 | D29: 0.041666667 | E29: =IF(Tableau10_2025[[#This Row],[Arrivée]]<>"",(Tableau10_2025[[#This Row],[Départ]] - Tableau10_2025[[#This Row],[Arrivée]]) - Tableau10_2025[[#This Row],[Pause]],0) -> 0.33402778 | F29: =IF(Tableau10_2025[[#This Row],[Temps travail]]>TempsTravail,Tableau10_2025[[#This Row],[Temps travail]]-TempsTravail,0) -> 0.042361111 | G29: =IF(Tableau10_2025[[#This Row],[Temps travail]]>TempsTravail,Tableau10_2025[[#This Row],[Temps travail]]*24-TempsTravail*24,0) -> 1.0166667 | H29: =WEEKNUM(A29,2) -> 44
A30: 45959 | B30: 0.33402778 | C30: 0.71736111 | D30: 0.041666667 | E30: =IF(Tableau10_2025[[#This Row],[Arrivée]]<>"",(Tableau10_2025[[#This Row],[Départ]] - Tableau10_2025[[#This Row],[Arrivée]]) - Tableau10_2025[[#This Row],[Pause]],0) -> 0.34166667 | F30: =IF(Tableau10_2025[[#This Row],[Temps travail]]>TempsTravail,Tableau10_2025[[#This Row],[Temps travail]]-TempsTravail,0) -> 0.05 | G30: =IF(Tableau10_2025[[#This Row],[Temps travail]]>TempsTravail,Tableau10_2025[[#This Row],[Temps travail]]*24-TempsTravail*24,0) -> 1.2 | H30: =WEEKNUM(A30,2) -> 44
A31: 45960 | B31: 0.33472222 | C31: 0.79930556 | D31: 0.041666667 | E31: =IF(Tableau10_2025[[#This Row],[Arrivée]]<>"",(Tableau10_2025[[#This Row],[Départ]] - Tableau10_2025[[#This Row],[Arrivée]]) - Tableau10_2025[[#This Row],[Pause]],0) -> 0.42291667 | F31: =IF(Tableau10_2025[[#This Row],[Temps travail]]>TempsTravail,Tableau10_2025[[#This Row],[Temps travail]]-TempsTravail,0) -> 0.13125 | G31: =IF(Tableau10_2025[[#This Row],[Temps travail]]>TempsTravail,Tableau10_2025[[#This Row],[Temps travail]]*24-TempsTravail*24,0) -> 3.15 | H31: =WEEKNUM(A31,2) -> 44
A32: 45961 | B32: 0.325 | C32: 0.54236111 | D32: 0.041666667 | E32: =IF(Tableau10_2025[[#This Row],[Arrivée]]<>"",(Tableau10_2025[[#This Row],[Départ]] - Tableau10_2025[[#This Row],[Arrivée]]) - Tableau10_2025[[#This Row],[Pause]],0) -> 0.17569444 | F32: =IF(Tableau10_2025[[#This Row],[Temps travail]]>TempsTravail,Tableau10_2025[[#This Row],[Temps travail]]-TempsTravail,0) -> 0 | G32: =IF(Tableau10_2025[[#This Row],[Temps travail]]>TempsTravail,Tableau10_2025[[#This Row],[Temps travail]]*24-TempsTravail*24,0) -> 0 | H32: =WEEKNUM(A32,2) -> 44

Sheet 11-2025
A1: Date | B1: Arrivée | C1: Départ | D1: Pause | E1: Temps travail | F1: Delta (h) | G1: Delta (d) | H1: Semaine | N1: Année | O1: 2025
A2: 45962 | D2: 0.041666667 | E2: =IF(Tableau11_2025[[#This Row],[Arrivée]]<>"",(Tableau11_2025[[#This Row],[Départ]] - Tableau11_2025[[#This Row],[Arrivée]]) - Tableau11_2025[[#This Row],[Pause]],0) -> 0 | F2: =IF(Tableau11_2025[[#This Row],[Temps travail]]>TempsTravail,Tableau11_2025[[#This Row],[Temps travail]]-TempsTravail,0) -> 0 | G2: =IF(Tableau11_2025[[#This Row],[Temps travail]]>TempsTravail,Tableau11_2025[[#This Row],[Temps travail]]*24-TempsTravail*24,0) -> 0 | H2: =WEEKNUM(A2,2) -> 44 | J2: Semaine | K2: Delta total (h) | N2: Mois | O2: novembre
A3: 45963 | D3: 0.041666667 | E3: =IF(Tableau11_2025[[#This Row],[Arrivée]]<>"",(Tableau11_2025[[#This Row],[Départ]] - Tableau11_2025[[#This Row],[Arrivée]]) - Tableau11_2025[[#This Row],[Pause]],0) -> 0 | F3: =IF(Tableau11_2025[[#This Row],[Temps travail]]>TempsTravail,Tableau11_2025[[#This Row],[Temps travail]]-TempsTravail,0) -> 0 | G3: =IF(Tableau11_2025[[#This Row],[Temps travail]]>TempsTravail,Tableau11_2025[[#This Row],[Temps travail]]*24-TempsTravail*24,0) -> 0 | H3: =WEEKNUM(A3,2) -> 44 | J3: 44 | K3: =IF(ISBLANK(L3), "", IF(L3<0, "-" & TEXT(ABS(L3)/24, "h:mm"), TEXT(L3/24, "h:mm"))) -> 0:00 | L3: =SUMIF(H:H, J3, G:G) -> 0
A4: 45964 | B4: 0.33958333 | C4: 0.69444444 | D4: 0.041666667 | E4: =IF(Tableau11_2025[[#This Row],[Arrivée]]<>"",(Tableau11_2025[[#This Row],[Départ]] - Tableau11_2025[[#This Row],[Arrivée]]) - Tableau11_2025[[#This Row],[Pause]],0) -> 0.31319444 | F4: =IF(Tableau11_2025[[#This Row],[Temps travail]]>TempsTravail,Tableau11_2025[[#This Row],[Temps travail]]-TempsTravail,0) -> 0.021527778 | G4: =IF(Tableau11_2025[[#This Row],[Temps travail]]>TempsTravail,Tableau11_2025[[#This Row],[Temps travail]]*24-TempsTravail*24,0) -> 0.51666667 | H4: =WEEKNUM(A4,2) -> 45 | J4: 45 | K4: =IF(ISBLANK(L4), "", IF(L4<0, "-" & TEXT(ABS(L4)/24, "h:mm"), TEXT(L4/24, "h:mm"))) -> 2:52 | L4: =SUMIF(H:H, J4, G:G) -> 2.8666667 | N4: Semaine | O4: Delta Hebdo. (h) | P4: DeltaHebdo. (d)
A5: 45965 | B5: 0.34513889 | C5: 0.69791667 | D5: 0.041666667 | E5: =IF(Tableau11_2025[[#This Row],[Arrivée]]<>"",(Tableau11_2025[[#This Row],[Départ]] - Tableau11_2025[[#This Row],[Arrivée]]) - Tableau11_2025[[#This Row],[Pause]],0) -> 0.31111111 | F5: =IF(Tableau11_2025[[#This Row],[Temps travail]]>TempsTravail,Tableau11_2025[[#This Row],[Temps travail]]-TempsTravail,0) -> 0.019444444 | G5: =IF(Tableau11_2025[[#This Row],[Temps travail]]>TempsTravail,Tableau11_2025[[#This Row],[Temps travail]]*24-TempsTravail*24,0) -> 0.46666667 | H5: =WEEKNUM(A5,2) -> 45 | J5: 46 | K5: =IF(ISBLANK(L5), "", IF(L5<0, "-" & TEXT(ABS(L5)/24, "h:mm"), TEXT(L5/24, "h:mm"))) -> 1:30 | L5: =SUMIF(H:H, J5, G:G) -> 1.5 | N5: 44 | O5: 0 | P5: 0
A6: 45966 | B6: 0.33611111 | C6: 0.70833333 | D6: 0.041666667 | E6: =IF(Tableau11_2025[[#This Row],[Arrivée]]<>"",(Tableau11_2025[[#This Row],[Départ]] - Tableau11_2025[[#This Row],[Arrivée]]) - Tableau11_2025[[#This Row],[Pause]],0) -> 0.33055556 | F6: =IF(Tableau11_2025[[#This Row],[Temps travail]]>TempsTravail,Tableau11_2025[[#This Row],[Temps travail]]-TempsTravail,0) -> 0.038888889 | G6: =IF(Tableau11_2025[[#This Row],[Temps travail]]>TempsTravail,Tableau11_2025[[#This Row],[Temps travail]]*24-TempsTravail*24,0) -> 0.93333333 | H6: =WEEKNUM(A6,2) -> 45 | J6: 47 | K6: =IF(ISBLANK(L6), "", IF(L6<0, "-" & TEXT(ABS(L6)/24, "h:mm"), TEXT(L6/24, "h:mm"))) -> 3:51 | L6: =SUMIF(H:H, J6, G:G) -> 3.85 | N6: 45 | O6: 0.11944444 | P6: 2.8666667
A7: 45967 | B7: 0.34166667 | C7: 0.71458333 | D7: 0.041666667 | E7: =IF(Tableau11_2025[[#This Row],[Arrivée]]<>"",(Tableau11_2025[[#This Row],[Départ]] - Tableau11_2025[[#This Row],[Arrivée]]) - Tableau11_2025[[#This Row],[Pause]],0) -> 0.33125 | F7: =IF(Tableau11_2025[[#This Row],[Temps travail]]>TempsTravail,Tableau11_2025[[#This Row],[Temps travail]]-TempsTravail,0) -> 0.039583333 | G7: =IF(Tableau11_2025[[#This Row],[Temps travail]]>TempsTravail,Tableau11_2025[[#This Row],[Temps travail]]*24-TempsTravail*24,0) -> 0.95 | H7: =WEEKNUM(A7,2) -> 45 | J7: 48 | K7: =IF(ISBLANK(L7), "", IF(L7<0, "-" & TEXT(ABS(L7)/24, "h:mm"), TEXT(L7/24, "h:mm"))) -> 2:19 | L7: =SUMIF(H:H, J7, G:G) -> 2.3166667 | N7: 46 | O7: 0.0625 | P7: 1.5
A8: 45968 | B8: 0.34027778 | C8: 0.57916667 | D8: 0.041666667 | E8: =IF(Tableau11_2025[[#This Row],[Arrivée]]<>"",(Tableau11_2025[[#This Row],[Départ]] - Tableau11_2025[[#This Row],[Arrivée]]) - Tableau11_2025[[#This Row],[Pause]],0) -> 0.19722222 | F8: =IF(Tableau11_2025[[#This Row],[Temps travail]]>TempsTravail,Tableau11_2025[[#This Row],[Temps travail]]-TempsTravail,0) -> 0 | G8: =IF(Tableau11_2025[[#This Row],[Temps travail]]>TempsTravail,Tableau11_2025[[#This Row],[Temps travail]]*24-TempsTravail*24,0) -> 0 | H8: =WEEKNUM(A8,2) -> 45 | K8: =IF(ISBLANK(L8), "", IF(L8<0, "-" & TEXT(ABS(L8)/24, "h:mm"), TEXT(L8/24, "h:mm"))) | N8: 47 | O8: 0.16041667 | P8: 3.85
A9: 45969 | D9: 0.041666667 | E9: =IF(Tableau11_2025[[#This Row],[Arrivée]]<>"",(Tableau11_2025[[#This Row],[Départ]] - Tableau11_2025[[#This Row],[Arrivée]]) - Tableau11_2025[[#This Row],[Pause]],0) -> 0 | F9: =IF(Tableau11_2025[[#This Row],[Temps travail]]>TempsTravail,Tableau11_2025[[#This Row],[Temps travail]]-TempsTravail,0) -> 0 | G9: =IF(Tableau11_2025[[#This Row],[Temps travail]]>TempsTravail,Tableau11_2025[[#This Row],[Temps travail]]*24-TempsTravail*24,0) -> 0 | H9: =WEEKNUM(A9,2) -> 45 | J9: Total mois | K9: =IF(ISBLANK(L9), "", IF(L9<0, "-" & TEXT(ABS(L9)/24, "h:mm"), TEXT(L9/24, "h:mm"))) -> 10:32 | L9: =SUM(L3:L7) -> 10.533333 | N9: 48 | O9: 0.096527778 | P9: 2.3166667
A10: 45970 | D10: 0.041666667 | E10: =IF(Tableau11_2025[[#This Row],[Arrivée]]<>"",(Tableau11_2025[[#This Row],[Départ]] - Tableau11_2025[[#This Row],[Arrivée]]) - Tableau11_2025[[#This Row],[Pause]],0) -> 0 | F10: =IF(Tableau11_2025[[#This Row],[Temps travail]]>TempsTravail,Tableau11_2025[[#This Row],[Temps travail]]-TempsTravail,0) -> 0 | G10: =IF(Tableau11_2025[[#This Row],[Temps travail]]>TempsTravail,Tableau11_2025[[#This Row],[Temps travail]]*24-TempsTravail*24,0) -> 0 | H10: =WEEKNUM(A10,2) -> 45 | J10: Total année | K10: =IF(ISBLANK(L10), "", IF(L10<0, "-" & TEXT(ABS(L10)/24, "[h]:mm"), TEXT(L10/24, "[h]:mm"))) -> 104:01 | L10: =SUM(L14:L22) -> 104.01667 | N10: Total général | O10: 0.43888889 | P10: 10.533333
A11: 45971 | B11: 0.33333333 | C11: 0.6875 | D11: 0.041666667 | E11: =IF(Tableau11_2025[[#This Row],[Arrivée]]<>"",(Tableau11_2025[[#This Row],[Départ]] - Tableau11_2025[[#This Row],[Arrivée]]) - Tableau11_2025[[#This Row],[Pause]],0) -> 0.3125 | F11: =IF(Tableau11_2025[[#This Row],[Temps travail]]>TempsTravail,Tableau11_2025[[#This Row],[Temps travail]]-TempsTravail,0) -> 0.020833333 | G11: =IF(Tableau11_2025[[#This Row],[Temps travail]]>TempsTravail,Tableau11_2025[[#This Row],[Temps travail]]*24-TempsTravail*24,0) -> 0.5 | H11: =WEEKNUM(A11,2) -> 46
A12: 45972 | B12: 0.33333333 | C12: 0.6875 | D12: 0.041666667 | E12: =IF(Tableau11_2025[[#This Row],[Arrivée]]<>"",(Tableau11_2025[[#This Row],[Départ]] - Tableau11_2025[[#This Row],[Arrivée]]) - Tableau11_2025[[#This Row],[Pause]],0) -> 0.3125 | F12: =IF(Tableau11_2025[[#This Row],[Temps travail]]>TempsTravail,Tableau11_2025[[#This Row],[Temps travail]]-TempsTravail,0) -> 0.020833333 | G12: =IF(Tableau11_2025[[#This Row],[Temps travail]]>TempsTravail,Tableau11_2025[[#This Row],[Temps travail]]*24-TempsTravail*24,0) -> 0.5 | H12: =WEEKNUM(A12,2) -> 46
A13: 45973 | B13: 0.34166667 | C13: 0.68541667 | D13: 0.041666667 | E13: =IF(Tableau11_2025[[#This Row],[Arrivée]]<>"",(Tableau11_2025[[#This Row],[Départ]] - Tableau11_2025[[#This Row],[Arrivée]]) - Tableau11_2025[[#This Row],[Pause]],0) -> 0.30208333 | F13: =IF(Tableau11_2025[[#This Row],[Temps travail]]>TempsTravail,Tableau11_2025[[#This Row],[Temps travail]]-TempsTravail,0) -> 0.010416667 | G13: =IF(Tableau11_2025[[#This Row],[Temps travail]]>TempsTravail,Tableau11_2025[[#This Row],[Temps travail]]*24-TempsTravail*24,0) -> 0.25 | H13: =WEEKNUM(A13,2) -> 46
A14: 45974 | B14: 0.35347222 | C14: 0.69722222 | D14: 0.041666667 | E14: =IF(Tableau11_2025[[#This Row],[Arrivée]]<>"",(Tableau11_2025[[#This Row],[Départ]] - Tableau11_2025[[#This Row],[Arrivée]]) - Tableau11_2025[[#This Row],[Pause]],0) -> 0.30208333 | F14: =IF(Tableau11_2025[[#This Row],[Temps travail]]>TempsTravail,Tableau11_2025[[#This Row],[Temps travail]]-TempsTravail,0) -> 0.010416667 | G14: =IF(Tableau11_2025[[#This Row],[Temps travail]]>TempsTravail,Tableau11_2025[[#This Row],[Temps travail]]*24-TempsTravail*24,0) -> 0.25 | H14: =WEEKNUM(A14,2) -> 46 | J14: Avril | K14: =IF(ISBLANK(L14), "", IF(L14<0, "-" & TEXT(ABS(L14)/24, "h:mm"), TEXT(L14/24, "h:mm"))) -> 5:04 | L14: ='04-2025'!L9 -> 5.0666667 | N14: Année | O14: Mois | P14: Delta Mensuel (h) | Q14: Delta Mensuel (d)
A15: 45975 | B15: 0.34027778 | C15: 0.58958333 | D15: 0.041666667 | E15: =IF(Tableau11_2025[[#This Row],[Arrivée]]<>"",(Tableau11_2025[[#This Row],[Départ]] - Tableau11_2025[[#This Row],[Arrivée]]) - Tableau11_2025[[#This Row],[Pause]],0) -> 0.20763889 | F15: =IF(Tableau11_2025[[#This Row],[Temps travail]]>TempsTravail,Tableau11_2025[[#This Row],[Temps travail]]-TempsTravail,0) -> 0 | G15: =IF(Tableau11_2025[[#This Row],[Temps travail]]>TempsTravail,Tableau11_2025[[#This Row],[Temps travail]]*24-TempsTravail*24,0) -> 0 | H15: =WEEKNUM(A15,2) -> 46 | J15: Mai | K15: =IF(ISBLANK(L15), "", IF(L15<0, "-" & TEXT(ABS(L15)/24, "h:mm"), TEXT(L15/24, "h:mm"))) -> 6:39 | L15: ='05-2025'!L9 -> 6.65 | N15: 2025 | O15: avril | P15: 0.21111111 | Q15: 5.0666667
A16: 45976 | D16: 0.041666667 | E16: =IF(Tableau11_2025[[#This Row],[Arrivée]]<>"",(Tableau11_2025[[#This Row],[Départ]] - Tableau11_2025[[#This Row],[Arrivée]]) - Tableau11_2025[[#This Row],[Pause]],0) -> 0 | F16: =IF(Tableau11_2025[[#This Row],[Temps travail]]>TempsTravail,Tableau11_2025[[#This Row],[Temps travail]]-TempsTravail,0) -> 0 | G16: =IF(Tableau11_2025[[#This Row],[Temps travail]]>TempsTravail,Tableau11_2025[[#This Row],[Temps travail]]*24-TempsTravail*24,0) -> 0 | H16: =WEEKNUM(A16,2) -> 46 | J16: Juin | K16: =IF(ISBLANK(L16), "", IF(L16<0, "-" & TEXT(ABS(L16)/24, "h:mm"), TEXT(L16/24, "h:mm"))) -> 8:01 | L16: ='06-2025'!L9 -> 8.0166667 | O16: mai | P16: 0.27708333 | Q16: 6.65
A17: 45977 | D17: 0.041666667 | E17: =IF(Tableau11_2025[[#This Row],[Arrivée]]<>"",(Tableau11_2025[[#This Row],[Départ]] - Tableau11_2025[[#This Row],[Arrivée]]) - Tableau11_2025[[#This Row],[Pause]],0) -> 0 | F17: =IF(Tableau11_2025[[#This Row],[Temps travail]]>TempsTravail,Tableau11_2025[[#This Row],[Temps travail]]-TempsTravail,0) -> 0 | G17: =IF(Tableau11_2025[[#This Row],[Temps travail]]>TempsTravail,Tableau11_2025[[#This Row],[Temps travail]]*24-TempsTravail*24,0) -> 0 | H17: =WEEKNUM(A17,2) -> 46 | J17: Juillet | K17: =IF(ISBLANK(L17), "", IF(L17<0, "-" & TEXT(ABS(L17)/24, "h:mm"), TEXT(L17/24, "h:mm"))) -> 16:23 | L17: ='07-2025'!L8 -> 16.383333 | O17: juin | P17: 0.33402778 | Q17: 8.0166667
A18: 45978 | B18: 0.34027778 | C18: 0.69930556 | D18: 0.041666667 | E18: =IF(Tableau11_2025[[#This Row],[Arrivée]]<>"",(Tableau11_2025[[#This Row],[Départ]] - Tableau11_2025[[#This Row],[Arrivée]]) - Tableau11_2025[[#This Row],[Pause]],0) -> 0.31736111 | F18: =IF(Tableau11_2025[[#This Row],[Temps travail]]>TempsTravail,Tableau11_2025[[#This Row],[Temps travail]]-TempsTravail,0) -> 0.025694444 | G18: =IF(Tableau11_2025[[#This Row],[Temps travail]]>TempsTravail,Tableau11_2025[[#This Row],[Temps travail]]*24-TempsTravail*24,0) -> 0.61666667 | H18: =WEEKNUM(A18,2) -> 47 | J18: Aout | K18: =IF(ISBLANK(L18), "", IF(L18<0, "-" & TEXT(ABS(L18)/24, "h:mm"), TEXT(L18/24, "h:mm"))) -> 15:08 | L18: ='08-2025'!L9 -> 15.133333 | O18: juillet | P18: 0.68263889 | Q18: 16.383333
A19: 45979 | B19: 0.34305556 | C19: 0.72569444 | D19: 0.041666667 | E19: =IF(Tableau11_2025[[#This Row],[Arrivée]]<>"",(Tableau11_2025[[#This Row],[Départ]] - Tableau11_2025[[#This Row],[Arrivée]]) - Tableau11_2025[[#This Row],[Pause]],0) -> 0.34097222 | F19: =IF(Tableau11_2025[[#This Row],[Temps travail]]>TempsTravail,Tableau11_2025[[#This Row],[Temps travail]]-TempsTravail,0) -> 0.049305556 | G19: =IF(Tableau11_2025[[#This Row],[Temps travail]]>TempsTravail,Tableau11_2025[[#This Row],[Temps travail]]*24-TempsTravail*24,0) -> 1.1833333 | H19: =WEEKNUM(A19,2) -> 47 | J19: Septembre | K19: =IF(ISBLANK(L19), "", IF(L19<0, "-" & TEXT(ABS(L19)/24, "h:mm"), TEXT(L19/24, "h:mm"))) -> 13:21 | L19: ='09-2025'!L9 -> 13.35 | O19: août | P19: 0.63055556 | Q19: 15.133333
A20: 45980 | B20: 0.34166667 | C20: 0.71041667 | D20: 0.041666667 | E20: =IF(Tableau11_2025[[#This Row],[Arrivée]]<>"",(Tableau11_2025[[#This Row],[Départ]] - Tableau11_2025[[#This Row],[Arrivée]]) - Tableau11_2025[[#This Row],[Pause]],0) -> 0.32708333 | F20: =IF(Tableau11_2025[[#This Row],[Temps travail]]>TempsTravail,Tableau11_2025[[#This Row],[Temps travail]]-TempsTravail,0) -> 0.035416667 | G20: =IF(Tableau11_2025[[#This Row],[Temps travail]]>TempsTravail,Tableau11_2025[[#This Row],[Temps travail]]*24-TempsTravail*24,0) -> 0.85 | H20: =WEEKNUM(A20,2) -> 47 | J20: Octobre | K20: =IF(ISBLANK(L20), "", IF(L20<0, "-" & TEXT(ABS(L20)/24, "h:mm"), TEXT(L20/24, "h:mm"))) -> 19:54 | L20: ='10-2025'!L9 -> 19.9 | O20: septembre | P20: 0.55625 | Q20: 13.35
A21: 45981 | B21: 0.33402778 | C21: 0.71736111 | D21: 0.041666667 | E21: =IF(Tableau11_2025[[#This Row],[Arrivée]]<>"",(Tableau11_2025[[#This Row],[Départ]] - Tableau11_2025[[#This Row],[Arrivée]]) - Tableau11_2025[[#This Row],[Pause]],0) -> 0.34166667 | F21: =IF(Tableau11_2025[[#This Row],[Temps travail]]>TempsTravail,Tableau11_2025[[#This Row],[Temps travail]]-TempsTravail,0) -> 0.05 | G21: =IF(Tableau11_2025[[#This Row],[Temps travail]]>TempsTravail,Tableau11_2025[[#This Row],[Temps travail]]*24-TempsTravail*24,0) -> 1.2 | H21: =WEEKNUM(A21,2) -> 47 | J21: Novembre | K21: =IF(ISBLANK(L21), "", IF(L21<0, "-" & TEXT(ABS(L21)/24, "h:mm"), TEXT(L21/24, "h:mm"))) -> 10:32 | L21: ='11-2025'!L9 -> 10.533333 | O21: octobre | P21: 0.82916667 | Q21: 19.9
A22: 45982 | B22: 0.33888889 | C22: 0.59375 | D22: 0.041666667 | E22: =IF(Tableau11_2025[[#This Row],[Arrivée]]<>"",(Tableau11_2025[[#This Row],[Départ]] - Tableau11_2025[[#This Row],[Arrivée]]) - Tableau11_2025[[#This Row],[Pause]],0) -> 0.21319444 | F22: =IF(Tableau11_2025[[#This Row],[Temps travail]]>TempsTravail,Tableau11_2025[[#This Row],[Temps travail]]-TempsTravail,0) -> 0 | G22: =IF(Tableau11_2025[[#This Row],[Temps travail]]>TempsTravail,Tableau11_2025[[#This Row],[Temps travail]]*24-TempsTravail*24,0) -> 0 | H22: =WEEKNUM(A22,2) -> 47 | J22: Decembre | K22: =IF(ISBLANK(L22), "", IF(L22<0, "-" & TEXT(ABS(L22)/24, "h:mm"), TEXT(L22/24, "h:mm"))) -> 8:59 | L22: ='12-2025'!L9 -> 8.9833333 | O22: novembre | P22: 0.43888889 | Q22: 10.533333
A23: 45983 | D23: 0.041666667 | E23: =IF(Tableau11_2025[[#This Row],[Arrivée]]<>"",(Tableau11_2025[[#This Row],[Départ]] - Tableau11_2025[[#This Row],[Arrivée]]) - Tableau11_2025[[#This Row],[Pause]],0) -> 0 | F23: =IF(Tableau11_2025[[#This Row],[Temps travail]]>TempsTravail,Tableau11_2025[[#This Row],[Temps travail]]-TempsTravail,0) -> 0 | G23: =IF(Tableau11_2025[[#This Row],[Temps travail]]>TempsTravail,Tableau11_2025[[#This Row],[Temps travail]]*24-TempsTravail*24,0) -> 0 | H23: =WEEKNUM(A23,2) -> 47 | O23: décembre | P23: 0.37430556 | Q23: 8.9833333
A24: 45984 | D24: 0.041666667 | E24: =IF(Tableau11_2025[[#This Row],[Arrivée]]<>"",(Tableau11_2025[[#This Row],[Départ]] - Tableau11_2025[[#This Row],[Arrivée]]) - Tableau11_2025[[#This Row],[Pause]],0) -> 0 | F24: =IF(Tableau11_2025[[#This Row],[Temps travail]]>TempsTravail,Tableau11_2025[[#This Row],[Temps travail]]-TempsTravail,0) -> 0 | G24: =IF(Tableau11_2025[[#This Row],[Temps travail]]>TempsTravail,Tableau11_2025[[#This Row],[Temps travail]]*24-TempsTravail*24,0) -> 0 | H24: =WEEKNUM(A24,2) -> 47 | N24: Total 2025 | P24: 4.3340278 | Q24: 104.01667
A25: 45985 | B25: 0.34444444 | C25: 0.72152778 | D25: 0.041666667 | E25: =IF(Tableau11_2025[[#This Row],[Arrivée]]<>"",(Tableau11_2025[[#This Row],[Départ]] - Tableau11_2025[[#This Row],[Arrivée]]) - Tableau11_2025[[#This Row],[Pause]],0) -> 0.33541667 | F25: =IF(Tableau11_2025[[#This Row],[Temps travail]]>TempsTravail,Tableau11_2025[[#This Row],[Temps travail]]-TempsTravail,0) -> 0.04375 | G25: =IF(Tableau11_2025[[#This Row],[Temps travail]]>TempsTravail,Tableau11_2025[[#This Row],[Temps travail]]*24-TempsTravail*24,0) -> 1.05 | H25: =WEEKNUM(A25,2) -> 48 | N25: 2026 | O25: janvier | P25: 0.097916667 | Q25: 2.35
A26: 45986 | B26: 0.33333333 | C26: 0.66666667 | D26: 0.041666667 | E26: =IF(Tableau11_2025[[#This Row],[Arrivée]]<>"",(Tableau11_2025[[#This Row],[Départ]] - Tableau11_2025[[#This Row],[Arrivée]]) - Tableau11_2025[[#This Row],[Pause]],0) -> 0.29166667 | F26: =IF(Tableau11_2025[[#This Row],[Temps travail]]>TempsTravail,Tableau11_2025[[#This Row],[Temps travail]]-TempsTravail,0) -> 0 | G26: =IF(Tableau11_2025[[#This Row],[Temps travail]]>TempsTravail,Tableau11_2025[[#This Row],[Temps travail]]*24-TempsTravail*24,0) -> 0 | H26: =WEEKNUM(A26,2) -> 48 | O26: février | P26: 0 | Q26: 0
A27: 45987 | B27: 0.33680556 | C27: 0.69375 | D27: 0.041666667 | E27: =IF(Tableau11_2025[[#This Row],[Arrivée]]<>"",(Tableau11_2025[[#This Row],[Départ]] - Tableau11_2025[[#This Row],[Arrivée]]) - Tableau11_2025[[#This Row],[Pause]],0) -> 0.31527778 | F27: =IF(Tableau11_2025[[#This Row],[Temps travail]]>TempsTravail,Tableau11_2025[[#This Row],[Temps travail]]-TempsTravail,0) -> 0.023611111 | G27: =IF(Tableau11_2025[[#This Row],[Temps travail]]>TempsTravail,Tableau11_2025[[#This Row],[Temps travail]]*24-TempsTravail*24,0) -> 0.56666667 | H27: =WEEKNUM(A27,2) -> 48 | N27: Total 2026 | P27: 0.097916667 | Q27: 2.35
A28: 45988 | B28: 0.34027778 | C28: 0.70277778 | D28: 0.041666667 | E28: =IF(Tableau11_2025[[#This Row],[Arrivée]]<>"",(Tableau11_2025[[#This Row],[Départ]] - Tableau11_2025[[#This Row],[Arrivée]]) - Tableau11_2025[[#This Row],[Pause]],0) -> 0.32083333 | F28: =IF(Tableau11_2025[[#This Row],[Temps travail]]>TempsTravail,Tableau11_2025[[#This Row],[Temps travail]]-TempsTravail,0) -> 0.029166667 | G28: =IF(Tableau11_2025[[#This Row],[Temps travail]]>TempsTravail,Tableau11_2025[[#This Row],[Temps travail]]*24-TempsTravail*24,0) -> 0.7 | H28: =WEEKNUM(A28,2) -> 48 | N28: Total général | P28: 4.4319444 | Q28: 106.36667
A29: 45989 | B29: 0.33958333 | C29: 0.59027778 | D29: 0.041666667 | E29: =IF(Tableau11_2025[[#This Row],[Arrivée]]<>"",(Tableau11_2025[[#This Row],[Départ]] - Tableau11_2025[[#This Row],[Arrivée]]) - Tableau11_2025[[#This Row],[Pause]],0) -> 0.20902778 | F29: =IF(Tableau11_2025[[#This Row],[Temps travail]]>TempsTravail,Tableau11_2025[[#This Row],[Temps travail]]-TempsTravail,0) -> 0 | G29: =IF(Tableau11_2025[[#This Row],[Temps travail]]>TempsTravail,Tableau11_2025[[#This Row],[Temps travail]]*24-TempsTravail*24,0) -> 0 | H29: =WEEKNUM(A29,2) -> 48
A30: 45990 | D30: 0.041666667 | E30: =IF(Tableau11_2025[[#This Row],[Arrivée]]<>"",(Tableau11_2025[[#This Row],[Départ]] - Tableau11_2025[[#This Row],[Arrivée]]) - Tableau11_2025[[#This Row],[Pause]],0) -> 0 | F30: =IF(Tableau11_2025[[#This Row],[Temps travail]]>TempsTravail,Tableau11_2025[[#This Row],[Temps travail]]-TempsTravail,0) -> 0 | G30: =IF(Tableau11_2025[[#This Row],[Temps travail]]>TempsTravail,Tableau11_2025[[#This Row],[Temps travail]]*24-TempsTravail*24,0) -> 0 | H30: =WEEKNUM(A30,2) -> 48
A31: 45991 | D31: 0.041666667 | E31: =IF(Tableau11_2025[[#This Row],[Arrivée]]<>"",(Tableau11_2025[[#This Row],[Départ]] - Tableau11_2025[[#This Row],[Arrivée]]) - Tableau11_2025[[#This Row],[Pause]],0) -> 0 | F31: =IF(Tableau11_2025[[#This Row],[Temps travail]]>TempsTravail,Tableau11_2025[[#This Row],[Temps travail]]-TempsTravail,0) -> 0 | G31: =IF(Tableau11_2025[[#This Row],[Temps travail]]>TempsTravail,Tableau11_2025[[#This Row],[Temps travail]]*24-TempsTravail*24,0) -> 0 | H31: =WEEKNUM(A31,2) -> 48

Sheet 12-2025
A1: Date | B1: Arrivée | C1: Départ | D1: Pause | E1: Temps travail | F1: Delta (h) | G1: Delta (d) | H1: Semaine | N1: Année | O1: 2025 | S1: Mois | T1: décembre
A2: 45992 | B2: 0.34375 | C2: 0.70416667 | D2: 0.041666667 | E2: =IF(Tableau12_2025[[#This Row],[Arrivée]]<>"",(Tableau12_2025[[#This Row],[Départ]] - Tableau12_2025[[#This Row],[Arrivée]]) - Tableau12_2025[[#This Row],[Pause]],0) -> 0.31875 | F2: =IF(Tableau12_2025[[#This Row],[Temps travail]]>TempsTravail,Tableau12_2025[[#This Row],[Temps travail]]-TempsTravail,0) -> 0.027083333 | G2: =IF(Tableau12_2025[[#This Row],[Temps travail]]>TempsTravail,Tableau12_2025[[#This Row],[Temps travail]]*24-TempsTravail*24,0) -> 0.65 | H2: =WEEKNUM(A2,2) -> 49 | J2: Semaine | K2: Delta total (h) | N2: Mois | O2: décembre
A3: 45993 | B3: 0.33333333 | C3: 0.66666667 | D3: 0.041666667 | E3: =IF(Tableau12_2025[[#This Row],[Arrivée]]<>"",(Tableau12_2025[[#This Row],[Départ]] - Tableau12_2025[[#This Row],[Arrivée]]) - Tableau12_2025[[#This Row],[Pause]],0) -> 0.29166667 | F3: =IF(Tableau12_2025[[#This Row],[Temps travail]]>TempsTravail,Tableau12_2025[[#This Row],[Temps travail]]-TempsTravail,0) -> 0 | G3: =IF(Tableau12_2025[[#This Row],[Temps travail]]>TempsTravail,Tableau12_2025[[#This Row],[Temps travail]]*24-TempsTravail*24,0) -> 0 | H3: =WEEKNUM(A3,2) -> 49 | J3: 49 | K3: =IF(ISBLANK(L3), "", IF(L3<0, "-" & TEXT(ABS(L3)/24, "h:mm"), TEXT(L3/24, "h:mm"))) -> 0:39 | L3: =SUMIF(H:H, J3, G:G) -> 0.65 | S3: Année | T3: Semaine | U3: Delta hebdo (d)
A4: 45994 | B4: 0.33333333 | C4: 0.66666667 | D4: 0.041666667 | E4: =IF(Tableau12_2025[[#This Row],[Arrivée]]<>"",(Tableau12_2025[[#This Row],[Départ]] - Tableau12_2025[[#This Row],[Arrivée]]) - Tableau12_2025[[#This Row],[Pause]],0) -> 0.29166667 | F4: =IF(Tableau12_2025[[#This Row],[Temps travail]]>TempsTravail,Tableau12_2025[[#This Row],[Temps travail]]-TempsTravail,0) -> 0 | G4: =IF(Tableau12_2025[[#This Row],[Temps travail]]>TempsTravail,Tableau12_2025[[#This Row],[Temps travail]]*24-TempsTravail*24,0) -> 0 | H4: =WEEKNUM(A4,2) -> 49 | J4: 50 | K4: =IF(ISBLANK(L4), "", IF(L4<0, "-" & TEXT(ABS(L4)/24, "h:mm"), TEXT(L4/24, "h:mm"))) -> 2:59 | L4: =SUMIF(H:H, J4, G:G) -> 2.9833333 | N4: Semaine | O4: Delta Hebdo. (h) | P4: DeltaHebdo. (d) | S4: 2025 | T4: 49 | U4: 0.65
A5: 45995 | B5: 0.33333333 | C5: 0.66666667 | D5: 0.041666667 | E5: =IF(Tableau12_2025[[#This Row],[Arrivée]]<>"",(Tableau12_2025[[#This Row],[Départ]] - Tableau12_2025[[#This Row],[Arrivée]]) - Tableau12_2025[[#This Row],[Pause]],0) -> 0.29166667 | F5: =IF(Tableau12_2025[[#This Row],[Temps travail]]>TempsTravail,Tableau12_2025[[#This Row],[Temps travail]]-TempsTravail,0) -> 0 | G5: =IF(Tableau12_2025[[#This Row],[Temps travail]]>TempsTravail,Tableau12_2025[[#This Row],[Temps travail]]*24-TempsTravail*24,0) -> 0 | H5: =WEEKNUM(A5,2) -> 49 | J5: 51 | K5: =IF(ISBLANK(L5), "", IF(L5<0, "-" & TEXT(ABS(L5)/24, "h:mm"), TEXT(L5/24, "h:mm"))) -> 2:21 | L5: =SUMIF(H:H, J5, G:G) -> 2.35 | N5: 49 | O5: 0.027083333 | P5: 0.65 | T5: 50 | U5: 2.9833333
A6: 45996 | B6: 0.33333333 | C6: 0.66666667 | D6: 0.041666667 | E6: =IF(Tableau12_2025[[#This Row],[Arrivée]]<>"",(Tableau12_2025[[#This Row],[Départ]] - Tableau12_2025[[#This Row],[Arrivée]]) - Tableau12_2025[[#This Row],[Pause]],0) -> 0.29166667 | F6: =IF(Tableau12_2025[[#This Row],[Temps travail]]>TempsTravail,Tableau12_2025[[#This Row],[Temps travail]]-TempsTravail,0) -> 0 | G6: =IF(Tableau12_2025[[#This Row],[Temps travail]]>TempsTravail,Tableau12_2025[[#This Row],[Temps travail]]*24-TempsTravail*24,0) -> 0 | H6: =WEEKNUM(A6,2) -> 49 | J6: 52 | K6: =IF(ISBLANK(L6), "", IF(L6<0, "-" & TEXT(ABS(L6)/24, "h:mm"), TEXT(L6/24, "h:mm"))) -> 3:00 | L6: =SUMIF(H:H, J6, G:G) -> 3 | N6: 50 | O6: 0.12430556 | P6: 2.9833333 | T6: 51 | U6: 2.35
A7: 45997 | D7: 0.041666667 | E7: =IF(Tableau12_2025[[#This Row],[Arrivée]]<>"",(Tableau12_2025[[#This Row],[Départ]] - Tableau12_2025[[#This Row],[Arrivée]]) - Tableau12_2025[[#This Row],[Pause]],0) -> 0 | F7: =IF(Tableau12_2025[[#This Row],[Temps travail]]>TempsTravail,Tableau12_2025[[#This Row],[Temps travail]]-TempsTravail,0) -> 0 | G7: =IF(Tableau12_2025[[#This Row],[Temps travail]]>TempsTravail,Tableau12_2025[[#This Row],[Temps travail]]*24-TempsTravail*24,0) -> 0 | H7: =WEEKNUM(A7,2) -> 49 | J7: 53 | K7: =IF(ISBLANK(L7), "", IF(L7<0, "-" & TEXT(ABS(L7)/24, "h:mm"), TEXT(L7/24, "h:mm"))) -> 0:00 | L7: =SUMIF(H:H, J7, G:G) -> 0 | N7: 51 | O7: 0.097916667 | P7: 2.35 | T7: 52 | U7: 3
A8: 45998 | D8: 0.041666667 | E8: =IF(Tableau12_2025[[#This Row],[Arrivée]]<>"",(Tableau12_2025[[#This Row],[Départ]] - Tableau12_2025[[#This Row],[Arrivée]]) - Tableau12_2025[[#This Row],[Pause]],0) -> 0 | F8: =IF(Tableau12_2025[[#This Row],[Temps travail]]>TempsTravail,Tableau12_2025[[#This Row],[Temps travail]]-TempsTravail,0) -> 0 | G8: =IF(Tableau12_2025[[#This Row],[Temps travail]]>TempsTravail,Tableau12_2025[[#This Row],[Temps travail]]*24-TempsTravail*24,0) -> 0 | H8: =WEEKNUM(A8,2) -> 49 | K8: =IF(ISBLANK(L8), "", IF(L8<0, "-" & TEXT(ABS(L8)/24, "h:mm"), TEXT(L8/24, "h:mm"))) | N8: 52 | O8: 0.125 | P8: 3 | T8: 53 | U8: -0.1875
A9: 45999 | B9: 0.33819444 | C9: 0.69583333 | D9: 0.041666667 | E9: =IF(Tableau12_2025[[#This Row],[Arrivée]]<>"",(Tableau12_2025[[#This Row],[Départ]] - Tableau12_2025[[#This Row],[Arrivée]]) - Tableau12_2025[[#This Row],[Pause]],0) -> 0.31597222 | F9: =IF(Tableau12_2025[[#This Row],[Temps travail]]>TempsTravail,Tableau12_2025[[#This Row],[Temps travail]]-TempsTravail,0) -> 0.024305556 | G9: =IF(Tableau12_2025[[#This Row],[Temps travail]]>TempsTravail,Tableau12_2025[[#This Row],[Temps travail]]*24-TempsTravail*24,0) -> 0.58333333 | H9: =WEEKNUM(A9,2) -> 50 | J9: Total mois | K9: =IF(ISBLANK(L9), "", IF(L9<0, "-" & TEXT(ABS(L9)/24, "h:mm"), TEXT(L9/24, "h:mm"))) -> 8:59 | L9: =SUM(L3:L7) -> 8.9833333 | N9: 53 | O9: 0 | P9: 0 | S9: Total 2025 | U9: 8.7958333
A10: 46000 | B10: 0.33263889 | C10: 0.69513889 | D10: 0.041666667 | E10: =IF(Tableau12_2025[[#This Row],[Arrivée]]<>"",(Tableau12_2025[[#This Row],[Départ]] - Tableau12_2025[[#This Row],[Arrivée]]) - Tableau12_2025[[#This Row],[Pause]],0) -> 0.32083333 | F10: =IF(Tableau12_2025[[#This Row],[Temps travail]]>TempsTravail,Tableau12_2025[[#This Row],[Temps travail]]-TempsTravail,0) -> 0.029166667 | G10: =IF(Tableau12_2025[[#This Row],[Temps travail]]>TempsTravail,Tableau12_2025[[#This Row],[Temps travail]]*24-TempsTravail*24,0) -> 0.7 | H10: =WEEKNUM(A10,2) -> 50 | J10: Total année | K10: =IF(ISBLANK(L10), "", IF(L10<0, "-" & TEXT(ABS(L10)/24, "[h]:mm"), TEXT(L10/24, "[h]:mm"))) -> 104:01 | L10: =SUM(L14:L22) -> 104.01667 | N10: Total général | O10: 0.37430556 | P10: 8.9833333 | S10: Total général | U10: 8.7958333
A11: 46001 | B11: 0.32986111 | C11: 0.70763889 | D11: 0.041666667 | E11: =IF(Tableau12_2025[[#This Row],[Arrivée]]<>"",(Tableau12_2025[[#This Row],[Départ]] - Tableau12_2025[[#This Row],[Arrivée]]) - Tableau12_2025[[#This Row],[Pause]],0) -> 0.33611111 | F11: =IF(Tableau12_2025[[#This Row],[Temps travail]]>TempsTravail,Tableau12_2025[[#This Row],[Temps travail]]-TempsTravail,0) -> 0.044444444 | G11: =IF(Tableau12_2025[[#This Row],[Temps travail]]>TempsTravail,Tableau12_2025[[#This Row],[Temps travail]]*24-TempsTravail*24,0) -> 1.0666667 | H11: =WEEKNUM(A11,2) -> 50
A12: 46002 | B12: 0.33888889 | C12: 0.69861111 | D12: 0.041666667 | E12: =IF(Tableau12_2025[[#This Row],[Arrivée]]<>"",(Tableau12_2025[[#This Row],[Départ]] - Tableau12_2025[[#This Row],[Arrivée]]) - Tableau12_2025[[#This Row],[Pause]],0) -> 0.31805556 | F12: =IF(Tableau12_2025[[#This Row],[Temps travail]]>TempsTravail,Tableau12_2025[[#This Row],[Temps travail]]-TempsTravail,0) -> 0.026388889 | G12: =IF(Tableau12_2025[[#This Row],[Temps travail]]>TempsTravail,Tableau12_2025[[#This Row],[Temps travail]]*24-TempsTravail*24,0) -> 0.63333333 | H12: =WEEKNUM(A12,2) -> 50
A13: 46003 | B13: 0.33819444 | C13: 0.54861111 | D13: 0.041666667 | E13: =IF(Tableau12_2025[[#This Row],[Arrivée]]<>"",(Tableau12_2025[[#This Row],[Départ]] - Tableau12_2025[[#This Row],[Arrivée]]) - Tableau12_2025[[#This Row],[Pause]],0) -> 0.16875 | F13: =IF(Tableau12_2025[[#This Row],[Temps travail]]>TempsTravail,Tableau12_2025[[#This Row],[Temps travail]]-TempsTravail,0) -> 0 | G13: =IF(Tableau12_2025[[#This Row],[Temps travail]]>TempsTravail,Tableau12_2025[[#This Row],[Temps travail]]*24-TempsTravail*24,0) -> 0 | H13: =WEEKNUM(A13,2) -> 50
A14: 46004 | D14: 0.041666667 | E14: =IF(Tableau12_2025[[#This Row],[Arrivée]]<>"",(Tableau12_2025[[#This Row],[Départ]] - Tableau12_2025[[#This Row],[Arrivée]]) - Tableau12_2025[[#This Row],[Pause]],0) -> 0 | F14: =IF(Tableau12_2025[[#This Row],[Temps travail]]>TempsTravail,Tableau12_2025[[#This Row],[Temps travail]]-TempsTravail,0) -> 0 | G14: =IF(Tableau12_2025[[#This Row],[Temps travail]]>TempsTravail,Tableau12_2025[[#This Row],[Temps travail]]*24-TempsTravail*24,0) -> 0 | H14: =WEEKNUM(A14,2) -> 50 | J14: Avril | K14: =IF(ISBLANK(L14), "", IF(L14<0, "-" & TEXT(ABS(L14)/24, "h:mm"), TEXT(L14/24, "h:mm"))) -> 5:04 | L14: ='04-2025'!L9 -> 5.0666667 | N14: Année | O14: Mois | P14: Delta Mensuel (h) | Q14: Delta Mensuel (d) | S14: Année | T14: Mois | U14: Delta mensuel (h) | V14: Delta hebdo (d)
A15: 46005 | D15: 0.041666667 | E15: =IF(Tableau12_2025[[#This Row],[Arrivée]]<>"",(Tableau12_2025[[#This Row],[Départ]] - Tableau12_2025[[#This Row],[Arrivée]]) - Tableau12_2025[[#This Row],[Pause]],0) -> 0 | F15: =IF(Tableau12_2025[[#This Row],[Temps travail]]>TempsTravail,Tableau12_2025[[#This Row],[Temps travail]]-TempsTravail,0) -> 0 | G15: =IF(Tableau12_2025[[#This Row],[Temps travail]]>TempsTravail,Tableau12_2025[[#This Row],[Temps travail]]*24-TempsTravail*24,0) -> 0 | H15: =WEEKNUM(A15,2) -> 50 | J15: Mai | K15: =IF(ISBLANK(L15), "", IF(L15<0, "-" & TEXT(ABS(L15)/24, "h:mm"), TEXT(L15/24, "h:mm"))) -> 6:39 | L15: ='05-2025'!L9 -> 6.65 | N15: 2025 | O15: avril | P15: 0.21111111 | Q15: 5.0666667 | S15: 2025 | T15: avril | U15: 0.21111111 | V15: 5.0666667
A16: 46006 | B16: 0.34236111 | C16: 0.69513889 | D16: 0.041666667 | E16: =IF(Tableau12_2025[[#This Row],[Arrivée]]<>"",(Tableau12_2025[[#This Row],[Départ]] - Tableau12_2025[[#This Row],[Arrivée]]) - Tableau12_2025[[#This Row],[Pause]],0) -> 0.31111111 | F16: =IF(Tableau12_2025[[#This Row],[Temps travail]]>TempsTravail,Tableau12_2025[[#This Row],[Temps travail]]-TempsTravail,0) -> 0.019444444 | G16: =IF(Tableau12_2025[[#This Row],[Temps travail]]>TempsTravail,Tableau12_2025[[#This Row],[Temps travail]]*24-TempsTravail*24,0) -> 0.46666667 | H16: =WEEKNUM(A16,2) -> 51 | J16: Juin | K16: =IF(ISBLANK(L16), "", IF(L16<0, "-" & TEXT(ABS(L16)/24, "h:mm"), TEXT(L16/24, "h:mm"))) -> 8:01 | L16: ='06-2025'!L9 -> 8.0166667 | O16: mai | P16: 0.27708333 | Q16: 6.65 | T16: mai | U16: 0.27708333 | V16: 6.65
A17: 46007 | B17: 0.34097222 | C17: 0.69861111 | D17: 0.041666667 | E17: =IF(Tableau12_2025[[#This Row],[Arrivée]]<>"",(Tableau12_2025[[#This Row],[Départ]] - Tableau12_2025[[#This Row],[Arrivée]]) - Tableau12_2025[[#This Row],[Pause]],0) -> 0.31597222 | F17: =IF(Tableau12_2025[[#This Row],[Temps travail]]>TempsTravail,Tableau12_2025[[#This Row],[Temps travail]]-TempsTravail,0) -> 0.024305556 | G17: =IF(Tableau12_2025[[#This Row],[Temps travail]]>TempsTravail,Tableau12_2025[[#This Row],[Temps travail]]*24-TempsTravail*24,0) -> 0.58333333 | H17: =WEEKNUM(A17,2) -> 51 | J17: Juillet | K17: =IF(ISBLANK(L17), "", IF(L17<0, "-" & TEXT(ABS(L17)/24, "h:mm"), TEXT(L17/24, "h:mm"))) -> 16:23 | L17: ='07-2025'!L8 -> 16.383333 | O17: juin | P17: 0.33402778 | Q17: 8.0166667 | T17: juin | U17: 0.33402778 | V17: 8.0166667
A18: 46008 | B18: 0.33611111 | C18: 0.69722222 | D18: 0.041666667 | E18: =IF(Tableau12_2025[[#This Row],[Arrivée]]<>"",(Tableau12_2025[[#This Row],[Départ]] - Tableau12_2025[[#This Row],[Arrivée]]) - Tableau12_2025[[#This Row],[Pause]],0) -> 0.31944444 | F18: =IF(Tableau12_2025[[#This Row],[Temps travail]]>TempsTravail,Tableau12_2025[[#This Row],[Temps travail]]-TempsTravail,0) -> 0.027777778 | G18: =IF(Tableau12_2025[[#This Row],[Temps travail]]>TempsTravail,Tableau12_2025[[#This Row],[Temps travail]]*24-TempsTravail*24,0) -> 0.66666667 | H18: =WEEKNUM(A18,2) -> 51 | J18: Aout | K18: =IF(ISBLANK(L18), "", IF(L18<0, "-" & TEXT(ABS(L18)/24, "h:mm"), TEXT(L18/24, "h:mm"))) -> 15:08 | L18: ='08-2025'!L9 -> 15.133333 | O18: juillet | P18: 0.68263889 | Q18: 16.383333 | T18: juillet | U18: 0.68263889 | V18: 16.383333
A19: 46009 | B19: 0.33958333 | C19: 0.69930556 | D19: 0.041666667 | E19: =IF(Tableau12_2025[[#This Row],[Arrivée]]<>"",(Tableau12_2025[[#This Row],[Départ]] - Tableau12_2025[[#This Row],[Arrivée]]) - Tableau12_2025[[#This Row],[Pause]],0) -> 0.31805556 | F19: =IF(Tableau12_2025[[#This Row],[Temps travail]]>TempsTravail,Tableau12_2025[[#This Row],[Temps travail]]-TempsTravail,0) -> 0.026388889 | G19: =IF(Tableau12_2025[[#This Row],[Temps travail]]>TempsTravail,Tableau12_2025[[#This Row],[Temps travail]]*24-TempsTravail*24,0) -> 0.63333333 | H19: =WEEKNUM(A19,2) -> 51 | J19: Septembre | K19: =IF(ISBLANK(L19), "", IF(L19<0, "-" & TEXT(ABS(L19)/24, "h:mm"), TEXT(L19/24, "h:mm"))) -> 13:21 | L19: ='09-2025'!L9 -> 13.35 | O19: août | P19: 0.63055556 | Q19: 15.133333 | T19: août | U19: 0.63055556 | V19: 15.133333
A20: 46010 | B20: 0.33958333 | C20: 0.59861111 | D20: 0.041666667 | E20: =IF(Tableau12_2025[[#This Row],[Arrivée]]<>"",(Tableau12_2025[[#This Row],[Départ]] - Tableau12_2025[[#This Row],[Arrivée]]) - Tableau12_2025[[#This Row],[Pause]],0) -> 0.21736111 | F20: =IF(Tableau12_2025[[#This Row],[Temps travail]]>TempsTravail,Tableau12_2025[[#This Row],[Temps travail]]-TempsTravail,0) -> 0 | G20: =IF(Tableau12_2025[[#This Row],[Temps travail]]>TempsTravail,Tableau12_2025[[#This Row],[Temps travail]]*24-TempsTravail*24,0) -> 0 | H20: =WEEKNUM(A20,2) -> 51 | J20: Octobre | K20: =IF(ISBLANK(L20), "", IF(L20<0, "-" & TEXT(ABS(L20)/24, "h:mm"), TEXT(L20/24, "h:mm"))) -> 19:54 | L20: ='10-2025'!L9 -> 19.9 | O20: septembre | P20: 0.55625 | Q20: 13.35 | T20: septembre | U20: 0.55625 | V20: 13.35
A21: 46011 | D21: 0.041666667 | E21: =IF(Tableau12_2025[[#This Row],[Arrivée]]<>"",(Tableau12_2025[[#This Row],[Départ]] - Tableau12_2025[[#This Row],[Arrivée]]) - Tableau12_2025[[#This Row],[Pause]],0) -> 0 | F21: =IF(Tableau12_2025[[#This Row],[Temps travail]]>TempsTravail,Tableau12_2025[[#This Row],[Temps travail]]-TempsTravail,0) -> 0 | G21: =IF(Tableau12_2025[[#This Row],[Temps travail]]>TempsTravail,Tableau12_2025[[#This Row],[Temps travail]]*24-TempsTravail*24,0) -> 0 | H21: =WEEKNUM(A21,2) -> 51 | J21: Novembre | K21: =IF(ISBLANK(L21), "", IF(L21<0, "-" & TEXT(ABS(L21)/24, "h:mm"), TEXT(L21/24, "h:mm"))) -> 10:32 | L21: ='11-2025'!L9 -> 10.533333 | O21: octobre | P21: 0.82916667 | Q21: 19.9 | T21: octobre | U21: 0.82916667 | V21: 19.9
A22: 46012 | D22: 0.041666667 | E22: =IF(Tableau12_2025[[#This Row],[Arrivée]]<>"",(Tableau12_2025[[#This Row],[Départ]] - Tableau12_2025[[#This Row],[Arrivée]]) - Tableau12_2025[[#This Row],[Pause]],0) -> 0 | F22: =IF(Tableau12_2025[[#This Row],[Temps travail]]>TempsTravail,Tableau12_2025[[#This Row],[Temps travail]]-TempsTravail,0) -> 0 | G22: =IF(Tableau12_2025[[#This Row],[Temps travail]]>TempsTravail,Tableau12_2025[[#This Row],[Temps travail]]*24-TempsTravail*24,0) -> 0 | H22: =WEEKNUM(A22,2) -> 51 | J22: Decembre | K22: =IF(ISBLANK(L22), "", IF(L22<0, "-" & TEXT(ABS(L22)/24, "h:mm"), TEXT(L22/24, "h:mm"))) -> 8:59 | L22: ='12-2025'!L9 -> 8.9833333 | O22: novembre | P22: 0.43888889 | Q22: 10.533333 | T22: novembre | U22: 0.43888889 | V22: 10.533333
A23: 46013 | B23: 0.33611111 | C23: 0.70625 | D23: 0.041666667 | E23: =IF(Tableau12_2025[[#This Row],[Arrivée]]<>"",(Tableau12_2025[[#This Row],[Départ]] - Tableau12_2025[[#This Row],[Arrivée]]) - Tableau12_2025[[#This Row],[Pause]],0) -> 0.32847222 | F23: =IF(Tableau12_2025[[#This Row],[Temps travail]]>TempsTravail,Tableau12_2025[[#This Row],[Temps travail]]-TempsTravail,0) -> 0.036805556 | G23: =IF(Tableau12_2025[[#This Row],[Temps travail]]>TempsTravail,Tableau12_2025[[#This Row],[Temps travail]]*24-TempsTravail*24,0) -> 0.88333333 | H23: =WEEKNUM(A23,2) -> 52 | O23: décembre | P23: 0.37430556 | Q23: 8.9833333 | T23: décembre | U23: 0.18680556 | V23: 8.7958333
A24: 46014 | B24: 0.33333333 | C24: 0.69097222 | D24: 0.041666667 | E24: =IF(Tableau12_2025[[#This Row],[Arrivée]]<>"",(Tableau12_2025[[#This Row],[Départ]] - Tableau12_2025[[#This Row],[Arrivée]]) - Tableau12_2025[[#This Row],[Pause]],0) -> 0.31597222 | F24: =IF(Tableau12_2025[[#This Row],[Temps travail]]>TempsTravail,Tableau12_2025[[#This Row],[Temps travail]]-TempsTravail,0) -> 0.024305556 | G24: =IF(Tableau12_2025[[#This Row],[Temps travail]]>TempsTravail,Tableau12_2025[[#This Row],[Temps travail]]*24-TempsTravail*24,0) -> 0.58333333 | H24: =WEEKNUM(A24,2) -> 52 | N24: Total 2025 | P24: 4.3340278 | Q24: 104.01667 | S24: Total 2025 | U24: 4.1465278 | V24: 103.82917
A25: 46015 | B25: 0.32152778 | C25: 0.69791667 | D25: 0.041666667 | E25: =IF(Tableau12_2025[[#This Row],[Arrivée]]<>"",(Tableau12_2025[[#This Row],[Départ]] - Tableau12_2025[[#This Row],[Arrivée]]) - Tableau12_2025[[#This Row],[Pause]],0) -> 0.33472222 | F25: =IF(Tableau12_2025[[#This Row],[Temps travail]]>TempsTravail,Tableau12_2025[[#This Row],[Temps travail]]-TempsTravail,0) -> 0.043055556 | G25: =IF(Tableau12_2025[[#This Row],[Temps travail]]>TempsTravail,Tableau12_2025[[#This Row],[Temps travail]]*24-TempsTravail*24,0) -> 1.0333333 | H25: =WEEKNUM(A25,2) -> 52 | N25: 2026 | O25: janvier | P25: 0.097916667 | Q25: 2.35 | S25: 2026 | T25: janvier | U25: 0.097916667 | V25: 2.35
A26: 46016 | B26: 0.33333333 | C26: 0.6875 | D26: 0.041666667 | E26: =IF(Tableau12_2025[[#This Row],[Arrivée]]<>"",(Tableau12_2025[[#This Row],[Départ]] - Tableau12_2025[[#This Row],[Arrivée]]) - Tableau12_2025[[#This Row],[Pause]],0) -> 0.3125 | F26: =IF(Tableau12_2025[[#This Row],[Temps travail]]>TempsTravail,Tableau12_2025[[#This Row],[Temps travail]]-TempsTravail,0) -> 0.020833333 | G26: =IF(Tableau12_2025[[#This Row],[Temps travail]]>TempsTravail,Tableau12_2025[[#This Row],[Temps travail]]*24-TempsTravail*24,0) -> 0.5 | H26: =WEEKNUM(A26,2) -> 52 | O26: février | P26: 0 | Q26: 0 | T26: février | U26: 0 | V26: 0
A27: 46017 | D27: 0.041666667 | E27: =IF(Tableau12_2025[[#This Row],[Arrivée]]<>"",(Tableau12_2025[[#This Row],[Départ]] - Tableau12_2025[[#This Row],[Arrivée]]) - Tableau12_2025[[#This Row],[Pause]],0) -> 0 | F27: =IF(Tableau12_2025[[#This Row],[Temps travail]]>TempsTravail,Tableau12_2025[[#This Row],[Temps travail]]-TempsTravail,0) -> 0 | G27: =IF(Tableau12_2025[[#This Row],[Temps travail]]>TempsTravail,Tableau12_2025[[#This Row],[Temps travail]]*24-TempsTravail*24,0) -> 0 | H27: =WEEKNUM(A27,2) -> 52 | N27: Total 2026 | P27: 0.097916667 | Q27: 2.35 | S27: Total 2026 | U27: 0.097916667 | V27: 2.35
A28: 46018 | D28: 0.041666667 | E28: =IF(Tableau12_2025[[#This Row],[Arrivée]]<>"",(Tableau12_2025[[#This Row],[Départ]] - Tableau12_2025[[#This Row],[Arrivée]]) - Tableau12_2025[[#This Row],[Pause]],0) -> 0 | F28: =IF(Tableau12_2025[[#This Row],[Temps travail]]>TempsTravail,Tableau12_2025[[#This Row],[Temps travail]]-TempsTravail,0) -> 0 | G28: =IF(Tableau12_2025[[#This Row],[Temps travail]]>TempsTravail,Tableau12_2025[[#This Row],[Temps travail]]*24-TempsTravail*24,0) -> 0 | H28: =WEEKNUM(A28,2) -> 52 | N28: Total général | P28: 4.4319444 | Q28: 106.36667 | S28: Total général | U28: 4.2444444 | V28: 106.17917
A29: 46019 | D29: 0.041666667 | E29: =IF(Tableau12_2025[[#This Row],[Arrivée]]<>"",(Tableau12_2025[[#This Row],[Départ]] - Tableau12_2025[[#This Row],[Arrivée]]) - Tableau12_2025[[#This Row],[Pause]],0) -> 0 | F29: =IF(Tableau12_2025[[#This Row],[Temps travail]]>TempsTravail,Tableau12_2025[[#This Row],[Temps travail]]-TempsTravail,0) -> 0 | G29: =IF(Tableau12_2025[[#This Row],[Temps travail]]>TempsTravail,Tableau12_2025[[#This Row],[Temps travail]]*24-TempsTravail*24,0) -> 0 | H29: =WEEKNUM(A29,2) -> 52
A30: 46020 | D30: 0.041666667 | E30: =IF(Tableau12_2025[[#This Row],[Arrivée]]<>"",(Tableau12_2025[[#This Row],[Départ]] - Tableau12_2025[[#This Row],[Arrivée]]) - Tableau12_2025[[#This Row],[Pause]],0) -> 0 | F30: =IF(Tableau12_2025[[#This Row],[Temps travail]]>TempsTravail,Tableau12_2025[[#This Row],[Temps travail]]-TempsTravail,0) -> 0 | G30: =IF(Tableau12_2025[[#This Row],[Temps travail]]>TempsTravail,Tableau12_2025[[#This Row],[Temps travail]]*24-TempsTravail*24,0) -> 0 | H30: =WEEKNUM(A30,2) -> 53
A31: 46021 | D31: 0.041666667 | E31: =IF(Tableau12_2025[[#This Row],[Arrivée]]<>"",(Tableau12_2025[[#This Row],[Départ]] - Tableau12_2025[[#This Row],[Arrivée]]) - Tableau12_2025[[#This Row],[Pause]],0) -> 0 | F31: =IF(Tableau12_2025[[#This Row],[Temps travail]]>TempsTravail,Tableau12_2025[[#This Row],[Temps travail]]-TempsTravail,0) -> 0 | G31: =IF(Tableau12_2025[[#This Row],[Temps travail]]>TempsTravail,Tableau12_2025[[#This Row],[Temps travail]]*24-TempsTravail*24,0) -> 0 | H31: =WEEKNUM(A31,2) -> 53
A32: 46022 | D32: 0.041666667 | E32: =IF(Tableau12_2025[[#This Row],[Arrivée]]<>"",(Tableau12_2025[[#This Row],[Départ]] - Tableau12_2025[[#This Row],[Arrivée]]) - Tableau12_2025[[#This Row],[Pause]],0) -> 0 | F32: =IF(Tableau12_2025[[#This Row],[Temps travail]]>TempsTravail,Tableau12_2025[[#This Row],[Temps travail]]-TempsTravail,0) -> 0 | G32: =IF(Tableau12_2025[[#This Row],[Temps travail]]>TempsTravail,Tableau12_2025[[#This Row],[Temps travail]]*24-TempsTravail*24,0) -> 0 | H32: =WEEKNUM(A32,2) -> 53

Sheet 01-2026
B2: Date | C2: Arrivée | D2: Départ | E2: Pause | F2: Temps travail | G2: Delta (h) | H2: Delta (d) | I2: Semaine | L2: Année | M2: 2026
B3: 46023 | E3: 0.041666667 | F3: =IF(Tableau1_2026[[#This Row],[Arrivée]]<>"",(Tableau1_2026[[#This Row],[Départ]] - Tableau1_2026[[#This Row],[Arrivée]]) - Tableau1_2026[[#This Row],[Pause]],0) -> 0 | G3: =IF(Tableau1_2026[[#This Row],[Temps travail]]>TempsTravail,Tableau1_2026[[#This Row],[Temps travail]]-TempsTravail,0) -> 0 | H3: =IF(Tableau1_2026[[#This Row],[Temps travail]]>TempsTravail,Tableau1_2026[[#This Row],[Temps travail]]*24-TempsTravail*24,0) -> 0 | I3: =WEEKNUM(B3,2) -> 1 | L3: Mois | M3: janvier
B4: 46024 | E4: 0.041666667 | F4: =IF(Tableau1_2026[[#This Row],[Arrivée]]<>"",(Tableau1_2026[[#This Row],[Départ]] - Tableau1_2026[[#This Row],[Arrivée]]) - Tableau1_2026[[#This Row],[Pause]],0) -> 0 | G4: =IF(Tableau1_2026[[#This Row],[Temps travail]]>TempsTravail,Tableau1_2026[[#This Row],[Temps travail]]-TempsTravail,0) -> 0 | H4: =IF(Tableau1_2026[[#This Row],[Temps travail]]>TempsTravail,Tableau1_2026[[#This Row],[Temps travail]]*24-TempsTravail*24,0) -> 0 | I4: =WEEKNUM(B4,2) -> 1
B5: 46025 | E5: 0.041666667 | F5: =IF(Tableau1_2026[[#This Row],[Arrivée]]<>"",(Tableau1_2026[[#This Row],[Départ]] - Tableau1_2026[[#This Row],[Arrivée]]) - Tableau1_2026[[#This Row],[Pause]],0) -> 0 | G5: =IF(Tableau1_2026[[#This Row],[Temps travail]]>TempsTravail,Tableau1_2026[[#This Row],[Temps travail]]-TempsTravail,0) -> 0 | H5: =IF(Tableau1_2026[[#This Row],[Temps travail]]>TempsTravail,Tableau1_2026[[#This Row],[Temps travail]]*24-TempsTravail*24,0) -> 0 | I5: =WEEKNUM(B5,2) -> 1 | L5: Semaine | M5: Delta Hebdo. (h) | N5: DeltaHebdo. (d)
B6: 46026 | E6: 0.041666667 | F6: =IF(Tableau1_2026[[#This Row],[Arrivée]]<>"",(Tableau1_2026[[#This Row],[Départ]] - Tableau1_2026[[#This Row],[Arrivée]]) - Tableau1_2026[[#This Row],[Pause]],0) -> 0 | G6: =IF(Tableau1_2026[[#This Row],[Temps travail]]>TempsTravail,Tableau1_2026[[#This Row],[Temps travail]]-TempsTravail,0) -> 0 | H6: =IF(Tableau1_2026[[#This Row],[Temps travail]]>TempsTravail,Tableau1_2026[[#This Row],[Temps travail]]*24-TempsTravail*24,0) -> 0 | I6: =WEEKNUM(B6,2) -> 1 | L6: 1 | M6: 0 | N6: 0
B7: 46027 | C7: 0.33819444 | D7: 0.69583333 | E7: 0.041666667 | F7: =IF(Tableau1_2026[[#This Row],[Arrivée]]<>"",(Tableau1_2026[[#This Row],[Départ]] - Tableau1_2026[[#This Row],[Arrivée]]) - Tableau1_2026[[#This Row],[Pause]],0) -> 0.31597222 | G7: =IF(Tableau1_2026[[#This Row],[Temps travail]]>TempsTravail,Tableau1_2026[[#This Row],[Temps travail]]-TempsTravail,0) -> 0.024305556 | H7: =IF(Tableau1_2026[[#This Row],[Temps travail]]>TempsTravail,Tableau1_2026[[#This Row],[Temps travail]]*24-TempsTravail*24,0) -> 0.58333333 | I7: =WEEKNUM(B7,2) -> 2 | L7: 2 | M7: 0.097916667 | N7: 2.35
B8: 46028 | C8: 0.33263889 | D8: 0.69513889 | E8: 0.041666667 | F8: =IF(Tableau1_2026[[#This Row],[Arrivée]]<>"",(Tableau1_2026[[#This Row],[Départ]] - Tableau1_2026[[#This Row],[Arrivée]]) - Tableau1_2026[[#This Row],[Pause]],0) -> 0.32083333 | G8: =IF(Tableau1_2026[[#This Row],[Temps travail]]>TempsTravail,Tableau1_2026[[#This Row],[Temps travail]]-TempsTravail,0) -> 0.029166667 | H8: =IF(Tableau1_2026[[#This Row],[Temps travail]]>TempsTravail,Tableau1_2026[[#This Row],[Temps travail]]*24-TempsTravail*24,0) -> 0.7 | I8: =WEEKNUM(B8,2) -> 2 | L8: 3 | M8: 0 | N8: 0
B9: 46029 | C9: 0.32986111 | D9: 0.70763889 | E9: 0.041666667 | F9: =IF(Tableau1_2026[[#This Row],[Arrivée]]<>"",(Tableau1_2026[[#This Row],[Départ]] - Tableau1_2026[[#This Row],[Arrivée]]) - Tableau1_2026[[#This Row],[Pause]],0) -> 0.33611111 | G9: =IF(Tableau1_2026[[#This Row],[Temps travail]]>TempsTravail,Tableau1_2026[[#This Row],[Temps travail]]-TempsTravail,0) -> 0.044444444 | H9: =IF(Tableau1_2026[[#This Row],[Temps travail]]>TempsTravail,Tableau1_2026[[#This Row],[Temps travail]]*24-TempsTravail*24,0) -> 1.0666667 | I9: =WEEKNUM(B9,2) -> 2 | L9: 4 | M9: 0 | N9: 0
B10: 46030 | E10: 0.041666667 | F10: =IF(Tableau1_2026[[#This Row],[Arrivée]]<>"",(Tableau1_2026[[#This Row],[Départ]] - Tableau1_2026[[#This Row],[Arrivée]]) - Tableau1_2026[[#This Row],[Pause]],0) -> 0 | G10: =IF(Tableau1_2026[[#This Row],[Temps travail]]>TempsTravail,Tableau1_2026[[#This Row],[Temps travail]]-TempsTravail,0) -> 0 | H10: =IF(Tableau1_2026[[#This Row],[Temps travail]]>TempsTravail,Tableau1_2026[[#This Row],[Temps travail]]*24-TempsTravail*24,0) -> 0 | I10: =WEEKNUM(B10,2) -> 2 | L10: 5 | M10: 0 | N10: 0
B11: 46031 | E11: 0.041666667 | F11: =IF(Tableau1_2026[[#This Row],[Arrivée]]<>"",(Tableau1_2026[[#This Row],[Départ]] - Tableau1_2026[[#This Row],[Arrivée]]) - Tableau1_2026[[#This Row],[Pause]],0) -> 0 | G11: =IF(Tableau1_2026[[#This Row],[Temps travail]]>TempsTravail,Tableau1_2026[[#This Row],[Temps travail]]-TempsTravail,0) -> 0 | H11: =IF(Tableau1_2026[[#This Row],[Temps travail]]>TempsTravail,Tableau1_2026[[#This Row],[Temps travail]]*24-TempsTravail*24,0) -> 0 | I11: =WEEKNUM(B11,2) -> 2 | L11: Total général | M11: 0.097916667 | N11: 2.35
B12: 46032 | E12: 0.041666667 | F12: =IF(Tableau1_2026[[#This Row],[Arrivée]]<>"",(Tableau1_2026[[#This Row],[Départ]] - Tableau1_2026[[#This Row],[Arrivée]]) - Tableau1_2026[[#This Row],[Pause]],0) -> 0 | G12: =IF(Tableau1_2026[[#This Row],[Temps travail]]>TempsTravail,Tableau1_2026[[#This Row],[Temps travail]]-TempsTravail,0) -> 0 | H12: =IF(Tableau1_2026[[#This Row],[Temps travail]]>TempsTravail,Tableau1_2026[[#This Row],[Temps travail]]*24-TempsTravail*24,0) -> 0 | I12: =WEEKNUM(B12,2) -> 2
B13: 46033 | E13: 0.041666667 | F13: =IF(Tableau1_2026[[#This Row],[Arrivée]]<>"",(Tableau1_2026[[#This Row],[Départ]] - Tableau1_2026[[#This Row],[Arrivée]]) - Tableau1_2026[[#This Row],[Pause]],0) -> 0 | G13: =IF(Tableau1_2026[[#This Row],[Temps travail]]>TempsTravail,Tableau1_2026[[#This Row],[Temps travail]]-TempsTravail,0) -> 0 | H13: =IF(Tableau1_2026[[#This Row],[Temps travail]]>TempsTravail,Tableau1_2026[[#This Row],[Temps travail]]*24-TempsTravail*24,0) -> 0 | I13: =WEEKNUM(B13,2) -> 2
B14: 46034 | E14: 0.041666667 | F14: =IF(Tableau1_2026[[#This Row],[Arrivée]]<>"",(Tableau1_2026[[#This Row],[Départ]] - Tableau1_2026[[#This Row],[Arrivée]]) - Tableau1_2026[[#This Row],[Pause]],0) -> 0 | G14: =IF(Tableau1_2026[[#This Row],[Temps travail]]>TempsTravail,Tableau1_2026[[#This Row],[Temps travail]]-TempsTravail,0) -> 0 | H14: =IF(Tableau1_2026[[#This Row],[Temps travail]]>TempsTravail,Tableau1_2026[[#This Row],[Temps travail]]*24-TempsTravail*24,0) -> 0 | I14: =WEEKNUM(B14,2) -> 3
B15: 46035 | E15: 0.041666667 | F15: =IF(Tableau1_2026[[#This Row],[Arrivée]]<>"",(Tableau1_2026[[#This Row],[Départ]] - Tableau1_2026[[#This Row],[Arrivée]]) - Tableau1_2026[[#This Row],[Pause]],0) -> 0 | G15: =IF(Tableau1_2026[[#This Row],[Temps travail]]>TempsTravail,Tableau1_2026[[#This Row],[Temps travail]]-TempsTravail,0) -> 0 | H15: =IF(Tableau1_2026[[#This Row],[Temps travail]]>TempsTravail,Tableau1_2026[[#This Row],[Temps travail]]*24-TempsTravail*24,0) -> 0 | I15: =WEEKNUM(B15,2) -> 3 | L15: Année | M15: Mois | N15: Delta Mensuel (h) | O15: Delta Mensuel (d)
B16: 46036 | E16: 0.041666667 | F16: =IF(Tableau1_2026[[#This Row],[Arrivée]]<>"",(Tableau1_2026[[#This Row],[Départ]] - Tableau1_2026[[#This Row],[Arrivée]]) - Tableau1_2026[[#This Row],[Pause]],0) -> 0 | G16: =IF(Tableau1_2026[[#This Row],[Temps travail]]>TempsTravail,Tableau1_2026[[#This Row],[Temps travail]]-TempsTravail,0) -> 0 | H16: =IF(Tableau1_2026[[#This Row],[Temps travail]]>TempsTravail,Tableau1_2026[[#This Row],[Temps travail]]*24-TempsTravail*24,0) -> 0 | I16: =WEEKNUM(B16,2) -> 3 | L16: 2025 | M16: avril | N16: 0.21111111 | O16: 5.0666667
B17: 46037 | E17: 0.041666667 | F17: =IF(Tableau1_2026[[#This Row],[Arrivée]]<>"",(Tableau1_2026[[#This Row],[Départ]] - Tableau1_2026[[#This Row],[Arrivée]]) - Tableau1_2026[[#This Row],[Pause]],0) -> 0 | G17: =IF(Tableau1_2026[[#This Row],[Temps travail]]>TempsTravail,Tableau1_2026[[#This Row],[Temps travail]]-TempsTravail,0) -> 0 | H17: =IF(Tableau1_2026[[#This Row],[Temps travail]]>TempsTravail,Tableau1_2026[[#This Row],[Temps travail]]*24-TempsTravail*24,0) -> 0 | I17: =WEEKNUM(B17,2) -> 3 | M17: mai | N17: 0.27708333 | O17: 6.65
B18: 46038 | E18: 0.041666667 | F18: =IF(Tableau1_2026[[#This Row],[Arrivée]]<>"",(Tableau1_2026[[#This Row],[Départ]] - Tableau1_2026[[#This Row],[Arrivée]]) - Tableau1_2026[[#This Row],[Pause]],0) -> 0 | G18: =IF(Tableau1_2026[[#This Row],[Temps travail]]>TempsTravail,Tableau1_2026[[#This Row],[Temps travail]]-TempsTravail,0) -> 0 | H18: =IF(Tableau1_2026[[#This Row],[Temps travail]]>TempsTravail,Tableau1_2026[[#This Row],[Temps travail]]*24-TempsTravail*24,0) -> 0 | I18: =WEEKNUM(B18,2) -> 3 | M18: juin | N18: 0.33402778 | O18: 8.0166667
B19: 46039 | E19: 0.041666667 | F19: =IF(Tableau1_2026[[#This Row],[Arrivée]]<>"",(Tableau1_2026[[#This Row],[Départ]] - Tableau1_2026[[#This Row],[Arrivée]]) - Tableau1_2026[[#This Row],[Pause]],0) -> 0 | G19: =IF(Tableau1_2026[[#This Row],[Temps travail]]>TempsTravail,Tableau1_2026[[#This Row],[Temps travail]]-TempsTravail,0) -> 0 | H19: =IF(Tableau1_2026[[#This Row],[Temps travail]]>TempsTravail,Tableau1_2026[[#This Row],[Temps travail]]*24-TempsTravail*24,0) -> 0 | I19: =WEEKNUM(B19,2) -> 3 | M19: juillet | N19: 0.68263889 | O19: 16.383333
B20: 46040 | E20: 0.041666667 | F20: =IF(Tableau1_2026[[#This Row],[Arrivée]]<>"",(Tableau1_2026[[#This Row],[Départ]] - Tableau1_2026[[#This Row],[Arrivée]]) - Tableau1_2026[[#This Row],[Pause]],0) -> 0 | G20: =IF(Tableau1_2026[[#This Row],[Temps travail]]>TempsTravail,Tableau1_2026[[#This Row],[Temps travail]]-TempsTravail,0) -> 0 | H20: =IF(Tableau1_2026[[#This Row],[Temps travail]]>TempsTravail,Tableau1_2026[[#This Row],[Temps travail]]*24-TempsTravail*24,0) -> 0 | I20: =WEEKNUM(B20,2) -> 3 | M20: août | N20: 0.63055556 | O20: 15.133333
B21: 46041 | E21: 0.041666667 | F21: =IF(Tableau1_2026[[#This Row],[Arrivée]]<>"",(Tableau1_2026[[#This Row],[Départ]] - Tableau1_2026[[#This Row],[Arrivée]]) - Tableau1_2026[[#This Row],[Pause]],0) -> 0 | G21: =IF(Tableau1_2026[[#This Row],[Temps travail]]>TempsTravail,Tableau1_2026[[#This Row],[Temps travail]]-TempsTravail,0) -> 0 | H21: =IF(Tableau1_2026[[#This Row],[Temps travail]]>TempsTravail,Tableau1_2026[[#This Row],[Temps travail]]*24-TempsTravail*24,0) -> 0 | I21: =WEEKNUM(B21,2) -> 4 | M21: septembre | N21: 0.55625 | O21: 13.35
B22: 46042 | E22: 0.041666667 | F22: =IF(Tableau1_2026[[#This Row],[Arrivée]]<>"",(Tableau1_2026[[#This Row],[Départ]] - Tableau1_2026[[#This Row],[Arrivée]]) - Tableau1_2026[[#This Row],[Pause]],0) -> 0 | G22: =IF(Tableau1_2026[[#This Row],[Temps travail]]>TempsTravail,Tableau1_2026[[#This Row],[Temps travail]]-TempsTravail,0) -> 0 | H22: =IF(Tableau1_2026[[#This Row],[Temps travail]]>TempsTravail,Tableau1_2026[[#This Row],[Temps travail]]*24-TempsTravail*24,0) -> 0 | I22: =WEEKNUM(B22,2) -> 4 | M22: octobre | N22: 0.82916667 | O22: 19.9
B23: 46043 | E23: 0.041666667 | F23: =IF(Tableau1_2026[[#This Row],[Arrivée]]<>"",(Tableau1_2026[[#This Row],[Départ]] - Tableau1_2026[[#This Row],[Arrivée]]) - Tableau1_2026[[#This Row],[Pause]],0) -> 0 | G23: =IF(Tableau1_2026[[#This Row],[Temps travail]]>TempsTravail,Tableau1_2026[[#This Row],[Temps travail]]-TempsTravail,0) -> 0 | H23: =IF(Tableau1_2026[[#This Row],[Temps travail]]>TempsTravail,Tableau1_2026[[#This Row],[Temps travail]]*24-TempsTravail*24,0) -> 0 | I23: =WEEKNUM(B23,2) -> 4 | M23: novembre | N23: 0.43888889 | O23: 10.533333
B24: 46044 | E24: 0.041666667 | F24: =IF(Tableau1_2026[[#This Row],[Arrivée]]<>"",(Tableau1_2026[[#This Row],[Départ]] - Tableau1_2026[[#This Row],[Arrivée]]) - Tableau1_2026[[#This Row],[Pause]],0) -> 0 | G24: =IF(Tableau1_2026[[#This Row],[Temps travail]]>TempsTravail,Tableau1_2026[[#This Row],[Temps travail]]-TempsTravail,0) -> 0 | H24: =IF(Tableau1_2026[[#This Row],[Temps travail]]>TempsTravail,Tableau1_2026[[#This Row],[Temps travail]]*24-TempsTravail*24,0) -> 0 | I24: =WEEKNUM(B24,2) -> 4 | M24: décembre | N24: 0.37430556 | O24: 8.9833333
