Workbook
Name Pause: Tableaux!$C$3
Name TempsTravail: Tableaux!$C$2

Sheet Tableaux
E1: utiliser ctrl+B pour afficher les listes déroulantes pour saisie
B2: Temps travail | C2: 0.29166667 | E2: Année | F2: Mois | G2: Semaine | H2: Delta (h) | I2: Delta (d) | K2: Année | M2: Mois | P2: Année | Q2: Mois | R2: Delta (h) | S2: Delta (d) | U2: Année | V2: Mois | W2: Semaine | X2: Delta (h) | Y2: Delta (d) | AA2: Année | AB2: Mois | AC2: Semaine | AD2: Delta (h) | AE2: Delta (d)
B3: Pause | C3: 0.041666667 | E3: 2025 | F3: décembre | G3: 53 | H3: 0.1875 | I3: =H3 -> 0.1875 | K3: {=_xlfn.UNIQUE(Delta_mensuel[Année])} -> 2025 | M3: {=_xlfn.UNIQUE(Delta_mensuel[Mois])} -> avril | P3: 2025 | Q3: avril | R3: 0.21111111 | S3: 5.0666667 | U3: 2025 | V3: avril | W3: 14 | X3: 0.0020833333 | Y3: 0.05 | AA3: 2025 | AB3: avril | AC3: 14 | AD3: 0.0020833333 | AE3: 0.05
K4: 2026 | M4: mai | P4: 2025 | Q4: mai | R4: 0.27708333 | S4: 6.65 | U4: 2025 | V4: avril | W4: 15 | X4: 0.057638889 | Y4: 1.3833333 | AA4: 2025 | AB4: avril | AC4: 15 | AD4: 0.057638889 | AE4: 1.3833333
M5: juin | P5: 2025 | Q5: juin | R5: 0.33402778 | S5: 8.0166667 | U5: 2025 | V5: avril | W5: 16 | X5: 0.056944444 | Y5: 1.3666667 | AA5: 2025 | AB5: avril | AC5: 16 | AD5: 0.056944444 | AE5: 1.3666667
M6: juillet | P6: 2025 | Q6: juillet | R6: 0.68263889 | S6: 16.383333 | U6: 2025 | V6: avril | W6: 17 | X6: 0.067361111 | Y6: 1.6166667 | AA6: 2025 | AB6: avril | AC6: 17 | AD6: 0.067361111 | AE6: 1.6166667
M7: août | P7: 2025 | Q7: août | R7: 0.63055556 | S7: 15.133333 | U7: 2025 | V7: avril | W7: 18 | X7: 0.027083333 | Y7: 0.65 | AA7: 2025 | AB7: avril | AC7: 18 | AD7: 0.027083333 | AE7: 0.65
M8: septembre | P8: 2025 | Q8: septembre | R8: 0.55625 | S8: 13.35 | U8: 2025 | V8: mai | W8: 18 | X8: 0.017361111 | Y8: 0.41666667 | AA8: 2025 | AB8: mai | AC8: 18 | AD8: 0.017361111 | AE8: 0.41666667
M9: octobre | P9: 2025 | Q9: octobre | R9: 0.82916667 | S9: 19.9 | U9: 2025 | V9: mai | W9: 19 | X9: 0.0875 | Y9: 2.1 | AA9: 2025 | AB9: mai | AC9: 19 | AD9: 0.0875 | AE9: 2.1
M10: novembre | P10: 2025 | Q10: novembre | R10: 0.43888889 | S10: 10.533333 | U10: 2025 | V10: mai | W10: 20 | X10: 0.050694444 | Y10: 1.2166667 | AA10: 2025 | AB10: mai | AC10: 20 | AD10: 0.050694444 | AE10: 1.2166667
M11: décembre | P11: 2025 | Q11: décembre | R11: 0.37430556 | S11: 8.9833333 | U11: 2025 | V11: mai | W11: 21 | X11: 0.086805556 | Y11: 2.0833333 | AA11: 2025 | AB11: mai | AC11: 21 | AD11: 0.086805556 | AE11: 2.0833333
M12: janvier | P12: 2026 | Q12: janvier | R12: 0.097916667 | S12: 2.35 | U12: 2025 | V12: mai | W12: 22 | X12: 0.034722222 | Y12: 0.83333333 | AA12: 2025 | AB12: mai | AC12: 22 | AD12: 0.034722222 | AE12: 0.83333333
M13: février | P13: 2026 | Q13: février | R13: 0 | S13: 0 | U13: 2025 | V13: juin | W13: 22 | X13: 0 | Y13: 0 | AA13: 2025 | AB13: juin | AC13: 22 | AD13: 0 | AE13: 0
U14: 2025 | V14: juin | W14: 23 | X14: 0.12847222 | Y14: 3.0833333 | AA14: 2025 | AB14: juin | AC14: 23 | AD14: 0.12847222 | AE14: 3.0833333
U15: 2025 | V15: juin | W15: 24 | X15: 0.05625 | Y15: 1.35 | AA15: 2025 | AB15: juin | AC15: 24 | AD15: 0.05625 | AE15: 1.35
U16: 2025 | V16: juin | W16: 25 | X16: 0.071527778 | Y16: 1.7166667 | AA16: 2025 | AB16: juin | AC16: 25 | AD16: 0.071527778 | AE16: 1.7166667
U17: 2025 | V17: juin | W17: 26 | X17: 0.055555556 | Y17: 1.3333333 | AA17: 2025 | AB17: juin | AC17: 26 | AD17: 0.055555556 | AE17: 1.3333333
U18: 2025 | V18: juin | W18: 27 | X18: 0.022222222 | Y18: 0.53333333 | AA18: 2025 | AB18: juin | AC18: 27 | AD18: 0.022222222 | AE18: 0.53333333
U19: 2025 | V19: juillet | W19: 27 | X19: 0.065277778 | Y19: 1.5666667 | AA19: 2025 | AB19: juillet | AC19: 27 | AD19: 0.065277778 | AE19: 1.5666667
U20: 2025 | V20: juillet | W20: 28 | X20: 0.086111111 | Y20: 2.0666667 | AA20: 2025 | AB20: juillet | AC20: 28 | AD20: 0.086111111 | AE20: 2.0666667
U21: 2025 | V21: juillet | W21: 29 | X21: 0.2 | Y21: 4.8 | AA21: 2025 | AB21: juillet | AC21: 29 | AD21: 0.2 | AE21: 4.8
U22: 2025 | V22: juillet | W22: 30 | X22: 0.15 | Y22: 3.6 | AA22: 2025 | AB22: juillet | AC22: 30 | AD22: 0.15 | AE22: 3.6
U23: 2025 | V23: juillet | W23: 31 | X23: 0.18125 | Y23: 4.35 | AA23: 2025 | AB23: juillet | AC23: 31 | AD23: 0.18125 | AE23: 4.35
U24: 2025 | V24: août | W24: 31 | X24: 0 | Y24: 0 | AA24: 2025 | AB24: août | AC24: 31 | AD24: 0 | AE24: 0
U25: 2025 | V25: août | W25: 32 | X25: 0.16805556 | Y25: 4.0333333 | AA25: 2025 | AB25: août | AC25: 32 | AD25: 0.16805556 | AE25: 4.0333333
... U58: 2026 | V58: février | W58: 9 | X58: 0 | Y58: 0 | AA58: 2026 | AB58: février | AC58: 9 | AD58: 0 | AE58: 0

Sheet 04-2025
A1: Date | B1: Arrivée | C1: Départ | D1: Pause | E1: Temps travail | F1: Delta (h) | G1: Delta (d) | H1: Semaine | N1: Année | O1: 2025
A2: 45748 | B2: 0.375 | C2: 0.70833333 | D2: 0.041666667 | E2: =IF(Tableau4_2025[[#This Row],[Arrivée]]<>"",(Tableau4_2025[[#This Row],[Départ]] - Tableau4_2025[[#This Row],[Arrivée]]) - Tableau4_2025[[#This Row],[Pause]],0) -> 0.29166667 | F2: =IF(Tableau4_2025[[#This Row],[Temps travail]]>TempsTravail,Tableau4_2025[[#This Row],[Temps travail]]-TempsTravail,0) -> 0 | G2: =IF(Tableau4_2025[[#This Row],[Temps travail]]>TempsTravail,Tableau4_2025[[#This Row],[Temps travail]]*24-TempsTravail*24,0) -> 0 | H2: =WEEKNUM(A2,2) -> 14 | J2: Semaine | K2: Delta total (h) | N2: Mois | O2: avril
A3: 45749 | B3: 0.375 | C3: 0.70833333 | D3: 0.041666667 | E3: =IF(Tableau4_2025[[#This Row],[Arrivée]]<>"",(Tableau4_2025[[#This Row],[Départ]] - Tableau4_2025[[#This Row],[Arrivée]]) - Tableau4_2025[[#This Row],[Pause]],0) -> 0.29166667 | F3: =IF(Tableau4_2025[[#This Row],[Temps travail]]>TempsTravail,Tableau4_2025[[#This Row],[Temps travail]]-TempsTravail,0) -> 0 | G3: =IF(Tableau4_2025[[#This Row],[Temps travail]]>TempsTravail,Tableau4_2025[[#This Row],[Temps travail]]*24-TempsTravail*24,0) -> 0 | H3: =WEEKNUM(A3,2) -> 14 | J3: 14 | K3: =IF(ISBLANK(L3), "", IF(L3<0, "-" & TEXT(ABS(L3)/24, "h:mm"), TEXT(L3/24, "h:mm"))) -> 0:03 | L3: =SUMIF(H:H, J3, G:G) -> 0.05
A4: 45750 | B4: 0.375 | C4: 0.70833333 | D4: 0.041666667 | E4: =IF(Tableau4_2025[[#This Row],[Arrivée]]<>"",(Tableau4_2025[[#This Row],[Départ]] - Tableau4_2025[[#This Row],[Arrivée]]) - Tableau4_2025[[#This Row],[Pause]],0) -> 0.29166667 | F4: =IF(Tableau4_2025[[#This Row],[Temps travail]]>TempsTravail,Tableau4_2025[[#This Row],[Temps travail]]-TempsTravail,0) -> 0 | G4: =IF(Tableau4_2025[[#This Row],[Temps travail]]>TempsTravail,Tableau4_2025[[#This Row],[Temps travail]]*24-TempsTravail*24,0) -> 0 | H4: =WEEKNUM(A4,2) -> 14 | J4: 15 | K4: =IF(ISBLANK(L4), "", IF(L4<0, "-" & TEXT(ABS(L4)/24, "h:mm"), TEXT(L4/24, "h:mm"))) -> 1:23 | L4: =SUMIF(H:H, J4, G:G) -> 1.3833333 | N4: Semaine | O4: Delta Hebdo. (h) | P4: DeltaHebdo. (d)
A5: 45751 | B5: 0.37916667 | C5: 0.71458333 | D5: 0.041666667 | E5: =IF(Tableau4_2025[[#This Row],[Arrivée]]<>"",(Tableau4_2025[[#This Row],[Départ]] - Tableau4_2025[[#This Row],[Arrivée]]) - Tableau4_2025[[#This Row],[Pause]],0) -> 0.29375 | F5: =IF(Tableau4_2025[[#This Row],[Temps travail]]>TempsTravail,Tableau4_2025[[#This Row],[Temps travail]]-TempsTravail,0) -> 0.0020833333 | G5: =IF(Tableau4_2025[[#This Row],[Temps travail]]>TempsTravail,Tableau4_2025[[#This Row],[Temps travail]]*24-TempsTravail*24,0) -> 0.05 | H5: =WEEKNUM(A5,2) -> 14 | J5: 16 | K5: =IF(ISBLANK(L5), "", IF(L5<0, "-" & TEXT(ABS(L5)/24, "h:mm"), TEXT(L5/24, "h:mm"))) -> 1:22 | L5: =SUMIF(H:H, J5, G:G) -> 1.3666667 | N5: 14 | O5: 0.0020833333 | P5: 0.05
A6: 45752 | D6: 0.041666667 | E6: =IF(Tableau4_2025[[#This Row],[Arrivée]]<>"",(Tableau4_2025[[#This Row],[Départ]] - Tableau4_2025[[#This Row],[Arrivée]]) - Tableau4_2025[[#This Row],[Pause]],0) -> 0 | F6: =IF(Tableau4_2025[[#This Row],[Temps travail]]>TempsTravail,Tableau4_2025[[#This Row],[Temps travail]]-TempsTravail,0) -> 0 | G6: =IF(Tableau4_2025[[#This Row],[Temps travail]]>TempsTravail,Tableau4_2025[[#This Row],[Temps travail]]*24-TempsTravail*24,0) -> 0 | H6: =WEEKNUM(A6,2) -> 14 | J6: 17 | K6: =IF(ISBLANK(L6), "", IF(L6<0, "-" & TEXT(ABS(L6)/24, "h:mm"), TEXT(L6/24, "h:mm"))) -> 1:37 | L6: =SUMIF(H:H, J6, G:G) -> 1.6166667 | N6: 15 | O6: 0.057638889 | P6: 1.3833333
A7: 45753 | D7: 0.041666667 | E7: =IF(Tableau4_2025[[#This Row],[Arrivée]]<>"",(Tableau4_2025[[#This Row],[Départ]] - Tableau4_2025[[#This Row],[Arrivée]]) - Tableau4_2025[[#This Row],[Pause]],0) -> 0 | F7: =IF(Tableau4_2025[[#This Row],[Temps travail]]>TempsTravail,Tableau4_2025[[#This Row],[Temps travail]]-TempsTravail,0) -> 0 | G7: =IF(Tableau4_2025[[#This Row],[Temps travail]]>TempsTravail,Tableau4_2025[[#This Row],[Temps travail]]*24-TempsTravail*24,0) -> 0 | H7: =WEEKNUM(A7,2) -> 14 | J7: 18 | K7: =IF(ISBLANK(L7), "", IF(L7<0, "-" & TEXT(ABS(L7)/24, "h:mm"), TEXT(L7/24, "h:mm"))) -> 0:39 | L7: =SUMIF(H:H, J7, G:G) -> 0.65 | N7: 16 | O7: 0.056944444 | P7: 1.3666667
A8: 45754 | B8: 0.33888889 | C8: 0.67638889 | D8: 0.041666667 | E8: =IF(Tableau4_2025[[#This Row],[Arrivée]]<>"",(Tableau4_2025[[#This Row],[Départ]] - Tableau4_2025[[#This Row],[Arrivée]]) - Tableau4_2025[[#This Row],[Pause]],0) -> 0.29583333 | F8: =IF(Tableau4_2025[[#This Row],[Temps travail]]>TempsTravail,Tableau4_2025[[#This Row],[Temps travail]]-TempsTravail,0) -> 0.0041666667 | G8: =IF(Tableau4_2025[[#This Row],[Temps travail]]>TempsTravail,Tableau4_2025[[#This Row],[Temps travail]]*24-TempsTravail*24,0) -> 0.1 | H8: =WEEKNUM(A8,2) -> 15 | K8: =IF(ISBLANK(L8), "", IF(L8<0, "-" & TEXT(ABS(L8)/24, "h:mm"), TEXT(L8/24, "h:mm"))) | N8: 17 | O8: 0.067361111 | P8: 1.6166667
A9: 45755 | B9: 0.33541667 | C9: 0.67847222 | D9: 0.041666667 | E9: =IF(Tableau4_2025[[#This Row],[Arrivée]]<>"",(Tableau4_2025[[#This Row],[Départ]] - Tableau4_2025[[#This Row],[Arrivée]]) - Tableau4_2025[[#This Row],[Pause]],0) -> 0.30138889 | F9: =IF(Tableau4_2025[[#This Row],[Temps travail]]>TempsTravail,Tableau4_2025[[#This Row],[Temps travail]]-TempsTravail,0) -> 0.0097222222 | G9: =IF(Tableau4_2025[[#This Row],[Temps travail]]>TempsTravail,Tableau4_2025[[#This Row],[Temps travail]]*24-TempsTravail*24,0) -> 0.23333333 | H9: =WEEKNUM(A9,2) -> 15 | J9: Total mois | K9: =IF(ISBLANK(L9), "", IF(L9<0, "-" & TEXT(ABS(L9)/24, "h:mm"), TEXT(L9/24, "h:mm"))) -> 5:04 | L9: =SUM(L3:L7) -> 5.0666667 | N9: 18 | O9: 0.027083333 | P9: 0.65
A10: 45756 | B10: 0.33402778 | C10: 0.67361111 | D10: 0.041666667 | E10: =IF(Tableau4_2025[[#This Row],[Arrivée]]<>"",(Tableau4_2025[[#This Row],[Départ]] - Tableau4_2025[[#This Row],[Arrivée]]) - Tableau4_2025[[#This Row],[Pause]],0) -> 0.29791667 | F10: =IF(Tableau4_2025[[#This Row],[Temps travail]]>TempsTravail,Tableau4_2025[[#This Row],[Temps travail]]-TempsTravail,0) -> 0.00625 | G10: =IF(Tableau4_2025[[#This Row],[Temps travail]]>TempsTravail,Tableau4_2025[[#This Row],[Temps travail]]*24-TempsTravail*24,0) -> 0.15 | H10: =WEEKNUM(A10,2) -> 15 | J10: Total année | K10: =IF(ISBLANK(L10), "", IF(L10<0, "-" & TEXT(ABS(L10)/24, "h:mm"), TEXT(L10/24, "h:mm"))) -> 8:01 | L10: =SUM(L14:L22) -> 104.01667 | N10: Total général | O10: 0.21111111 | P10: 5.0666667
A11: 45757 | B11: 0.33888889 | C11: 0.68819444 | D11: 0.041666667 | E11: =IF(Tableau4_2025[[#This Row],[Arrivée]]<>"",(Tableau4_2025[[#This Row],[Départ]] - Tableau4_2025[[#This Row],[Arrivée]]) - Tableau4_2025[[#This Row],[Pause]],0) -> 0.30763889 | F11: =IF(Tableau4_2025[[#This Row],[Temps travail]]>TempsTravail,Tableau4_2025[[#This Row],[Temps travail]]-TempsTravail,0) -> 0.015972222 | G11: =IF(Tableau4_2025[[#This Row],[Temps travail]]>TempsTravail,Tableau4_2025[[#This Row],[Temps travail]]*24-TempsTravail*24,0) -> 0.38333333 | H11: =WEEKNUM(A11,2) -> 15
A12: 45758 | B12: 0.34513889 | C12: 0.7 | D12: 0.041666667 | E12: =IF(Tableau4_2025[[#This Row],[Arrivée]]<>"",(Tableau4_2025[[#This Row],[Départ]] - Tableau4_2025[[#This Row],[Arrivée]]) - Tableau4_2025[[#This Row],[Pause]],0) -> 0.31319444 | F12: =IF(Tableau4_2025[[#This Row],[Temps travail]]>TempsTravail,Tableau4_2025[[#This Row],[Temps travail]]-TempsTravail,0) -> 0.021527778 | G12: =IF(Tableau4_2025[[#This Row],[Temps travail]]>TempsTravail,Tableau4_2025[[#This Row],[Temps travail]]*24-TempsTravail*24,0) -> 0.51666667 | H12: =WEEKNUM(A12,2) -> 15
A13: 45759 | D13: 0.041666667 | E13: =IF(Tableau4_2025[[#This Row],[Arrivée]]<>"",(Tableau4_2025[[#This Row],[Départ]] - Tableau4_2025[[#This Row],[Arrivée]]) - Tableau4_2025[[#This Row],[Pause]],0) -> 0 | F13: =IF(Tableau4_2025[[#This Row],[Temps travail]]>TempsTravail,Tableau4_2025[[#This Row],[Temps travail]]-TempsTravail,0) -> 0 | G13: =IF(Tableau4_2025[[#This Row],[Temps travail]]>TempsTravail,Tableau4_2025[[#This Row],[Temps travail]]*24-TempsTravail*24,0) -> 0 | H13: =WEEKNUM(A13,2) -> 15
A14: 45760 | D14: 0.041666667 | E14: =IF(Tableau4_2025[[#This Row],[Arrivée]]<>"",(Tableau4_2025[[#This Row],[Départ]] - Tableau4_2025[[#This Row],[Arrivée]]) - Tableau4_2025[[#This Row],[Pause]],0) -> 0 | F14: =IF(Tableau4_2025[[#This Row],[Temps travail]]>TempsTravail,Tableau4_2025[[#This Row],[Temps travail]]-TempsTravail,0) -> 0 | G14: =IF(Tableau4_2025[[#This Row],[Temps travail]]>TempsTravail,Tableau4_2025[[#This Row],[Temps travail]]*24-TempsTravail*24,0) -> 0 | H14: =WEEKNUM(A14,2) -> 15 | J14: Avril | K14: =IF(ISBLANK(L14), "", IF(L14<0, "-" & TEXT(ABS(L14)/24, "h:mm"), TEXT(L14/24, "h:mm"))) -> 5:04 | L14: ='04-2025'!L9 -> 5.0666667 | N14: Année | O14: Mois | P14: Delta Mensuel (h) | Q14: Delta Mensuel (d)
A15: 45761 | B15: 0.33958333 | C15: 0.67638889 | D15: 0.041666667 | E15: =IF(Tableau4_2025[[#This Row],[Arrivée]]<>"",(Tableau4_2025[[#This Row],[Départ]] - Tableau4_2025[[#This Row],[Arrivée]]) - Tableau4_2025[[#This Row],[Pause]],0) -> 0.29513889 | F15: =IF(Tableau4_2025[[#This Row],[Temps travail]]>TempsTravail,Tableau4_2025[[#This Row],[Temps travail]]-TempsTravail,0) -> 0.0034722222 | G15: =IF(Tableau4_2025[[#This Row],[Temps travail]]>TempsTravail,Tableau4_2025[[#This Row],[Temps travail]]*24-TempsTravail*24,0) -> 0.083333333 | H15: =WEEKNUM(A15,2) -> 16 | J15: Mai | K15: =IF(ISBLANK(L15), "", IF(L15<0, "-" & TEXT(ABS(L15)/24, "h:mm"), TEXT(L15/24, "h:mm"))) -> 6:39 | L15: ='05-2025'!L9 -> 6.65 | N15: 2025 | O15: avril | P15: 0.21111111 | Q15: 5.0666667
A16: 45762 | B16: 0.33680556 | C16: 0.70902778 | D16: 0.041666667 | E16: =IF(Tableau4_2025[[#This Row],[Arrivée]]<>"",(Tableau4_2025[[#This Row],[Départ]] - Tableau4_2025[[#This Row],[Arrivée]]) - Tableau4_2025[[#This Row],[Pause]],0) -> 0.33055556 | F16: =IF(Tableau4_2025[[#This Row],[Temps travail]]>TempsTravail,Tableau4_2025[[#This Row],[Temps travail]]-TempsTravail,0) -> 0.038888889 | G16: =IF(Tableau4_2025[[#This Row],[Temps travail]]>TempsTravail,Tableau4_2025[[#This Row],[Temps travail]]*24-TempsTravail*24,0) -> 0.93333333 | H16: =WEEKNUM(A16,2) -> 16 | J16: Juin | K16: =IF(ISBLANK(L16), "", IF(L16<0, "-" & TEXT(ABS(L16)/24, "h:mm"), TEXT(L16/24, "h:mm"))) -> 8:01 | L16: ='06-2025'!L9 -> 8.0166667 | O16: mai | P16: 0.27708333 | Q16: 6.65
A17: 45763 | B17: 0.34166667 | C17: 0.68541667 | D17: 0.041666667 | E17: =IF(Tableau4_2025[[#This Row],[Arrivée]]<>"",(Tableau4_2025[[#This Row],[Départ]] - Tableau4_2025[[#This Row],[Arrivée]]) - Tableau4_2025[[#This Row],[Pause]],0) -> 0.30208333 | F17: =IF(Tableau4_2025[[#This Row],[Temps travail]]>TempsTravail,Tableau4_2025[[#This Row],[Temps travail]]-TempsTravail,0) -> 0.010416667 | G17: =IF(Tableau4_2025[[#This Row],[Temps travail]]>TempsTravail,Tableau4_2025[[#This Row],[Temps travail]]*24-TempsTravail*24,0) -> 0.25 | H17: =WEEKNUM(A17,2) -> 16 | J17: Juillet | K17: =IF(ISBLANK(L17), "", IF(L17<0, "-" & TEXT(ABS(L17)/24, "h:mm"), TEXT(L17/24, "h:mm"))) -> 16:23 | L17: ='07-2025'!L8 -> 16.383333 | O17: juin | P17: 0.33402778 | Q17: 8.0166667
A18: 45764 | B18: 0.34097222 | C18: 0.67847222 | D18: 0.041666667 | E18: =IF(Tableau4_2025[[#This Row],[Arrivée]]<>"",(Tableau4_2025[[#This Row],[Départ]] - Tableau4_2025[[#This Row],[Arrivée]]) - Tableau4_2025[[#This Row],[Pause]],0) -> 0.29583333 | F18: =IF(Tableau4_2025[[#This Row],[Temps travail]]>TempsTravail,Tableau4_2025[[#This Row],[Temps travail]]-TempsTravail,0) -> 0.0041666667 | G18: =IF(Tableau4_2025[[#This Row],[Temps travail]]>TempsTravail,Tableau4_2025[[#This Row],[Temps travail]]*24-TempsTravail*24,0) -> 0.1 | H18: =WEEKNUM(A18,2) -> 16 | J18: Aout | K18: =IF(ISBLANK(L18), "", IF(L18<0, "-" & TEXT(ABS(L18)/24, "h:mm"), TEXT(L18/24, "h:mm"))) -> 15:08 | L18: ='08-2025'!L9 -> 15.133333 | O18: juillet | P18: 0.68263889 | Q18: 16.383333
A19: 45765 | B19: 0.33263889 | C19: 0.66458333 | D19: 0.041666667 | E19: =IF(Tableau4_2025[[#This Row],[Arrivée]]<>"",(Tableau4_2025[[#This Row],[Départ]] - Tableau4_2025[[#This Row],[Arrivée]]) - Tableau4_2025[[#This Row],[Pause]],0) -> 0.29027778 | F19: =IF(Tableau4_2025[[#This Row],[Temps travail]]>TempsTravail,Tableau4_2025[[#This Row],[Temps travail]]-TempsTravail,0) -> 0 | G19: =IF(Tableau4_2025[[#This Row],[Temps travail]]>TempsTravail,Tableau4_2025[[#This Row],[Temps travail]]*24-TempsTravail*24,0) -> 0 | H19: =WEEKNUM(A19,2) -> 16 | J19: Septembre | K19: =IF(ISBLANK(L19), "", IF(L19<0, "-" & TEXT(ABS(L19)/24, "h:mm"), TEXT(L19/24, "h:mm"))) -> 13:21 | L19: ='09-2025'!L9 -> 13.35 | O19: août | P19: 0.63055556 | Q19: 15.133333
A20: 45766 | D20: 0.041666667 | E20: =IF(Tableau4_2025[[#This Row],[Arrivée]]<>"",(Tableau4_2025[[#This Row],[Départ]] - Tableau4_2025[[#This Row],[Arrivée]]) - Tableau4_2025[[#This Row],[Pause]],0) -> 0 | F20: =IF(Tableau4_2025[[#This Row],[Temps travail]]>TempsTravail,Tableau4_2025[[#This Row],[Temps travail]]-TempsTravail,0) -> 0 | G20: =IF(Tableau4_2025[[#This Row],[Temps travail]]>TempsTravail,Tableau4_2025[[#This Row],[Temps travail]]*24-TempsTravail*24,0) -> 0 | H20: =WEEKNUM(A20,2) -> 16 | J20: Octobre | K20: =IF(ISBLANK(L20), "", IF(L20<0, "-" & TEXT(ABS(L20)/24, "h:mm"), TEXT(L20/24, "h:mm"))) -> 19:54 | L20: ='10-2025'!L9 -> 19.9 | O20: septembre | P20: 0.55625 | Q20: 13.35
A21: 45767 | D21: 0.041666667 | E21: =IF(Tableau4_2025[[#This Row],[Arrivée]]<>"",(Tableau4_2025[[#This Row],[Départ]] - Tableau4_2025[[#This Row],[Arrivée]]) - Tableau4_2025[[#This Row],[Pause]],0) -> 0 | F21: =IF(Tableau4_2025[[#This Row],[Temps travail]]>TempsTravail,Tableau4_2025[[#This Row],[Temps travail]]-TempsTravail,0) -> 0 | G21: =IF(Tableau4_2025[[#This Row],[Temps travail]]>TempsTravail,Tableau4_2025[[#This Row],[Temps travail]]*24-TempsTravail*24,0) -> 0 | H21: =WEEKNUM(A21,2) -> 16 | J21: Novembre | K21: =IF(ISBLANK(L21), "", IF(L21<0, "-" & TEXT(ABS(L21)/24, "h:mm"), TEXT(L21/24, "h:mm"))) -> 10:32 | L21: ='11-2025'!L9 -> 10.533333 | O21: octobre | P21: 0.82916667 | Q21: 19.9
A22: 45768 | D22: 0.041666667 | E22: =IF(Tableau4_2025[[#This Row],[Arrivée]]<>"",(Tableau4_2025[[#This Row],[Départ]] - Tableau4_2025[[#This Row],[Arrivée]]) - Tableau4_2025[[#This Row],[Pause]],0) -> 0 | F22: =IF(Tableau4_2025[[#This Row],[Temps travail]]>TempsTravail,Tableau4_2025[[#This Row],[Temps travail]]-TempsTravail,0) -> 0 | G22: =IF(Tableau4_2025[[#This Row],[Temps travail]]>TempsTravail,Tableau4_2025[[#This Row],[Temps travail]]*24-TempsTravail*24,0) -> 0 | H22: =WEEKNUM(A22,2) -> 17 | J22: Decembre | K22: =IF(ISBLANK(L22), "", IF(L22<0, "-" & TEXT(ABS(L22)/24, "h:mm"), TEXT(L22/24, "h:mm"))) -> 8:59 | L22: ='12-2025'!L9 -> 8.9833333 | O22: novembre | P22: 0.43888889 | Q22: 10.533333
A23: 45769 | B23: 0.34375 | C23: 0.69236111 | D23: 0.041666667 | E23: =IF(Tableau4_2025[[#This Row],[Arrivée]]<>"",(Tableau4_2025[[#This Row],[Départ]] - Tableau4_2025[[#This Row],[Arrivée]]) - Tableau4_2025[[#This Row],[Pause]],0) -> 0.30694444 | F23: =IF(Tableau4_2025[[#This Row],[Temps travail]]>TempsTravail,Tableau4_2025[[#This Row],[Temps travail]]-TempsTravail,0) -> 0.015277778 | G23: =IF(Tableau4_2025[[#This Row],[Temps travail]]>TempsTravail,Tableau4_2025[[#This Row],[Temps travail]]*24-TempsTravail*24,0) -> 0.36666667 | H23: =WEEKNUM(A23,2) -> 17 | O23: décembre | P23: 0.37430556 | Q23: 8.9833333
A24: 45770 | B24: 0.34027778 | C24: 0.7 | D24: 0.041666667 | E24: =IF(Tableau4_2025[[#This Row],[Arrivée]]<>"",(Tableau4_2025[[#This Row],[Départ]] - Tableau4_2025[[#This Row],[Arrivée]]) - Tableau4_2025[[#This Row],[Pause]],0) -> 0.31805556 | F24: =IF(Tableau4_2025[[#This Row],[Temps travail]]>TempsTravail,Tableau4_2025[[#This Row],[Temps travail]]-TempsTravail,0) -> 0.026388889 | G24: =IF(Tableau4_2025[[#This Row],[Temps travail]]>TempsTravail,Tableau4_2025[[#This Row],[Temps travail]]*24-TempsTravail*24,0) -> 0.63333333 | H24: =WEEKNUM(A24,2) -> 17 | N24: Total 2025 | P24: 4.3340278 | Q24: 104.01667
A25: 45771 | B25: 0.34305556 | C25: 0.69305556 | D25: 0.041666667 | E25: =IF(Tableau4_2025[[#This Row],[Arrivée]]<>"",(Tableau4_2025[[#This Row],[Départ]] - Tableau4_2025[[#This Row],[Arrivée]]) - Tableau4_2025[[#This Row],[Pause]],0) -> 0.30833333 | F25: =IF(Tableau4_2025[[#This Row],[Temps travail]]>TempsTravail,Tableau4_2025[[#This Row],[Temps travail]]-TempsTravail,0) -> 0.016666667 | G25: =IF(Tableau4_2025[[#This Row],[Temps travail]]>TempsTravail,Tableau4_2025[[#This Row],[Temps travail]]*24-TempsTravail*24,0) -> 0.4 | H25: =WEEKNUM(A25,2) -> 17 | N25: 2026 | O25: janvier | P25: 0.097916667 | Q25: 2.35
A26: 45772 | B26: 0.33819444 | C26: 0.68055556 | D26: 0.041666667 | E26: =IF(Tableau4_2025[[#This Row],[Arrivée]]<>"",(Tableau4_2025[[#This Row],[Départ]] - Tableau4_2025[[#This Row],[Arrivée]]) - Tableau4_2025[[#This Row],[Pause]],0) -> 0.30069444 | F26: =IF(Tableau4_2025[[#This Row],[Temps travail]]>TempsTravail,Tableau4_2025[[#This Row],[Temps travail]]-TempsTravail,0) -> 0.0090277778 | G26: =IF(Tableau4_2025[[#This Row],[Temps travail]]>TempsTravail,Tableau4_2025[[#This Row],[Temps travail]]*24-TempsTravail*24,0) -> 0.21666667 | H26: =WEEKNUM(A26,2) -> 17 | O26: février | P26: 0 | Q26: 0
A27: 45773 | D27: 0.041666667 | E27: =IF(Tableau4_2025[[#This Row],[Arrivée]]<>"",(Tableau4_2025[[#This Row],[Départ]] - Tableau4_2025[[#This Row],[Arrivée]]) - Tableau4_2025[[#This Row],[Pause]],0) -> 0 | F27: =IF(Tableau4_2025[[#This Row],[Temps travail]]>TempsTravail,Tableau4_2025[[#This Row],[Temps travail]]-TempsTravail,0) -> 0 | G27: =IF(Tableau4_2025[[#This Row],[Temps travail]]>TempsTravail,Tableau4_2025[[#This Row],[Temps travail]]*24-TempsTravail*24,0) -> 0 | H27: =WEEKNUM(A27,2) -> 17 | N27: Total 2026 | P27: 0.097916667 | Q27: 2.35
A28: 45774 | D28: 0.041666667 | E28: =IF(Tableau4_2025[[#This Row],[Arrivée]]<>"",(Tableau4_2025[[#This Row],[Départ]] - Tableau4_2025[[#This Row],[Arrivée]]) - Tableau4_2025[[#This Row],[Pause]],0) -> 0 | F28: =IF(Tableau4_2025[[#This Row],[Temps travail]]>TempsTravail,Tableau4_2025[[#This Row],[Temps travail]]-TempsTravail,0) -> 0 | G28: =IF(Tableau4_2025[[#This Row],[Temps travail]]>TempsTravail,Tableau4_2025[[#This Row],[Temps travail]]*24-TempsTravail*24,0) -> 0 | H28: =WEEKNUM(A28,2) -> 17 | N28: Total général | P28: 4.4319444 | Q28: 106.36667
A29: 45775 | B29: 0.33611111 | C29: 0.66666667 | D29: 0.041666667 | E29: =IF(Tableau4_2025[[#This Row],[Arrivée]]<>"",(Tableau4_2025[[#This Row],[Départ]] - Tableau4_2025[[#This Row],[Arrivée]]) - Tableau4_2025[[#This Row],[Pause]],0) -> 0.28888889 | F29: =IF(Tableau4_2025[[#This Row],[Temps travail]]>TempsTravail,Tableau4_2025[[#This Row],[Temps travail]]-TempsTravail,0) -> 0 | G29: =IF(Tableau4_2025[[#This Row],[Temps travail]]>TempsTravail,Tableau4_2025[[#This Row],[Temps travail]]*24-TempsTravail*24,0) -> 0 | H29: =WEEKNUM(A29,2) -> 18
A30: 45776 | B30: 0.3375 | C30: 0.67708333 | D30: 0.041666667 | E30: =IF(Tableau4_2025[[#This Row],[Arrivée]]<>"",(Tableau4_2025[[#This Row],[Départ]] - Tableau4_2025[[#This Row],[Arrivée]]) - Tableau4_2025[[#This Row],[Pause]],0) -> 0.29791667 | F30: =IF(Tableau4_2025[[#This Row],[Temps travail]]>TempsTravail,Tableau4_2025[[#This Row],[Temps travail]]-TempsTravail,0) -> 0.00625 | G30: =IF(Tableau4_2025[[#This Row],[Temps travail]]>TempsTravail,Tableau4_2025[[#This Row],[Temps travail]]*24-TempsTravail*24,0) -> 0.15 | H30: =WEEKNUM(A30,2) -> 18
A31: 45777 | B31: 0.33472222 | C31: 0.68888889 | D31: 0.041666667 | E31: =IF(Tableau4_2025[[#This Row],[Arrivée]]<>"",(Tableau4_2025[[#This Row],[Départ]] - Tableau4_2025[[#This Row],[Arrivée]]) - Tableau4_2025[[#This Row],[Pause]],0) -> 0.3125 | F31: =IF(Tableau4_2025[[#This Row],[Temps travail]]>TempsTravail,Tableau4_2025[[#This Row],[Temps travail]]-TempsTravail,0) -> 0.020833333 | G31: =IF(Tableau4_2025[[#This Row],[Temps travail]]>TempsTravail,Tableau4_2025[[#This Row],[Temps travail]]*24-TempsTravail*24,0) -> 0.5 | H31: =WEEKNUM(A31,2) -> 18

Sheet 05-2025
A1: Date | B1: Arrivée | C1: Départ | D1: Pause | E1: Temps travail | F1: Delta (h) | G1: Delta (d) | H1: Semaine | N1: Année | O1: 2025
A2: 45778 | D2: 0.041666667 | E2: =IF(Tableau5_2025[[#This Row],[Arrivée]]<>"",(Tableau5_2025[[#This Row],[Départ]] - Tableau5_2025[[#This Row],[Arrivée]]) - Tableau5_2025[[#This Row],[Pause]],0) -> 0 | F2: =IF(Tableau5_2025[[#This Row],[Temps travail]]>TempsTravail,Tableau5_2025[[#This Row],[Temps travail]]-TempsTravail,0) -> 0 | G2: =IF(Tableau5_2025[[#This Row],[Temps travail]]>TempsTravail,Tableau5_2025[[#This Row],[Temps travail]]*24-TempsTravail*24,0) -> 0 | H2: =WEEKNUM(A2,2) -> 18 | J2: Semaine | K2: Delta total (h) | N2: Mois | O2: mai
A3: 45779 | B3: 0.34305556 | C3: 0.69375 | D3: 0.041666667 | E3: =IF(Tableau5_2025[[#This Row],[Arrivée]]<>"",(Tableau5_2025[[#This Row],[Départ]] - Tableau5_2025[[#This Row],[Arrivée]]) - Tableau5_2025[[#This Row],[Pause]],0) -> 0.30902778 | F3: =IF(Tableau5_2025[[#This Row],[Temps travail]]>TempsTravail,Tableau5_2025[[#This Row],[Temps travail]]-TempsTravail,0) -> 0.017361111 | G3: =IF(Tableau5_2025[[#This Row],[Temps travail]]>TempsTravail,Tableau5_2025[[#This Row],[Temps travail]]*24-TempsTravail*24,0) -> 0.41666667 | H3: =WEEKNUM(A3,2) -> 18 | J3: 18 | K3: =IF(ISBLANK(L3), "", IF(L3<0, "-" & TEXT(ABS(L3)/24, "h:mm"), TEXT(L3/24, "h:mm"))) -> 0:25 | L3: =SUMIF(H:H, J3, G:G) -> 0.41666667
A4: 45780 | D4: 0.041666667 | E4: =IF(Tableau5_2025[[#This Row],[Arrivée]]<>"",(Tableau5_2025[[#This Row],[Départ]] - Tableau5_2025[[#This Row],[Arrivée]]) - Tableau5_2025[[#This Row],[Pause]],0) -> 0 | F4: =IF(Tableau5_2025[[#This Row],[Temps travail]]>TempsTravail,Tableau5_2025[[#This Row],[Temps travail]]-TempsTravail,0) -> 0 | G4: =IF(Tableau5_2025[[#This Row],[Temps travail]]>TempsTravail,Tableau5_2025[[#This Row],[Temps travail]]*24-TempsTravail*24,0) -> 0 | H4: =WEEKNUM(A4,2) -> 18 | J4: 19 | K4: =IF(ISBLANK(L4), "", IF(L4<0, "-" & TEXT(ABS(L4)/24, "h:mm"), TEXT(L4/24, "h:mm"))) -> 2:06 | L4: =SUMIF(H:H, J4, G:G) -> 2.1 | N4: Semaine | O4: Delta Hebdo. (h) | P4: DeltaHebdo. (d)
A5: 45781 | D5: 0.041666667 | E5: =IF(Tableau5_2025[[#This Row],[Arrivée]]<>"",(Tableau5_2025[[#This Row],[Départ]] - Tableau5_2025[[#This Row],[Arrivée]]) - Tableau5_2025[[#This Row],[Pause]],0) -> 0 | F5: =IF(Tableau5_2025[[#This Row],[Temps travail]]>TempsTravail,Tableau5_2025[[#This Row],[Temps travail]]-TempsTravail,0) -> 0 | G5: =IF(Tableau5_2025[[#This Row],[Temps travail]]>TempsTravail,Tableau5_2025[[#This Row],[Temps travail]]*24-TempsTravail*24,0) -> 0 | H5: =WEEKNUM(A5,2) -> 18 | J5: 20 | K5: =IF(ISBLANK(L5), "", IF(L5<0, "-" & TEXT(ABS(L5)/24, "h:mm"), TEXT(L5/24, "h:mm"))) -> 1:13 | L5: =SUMIF(H:H, J5, G:G) -> 1.2166667 | N5: 18 | O5: 0.017361111 | P5: 0.41666667
A6: 45782 | D6: 0.041666667 | E6: =IF(Tableau5_2025[[#This Row],[Arrivée]]<>"",(Tableau5_2025[[#This Row],[Départ]] - Tableau5_2025[[#This Row],[Arrivée]]) - Tableau5_2025[[#This Row],[Pause]],0) -> 0 | F6: =IF(Tableau5_2025[[#This Row],[Temps travail]]>TempsTravail,Tableau5_2025[[#This Row],[Temps travail]]-TempsTravail,0) -> 0 | G6: =IF(Tableau5_2025[[#This Row],[Temps travail]]>TempsTravail,Tableau5_2025[[#This Row],[Temps travail]]*24-TempsTravail*24,0) -> 0 | H6: =WEEKNUM(A6,2) -> 19 | J6: 21 | K6: =IF(ISBLANK(L6), "", IF(L6<0, "-" & TEXT(ABS(L6)/24, "h:mm"), TEXT(L6/24, "h:mm"))) -> 2:05 | L6: =SUMIF(H:H, J6, G:G) -> 2.0833333 | N6: 19 | O6: 0.0875 | P6: 2.1
A7: 45783 | B7: 0.34027778 | C7: 0.70972222 | D7: 0.041666667 | E7: =IF(Tableau5_2025[[#This Row],[Arrivée]]<>"",(Tableau5_2025[[#This Row],[Départ]] - Tableau5_2025[[#This Row],[Arrivée]]) - Tableau5_2025[[#This Row],[Pause]],0) -> 0.32777778 | F7: =IF(Tableau5_2025[[#This Row],[Temps travail]]>TempsTravail,Tableau5_2025[[#This Row],[Temps travail]]-TempsTravail,0) -> 0.036111111 | G7: =IF(Tableau5_2025[[#This Row],[Temps travail]]>TempsTravail,Tableau5_2025[[#This Row],[Temps travail]]*24-TempsTravail*24,0) -> 0.86666667 | H7: =WEEKNUM(A7,2) -> 19 | J7: 22 | K7: =IF(ISBLANK(L7), "", IF(L7<0, "-" & TEXT(ABS(L7)/24, "h:mm"), TEXT(L7/24, "h:mm"))) -> 0:50 | L7: =SUMIF(H:H, J7, G:G) -> 0.83333333 | N7: 20 | O7: 0.050694444 | P7: 1.2166667
A8: 45784 | B8: 0.34027778 | C8: 0.68819444 | D8: 0.041666667 | E8: =IF(Tableau5_2025[[#This Row],[Arrivée]]<>"",(Tableau5_2025[[#This Row],[Départ]] - Tableau5_2025[[#This Row],[Arrivée]]) - Tableau5_2025[[#This Row],[Pause]],0) -> 0.30625 | F8: =IF(Tableau5_2025[[#This Row],[Temps travail]]>TempsTravail,Tableau5_2025[[#This Row],[Temps travail]]-TempsTravail,0) -> 0.014583333 | G8: =IF(Tableau5_2025[[#This Row],[Temps travail]]>TempsTravail,Tableau5_2025[[#This Row],[Temps travail]]*24-TempsTravail*24,0) -> 0.35 | H8: =WEEKNUM(A8,2) -> 19 | K8: =IF(ISBLANK(L8), "", IF(L8<0, "-" & TEXT(ABS(L8)/24, "h:mm"), TEXT(L8/24, "h:mm"))) | N8: 21 | O8: 0.086805556 | P8: 2.0833333
A9: 45785 | B9: 0.33680556 | C9: 0.67152778 | D9: 0.041666667 | E9: =IF(Tableau5_2025[[#This Row],[Arrivée]]<>"",(Tableau5_2025[[#This Row],[Départ]] - Tableau5_2025[[#This Row],[Arrivée]]) - Tableau5_2025[[#This Row],[Pause]],0) -> 0.29305556 | F9: =IF(Tableau5_2025[[#This Row],[Temps travail]]>TempsTravail,Tableau5_2025[[#This Row],[Temps travail]]-TempsTravail,0) -> 0.0013888889 | G9: =IF(Tableau5_2025[[#This Row],[Temps travail]]>TempsTravail,Tableau5_2025[[#This Row],[Temps travail]]*24-TempsTravail*24,0) -> 0.033333333 | H9: =WEEKNUM(A9,2) -> 19 | J9: Total mois | K9: =IF(ISBLANK(L9), "", IF(L9<0, "-" & TEXT(ABS(L9)/24, "h:mm"), TEXT(L9/24, "h:mm"))) -> 6:39 | L9: =SUM(L3:L7) -> 6.65 | N9: 22 | O9: 0.034722222 | P9: 0.83333333
A10: 45786 | D10: 0.041666667 | E10: =IF(Tableau5_2025[[#This Row],[Arrivée]]<>"",(Tableau5_2025[[#This Row],[Départ]] - Tableau5_2025[[#This Row],[Arrivée]]) - Tableau5_2025[[#This Row],[Pause]],0) -> 0 | F10: =IF(Tableau5_2025[[#This Row],[Temps travail]]>TempsTravail,Tableau5_2025[[#This Row],[Temps travail]]-TempsTravail,0) -> 0 | G10: =IF(Tableau5_2025[[#This Row],[Temps travail]]>TempsTravail,Tableau5_2025[[#This Row],[Temps travail]]*24-TempsTravail*24,0) -> 0 | H10: =WEEKNUM(A10,2) -> 19 | J10: Total année | K10: =IF(ISBLANK(L10), "", IF(L10<0, "-" & TEXT(ABS(L10)/24, "h:mm"), TEXT(L10/24, "h:mm"))) -> 8:01 | L10: =SUM(L14:L22) -> 104.01667 | N10: Total général | O10: 0.27708333 | P10: 6.65
A11: 45787 | B11: 0.33888889 | C11: 0.70763889 | D11: 0.041666667 | E11: =IF(Tableau5_2025[[#This Row],[Arrivée]]<>"",(Tableau5_2025[[#This Row],[Départ]] - Tableau5_2025[[#This Row],[Arrivée]]) - Tableau5_2025[[#This Row],[Pause]],0) -> 0.32708333 | F11: =IF(Tableau5_2025[[#This Row],[Temps travail]]>TempsTravail,Tableau5_2025[[#This Row],[Temps travail]]-TempsTravail,0) -> 0.035416667 | G11: =IF(Tableau5_2025[[#This Row],[Temps travail]]>TempsTravail,Tableau5_2025[[#This Row],[Temps travail]]*24-TempsTravail*24,0) -> 0.85 | H11: =WEEKNUM(A11,2) -> 19
A12: 45788 | D12: 0.041666667 | E12: =IF(Tableau5_2025[[#This Row],[Arrivée]]<>"",(Tableau5_2025[[#This Row],[Départ]] - Tableau5_2025[[#This Row],[Arrivée]]) - Tableau5_2025[[#This Row],[Pause]],0) -> 0 | F12: =IF(Tableau5_2025[[#This Row],[Temps travail]]>TempsTravail,Tableau5_2025[[#This Row],[Temps travail]]-TempsTravail,0) -> 0 | G12: =IF(Tableau5_2025[[#This Row],[Temps travail]]>TempsTravail,Tableau5_2025[[#This Row],[Temps travail]]*24-TempsTravail*24,0) -> 0 | H12: =WEEKNUM(A12,2) -> 19
A13: 45789 | D13: 0.041666667 | E13: =IF(Tableau5_2025[[#This Row],[Arrivée]]<>"",(Tableau5_2025[[#This Row],[Départ]] - Tableau5_2025[[#This Row],[Arrivée]]) - Tableau5_2025[[#This Row],[Pause]],0) -> 0 | F13: =IF(Tableau5_2025[[#This Row],[Temps travail]]>TempsTravail,Tableau5_2025[[#This Row],[Temps travail]]-TempsTravail,0) -> 0 | G13: =IF(Tableau5_2025[[#This Row],[Temps travail]]>TempsTravail,Tableau5_2025[[#This Row],[Temps travail]]*24-TempsTravail*24,0) -> 0 | H13: =WEEKNUM(A13,2) -> 20
A14: 45790 | B14: 0.33402778 | C14: 0.67222222 | D14: 0.041666667 | E14: =IF(Tableau5_2025[[#This Row],[Arrivée]]<>"",(Tableau5_2025[[#This Row],[Départ]] - Tableau5_2025[[#This Row],[Arrivée]]) - Tableau5_2025[[#This Row],[Pause]],0) -> 0.29652778 | F14: =IF(Tableau5_2025[[#This Row],[Temps travail]]>TempsTravail,Tableau5_2025[[#This Row],[Temps travail]]-TempsTravail,0) -> 0.0048611111 | G14: =IF(Tableau5_2025[[#This Row],[Temps travail]]>TempsTravail,Tableau5_2025[[#This Row],[Temps travail]]*24-TempsTravail*24,0) -> 0.11666667 | H14: =WEEKNUM(A14,2) -> 20 | J14: Avril | K14: =IF(ISBLANK(L14), "", IF(L14<0, "-" & TEXT(ABS(L14)/24, "h:mm"), TEXT(L14/24, "h:mm"))) -> 5:04 | L14: ='04-2025'!L9 -> 5.0666667 | N14: Année | O14: Mois | P14: Delta Mensuel (h) | Q14: Delta Mensuel (d)
A15: 45791 | B15: 0.34652778 | C15: 0.69166667 | D15: 0.041666667 | E15: =IF(Tableau5_2025[[#This Row],[Arrivée]]<>"",(Tableau5_2025[[#This Row],[Départ]] - Tableau5_2025[[#This Row],[Arrivée]]) - Tableau5_2025[[#This Row],[Pause]],0) -> 0.30347222 | F15: =IF(Tableau5_2025[[#This Row],[Temps travail]]>TempsTravail,Tableau5_2025[[#This Row],[Temps travail]]-TempsTravail,0) -> 0.011805556 | G15: =IF(Tableau5_2025[[#This Row],[Temps travail]]>TempsTravail,Tableau5_2025[[#This Row],[Temps travail]]*24-TempsTravail*24,0) -> 0.28333333 | H15: =WEEKNUM(A15,2) -> 20 | J15: Mai | K15: =IF(ISBLANK(L15), "", IF(L15<0, "-" & TEXT(ABS(L15)/24, "h:mm"), TEXT(L15/24, "h:mm"))) -> 6:39 | L15: ='05-2025'!L9 -> 6.65 | N15: 2025 | O15: avril | P15: 0.21111111 | Q15: 5.0666667
A16: 45792 | B16: 0.34652778 | C16: 0.70555556 | D16: 0.041666667 | E16: =IF(Tableau5_2025[[#This Row],[Arrivée]]<>"",(Tableau5_2025[[#This Row],[Départ]] - Tableau5_2025[[#This Row],[Arrivée]]) - Tableau5_2025[[#This Row],[Pause]],0) -> 0.31736111 | F16: =IF(Tableau5_2025[[#This Row],[Temps travail]]>TempsTravail,Tableau5_2025[[#This Row],[Temps travail]]-TempsTravail,0) -> 0.025694444 | G16: =IF(Tableau5_2025[[#This Row],[Temps travail]]>TempsTravail,Tableau5_2025[[#This Row],[Temps travail]]*24-TempsTravail*24,0) -> 0.61666667 | H16: =WEEKNUM(A16,2) -> 20 | J16: Juin | K16: =IF(ISBLANK(L16), "", IF(L16<0, "-" & TEXT(ABS(L16)/24, "h:mm"), TEXT(L16/24, "h:mm"))) -> 8:01 | L16: ='06-2025'!L9 -> 8.0166667 | O16: mai | P16: 0.27708333 | Q16: 6.65
A17: 45793 | B17: 0.34861111 | C17: 0.67013889 | D17: 0.041666667 | E17: =IF(Tableau5_2025[[#This Row],[Arrivée]]<>"",(Tableau5_2025[[#This Row],[Départ]] - Tableau5_2025[[#This Row],[Arrivée]]) - Tableau5_2025[[#This Row],[Pause]],0) -> 0.27986111 | F17: =IF(Tableau5_2025[[#This Row],[Temps travail]]>TempsTravail,Tableau5_2025[[#This Row],[Temps travail]]-TempsTravail,0) -> 0 | G17: =IF(Tableau5_2025[[#This Row],[Temps travail]]>TempsTravail,Tableau5_2025[[#This Row],[Temps travail]]*24-TempsTravail*24,0) -> 0 | H17: =WEEKNUM(A17,2) -> 20 | J17: Juillet | K17: =IF(ISBLANK(L17), "", IF(L17<0, "-" & TEXT(ABS(L17)/24, "h:mm"), TEXT(L17/24, "h:mm"))) -> 16:23 | L17: ='07-2025'!L8 -> 16.383333 | O17: juin | P17: 0.33402778 | Q17: 8.0166667
A18: 45794 | B18: 0.33958333 | C18: 0.68125 | D18: 0.041666667 | E18: =IF(Tableau5_2025[[#This Row],[Arrivée]]<>"",(Tableau5_2025[[#This Row],[Départ]] - Tableau5_2025[[#This Row],[Arrivée]]) - Tableau5_2025[[#This Row],[Pause]],0) -> 0.3 | F18: =IF(Tableau5_2025[[#This Row],[Temps travail]]>TempsTravail,Tableau5_2025[[#This Row],[Temps travail]]-TempsTravail,0) -> 0.0083333333 | G18: =IF(Tableau5_2025[[#This Row],[Temps travail]]>TempsTravail,Tableau5_2025[[#This Row],[Temps travail]]*24-TempsTravail*24,0) -> 0.2 | H18: =WEEKNUM(A18,2) -> 20 | J18: Aout | K18: =IF(ISBLANK(L18), "", IF(L18<0, "-" & TEXT(ABS(L18)/24, "h:mm"), TEXT(L18/24, "h:mm"))) -> 15:08 | L18: ='08-2025'!L9 -> 15.133333 | O18: juillet | P18: 0.68263889 | Q18: 16.383333
A19: 45795 | D19: 0.041666667 | E19: =IF(Tableau5_2025[[#This Row],[Arrivée]]<>"",(Tableau5_2025[[#This Row],[Départ]] - Tableau5_2025[[#This Row],[Arrivée]]) - Tableau5_2025[[#This Row],[Pause]],0) -> 0 | F19: =IF(Tableau5_2025[[#This Row],[Temps travail]]>TempsTravail,Tableau5_2025[[#This Row],[Temps travail]]-TempsTravail,0) -> 0 | G19: =IF(Tableau5_2025[[#This Row],[Temps travail]]>TempsTravail,Tableau5_2025[[#This Row],[Temps travail]]*24-TempsTravail*24,0) -> 0 | H19: =WEEKNUM(A19,2) -> 20 | J19: Septembre | K19: =IF(ISBLANK(L19), "", IF(L19<0, "-" & TEXT(ABS(L19)/24, "h:mm"), TEXT(L19/24, "h:mm"))) -> 13:21 | L19: ='09-2025'!L9 -> 13.35 | O19: août | P19: 0.63055556 | Q19: 15.133333
A20: 45796 | B20: 0.33333333 | C20: 0.72013889 | D20: 0.041666667 | E20: =IF(Tableau5_2025[[#This Row],[Arrivée]]<>"",(Tableau5_2025[[#This Row],[Départ]] - Tableau5_2025[[#This Row],[Arrivée]]) - Tableau5_2025[[#This Row],[Pause]],0) -> 0.34513889 | F20: =IF(Tableau5_2025[[#This Row],[Temps travail]]>TempsTravail,Tableau5_2025[[#This Row],[Temps travail]]-TempsTravail,0) -> 0.053472222 | G20: =IF(Tableau5_2025[[#This Row],[Temps travail]]>TempsTravail,Tableau5_2025[[#This Row],[Temps travail]]*24-TempsTravail*24,0) -> 1.2833333 | H20: =WEEKNUM(A20,2) -> 21 | J20: Octobre | K20: =IF(ISBLANK(L20), "", IF(L20<0, "-" & TEXT(ABS(L20)/24, "h:mm"), TEXT(L20/24, "h:mm"))) -> 19:54 | L20: ='10-2025'!L9 -> 19.9 | O20: septembre | P20: 0.55625 | Q20: 13.35
A21: 45797 | B21: 0.33680556 | C21: 0.69513889 | D21: 0.041666667 | E21: =IF(Tableau5_2025[[#This Row],[Arrivée]]<>"",(Tableau5_2025[[#This Row],[Départ]] - Tableau5_2025[[#This Row],[Arrivée]]) - Tableau5_2025[[#This Row],[Pause]],0) -> 0.31666667 | F21: =IF(Tableau5_2025[[#This Row],[Temps travail]]>TempsTravail,Tableau5_2025[[#This Row],[Temps travail]]-TempsTravail,0) -> 0.025 | G21: =IF(Tableau5_2025[[#This Row],[Temps travail]]>TempsTravail,Tableau5_2025[[#This Row],[Temps travail]]*24-TempsTravail*24,0) -> 0.6 | H21: =WEEKNUM(A21,2) -> 21 | J21: Novembre | K21: =IF(ISBLANK(L21), "", IF(L21<0, "-" & TEXT(ABS(L21)/24, "h:mm"), TEXT(L21/24, "h:mm"))) -> 10:32 | L21: ='11-2025'!L9 -> 10.533333 | O21: octobre | P21: 0.82916667 | Q21: 19.9
A22: 45798 | B22: 0.34513889 | C22: 0.67847222 | D22: 0.041666667 | E22: =IF(Tableau5_2025[[#This Row],[Arrivée]]<>"",(Tableau5_2025[[#This Row],[Départ]] - Tableau5_2025[[#This Row],[Arrivée]]) - Tableau5_2025[[#This Row],[Pause]],0) -> 0.29166667 | F22: =IF(Tableau5_2025[[#This Row],[Temps travail]]>TempsTravail,Tableau5_2025[[#This Row],[Temps travail]]-TempsTravail,0) -> 0 | G22: =IF(Tableau5_2025[[#This Row],[Temps travail]]>TempsTravail,Tableau5_2025[[#This Row],[Temps travail]]*24-TempsTravail*24,0) -> 0 | H22: =WEEKNUM(A22,2) -> 21 | J22: Decembre | K22: =IF(ISBLANK(L22), "", IF(L22<0, "-" & TEXT(ABS(L22)/24, "h:mm"), TEXT(L22/24, "h:mm"))) -> 8:59 | L22: ='12-2025'!L9 -> 8.9833333 | O22: novembre | P22: 0.43888889 | Q22: 10.533333
A23: 45799 | B23: 0.33263889 | C23: 0.66944444 | D23: 0.041666667 | E23: =IF(Tableau5_2025[[#This Row],[Arrivée]]<>"",(Tableau5_2025[[#This Row],[Départ]] - Tableau5_2025[[#This Row],[Arrivée]]) - Tableau5_2025[[#This Row],[Pause]],0) -> 0.29513889 | F23: =IF(Tableau5_2025[[#This Row],[Temps travail]]>TempsTravail,Tableau5_2025[[#This Row],[Temps travail]]-TempsTravail,0) -> 0.0034722222 | G23: =IF(Tableau5_2025[[#This Row],[Temps travail]]>TempsTravail,Tableau5_2025[[#This Row],[Temps travail]]*24-TempsTravail*24,0) -> 0.083333333 | H23: =WEEKNUM(A23,2) -> 21 | O23: décembre | P23: 0.37430556 | Q23: 8.9833333
A24: 45800 | B24: 0.33611111 | C24: 0.67430556 | D24: 0.041666667 | E24: =IF(Tableau5_2025[[#This Row],[Arrivée]]<>"",(Tableau5_2025[[#This Row],[Départ]] - Tableau5_2025[[#This Row],[Arrivée]]) - Tableau5_2025[[#This Row],[Pause]],0) -> 0.29652778 | F24: =IF(Tableau5_2025[[#This Row],[Temps travail]]>TempsTravail,Tableau5_2025[[#This Row],[Temps travail]]-TempsTravail,0) -> 0.0048611111 | G24: =IF(Tableau5_2025[[#This Row],[Temps travail]]>TempsTravail,Tableau5_2025[[#This Row],[Temps travail]]*24-TempsTravail*24,0) -> 0.11666667 | H24: =WEEKNUM(A24,2) -> 21 | N24: Total 2025 | P24: 4.3340278 | Q24: 104.01667
A25: 45801 | D25: 0.041666667 | E25: =IF(Tableau5_2025[[#This Row],[Arrivée]]<>"",(Tableau5_2025[[#This Row],[Départ]] - Tableau5_2025[[#This Row],[Arrivée]]) - Tableau5_2025[[#This Row],[Pause]],0) -> 0 | F25: =IF(Tableau5_2025[[#This Row],[Temps travail]]>TempsTravail,Tableau5_2025[[#This Row],[Temps travail]]-TempsTravail,0) -> 0 | G25: =IF(Tableau5_2025[[#This Row],[Temps travail]]>TempsTravail,Tableau5_2025[[#This Row],[Temps travail]]*24-TempsTravail*24,0) -> 0 | H25: =WEEKNUM(A25,2) -> 21 | N25: 2026 | O25: janvier | P25: 0.097916667 | Q25: 2.35
A26: 45802 | D26: 0.041666667 | E26: =IF(Tableau5_2025[[#This Row],[Arrivée]]<>"",(Tableau5_2025[[#This Row],[Départ]] - Tableau5_2025[[#This Row],[Arrivée]]) - Tableau5_2025[[#This Row],[Pause]],0) -> 0 | F26: =IF(Tableau5_2025[[#This Row],[Temps travail]]>TempsTravail,Tableau5_2025[[#This Row],[Temps travail]]-TempsTravail,0) -> 0 | G26: =IF(Tableau5_2025[[#This Row],[Temps travail]]>TempsTravail,Tableau5_2025[[#This Row],[Temps travail]]*24-TempsTravail*24,0) -> 0 | H26: =WEEKNUM(A26,2) -> 21 | O26: février | P26: 0 | Q26: 0
A27: 45803 | B27: 0.33541667 | C27: 0.67569444 | D27: 0.041666667 | E27: =IF(Tableau5_2025[[#This Row],[Arrivée]]<>"",(Tableau5_2025[[#This Row],[Départ]] - Tableau5_2025[[#This Row],[Arrivée]]) - Tableau5_2025[[#This Row],[Pause]],0) -> 0.29861111 | F27: =IF(Tableau5_2025[[#This Row],[Temps travail]]>TempsTravail,Tableau5_2025[[#This Row],[Temps travail]]-TempsTravail,0) -> 0.0069444444 | G27: =IF(Tableau5_2025[[#This Row],[Temps travail]]>TempsTravail,Tableau5_2025[[#This Row],[Temps travail]]*24-TempsTravail*24,0) -> 0.16666667 | H27: =WEEKNUM(A27,2) -> 22 | N27: Total 2026 | P27: 0.097916667 | Q27: 2.35
A28: 45804 | B28: 0.33958333 | C28: 0.65208333 | D28: 0.041666667 | E28: =IF(Tableau5_2025[[#This Row],[Arrivée]]<>"",(Tableau5_2025[[#This Row],[Départ]] - Tableau5_2025[[#This Row],[Arrivée]]) - Tableau5_2025[[#This Row],[Pause]],0) -> 0.27083333 | F28: =IF(Tableau5_2025[[#This Row],[Temps travail]]>TempsTravail,Tableau5_2025[[#This Row],[Temps travail]]-TempsTravail,0) -> 0 | G28: =IF(Tableau5_2025[[#This Row],[Temps travail]]>TempsTravail,Tableau5_2025[[#This Row],[Temps travail]]*24-TempsTravail*24,0) -> 0 | H28: =WEEKNUM(A28,2) -> 22 | N28: Total général | P28: 4.4319444 | Q28: 106.36667
A29: 45805 | B29: 0.33680556 | C29: 0.67638889 | D29: 0.041666667 | E29: =IF(Tableau5_2025[[#This Row],[Arrivée]]<>"",(Tableau5_2025[[#This Row],[Départ]] - Tableau5_2025[[#This Row],[Arrivée]]) - Tableau5_2025[[#This Row],[Pause]],0) -> 0.29791667 | F29: =IF(Tableau5_2025[[#This Row],[Temps travail]]>TempsTravail,Tableau5_2025[[#This Row],[Temps travail]]-TempsTravail,0) -> 0.00625 | G29: =IF(Tableau5_2025[[#This Row],[Temps travail]]>TempsTravail,Tableau5_2025[[#This Row],[Temps travail]]*24-TempsTravail*24,0) -> 0.15 | H29: =WEEKNUM(A29,2) -> 22
A30: 45806 | D30: 0.041666667 | E30: =IF(Tableau5_2025[[#This Row],[Arrivée]]<>"",(Tableau5_2025[[#This Row],[Départ]] - Tableau5_2025[[#This Row],[Arrivée]]) - Tableau5_2025[[#This Row],[Pause]],0) -> 0 | F30: =IF(Tableau5_2025[[#This Row],[Temps travail]]>TempsTravail,Tableau5_2025[[#This Row],[Temps travail]]-TempsTravail,0) -> 0 | G30: =IF(Tableau5_2025[[#This Row],[Temps travail]]>TempsTravail,Tableau5_2025[[#This Row],[Temps travail]]*24-TempsTravail*24,0) -> 0 | H30: =WEEKNUM(A30,2) -> 22
A31: 45807 | B31: 0.31805556 | C31: 0.67291667 | D31: 0.041666667 | E31: =IF(Tableau5_2025[[#This Row],[Arrivée]]<>"",(Tableau5_2025[[#This Row],[Départ]] - Tableau5_2025[[#This Row],[Arrivée]]) - Tableau5_2025[[#This Row],[Pause]],0) -> 0.31319444 | F31: =IF(Tableau5_2025[[#This Row],[Temps travail]]>TempsTravail,Tableau5_2025[[#This Row],[Temps travail]]-TempsTravail,0) -> 0.021527778 | G31: =IF(Tableau5_2025[[#This Row],[Temps travail]]>TempsTravail,Tableau5_2025[[#This Row],[Temps travail]]*24-TempsTravail*24,0) -> 0.51666667 | H31: =WEEKNUM(A31,2) -> 22
A32: 45808 | D32: 0.041666667 | E32: =IF(Tableau5_2025[[#This Row],[Arrivée]]<>"",(Tableau5_2025[[#This Row],[Départ]] - Tableau5_2025[[#This Row],[Arrivée]]) - Tableau5_2025[[#This Row],[Pause]],0) -> 0 | F32: =IF(Tableau5_2025[[#This Row],[Temps travail]]>TempsTravail,Tableau5_2025[[#This Row],[Temps travail]]-TempsTravail,0) -> 0 | G32: =IF(Tableau5_2025[[#This Row],[Temps travail]]>TempsTravail,Tableau5_2025[[#This Row],[Temps travail]]*24-TempsTravail*24,0) -> 0 | H32: =WEEKNUM(A32,2) -> 22

Sheet 06-2025
A1: Date | B1: Arrivée | C1: Départ | D1: Pause | E1: Temps travail | F1: Delta (h) | G1: Delta (d) | H1: Semaine | N1: Année | O1: 2025
A2: 45809 | D2: 0.041666667 | E2: =IF(Tableau6_2025[[#This Row],[Arrivée]]<>"",(Tableau6_2025[[#This Row],[Départ]] - Tableau6_2025[[#This Row],[Arrivée]]) - Tableau6_2025[[#This Row],[Pause]],0) -> 0 | F2: =IF(Tableau6_2025[[#This Row],[Temps travail]]>TempsTravail,Tableau6_2025[[#This Row],[Temps travail]]-TempsTravail,0) -> 0 | G2: =IF(Tableau6_2025[[#This Row],[Temps travail]]>TempsTravail,Tableau6_2025[[#This Row],[Temps travail]]*24-TempsTravail*24,0) -> 0 | H2: =WEEKNUM(A2,2) -> 22 | J2: Semaine | K2: Delta total (h) | N2: Mois | O2: juin
A3: 45810 | B3: 0.34583333 | C3: 0.71319444 | D3: 0.041666667 | E3: =IF(Tableau6_2025[[#This Row],[Arrivée]]<>"",(Tableau6_2025[[#This Row],[Départ]] - Tableau6_2025[[#This Row],[Arrivée]]) - Tableau6_2025[[#This Row],[Pause]],0) -> 0.32569444 | F3: =IF(Tableau6_2025[[#This Row],[Temps travail]]>TempsTravail,Tableau6_2025[[#This Row],[Temps travail]]-TempsTravail,0) -> 0.034027778 | G3: =IF(Tableau6_2025[[#This Row],[Temps travail]]>TempsTravail,Tableau6_2025[[#This Row],[Temps travail]]*24-TempsTravail*24,0) -> 0.81666667 | H3: =WEEKNUM(A3,2) -> 23 | J3: 22 | K3: =IF(ISBLANK(L3), "", IF(L3<0, "-" & TEXT(ABS(L3)/24, "h:mm"), TEXT(L3/24, "h:mm"))) -> 0:00 | L3: =SUMIF(H:H, J3, G:G) -> 0
A4: 45811 | B4: 0.34236111 | C4: 0.75833333 | D4: 0.041666667 | E4: =IF(Tableau6_2025[[#This Row],[Arrivée]]<>"",(Tableau6_2025[[#This Row],[Départ]] - Tableau6_2025[[#This Row],[Arrivée]]) - Tableau6_2025[[#This Row],[Pause]],0) -> 0.37430556 | F4: =IF(Tableau6_2025[[#This Row],[Temps travail]]>TempsTravail,Tableau6_2025[[#This Row],[Temps travail]]-TempsTravail,0) -> 0.082638889 | G4: =IF(Tableau6_2025[[#This Row],[Temps travail]]>TempsTravail,Tableau6_2025[[#This Row],[Temps travail]]*24-TempsTravail*24,0) -> 1.9833333 | H4: =WEEKNUM(A4,2) -> 23 | J4: 23 | K4: =IF(ISBLANK(L4), "", IF(L4<0, "-" & TEXT(ABS(L4)/24, "h:mm"), TEXT(L4/24, "h:mm"))) -> 3:05 | L4: =SUMIF(H:H, J4, G:G) -> 3.0833333 | N4: Semaine | O4: Delta Hebdo. (h) | P4: DeltaHebdo. (d)
A5: 45812 | B5: 0.34027778 | C5: 0.68125 | D5: 0.041666667 | E5: =IF(Tableau6_2025[[#This Row],[Arrivée]]<>"",(Tableau6_2025[[#This Row],[Départ]] - Tableau6_2025[[#This Row],[Arrivée]]) - Tableau6_2025[[#This Row],[Pause]],0) -> 0.29930556 | F5: =IF(Tableau6_2025[[#This Row],[Temps travail]]>TempsTravail,Tableau6_2025[[#This Row],[Temps travail]]-TempsTravail,0) -> 0.0076388889 | G5: =IF(Tableau6_2025[[#This Row],[Temps travail]]>TempsTravail,Tableau6_2025[[#This Row],[Temps travail]]*24-TempsTravail*24,0) -> 0.18333333 | H5: =WEEKNUM(A5,2) -> 23 | J5: 24 | K5: =IF(ISBLANK(L5), "", IF(L5<0, "-" & TEXT(ABS(L5)/24, "h:mm"), TEXT(L5/24, "h:mm"))) -> 1:21 | L5: =SUMIF(H:H, J5, G:G) -> 1.35 | N5: 22 | O5: 0 | P5: 0
A6: 45813 | B6: 0.34236111 | C6: 0.67986111 | D6: 0.041666667 | E6: =IF(Tableau6_2025[[#This Row],[Arrivée]]<>"",(Tableau6_2025[[#This Row],[Départ]] - Tableau6_2025[[#This Row],[Arrivée]]) - Tableau6_2025[[#This Row],[Pause]],0) -> 0.29583333 | F6: =IF(Tableau6_2025[[#This Row],[Temps travail]]>TempsTravail,Tableau6_2025[[#This Row],[Temps travail]]-TempsTravail,0) -> 0.0041666667 | G6: =IF(Tableau6_2025[[#This Row],[Temps travail]]>TempsTravail,Tableau6_2025[[#This Row],[Temps travail]]*24-TempsTravail*24,0) -> 0.1 | H6: =WEEKNUM(A6,2) -> 23 | J6: 25 | K6: =IF(ISBLANK(L6), "", IF(L6<0, "-" & TEXT(ABS(L6)/24, "h:mm"), TEXT(L6/24, "h:mm"))) -> 1:43 | L6: =SUMIF(H:H, J6, G:G) -> 1.7166667 | N6: 23 | O6: 0.12847222 | P6: 3.0833333
A7: 45814 | B7: 0.34861111 | C7: 0.67777778 | D7: 0.041666667 | E7: =IF(Tableau6_2025[[#This Row],[Arrivée]]<>"",(Tableau6_2025[[#This Row],[Départ]] - Tableau6_2025[[#This Row],[Arrivée]]) - Tableau6_2025[[#This Row],[Pause]],0) -> 0.2875 | F7: =IF(Tableau6_2025[[#This Row],[Temps travail]]>TempsTravail,Tableau6_2025[[#This Row],[Temps travail]]-TempsTravail,0) -> 0 | G7: =IF(Tableau6_2025[[#This Row],[Temps travail]]>TempsTravail,Tableau6_2025[[#This Row],[Temps travail]]*24-TempsTravail*24,0) -> 0 | H7: =WEEKNUM(A7,2) -> 23 | J7: 26 | K7: =IF(ISBLANK(L7), "", IF(L7<0, "-" & TEXT(ABS(L7)/24, "h:mm"), TEXT(L7/24, "h:mm"))) -> 1:20 | L7: =SUMIF(H:H, J7, G:G) -> 1.3333333 | N7: 24 | O7: 0.05625 | P7: 1.35
A8: 45815 | D8: 0.041666667 | E8: =IF(Tableau6_2025[[#This Row],[Arrivée]]<>"",(Tableau6_2025[[#This Row],[Départ]] - Tableau6_2025[[#This Row],[Arrivée]]) - Tableau6_2025[[#This Row],[Pause]],0) -> 0 | F8: =IF(Tableau6_2025[[#This Row],[Temps travail]]>TempsTravail,Tableau6_2025[[#This Row],[Temps travail]]-TempsTravail,0) -> 0 | G8: =IF(Tableau6_2025[[#This Row],[Temps travail]]>TempsTravail,Tableau6_2025[[#This Row],[Temps travail]]*24-TempsTravail*24,0) -> 0 | H8: =WEEKNUM(A8,2) -> 23 | J8: 27 | K8: =IF(ISBLANK(L8), "", IF(L8<0, "-" & TEXT(ABS(L8)/24, "h:mm"), TEXT(L8/24, "h:mm"))) -> 0:32 | L8: =SUMIF(H:H, J8, G:G) -> 0.53333333 | N8: 25 | O8: 0.071527778 | P8: 1.7166667
A9: 45816 | D9: 0.041666667 | E9: =IF(Tableau6_2025[[#This Row],[Arrivée]]<>"",(Tableau6_2025[[#This Row],[Départ]] - Tableau6_2025[[#This Row],[Arrivée]]) - Tableau6_2025[[#This Row],[Pause]],0) -> 0 | F9: =IF(Tableau6_2025[[#This Row],[Temps travail]]>TempsTravail,Tableau6_2025[[#This Row],[Temps travail]]-TempsTravail,0) -> 0 | G9: =IF(Tableau6_2025[[#This Row],[Temps travail]]>TempsTravail,Tableau6_2025[[#This Row],[Temps travail]]*24-TempsTravail*24,0) -> 0 | H9: =WEEKNUM(A9,2) -> 23 | J9: Total mois | K9: =IF(ISBLANK(L9), "", IF(L9<0, "-" & TEXT(ABS(L9)/24, "h:mm"), TEXT(L9/24, "h:mm"))) -> 8:01 | L9: =SUM(L3:L8) -> 8.0166667 | N9: 26 | O9: 0.055555556 | P9: 1.3333333
A10: 45817 | B10: 0.35416667 | C10: 0.69236111 | D10: 0.041666667 | E10: =IF(Tableau6_2025[[#This Row],[Arrivée]]<>"",(Tableau6_2025[[#This Row],[Départ]] - Tableau6_2025[[#This Row],[Arrivée]]) - Tableau6_2025[[#This Row],[Pause]],0) -> 0.29652778 | F10: =IF(Tableau6_2025[[#This Row],[Temps travail]]>TempsTravail,Tableau6_2025[[#This Row],[Temps travail]]-TempsTravail,0) -> 0.0048611111 | G10: =IF(Tableau6_2025[[#This Row],[Temps travail]]>TempsTravail,Tableau6_2025[[#This Row],[Temps travail]]*24-TempsTravail*24,0) -> 0.11666667 | H10: =WEEKNUM(A10,2) -> 24 | J10: Total année | K10: =IF(ISBLANK(L10), "", IF(L10<0, "-" & TEXT(ABS(L10)/24, "h:mm"), TEXT(L10/24, "h:mm"))) -> 8:01 | L10: =SUM(L14:L22) -> 104.01667 | N10: 27 | O10: 0.022222222 | P10: 0.53333333
A11: 45818 | B11: 0.35347222 | C11: 0.69305556 | D11: 0.041666667 | E11: =IF(Tableau6_2025[[#This Row],[Arrivée]]<>"",(Tableau6_2025[[#This Row],[Départ]] - Tableau6_2025[[#This Row],[Arrivée]]) - Tableau6_2025[[#This Row],[Pause]],0) -> 0.29791667 | F11: =IF(Tableau6_2025[[#This Row],[Temps travail]]>TempsTravail,Tableau6_2025[[#This Row],[Temps travail]]-TempsTravail,0) -> 0.00625 | G11: =IF(Tableau6_2025[[#This Row],[Temps travail]]>TempsTravail,Tableau6_2025[[#This Row],[Temps travail]]*24-TempsTravail*24,0) -> 0.15 | H11: =WEEKNUM(A11,2) -> 24 | N11: Total général | O11: 0.33402778 | P11: 8.0166667
A12: 45819 | B12: 0.34791667 | C12: 0.71319444 | D12: 0.041666667 | E12: =IF(Tableau6_2025[[#This Row],[Arrivée]]<>"",(Tableau6_2025[[#This Row],[Départ]] - Tableau6_2025[[#This Row],[Arrivée]]) - Tableau6_2025[[#This Row],[Pause]],0) -> 0.32361111 | F12: =IF(Tableau6_2025[[#This Row],[Temps travail]]>TempsTravail,Tableau6_2025[[#This Row],[Temps travail]]-TempsTravail,0) -> 0.031944444 | G12: =IF(Tableau6_2025[[#This Row],[Temps travail]]>TempsTravail,Tableau6_2025[[#This Row],[Temps travail]]*24-TempsTravail*24,0) -> 0.76666667 | H12: =WEEKNUM(A12,2) -> 24
A13: 45820 | B13: 0.34513889 | C13: 0.68958333 | D13: 0.041666667 | E13: =IF(Tableau6_2025[[#This Row],[Arrivée]]<>"",(Tableau6_2025[[#This Row],[Départ]] - Tableau6_2025[[#This Row],[Arrivée]]) - Tableau6_2025[[#This Row],[Pause]],0) -> 0.30277778 | F13: =IF(Tableau6_2025[[#This Row],[Temps travail]]>TempsTravail,Tableau6_2025[[#This Row],[Temps travail]]-TempsTravail,0) -> 0.011111111 | G13: =IF(Tableau6_2025[[#This Row],[Temps travail]]>TempsTravail,Tableau6_2025[[#This Row],[Temps travail]]*24-TempsTravail*24,0) -> 0.26666667 | H13: =WEEKNUM(A13,2) -> 24
A14: 45821 | B14: 0.34722222 | C14: 0.68263889 | D14: 0.041666667 | E14: =IF(Tableau6_2025[[#This Row],[Arrivée]]<>"",(Tableau6_2025[[#This Row],[Départ]] - Tableau6_2025[[#This Row],[Arrivée]]) - Tableau6_2025[[#This Row],[Pause]],0) -> 0.29375 | F14: =IF(Tableau6_2025[[#This Row],[Temps travail]]>TempsTravail,Tableau6_2025[[#This Row],[Temps travail]]-TempsTravail,0) -> 0.0020833333 | G14: =IF(Tableau6_2025[[#This Row],[Temps travail]]>TempsTravail,Tableau6_2025[[#This Row],[Temps travail]]*24-TempsTravail*24,0) -> 0.05 | H14: =WEEKNUM(A14,2) -> 24 | J14: Avril | K14: =IF(ISBLANK(L14), "", IF(L14<0, "-" & TEXT(ABS(L14)/24, "h:mm"), TEXT(L14/24, "h:mm"))) -> 5:04 | L14: ='04-2025'!L9 -> 5.0666667 | N14: Année | O14: Mois | P14: Delta Mensuel (h) | Q14: Delta Mensuel (d)
A15: 45822 | D15: 0.041666667 | E15: =IF(Tableau6_2025[[#This Row],[Arrivée]]<>"",(Tableau6_2025[[#This Row],[Départ]] - Tableau6_2025[[#This Row],[Arrivée]]) - Tableau6_2025[[#This Row],[Pause]],0) -> 0 | F15: =IF(Tableau6_2025[[#This Row],[Temps travail]]>TempsTravail,Tableau6_2025[[#This Row],[Temps travail]]-TempsTravail,0) -> 0 | G15: =IF(Tableau6_2025[[#This Row],[Temps travail]]>TempsTravail,Tableau6_2025[[#This Row],[Temps travail]]*24-TempsTravail*24,0) -> 0 | H15: =WEEKNUM(A15,2) -> 24 | J15: Mai | K15: =IF(ISBLANK(L15), "", IF(L15<0, "-" & TEXT(ABS(L15)/24, "h:mm"), TEXT(L15/24, "h:mm"))) -> 6:39 | L15: ='05-2025'!L9 -> 6.65 | N15: 2025 | O15: avril | P15: 0.21111111 | Q15: 5.0666667
A16: 45823 | D16: 0.041666667 | E16: =IF(Tableau6_2025[[#This Row],[Arrivée]]<>"",(Tableau6_2025[[#This Row],[Départ]] - Tableau6_2025[[#This Row],[Arrivée]]) - Tableau6_2025[[#This Row],[Pause]],0) -> 0 | F16: =IF(Tableau6_2025[[#This Row],[Temps travail]]>TempsTravail,Tableau6_2025[[#This Row],[Temps travail]]-TempsTravail,0) -> 0 | G16: =IF(Tableau6_2025[[#This Row],[Temps travail]]>TempsTravail,Tableau6_2025[[#This Row],[Temps travail]]*24-TempsTravail*24,0) -> 0 | H16: =WEEKNUM(A16,2) -> 24 | J16: Juin | K16: =IF(ISBLANK(L16), "", IF(L16<0, "-" & TEXT(ABS(L16)/24, "h:mm"), TEXT(L16/24, "h:mm"))) -> 8:01 | L16: ='06-2025'!L9 -> 8.0166667 | O16: mai | P16: 0.27708333 | Q16: 6.65
A17: 45824 | B17: 0 | C17: 0.041666667 | D17: 0.041666667 | E17: =IF(Tableau6_2025[[#This Row],[Arrivée]]<>"",(Tableau6_2025[[#This Row],[Départ]] - Tableau6_2025[[#This Row],[Arrivée]]) - Tableau6_2025[[#This Row],[Pause]],0) -> 0 | F17: =IF(Tableau6_2025[[#This Row],[Temps travail]]>TempsTravail,Tableau6_2025[[#This Row],[Temps travail]]-TempsTravail,0) -> 0 | G17: =IF(Tableau6_2025[[#This Row],[Temps travail]]>TempsTravail,Tableau6_2025[[#This Row],[Temps travail]]*24-TempsTravail*24,0) -> 0 | H17: =WEEKNUM(A17,2) -> 25 | J17: Juillet | K17: =IF(ISBLANK(L17), "", IF(L17<0, "-" & TEXT(ABS(L17)/24, "h:mm"), TEXT(L17/24, "h:mm"))) -> 16:23 | L17: ='07-2025'!L8 -> 16.383333 | O17: juin | P17: 0.33402778 | Q17: 8.0166667
A18: 45825 | B18: 0.34513889 | C18: 0.69513889 | D18: 0.041666667 | E18: =IF(Tableau6_2025[[#This Row],[Arrivée]]<>"",(Tableau6_2025[[#This Row],[Départ]] - Tableau6_2025[[#This Row],[Arrivée]]) - Tableau6_2025[[#This Row],[Pause]],0) -> 0.30833333 | F18: =IF(Tableau6_2025[[#This Row],[Temps travail]]>TempsTravail,Tableau6_2025[[#This Row],[Temps travail]]-TempsTravail,0) -> 0.016666667 | G18: =IF(Tableau6_2025[[#This Row],[Temps travail]]>TempsTravail,Tableau6_2025[[#This Row],[Temps travail]]*24-TempsTravail*24,0) -> 0.4 | H18: =WEEKNUM(A18,2) -> 25 | J18: Aout | K18: =IF(ISBLANK(L18), "", IF(L18<0, "-" & TEXT(ABS(L18)/24, "h:mm"), TEXT(L18/24, "h:mm"))) -> 15:08 | L18: ='08-2025'!L9 -> 15.133333 | O18: juillet | P18: 0.68263889 | Q18: 16.383333
A19: 45826 | B19: 0.33819444 | C19: 0.71041667 | D19: 0.041666667 | E19: =IF(Tableau6_2025[[#This Row],[Arrivée]]<>"",(Tableau6_2025[[#This Row],[Départ]] - Tableau6_2025[[#This Row],[Arrivée]]) - Tableau6_2025[[#This Row],[Pause]],0) -> 0.33055556 | F19: =IF(Tableau6_2025[[#This Row],[Temps travail]]>TempsTravail,Tableau6_2025[[#This Row],[Temps travail]]-TempsTravail,0) -> 0.038888889 | G19: =IF(Tableau6_2025[[#This Row],[Temps travail]]>TempsTravail,Tableau6_2025[[#This Row],[Temps travail]]*24-TempsTravail*24,0) -> 0.93333333 | H19: =WEEKNUM(A19,2) -> 25 | J19: Septembre | K19: =IF(ISBLANK(L19), "", IF(L19<0, "-" & TEXT(ABS(L19)/24, "h:mm"), TEXT(L19/24, "h:mm"))) -> 13:21 | L19: ='09-2025'!L9 -> 13.35 | O19: août | P19: 0.63055556 | Q19: 15.133333
A20: 45827 | B20: 0.37291667 | C20: 0.71041667 | D20: 0.041666667 | E20: =IF(Tableau6_2025[[#This Row],[Arrivée]]<>"",(Tableau6_2025[[#This Row],[Départ]] - Tableau6_2025[[#This Row],[Arrivée]]) - Tableau6_2025[[#This Row],[Pause]],0) -> 0.29583333 | F20: =IF(Tableau6_2025[[#This Row],[Temps travail]]>TempsTravail,Tableau6_2025[[#This Row],[Temps travail]]-TempsTravail,0) -> 0.0041666667 | G20: =IF(Tableau6_2025[[#This Row],[Temps travail]]>TempsTravail,Tableau6_2025[[#This Row],[Temps travail]]*24-TempsTravail*24,0) -> 0.1 | H20: =WEEKNUM(A20,2) -> 25 | J20: Octobre | K20: =IF(ISBLANK(L20), "", IF(L20<0, "-" & TEXT(ABS(L20)/24, "h:mm"), TEXT(L20/24, "h:mm"))) -> 19:54 | L20: ='10-2025'!L9 -> 19.9 | O20: septembre | P20: 0.55625 | Q20: 13.35
A21: 45828 | B21: 0.34166667 | C21: 0.68680556 | D21: 0.041666667 | E21: =IF(Tableau6_2025[[#This Row],[Arrivée]]<>"",(Tableau6_2025[[#This Row],[Départ]] - Tableau6_2025[[#This Row],[Arrivée]]) - Tableau6_2025[[#This Row],[Pause]],0) -> 0.30347222 | F21: =IF(Tableau6_2025[[#This Row],[Temps travail]]>TempsTravail,Tableau6_2025[[#This Row],[Temps travail]]-TempsTravail,0) -> 0.011805556 | G21: =IF(Tableau6_2025[[#This Row],[Temps travail]]>TempsTravail,Tableau6_2025[[#This Row],[Temps travail]]*24-TempsTravail*24,0) -> 0.28333333 | H21: =WEEKNUM(A21,2) -> 25 | J21: Novembre | K21: =IF(ISBLANK(L21), "", IF(L21<0, "-" & TEXT(ABS(L21)/24, "h:mm"), TEXT(L21/24, "h:mm"))) -> 10:32 | L21: ='11-2025'!L9 -> 10.533333 | O21: octobre | P21: 0.82916667 | Q21: 19.9
A22: 45829 | D22: 0.041666667 | E22: =IF(Tableau6_2025[[#This Row],[Arrivée]]<>"",(Tableau6_2025[[#This Row],[Départ]] - Tableau6_2025[[#This Row],[Arrivée]]) - Tableau6_2025[[#This Row],[Pause]],0) -> 0 | F22: =IF(Tableau6_2025[[#This Row],[Temps travail]]>TempsTravail,Tableau6_2025[[#This Row],[Temps travail]]-TempsTravail,0) -> 0 | G22: =IF(Tableau6_2025[[#This Row],[Temps travail]]>TempsTravail,Tableau6_2025[[#This Row],[Temps travail]]*24-TempsTravail*24,0) -> 0 | H22: =WEEKNUM(A22,2) -> 25 | J22: Decembre | K22: =IF(ISBLANK(L22), "", IF(L22<0, "-" & TEXT(ABS(L22)/24, "h:mm"), TEXT(L22/24, "h:mm"))) -> 8:59 | L22: ='12-2025'!L9 -> 8.9833333 | O22: novembre | P22: 0.43888889 | Q22: 10.533333
