Workbook
Name t_Sem1_Hiv_Lun: 'SEMAINE 1 HIVER LUNDI'!$A$1:$R$65
Name t_Sem1_Hiv_Mar: 'S1 HIVER MARDI'!$A$1:$R$76

Sheet LISTE DES INGREDIENTS
A1: Liste des ingrédients
A4: OEUFS
A5: FARINE
A6: CREME LIQUIDE

Sheet SEMAINE 1 HIVER LUNDI
A1: LUNDI | C1: GRAMMAGES (en G) | F1: RECETTE QUANTITES POUR 100 PRS (en Kg) Calcul pour le client: =Qté KG patient* Gram client/Gram patient | I1: EFFECTIF | M1: TAUX DE FREINTE (en %) ET/OU POIDS PAR BOITE (en G) | O1: QUANTITES en PRODUCTION Calcul: =(Qté KG* eff /100)+((Qté KG*eff t/100)* Taux de freinte/100) | R1: NBRE DE BOITES
C2: PATIENTS | D2: CLIENTS | F2: PATIENTS | G2: CLIENTS | I2: PATIENTS | J2: CLIENTS | K2: TOTAL | O2: PATIENTS | P2: CLIENTS | Q2: TOTAL
A3: DEJEUNER
A4: STEAK DE POULET + NATURE GRILLE | C4: 120 | D4: 120 | I4: 100 | J4: 300 | K4: =J4+I4 -> 400 | Q4: =SUM(Q5) -> 48
B5: STEAK HACHE DE POULET | F5: =C4*100/1000 -> 12 | G5: =D4*100/1000 -> 12 | M5: 0 | O5: =I4*C4/1000 -> 12 | P5: =J4*D4/1000 -> 36 | Q5: =P5+O5 -> 48
A6: SAUCE CREME | C6: 30 | D6: 30 | I6: 100 | J6: 200 | K6: =J6+I6 -> 300 | Q6: =SUM(Q7:Q10) -> 16.86
B7: FARINE | F7: 0.5 | G7: =F7*D6/C6 -> 0.5 | M7: 0 | O7: =(F7*I6/100)+((F7*I6/100)*M7/100) -> 0.5 | P7: =(G7*J6/100)+((G7*J6/100)*M7/100) -> 1 | Q7: =P7+O7 -> 1.5
B8: OIGNONS | F8: 2 | G8: =F8*D6/C6 -> 2 | M8: 0 | O8: =F8*I6/100 -> 2 | P8: =J6*F8/100 -> 4 | Q8: =P8+O8 -> 6
B9: CREME LIQUIDE | F9: 3 | G9: =F9*D6/C6 -> 3 | M9: 0 | O9: =I6*F9/100 -> 3 | P9: =F9*J6/100 -> 6 | Q9: =P9+O9 -> 9
B10: FOND DE VOLAILLE | F10: 0.12 | G10: =F10*D6/C6 -> 0.12 | M10: 0 | O10: =I6*F10/100 -> 0.12 | P10: =J6*F10/100 -> 0.24 | Q10: =P10+O10 -> 0.36
A11: TERRINE DE DINDONNEAU | C11: 100 | D11: 120 | I11: 100 | K11: =J11+I11 -> 100 | Q11: =SUM(Q12:Q15) -> 11.2
B12: DINDONNEAU | F12: 8 | G12: =F12*D11/C11 -> 9.6 | M12: 10 | O12: =(F12*I11/100)+((F12*I11/100)*M12/100) -> 8.8 | P12: =(J11*G12/100)+((J11*G12/100*M12/100)) -> 0 | Q12: =P12+O12 -> 8.8
B13: ŒUF LIQUIDE | F13: 2 | G13: =F13*D11/C11 -> 2.4 | M13: 0 | O13: =(F13*I11/100)+((F13*I11/100)*M13/100) -> 2 | P13: =(J11*G13/100)+((J11*G13/100*M13/100)) -> 0 | Q13: =P13+O13 -> 2
B14: PAIN DE MIE SANS CROUTE | F14: 0.3 | G14: =F14*D11/C11 -> 0.36 | M14: 0 | O14: =(F14*I11/100)+((F14*I11/100)*M14/100) -> 0.3 | P14: =(J11*G14/100)+((J11*G14/100*M14/100)) -> 0 | Q14: =P14+O14 -> 0.3
B15: SAUCE CREME OIGNONS | F15: 0.1 | G15: =F15*D11/C11 -> 0.12 | M15: 0 | O15: =(F15*I11/100)+((F15*I11/100)*M15/100) -> 0.1 | P15: =(J11*G15/100)+((J11*G15/100*M15/100)) -> 0 | Q15: =P15+O15 -> 0.1
A16: DINDONNEAU SAUCE CREME + NATURE | C16: 100 | D16: 100 | K16: =I16+J16 -> 0 | Q16: =SUM(Q17) -> 0
B17: DINDONNEAU | F17: =C16*100/1000 -> 10 | G17: =D16*100/1000 -> 10 | M17: 0 | O17: =(F17*I16/100)+((F17*I16/100)*M17/100) -> 0 | P17: =(G17*J16/100)+((G17*J16/100)*M17/100) -> 0 | Q17: =P17+O17 -> 0
A18: OMELETTE NATURE | C18: 90 | D18: 90 | I18: 300 | K18: =I18+J18 -> 300 | Q18: =SUM(Q19) -> 27
B19: OMELETTE SURG | F19: =C18*100/1000 -> 9 | G19: =D18*100/1000 -> 9 | M19: 0 | O19: =(F19*I18/100)+((F19*I18/100)*M19/100) -> 27 | P19: =(G19*J18/100)+((G19*J18/100)*M19/100) -> 0 | Q19: =O19+P19 -> 27
A20: MIXE LISSE JAMBON BRAISE | C20: 100 | K20: =I20+J20 -> 0 | O20: =C20*I20/1000 -> 0 | Q20: =O20 -> 0
A21: RATATOUILLE | C21: 100 | D21: 150 | I21: 100 | K21: =I21+J21 -> 100 | Q21: =SUM(Q22:Q23) -> 12
B22: RATATOUILLE SURG | F22: 5 | G22: =F22*D21/C21 -> 7.5 | M22: 40 | O22: =(F22*I21/100)+((F22*I21/100)*M22/100) -> 7 | P22: =(G22*J21/100)+((G22*J21/100)*M22/100) -> 0 | Q22: =O22+P22 -> 7
B23: RATATOUILLE EN BOITE | F23: 5 | G23: =F23*D21/C21 -> 7.5 | M23: 0 | O23: =I21*F23/100 -> 5 | P23: =(G23*J21/100)+((G23*J21/100)*M23/100) -> 0 | Q23: =O23+P23 -> 5 | R23: =Q23/4.1 -> 1.2195122
A24: RATATOUILLE NATURE | C24: 100 | I24: 100 | K24: =I24+J24 -> 100 | Q24: =Q25 -> 14
B25: RATATOUILLE SURG | F25: =C24*100/1000 -> 10 | M25: 40 | O25: =(F25*I24/100)+((F25*I24/100)*M25/100) -> 14 | Q25: =O25 -> 14
A26: FLAN DE RATATOUILLE | C26: 100 | I26: 100 | K26: =I26+J26 -> 100 | Q26: =SUM(Q27:Q31) -> 15.39
B27: RATATOUILLE EN BOITE | F27: 8.2 | M27: 20 | O27: =(F27*I26/100)+((F27*I26/100)*M27/100) -> 9.84 | Q27: =O27 -> 9.84 | R27: =Q27/4.1 -> 2.4
B28: FARINE | F28: 0.6 | M28: 0 | O28: =(F28*I26/100)+((F28*I26/100)*M28/100) -> 0.6 | Q28: =O28 -> 0.6
B29: CREME LIQUIDE | F29: 1 | M29: 20 | O29: =(F29*I26/100)+((F29*I26/100)*M29/100) -> 1.2 | Q29: =O29 -> 1.2
B30: ŒUF LIQUIDE | F30: 3 | M30: 20 | O30: =(F30*I26/100)+((F30*I26/100)*M30/100) -> 3.6 | Q30: =O30 -> 3.6
B31: AIL | F31: 0.15 | M31: 0 | O31: =(F31*I26/100)+((F31*I26/100)*M31/100) -> 0.15 | Q31: =O31 -> 0.15
A32: MIXE DE RATATOUILLE | C32: 100 | I32: 150 | K32: =I32+J32 -> 150 | Q32: =SUM(Q33:Q34) -> 15.375
B33: RATATOUILLE EN BOITE | F33: 10 | M33: 0 | O33: =(F33*I32/100)+((F33*I32/100)*M33/100) -> 15 | Q33: =O33 -> 15 | R33: =Q33/4.1 -> 3.6585366
B34: EPAISSISSANT | F34: 0.25 | M34: 0 | O34: =(F34*I32/100)+((F34*I32/100)*M34/100) -> 0.375 | Q34: =O34 -> 0.375
A35: SEMOULE | C35: 100 | D35: 150 | I35: 100 | J35: 300 | K35: =I35+J35 -> 400 | Q35: =Q36 -> 19.25
B36: SEMOULE | F36: 10 | G36: 15 | M36: -65 | O36: =(F36*I35/100)+((F36*I35/100)*M36/100) -> 3.5 | P36: =(G36*J35/100)+((G36*J35/100)*(M36/100)) -> 15.75 | Q36: =O36+P36 -> 19.25
A37: DINER
A38: POTAGE | K38: =I38+J38 -> 0 | Q38: =+Q39 -> 0
M39: 0 | O39: =(F39*I38/100)+((F39*I38/100)*M39/100) -> 0 | P39: =(G39*J38/100)+((G39*J38/100)*M39/100) -> 0 | Q39: =O39+P39 -> 0
A40: APPAREIL AUX POISSONS + GRUYERE ET SANS GRUYERE | C40: 150 | D40: 150 | I40: 100 | J40: 200 | K40: =I40+J40 -> 300 | Q40: =SUM(Q41:Q49) -> 59.15
B41: SAUMON CUBE | F41: 5 | G41: =F41*C40/D40 -> 5 | M41: 15 | O41: =(F41*I40/100)+((F41*I40/100)*M41/100) -> 5.75 | P41: =(G41*J40/100)+((G41*J40/100)*M41/100) -> 11.5 | Q41: =O41+P41 -> 17.25
B42: CIBOULETTE | F42: 0.15 | G42: =F42*C40/D40 -> 0.15 | M42: 0 | O42: =(F42*I40/100)+((F42*I40/100)*M42/100) -> 0.15 | P42: =(G42*J40/100)+((G42*J40/100)*M42/100) -> 0.3 | Q42: =O42+P42 -> 0.45
B43: ECHALOTES | F43: 1.5 | G43: =F43*C40/D40 -> 1.5 | M43: 0 | O43: =(F43*I40/100)+((F43*I40/100)*M43/100) -> 1.5 | P43: =(G43*J40/100)+((G43*J40/100)*M43/100) -> 3 | Q43: =O43+P43 -> 4.5
B44: CREME LIQUIDE | F44: 4 | G44: =F44*C40/D40 -> 4 | M44: 0 | O44: =(F44*I40/100)+((F44*I40/100)*M44/100) -> 4 | P44: =(G44*J40/100)+((G44*J40/100)*M44/100) -> 8 | Q44: =O44+P44 -> 12
B45: FARINE | F45: 0.5 | G45: =F45*C40/D40 -> 0.5 | M45: 0 | O45: =(F45*I40/100)+((F45*I40/100)*M45/100) -> 0.5 | P45: =(G45*J40/100)+((G45*J40/100)*M45/100) -> 1 | Q45: =O45+P45 -> 1.5
B46: FUMET DE POISSON | F46: 5 | G46: =F46*C40/D40 -> 5 | M46: 0 | O46: =(F46*I40/100)+((F46*I40/100)*M46/100) -> 5 | P46: =(G46*J45/100)+((G46*J45/100)*M46/100) -> 0 | Q46: =O46+P46 -> 5
B47: VIN BLANC | F47: 1.5 | G47: =F47*C40/D40 -> 1.5 | M47: 0 | O47: =(F47*I40/100)+((F47*I40/100)*M47/100) -> 1.5 | P47: =(G47*J46/100)+((G47*J46/100)*M47/100) -> 0 | Q47: =O47+P47 -> 1.5
B48: POISSON BLANC CUBE | F48: 5 | G48: =F48*C40/D40 -> 5 | M48: 10 | O48: =(F48*I40/100)+((F48*I40/100)*M48/100) -> 5.5 | P48: =(G48*J40/100)+((G48*J40/100)*M48/100) -> 11 | Q48: =O48+P48 -> 16.5
B49: ANETH | F49: 0.15 | G49: =F49*C40/D40 -> 0.15 | M49: 0 | O49: =(F49*I40/100)+((F49*I40/100)*M49/100) -> 0.15 | P49: =(G49*J40/100)+((G49*J40/100)*M49/100) -> 0.3 | Q49: =O49+P49 -> 0.45
A50: FLAN DE TAGLIATELLES POISSONS | C50: 300 | I50: 100 | K50: =I50+J50 -> 100 | Q50: =SUM(Q51:Q55) -> 20.7
B51: TAGLIATELLE | F51: 12 | M51: -65 | O51: =(F51* I50/100)+((F51* I50/100)*M51/100) -> 4.2 | Q51: =O51+P51 -> 4.2
B52: POISSON | F52: 10 | M52: 10 | O52: =(F52*I50/100)+((F52*I50/100)*M52/100) -> 11 | Q52: =O52+P52 -> 11
B53: ŒUF LIQUIDE | F53: 3 | M53: 0 | O53: =(F53*I40/100)+((F53*I40/100)*M53/100) -> 3 | Q53: =O53+P53 -> 3
B54: PAIN DE MIE SANS CROUTE | F54: 0.5 | M54: 0 | O54: =(F54*I40/100)+((F54*I40/100)*M54/100) -> 0.5 | Q54: =O54+P54 -> 0.5
B55: CREME LIQUIDE | F55: 2 | M55: 0 | O55: =(F55*I40/100)+((F55*I40/100)*M55/100) -> 2 | Q55: =O55+P55 -> 2
A56: FILET DE POISSON NATURE + CITRON | C56: 100 | D56: 100 | K56: =I56+J56 -> 0 | O56: =C56*I56/100 -> 0 | P56: =D56*J56/100 -> 0
A57: MIXE LISSE FRICASSE DE POULET A L'ANCIENNE | C57: 100 | K57: =I57+J57 -> 0 | O57: =C57*I57/100 -> 0
A58: SAUCISSON A L'AIL | C58: 0.8 | I58: 100 | K58: =I58+J58 -> 100 | O58: =C58*I58/100 -> 0.8 | P58: =D58*J58/100 -> 0
A59: EPINARDS HACHES VAPEUR | C59: 100 | D59: 150 | I59: 100 | K59: =I59+J59 -> 100 | Q59: =Q60 -> 12
B60: EPINARDS | F60: 10 | G60: =F60*D59/C59 -> 15 | M60: 20 | O60: =(F60*I59/100)+((F60*I59/100)*M60/100) -> 12 | P60: =(G60*J59/100)+((G60*J59/100)*M60/100) -> 0 | Q60: =P60+O60 -> 12
A61: MIXE D'EPINARDS | C61: 100 | I61: 100 | K61: =I61+J61 -> 100 | Q61: =SUM(Q62:Q63) -> 12.25
B62: EPINARDS | F62: 10 | M62: 20 | O62: =(F62*I61/100)+((F62*I61/100)*M62/100) -> 12 | P62: =(G62*J61/100)+((G62*J61/100)*M62/100) -> 0 | Q62: =O62+P62 -> 12
B63: EPAISSISSANT | F63: 0.25 | M63: 0 | O63: =(F63*I61/100)+((F63*I61/100)*M63/100) -> 0.25 | P63: =(G63*J62/100)+((G63*J62/100)*M63/100) -> 0 | Q63: =O63+P63 -> 0.25
A64: TAGLIATELLES | C64: 150 | D64: 200 | I64: 100 | K64: =I64+J64 -> 100 | Q64: =SUM(Q65) -> 5.25
B65: TAGLIATELLE | F65: 15 | G65: =F65*D64/C64 -> 20 | M65: -65 | O65: =(F65*I64/100)+((F65*I64/100)*M65/100) -> 5.25 | P65: =(G65*J64/100)+((G65*J64/100)*M65/100) -> 0 | Q65: =O65+P65 -> 5.25

Sheet S1 HIVER MARDI
A1: MARDI | C1: GRAMMAGES (en G) | F1: RECETTE QUANTITES POUR 100 PRS (en Kg) Calcul pour le client: =Qté KG patient* Gram client/Gram patient | I1: EFFECTIF | M1: TAUX DE FREINTE (en %) ET/OU POIDS PAR BOITE (en G) | O1: QUANTITES en PRODUCTION Calcul: =(Qté KG* eff /100)+((Qté KG*eff t/100)* Taux de freinte/100) | R1: NBRE DE BOITES
C2: PATIENTS | D2: CLIENTS | F2: PATIENTS | G2: CLIENTS | I2: PATIENTS | J2: CLIENTS | K2: TOTAL | O2: PATIENTS | P2: CLIENTS | Q2: TOTAL
A3: DEJEUNER
A4: TERRINE D'HACHIS PARMENTIER | C4: 100 | D4: 100 | I4: 100 | K4: =I4+J4 -> 100 | Q4: =+SUM(Q5:Q8) -> 13.8
B5: VIANDE HACHIS PARMENTIER | F5: 8 | M5: 10 | O5: =(F5*I4/100)+((F5*I4/100)*M5/100) -> 8.8 | Q5: =O5+P5 -> 8.8
B6: ŒUF LIQUIDE | F6: 2 | M6: 0 | O6: =(F6*I4/100)+((F6*I4/100)*M6/100) -> 2 | Q6: =O6+P6 -> 2
B7: PAIN DE MIE SANS CROUTE | F7: 1 | M7: 0 | O7: =(F7*I4/100)+((F7*I4/100)*M7/100) -> 1 | Q7: =O7+P7 -> 1
B8: CREME LIQUIDE | F8: 2 | M8: 0 | O8: =(F8*I4/100)+((F8*I4/100)*M8/100) -> 2 | Q8: =O8+P8 -> 2
A9: HACHIS PARMENTIER MAISON + S/GRUYERE | C9: 130 | D9: 150 | I9: 600 | K9: =I9+J9 -> 600 | Q9: =+SUM(Q10:Q17) -> 140.1
B10: VIANDE EGRENEE | F10: 12 | G10: =F10*D9/C9 -> 13.846154 | M10: 25 | O10: =(F10*I9/100)+((F10*I9/100)*M10/100) -> 90 | P10: =(G10*J9/100)+((G10*J9/100)*M10/100) -> 0 | Q10: =O10+P10 -> 90
B11: VIN BLANC | F11: 2 | G11: =F11*D9/C9 -> 2.3076923 | M11: 0 | O11: =(F11*I9/100)+((F11*I9/100)*M11/100) -> 12 | P11: =(G11*J9/100)+((G11*J9/100)*M11/100) -> 0 | Q11: =O11+P11 -> 12
B12: ECHALOTE | F12: 1.5 | G12: =F12*D9/C9 -> 1.7307692 | M12: 0 | O12: =(F12*I9/100)+((F12*I9/100)*M12/100) -> 9 | P12: =(G12*J9/100)+((G12*J9/100)*M12/100) -> 0 | Q12: =O12+P12 -> 9
B13: TOMATE PELEE | F13: 4 | G13: =F13*D9/C9 -> 4.6153846 | M13: 0 | O13: =(F13*I9/100)+((F13*I9/100)*M13/100) -> 24 | P13: =(G13*J12/100)+((G13*J12/100)*M13/100) -> 0 | Q13: =O13+P13 -> 24
B14: CONCENTRE TOMATE | F14: 0.4 | G14: =F14*D9/C9 -> 0.46153846 | M14: 0 | O14: =(F14*I9/100)+((F14*I9/100)*M14/100) -> 2.4 | P14: =(G14*J9/100)+((G14*J9/100)*M14/100) -> 0 | Q14: =O14+P14 -> 2.4
B15: PERSIL | F15: 0.15 | G15: =F15*D9/C9 -> 0.17307692 | M15: 0 | O15: =(F15*I9/100)+((F15*I9/100)*M15/100) -> 0.9 | P15: =(G15*J9/100)+((G15*J9/100)*M15/100) -> 0 | Q15: =O15+P15 -> 0.9
B16: AIL | F16: 0.15 | G16: =F16*D9/C9 -> 0.17307692 | M16: 0 | O16: =(F16*I15/100)+((F16*I15/100)*M16/100) -> 0 | P16: =(G16*J9/100)+((G16*J9/100)*M16/100) -> 0 | Q16: =O16+P16 -> 0
B17: FOND BRUN | F17: 0.3 | G17: =F17*D9/C9 -> 0.34615385 | M17: 0 | O17: =(F17*I9/100)+((F17*I9/100)*M17/100) -> 1.8 | P17: =(G17*J9/100)+((G17*J9/100)*M17/100) -> 0 | Q17: =O17+P17 -> 1.8
A18: ROTI DE BŒUF + SAUCE + NATURE | C18: 100 | D18: 100 | K18: =I18+J18 -> 0 | Q18: =+Q23 -> 0
B23: ROTI DE BŒUF | F23: =C18*100/1000 -> 10 | G23: =F23*D18/C18 -> 10 | M23: 0 | O23: =(F23*I18/100)+((F23*I18/100)*M23/100) -> 0 | P23: =(G23*J18/100)+((G23*J18/100)*M23/100) -> 0 | Q23: =O23+P23 -> 0 | R23: =Q23/4.1 -> 0
A24: EGRENE DE BŒUF + SAUCE + NATURE | C24: 100 | K24: =I24 -> 0 | Q24: =+Q25 -> 0
B25: VIANDE EGRENEE | F25: =C24*100/1000 -> 10 | M25: 20 | O25: =(F25*I24/100)+((F25*I24/100)*M25/100) -> 0 | Q25: =O25 -> 0
A26: MIXE LISSE DE PORC MOUTARDE ESTRAGON | C26: 100 | K26: =I26+J26 -> 0
A27: SALADE VERTE | C27: 60 | D27: 80 | I27: 300 | K27: =I27+J27 -> 300 | Q27: =+SUM(Q28:Q29) -> 27.9 | R27: =Q27/4.1 -> 6.804878
B28: ICEBERG | F28: 8 | G28: =F28*D27/C27 -> 10.666667 | M28: 0 | O28: =(F28*I27/100)+((F28*I27/100)*M28/100) -> 24 | P28: =(G28*J27/100)+((G28*J27/100)*M28/100) -> 0 | Q28: =O28+P28 -> 24
B29: ŒUFS DURS | F29: 1.3 | G29: =F29*D27/C27 -> 1.7333333 | M29: 0 | O29: =(F29*I27/100)+((F29*I27/100)*M29/100) -> 3.9 | P29: =(G29*J27/100)+((G29*J27/100)*M29/100) -> 0 | Q29: =O29+P29 -> 3.9
A30: FLAN DE PATATE DOUCE | C30: 100 | I30: 150 | K30: =I30+J30 -> 150 | Q30: =+SUM(Q31:Q33) -> 22.5
B31: PATATE DOUCE | F31: 10 | M31: 10 | O31: =(F31*I30/100)+((F31*I30/100)*M31/100) -> 16.5 | Q31: =O31+P31 -> 16.5
B32: CREME LIQUIDE | F32: 2 | M32: 0 | O32: =(F32*I30/100)+((F32*I30/100)*M32/100) -> 3 | Q32: =O32+P32 -> 3
B33: ŒUF LIQUIDE | F33: 2 | M33: 0 | O33: =(F33*I30/100)+((F33*I30/100)*M33/100) -> 3 | Q33: =O33+P33 -> 3 | R33: =Q33/4.1 -> 0.73170732
A34: PUREE | C34: 200 | D34: 250 | I34: 100 | K34: =I34+J34 -> 100 | Q34: =+SUM(Q35:Q38) -> 14.858
B35: PUREE | F35: 20 | G35: =F35*D34/C34 -> 25 | M35: -85.71 | O35: =(F35*I34/100)+((F35*I34/100)*M35/100 ) -> 2.858 | P35: =(G35*J34/100)+((G35*J34/100)*M35/100) -> 0 | Q35: =O35+P35 -> 2.858
B36: LAIT ENTIER | F36: 4 | G36: =F36*D34/C34 -> 5 | M36: 0 | O36: =(F36*I34/100)+((F36*I34/100)*M36/100) -> 4 | P36: =(G36*J34/100)+((G36*J34/100)*M36/100) -> 0 | Q36: =O36+P36 -> 4
B37: CREME LIQUIDE | F37: 6 | G37: =F37*D34/C34 -> 7.5 | M37: 0 | O37: =(F37*I34/100)+((F37*I34/100)*M37/100) -> 6 | P37: =(G37*J34/100)+((G37*J34/100)*M37/100) -> 0 | Q37: =O37+P37 -> 6
B38: GRUYERE | F38: 2 | G38: =F38*D34/C34 -> 2.5 | M38: 0 | O38: =(F38*I34/100)+((F38*I34/100)*M38/100) -> 2 | P38: =(G38*J34/100)+((G38*J34/100)*M38/100) -> 0 | Q38: =O38+P38 -> 2
A39: DINER
A40: POTAGE | K40: =+I40+J40 -> 0 | Q40: =O40+P40 -> 0
M41: 0 | O41: =(F41*I40/100)+((F41+I40/100)*M41/100) -> 0 | P41: =(G41*J40/100)+((G41+J40/100)*M41/100) -> 0 | Q41: =O41+P41 -> 0
A42: CORDON BLEU | C42: 125 | D42: 125 | K42: =+I42+J42 -> 0 | Q42: =+Q43 -> 0
B43: CORDON BLEU | F43: =+C42*100/1000 -> 12.5 | G43: =D42*100/1000 -> 12.5 | M43: 0 | O43: =(F43*I42/100)+((F43*I42/100)*M43/100) -> 0 | P43: =(G43*J42/100)+((G43*J42/100)*M43/100) -> 0 | Q43: =O43+P43 -> 0
A44: SAUCE FROMAGE | C44: 30 | D44: 30 | I44: 400 | K44: =+I44+J44 -> 400 | Q44: =+SUM(Q45:Q50) -> 19.2
B45: CREME LIQUIDE | F45: 1 | G45: =F45*D44/C44 -> 1 | M45: 10 | O45: =(F45*I44/100)+((F45*I44/100)*M45/100) -> 4.4 | P45: =(G45*J44/100)+((G45*J44/100)*M45/100) -> 0 | Q45: =O45+P45 -> 4.4
B46: BLOC BLEU | F46: 0.6 | G46: =F46*D44/C44 -> 0.6 | M46: 0 | O46: =(F46*I44/100)+((F46*I44/100)*M46/100) -> 2.4 | P46: =(G46*J44/100)+((G46*J44/100)*M46/100) -> 0 | Q46: =O46+P46 -> 2.4
B47: FROMAGE RAPE | F47: 0.6 | G47: =F47*D44/C44 -> 0.6 | M47: 0 | O47: =(F47*I44/100)+((F47*I44/100)*M47/100) -> 2.4 | P47: =(G47*J44/100)+((G47*J44/100)*M47/100) -> 0 | Q47: =O47+P47 -> 2.4
B48: MARGARINE | F48: 0.15 | G48: =F48*D44/C44 -> 0.15 | M48: 0 | O48: =(F48*I44/100)+((F48*I44/100)*M48/100) -> 0.6 | P48: =(G48*J44/100)+((G48*J44/100)*M48/100) -> 0 | Q48: =O48+P48 -> 0.6
B49: FARINE | F49: 0.15 | G49: =F49*D44/C44 -> 0.15 | M49: 0 | O49: =(F49*I44/100)+((F49*I44/100)*M49/100) -> 0.6 | P49: =(G49*J44/100)+((G49*J44/100)*M49/100) -> 0 | Q49: =O49+P49 -> 0.6
B50: LAIT | F50: 2 | G50: =F50*D44/C44 -> 2 | M50: 10 | O50: =(F50*I44/100)+((F50*I44/100)*M50/100) -> 8.8 | P50: =(G50*J44/100)+((G50*J44/100)*M50/100) -> 0 | Q50: =O50+P50 -> 8.8
A51: DINDONNEAU SAUCE CREME + NATURE | C51: 100 | D51: 100 | I51: 100 | J51: 100 | K51: =+I51+J51 -> 200 | Q51: =+Q52 -> 20
B52: DINDONNEAU | F52: =C51*100/1000 -> 10 | G52: =D51*100/1000 -> 10 | O52: =(F52*I51/100)+((F52*I51/100)*M52/100) -> 10 | P52: =G52*J51/100+((G52*J51/100)*M52/100) -> 10 | Q52: =O52+P52 -> 20
A53: TERRINE DE DINDONNEAU | C53: 100 | I53: 100 | K53: =+I53 -> 100 | Q53: =+SUM(Q54:Q57) -> 13.4
B54: QUENELLE DE VOLAILLE | F54: 8 | M54: 0 | O54: =(F54*I53/100)+((F54*I53/100)*M54/100) -> 8 | Q54: =O54+P54 -> 8
B55: ŒUF LIQUIDE | F55: 2 | M55: 10 | O55: =(F55*I53/100)+((F55*I53/100)*M55/100) -> 2.2 | Q55: =O55+P55 -> 2.2
B56: PAIN DE MIE SANS CROUTE | F56: 1 | M56: 0 | O56: =(F56*I53/100)+((F56*I53/100)*M56/100) -> 1 | Q56: =O56+P56 -> 1
B57: CREME LIQUIDE | F57: 2 | M57: 10 | O57: =(F57*I53/100)+((F57*I53/100)*M57/100) -> 2.2 | Q57: =O57+P57 -> 2.2
A58: DINDONNEAU HACHE NATURE | C58: 100 | I58: 100 | J58: 100 | K58: =+I58+J58 -> 200 | Q58: =Q59 -> 10
B59: DINDONNEAU | F59: =+C58*100/1000 -> 10 | M59: 0 | O59: =(F59*I58/100)+((F59*I58/100)*M59/100) -> 10 | Q59: =O59 -> 10
A60: MIXE LISSE SAUMON A L'OSEILLE | C60: 100 | I60: 100 | J60: 100 | K60: =+I60+J60 -> 200 | O60: =(F60*I59/100)+((F60*I59/100)*M60/100) -> 0
A61: MOUSSE DE FOIE | C61: 80 | D61: 80 | I61: 100 | J61: 100 | K61: =+I61+J61 -> 200
A62: POELEE DE CHAMPIGNONS | C62: 100 | D62: 150 | I62: 100 | J62: 100 | K62: =+I62+J62 -> 200 | Q62: =Q63+Q64+Q65 -> 29.875
B63: CHAMPIGNONS SURG | F63: 5 | G63: =F63*D62/C62 -> 7.5 | M63: 35 | O63: =(F63*I62/100)+((F63*I62/100)*M63/100) -> 6.75 | P63: =(G63*J62/100)+((G63*J62/100)*M63/100) -> 10.125 | Q63: =+O63+P63 -> 16.875
B64: CHAMPIGNONS EN BOITE | F64: 5 | G64: =F64*D62/C62 -> 7.5 | M64: 0 | O64: =(F64*I62/100)+((F64*I62/100)*M64/100) -> 5 | P64: =(G64*J62/100)+((G64*J62/100)*M64/100) -> 7.5 | Q64: =+O64+P64 -> 12.5
B65: AIL | F65: 0.2 | G65: =F65*D62/C62 -> 0.3 | M65: 0 | O65: =(F65*I62/100)+((F65*I62/100)*M65/100) -> 0.2 | P65: =(G65*J62/100)+((G65*J62/100)*M65/100) -> 0.3 | Q65: =+O65+P65 -> 0.5
A66: FLAN DE POELEE DE LEGUMES | C66: 100 | I66: 100 | K66: =+I66+J66 -> 100 | Q66: =Q67+Q68+Q69 -> 11.05
B67: POELEE DE LEGUMES | F67: 7 | M67: 15 | O67: =(F67*I66/100)+((F67*I66/100)*M67/100) -> 8.05 | Q67: =+O67+P67 -> 8.05
B68: CREME LIQUIDE | F68: 1 | M68: 0 | O68: =(F68*I66/100)+((F68*I66/100)*M68/100) -> 1 | Q68: =+O68+P68 -> 1
B69: ŒUF LIQUIDE | F69: 2 | M69: 0 | O69: =(F69*I66/100)+((F69*I66/100)*M69/100) -> 2 | Q69: =+O69+P69 -> 2
A70: MIXE DE 3 LEGUMES | C70: 100 | I70: 100 | K70: =+I70+J70 -> 100 | Q70: =+Q71 -> 10
B71: PUREE DE 3 LEGUMES SURG | F71: =C70*100/1000 -> 10 | O71: =(F71*I70/100)+((F71*I70/100)*M71/100) -> 10 | Q71: =+O71+P71 -> 10
A72: RISOTTO | C72: 100 | D72: 150 | I72: 100 | J72: 100 | K72: =+I72+J72 -> 200 | Q72: =SUM(Q73:Q76) -> 80.525
B73: RIZ | F73: 90 | G73: =F73+D72/C72 -> 91.5 | M73: -65 | O73: =(F73*I72/100)+((F73*I72/100)*M73/100) -> 31.5 | P73: =(G73*J72/100)+((G73*J72/100)*M73/100) -> 32.025 | Q73: =+O73+P73 -> 63.525
B74: CREME LIQUIDE | F74: 2 | G74: =F74*D72/C72 -> 3 | M74: 0 | O74: =(F74*I72/100)+((F74*I72/100)*M74/100) -> 2 | P74: =(G74*J72/100)+((G74*J72/100)*M74/100) -> 3 | Q74: =+O74+P74 -> 5
B75: LAIT | F75: 4 | G75: =F75*D72/C72 -> 6 | M75: 0 | O75: =(F75*I72/100)+((F75*I72/100)*M75/100) -> 4 | P75: =(G75*J72/100)+((G75*J72/100)*M75/100) -> 6 | Q75: =+O75+P75 -> 10
B76: FROMAGE ITALIEN | F76: 0.8 | G76: =F76*D72/C72 -> 1.2 | M76: 0 | O76: =(F76*I72/100)+((F76*I72/100)*M76/100) -> 0.8 | P76: =(G76*J72/100)+((G76*J72/100)*M76/100) -> 1.2 | Q76: =+O76+P76 -> 2

Sheet Récap
B2: Ingrédient | C2: Total | E2: Il faut une liste complète de ingrédients et faire attention au nombre de ligne de chaque onglet et ajuster la formule de calcul en conséquence
B3: AIL | C3: =SUMIFS('SEMAINE 1 HIVER LUNDI'!$Q$4:$Q$76,'SEMAINE 1 HIVER LUNDI'!$B$4:$B$76,Tableau1[[#This Row],[Ingrédient]])+SUMIFS('S1 HIVER MARDI'!$Q$4:$Q$76,'S1 HIVER MARDI'!$B$4:$B$76,Tableau1[[#This Row],[Ingrédient]]) -> 0.65 | E3: =_xlfn.FORMULATEXT(Tableau1[[#This Row],[Total]]) -> =SOMME.SI.ENS('SEMAINE 1 HIVER LUNDI'!$Q$4:$Q$76;'SEMAINE 1 HIVER LUNDI'!$B$4:$B$76;[@Ingrédient])+SOMME.SI.ENS('S1 HIVER MARDI'!$Q$4:$Q$76;'S1 HIVER MARDI'!$B$4:$B$76;[@Ingrédient])
B4: ANETH | C4: =SUMIFS('SEMAINE 1 HIVER LUNDI'!$Q$4:$Q$76,'SEMAINE 1 HIVER LUNDI'!$B$4:$B$76,Tableau1[[#This Row],[Ingrédient]])+SUMIFS('S1 HIVER MARDI'!$Q$4:$Q$76,'S1 HIVER MARDI'!$B$4:$B$76,Tableau1[[#This Row],[Ingrédient]]) -> 0.45
B5: BLOC BLEU | C5: =SUMIFS('SEMAINE 1 HIVER LUNDI'!$Q$4:$Q$76,'SEMAINE 1 HIVER LUNDI'!$B$4:$B$76,Tableau1[[#This Row],[Ingrédient]])+SUMIFS('S1 HIVER MARDI'!$Q$4:$Q$76,'S1 HIVER MARDI'!$B$4:$B$76,Tableau1[[#This Row],[Ingrédient]]) -> 2.4
B6: CHAMPIGNONS EN BOITE | C6: =SUMIFS('SEMAINE 1 HIVER LUNDI'!$Q$4:$Q$76,'SEMAINE 1 HIVER LUNDI'!$B$4:$B$76,Tableau1[[#This Row],[Ingrédient]])+SUMIFS('S1 HIVER MARDI'!$Q$4:$Q$76,'S1 HIVER MARDI'!$B$4:$B$76,Tableau1[[#This Row],[Ingrédient]]) -> 12.5
B7: CHAMPIGNONS SURG | C7: =SUMIFS('SEMAINE 1 HIVER LUNDI'!$Q$4:$Q$76,'SEMAINE 1 HIVER LUNDI'!$B$4:$B$76,Tableau1[[#This Row],[Ingrédient]])+SUMIFS('S1 HIVER MARDI'!$Q$4:$Q$76,'S1 HIVER MARDI'!$B$4:$B$76,Tableau1[[#This Row],[Ingrédient]]) -> 16.875
B8: CIBOULETTE | C8: =SUMIFS('SEMAINE 1 HIVER LUNDI'!$Q$4:$Q$76,'SEMAINE 1 HIVER LUNDI'!$B$4:$B$76,Tableau1[[#This Row],[Ingrédient]])+SUMIFS('S1 HIVER MARDI'!$Q$4:$Q$76,'S1 HIVER MARDI'!$B$4:$B$76,Tableau1[[#This Row],[Ingrédient]]) -> 0.45
B9: CONCENTRE TOMATE | C9: =SUMIFS('SEMAINE 1 HIVER LUNDI'!$Q$4:$Q$76,'SEMAINE 1 HIVER LUNDI'!$B$4:$B$76,Tableau1[[#This Row],[Ingrédient]])+SUMIFS('S1 HIVER MARDI'!$Q$4:$Q$76,'S1 HIVER MARDI'!$B$4:$B$76,Tableau1[[#This Row],[Ingrédient]]) -> 2.4
B10: CORDON BLEU | C10: =SUMIFS('SEMAINE 1 HIVER LUNDI'!$Q$4:$Q$76,'SEMAINE 1 HIVER LUNDI'!$B$4:$B$76,Tableau1[[#This Row],[Ingrédient]])+SUMIFS('S1 HIVER MARDI'!$Q$4:$Q$76,'S1 HIVER MARDI'!$B$4:$B$76,Tableau1[[#This Row],[Ingrédient]]) -> 0
B11: CREME LIQUIDE | C11: =SUMIFS('SEMAINE 1 HIVER LUNDI'!$Q$4:$Q$76,'SEMAINE 1 HIVER LUNDI'!$B$4:$B$76,Tableau1[[#This Row],[Ingrédient]])+SUMIFS('S1 HIVER MARDI'!$Q$4:$Q$76,'S1 HIVER MARDI'!$B$4:$B$76,Tableau1[[#This Row],[Ingrédient]]) -> 33.8
B12: CREME LIQUIDE | C12: =SUMIFS('SEMAINE 1 HIVER LUNDI'!$Q$4:$Q$76,'SEMAINE 1 HIVER LUNDI'!$B$4:$B$76,Tableau1[[#This Row],[Ingrédient]])+SUMIFS('S1 HIVER MARDI'!$Q$4:$Q$76,'S1 HIVER MARDI'!$B$4:$B$76,Tableau1[[#This Row],[Ingrédient]]) -> 14
B13: DINDONNEAU | C13: =SUMIFS('SEMAINE 1 HIVER LUNDI'!$Q$4:$Q$76,'SEMAINE 1 HIVER LUNDI'!$B$4:$B$76,Tableau1[[#This Row],[Ingrédient]])+SUMIFS('S1 HIVER MARDI'!$Q$4:$Q$76,'S1 HIVER MARDI'!$B$4:$B$76,Tableau1[[#This Row],[Ingrédient]]) -> 38.8
B14: ECHALOTE | C14: =SUMIFS('SEMAINE 1 HIVER LUNDI'!$Q$4:$Q$76,'SEMAINE 1 HIVER LUNDI'!$B$4:$B$76,Tableau1[[#This Row],[Ingrédient]])+SUMIFS('S1 HIVER MARDI'!$Q$4:$Q$76,'S1 HIVER MARDI'!$B$4:$B$76,Tableau1[[#This Row],[Ingrédient]]) -> 9
B15: ECHALOTES | C15: =SUMIFS('SEMAINE 1 HIVER LUNDI'!$Q$4:$Q$76,'SEMAINE 1 HIVER LUNDI'!$B$4:$B$76,Tableau1[[#This Row],[Ingrédient]])+SUMIFS('S1 HIVER MARDI'!$Q$4:$Q$76,'S1 HIVER MARDI'!$B$4:$B$76,Tableau1[[#This Row],[Ingrédient]]) -> 4.5
... B55: ŒUFS DURS | C55: =SUMIFS('SEMAINE 1 HIVER LUNDI'!$Q$4:$Q$76,'SEMAINE 1 HIVER LUNDI'!$B$4:$B$76,Tableau1[[#This Row],[Ingrédient]])+SUMIFS('S1 HIVER MARDI'!$Q$4:$Q$76,'S1 HIVER MARDI'!$B$4:$B$76,Tableau1[[#This Row],[Ingrédient]]) -> 3.9
