Workbook
Name t_Sem1_Hiv_Lun: 'SEMAINE 1 HIVER LUNDI'!$A$1:$R$65
Name t_Sem1_Hiv_Mar: 'S1 HIVER MARDI'!$A$1:$R$76

Sheet LISTE DES INGREDIENTS
A1: Liste des ingrédients
A4: OEUFS
A5: FARINE
A6: CREME LIQUIDE

Sheet SEMAINE 1 HIVER LUNDI
A1: LUNDI | C1: GRAMMAGES (en G) | F1: RECETTE QUANTITES POUR 100 PRS (en Kg) Calcul pour le client: =Qté KG patient* Gram client/Gram patient | I1: EFFECTIF | M1: TAUX DE FREINTE (en %) ET/OU POIDS PAR BOITE (en G) | O1: QUANTITES en PRODUCTION Calcul: =(Qté KG* eff /100)+((Qté KG*eff t/100)* Taux de freinte/100) | R1: NBRE DE BOITES
C2: PATIENTS | D2: CLIENTS | F2: PATIENTS | G2: CLIENTS | I2: PATIENTS | J2: CLIENTS | K2: TOTAL | O2: PATIENTS | P2: CLIENTS | Q2: TOTAL
A3: DEJEUNER
A4: STEAK DE POULET + NATURE GRILLE | C4: 120 | D4: 120 | I4: 100 | J4: 300 | K4: =J4+I4 -> 400 | Q4: =SUM(Q5) -> 48
B5: STEAK HACHE DE POULET | F5: =C4*100/1000 -> 12 | G5: =D4*100/1000 -> 12 | M5: 0 | O5: =I4*C4/1000 -> 12 | P5: =J4*D4/1000 -> 36 | Q5: =P5+O5 -> 48
A6: SAUCE CREME | C6: 30 | D6: 30 | I6: 100 | J6: 200 | K6: =J6+I6 -> 300 | Q6: =SUM(Q7:Q10) -> 16.86
B7: FARINE | F7: 0.5 | G7: =F7*D6/C6 -> 0.5 | M7: 0 | O7: =(F7*I6/100)+((F7*I6/100)*M7/100) -> 0.5 | P7: =(G7*J6/100)+((G7*J6/100)*M7/100) -> 1 | Q7: =P7+O7 -> 1.5
B8: OIGNONS | F8: 2 | G8: =F8*D6/C6 -> 2 | M8: 0 | O8: =F8*I6/100 -> 2 | P8: =J6*F8/100 -> 4 | Q8: =P8+O8 -> 6
B9: CREME LIQUIDE | F9: 3 | G9: =F9*D6/C6 -> 3 | M9: 0 | O9: =I6*F9/100 -> 3 | P9: =F9*J6/100 -> 6 | Q9: =P9+O9 -> 9
B10: FOND DE VOLAILLE | F10: 0.12 | G10: =F10*D6/C6 -> 0.12 | M10: 0 | O10: =I6*F10/100 -> 0.12 | P10: =J6*F10/100 -> 0.24 | Q10: =P10+O10 -> 0.36
A11: TERRINE DE DINDONNEAU | C11: 100 | D11: 120 | I11: 100 | K11: =J11+I11 -> 100 | Q11: =SUM(Q12:Q15) -> 11.2
B12: DINDONNEAU | F12: 8 | G12: =F12*D11/C11 -> 9.6 | M12: 10 | O12: =(F12*I11/100)+((F12*I11/100)*M12/100) -> 8.8 | P12: =(J11*G12/100)+((J11*G12/100*M12/100)) -> 0 | Q12: =P12+O12 -> 8.8
B13: ŒUF LIQUIDE | F13: 2 | G13: =F13*D11/C11 -> 2.4 | M13: 0 | O13: =(F13*I11/100)+((F13*I11/100)*M13/100) -> 2 | P13: =(J11*G13/100)+((J11*G13/100*M13/100)) -> 0 | Q13: =P13+O13 -> 2
B14: PAIN DE MIE SANS CROUTE | F14: 0.3 | G14: =F14*D11/C11 -> 0.36 | M14: 0 | O14: =(F14*I11/100)+((F14*I11/100)*M14/100) -> 0.3 | P14: =(J11*G14/100)+((J11*G14/100*M14/100)) -> 0 | Q14: =P14+O14 -> 0.3
B15: SAUCE CREME OIGNONS | F15: 0.1 | G15: =F15*D11/C11 -> 0.12 | M15: 0 | O15: =(F15*I11/100)+((F15*I11/100)*M15/100) -> 0.1 | P15: =(J11*G15/100)+((J11*G15/100*M15/100)) -> 0 | Q15: =P15+O15 -> 0.1
A16: DINDONNEAU SAUCE CREME + NATURE | C16: 100 | D16: 100 | K16: =I16+J16 -> 0 | Q16: =SUM(Q17) -> 0
B17: DINDONNEAU | F17: =C16*100/1000 -> 10 | G17: =D16*100/1000 -> 10 | M17: 0 | O17: =(F17*I16/100)+((F17*I16/100)*M17/100) -> 0 | P17: =(G17*J16/100)+((G17*J16/100)*M17/100) -> 0 | Q17: =P17+O17 -> 0
A18: OMELETTE NATURE | C18: 90 | D18: 90 | I18: 300 | K18: =I18+J18 -> 300 | Q18: =SUM(Q19) -> 27
B19: OMELETTE SURG | F19: =C18*100/1000 -> 9 | G19: =D18*100/1000 -> 9 | M19: 0 | O19: =(F19*I18/100)+((F19*I18/100)*M19/100) -> 27 | P19: =(G19*J18/100)+((G19*J18/100)*M19/100) -> 0 | Q19: =O19+P19 -> 27
A20: MIXE LISSE JAMBON BRAISE | C20: 100 | K20: =I20+J20 -> 0 | O20: =C20*I20/1000 -> 0 | Q20: =O20 -> 0
A21: RATATOUILLE | C21: 100 | D21: 150 | I21: 100 | K21: =I21+J21 -> 100 | Q21: =SUM(Q22:Q23) -> 12
B22: RATATOUILLE SURG | F22: 5 | G22: =F22*D21/C21 -> 7.5 | M22: 40 | O22: =(F22*I21/100)+((F22*I21/100)*M22/100) -> 7 | P22: =(G22*J21/100)+((G22*J21/100)*M22/100) -> 0 | Q22: =O22+P22 -> 7
B23: RATATOUILLE EN BOITE | F23: 5 | G23: =F23*D21/C21 -> 7.5 | M23: 0 | O23: =I21*F23/100 -> 5 | P23: =(G23*J21/100)+((G23*J21/100)*M23/100) -> 0 | Q23: =O23+P23 -> 5 | R23: =Q23/4.1 -> 1.2195122
A24: RATATOUILLE NATURE | C24: 100 | I24: 100 | K24: =I24+J24 -> 100 | Q24: =Q25 -> 14
B25: RATATOUILLE SURG | F25: =C24*100/1000 -> 10 | M25: 40 | O25: =(F25*I24/100)+((F25*I24/100)*M25/100) -> 14 | Q25: =O25 -> 14
A26: FLAN DE RATATOUILLE | C26: 100 | I26: 100 | K26: =I26+J26 -> 100 | Q26: =SUM(Q27:Q31) -> 15.39
B27: RATATOUILLE EN BOITE | F27: 8.2 | M27: 20 | O27: =(F27*I26/100)+((F27*I26/100)*M27/100) -> 9.84 | Q27: =O27 -> 9.84 | R27: =Q27/4.1 -> 2.4
B28: FARINE | F28: 0.6 | M28: 0 | O28: =(F28*I26/100)+((F28*I26/100)*M28/100) -> 0.6 | Q28: =O28 -> 0.6
B29: CREME LIQUIDE | F29: 1 | M29: 20 | O29: =(F29*I26/100)+((F29*I26/100)*M29/100) -> 1.2 | Q29: =O29 -> 1.2
B30: ŒUF LIQUIDE | F30: 3 | M30: 20 | O30: =(F30*I26/100)+((F30*I26/100)*M30/100) -> 3.6 | Q30: =O30 -> 3.6
B31: AIL | F31: 0.15 | M31: 0 | O31: =(F31*I26/100)+((F31*I26/100)*M31/100) -> 0.15 | Q31: =O31 -> 0.15
A32: MIXE DE RATATOUILLE | C32: 100 | I32: 150 | K32: =I32+J32 -> 150 | Q32: =SUM(Q33:Q34) -> 15.375
B33: RATATOUILLE EN BOITE | F33: 10 | M33: 0 | O33: =(F33*I32/100)+((F33*I32/100)*M33/100) -> 15 | Q33: =O33 -> 15 | R33: =Q33/4.1 -> 3.6585366
B34: EPAISSISSANT | F34: 0.25 | M34: 0 | O34: =(F34*I32/100)+((F34*I32/100)*M34/100) -> 0.375 | Q34: =O34 -> 0.375
A35: SEMOULE | C35: 100 | D35: 150 | I35: 100 | J35: 300 | K35: =I35+J35 -> 400 | Q35: =Q36 -> 19.25
B36: SEMOULE | F36: 10 | G36: 15 | M36: -65 | O36: =(F36*I35/100)+((F36*I35/100)*M36/100) -> 3.5 | P36: =(G36*J35/100)+((G36*J35/100)*(M36/100)) -> 15.75 | Q36: =O36+P36 -> 19.25
A37: DINER
A38: POTAGE | K38: =I38+J38 -> 0 | Q38: =+Q39 -> 0
M39: 0 | O39: =(F39*I38/100)+((F39*I38/100)*M39/100) -> 0 | P39: =(G39*J38/100)+((G39*J38/100)*M39/100) -> 0 | Q39: =O39+P39 -> 0
A40: APPAREIL AUX POISSONS + GRUYERE ET SANS GRUYERE | C40: 150 | D40: 150 | I40: 100 | J40: 200 | K40: =I40+J40 -> 300 | Q40: =SUM(Q41:Q49) -> 59.15
...

Sheet S1 HIVER MARDI
A1: MARDI | C1: GRAMMAGES (en G) | F1: RECETTE QUANTITES POUR 100 PRS (en Kg) Calcul pour le client: =Qté KG patient* Gram client/Gram patient | I1: EFFECTIF | M1: TAUX DE FREINTE (en %) ET/OU POIDS PAR BOITE (en G) | O1: QUANTITES en PRODUCTION Calcul: =(Qté KG* eff /100)+((Qté KG*eff t/100)* Taux de freinte/100) | R1: NBRE DE BOITES
C2: PATIENTS | D2: CLIENTS | F2: PATIENTS | G2: CLIENTS | I2: PATIENTS | J2: CLIENTS | K2: TOTAL | O2: PATIENTS | P2: CLIENTS | Q2: TOTAL
A3: DEJEUNER
A4: TERRINE D'HACHIS PARMENTIER | C4: 100 | D4: 100 | I4: 100 | K4: =I4+J4 -> 100 | Q4: =+SUM(Q5:Q8) -> 13.8
B5: VIANDE HACHIS PARMENTIER | F5: 8 | M5: 10 | O5: =(F5*I4/100)+((F5*I4/100)*M5/100) -> 8.8 | Q5: =O5+P5 -> 8.8
B6: ŒUF LIQUIDE | F6: 2 | M6: 0 | O6: =(F6*I4/100)+((F6*I4/100)*M6/100) -> 2 | Q6: =O6+P6 -> 2
B7: PAIN DE MIE SANS CROUTE | F7: 1 | M7: 0 | O7: =(F7*I4/100)+((F7*I4/100)*M7/100) -> 1 | Q7: =O7+P7 -> 1
B8: CREME LIQUIDE | F8: 2 | M8: 0 | O8: =(F8*I4/100)+((F8*I4/100)*M8/100) -> 2 | Q8: =O8+P8 -> 2
A9: HACHIS PARMENTIER MAISON + S/GRUYERE | C9: 130 | D9: 150 | I9: 600 | K9: =I9+J9 -> 600 | Q9: =+SUM(Q10:Q17) -> 140.1
B10: VIANDE EGRENEE | F10: 12 | G10: =F10*D9/C9 -> 13.846154 | M10: 25 | O10: =(F10*I9/100)+((F10*I9/100)*M10/100) -> 90 | P10: =(G10*J9/100)+((G10*J9/100)*M10/100) -> 0 | Q10: =O10+P10 -> 90
B11: VIN BLANC | F11: 2 | G11: =F11*D9/C9 -> 2.3076923 | M11: 0 | O11: =(F11*I9/100)+((F11*I9/100)*M11/100) -> 12 | P11: =(G11*J9/100)+((G11*J9/100)*M11/100) -> 0 | Q11: =O11+P11 -> 12
B12: ECHALOTE | F12: 1.5 | G12: =F12*D9/C9 -> 1.7307692 | M12: 0 | O12: =(F12*I9/100)+((F12*I9/100)*M12/100) -> 9 | P12: =(G12*J9/100)+((G12*J9/100)*M12/100) -> 0 | Q12: =O12+P12 -> 9
B13: TOMATE PELEE | F13: 4 | G13: =F13*D9/C9 -> 4.6153846 | M13: 0 | O13: =(F13*I9/100)+((F13*I9/100)*M13/100) -> 24 | P13: =(G13*J12/100)+((G13*J12/100)*M13/100) -> 0 | Q13: =O13+P13 -> 24
B14: CONCENTRE TOMATE | F14: 0.4 | G14: =F14*D9/C9 -> 0.46153846 | M14: 0 | O14: =(F14*I9/100)+((F14*I9/100)*M14/100) -> 2.4 | P14: =(G14*J9/100)+((G14*J9/100)*M14/100) -> 0 | Q14: =O14+P14 -> 2.4
B15: PERSIL | F15: 0.15 | G15: =F15*D9/C9 -> 0.17307692 | M15: 0 | O15: =(F15*I9/100)+((F15*I9/100)*M15/100) -> 0.9 | P15: =(G15*J9/100)+((G15*J9/100)*M15/100) -> 0 | Q15: =O15+P15 -> 0.9
B16: AIL | F16: 0.15 | G16: =F16*D9/C9 -> 0.17307692 | M16: 0 | O16: =(F16*I15/100)+((F16*I15/100)*M16/100) -> 0 | P16: =(G16*J9/100)+((G16*J9/100)*M16/100) -> 0 | Q16: =O16+P16 -> 0
B17: FOND BRUN | F17: 0.3 | G17: =F17*D9/C9 -> 0.34615385 | M17: 0 | O17: =(F17*I9/100)+((F17*I9/100)*M17/100) -> 1.8 | P17: =(G17*J9/100)+((G17*J9/100)*M17/100) -> 0 | Q17: =O17+P17 -> 1.8
A18: ROTI DE BŒUF + SAUCE + NATURE | C18: 100 | D18: 100 | K18: =I18+J18 -> 0 | Q18: =+Q23 -> 0
B23: ROTI DE BŒUF | F23: =C18*100/1000 -> 10 | G23: =F23*D18/C18 -> 10 | M23: 0 | O23: =(F23*I18/100)+((F23*I18/100)*M23/100) -> 0 | P23: =(G23*J18/100)+((G23*J18/100)*M23/100) -> 0 | Q23: =O23+P23 -> 0 | R23: =Q23/4.1 -> 0
A24: EGRENE DE BŒUF + SAUCE + NATURE | C24: 100 | K24: =I24 -> 0 | Q24: =+Q25 -> 0
B25: VIANDE EGRENEE | F25: =C24*100/1000 -> 10 | M25: 20 | O25: =(F25*I24/100)+((F25*I24/100)*M25/100) -> 0 | Q25: =O25 -> 0
A26: MIXE LISSE DE PORC MOUTARDE ESTRAGON | C26: 100 | K26: =I26+J26 -> 0
A27: SALADE VERTE | C27: 60 | D27: 80 | I27: 300 | K27: =I27+J27 -> 300 | Q27: =+SUM(Q28:Q29) -> 27.9 | R27: =Q27/4.1 -> 6.804878
B28: ICEBERG | F28: 8 | G28: =F28*D27/C27 -> 10.666667 | M28: 0 | O28: =(F28*I27/100)+((F28*I27/100)*M28/100) -> 24 | P28: =(G28*J27/100)+((G28*J27/100)*M28/100) -> 0 | Q28: =O28+P28 -> 24
B29: ŒUFS DURS | F29: 1.3 | G29: =F29*D27/C27 -> 1.7333333 | M29: 0 | O29: =(F29*I27/100)+((F29*I27/100)*M29/100) -> 3.9 | P29: =(G29*J27/100)+((G29*J27/100)*M29/100) -> 0 | Q29: =O29+P29 -> 3.9
A30: FLAN DE PATATE DOUCE | C30: 100 | I30: 150 | K30: =I30+J30 -> 150 | Q30: =+SUM(Q31:Q33) -> 22.5
B31: PATATE DOUCE | F31: 10 | M31: 10 | O31: =(F31*I30/100)+((F31*I30/100)*M31/100) -> 16.5 | Q31: =O31+P31 -> 16.5
B32: CREME LIQUIDE | F32: 2 | M32: 0 | O32: =(F32*I30/100)+((F32*I30/100)*M32/100) -> 3 | Q32: =O32+P32 -> 3
B33: ŒUF LIQUIDE | F33: 2 | M33: 0 | O33: =(F33*I30/100)+((F33*I30/100)*M33/100) -> 3 | Q33: =O33+P33 -> 3 | R33: =Q33/4.1 -> 0.73170732
A34: PUREE | C34: 200 | D34: 250 | I34: 100 | K34: =I34+J34 -> 100 | Q34: =+SUM(Q35:Q38) -> 14.858
B35: PUREE | F35: 20 | G35: =F35*D34/C34 -> 25 | M35: -85.71 | O35: =(F35*I34/100)+((F35*I34/100)*M35/100 ) -> 2.858 | P35: =(G35*J34/100)+((G35*J34/100)*M35/100) -> 0 | Q35: =O35+P35 -> 2.858
B36: LAIT ENTIER | F36: 4 | G36: =F36*D34/C34 -> 5 | M36: 0 | O36: =(F36*I34/100)+((F36*I34/100)*M36/100) -> 4 | P36: =(G36*J34/100)+((G36*J34/100)*M36/100) -> 0 | Q36: =O36+P36 -> 4
B37: CREME LIQUIDE | F37: 6 | G37: =F37*D34/C34 -> 7.5 | M37: 0 | O37: =(F37*I34/100)+((F37*I34/100)*M37/100) -> 6 | P37: =(G37*J34/100)+((G37*J34/100)*M37/100) -> 0 | Q37: =O37+P37 -> 6
B38: GRUYERE | F38: 2 | G38: =F38*D34/C34 -> 2.5 | M38: 0 | O38: =(F38*I34/100)+((F38*I34/100)*M38/100) -> 2 | P38: =(G38*J34/100)+((G38*J34/100)*M38/100) -> 0 | Q38: =O38+P38 -> 2
A39: DINER
A40: POTAGE | K40: =+I40+J40 -> 0 | Q40: =O40+P40 -> 0
M41: 0 | O41: =(F41*I40/100)+((F41+I40/100)*M41/100) -> 0 | P41: =(G41*J40/100)+((G41+J40/100)*M41/100) -> 0 | Q41: =O41+P41 -> 0
A42: CORDON BLEU | C42: 125 | D42: 125 | K42: =+I42+J42 -> 0 | Q42: =+Q43 -> 0
B43: CORDON BLEU | F43: =+C42*100/1000 -> 12.5 | G43: =D42*100/1000 -> 12.5 | M43: 0 | O43: =(F43*I42/100)+((F43*I42/100)*M43/100) -> 0 | P43: =(G43*J42/100)+((G43*J42/100)*M43/100) -> 0 | Q43: =O43+P43 -> 0
A44: SAUCE FROMAGE | C44: 30 | D44: 30 | I44: 400 | K44: =+I44+J44 -> 400 | Q44: =+SUM(Q45:Q50) -> 19.2
...

Sheet Récap
B2: Ingrédient | C2: Total | E2: Il faut une liste complète de ingrédients et faire attention au nombre de ligne de chaque onglet et ajuster la formule de calcul en conséquence
B3: AIL | C3: =SUMIFS('SEMAINE 1 HIVER LUNDI'!$Q$4:$Q$76,'SEMAINE 1 HIVER LUNDI'!$B$4:$B$76,Tableau1[[#This Row],[Ingrédient]])+SUMIFS('S1 HIVER MARDI'!$Q$4:$Q$76,'S1 HIVER MARDI'!$B$4:$B$76,Tableau1[[#This Row],[Ingrédient]]) -> 0.65 | E3: =_xlfn.FORMULATEXT(Tableau1[[#This Row],[Total]]) -> =SOMME.SI.ENS('SEMAINE 1 HIVER LUNDI'!$Q$4:$Q$76;'SEMAINE 1 HIVER LUNDI'!$B$4:$B$76;[@Ingrédient])+SOMME.SI.ENS('S1 HIVER MARDI'!$Q$4:$Q$76;'S1 HIVER MARDI'!$B$4:$B$76;[@Ingrédient])
B4: ANETH | C4: =SUMIFS('SEMAINE 1 HIVER LUNDI'!$Q$4:$Q$76,'SEMAINE 1 HIVER LUNDI'!$B$4:$B$76,Tableau1[[#This Row],[Ingrédient]])+SUMIFS('S1 HIVER MARDI'!$Q$4:$Q$76,'S1 HIVER MARDI'!$B$4:$B$76,Tableau1[[#This Row],[Ingrédient]]) -> 0.45
B5: BLOC BLEU | C5: =SUMIFS('SEMAINE 1 HIVER LUNDI'!$Q$4:$Q$76,'SEMAINE 1 HIVER LUNDI'!$B$4:$B$76,Tableau1[[#This Row],[Ingrédient]])+SUMIFS('S1 HIVER MARDI'!$Q$4:$Q$76,'S1 HIVER MARDI'!$B$4:$B$76,Tableau1[[#This Row],[Ingrédient]]) -> 2.4
B6: CHAMPIGNONS EN BOITE | C6: =SUMIFS('SEMAINE 1 HIVER LUNDI'!$Q$4:$Q$76,'SEMAINE 1 HIVER LUNDI'!$B$4:$B$76,Tableau1[[#This Row],[Ingrédient]])+SUMIFS('S1 HIVER MARDI'!$Q$4:$Q$76,'S1 HIVER MARDI'!$B$4:$B$76,Tableau1[[#This Row],[Ingrédient]]) -> 12.5
B7: CHAMPIGNONS SURG | C7: =SUMIFS('SEMAINE 1 HIVER LUNDI'!$Q$4:$Q$76,'SEMAINE 1 HIVER LUNDI'!$B$4:$B$76,Tableau1[[#This Row],[Ingrédient]])+SUMIFS('S1 HIVER MARDI'!$Q$4:$Q$76,'S1 HIVER MARDI'!$B$4:$B$76,Tableau1[[#This Row],[Ingrédient]]) -> 16.875
B8: CIBOULETTE | C8: =SUMIFS('SEMAINE 1 HIVER LUNDI'!$Q$4:$Q$76,'SEMAINE 1 HIVER LUNDI'!$B$4:$B$76,Tableau1[[#This Row],[Ingrédient]])+SUMIFS('S1 HIVER MARDI'!$Q$4:$Q$76,'S1 HIVER MARDI'!$B$4:$B$76,Tableau1[[#This Row],[Ingrédient]]) -> 0.45
B9: CONCENTRE TOMATE | C9: =SUMIFS('SEMAINE 1 HIVER LUNDI'!$Q$4:$Q$76,'SEMAINE 1 HIVER LUNDI'!$B$4:$B$76,Tableau1[[#This Row],[Ingrédient]])+SUMIFS('S1 HIVER MARDI'!$Q$4:$Q$76,'S1 HIVER MARDI'!$B$4:$B$76,Tableau1[[#This Row],[Ingrédient]]) -> 2.4
B10: CORDON BLEU | C10: =SUMIFS('SEMAINE 1 HIVER LUNDI'!$Q$4:$Q$76,'SEMAINE 1 HIVER LUNDI'!$B$4:$B$76,Tableau1[[#This Row],[Ingrédient]])+SUMIFS('S1 HIVER MARDI'!$Q$4:$Q$76,'S1 HIVER MARDI'!$B$4:$B$76,Tableau1[[#This Row],[Ingrédient]]) -> 0
B11: CREME LIQUIDE | C11: =SUMIFS('SEMAINE 1 HIVER LUNDI'!$Q$4:$Q$76,'SEMAINE 1 HIVER LUNDI'!$B$4:$B$76,Tableau1[[#This Row],[Ingrédient]])+SUMIFS('S1 HIVER MARDI'!$Q$4:$Q$76,'S1 HIVER MARDI'!$B$4:$B$76,Tableau1[[#This Row],[Ingrédient]]) -> 33.8
B12: CREME LIQUIDE | C12: =SUMIFS('SEMAINE 1 HIVER LUNDI'!$Q$4:$Q$76,'SEMAINE 1 HIVER LUNDI'!$B$4:$B$76,Tableau1[[#This Row],[Ingrédient]])+SUMIFS('S1 HIVER MARDI'!$Q$4:$Q$76,'S1 HIVER MARDI'!$B$4:$B$76,Tableau1[[#This Row],[Ingrédient]]) -> 14
B13: DINDONNEAU | C13: =SUMIFS('SEMAINE 1 HIVER LUNDI'!$Q$4:$Q$76,'SEMAINE 1 HIVER LUNDI'!$B$4:$B$76,Tableau1[[#This Row],[Ingrédient]])+SUMIFS('S1 HIVER MARDI'!$Q$4:$Q$76,'S1 HIVER MARDI'!$B$4:$B$76,Tableau1[[#This Row],[Ingrédient]]) -> 38.8
B14: ECHALOTE | C14: =SUMIFS('SEMAINE 1 HIVER LUNDI'!$Q$4:$Q$76,'SEMAINE 1 HIVER LUNDI'!$B$4:$B$76,Tableau1[[#This Row],[Ingrédient]])+SUMIFS('S1 HIVER MARDI'!$Q$4:$Q$76,'S1 HIVER MARDI'!$B$4:$B$76,Tableau1[[#This Row],[Ingrédient]]) -> 9
B15: ECHALOTES | C15: =SUMIFS('SEMAINE 1 HIVER LUNDI'!$Q$4:$Q$76,'SEMAINE 1 HIVER LUNDI'!$B$4:$B$76,Tableau1[[#This Row],[Ingrédient]])+SUMIFS('S1 HIVER MARDI'!$Q$4:$Q$76,'S1 HIVER MARDI'!$B$4:$B$76,Tableau1[[#This Row],[Ingrédient]]) -> 4.5
... B55: ŒUFS DURS | C55: =SUMIFS('SEMAINE 1 HIVER LUNDI'!$Q$4:$Q$76,'SEMAINE 1 HIVER LUNDI'!$B$4:$B$76,Tableau1[[#This Row],[Ingrédient]])+SUMIFS('S1 HIVER MARDI'!$Q$4:$Q$76,'S1 HIVER MARDI'!$B$4:$B$76,Tableau1[[#This Row],[Ingrédient]]) -> 3.9
