Workbook

Sheet Relevé global
A2: Transactions mensuelles
B4: janvier | C4: février | D4: mars | E4: avril | F4: mai | G4: juin | H4: juillet | I4: août | J4: septembre | K4: octobre | L4: novembre | M4: décembre | O4: TOTAL
A6: 2024 | O6: =SUM(B6:M6) -> 0
A7: 2025 | O7: =SUM(B7:M7) -> 0
A10: Commissions reçues mensuelles
B12: janvier | C12: février | D12: mars | E12: avril | F12: mai | G12: juin | H12: juillet | I12: août | J12: septembre | K12: octobre | L12: novembre | M12: décembre | O12: TOTAL
A14: 2024 | O14: =SUM(B14:M14) -> 0
A15: 2025 | O15: =SUM(B15:M15) -> 0
A17: Commissions rendues mensuelles
B19: janvier | C19: février | D19: mars | E19: avril | F19: mai | G19: juin | H19: juillet | I19: août | J19: septembre | K19: octobre | L19: novembre | M19: décembre | O19: TOTAL
A21: 2024 | O21: =SUM(B21:M21) -> 0
A22: 2025 | O22: =SUM(B22:M22) -> 0

Sheet TCD
B2: Status | C2: paid
B4: Com. | C4: Indicateurs
B5: Mois | C5: BJEF | D5: DIFJ | E5: KLEINS | F5: PIROLI | G5: VDSD | H5: VDSGIL | I5: VDSSEB | J5: ZANZJO | K5: Total général
B6: juil | C6: 2700 | E6: 60 | F6: 60 | G6: 480 | H6: 360 | I6: 408 | J6: 60 | K6: 4128
B7: août | D7: 120 | G7: 600 | H7: 540 | K7: 1260
B8: Total général | C8: 2700 | D8: 120 | E8: 60 | F8: 60 | G8: 1080 | H8: 900 | I8: 408 | J8: 60 | K8: 5388
B20: Status | C20: paid
B22: Com. indic. | C22: Indicateurs
B23: Mois | C23: BJEF | D23: DIFJ | E23: KLEINS | F23: PIROLI | G23: VDSD | H23: VDSGIL | I23: VDSSEB | J23: ZANZJO | K23: Total général
B24: juil | C24: 900 | E24: 20 | F24: 20 | G24: 160 | H24: 180 | I24: 136 | J24: 20 | K24: 1436
B25: août | D25: 40 | G25: 200 | H25: 270 | K25: 510
B26: Total général | C26: 900 | D26: 40 | E26: 20 | F26: 20 | G26: 360 | H26: 450 | I26: 136 | J26: 20 | K26: 1946
B40: Année | C40: Mois | D40: Transactions | E40: Commissions | F40: Com. indicateurs
B41: 2025 | C41: 7 | D41: 137591.63 | E41: 8457 | F41: 3119

Sheet Transactions
B1: Liste des transactions
A3: N°commande | B3: Clients | C3: Total packs | D3: Commissions | E3: Dates | F3: Indicateurs | G3: % | H3: Commissions indic | I3: Status | J3: Dates paiement | AB3: statuts
A5: 53530 | B5: SA | C5: 2000 | D5: 120 | E5: 45858 | F5: VDSGIL | G5: =_xlfn.XLOOKUP(F5,Indicateurs!A:A,Indicateurs!F:F,"Erreur") -> 3 | H5: =D5/6*G5 -> 60 | I5: paid | J5: 45884
A6: 53527 | B6: ANTI | C6: 10000 | D6: 600 | E6: 45858 | F6: VDSD | G6: =_xlfn.XLOOKUP(F6,Indicateurs!A:A,Indicateurs!F:F,"Erreur") -> 2 | H6: =D6/6*G6 -> 200 | I6: paid | J6: 45884
A7: 53516 | B7: OLI | C7: 7000 | D7: 420 | E7: 45858 | F7: VDSGIL | G7: =_xlfn.XLOOKUP(F7,Indicateurs!A:A,Indicateurs!F:F,"Erreur") -> 3 | H7: =D7/6*G7 -> 210 | I7: paid | J7: 45884
A8: 53500 | B8: PAT | C8: 5050 | D8: 300 | E8: 45858 | F8: PIROLI | G8: =_xlfn.XLOOKUP(F8,Indicateurs!A:A,Indicateurs!F:F,"Erreur") -> 2 | H8: =D8/6*G8 -> 100 | I8: unpaid
A9: 53423 | B9: DIM | C9: 2000 | D9: 120 | E9: 45856 | F9: DIFJ | G9: =_xlfn.XLOOKUP(F9,Indicateurs!A:A,Indicateurs!F:F,"Erreur") -> 2 | H9: =D9/6*G9 -> 40 | I9: paid | J9: 45884
A10: 53378 | B10: PAT | C10: 10100 | D10: 600 | E10: 45855 | F10: PIROLI | G10: =_xlfn.XLOOKUP(F10,Indicateurs!A:A,Indicateurs!F:F,"Erreur") -> 2 | H10: =D10/6*G10 -> 200 | I10: unpaid
A11: 53377 | B11: PAT | C11: 10100 | D11: 600 | E11: 45855 | F11: PIROLI | G11: =_xlfn.XLOOKUP(F11,Indicateurs!A:A,Indicateurs!F:F,"Erreur") -> 2 | H11: =D11/6*G11 -> 200 | I11: unpaid
A12: 53332 | B12: REND | C12: 1010 | D12: 60 | E12: 45855 | F12: KLEINS | G12: =_xlfn.XLOOKUP(F12,Indicateurs!A:A,Indicateurs!F:F,"Erreur") -> 2 | H12: =D12/6*G12 -> 20 | I12: paid | J12: 45868
A13: 53255 | B13: SEB | C13: 10100 | D13: 600 | E13: 45855 | F13: BJEF | G13: =_xlfn.XLOOKUP(F13,Indicateurs!A:A,Indicateurs!F:F,"Erreur") -> 2 | H13: =D13/6*G13 -> 200 | I13: paid | J13: 45868
A14: 53176 | B14: DAV | C14: 1000 | D14: 60 | E14: 45854 | F14: VDSD | G14: =_xlfn.XLOOKUP(F14,Indicateurs!A:A,Indicateurs!F:F,"Erreur") -> 2 | H14: =D14/6*G14 -> 20 | I14: paid | J14: 45868
A15: 53175 | B15: SEB | C15: 8834.47 | D15: 600 | E15: 45854 | F15: BJEF | G15: =_xlfn.XLOOKUP(F15,Indicateurs!A:A,Indicateurs!F:F,"Erreur") -> 2 | H15: =D15/6*G15 -> 200 | I15: paid | J15: 45868
A16: 53063 | B16: DIM | C16: 1161.5 | D16: 69 | E16: 45854 | F16: DIFJ | G16: =_xlfn.XLOOKUP(F16,Indicateurs!A:A,Indicateurs!F:F,"Erreur") -> 2 | H16: =D16/6*G16 -> 23 | I16: unpaid
A17: 53036 | B17: DAV | C17: 7000 | D17: 420 | E17: 45854 | F17: VDSD | G17: =_xlfn.XLOOKUP(F17,Indicateurs!A:A,Indicateurs!F:F,"Erreur") -> 2 | H17: =D17/6*G17 -> 140 | I17: paid | J17: 45868
A18: 52987 | B18: JO | C18: 1000 | D18: 60 | E18: 45854 | F18: ZANZJO | G18: =_xlfn.XLOOKUP(F18,Indicateurs!A:A,Indicateurs!F:F,"Erreur") -> 2 | H18: =D18/6*G18 -> 20 | I18: paid | J18: 45868
A19: 52984 | B19: YAN | C19: 1000 | D19: 60 | E19: 45854 | F19: VDSGIL | G19: =_xlfn.XLOOKUP(F19,Indicateurs!A:A,Indicateurs!F:F,"Erreur") -> 3 | H19: =D19/6*G19 -> 30 | I19: paid | J19: 45868
A20: 52977 | B20: PAT | C20: 1000 | D20: 60 | E20: 45854 | F20: PIROLI | G20: =_xlfn.XLOOKUP(F20,Indicateurs!A:A,Indicateurs!F:F,"Erreur") -> 2 | H20: =D20/6*G20 -> 20 | I20: paid | J20: 45868
A21: 52777 | B21: OLI | C21: 5000 | D21: 300 | E21: 45853 | F21: VDSGIL | G21: =_xlfn.XLOOKUP(F21,Indicateurs!A:A,Indicateurs!F:F,"Erreur") -> 3 | H21: =D21/6*G21 -> 150 | I21: paid | J21: 45868
A22: 52697 | B22: SEB | C22: 7035.66 | D22: 600 | E22: 45852 | F22: BJEF | G22: =_xlfn.XLOOKUP(F22,Indicateurs!A:A,Indicateurs!F:F,"Erreur") -> 2 | H22: =D22/6*G22 -> 200 | I22: paid | J22: 45868
A23: 52624 | B23: OLI | C23: 5050 | D23: 300 | E23: 45849 | F23: VDSGIL | G23: =_xlfn.XLOOKUP(F23,Indicateurs!A:A,Indicateurs!F:F,"Erreur") -> 3 | H23: =D23/6*G23 -> 150 | I23: unpaid
A24: 52623 | B24: OLI | C24: 5050 | D24: 300 | E24: 45849 | F24: VDSGIL | G24: =_xlfn.XLOOKUP(F24,Indicateurs!A:A,Indicateurs!F:F,"Erreur") -> 3 | H24: =D24/6*G24 -> 150 | I24: unpaid
A25: 52594 | B25: ANTI | C25: 10100 | D25: 600 | E25: 45848 | F25: VDSD | G25: =_xlfn.XLOOKUP(F25,Indicateurs!A:A,Indicateurs!F:F,"Erreur") -> 2 | H25: =D25/6*G25 -> 200 | I25: unpaid
A26: 52573 | B26: JF | C26: 15150 | D26: 900 | E26: 45847 | F26: BJEF | G26: =_xlfn.XLOOKUP(F26,Indicateurs!A:A,Indicateurs!F:F,"Erreur") -> 2 | H26: =D26/6*G26 -> 300 | I26: paid | J26: 45868
A27: 52550 | B27: MAT | C27: 4800 | D27: 288 | E27: 45847 | F27: VDSSEB | G27: =_xlfn.XLOOKUP(F27,Indicateurs!A:A,Indicateurs!F:F,"Erreur") -> 2 | H27: =D27/6*G27 -> 96 | I27: paid | J27: 45868
A28: 52475 | B28: OLI | C28: 5050 | D28: 300 | E28: 45845 | F28: VDSGIL | G28: =_xlfn.XLOOKUP(F28,Indicateurs!A:A,Indicateurs!F:F,"Erreur") -> 3 | H28: =D28/6*G28 -> 150 | I28: unpaid
A29: 52397 | B29: SEB | C29: 1000 | D29: 60 | E29: 45841 | F29: VDSSEB | G29: =_xlfn.XLOOKUP(F29,Indicateurs!A:A,Indicateurs!F:F,"Erreur") -> 2 | H29: =D29/6*G29 -> 20 | I29: paid | J29: 45868
A30: 52351 | B30: MAT | C30: 1000 | D30: 60 | E30: 45840 | F30: VDSSEB | G30: =_xlfn.XLOOKUP(F30,Indicateurs!A:A,Indicateurs!F:F,"Erreur") -> 2 | H30: =D30/6*G30 -> 20 | I30: paid | J30: 45868

Sheet Indicateurs
A2: Liste des indicateurs
A4: Pseudo | B4: NOMS | C4: PRENOMS | D4: MAIL | E4: TELEPHONE | F4: % coms | G4: JANV | H4: FÉVR | I4: MARS | J4: AVR | K4: MAI | L4: JUIN | M4: JUIL | N4: AOÛT | O4: SEPT | P4: OCT | Q4: NOV | R4: DÉC
A6: BJEF | F6: 2
A7: DIFJ | F7: 2
A8: GAZC | F8: 2
A9: HANCRI | F9: 2
A10: IACO | F10: 2
A11: KLEINS | F11: 2
A12: LECFA | F12: 2
A13: LEJLIO | F13: 2
A14: PIROLI | F14: 2
A15: QUEVD | F15: 2
A16: ROSSI | F16: 2
A17: SCHEENM | F17: 2
... A22: VDSD | F22: 2
