Workbook
Name Aqualeha: Data!$F$2:$F$21
Name Auchan: Data!$F$22:$F$35
Name Biocoop: Data!$F$36:$F$39
Name Butard_enescot: Data!$F$40:$F$42
Name Carrefour: Data!$F$43:$F$57
Name Casino: Data!$F$58:$F$69
Name CCAS: Data!$F$70
Name Charline: T_enseignes[Liste des enseignes]
Name choix_enseigne: Marion!#REF!
Name choix_enseigne: #REF!
Name choix_enseigne10: Marion!#REF!
Name choix_enseigne10: #REF!
Name choix_enseigne11: Marion!#REF!
Name choix_enseigne11: #REF!
Name choix_enseigne12: Marion!#REF!
Name choix_enseigne12: #REF!
Name choix_enseigne2: Marion!#REF!
Name choix_enseigne2: #REF!
Name choix_enseigne3: Marion!#REF!
Name choix_enseigne3: #REF!
Name choix_enseigne4: Marion!#REF!
Name choix_enseigne4: #REF!
Name choix_enseigne5: Marion!#REF!
Name choix_enseigne5: #REF!
Name choix_enseigne6: Marion!#REF!
Name choix_enseigne6: #REF!
Name choix_enseigne7: Marion!#REF!
Name choix_enseigne7: #REF!
Name choix_enseigne8: Marion!#REF!
Name choix_enseigne8: #REF!
Name choix_enseigne9: Marion!#REF!
Name choix_enseigne9: #REF!
Name choix_enseignejuin: Marion!#REF!
Name choix_enseignejuin: #REF!
Name choix_enseignejuin2: Marion!#REF!
Name choix_enseignejuin2: #REF!
Name Divers: Data!$F$71
Name Divinitalia: Data!$F$72
Name FORMATION: Data!$F$99
Name Franprix: Data!$F$79:$F$86
Name Hana_Group: Data!$F$88:$F$90
Name INVIVO_BIO_CO: Data!$F$91:$F$95
Name INVIVO_GAMM_VERT: Data!$F$96:$F$98
Name L_enseignes: T_enseignes[Liste des enseignes]
Name L_enseignes: T_enseignes[Liste des enseignes]
Name LADY_SUSHI: Data!$F$107:$F$108
Name Leader_price: Data!$F$109
Name Marcel_et_fils: Data!$F$110:$F$113
Name Monoprix: Data!$F$114:$F$118
Name PHYTO: Data!$F$73:$F$78
Name So_good_sushi: Data!$F$121
Name SOBIO: Data!$F$123:$F$126
Name System_U: Data!$F$122

Sheet CA 
N1: =SUM(N4:N6) -> #REF!
A2: 2024 | B2: Janvier | C2: Février | D2: Mars | E2: Avril | F2: Mai | G2: Juin | H2: Juillet | I2: Août | J2: Septembre | K2: Octobre | L2: Novembre | M2: Décembre | N2: TOTAL
A3: INTERVENANT 1 | B3: =#REF! -> #REF! | C3: =#REF! -> #REF! | D3: =#REF! -> #REF! | E3: =#REF! -> #REF! | F3: =#REF! -> #REF! | G3: =#REF! -> #REF! | H3: =#REF! -> #REF! | I3: =#REF! -> #REF! | ... M3: =#REF! -> #REF! | N3: =SUM(B3:M3) -> #REF!
A4: INTERVENANT 2 | B4: =#REF! -> #REF! | C4: =#REF! -> #REF! | D4: =#REF! -> #REF! | E4: =#REF! -> #REF! | F4: =#REF! -> #REF! | G4: =#REF! -> #REF! | H4: =#REF! -> #REF! | I4: =#REF! -> #REF! | ... M4: =#REF! -> #REF! | N4: =SUM(B4:M4) -> #REF!
A5: INTERVENANT 3 | B5: =#REF! -> #REF! | C5: =#REF! -> #REF! | D5: =#REF! -> #REF! | E5: =#REF! -> #REF! | F5: =#REF! -> #REF! | G5: =#REF! -> #REF! | H5: =#REF! -> #REF! | I5: =#REF! -> #REF! | ... M5: =#REF! -> #REF! | N5: =SUM(B5:M5) -> #REF!
A6: INTERVENANT 4 | B6: =Marion!$I$3 -> 0 | C6: =Marion!$T$3 -> 0 | D6: =Marion!$AE$3 -> 0 | E6: =Marion!$AP$3 -> 0 | F6: =Marion!$BA$3 -> 0 | G6: =Marion!$BL$3 -> 0 | H6: =Marion!$BW$3 -> 0 | I6: =Marion!$CH$3 -> 0 | J6: =Marion!$CS$3 -> 0 | K6: =Marion!$DD$3 -> 0 | L6: =Marion!$DO$3 -> 0 | M6: =Marion!$DZ$3 -> 0 | N6: =SUM(B6:M6) -> 0

Sheet Marion
A1: MARION
A2: CA A DATE
H3: Total Janvier | I3: =I4+M4 -> 0 | S3: Total Février | T3: =T4+X4 -> 0 | AD3: Total Mars | AE3: =AE4+AI4 -> 0 | AO3: Total Avril | AP3: =AP4+AT4 -> 0 | AZ3: Total Mai | BA3: =BA4+BE4 -> 0 | BK3: Total Juin | BL3: =BL4+BP4 -> 0 | BV3: Total Juillet | BW3: =BW4+CA4 -> 0 | CG3: Total Aout | CH3: =CH4+CL4 -> 0 | CR3: Total Septembre | CS3: =CS4+CW4 -> 0 | DC3: Total Octobre | DD3: =DD4+DH4 -> 0 | DN3: Total Novembre | DO3: =DO4+DS4 -> 0 | DY3: Total Décembre | DZ3: =DZ4+ED4 -> 0
H4: Sous Total 1 | I4: =SUM(I6:I68) -> 0 | L4: Sous Total 2 | M4: =_xlfn.IFNA(SUM(M6:M68),0) -> 0 | S4: Sous Total 1 | T4: =SUM(T6:T68) -> 0 | W4: Sous Total 2 | X4: =_xlfn.IFNA(SUM(X6:X68),0) -> 0 | AD4: Sous Total 1 | AE4: =SUM(AE6:AE68) -> 0 | AH4: Sous Total 2 | AI4: =_xlfn.IFNA(SUM(AI6:AI68),0) -> 0 | AO4: Sous Total 1 | AP4: =SUM(AP6:AP68) -> 0 | AS4: Sous Total 2 | AT4: =_xlfn.IFNA(SUM(AT6:AT68),0) -> 0 | AZ4: Sous Total 1 | BA4: =SUM(BA6:BA68) -> 0 | BD4: Sous Total 2 | BE4: =_xlfn.IFNA(SUM(BE6:BE68),0) -> 0 | BK4: Sous Total 1 | BL4: =SUM(BL6:BL68) -> 0 | BO4: Sous Total 2 | BP4: =_xlfn.IFNA(SUM(BP6:BP68),0) -> 0 | BV4: Sous Total 1 | BW4: =SUM(BW6:BW68) -> 0 | BZ4: Sous Total 2 | CA4: =_xlfn.IFNA(SUM(CA6:CA68),0) -> 0 | CG4: Sous Total 1 | CH4: =SUM(CH6:CH68) -> 0 | CK4: Sous Total 2 | CL4: =_xlfn.IFNA(SUM(CL6:CL68),0) -> 0 | CR4: Sous Total 1 | CS4: =SUM(CS6:CS68) -> 0 | CV4: Sous Total 2 | CW4: =_xlfn.IFNA(SUM(CW6:CW68),0) -> 0 | DC4: Sous Total 1 | DD4: =SUM(DD6:DD68) -> 0 | DG4: Sous Total 2 | DH4: =_xlfn.IFNA(SUM(DH6:DH68),0) -> 0 | DN4: Sous Total 1 | DO4: =SUM(DO6:DO68) -> 0 | DR4: Sous Total 2 | DS4: =_xlfn.IFNA(SUM(DS6:DS68),0) -> 0 | DY4: Sous Total 1 | DZ4: =SUM(DZ6:DZ68) -> 0 | EC4: Sous Total 2 | ED4: =_xlfn.IFNA(SUM(ED6:ED68),0) -> 0
A5: VALIDATION PLANNING | C5: JANVIER | D5: JANVIER | F5: Enseigne | G5: Type Prestation | H5: Lieu | I5: Facturation | J5: Enseigne | K5: Type Prestation | L5: Lieu | M5: Facturation | N5: FEVRIER | O5: FEVRIER | Q5: Enseigne | R5: Type Prestation | S5: Lieu | T5: Facturation | U5: Enseigne | V5: Type Prestation | W5: Lieu | X5: Facturation | Y5: MARS | Z5: MARS | AB5: Enseigne | AC5: Type Prestation | AD5: Lieu | AE5: Facturation | AF5: Enseigne | AG5: Type Prestation | AH5: Lieu | AI5: Facturation | AJ5: AVRIL | AK5: AVRIL | AM5: Enseigne | AN5: Type Prestation | AO5: Lieu | AP5: Facturation | AQ5: Enseigne | AR5: Type Prestation | AS5: Lieu | AT5: Facturation | AU5: MAI | AV5: MAI | AX5: Enseigne | AY5: Type Prestation | AZ5: Lieu | BA5: Facturation | BB5: Enseigne | BC5: Type Prestation | BD5: Lieu | BE5: Facturation | BF5: JUIN | BG5: JUIN | BI5: Enseigne | BJ5: Type Prestation | BK5: Lieu | BL5: Facturation | BM5: Enseigne | BN5: Type Prestation | BO5: Lieu | BP5: Facturation | BQ5: JUILLET | BR5: JUILLET | BT5: Enseigne | BU5: Type Prestation | BV5: Lieu | BW5: Facturation | BX5: Enseigne | BY5: Type Prestation | BZ5: Lieu | CA5: Facturation | CB5: AOUT | CC5: AOUT | CE5: Enseigne | CF5: Type Prestation | CG5: Lieu | CH5: Facturation | CI5: Enseigne | CJ5: Type Prestation | CK5: Lieu | CL5: Facturation | CM5: SEPTEMBRE | CN5: SEPTEMBRE | CP5: Enseigne | CQ5: Type Prestation | CR5: Lieu | CS5: Facturation | CT5: Enseigne | CU5: Type Prestation | CV5: Lieu | CW5: Facturation | CX5: OCTOBRE | CY5: OCTOBRE | DA5: Enseigne | DB5: Type Prestation | DC5: Lieu | DD5: Facturation | DE5: Enseigne | DF5: Type Prestation | DG5: Lieu | DH5: Facturation | DI5: NOVEMBRE | DJ5: NOVEMBRE | DL5: Enseigne | DM5: Type Prestation | DN5: Lieu | DO5: Facturation | DP5: Enseigne | DQ5: Type Prestation | DR5: Lieu | DS5: Facturation | DT5: DECEMBRE | DU5: DECEMBRE | DW5: Enseigne | DX5: Type Prestation | DY5: Lieu | DZ5: Facturation | EA5: Enseigne | EB5: Type Prestation | EC5: Lieu | ED5: Facturation
A6: JANVIER | D6: 1 | E6: Matin | F6: LEADER_PRICE | O6: 1 | P6: Matin | Z6: 1 | AA6: Matin | AI6: =_xlfn.IFNA(VLOOKUP(AF6&AG6,Data!$A:$H,8,FALSE),0) -> 0 | AK6: 1 | AL6: Matin | AV6: 1 | AW6: Matin | BG6: 1 | BH6: Matin | BR6: 1 | BS6: Matin | CC6: 1 | CD6: Matin | CN6: 1 | CO6: Matin | CY6: 1 | CZ6: Matin | DJ6: 1 | DK6: Matin | DU6: 1 | DV6: Matin
A7: FEVRIER | E7: AM | P7: AM | AA7: AM | AI7: =_xlfn.IFNA(VLOOKUP(AF7&AG7,Data!$A:$H,8,FALSE),0) -> 0 | AL7: AM | AW7: AM | BH7: AM | BS7: AM | CD7: AM | CO7: AM | CZ7: AM | DK7: AM | DV7: AM
A8: MARS | D8: 2 | E8: Matin | O8: 2 | P8: Matin | Z8: 2 | AA8: Matin | AI8: =_xlfn.IFNA(VLOOKUP(AF8&AG8,Data!$A:$H,8,FALSE),0) -> 0 | AK8: 2 | AL8: Matin | AV8: 2 | AW8: Matin | BG8: 2 | BH8: Matin | BR8: 2 | BS8: Matin | CC8: 2 | CD8: Matin | CN8: 2 | CO8: Matin | CY8: 2 | CZ8: Matin | DJ8: 2 | DK8: Matin | DU8: 2 | DV8: Matin
A9: AVRIL | E9: AM | P9: AM | AA9: AM | AI9: =_xlfn.IFNA(VLOOKUP(AF9&AG9,Data!$A:$H,8,FALSE),0) -> 0 | AL9: AM | AW9: AM | BH9: AM | BS9: AM | CD9: AM | CO9: AM | CZ9: AM | DK9: AM | DV9: AM
A10: MAI | D10: 3 | E10: Matin | O10: 3 | P10: Matin | Z10: 3 | AA10: Matin | AI10: =_xlfn.IFNA(VLOOKUP(AF10&AG10,Data!$A:$H,8,FALSE),0) -> 0 | AK10: 3 | AL10: Matin | AV10: 3 | AW10: Matin | BG10: 3 | BH10: Matin | BR10: 3 | BS10: Matin | CC10: 3 | CD10: Matin | CN10: 3 | CO10: Matin | CY10: 3 | CZ10: Matin | DJ10: 3 | DK10: Matin | DU10: 3 | DV10: Matin
A11: JUIN | E11: AM | P11: AM | AA11: AM | AI11: =_xlfn.IFNA(VLOOKUP(AF11&AG11,Data!$A:$H,8,FALSE),0) -> 0 | AL11: AM | AW11: AM | BH11: AM | BS11: AM | CD11: AM | CO11: AM | CZ11: AM | DK11: AM | DV11: AM
A12: JUILLET | D12: 4 | E12: Matin | O12: 4 | P12: Matin | Z12: 4 | AA12: Matin | AI12: =_xlfn.IFNA(VLOOKUP(AF12&AG12,Data!$A:$H,8,FALSE),0) -> 0 | AK12: 4 | AL12: Matin | AV12: 4 | AW12: Matin | BG12: 4 | BH12: Matin | BR12: 4 | BS12: Matin | CC12: 4 | CD12: Matin | CN12: 4 | CO12: Matin | CY12: 4 | CZ12: Matin | DJ12: 4 | DK12: Matin | DU12: 4 | DV12: Matin
A13: AOÛT | E13: AM | P13: AM | AA13: AM | AI13: =_xlfn.IFNA(VLOOKUP(AF13&AG13,Data!$A:$H,8,FALSE),0) -> 0 | AL13: AM | AW13: AM | BH13: AM | BS13: AM | CD13: AM | CO13: AM | CZ13: AM | DK13: AM | DV13: AM
A14: SEPTEMBRE | D14: 5 | E14: Matin | O14: 5 | P14: Matin | Z14: 5 | AA14: Matin | AI14: =_xlfn.IFNA(VLOOKUP(AF14&AG14,Data!$A:$H,8,FALSE),0) -> 0 | AK14: 5 | AL14: Matin | AV14: 5 | AW14: Matin | BG14: 5 | BH14: Matin | BR14: 5 | BS14: Matin | CC14: 5 | CD14: Matin | CN14: 5 | CO14: Matin | CY14: 5 | CZ14: Matin | DJ14: 5 | DK14: Matin | DU14: 5 | DV14: Matin
A15: OCTOBRE | E15: AM | P15: AM | AA15: AM | AI15: =_xlfn.IFNA(VLOOKUP(AF15&AG15,Data!$A:$H,8,FALSE),0) -> 0 | AL15: AM | AW15: AM | BH15: AM | BS15: AM | CD15: AM | CO15: AM | CZ15: AM | DK15: AM | DV15: AM
A16: NOVEMBRE | D16: 6 | E16: Matin | O16: 6 | P16: Matin | Z16: 6 | AA16: Matin | AI16: =_xlfn.IFNA(VLOOKUP(AF16&AG16,Data!$A:$H,8,FALSE),0) -> 0 | AK16: 6 | AL16: Matin | AV16: 6 | AW16: Matin | BG16: 6 | BH16: Matin | BR16: 6 | BS16: Matin | CC16: 6 | CD16: Matin | CN16: 6 | CO16: Matin | CY16: 6 | CZ16: Matin | DJ16: 6 | DK16: Matin | DU16: 6 | DV16: Matin
A17: DÉCEMBRE | E17: AM | P17: AM | AA17: AM | AI17: =_xlfn.IFNA(VLOOKUP(AF17&AG17,Data!$A:$H,8,FALSE),0) -> 0 | AL17: AM | AW17: AM | BH17: AM | BS17: AM | CD17: AM | CO17: AM | CZ17: AM | DK17: AM | DV17: AM
D18: 7 | E18: Matin | O18: 7 | P18: Matin | Z18: 7 | AA18: Matin | AI18: =_xlfn.IFNA(VLOOKUP(AF18&AG18,Data!$A:$H,8,FALSE),0) -> 0 | AK18: 7 | AL18: Matin | AV18: 7 | AW18: Matin | BG18: 7 | BH18: Matin | BR18: 7 | BS18: Matin | CC18: 7 | CD18: Matin | CN18: 7 | CO18: Matin | CY18: 7 | CZ18: Matin | DJ18: 7 | DK18: Matin | DU18: 7 | DV18: Matin
E19: AM | P19: AM | AA19: AM | AI19: =_xlfn.IFNA(VLOOKUP(AF19&AG19,Data!$A:$H,8,FALSE),0) -> 0 | AL19: AM | AW19: AM | BH19: AM | BS19: AM | CD19: AM | CO19: AM | CZ19: AM | DK19: AM | DV19: AM
D20: 8 | E20: Matin | O20: 8 | P20: Matin | Z20: 8 | AA20: Matin | AI20: =_xlfn.IFNA(VLOOKUP(AF20&AG20,Data!$A:$H,8,FALSE),0) -> 0 | AK20: 8 | AL20: Matin | AV20: 8 | AW20: Matin | BG20: 8 | BH20: Matin | BR20: 8 | BS20: Matin | CC20: 8 | CD20: Matin | CN20: 8 | CO20: Matin | CY20: 8 | CZ20: Matin | DJ20: 8 | DK20: Matin | DU20: 8 | DV20: Matin
E21: AM | P21: AM | AA21: AM | AI21: =_xlfn.IFNA(VLOOKUP(AF21&AG21,Data!$A:$H,8,FALSE),0) -> 0 | AL21: AM | AW21: AM | BH21: AM | BS21: AM | CD21: AM | CO21: AM | CZ21: AM | DK21: AM | DV21: AM
D22: 9 | E22: Matin | O22: 9 | P22: Matin | Z22: 9 | AA22: Matin | AI22: =_xlfn.IFNA(VLOOKUP(AF22&AG22,Data!$A:$H,8,FALSE),0) -> 0 | AK22: 9 | AL22: Matin | AV22: 9 | AW22: Matin | BG22: 9 | BH22: Matin | BR22: 9 | BS22: Matin | CC22: 9 | CD22: Matin | CN22: 9 | CO22: Matin | CY22: 9 | CZ22: Matin | DJ22: 9 | DK22: Matin | DU22: 9 | DV22: Matin
E23: AM | P23: AM | AA23: AM | AI23: =_xlfn.IFNA(VLOOKUP(AF23&AG23,Data!$A:$H,8,FALSE),0) -> 0 | AL23: AM | AW23: AM | BH23: AM | BS23: AM | CD23: AM | CO23: AM | CZ23: AM | DK23: AM | DV23: AM
D24: 10 | E24: Matin | O24: 10 | P24: Matin | Z24: 10 | AA24: Matin | AI24: =_xlfn.IFNA(VLOOKUP(AF24&AG24,Data!$A:$H,8,FALSE),0) -> 0 | AK24: 10 | AL24: Matin | AV24: 10 | AW24: Matin | BG24: 10 | BH24: Matin | BR24: 10 | BS24: Matin | CC24: 10 | CD24: Matin | CN24: 10 | CO24: Matin | CY24: 10 | CZ24: Matin | DJ24: 10 | DK24: Matin | DU24: 10 | DV24: Matin
E25: AM | P25: AM | AA25: AM | AI25: =_xlfn.IFNA(VLOOKUP(AF25&AG25,Data!$A:$H,8,FALSE),0) -> 0 | AL25: AM | AW25: AM | BH25: AM | BS25: AM | CD25: AM | CO25: AM | CZ25: AM | DK25: AM | DV25: AM
D26: 11 | E26: Matin | O26: 11 | P26: Matin | Z26: 11 | AA26: Matin | AI26: =_xlfn.IFNA(VLOOKUP(AF26&AG26,Data!$A:$H,8,FALSE),0) -> 0 | AK26: 11 | AL26: Matin | AV26: 11 | AW26: Matin | BG26: 11 | BH26: Matin | BR26: 11 | BS26: Matin | CC26: 11 | CD26: Matin | CN26: 11 | CO26: Matin | CY26: 11 | CZ26: Matin | DJ26: 11 | DK26: Matin | DU26: 11 | DV26: Matin
E27: AM | P27: AM | AA27: AM | AI27: =_xlfn.IFNA(VLOOKUP(AF27&AG27,Data!$A:$H,8,FALSE),0) -> 0 | AL27: AM | AW27: AM | BH27: AM | BS27: AM | CD27: AM | CO27: AM | CZ27: AM | DK27: AM | DV27: AM
D28: 12 | E28: Matin | O28: 12 | P28: Matin | Z28: 12 | AA28: Matin | AI28: =_xlfn.IFNA(VLOOKUP(AF28&AG28,Data!$A:$H,8,FALSE),0) -> 0 | AK28: 12 | AL28: Matin | AV28: 12 | AW28: Matin | BG28: 12 | BH28: Matin | BR28: 12 | BS28: Matin | CC28: 12 | CD28: Matin | CN28: 12 | CO28: Matin | CY28: 12 | CZ28: Matin | DJ28: 12 | DK28: Matin | DU28: 12 | DV28: Matin
E29: AM | P29: AM | AA29: AM | AI29: =_xlfn.IFNA(VLOOKUP(AF29&AG29,Data!$A:$H,8,FALSE),0) -> 0 | AL29: AM | AW29: AM | BH29: AM | BS29: AM | CD29: AM | CO29: AM | CZ29: AM | DK29: AM | DV29: AM
D30: 13 | E30: Matin | O30: 13 | P30: Matin | Z30: 13 | AA30: Matin | AI30: =_xlfn.IFNA(VLOOKUP(AF30&AG30,Data!$A:$H,8,FALSE),0) -> 0 | AK30: 13 | AL30: Matin | AV30: 13 | AW30: Matin | BG30: 13 | BH30: Matin | BR30: 13 | BS30: Matin | CC30: 13 | CD30: Matin | CN30: 13 | CO30: Matin | CY30: 13 | CZ30: Matin | DJ30: 13 | DK30: Matin | DU30: 13 | DV30: Matin
E31: AM | P31: AM | AA31: AM | AI31: =_xlfn.IFNA(VLOOKUP(AF31&AG31,Data!$A:$H,8,FALSE),0) -> 0 | AL31: AM | AW31: AM | BH31: AM | BS31: AM | CD31: AM | CO31: AM | CZ31: AM | DK31: AM | DV31: AM
D32: 14 | E32: Matin | O32: 14 | P32: Matin | Z32: 14 | AA32: Matin | AI32: =_xlfn.IFNA(VLOOKUP(AF32&AG32,Data!$A:$H,8,FALSE),0) -> 0 | AK32: 14 | AL32: Matin | AV32: 14 | AW32: Matin | BG32: 14 | BH32: Matin | BR32: 14 | BS32: Matin | CC32: 14 | CD32: Matin | CN32: 14 | CO32: Matin | CY32: 14 | CZ32: Matin | DJ32: 14 | DK32: Matin | DU32: 14 | DV32: Matin
E33: AM | P33: AM | AA33: AM | AI33: =_xlfn.IFNA(VLOOKUP(AF33&AG33,Data!$A:$H,8,FALSE),0) -> 0 | AL33: AM | AW33: AM | BH33: AM | BS33: AM | CD33: AM | CO33: AM | CZ33: AM | DK33: AM | DV33: AM
D34: 15 | E34: Matin | O34: 15 | P34: Matin | Z34: 15 | AA34: Matin | AI34: =_xlfn.IFNA(VLOOKUP(AF34&AG34,Data!$A:$H,8,FALSE),0) -> 0 | AK34: 15 | AL34: Matin | AV34: 15 | AW34: Matin | BG34: 15 | BH34: Matin | BR34: 15 | BS34: Matin | CC34: 15 | CD34: Matin | CN34: 15 | CO34: Matin | CY34: 15 | CZ34: Matin | DJ34: 15 | DK34: Matin | DU34: 15 | DV34: Matin
E35: AM | P35: AM | AA35: AM | AI35: =_xlfn.IFNA(VLOOKUP(AF35&AG35,Data!$A:$H,8,FALSE),0) -> 0 | AL35: AM | AW35: AM | BH35: AM | BS35: AM | CD35: AM | CO35: AM | CZ35: AM | DK35: AM | DV35: AM
D36: 16 | E36: Matin | O36: 16 | P36: Matin | Z36: 16 | AA36: Matin | AI36: =_xlfn.IFNA(VLOOKUP(AF36&AG36,Data!$A:$H,8,FALSE),0) -> 0 | AK36: 16 | AL36: Matin | AV36: 16 | AW36: Matin | BG36: 16 | BH36: Matin | BR36: 16 | BS36: Matin | CC36: 16 | CD36: Matin | CN36: 16 | CO36: Matin | CY36: 16 | CZ36: Matin | DJ36: 16 | DK36: Matin | DU36: 16 | DV36: Matin
E37: AM | P37: AM | AA37: AM | AI37: =_xlfn.IFNA(VLOOKUP(AF37&AG37,Data!$A:$H,8,FALSE),0) -> 0 | AL37: AM | AW37: AM | BH37: AM | BS37: AM | CD37: AM | CO37: AM | CZ37: AM | DK37: AM | DV37: AM
D38: 17 | E38: Matin | O38: 17 | P38: Matin | Z38: 17 | AA38: Matin | AI38: =_xlfn.IFNA(VLOOKUP(AF38&AG38,Data!$A:$H,8,FALSE),0) -> 0 | AK38: 17 | AL38: Matin | AV38: 17 | AW38: Matin | BG38: 17 | BH38: Matin | BR38: 17 | BS38: Matin | CC38: 17 | CD38: Matin | CN38: 17 | CO38: Matin | CY38: 17 | CZ38: Matin | DJ38: 17 | DK38: Matin | DU38: 17 | DV38: Matin
E39: AM | P39: AM | AA39: AM | AI39: =_xlfn.IFNA(VLOOKUP(AF39&AG39,Data!$A:$H,8,FALSE),0) -> 0 | AL39: AM | AW39: AM | BH39: AM | BS39: AM | CD39: AM | CO39: AM | CZ39: AM | DK39: AM | DV39: AM
D40: 18 | E40: Matin | O40: 18 | P40: Matin | Z40: 18 | AA40: Matin | AI40: =_xlfn.IFNA(VLOOKUP(AF40&AG40,Data!$A:$H,8,FALSE),0) -> 0 | AK40: 18 | AL40: Matin | AV40: 18 | AW40: Matin | BG40: 18 | BH40: Matin | BR40: 18 | BS40: Matin | CC40: 18 | CD40: Matin | CN40: 18 | CO40: Matin | CY40: 18 | CZ40: Matin | DJ40: 18 | DK40: Matin | DU40: 18 | DV40: Matin
...

Sheet Data
A1: Colonne1 | B1: ENSEIGNE | C1: TYPE | D1: Profil | E1: Prix horaire € HT | F1: Prestation | G1: Durée (en H) | H1: Tarif € HT | J1: CHOIX | K1: FRAIS DEPLACEMENT
A2: =B2&F2 -> AQUALEHAFSQS 12H00 (<250km) | B2: AQUALEHA | C2: FSQS | D2: Consultant senior | E2: 74.95 | F2: FSQS 12H00 (<250km) | G2: 12 | H2: =G2*E2 -> 899.4 | J2: OUI
A3: =B3&F3 -> AQUALEHAFSQS 12H00 (>250km) | B3: AQUALEHA | C3: FSQS | D3: Consultant senior | E3: 85.783333 | F3: FSQS 12H00 (>250km) | G3: 12 | H3: =G3*E3 -> 1029.4 | J3: NON | M3: {=OFFSET($F$1,MATCH(Marion!$F6,Tableau1[ENSEIGNE],0),,COUNTIF(Tableau1[ENSEIGNE],Marion!$F6))} -> Visite-conseil 2H00
A4: =B4&F4 -> AQUALEHAFSQS 16H00 (<250km) | B4: AQUALEHA | C4: FSQS | D4: Consultant senior | E4: 74.95 | F4: FSQS 16H00 (<250km) | G4: 16 | H4: =G4*E4 -> 1199.2
A5: =B5&F5 -> AQUALEHAFSQS 16H00 (>250km) | B5: AQUALEHA | C5: FSQS | D5: Consultant senior | E5: 83.075 | F5: FSQS 16H00 (>250km) | G5: 16 | H5: =G5*E5 -> 1329.2
A6: =B6&F6 -> AQUALEHAFSQS 3H30 (<250km) | B6: AQUALEHA | C6: FSQS | D6: Consultant junior | E6: 74.95 | F6: FSQS 3H30 (<250km) | G6: 3.5 | H6: =G6*E6 -> 262.325
A7: =B7&F7 -> AQUALEHAFSQS 3H30 (>250km) | B7: AQUALEHA | C7: FSQS | D7: Consultant junior | E7: 112.09286 | F7: FSQS 3H30 (>250km) | G7: 3.5 | H7: =G7*E7 -> 392.325
A8: =B8&F8 -> AQUALEHAFSQS 7H00 (<250km) | B8: AQUALEHA | C8: FSQS | D8: Consultant senior | E8: 74.95 | F8: FSQS 7H00 (<250km) | G8: 7 | H8: =G8*E8 -> 524.65
A9: =B9&F9 -> AQUALEHAFSQS 7H00 (>250km) | B9: AQUALEHA | C9: FSQS | D9: Consultant senior | E9: 93.521429 | F9: FSQS 7H00 (>250km) | G9: 7 | H9: =G9*E9 -> 654.65
A10: =B10&F10 -> AQUALEHAFSQS 8H00 (<250km) | B10: AQUALEHA | C10: FSQS | D10: Consultant senior | E10: 74.95 | F10: FSQS 8H00 (<250km) | G10: 8 | H10: =G10*E10 -> 599.6
A11: =B11&F11 -> AQUALEHAFSQS 8H00 (>250km) | B11: AQUALEHA | C11: FSQS | D11: Consultant senior | E11: 91.2 | F11: FSQS 8H00 (>250km) | G11: 8 | H11: =G11*E11 -> 729.6
A12: =B12&F12 -> AQUALEHAVisite-Conseil 12H00 (<250km) | B12: AQUALEHA | C12: Audit | D12: Consultant senior | E12: 74.95 | F12: Visite-Conseil 12H00 (<250km) | G12: 12 | H12: =G12*E12 -> 899.4
A13: =B13&F13 -> AQUALEHAVisite-Conseil 12H00 (>250km) | B13: AQUALEHA | C13: Audit | D13: Consultant senior | E13: 85.783333 | F13: Visite-Conseil 12H00 (>250km) | G13: 12 | H13: =G13*E13 -> 1029.4
A14: =B14&F14 -> AQUALEHAVisite-Conseil 16H00 (<250km) | B14: AQUALEHA | C14: Audit | D14: Consultant senior | E14: 74.95 | F14: Visite-Conseil 16H00 (<250km) | G14: 16 | H14: =G14*E14 -> 1199.2
A15: =B15&F15 -> AQUALEHAVisite-Conseil 16H00 (>250km) | B15: AQUALEHA | C15: Audit | D15: Consultant senior | E15: 83.075 | F15: Visite-Conseil 16H00 (>250km) | G15: 16 | H15: =G15*E15 -> 1329.2
... A45: =B45&F45 -> CARREFOURFormation 1/2 journée 4H00 | B45: CARREFOUR | C45: Formation | D45: Consultant senior | E45: 111.25 | F45: Formation 1/2 journée 4H00 | G45: 4 | H45: =G45*E45 -> 445
A46: =B46&F46 -> CARREFOURAudit Actif | B46: CARREFOUR | C46: Audit | D46: Consultant senior | E46: 87 | F46: Audit Actif | G46: 4 | H46: =G46*E46+K46 -> 358 | K46: 10
A47: =B47&F47 -> CARREFOURFSQS 4H00 Market | B47: CARREFOUR | C47: FSQS | D47: Consultant senior | E47: 87 | F47: FSQS 4H00 Market | G47: 4 | H47: =G47*E47+K47 -> 358 | K47: 10
A48: =B48&F48 -> CARREFOURFSQS 6H00 Market | B48: CARREFOUR | C48: FSQS | D48: Consultant senior | E48: 87 | F48: FSQS 6H00 Market | G48: 6 | H48: =G48*E48+K48 -> 532 | K48: 10
A49: =B49&F49 -> CARREFOURFSQS 8H Market | B49: CARREFOUR | C49: FSQS | D49: Consultant senior | E49: 87 | F49: FSQS 8H Market | G49: 8 | H49: =G49*E49+K49 -> 706 | K49: 10
A50: =B50&F50 -> CARREFOURVisite Conseil HYPER 13h | B50: CARREFOUR | C50: Audit | D50: Consultant senior | E50: 72 | F50: Visite Conseil HYPER 13h | G50: 13 | H50: =G50*E50+K50 -> 946 | K50: 10
A51: =B51&F51 -> CARREFOURVisite Conseil HYPER 15h | B51: CARREFOUR | C51: Audit | D51: Consultant senior | E51: 72 | F51: Visite Conseil HYPER 15h | G51: 15 | H51: =G51*E51+K51 -> 1090 | K51: 10
A52: =B52&F52 -> CARREFOURVisite Conseil HYPER 17h | B52: CARREFOUR | C52: Audit | D52: Consultant senior | E52: 72 | F52: Visite Conseil HYPER 17h | G52: 17 | H52: =G52*E52+K52 -> 1234 | K52: 10
A53: =B53&F53 -> CARREFOUR FSQS Hyper 12h | B53: CARREFOUR | C53: FSQS | D53: Consultant senior | E53: 87 | F53: FSQS Hyper 12h | G53: 12 | H53: =G53*E53+K53 -> 1054 | K53: 10
A54: =B54&F54 -> CARREFOUR FSQS Hyper 14h | B54: CARREFOUR | C54: FSQS | D54: Consultant senior | E54: 87 | F54: FSQS Hyper 14h | G54: 14 | H54: =G54*E54+K54 -> 1228 | K54: 10
A55: =B55&F55 -> CARREFOUR FSQS Hyper 16h | B55: CARREFOUR | C55: FSQS | D55: Consultant senior | E55: 87 | F55: FSQS Hyper 16h | G55: 16 | H55: =G55*E55+K55 -> 1402 | K55: 10
A56: =B56&F56 -> CARREFOURVisite Préparatoire Hyper 4H00 | B56: CARREFOUR | C56: Audit | D56: Consultant senior | E56: 72 | F56: Visite Préparatoire Hyper 4H00 | G56: 4 | H56: =G56*E56+K56 -> 298 | K56: 10
A57: =B57&F57 -> CARREFOURVisite Préparatoire Market 2H00 | B57: CARREFOUR | C57: Audit | D57: Consultant junior | E57: 72 | F57: Visite Préparatoire Market 2H00 | G57: 2 | H57: =G57*E57+K47 -> 154 | K57: 10
A58: =B58&F58 -> CASINOFSQS TOUTLS 3H SM | B58: CASINO | C58: FSQS | D58: Consultant senior | E58: 105 | F58: FSQS TOUTLS 3H SM | G58: 3 | H58: =G58*E58 -> 315
A59: =B59&F59 -> CASINOFSQS 4/5H SM | B59: CASINO | C59: FSQS | D59: Consultant senior | E59: 94 | F59: FSQS 4/5H SM | G59: 5 | H59: =G59*E59 -> 470
A60: =B60&F60 -> CASINOFSQS 6/8H SM | B60: CASINO | C60: FSQS | D60: Consultant senior | E60: 87.5 | F60: FSQS 6/8H SM | G60: 8 | H60: =G60*E60 -> 700
A61: =B61&F61 -> CASINOFSQS 4H HM | B61: CASINO | C61: FSQS | D61: Consultant senior | E61: 105 | F61: FSQS 4H HM | G61: 4 | H61: =G61*E61 -> 420
A62: =B62&F62 -> CASINOFSQS 8H HM | B62: CASINO | C62: FSQS | D62: Consultant senior | E62: 98.75 | F62: FSQS 8H HM | G62: 8 | H62: =G62*E62 -> 790
A63: =B63&F63 -> CASINOVisite-conseil 1H30 SM | B63: CASINO | C63: Audit | D63: Consultant senior | E63: 160 | F63: Visite-conseil 1H30 SM | G63: 1 | H63: =G63*E63 -> 160
A64: =B64&F64 -> CASINOVisite-conseil 2H SM | B64: CASINO | C64: Audit | D64: Consultant senior | E64: 105 | F64: Visite-conseil 2H SM | G64: 2 | H64: =G64*E64 -> 210
A65: =B65&F65 -> CASINOVisite-conseil Allegee 3H SM | B65: CASINO | C65: Audit | D65: Consultant senior | E65: 100 | F65: Visite-conseil Allegee 3H SM | G65: 3 | H65: =G65*E65 -> 300
A66: =B66&F66 -> CASINOVisite-conseil 4H SM | B66: CASINO | C66: Audit | D66: Consultant senior | E66: 100 | F66: Visite-conseil 4H SM | G66: 4 | H66: =G66*E66 -> 400
A67: =B67&F67 -> CASINOVisite-conseil 7H HM | B67: CASINO | C67: Audit | D67: Consultant senior | E67: 95 | F67: Visite-conseil 7H HM | G67: 7 | H67: =G67*E67 -> 665
A68: =B68&F68 -> CASINOVisite-conseil 4H ALLEGES HM | B68: CASINO | C68: Audit | D68: Consultant senior | E68: 50 | F68: Visite-conseil 4H ALLEGES HM | G68: 8 | H68: =G68*E68 -> 400
A69: =B69&F69 -> CASINOVisite-conseil 45Min Pissonnerie tradHM SM | B69: CASINO | C69: Audit | D69: Consultant senior | E69: 78.75 | F69: Visite-conseil 45Min Pissonnerie tradHM SM | G69: 1 | H69: =G69*E69 -> 78.75
...

Sheet Ref enseigne
B2: Liste des enseignes
B3: AQUALEHA
B4: AUCHAN
B5: BIOCOOP
B6: BUTARD_ENESCOT
B7: CARREFOUR
B8: CASINO
B9: CCAS
B10: DIVERS
B11: DIVINITALIA
B12: FORMATION
B13: FRANPRIX
... B26: SYSTEM_U
