Workbook
Name _19_août: 'planning-Aout V2'!$B$6:$B$20
Name durée: #REF!
Name durée: #REF!
Name Durée1: #REF!
Name Durée1: #REF!
Name Durée2: #REF!
Name Durée2: #REF!
Name LIU: #REF!
Name LIU: #REF!
Name LP: #REF!
Name LP: #REF!
Name LU: #REF!
Name LU: #REF!
Name LV: #REF!
Name LV: #REF!

Sheet planning-Aout V2
AJ3: Semaine | AM3: =AE5 -> 45530 | AO3: au | AQ3: =BC5 -> 45536
A5: Date | B5: 45523 | F5: 45524 | J5: 45525 | N5: 45526 | R5: 45527 | V5: 45528 | Z5: 45529 | AE5: 45530 | AI5: 45531 | AM5: 45532 | AQ5: 45533 | AU5: 45534 | AY5: 45535 | BC5: 45536 | BH5: 45537 | BL5: 45538 | BP5: 45539 | BT5: 45540 | BX5: 45541 | CB5: 45542 | CF5: 45543 | CK5: 45544 | CO5: 45545 | CS5: 45546 | CW5: 45547 | DA5: 45548 | DE5: 45549 | DI5: 45550 | DN5: 45551 | DR5: 45552 | DV5: 45553 | DZ5: 45554 | ED5: 45555 | EH5: 45556 | EL5: 45557 | EQ5: 45558 | EU5: 45559 | EY5: 45560 | FC5: 45561 | FG5: 45562 | FK5: 45563 | FO5: 45564
A6: CAPTAIN | B6: Lundi | C6: PS | D6: FS | E6: TTE | F6: Mardi | G6: PS | H6: FS | I6: TTE | J6: Mercredi | K6: PS | L6: FS | M6: TTE | N6: Jeudi | O6: PS | P6: FS | Q6: TTE | R6: Vendredi | S6: PS | T6: FS | U6: TTE | V6: Samedi | W6: PS | X6: FS | Y6: TTE | Z6: Dimanche | AA6: PS | AB6: FS | AC6: TTE | AD6: TTE HEBDO | AE6: Lundi | AF6: PS | AG6: FS | AH6: TTE | AI6: Mardi | AJ6: PS | AK6: FS | AL6: TTE | AM6: Mercredi | AN6: PS | AO6: FS | AP6: TTE | AQ6: Jeudi | AR6: PS | AS6: FS | AT6: TTE | AU6: Vendredi | AV6: PS | AW6: FS | AX6: TTE | AY6: Samedi | AZ6: PS | BA6: FS | BB6: TTE | BC6: Dimanche | BD6: PS | BE6: FS | BF6: TTE | BG6: TTE HEBDO | BH6: Lundi | BI6: PS | BJ6: FS | BK6: TTE | BL6: Mardi | BM6: PS | BN6: FS | BO6: TTE | BP6: Mercredi | BQ6: PS | BR6: FS | BS6: TTE | BT6: Jeudi | BU6: PS | BV6: FS | BW6: TTE | BX6: Vendredi | BY6: PS | BZ6: FS | CA6: TTE | CB6: Samedi | CC6: PS | CD6: FS | CE6: TTE | CF6: Dimanche | CG6: PS | CH6: FS | CI6: TTE | CJ6: TTE HEBDO | CK6: Lundi | CL6: PS | CM6: FS | CN6: TTE | CO6: Mardi | CP6: PS | CQ6: FS | CR6: TTE | CS6: Mercredi | CT6: PS | CU6: FS | CV6: TTE | CW6: Jeudi | CX6: PS | CY6: FS | CZ6: TTE | DA6: Vendredi | DB6: PS | DC6: FS | DD6: TTE | DE6: Samedi | DF6: PS | DG6: FS | DH6: TTE | DI6: Dimanche | DJ6: PS | DK6: FS | DL6: TTE | DM6: TTE HEBDO | DN6: Lundi | DO6: PS | DP6: FS | DQ6: TTE | DR6: Mardi | DS6: PS | DT6: FS | DU6: TTE | DV6: Mercredi | DW6: PS | DX6: FS | DY6: TTE | DZ6: Jeudi | EA6: PS | EB6: FS | EC6: TTE | ED6: Vendredi | EE6: PS | EF6: FS | EG6: TTE | EH6: Samedi | EI6: PS | EJ6: FS | EK6: TTE | EL6: Dimanche | EM6: PS | EN6: FS | EO6: TTE | EP6: TTE HEBDO | EQ6: Lundi | ER6: PS | ES6: FS | ET6: TTE | EU6: Mardi | EV6: PS | EW6: FS | EX6: TTE | EY6: Mercredi | EZ6: PS | FA6: FS | FB6: TTE | FC6: Jeudi | FD6: PS | FE6: FS | FF6: TTE | FG6: Vendredi | FH6: PS | FI6: FS | FJ6: TTE | FK6: Samedi | FL6: PS | FM6: FS | FN6: TTE | FO6: Dimanche | FP6: PS | FQ6: FS | FR6: TTE | FS6: TTE HEBDO
A7: Capitaine 1 | B7: Congés | C7: - | D7: - | E7: 00:00 | F7: Congés | G7: - | H7: - | I7: 00:00 | J7: Congés | K7: - | L7: - | M7: 00:00 | N7: Congés | O7: - | P7: - | Q7: 00:00 | R7: Congés | S7: - | T7: - | U7: 00:00 | V7: Congés | W7: - | X7: - | Y7: 00:00 | Z7: R | AA7: - | AB7: - | AC7: 00:00 | AD7: =E7+I7+M7+Q7+U7+Y7+AC7 -> 0 | AE7: Congés | AF7: - | AG7: - | AH7: 00:00 | AI7: Congés | AJ7: - | AK7: - | AL7: 00:00 | AM7: Congés | AN7: - | AO7: - | AP7: 00:00 | AQ7: Congés | AR7: - | AS7: - | AT7: 00:00 | AU7: Congés | AV7: - | AW7: - | AX7: 00:00 | AY7: Congés | AZ7: - | BA7: - | BB7: 00:00 | BC7: R | BD7: - | BE7: - | BF7: 00:00 | BG7: =AH7+AL7+AP7+AT7+AX7+BB7+BF7 -> 0 | BH7: Dispo-AM | BI7: =VLOOKUP(BH7,'PS-FS'!$D$2:$F$56,2,FALSE) -> 0.20833333 | BJ7: =VLOOKUP(BH7,'PS-FS'!$D$2:$F$56,3,FALSE) -> 0.5 | BK7: =IFERROR(VLOOKUP(BH7,'PS-FS'!$D$1:$H$56,5,FALSE),"00:00") -> 0.29166667 | BL7: PdB-AM | BM7: =VLOOKUP(BL7,'PS-FS'!$D$2:$F$56,2,FALSE) -> 0.21180556 | BN7: =VLOOKUP(BL7,'PS-FS'!$D$2:$F$56,3,FALSE) -> 0.42013889 | BO7: =IFERROR(VLOOKUP(BL7,'PS-FS'!$D$1:$H$56,5,FALSE),"00:00") -> 0.20833333 | BP7: PdB-Jour | BQ7: =VLOOKUP(BP7,'PS-FS'!$D$2:$F$56,2,FALSE) -> 0.42708333 | BR7: =VLOOKUP(BP7,'PS-FS'!$D$2:$F$56,3,FALSE) -> 0.65625 | BS7: =IFERROR(VLOOKUP(BP7,'PS-FS'!$D$1:$H$56,5,FALSE),"00:00") -> 0.22916667 | BT7: PdB-AM | BU7: =VLOOKUP(BT7,'PS-FS'!$D$2:$F$56,2,FALSE) -> 0.21180556 | BV7: =VLOOKUP(BT7,'PS-FS'!$D$2:$F$56,3,FALSE) -> 0.42013889 | BW7: =IFERROR(VLOOKUP(BT7,'PS-FS'!$D$1:$H$56,5,FALSE),"00:00") -> 0.20833333 | BX7: R | BY7: =VLOOKUP(BX7,'PS-FS'!$D$2:$F$56,2,FALSE) -> - | BZ7: =VLOOKUP(BX7,'PS-FS'!$D$2:$F$56,3,FALSE) -> - | CA7: =IFERROR(VLOOKUP(BX7,'PS-FS'!$D$1:$H$56,5,FALSE),"00:00") -> 0 | CB7: Bourg-AM-Sam | CC7: =VLOOKUP(CB7,'PS-FS'!$D$2:$F$56,2,FALSE) -> 0.27777778 | CD7: =VLOOKUP(CB7,'PS-FS'!$D$2:$F$56,3,FALSE) -> 0.54861111 | CE7: =IFERROR(VLOOKUP(CB7,'PS-FS'!$D$1:$H$56,5,FALSE),"00:00") -> 0.25694444 | CF7: R | CG7: =VLOOKUP(CF7,'PS-FS'!$D$2:$F$56,2,FALSE) -> - | CH7: =VLOOKUP(CF7,'PS-FS'!$D$2:$F$56,3,FALSE) -> - | CI7: =IFERROR(VLOOKUP(CF7,'PS-FS'!$D$1:$H$56,5,FALSE),"00:00") -> 0 | CJ7: =BK7+BO7+BS7+BW7+CA7+CE7+CI7 -> 1.1944444 | CK7: Bourg-PM | CL7: =VLOOKUP(CK7,'PS-FS'!$D$2:$F$56,2,FALSE) -> 0.52777778 | CM7: =VLOOKUP(CK7,'PS-FS'!$D$2:$F$56,3,FALSE) -> 0.83333333 | CN7: =IFERROR(VLOOKUP(CK7,'PS-FS'!$D$1:$H$56,5,FALSE),"00:00") -> 0.29166667 | CO7: Dispo-PM | CP7: =VLOOKUP(CO7,'PS-FS'!$D$2:$F$56,2,FALSE) -> 0.5 | CQ7: =VLOOKUP(CO7,'PS-FS'!$D$2:$F$56,3,FALSE) -> 0.79166667 | CR7: =IFERROR(VLOOKUP(CO7,'PS-FS'!$D$1:$H$56,5,FALSE),"00:00") -> 0.29166667 | CS7: PdB-AM | CT7: =VLOOKUP(CS7,'PS-FS'!$D$2:$F$56,2,FALSE) -> 0.21180556 | CU7: =VLOOKUP(CS7,'PS-FS'!$D$2:$F$56,3,FALSE) -> 0.42013889 | CV7: =IFERROR(VLOOKUP(CS7,'PS-FS'!$D$1:$H$56,5,FALSE),"00:00") -> 0.20833333 | CW7: PdB-Soir | CX7: =VLOOKUP(CW7,'PS-FS'!$D$2:$F$56,2,FALSE) -> 0.69097222 | CY7: =VLOOKUP(CW7,'PS-FS'!$D$2:$F$56,3,FALSE) -> 0.95833333 | CZ7: =IFERROR(VLOOKUP(CW7,'PS-FS'!$D$1:$H$56,5,FALSE),"00:00") -> 0.25347222 | DA7: R | DB7: =VLOOKUP(DA7,'PS-FS'!$D$2:$F$56,2,FALSE) -> - | DC7: =VLOOKUP(DA7,'PS-FS'!$D$2:$F$56,3,FALSE) -> - | DD7: =IFERROR(VLOOKUP(DA7,'PS-FS'!$D$1:$H$56,5,FALSE),"00:00") -> 0 | DE7: AM_AA-AM-Sam | DF7: =VLOOKUP(DE7,'PS-FS'!$D$2:$F$56,2,FALSE) -> 0.22916667 | DG7: =VLOOKUP(DE7,'PS-FS'!$D$2:$F$56,3,FALSE) -> 0.58680556 | DH7: =IFERROR(VLOOKUP(DE7,'PS-FS'!$D$1:$H$56,5,FALSE),"00:00") -> 0.34375 | DI7: R | DJ7: =VLOOKUP(DI7,'PS-FS'!$D$2:$F$56,2,FALSE) -> - | DK7: =VLOOKUP(DI7,'PS-FS'!$D$2:$F$56,3,FALSE) -> - | DL7: 00:00 | DM7: =CN7+CR7+CV7+CZ7+DD7+DH7+DL7 -> 1.3888889 | DN7: PdB-Jour | DO7: =VLOOKUP(DN7,'PS-FS'!$D$2:$F$56,2,FALSE) -> 0.42708333 | DP7: =VLOOKUP(DN7,'PS-FS'!$D$2:$F$56,3,FALSE) -> 0.65625 | DQ7: =IFERROR(VLOOKUP(DN7,'PS-FS'!$D$1:$H$56,5,FALSE),"00:00") -> 0.22916667 | DR7: Dispo-AM | DS7: =VLOOKUP(DR7,'PS-FS'!$D$2:$F$56,2,FALSE) -> 0.20833333 | DT7: =VLOOKUP(DR7,'PS-FS'!$D$2:$F$56,3,FALSE) -> 0.5 | DU7: =IFERROR(VLOOKUP(DR7,'PS-FS'!$D$1:$H$56,5,FALSE),"00:00") -> 0.29166667 | DV7: R | DW7: =VLOOKUP(DV7,'PS-FS'!$D$2:$F$56,2,FALSE) -> - | DX7: =VLOOKUP(DV7,'PS-FS'!$D$2:$F$56,3,FALSE) -> - | DY7: =IFERROR(VLOOKUP(DV7,'PS-FS'!$D$1:$H$56,5,FALSE),"00:00") -> 0 | DZ7: Dispo-AM | EA7: =VLOOKUP(DZ7,'PS-FS'!$D$2:$F$56,2,FALSE) -> 0.20833333 | EB7: =VLOOKUP(DZ7,'PS-FS'!$D$2:$F$56,3,FALSE) -> 0.5 | EC7: =IFERROR(VLOOKUP(DZ7,'PS-FS'!$D$1:$H$56,5,FALSE),"00:00") -> 0.29166667 | ED7: AA_AM-AM | EE7: =VLOOKUP(ED7,'PS-FS'!$D$2:$F$56,2,FALSE) -> 0.20833333 | EF7: =VLOOKUP(ED7,'PS-FS'!$D$2:$F$56,3,FALSE) -> 0.53472222 | EG7: =IFERROR(VLOOKUP(ED7,'PS-FS'!$D$1:$H$56,5,FALSE),"00:00") -> 0.3125 | EH7: R | EI7: =VLOOKUP(EH7,'PS-FS'!$D$2:$F$56,2,FALSE) -> - | EJ7: =VLOOKUP(EH7,'PS-FS'!$D$2:$F$56,3,FALSE) -> - | EK7: =IFERROR(VLOOKUP(EH7,'PS-FS'!$D$1:$H$56,5,FALSE),"00:00") -> 0 | EL7: Bourg/PdB-D&F-PM | EM7: #N/A | EN7: #N/A | EO7: 00:00 | EP7: =DQ7+DU7+DY7+EC7+EG7+EK7+EO7 -> 1.125 | EQ7: AA_AM-PM | ER7: =VLOOKUP(EQ7,'PS-FS'!$D$2:$F$56,2,FALSE) -> 0.55902778 | ES7: =VLOOKUP(EQ7,'PS-FS'!$D$2:$F$56,3,FALSE) -> 0.83680556 | ET7: =IFERROR(VLOOKUP(EQ7,'PS-FS'!$D$1:$H$56,5,FALSE),"00:00") -> 0.26388889 | EU7: Dispo-PM | EV7: 0.5 | EW7: 0.79166667 | EX7: 0.29166667 | EY7: Dispo-PM | EZ7: =VLOOKUP(EY7,'PS-FS'!$D$2:$F$56,2,FALSE) -> 0.5 | FA7: =VLOOKUP(EY7,'PS-FS'!$D$2:$F$56,3,FALSE) -> 0.79166667 | FB7: 0.29166667 | FC7: AA_AM-PM | FD7: =VLOOKUP(FC7,'PS-FS'!$D$2:$F$56,2,FALSE) -> 0.55902778 | FE7: =VLOOKUP(FC7,'PS-FS'!$D$2:$F$56,3,FALSE) -> 0.83680556 | FF7: =IFERROR(VLOOKUP(FC7,'PS-FS'!$D$1:$H$56,5,FALSE),"00:00") -> 0.26388889 | FG7: R | FH7: =VLOOKUP(FG7,'PS-FS'!$D$2:$F$56,2,FALSE) -> - | FI7: =VLOOKUP(FG7,'PS-FS'!$D$2:$F$56,3,FALSE) -> - | FJ7: 00:00 | FK7: R | FL7: =VLOOKUP(FK7,'PS-FS'!$D$2:$F$56,2,FALSE) -> - | FM7: =VLOOKUP(FK7,'PS-FS'!$D$2:$F$56,3,FALSE) -> - | FN7: 00:00 | FO7: R | FP7: =VLOOKUP(FO7,'PS-FS'!$D$2:$F$56,2,FALSE) -> - | FQ7: =VLOOKUP(FO7,'PS-FS'!$D$2:$F$56,3,FALSE) -> - | FR7: 00:00 | FS7: =ET7+EX7+FB7+FF7+FJ7+FN7+FR7 -> 1.1111111
A8: Capitaine 2 | B8: Congés | C8: - | D8: - | E8: 00:00 | F8: Congés | G8: - | H8: - | I8: 00:00 | J8: Congés | K8: - | L8: - | M8: 00:00 | N8: Congés | O8: - | P8: - | Q8: 00:00 | R8: Congés | S8: - | T8: - | U8: 00:00 | V8: Congés | W8: - | X8: - | Y8: 00:00 | Z8: R | AA8: - | AB8: - | AC8: 00:00 | AD8: =E8+I8+M8+Q8+U8+Y8+AC8 -> 0 | AE8: Congés | AF8: - | AG8: - | AH8: 00:00 | AI8: Congés | AJ8: - | AK8: - | AL8: 00:00 | AM8: Congés | AN8: - | AO8: - | AP8: 00:00 | AQ8: Congés | AR8: - | AS8: - | AT8: 00:00 | AU8: Congés | AV8: - | AW8: - | AX8: 00:00 | AY8: Congés | AZ8: - | BA8: - | BB8: 00:00 | BC8: R | BD8: - | BE8: - | BF8: 00:00 | BG8: =AH8+AL8+AP8+AT8+AX8+BB8+BF8 -> 0 | BH8: Dispo-PM | BI8: =VLOOKUP(BH8,'PS-FS'!$D$2:$F$56,2,FALSE) -> 0.5 | BJ8: =VLOOKUP(BH8,'PS-FS'!$D$2:$F$56,3,FALSE) -> 0.79166667 | BK8: =IFERROR(VLOOKUP(BH8,'PS-FS'!$D$1:$H$56,5,FALSE),"00:00") -> 0.29166667 | BL8: PdB-Soir | BM8: =VLOOKUP(BL8,'PS-FS'!$D$2:$F$56,2,FALSE) -> 0.69097222 | BN8: =VLOOKUP(BL8,'PS-FS'!$D$2:$F$56,3,FALSE) -> 0.95833333 | BO8: =IFERROR(VLOOKUP(BL8,'PS-FS'!$D$1:$H$56,5,FALSE),"00:00") -> 0.25347222 | BP8: PdB-Soir | BQ8: =VLOOKUP(BP8,'PS-FS'!$D$2:$F$56,2,FALSE) -> 0.69097222 | BR8: =VLOOKUP(BP8,'PS-FS'!$D$2:$F$56,3,FALSE) -> 0.95833333 | BS8: =IFERROR(VLOOKUP(BP8,'PS-FS'!$D$1:$H$56,5,FALSE),"00:00") -> 0.25347222 | BT8: PdB-Soir | BU8: =VLOOKUP(BT8,'PS-FS'!$D$2:$F$56,2,FALSE) -> 0.69097222 | BV8: =VLOOKUP(BT8,'PS-FS'!$D$2:$F$56,3,FALSE) -> 0.95833333 | BW8: =IFERROR(VLOOKUP(BT8,'PS-FS'!$D$1:$H$56,5,FALSE),"00:00") -> 0.25347222 | BX8: R | BY8: =VLOOKUP(BX8,'PS-FS'!$D$2:$F$56,2,FALSE) -> - | BZ8: =VLOOKUP(BX8,'PS-FS'!$D$2:$F$56,3,FALSE) -> - | CA8: =IFERROR(VLOOKUP(BX8,'PS-FS'!$D$1:$H$56,5,FALSE),"00:00") -> 0 | CB8: PdB-PM-Soir-Sam | CC8: =VLOOKUP(CB8,'PS-FS'!$D$2:$F$56,2,FALSE) -> 0.70138889 | CD8: =VLOOKUP(CB8,'PS-FS'!$D$2:$F$56,3,FALSE) -> 0.95833333 | CE8: =IFERROR(VLOOKUP(CB8,'PS-FS'!$D$1:$H$56,5,FALSE),"00:00") -> 0.25694444 | CF8: R | CG8: =VLOOKUP(CF8,'PS-FS'!$D$2:$F$56,2,FALSE) -> - | CH8: =VLOOKUP(CF8,'PS-FS'!$D$2:$F$56,3,FALSE) -> - | CI8: =IFERROR(VLOOKUP(CF8,'PS-FS'!$D$1:$H$56,5,FALSE),"00:00") -> 0 | CJ8: =BK8+BO8+BS8+BW8+CA8+CE8+CI8 -> 1.3090278 | CK8: Dispo-AM | CL8: =VLOOKUP(CK8,'PS-FS'!$D$2:$F$56,2,FALSE) -> 0.20833333 | CM8: =VLOOKUP(CK8,'PS-FS'!$D$2:$F$56,3,FALSE) -> 0.5 | CN8: =IFERROR(VLOOKUP(CK8,'PS-FS'!$D$1:$H$56,5,FALSE),"00:00") -> 0.29166667 | CO8: PdB-AM | CP8: =VLOOKUP(CO8,'PS-FS'!$D$2:$F$56,2,FALSE) -> 0.21180556 | CQ8: =VLOOKUP(CO8,'PS-FS'!$D$2:$F$56,3,FALSE) -> 0.42013889 | CR8: =IFERROR(VLOOKUP(CO8,'PS-FS'!$D$1:$H$56,5,FALSE),"00:00") -> 0.20833333 | CS8: PdB-Jour | CT8: =VLOOKUP(CS8,'PS-FS'!$D$2:$F$56,2,FALSE) -> 0.42708333 | CU8: =VLOOKUP(CS8,'PS-FS'!$D$2:$F$56,3,FALSE) -> 0.65625 | CV8: =IFERROR(VLOOKUP(CS8,'PS-FS'!$D$1:$H$56,5,FALSE),"00:00") -> 0.22916667 | CW8: PdB-AM | CX8: =VLOOKUP(CW8,'PS-FS'!$D$2:$F$56,2,FALSE) -> 0.21180556 | CY8: =VLOOKUP(CW8,'PS-FS'!$D$2:$F$56,3,FALSE) -> 0.42013889 | CZ8: =IFERROR(VLOOKUP(CW8,'PS-FS'!$D$1:$H$56,5,FALSE),"00:00") -> 0.20833333 | DA8: R | DB8: =VLOOKUP(DA8,'PS-FS'!$D$2:$F$56,2,FALSE) -> - | DC8: =VLOOKUP(DA8,'PS-FS'!$D$2:$F$56,3,FALSE) -> - | DD8: =IFERROR(VLOOKUP(DA8,'PS-FS'!$D$1:$H$56,5,FALSE),"00:00") -> 0 | DE8: Bourg-AM-Sam | DF8: =VLOOKUP(DE8,'PS-FS'!$D$2:$F$56,2,FALSE) -> 0.27777778 | DG8: =VLOOKUP(DE8,'PS-FS'!$D$2:$F$56,3,FALSE) -> 0.54861111 | DH8: =IFERROR(VLOOKUP(DE8,'PS-FS'!$D$1:$H$56,5,FALSE),"00:00") -> 0.25694444 | DI8: R | DJ8: =VLOOKUP(DI8,'PS-FS'!$D$2:$F$56,2,FALSE) -> - | DK8: =VLOOKUP(DI8,'PS-FS'!$D$2:$F$56,3,FALSE) -> - | DL8: =IFERROR(VLOOKUP(DI8,'PS-FS'!$D$1:$H$56,5,FALSE),"00:00") -> 0 | DM8: =CN8+CR8+CV8+CZ8+DD8+DH8+DL8 -> 1.1944444 | DN8: Bourg-PM | DO8: =VLOOKUP(DN8,'PS-FS'!$D$2:$F$56,2,FALSE) -> 0.52777778 | DP8: =VLOOKUP(DN8,'PS-FS'!$D$2:$F$56,3,FALSE) -> 0.83333333 | DQ8: =IFERROR(VLOOKUP(DN8,'PS-FS'!$D$1:$H$56,5,FALSE),"00:00") -> 0.29166667 | DR8: Dispo-PM | DS8: =VLOOKUP(DR8,'PS-FS'!$D$2:$F$56,2,FALSE) -> 0.5 | DT8: =VLOOKUP(DR8,'PS-FS'!$D$2:$F$56,3,FALSE) -> 0.79166667 | DU8: =IFERROR(VLOOKUP(DR8,'PS-FS'!$D$1:$H$56,5,FALSE),"00:00") -> 0.29166667 | DV8: PdB-AM | DW8: =VLOOKUP(DV8,'PS-FS'!$D$2:$F$56,2,FALSE) -> 0.21180556 | DX8: =VLOOKUP(DV8,'PS-FS'!$D$2:$F$56,3,FALSE) -> 0.42013889 | DY8: =IFERROR(VLOOKUP(DV8,'PS-FS'!$D$1:$H$56,5,FALSE),"00:00") -> 0.20833333 | DZ8: PdB-Soir | EA8: =VLOOKUP(DZ8,'PS-FS'!$D$2:$F$56,2,FALSE) -> 0.69097222 | EB8: =VLOOKUP(DZ8,'PS-FS'!$D$2:$F$56,3,FALSE) -> 0.95833333 | EC8: =IFERROR(VLOOKUP(DZ8,'PS-FS'!$D$1:$H$56,5,FALSE),"00:00") -> 0.25347222 | ED8: R | EE8: =VLOOKUP(ED8,'PS-FS'!$D$2:$F$56,2,FALSE) -> - | EF8: =VLOOKUP(ED8,'PS-FS'!$D$2:$F$56,3,FALSE) -> - | EG8: =IFERROR(VLOOKUP(ED8,'PS-FS'!$D$1:$H$56,5,FALSE),"00:00") -> 0 | EH8: AM_AA-AM-Sam | EI8: =VLOOKUP(EH8,'PS-FS'!$D$2:$F$56,2,FALSE) -> 0.22916667 | EJ8: =VLOOKUP(EH8,'PS-FS'!$D$2:$F$56,3,FALSE) -> 0.58680556 | EK8: =IFERROR(VLOOKUP(EH8,'PS-FS'!$D$1:$H$56,5,FALSE),"00:00") -> 0.34375 | EL8: R | EM8: - | EN8: - | EO8: 00:00 | EP8: =DQ8+DU8+DY8+EC8+EG8+EK8+EO8 -> 1.3888889 | EQ8: PdB-Jour | ER8: =VLOOKUP(EQ8,'PS-FS'!$D$2:$F$56,2,FALSE) -> 0.42708333 | ES8: =VLOOKUP(EQ8,'PS-FS'!$D$2:$F$56,3,FALSE) -> 0.65625 | ET8: =IFERROR(VLOOKUP(EQ8,'PS-FS'!$D$1:$H$56,5,FALSE),"00:00") -> 0.22916667 | EU8: Dispo-AM | EV8: =VLOOKUP(EU8,'PS-FS'!$D$2:$F$56,2,FALSE) -> 0.20833333 | EW8: =VLOOKUP(EU8,'PS-FS'!$D$2:$F$56,3,FALSE) -> 0.5 | EX8: =IFERROR(VLOOKUP(EU8,'PS-FS'!$D$1:$H$56,5,FALSE),"00:00") -> 0.29166667 | EY8: R | EZ8: =VLOOKUP(EY8,'PS-FS'!$D$2:$F$56,2,FALSE) -> - | FA8: =VLOOKUP(EY8,'PS-FS'!$D$2:$F$56,3,FALSE) -> - | FB8: =IFERROR(VLOOKUP(EY8,'PS-FS'!$D$1:$H$56,5,FALSE),"00:00") -> 0 | FC8: Dispo-AM | FD8: =VLOOKUP(FC8,'PS-FS'!$D$2:$F$56,2,FALSE) -> 0.20833333 | FE8: =VLOOKUP(FC8,'PS-FS'!$D$2:$F$56,3,FALSE) -> 0.5 | FF8: =IFERROR(VLOOKUP(FC8,'PS-FS'!$D$1:$H$56,5,FALSE),"00:00") -> 0.29166667 | FG8: AA_AM-AM | FH8: =VLOOKUP(FG8,'PS-FS'!$D$2:$F$56,2,FALSE) -> 0.20833333 | FI8: =VLOOKUP(FG8,'PS-FS'!$D$2:$F$56,3,FALSE) -> 0.53472222 | FJ8: =IFERROR(VLOOKUP(FG8,'PS-FS'!$D$1:$H$56,5,FALSE),"00:00") -> 0.3125 | FK8: R | FL8: =VLOOKUP(FK8,'PS-FS'!$D$2:$F$56,2,FALSE) -> - | FM8: =VLOOKUP(FK8,'PS-FS'!$D$2:$F$56,3,FALSE) -> - | FN8: =IFERROR(VLOOKUP(FK8,'PS-FS'!$D$1:$H$56,5,FALSE),"00:00") -> 0 | FO8: Bourg/PdB-D&F-PM | FP8: =VLOOKUP(FO8,'PS-FS'!$D$2:$F$56,2,FALSE) -> 0.55208333 | FQ8: =VLOOKUP(FO8,'PS-FS'!$D$2:$F$56,3,FALSE) -> 0.82638889 | FR8: 00:00 | FS8: =ET8+EX8+FB8+FF8+FJ8+FN8+FR8 -> 1.125
A9: Capitaine 3 | B9: PdB-PM-N1 | C9: 0.49652778 | D9: 0.80902778 | E9: 0.3125 | F9: Dispo-PM | G9: 0.5 | H9: 0.79166667 | I9: 0.29166667 | J9: PdB-PM-N2 | K9: 0.51736111 | L9: 0.81944444 | M9: 0.30208333 | N9: Dispo-PM | O9: 0.5 | P9: 0.79166667 | Q9: 0.29166667 | R9: Dispo-PM | S9: 0.5 | T9: 0.79166667 | U9: 0.29166667 | V9: R | W9: - | X9: - | Y9: 00:00 | Z9: R | AA9: - | AB9: - | AC9: 00:00 | AD9: =E9+I9+M9+Q9+U9+Y9+AC9 -> 1.4895833 | AE9: PdB-AM-N2 | AF9: 0.21527778 | AG9: 0.53125 | AH9: 0.31597222 | AI9: PdB-AM-N2 | AJ9: 0.21527778 | AK9: 0.53125 | AL9: 0.31597222 | AM9: R | AN9: - | AO9: - | AP9: 00:00 | AQ9: PdB-AM-N2 | AR9: 0.21527778 | AS9: 0.53125 | AT9: 0.31597222 | AU9: R | AV9: - | AW9: - | AX9: 00:00 | AY9: R | AZ9: - | BA9: - | BB9: 00:00 | BC9: PdB-D&F-AM | BD9: 0.26041667 | BE9: 0.53125 | BF9: 0.27083333 | BG9: =AH9+AL9+AP9+AT9+AX9+BB9+BF9 -> 1.21875 | BH9: PdB-AM | BI9: =VLOOKUP(BH9,'PS-FS'!$D$2:$F$56,2,FALSE) -> 0.21180556 | BJ9: =VLOOKUP(BH9,'PS-FS'!$D$2:$F$56,3,FALSE) -> 0.42013889 | BK9: =IFERROR(VLOOKUP(BH9,'PS-FS'!$D$1:$H$56,5,FALSE),"00:00") -> 0.20833333 | BL9: Dispo-AM | BM9: =VLOOKUP(BL9,'PS-FS'!$D$2:$F$56,2,FALSE) -> 0.20833333 | BN9: =VLOOKUP(BL9,'PS-FS'!$D$2:$F$56,3,FALSE) -> 0.5 | BO9: =IFERROR(VLOOKUP(BL9,'PS-FS'!$D$1:$H$56,5,FALSE),"00:00") -> 0.29166667 | BP9: R | BQ9: =VLOOKUP(BP9,'PS-FS'!$D$2:$F$56,2,FALSE) -> - | BR9: =VLOOKUP(BP9,'PS-FS'!$D$2:$F$56,3,FALSE) -> - | BS9: =IFERROR(VLOOKUP(BP9,'PS-FS'!$D$1:$H$56,5,FALSE),"00:00") -> 0 | BT9: Dispo-AM | BU9: =VLOOKUP(BT9,'PS-FS'!$D$2:$F$56,2,FALSE) -> 0.20833333 | BV9: =VLOOKUP(BT9,'PS-FS'!$D$2:$F$56,3,FALSE) -> 0.5 | BW9: =IFERROR(VLOOKUP(BT9,'PS-FS'!$D$1:$H$56,5,FALSE),"00:00") -> 0.29166667 | BX9: PdB-AM | BY9: =VLOOKUP(BX9,'PS-FS'!$D$2:$F$56,2,FALSE) -> 0.21180556 | BZ9: =VLOOKUP(BX9,'PS-FS'!$D$2:$F$56,3,FALSE) -> 0.42013889 | CA9: =IFERROR(VLOOKUP(BX9,'PS-FS'!$D$1:$H$56,5,FALSE),"00:00") -> 0.20833333 | CB9: R | CC9: =VLOOKUP(CB9,'PS-FS'!$D$2:$F$56,2,FALSE) -> - | CD9: =VLOOKUP(CB9,'PS-FS'!$D$2:$F$56,3,FALSE) -> - | CE9: =IFERROR(VLOOKUP(CB9,'PS-FS'!$D$1:$H$56,5,FALSE),"00:00") -> 0 | CF9: R | CG9: =VLOOKUP(CF9,'PS-FS'!$D$2:$F$56,2,FALSE) -> - | CH9: =VLOOKUP(CF9,'PS-FS'!$D$2:$F$56,3,FALSE) -> - | CI9: =IFERROR(VLOOKUP(CF9,'PS-FS'!$D$1:$H$56,5,FALSE),"00:00") -> 0 | CJ9: =BK9+BO9+BS9+BW9+CA9+CE9+CI9 -> 1 | CK9: Congés | CL9: =VLOOKUP(CK9,'PS-FS'!$D$2:$F$56,2,FALSE) -> - | CM9: =VLOOKUP(CK9,'PS-FS'!$D$2:$F$56,3,FALSE) -> - | CN9: 00:00 | CO9: Congés | CP9: - | CQ9: - | CR9: 00:00 | CS9: Congés | CT9: =VLOOKUP(CS9,'PS-FS'!$D$2:$F$56,2,FALSE) -> - | CU9: =VLOOKUP(CS9,'PS-FS'!$D$2:$F$56,3,FALSE) -> - | CV9: 00:00 | CW9: Congés | CX9: =VLOOKUP(CW9,'PS-FS'!$D$2:$F$56,2,FALSE) -> - | CY9: =VLOOKUP(CW9,'PS-FS'!$D$2:$F$56,3,FALSE) -> - | CZ9: 00:00 | DA9: Congés | DB9: =VLOOKUP(DA9,'PS-FS'!$D$2:$F$56,2,FALSE) -> - | DC9: =VLOOKUP(DA9,'PS-FS'!$D$2:$F$56,3,FALSE) -> - | DD9: 00:00 | DE9: Congés | DF9: =VLOOKUP(DE9,'PS-FS'!$D$2:$F$56,2,FALSE) -> - | DG9: =VLOOKUP(DE9,'PS-FS'!$D$2:$F$56,3,FALSE) -> - | DH9: 00:00 | DI9: R | DJ9: =VLOOKUP(DI9,'PS-FS'!$D$2:$F$56,2,FALSE) -> - | DK9: =VLOOKUP(DI9,'PS-FS'!$D$2:$F$56,3,FALSE) -> - | DL9: 00:00 | DM9: =CN9+CR9+CV9+CZ9+DD9+DH9+DL9 -> 0 | DN9: Congés | DO9: =VLOOKUP(DN9,'PS-FS'!$D$2:$F$56,2,FALSE) -> - | DP9: =VLOOKUP(DN9,'PS-FS'!$D$2:$F$56,3,FALSE) -> - | DQ9: 00:00 | DR9: Congés | DS9: =VLOOKUP(DR9,'PS-FS'!$D$2:$F$56,2,FALSE) -> - | DT9: =VLOOKUP(DR9,'PS-FS'!$D$2:$F$56,3,FALSE) -> - | DU9: 00:00 | DV9: Congés | DW9: =VLOOKUP(DV9,'PS-FS'!$D$2:$F$56,2,FALSE) -> - | DX9: =VLOOKUP(DV9,'PS-FS'!$D$2:$F$56,3,FALSE) -> - | DY9: 00:00 | DZ9: Congés | EA9: =VLOOKUP(DZ9,'PS-FS'!$D$2:$F$56,2,FALSE) -> - | EB9: =VLOOKUP(DZ9,'PS-FS'!$D$2:$F$56,3,FALSE) -> - | EC9: 00:00 | ED9: Congés | EE9: =VLOOKUP(ED9,'PS-FS'!$D$2:$F$56,2,FALSE) -> - | EF9: =VLOOKUP(ED9,'PS-FS'!$D$2:$F$56,3,FALSE) -> - | EG9: 00:00 | EH9: Congés | EI9: =VLOOKUP(EH9,'PS-FS'!$D$2:$F$56,2,FALSE) -> - | EJ9: =VLOOKUP(EH9,'PS-FS'!$D$2:$F$56,3,FALSE) -> - | EK9: 00:00 | EL9: R | EM9: - | EN9: - | EO9: 00:00 | EP9: =DQ9+DU9+DY9+EC9+EG9+EK9+EO9 -> 0 | EQ9: Bourg-PM | ER9: =VLOOKUP(EQ9,'PS-FS'!$D$2:$F$56,2,FALSE) -> 0.52777778 | ES9: =VLOOKUP(EQ9,'PS-FS'!$D$2:$F$56,3,FALSE) -> 0.83333333 | ET9: =IFERROR(VLOOKUP(EQ9,'PS-FS'!$D$1:$H$56,5,FALSE),"00:00") -> 0.29166667 | EU9: Dispo-PM | EV9: =VLOOKUP(EU9,'PS-FS'!$D$2:$F$56,2,FALSE) -> 0.5 | EW9: =VLOOKUP(EU9,'PS-FS'!$D$2:$F$56,3,FALSE) -> 0.79166667 | EX9: =IFERROR(VLOOKUP(EU9,'PS-FS'!$D$1:$H$56,5,FALSE),"00:00") -> 0.29166667 | EY9: PdB-AM | EZ9: =VLOOKUP(EY9,'PS-FS'!$D$2:$F$56,2,FALSE) -> 0.21180556 | FA9: =VLOOKUP(EY9,'PS-FS'!$D$2:$F$56,3,FALSE) -> 0.42013889 | FB9: =IFERROR(VLOOKUP(EY9,'PS-FS'!$D$1:$H$56,5,FALSE),"00:00") -> 0.20833333 | FC9: PdB-Soir | FD9: =VLOOKUP(FC9,'PS-FS'!$D$2:$F$56,2,FALSE) -> 0.69097222 | FE9: =VLOOKUP(FC9,'PS-FS'!$D$2:$F$56,3,FALSE) -> 0.95833333 | FF9: =IFERROR(VLOOKUP(FC9,'PS-FS'!$D$1:$H$56,5,FALSE),"00:00") -> 0.25347222 | FG9: R | FH9: =VLOOKUP(FG9,'PS-FS'!$D$2:$F$56,2,FALSE) -> - | FI9: =VLOOKUP(FG9,'PS-FS'!$D$2:$F$56,3,FALSE) -> - | FJ9: =IFERROR(VLOOKUP(FG9,'PS-FS'!$D$1:$H$56,5,FALSE),"00:00") -> 0 | FK9: AM_AA-AM-Sam | FL9: =VLOOKUP(FK9,'PS-FS'!$D$2:$F$56,2,FALSE) -> 0.22916667 | FM9: =VLOOKUP(FK9,'PS-FS'!$D$2:$F$56,3,FALSE) -> 0.58680556 | FN9: =IFERROR(VLOOKUP(FK9,'PS-FS'!$D$1:$H$56,5,FALSE),"00:00") -> 0.34375 | FO9: R | FP9: =VLOOKUP(FO9,'PS-FS'!$D$2:$F$56,2,FALSE) -> - | FQ9: =VLOOKUP(FO9,'PS-FS'!$D$2:$F$56,3,FALSE) -> - | FR9: 00:00 | FS9: =ET9+EX9+FB9+FF9+FJ9+FN9+FR9 -> 1.3888889
A10: Capitaine 4 | B10: Congés | C10: - | D10: - | E10: 00:00 | F10: Congés | G10: - | H10: - | I10: 00:00 | J10: Congés | K10: - | L10: - | M10: 00:00 | N10: Congés | O10: - | P10: - | Q10: 00:00 | R10: Congés | S10: - | T10: - | U10: 00:00 | V10: Congés | W10: - | X10: - | Y10: 00:00 | Z10: R | AA10: - | AB10: - | AC10: 00:00 | AD10: =E10+I10+M10+Q10+U10+Y10+AC10 -> 0 | AE10: Congés | AF10: - | AG10: - | AH10: 00:00 | AI10: Congés | AJ10: - | AK10: - | AL10: 00:00 | AM10: Congés | AN10: - | AO10: - | AP10: 00:00 | AQ10: Congés | AR10: - | AS10: - | AT10: 00:00 | AU10: Congés | AV10: - | AW10: - | AX10: 00:00 | AY10: Congés | AZ10: - | BA10: - | BB10: 00:00 | BC10: R | BD10: - | BE10: - | BF10: 00:00 | BG10: =AH10+AL10+AP10+AT10+AX10+BB10+BF10 -> 0 | BH10: Dispo-AM | BI10: =VLOOKUP(BH10,'PS-FS'!$D$2:$F$56,2,FALSE) -> 0.20833333 | BJ10: =VLOOKUP(BH10,'PS-FS'!$D$2:$F$56,3,FALSE) -> 0.5 | BK10: =IFERROR(VLOOKUP(BH10,'PS-FS'!$D$1:$H$56,5,FALSE),"00:00") -> 0.29166667 | BL10: AA_AM-AM | BM10: =VLOOKUP(BL10,'PS-FS'!$D$2:$F$56,2,FALSE) -> 0.20833333 | BN10: =VLOOKUP(BL10,'PS-FS'!$D$2:$F$56,3,FALSE) -> 0.53472222 | BO10: =IFERROR(VLOOKUP(BL10,'PS-FS'!$D$1:$H$56,5,FALSE),"00:00") -> 0.3125 | BP10: Bourg-AM | BQ10: =VLOOKUP(BP10,'PS-FS'!$D$2:$F$56,2,FALSE) -> 0.20486111 | BR10: =VLOOKUP(BP10,'PS-FS'!$D$2:$F$56,3,FALSE) -> 0.50694444 | BS10: =IFERROR(VLOOKUP(BP10,'PS-FS'!$D$1:$H$56,5,FALSE),"00:00") -> 0.28819444 | BT10: Dispo-AM | BU10: =VLOOKUP(BT10,'PS-FS'!$D$2:$F$56,2,FALSE) -> 0.20833333 | BV10: =VLOOKUP(BT10,'PS-FS'!$D$2:$F$56,3,FALSE) -> 0.5 | BW10: =IFERROR(VLOOKUP(BT10,'PS-FS'!$D$1:$H$56,5,FALSE),"00:00") -> 0.29166667 | BX10: R | BY10: =VLOOKUP(BX10,'PS-FS'!$D$2:$F$56,2,FALSE) -> - | BZ10: =VLOOKUP(BX10,'PS-FS'!$D$2:$F$56,3,FALSE) -> - | CA10: =IFERROR(VLOOKUP(BX10,'PS-FS'!$D$1:$H$56,5,FALSE),"00:00") -> 0 | CB10: PdB-AM-Sam | CC10: =VLOOKUP(CB10,'PS-FS'!$D$2:$F$56,2,FALSE) -> 0.23958333 | CD10: =VLOOKUP(CB10,'PS-FS'!$D$2:$F$56,3,FALSE) -> 0.42361111 | CE10: =IFERROR(VLOOKUP(CB10,'PS-FS'!$D$1:$H$56,5,FALSE),"00:00") -> 0.18402778 | CF10: R | CG10: =VLOOKUP(CF10,'PS-FS'!$D$2:$F$56,2,FALSE) -> - | CH10: =VLOOKUP(CF10,'PS-FS'!$D$2:$F$56,3,FALSE) -> - | CI10: =IFERROR(VLOOKUP(CF10,'PS-FS'!$D$1:$H$56,5,FALSE),"00:00") -> 0 | CJ10: =BK10+BO10+BS10+BW10+CA10+CE10+CI10 -> 1.3680556 | CK10: PdB-AM | CL10: =VLOOKUP(CK10,'PS-FS'!$D$2:$F$56,2,FALSE) -> 0.21180556 | CM10: =VLOOKUP(CK10,'PS-FS'!$D$2:$F$56,3,FALSE) -> 0.42013889 | CN10: =IFERROR(VLOOKUP(CK10,'PS-FS'!$D$1:$H$56,5,FALSE),"00:00") -> 0.20833333 | CO10: Dispo-AM | CP10: =VLOOKUP(CO10,'PS-FS'!$D$2:$F$56,2,FALSE) -> 0.20833333 | CQ10: =VLOOKUP(CO10,'PS-FS'!$D$2:$F$56,3,FALSE) -> 0.5 | CR10: =IFERROR(VLOOKUP(CO10,'PS-FS'!$D$1:$H$56,5,FALSE),"00:00") -> 0.29166667 | CS10: R | CT10: =VLOOKUP(CS10,'PS-FS'!$D$2:$F$56,2,FALSE) -> - | CU10: =VLOOKUP(CS10,'PS-FS'!$D$2:$F$56,3,FALSE) -> - | CV10: =IFERROR(VLOOKUP(CS10,'PS-FS'!$D$1:$H$56,5,FALSE),"00:00") -> 0 | CW10: AA_AM-AM | CX10: =VLOOKUP(CW10,'PS-FS'!$D$2:$F$56,2,FALSE) -> 0.20833333 | CY10: =VLOOKUP(CW10,'PS-FS'!$D$2:$F$56,3,FALSE) -> 0.53472222 | CZ10: =IFERROR(VLOOKUP(CW10,'PS-FS'!$D$1:$H$56,5,FALSE),"00:00") -> 0.3125 | DA10: PdB-AM | DB10: =VLOOKUP(DA10,'PS-FS'!$D$2:$F$56,2,FALSE) -> 0.21180556 | DC10: =VLOOKUP(DA10,'PS-FS'!$D$2:$F$56,3,FALSE) -> 0.42013889 | DD10: =IFERROR(VLOOKUP(DA10,'PS-FS'!$D$1:$H$56,5,FALSE),"00:00") -> 0.20833333 | DE10: R | DF10: =VLOOKUP(DE10,'PS-FS'!$D$2:$F$56,2,FALSE) -> - | DG10: =VLOOKUP(DE10,'PS-FS'!$D$2:$F$56,3,FALSE) -> - | DH10: =IFERROR(VLOOKUP(DE10,'PS-FS'!$D$1:$H$56,5,FALSE),"00:00") -> 0 | DI10: R | DJ10: =VLOOKUP(DI10,'PS-FS'!$D$2:$F$56,2,FALSE) -> - | DK10: =VLOOKUP(DI10,'PS-FS'!$D$2:$F$56,3,FALSE) -> - | DL10: 00:00 | DM10: =CN10+CR10+CV10+CZ10+DD10+DH10+DL10 -> 1.0208333 | DN10: Dispo-AM | DO10: =VLOOKUP(DN10,'PS-FS'!$D$2:$F$56,2,FALSE) -> 0.20833333 | DP10: =VLOOKUP(DN10,'PS-FS'!$D$2:$F$56,3,FALSE) -> 0.5 | DQ10: =IFERROR(VLOOKUP(DN10,'PS-FS'!$D$1:$H$56,5,FALSE),"00:00") -> 0.29166667 | DR10: PdB-AM | DS10: =VLOOKUP(DR10,'PS-FS'!$D$2:$F$56,2,FALSE) -> 0.21180556 | DT10: =VLOOKUP(DR10,'PS-FS'!$D$2:$F$56,3,FALSE) -> 0.42013889 | DU10: =IFERROR(VLOOKUP(DR10,'PS-FS'!$D$1:$H$56,5,FALSE),"00:00") -> 0.20833333 | DV10: PdB-Jour | DW10: =VLOOKUP(DV10,'PS-FS'!$D$2:$F$56,2,FALSE) -> 0.42708333 | DX10: =VLOOKUP(DV10,'PS-FS'!$D$2:$F$56,3,FALSE) -> 0.65625 | DY10: =IFERROR(VLOOKUP(DV10,'PS-FS'!$D$1:$H$56,5,FALSE),"00:00") -> 0.22916667 | DZ10: PdB-AM | EA10: =VLOOKUP(DZ10,'PS-FS'!$D$2:$F$56,2,FALSE) -> 0.21180556 | EB10: =VLOOKUP(DZ10,'PS-FS'!$D$2:$F$56,3,FALSE) -> 0.42013889 | EC10: =IFERROR(VLOOKUP(DZ10,'PS-FS'!$D$1:$H$56,5,FALSE),"00:00") -> 0.20833333 | ED10: R | EE10: =VLOOKUP(ED10,'PS-FS'!$D$2:$F$56,2,FALSE) -> - | EF10: =VLOOKUP(ED10,'PS-FS'!$D$2:$F$56,3,FALSE) -> - | EG10: =IFERROR(VLOOKUP(ED10,'PS-FS'!$D$1:$H$56,5,FALSE),"00:00") -> 0 | EH10: Bourg-AM-Sam | EI10: =VLOOKUP(EH10,'PS-FS'!$D$2:$F$56,2,FALSE) -> 0.27777778 | EJ10: =VLOOKUP(EH10,'PS-FS'!$D$2:$F$56,3,FALSE) -> 0.54861111 | EK10: =IFERROR(VLOOKUP(EH10,'PS-FS'!$D$1:$H$56,5,FALSE),"00:00") -> 0.25694444 | EL10: R | EM10: - | EN10: - | EO10: 00:00 | EP10: =DQ10+DU10+DY10+EC10+EG10+EK10+EO10 -> 1.1944444 | ER10: =VLOOKUP(EQ10,'PS-FS'!$D$2:$F$56,2,FALSE) -> #N/A | ES10: =VLOOKUP(EQ10,'PS-FS'!$D$2:$F$56,3,FALSE) -> #N/A | ET10: 00:00 | EV10: =VLOOKUP(EU10,'PS-FS'!$D$2:$F$56,2,FALSE) -> #N/A | EW10: =VLOOKUP(EU10,'PS-FS'!$D$2:$F$56,3,FALSE) -> #N/A | EX10: 00:00 | EZ10: =VLOOKUP(EY10,'PS-FS'!$D$2:$F$56,2,FALSE) -> #N/A | FA10: =VLOOKUP(EY10,'PS-FS'!$D$2:$F$56,3,FALSE) -> #N/A | FB10: 00:00 | FD10: =VLOOKUP(FC10,'PS-FS'!$D$2:$F$56,2,FALSE) -> #N/A | FE10: =VLOOKUP(FC10,'PS-FS'!$D$2:$F$56,3,FALSE) -> #N/A | FF10: 00:00 | FH10: =VLOOKUP(FG10,'PS-FS'!$D$2:$F$56,2,FALSE) -> #N/A | FI10: =VLOOKUP(FG10,'PS-FS'!$D$2:$F$56,3,FALSE) -> #N/A | FJ10: 00:00 | FL10: =VLOOKUP(FK10,'PS-FS'!$D$2:$F$56,2,FALSE) -> #N/A | FM10: =VLOOKUP(FK10,'PS-FS'!$D$2:$F$56,3,FALSE) -> #N/A | FN10: 00:00 | FP10: =VLOOKUP(FO10,'PS-FS'!$D$2:$F$56,2,FALSE) -> #N/A | FQ10: =VLOOKUP(FO10,'PS-FS'!$D$2:$F$56,3,FALSE) -> #N/A | FR10: 00:00 | FS10: =ET10+EX10+FB10+FF10+FJ10+FN10+FR10 -> 0
A11: Capitaine 5 | B11: PdB-AM-N1 | C11: 0.20486111 | D11: 0.51041667 | E11: 0.30555556 | F11: Dispo-AM | G11: 0.20833333 | H11: 0.5 | I11: 0.29166667 | J11: R | K11: - | L11: - | M11: 00:00 | N11: PdB-AM-N1 | O11: 0.20486111 | P11: 0.51041667 | Q11: 0.30555556 | R11: PdB-AM-N1 | S11: 0.20486111 | T11: 0.51041667 | U11: 0.30555556 | V11: R | W11: - | X11: - | Y11: 00:00 | Z11: PdB-D&F-AM | AA11: 0.26041667 | AB11: 0.53125 | AC11: 0.27083333 | AD11: =E11+I11+M11+Q11+U11+Y11+AC11 -> 1.4791667 | AE11: R | AF11: - | AG11: - | AH11: 00:00 | AI11: Dispo-AM | AJ11: 0.20833333 | AK11: 0.5 | AL11: 0.29166667 | AM11: PdB-AM-N2 | AN11: 0.21527778 | AO11: 0.53125 | AP11: 0.31597222 | AQ11: PdB-AM-N2 | AR11: 0.21527778 | AS11: 0.53125 | AT11: 0.31597222 | AU11: PdB-AM-N2 | AV11: 0.21527778 | AW11: 0.53125 | AX11: 0.31597222 | AY11: R | AZ11: - | BA11: - | BB11: 00:00 | BC11: R | BD11: - | BE11: - | BF11: 00:00 | BG11: =AH11+AL11+AP11+AT11+AX11+BB11+BF11 -> 1.2395833 | BH11: Bourg-AM | BI11: =VLOOKUP(BH11,'PS-FS'!$D$2:$F$56,2,FALSE) -> 0.20486111 | BJ11: =VLOOKUP(BH11,'PS-FS'!$D$2:$F$56,3,FALSE) -> 0.50694444 | BK11: =IFERROR(VLOOKUP(BH11,'PS-FS'!$D$1:$H$56,5,FALSE),"00:00") -> 0.28819444 | BL11: PdB-Jour | BM11: =VLOOKUP(BL11,'PS-FS'!$D$2:$F$56,2,FALSE) -> 0.42708333 | BN11: =VLOOKUP(BL11,'PS-FS'!$D$2:$F$56,3,FALSE) -> 0.65625 | BO11: =IFERROR(VLOOKUP(BL11,'PS-FS'!$D$1:$H$56,5,FALSE),"00:00") -> 0.22916667 | BP11: AA_AM-AM | BQ11: =VLOOKUP(BP11,'PS-FS'!$D$2:$F$56,2,FALSE) -> 0.20833333 | BR11: =VLOOKUP(BP11,'PS-FS'!$D$2:$F$56,3,FALSE) -> 0.53472222 | BS11: =IFERROR(VLOOKUP(BP11,'PS-FS'!$D$1:$H$56,5,FALSE),"00:00") -> 0.3125 | BT11: PdB-Jour | BU11: =VLOOKUP(BT11,'PS-FS'!$D$2:$F$56,2,FALSE) -> 0.42708333 | BV11: =VLOOKUP(BT11,'PS-FS'!$D$2:$F$56,3,FALSE) -> 0.65625 | BW11: =IFERROR(VLOOKUP(BT11,'PS-FS'!$D$1:$H$56,5,FALSE),"00:00") -> 0.22916667 | BX11: PdB-Jour | BY11: =VLOOKUP(BX11,'PS-FS'!$D$2:$F$56,2,FALSE) -> 0.42708333 | BZ11: =VLOOKUP(BX11,'PS-FS'!$D$2:$F$56,3,FALSE) -> 0.65625 | CA11: =IFERROR(VLOOKUP(BX11,'PS-FS'!$D$1:$H$56,5,FALSE),"00:00") -> 0.22916667 | CB11: PdB-Jour-Sam | CC11: =VLOOKUP(CB11,'PS-FS'!$D$2:$F$56,2,FALSE) -> 0.42708333 | CD11: =VLOOKUP(CB11,'PS-FS'!$D$2:$F$56,3,FALSE) -> 0.6875 | CE11: =IFERROR(VLOOKUP(CB11,'PS-FS'!$D$1:$H$56,5,FALSE),"00:00") -> 0.26041667 | CF11: R | CG11: =VLOOKUP(CF11,'PS-FS'!$D$2:$F$56,2,FALSE) -> - | CH11: =VLOOKUP(CF11,'PS-FS'!$D$2:$F$56,3,FALSE) -> - | CI11: =IFERROR(VLOOKUP(CF11,'PS-FS'!$D$1:$H$56,5,FALSE),"00:00") -> 0 | CJ11: =BK11+BO11+BS11+BW11+CA11+CE11+CI11 -> 1.5486111 | CK11: Dispo-AM | CL11: =VLOOKUP(CK11,'PS-FS'!$D$2:$F$56,2,FALSE) -> 0.20833333 | CM11: =VLOOKUP(CK11,'PS-FS'!$D$2:$F$56,3,FALSE) -> 0.5 | CN11: =IFERROR(VLOOKUP(CK11,'PS-FS'!$D$1:$H$56,5,FALSE),"00:00") -> 0.29166667 | CO11: AA_AM-AM | CP11: =VLOOKUP(CO11,'PS-FS'!$D$2:$F$56,2,FALSE) -> 0.20833333 | CQ11: =VLOOKUP(CO11,'PS-FS'!$D$2:$F$56,3,FALSE) -> 0.53472222 | CR11: =IFERROR(VLOOKUP(CO11,'PS-FS'!$D$1:$H$56,5,FALSE),"00:00") -> 0.3125 | CS11: Bourg-AM | CT11: =VLOOKUP(CS11,'PS-FS'!$D$2:$F$56,2,FALSE) -> 0.20486111 | CU11: =VLOOKUP(CS11,'PS-FS'!$D$2:$F$56,3,FALSE) -> 0.50694444 | CV11: =IFERROR(VLOOKUP(CS11,'PS-FS'!$D$1:$H$56,5,FALSE),"00:00") -> 0.28819444 | CW11: Dispo-AM | CX11: =VLOOKUP(CW11,'PS-FS'!$D$2:$F$56,2,FALSE) -> 0.20833333 | CY11: =VLOOKUP(CW11,'PS-FS'!$D$2:$F$56,3,FALSE) -> 0.5 | CZ11: =IFERROR(VLOOKUP(CW11,'PS-FS'!$D$1:$H$56,5,FALSE),"00:00") -> 0.29166667 | DA11: R | DB11: =VLOOKUP(DA11,'PS-FS'!$D$2:$F$56,2,FALSE) -> - | DC11: =VLOOKUP(DA11,'PS-FS'!$D$2:$F$56,3,FALSE) -> - | DD11: =IFERROR(VLOOKUP(DA11,'PS-FS'!$D$1:$H$56,5,FALSE),"00:00") -> 0 | DE11: PdB-AM-Sam | DF11: =VLOOKUP(DE11,'PS-FS'!$D$2:$F$56,2,FALSE) -> 0.23958333 | DG11: =VLOOKUP(DE11,'PS-FS'!$D$2:$F$56,3,FALSE) -> 0.42361111 | DH11: =IFERROR(VLOOKUP(DE11,'PS-FS'!$D$1:$H$56,5,FALSE),"00:00") -> 0.18402778 | DI11: R | DJ11: =VLOOKUP(DI11,'PS-FS'!$D$2:$F$56,2,FALSE) -> - | DK11: =VLOOKUP(DI11,'PS-FS'!$D$2:$F$56,3,FALSE) -> - | DL11: 00:00 | DM11: =CN11+CR11+CV11+CZ11+DD11+DH11+DL11 -> 1.3680556 | DN11: PdB-AM | DO11: =VLOOKUP(DN11,'PS-FS'!$D$2:$F$56,2,FALSE) -> 0.21180556 | DP11: =VLOOKUP(DN11,'PS-FS'!$D$2:$F$56,3,FALSE) -> 0.42013889 | DQ11: =IFERROR(VLOOKUP(DN11,'PS-FS'!$D$1:$H$56,5,FALSE),"00:00") -> 0.20833333 | DR11: Dispo-AM | DS11: =VLOOKUP(DR11,'PS-FS'!$D$2:$F$56,2,FALSE) -> 0.20833333 | DT11: =VLOOKUP(DR11,'PS-FS'!$D$2:$F$56,3,FALSE) -> 0.5 | DU11: =IFERROR(VLOOKUP(DR11,'PS-FS'!$D$1:$H$56,5,FALSE),"00:00") -> 0.29166667 | DV11: R | DW11: =VLOOKUP(DV11,'PS-FS'!$D$2:$F$56,2,FALSE) -> - | DX11: =VLOOKUP(DV11,'PS-FS'!$D$2:$F$56,3,FALSE) -> - | DY11: =IFERROR(VLOOKUP(DV11,'PS-FS'!$D$1:$H$56,5,FALSE),"00:00") -> 0 | DZ11: AA_AM-AM | EA11: =VLOOKUP(DZ11,'PS-FS'!$D$2:$F$56,2,FALSE) -> 0.20833333 | EB11: =VLOOKUP(DZ11,'PS-FS'!$D$2:$F$56,3,FALSE) -> 0.53472222 | EC11: =IFERROR(VLOOKUP(DZ11,'PS-FS'!$D$1:$H$56,5,FALSE),"00:00") -> 0.3125 | ED11: PdB-AM | EE11: =VLOOKUP(ED11,'PS-FS'!$D$2:$F$56,2,FALSE) -> 0.21180556 | EF11: =VLOOKUP(ED11,'PS-FS'!$D$2:$F$56,3,FALSE) -> 0.42013889 | EG11: =IFERROR(VLOOKUP(ED11,'PS-FS'!$D$1:$H$56,5,FALSE),"00:00") -> 0.20833333 | EH11: R | EI11: =VLOOKUP(EH11,'PS-FS'!$D$2:$F$56,2,FALSE) -> - | EJ11: =VLOOKUP(EH11,'PS-FS'!$D$2:$F$56,3,FALSE) -> - | EK11: =IFERROR(VLOOKUP(EH11,'PS-FS'!$D$1:$H$56,5,FALSE),"00:00") -> 0 | EL11: R | EM11: - | EN11: - | EO11: 00:00 | EP11: =DQ11+DU11+DY11+EC11+EG11+EK11+EO11 -> 1.0208333 | EQ11: Dispo-AM | ER11: =VLOOKUP(EQ11,'PS-FS'!$D$2:$F$56,2,FALSE) -> 0.20833333 | ES11: =VLOOKUP(EQ11,'PS-FS'!$D$2:$F$56,3,FALSE) -> 0.5 | ET11: =IFERROR(VLOOKUP(EQ11,'PS-FS'!$D$1:$H$56,5,FALSE),"00:00") -> 0.29166667 | EU11: PdB-AM | EV11: =VLOOKUP(EU11,'PS-FS'!$D$2:$F$56,2,FALSE) -> 0.21180556 | EW11: =VLOOKUP(EU11,'PS-FS'!$D$2:$F$56,3,FALSE) -> 0.42013889 | EX11: =IFERROR(VLOOKUP(EU11,'PS-FS'!$D$1:$H$56,5,FALSE),"00:00") -> 0.20833333 | EY11: PdB-Jour | EZ11: =VLOOKUP(EY11,'PS-FS'!$D$2:$F$56,2,FALSE) -> 0.42708333 | FA11: =VLOOKUP(EY11,'PS-FS'!$D$2:$F$56,3,FALSE) -> 0.65625 | FB11: =IFERROR(VLOOKUP(EY11,'PS-FS'!$D$1:$H$56,5,FALSE),"00:00") -> 0.22916667 | FC11: PdB-AM | FD11: =VLOOKUP(FC11,'PS-FS'!$D$2:$F$56,2,FALSE) -> 0.21180556 | FE11: =VLOOKUP(FC11,'PS-FS'!$D$2:$F$56,3,FALSE) -> 0.42013889 | FF11: =IFERROR(VLOOKUP(FC11,'PS-FS'!$D$1:$H$56,5,FALSE),"00:00") -> 0.20833333 | FG11: R | FH11: =VLOOKUP(FG11,'PS-FS'!$D$2:$F$56,2,FALSE) -> - | FI11: =VLOOKUP(FG11,'PS-FS'!$D$2:$F$56,3,FALSE) -> - | FJ11: =IFERROR(VLOOKUP(FG11,'PS-FS'!$D$1:$H$56,5,FALSE),"00:00") -> 0 | FK11: Bourg-AM-Sam | FL11: =VLOOKUP(FK11,'PS-FS'!$D$2:$F$56,2,FALSE) -> 0.27777778 | FM11: =VLOOKUP(FK11,'PS-FS'!$D$2:$F$56,3,FALSE) -> 0.54861111 | FN11: =IFERROR(VLOOKUP(FK11,'PS-FS'!$D$1:$H$56,5,FALSE),"00:00") -> 0.25694444 | FO11: R | FP11: =VLOOKUP(FO11,'PS-FS'!$D$2:$F$56,2,FALSE) -> - | FQ11: =VLOOKUP(FO11,'PS-FS'!$D$2:$F$56,3,FALSE) -> - | FR11: 00:00 | FS11: =ET11+EX11+FB11+FF11+FJ11+FN11+FR11 -> 1.1944444
A12: Capitaine 6 | B12: R | C12: - | D12: - | E12: 00:00 | F12: R | G12: - | H12: - | I12: 00:00 | J12: PdB-AM-N1 | K12: 0.20486111 | L12: 0.51041667 | M12: 0.30555556 | N12: Dispo-AM | O12: 0.20833333 | P12: 0.5 | Q12: 0.29166667 | R12: PdB-PM-N2 | S12: 0.51736111 | T12: 0.81944444 | U12: 0.30208333 | V12: R | W12: - | X12: - | Y12: 00:00 | Z12: R | AA12: - | AB12: - | AC12: 00:00 | AD12: =E12+I12+M12+Q12+U12+Y12+AC12 -> 0.89930556 | AE12: Dispo-PM | AF12: 0.5 | AG12: 0.79166667 | AH12: 0.29166667 | AI12: PdB-PM-N2 | AJ12: 0.51736111 | AK12: 0.81944444 | AL12: 0.30208333 | AM12: PdB-PM-N2 | AN12: 0.51736111 | AO12: 0.81944444 | AP12: 0.30208333 | AQ12: R | AR12: - | AS12: - | AT12: 00:00 | AU12: PdB-PM-N2 | AV12: 0.51736111 | AW12: 0.81944444 | AX12: 0.30208333 | AY12: R | AZ12: - | BA12: - | BB12: 00:00 | BC12: PdB-D&F-PM | BD12: 0.49652778 | BE12: 0.80902778 | BF12: 0.3125 | BG12: =AH12+AL12+AP12+AT12+AX12+BB12+BF12 -> 1.5104167 | BH12: AA_AM-AM | BI12: =VLOOKUP(BH12,'PS-FS'!$D$2:$F$56,2,FALSE) -> 0.20833333 | BJ12: =VLOOKUP(BH12,'PS-FS'!$D$2:$F$56,3,FALSE) -> 0.53472222 | BK12: =IFERROR(VLOOKUP(BH12,'PS-FS'!$D$1:$H$56,5,FALSE),"00:00") -> 0.3125 | BL12: Dispo-AM | BM12: =VLOOKUP(BL12,'PS-FS'!$D$2:$F$56,2,FALSE) -> 0.20833333 | BN12: =VLOOKUP(BL12,'PS-FS'!$D$2:$F$56,3,FALSE) -> 0.5 | BO12: =IFERROR(VLOOKUP(BL12,'PS-FS'!$D$1:$H$56,5,FALSE),"00:00") -> 0.29166667 | BP12: R | BQ12: =VLOOKUP(BP12,'PS-FS'!$D$2:$F$56,2,FALSE) -> - | BR12: =VLOOKUP(BP12,'PS-FS'!$D$2:$F$56,3,FALSE) -> - | BS12: =IFERROR(VLOOKUP(BP12,'PS-FS'!$D$1:$H$56,5,FALSE),"00:00") -> 0 | BT12: Dispo-AM | BU12: =VLOOKUP(BT12,'PS-FS'!$D$2:$F$56,2,FALSE) -> 0.20833333 | BV12: =VLOOKUP(BT12,'PS-FS'!$D$2:$F$56,3,FALSE) -> 0.5 | BW12: =IFERROR(VLOOKUP(BT12,'PS-FS'!$D$1:$H$56,5,FALSE),"00:00") -> 0.29166667 | BX12: Bourg-AM | BY12: =VLOOKUP(BX12,'PS-FS'!$D$2:$F$56,2,FALSE) -> 0.20486111 | BZ12: =VLOOKUP(BX12,'PS-FS'!$D$2:$F$56,3,FALSE) -> 0.50694444 | CA12: =IFERROR(VLOOKUP(BX12,'PS-FS'!$D$1:$H$56,5,FALSE),"00:00") -> 0.28819444 | CB12: R | CC12: =VLOOKUP(CB12,'PS-FS'!$D$2:$F$56,2,FALSE) -> - | CD12: =VLOOKUP(CB12,'PS-FS'!$D$2:$F$56,3,FALSE) -> - | CE12: =IFERROR(VLOOKUP(CB12,'PS-FS'!$D$1:$H$56,5,FALSE),"00:00") -> 0 | CF12: R | CG12: =VLOOKUP(CF12,'PS-FS'!$D$2:$F$56,2,FALSE) -> - | CH12: =VLOOKUP(CF12,'PS-FS'!$D$2:$F$56,3,FALSE) -> - | CI12: =IFERROR(VLOOKUP(CF12,'PS-FS'!$D$1:$H$56,5,FALSE),"00:00") -> 0 | CJ12: =BK12+BO12+BS12+BW12+CA12+CE12+CI12 -> 1.1840278 | CK12: Bourg-AM | CL12: =VLOOKUP(CK12,'PS-FS'!$D$2:$F$56,2,FALSE) -> 0.20486111 | CM12: =VLOOKUP(CK12,'PS-FS'!$D$2:$F$56,3,FALSE) -> 0.50694444 | CN12: =IFERROR(VLOOKUP(CK12,'PS-FS'!$D$1:$H$56,5,FALSE),"00:00") -> 0.28819444 | CO12: PdB-Jour | CP12: =VLOOKUP(CO12,'PS-FS'!$D$2:$F$56,2,FALSE) -> 0.42708333 | CQ12: =VLOOKUP(CO12,'PS-FS'!$D$2:$F$56,3,FALSE) -> 0.65625 | CR12: =IFERROR(VLOOKUP(CO12,'PS-FS'!$D$1:$H$56,5,FALSE),"00:00") -> 0.22916667 | CS12: AA_AM-AM | CT12: =VLOOKUP(CS12,'PS-FS'!$D$2:$F$56,2,FALSE) -> 0.20833333 | CU12: =VLOOKUP(CS12,'PS-FS'!$D$2:$F$56,3,FALSE) -> 0.53472222 | CV12: =IFERROR(VLOOKUP(CS12,'PS-FS'!$D$1:$H$56,5,FALSE),"00:00") -> 0.3125 | CW12: PdB-Jour | CX12: =VLOOKUP(CW12,'PS-FS'!$D$2:$F$56,2,FALSE) -> 0.42708333 | CY12: =VLOOKUP(CW12,'PS-FS'!$D$2:$F$56,3,FALSE) -> 0.65625 | CZ12: =IFERROR(VLOOKUP(CW12,'PS-FS'!$D$1:$H$56,5,FALSE),"00:00") -> 0.22916667 | DA12: PdB-Jour | DB12: =VLOOKUP(DA12,'PS-FS'!$D$2:$F$56,2,FALSE) -> 0.42708333 | DC12: =VLOOKUP(DA12,'PS-FS'!$D$2:$F$56,3,FALSE) -> 0.65625 | DD12: =IFERROR(VLOOKUP(DA12,'PS-FS'!$D$1:$H$56,5,FALSE),"00:00") -> 0.22916667 | DE12: PdB-Jour-Sam | DF12: =VLOOKUP(DE12,'PS-FS'!$D$2:$F$56,2,FALSE) -> 0.42708333 | DG12: =VLOOKUP(DE12,'PS-FS'!$D$2:$F$56,3,FALSE) -> 0.6875 | DH12: =IFERROR(VLOOKUP(DE12,'PS-FS'!$D$1:$H$56,5,FALSE),"00:00") -> 0.26041667 | DI12: R | DJ12: =VLOOKUP(DI12,'PS-FS'!$D$2:$F$56,2,FALSE) -> - | DK12: =VLOOKUP(DI12,'PS-FS'!$D$2:$F$56,3,FALSE) -> - | DL12: 00:00 | DM12: =CN12+CR12+CV12+CZ12+DD12+DH12+DL12 -> 1.5486111 | DN12: Dispo-AM | DO12: =VLOOKUP(DN12,'PS-FS'!$D$2:$F$56,2,FALSE) -> 0.20833333 | DP12: =VLOOKUP(DN12,'PS-FS'!$D$2:$F$56,3,FALSE) -> 0.5 | DQ12: =IFERROR(VLOOKUP(DN12,'PS-FS'!$D$1:$H$56,5,FALSE),"00:00") -> 0.29166667 | DR12: AA_AM-AM | DS12: =VLOOKUP(DR12,'PS-FS'!$D$2:$F$56,2,FALSE) -> 0.20833333 | DT12: =VLOOKUP(DR12,'PS-FS'!$D$2:$F$56,3,FALSE) -> 0.53472222 | DU12: =IFERROR(VLOOKUP(DR12,'PS-FS'!$D$1:$H$56,5,FALSE),"00:00") -> 0.3125 | DV12: Bourg-AM | DW12: =VLOOKUP(DV12,'PS-FS'!$D$2:$F$56,2,FALSE) -> 0.20486111 | DX12: =VLOOKUP(DV12,'PS-FS'!$D$2:$F$56,3,FALSE) -> 0.50694444 | DY12: =IFERROR(VLOOKUP(DV12,'PS-FS'!$D$1:$H$56,5,FALSE),"00:00") -> 0.28819444 | DZ12: Dispo-AM | EA12: =VLOOKUP(DZ12,'PS-FS'!$D$2:$F$56,2,FALSE) -> 0.20833333 | EB12: =VLOOKUP(DZ12,'PS-FS'!$D$2:$F$56,3,FALSE) -> 0.5 | EC12: =IFERROR(VLOOKUP(DZ12,'PS-FS'!$D$1:$H$56,5,FALSE),"00:00") -> 0.29166667 | ED12: R | EE12: =VLOOKUP(ED12,'PS-FS'!$D$2:$F$56,2,FALSE) -> - | EF12: =VLOOKUP(ED12,'PS-FS'!$D$2:$F$56,3,FALSE) -> - | EG12: =IFERROR(VLOOKUP(ED12,'PS-FS'!$D$1:$H$56,5,FALSE),"00:00") -> 0 | EH12: PdB-AM-Sam | EI12: =VLOOKUP(EH12,'PS-FS'!$D$2:$F$56,2,FALSE) -> 0.23958333 | EJ12: =VLOOKUP(EH12,'PS-FS'!$D$2:$F$56,3,FALSE) -> 0.42361111 | EK12: =IFERROR(VLOOKUP(EH12,'PS-FS'!$D$1:$H$56,5,FALSE),"00:00") -> 0.18402778 | EL12: R | EM12: - | EN12: - | EO12: 00:00 | EP12: =DQ12+DU12+DY12+EC12+EG12+EK12+EO12 -> 1.3680556 | EQ12: PdB-AM | ER12: =VLOOKUP(EQ12,'PS-FS'!$D$2:$F$56,2,FALSE) -> 0.21180556 | ES12: =VLOOKUP(EQ12,'PS-FS'!$D$2:$F$56,3,FALSE) -> 0.42013889 | ET12: =IFERROR(VLOOKUP(EQ12,'PS-FS'!$D$1:$H$56,5,FALSE),"00:00") -> 0.20833333 | EU12: Dispo-AM | EV12: =VLOOKUP(EU12,'PS-FS'!$D$2:$F$56,2,FALSE) -> 0.20833333 | EW12: =VLOOKUP(EU12,'PS-FS'!$D$2:$F$56,3,FALSE) -> 0.5 | EX12: =IFERROR(VLOOKUP(EU12,'PS-FS'!$D$1:$H$56,5,FALSE),"00:00") -> 0.29166667 | EY12: R | EZ12: =VLOOKUP(EY12,'PS-FS'!$D$2:$F$56,2,FALSE) -> - | FA12: =VLOOKUP(EY12,'PS-FS'!$D$2:$F$56,3,FALSE) -> - | FB12: =IFERROR(VLOOKUP(EY12,'PS-FS'!$D$1:$H$56,5,FALSE),"00:00") -> 0 | FC12: AA_AM-AM | FD12: =VLOOKUP(FC12,'PS-FS'!$D$2:$F$56,2,FALSE) -> 0.20833333 | FE12: =VLOOKUP(FC12,'PS-FS'!$D$2:$F$56,3,FALSE) -> 0.53472222 | FF12: =IFERROR(VLOOKUP(FC12,'PS-FS'!$D$1:$H$56,5,FALSE),"00:00") -> 0.3125 | FG12: PdB-AM | FH12: =VLOOKUP(FG12,'PS-FS'!$D$2:$F$56,2,FALSE) -> 0.21180556 | FI12: =VLOOKUP(FG12,'PS-FS'!$D$2:$F$56,3,FALSE) -> 0.42013889 | FJ12: =IFERROR(VLOOKUP(FG12,'PS-FS'!$D$1:$H$56,5,FALSE),"00:00") -> 0.20833333 | FK12: R | FL12: =VLOOKUP(FK12,'PS-FS'!$D$2:$F$56,2,FALSE) -> - | FM12: =VLOOKUP(FK12,'PS-FS'!$D$2:$F$56,3,FALSE) -> - | FN12: =IFERROR(VLOOKUP(FK12,'PS-FS'!$D$1:$H$56,5,FALSE),"00:00") -> 0 | FO12: R | FP12: =VLOOKUP(FO12,'PS-FS'!$D$2:$F$56,2,FALSE) -> - | FQ12: =VLOOKUP(FO12,'PS-FS'!$D$2:$F$56,3,FALSE) -> - | FR12: 00:00 | FS12: =ET12+EX12+FB12+FF12+FJ12+FN12+FR12 -> 1.0208333
A13: Capitaine 7 | B13: Congés | C13: - | D13: - | E13: 00:00 | F13: Congés | G13: - | H13: - | I13: 00:00 | J13: Congés | K13: - | L13: - | M13: 00:00 | N13: Congés | O13: - | P13: - | Q13: 00:00 | R13: Congés | S13: - | T13: - | U13: 00:00 | V13: Congés | W13: - | X13: - | Y13: 00:00 | Z13: R | AA13: - | AB13: - | AC13: 00:00 | AD13: =E13+I13+M13+Q13+U13+Y13+AC13 -> 0 | AE13: Congés | AF13: - | AG13: - | AH13: 00:00 | AI13: Congés | AJ13: - | AK13: - | AL13: 00:00 | AM13: Congés | AN13: - | AO13: - | AP13: 00:00 | AQ13: Congés | AR13: - | AS13: - | AT13: 00:00 | AU13: Congés | AV13: - | AW13: - | AX13: 00:00 | AY13: Congés | AZ13: - | BA13: - | BB13: 00:00 | BC13: R | BD13: - | BE13: - | BF13: 00:00 | BG13: =AH13+AL13+AP13+AT13+AX13+BB13+BF13 -> 0 | BH13: Dispo-AM | BI13: =VLOOKUP(BH13,'PS-FS'!$D$2:$F$56,2,FALSE) -> 0.20833333 | BJ13: =VLOOKUP(BH13,'PS-FS'!$D$2:$F$56,3,FALSE) -> 0.5 | BK13: =IFERROR(VLOOKUP(BH13,'PS-FS'!$D$1:$H$56,5,FALSE),"00:00") -> 0.29166667 | BL13: Bourg-AM | BM13: =VLOOKUP(BL13,'PS-FS'!$D$2:$F$56,2,FALSE) -> 0.20486111 | BN13: =VLOOKUP(BL13,'PS-FS'!$D$2:$F$56,3,FALSE) -> 0.50694444 | BO13: =IFERROR(VLOOKUP(BL13,'PS-FS'!$D$1:$H$56,5,FALSE),"00:00") -> 0.28819444 | BP13: R | BQ13: =VLOOKUP(BP13,'PS-FS'!$D$2:$F$56,2,FALSE) -> - | BR13: =VLOOKUP(BP13,'PS-FS'!$D$2:$F$56,3,FALSE) -> - | BS13: =IFERROR(VLOOKUP(BP13,'PS-FS'!$D$1:$H$56,5,FALSE),"00:00") -> 0 | BT13: Bourg-AM | BU13: =VLOOKUP(BT13,'PS-FS'!$D$2:$F$56,2,FALSE) -> 0.20486111 | BV13: =VLOOKUP(BT13,'PS-FS'!$D$2:$F$56,3,FALSE) -> 0.50694444 | BW13: =IFERROR(VLOOKUP(BT13,'PS-FS'!$D$1:$H$56,5,FALSE),"00:00") -> 0.28819444 | BX13: Dispo-AM | BY13: =VLOOKUP(BX13,'PS-FS'!$D$2:$F$56,2,FALSE) -> 0.20833333 | BZ13: =VLOOKUP(BX13,'PS-FS'!$D$2:$F$56,3,FALSE) -> 0.5 | CA13: =IFERROR(VLOOKUP(BX13,'PS-FS'!$D$1:$H$56,5,FALSE),"00:00") -> 0.29166667 | CB13: R | CC13: =VLOOKUP(CB13,'PS-FS'!$D$2:$F$56,2,FALSE) -> - | CD13: =VLOOKUP(CB13,'PS-FS'!$D$2:$F$56,3,FALSE) -> - | CE13: =IFERROR(VLOOKUP(CB13,'PS-FS'!$D$1:$H$56,5,FALSE),"00:00") -> 0 | CF13: Bourg/PdB-D&F-AM | CG13: =VLOOKUP(CF13,'PS-FS'!$D$2:$F$56,2,FALSE) -> 0.27777778 | CH13: =VLOOKUP(CF13,'PS-FS'!$D$2:$F$56,3,FALSE) -> 0.54861111 | CI13: =IFERROR(VLOOKUP(CF13,'PS-FS'!$D$1:$H$56,5,FALSE),"00:00") -> 0.25694444 | CJ13: =BK13+BO13+BS13+BW13+CA13+CE13+CI13 -> 1.4166667 | CK13: AA_AM-AM | CL13: =VLOOKUP(CK13,'PS-FS'!$D$2:$F$56,2,FALSE) -> 0.20833333 | CM13: =VLOOKUP(CK13,'PS-FS'!$D$2:$F$56,3,FALSE) -> 0.53472222 | CN13: =IFERROR(VLOOKUP(CK13,'PS-FS'!$D$1:$H$56,5,FALSE),"00:00") -> 0.3125 | CO13: R | CP13: =VLOOKUP(CO13,'PS-FS'!$D$2:$F$56,2,FALSE) -> - | CQ13: =VLOOKUP(CO13,'PS-FS'!$D$2:$F$56,3,FALSE) -> - | CR13: =IFERROR(VLOOKUP(CO13,'PS-FS'!$D$1:$H$56,5,FALSE),"00:00") -> 0 | CS13: R | CT13: =VLOOKUP(CS13,'PS-FS'!$D$2:$F$56,2,FALSE) -> - | CU13: =VLOOKUP(CS13,'PS-FS'!$D$2:$F$56,3,FALSE) -> - | CV13: =IFERROR(VLOOKUP(CS13,'PS-FS'!$D$1:$H$56,5,FALSE),"00:00") -> 0 | CW13: Dispo-AM | CX13: =VLOOKUP(CW13,'PS-FS'!$D$2:$F$56,2,FALSE) -> 0.20833333 | CY13: =VLOOKUP(CW13,'PS-FS'!$D$2:$F$56,3,FALSE) -> 0.5 | CZ13: =IFERROR(VLOOKUP(CW13,'PS-FS'!$D$1:$H$56,5,FALSE),"00:00") -> 0.29166667 | DA13: Bourg-AM | DB13: =VLOOKUP(DA13,'PS-FS'!$D$2:$F$56,2,FALSE) -> 0.20486111 | DC13: =VLOOKUP(DA13,'PS-FS'!$D$2:$F$56,3,FALSE) -> 0.50694444 | DD13: =IFERROR(VLOOKUP(DA13,'PS-FS'!$D$1:$H$56,5,FALSE),"00:00") -> 0.28819444 | DE13: R | DF13: =VLOOKUP(DE13,'PS-FS'!$D$2:$F$56,2,FALSE) -> - | DG13: =VLOOKUP(DE13,'PS-FS'!$D$2:$F$56,3,FALSE) -> - | DH13: =IFERROR(VLOOKUP(DE13,'PS-FS'!$D$1:$H$56,5,FALSE),"00:00") -> 0 | DI13: R | DJ13: =VLOOKUP(DI13,'PS-FS'!$D$2:$F$56,2,FALSE) -> - | DK13: =VLOOKUP(DI13,'PS-FS'!$D$2:$F$56,3,FALSE) -> - | DL13: 00:00 | DM13: =CN13+CR13+CV13+CZ13+DD13+DH13+DL13 -> 0.89236111 | DN13: Bourg-AM | DO13: =VLOOKUP(DN13,'PS-FS'!$D$2:$F$56,2,FALSE) -> 0.20486111 | DP13: =VLOOKUP(DN13,'PS-FS'!$D$2:$F$56,3,FALSE) -> 0.50694444 | DQ13: =IFERROR(VLOOKUP(DN13,'PS-FS'!$D$1:$H$56,5,FALSE),"00:00") -> 0.28819444 | DR13: PdB-Jour | DS13: =VLOOKUP(DR13,'PS-FS'!$D$2:$F$56,2,FALSE) -> 0.42708333 | DT13: =VLOOKUP(DR13,'PS-FS'!$D$2:$F$56,3,FALSE) -> 0.65625 | DU13: =IFERROR(VLOOKUP(DR13,'PS-FS'!$D$1:$H$56,5,FALSE),"00:00") -> 0.22916667 | DV13: AA_AM-AM | DW13: =VLOOKUP(DV13,'PS-FS'!$D$2:$F$56,2,FALSE) -> 0.20833333 | DX13: =VLOOKUP(DV13,'PS-FS'!$D$2:$F$56,3,FALSE) -> 0.53472222 | DY13: =IFERROR(VLOOKUP(DV13,'PS-FS'!$D$1:$H$56,5,FALSE),"00:00") -> 0.3125 | DZ13: PdB-Jour | EA13: =VLOOKUP(DZ13,'PS-FS'!$D$2:$F$56,2,FALSE) -> 0.42708333 | EB13: =VLOOKUP(DZ13,'PS-FS'!$D$2:$F$56,3,FALSE) -> 0.65625 | EC13: =IFERROR(VLOOKUP(DZ13,'PS-FS'!$D$1:$H$56,5,FALSE),"00:00") -> 0.22916667 | ED13: PdB-Jour | EE13: =VLOOKUP(ED13,'PS-FS'!$D$2:$F$56,2,FALSE) -> 0.42708333 | EF13: =VLOOKUP(ED13,'PS-FS'!$D$2:$F$56,3,FALSE) -> 0.65625 | EG13: =IFERROR(VLOOKUP(ED13,'PS-FS'!$D$1:$H$56,5,FALSE),"00:00") -> 0.22916667 | EH13: PdB-Jour-Sam | EI13: =VLOOKUP(EH13,'PS-FS'!$D$2:$F$56,2,FALSE) -> 0.42708333 | EJ13: =VLOOKUP(EH13,'PS-FS'!$D$2:$F$56,3,FALSE) -> 0.6875 | EK13: =IFERROR(VLOOKUP(EH13,'PS-FS'!$D$1:$H$56,5,FALSE),"00:00") -> 0.26041667 | EL13: R | EM13: - | EN13: - | EO13: 00:00 | EP13: =DQ13+DU13+DY13+EC13+EG13+EK13+EO13 -> 1.5486111 | EQ13: Dispo-AM | ER13: =VLOOKUP(EQ13,'PS-FS'!$D$2:$F$56,2,FALSE) -> 0.20833333 | ES13: =VLOOKUP(EQ13,'PS-FS'!$D$2:$F$56,3,FALSE) -> 0.5 | ET13: =IFERROR(VLOOKUP(EQ13,'PS-FS'!$D$1:$H$56,5,FALSE),"00:00") -> 0.29166667 | EU13: AA_AM-AM | EV13: =VLOOKUP(EU13,'PS-FS'!$D$2:$F$56,2,FALSE) -> 0.20833333 | EW13: =VLOOKUP(EU13,'PS-FS'!$D$2:$F$56,3,FALSE) -> 0.53472222 | EX13: =IFERROR(VLOOKUP(EU13,'PS-FS'!$D$1:$H$56,5,FALSE),"00:00") -> 0.3125 | EY13: Bourg-AM | EZ13: =VLOOKUP(EY13,'PS-FS'!$D$2:$F$56,2,FALSE) -> 0.20486111 | FA13: =VLOOKUP(EY13,'PS-FS'!$D$2:$F$56,3,FALSE) -> 0.50694444 | FB13: =IFERROR(VLOOKUP(EY13,'PS-FS'!$D$1:$H$56,5,FALSE),"00:00") -> 0.28819444 | FC13: Dispo-AM | FD13: =VLOOKUP(FC13,'PS-FS'!$D$2:$F$56,2,FALSE) -> 0.20833333 | FE13: =VLOOKUP(FC13,'PS-FS'!$D$2:$F$56,3,FALSE) -> 0.5 | FF13: =IFERROR(VLOOKUP(FC13,'PS-FS'!$D$1:$H$56,5,FALSE),"00:00") -> 0.29166667 | FG13: R | FH13: =VLOOKUP(FG13,'PS-FS'!$D$2:$F$56,2,FALSE) -> - | FI13: =VLOOKUP(FG13,'PS-FS'!$D$2:$F$56,3,FALSE) -> - | FJ13: =IFERROR(VLOOKUP(FG13,'PS-FS'!$D$1:$H$56,5,FALSE),"00:00") -> 0 | FK13: PdB-AM-Sam | FL13: =VLOOKUP(FK13,'PS-FS'!$D$2:$F$56,2,FALSE) -> 0.23958333 | FM13: =VLOOKUP(FK13,'PS-FS'!$D$2:$F$56,3,FALSE) -> 0.42361111 | FN13: =IFERROR(VLOOKUP(FK13,'PS-FS'!$D$1:$H$56,5,FALSE),"00:00") -> 0.18402778 | FO13: R | FP13: =VLOOKUP(FO13,'PS-FS'!$D$2:$F$56,2,FALSE) -> - | FQ13: =VLOOKUP(FO13,'PS-FS'!$D$2:$F$56,3,FALSE) -> - | FR13: 00:00 | FS13: =ET13+EX13+FB13+FF13+FJ13+FN13+FR13 -> 1.3680556
A14: Capitaine 8 | B14: Congés | C14: - | D14: - | E14: 00:00 | F14: Congés | G14: - | H14: - | I14: 00:00 | J14: Congés | K14: - | L14: - | M14: 00:00 | N14: Congés | O14: - | P14: - | Q14: 00:00 | R14: Congés | S14: - | T14: - | U14: 00:00 | V14: Congés | W14: - | X14: - | Y14: 00:00 | Z14: R | AA14: - | AB14: - | AC14: 00:00 | AD14: =E14+I14+M14+Q14+U14+Y14+AC14 -> 0 | AE14: Congés | AF14: - | AG14: - | AH14: 00:00 | AI14: Congés | AJ14: - | AK14: - | AL14: 00:00 | AM14: Congés | AN14: - | AO14: - | AP14: 00:00 | AQ14: Congés | AR14: - | AS14: - | AT14: 00:00 | AU14: Congés | AV14: - | AW14: - | AX14: 00:00 | AY14: Congés | AZ14: - | BA14: - | BB14: 00:00 | BC14: R | BD14: - | BE14: - | BF14: 00:00 | BG14: =AH14+AL14+AP14+AT14+AX14+BB14+BF14 -> 0 | BH14: Congés | BI14: =VLOOKUP(BH14,'PS-FS'!$D$2:$F$56,2,FALSE) -> - | BJ14: =VLOOKUP(BH14,'PS-FS'!$D$2:$F$56,3,FALSE) -> - | BK14: =IFERROR(VLOOKUP(BH14,'PS-FS'!$D$1:$H$56,5,FALSE),"00:00") -> 0 | BL14: Congés | BM14: =VLOOKUP(BL14,'PS-FS'!$D$2:$F$56,2,FALSE) -> - | BN14: =VLOOKUP(BL14,'PS-FS'!$D$2:$F$56,3,FALSE) -> - | BO14: =IFERROR(VLOOKUP(BL14,'PS-FS'!$D$1:$H$56,5,FALSE),"00:00") -> 0 | BP14: PdB-AM | BQ14: =VLOOKUP(BP14,'PS-FS'!$D$2:$F$56,2,FALSE) -> 0.21180556 | BR14: =VLOOKUP(BP14,'PS-FS'!$D$2:$F$56,3,FALSE) -> 0.42013889 | BS14: =IFERROR(VLOOKUP(BP14,'PS-FS'!$D$1:$H$56,5,FALSE),"00:00") -> 0.20833333 | BT14: AA_AM-AM | BU14: =VLOOKUP(BT14,'PS-FS'!$D$2:$F$56,2,FALSE) -> 0.20833333 | BV14: =VLOOKUP(BT14,'PS-FS'!$D$2:$F$56,3,FALSE) -> 0.53472222 | BW14: =IFERROR(VLOOKUP(BT14,'PS-FS'!$D$1:$H$56,5,FALSE),"00:00") -> 0.3125 | BX14: AA_AM-AM | BY14: =VLOOKUP(BX14,'PS-FS'!$D$2:$F$56,2,FALSE) -> 0.20833333 | BZ14: =VLOOKUP(BX14,'PS-FS'!$D$2:$F$56,3,FALSE) -> 0.53472222 | CA14: =IFERROR(VLOOKUP(BX14,'PS-FS'!$D$1:$H$56,5,FALSE),"00:00") -> 0.3125 | CB14: AM_AA-AM-Sam | CC14: =VLOOKUP(CB14,'PS-FS'!$D$2:$F$56,2,FALSE) -> 0.22916667 | CD14: =VLOOKUP(CB14,'PS-FS'!$D$2:$F$56,3,FALSE) -> 0.58680556 | CE14: =IFERROR(VLOOKUP(CB14,'PS-FS'!$D$1:$H$56,5,FALSE),"00:00") -> 0.34375 | CF14: R | CG14: =VLOOKUP(CF14,'PS-FS'!$D$2:$F$56,2,FALSE) -> - | CH14: =VLOOKUP(CF14,'PS-FS'!$D$2:$F$56,3,FALSE) -> - | CI14: =IFERROR(VLOOKUP(CF14,'PS-FS'!$D$1:$H$56,5,FALSE),"00:00") -> 0 | CJ14: =BK14+BO14+BS14+BW14+CA14+CE14+CI14 -> 1.1770833 | CK14: Dispo-AM | CL14: =VLOOKUP(CK14,'PS-FS'!$D$2:$F$56,2,FALSE) -> 0.20833333 | CM14: =VLOOKUP(CK14,'PS-FS'!$D$2:$F$56,3,FALSE) -> 0.5 | CN14: =IFERROR(VLOOKUP(CK14,'PS-FS'!$D$1:$H$56,5,FALSE),"00:00") -> 0.29166667 | CO14: Bourg-AM | CP14: =VLOOKUP(CO14,'PS-FS'!$D$2:$F$56,2,FALSE) -> 0.20486111 | CQ14: =VLOOKUP(CO14,'PS-FS'!$D$2:$F$56,3,FALSE) -> 0.50694444 | CR14: =IFERROR(VLOOKUP(CO14,'PS-FS'!$D$1:$H$56,5,FALSE),"00:00") -> 0.28819444 | CS14: Dispo-AM | CT14: =VLOOKUP(CS14,'PS-FS'!$D$2:$F$56,2,FALSE) -> 0.20833333 | CU14: =VLOOKUP(CS14,'PS-FS'!$D$2:$F$56,3,FALSE) -> 0.5 | CV14: =IFERROR(VLOOKUP(CS14,'PS-FS'!$D$1:$H$56,5,FALSE),"00:00") -> 0.29166667 | CW14: Bourg-AM | CX14: =VLOOKUP(CW14,'PS-FS'!$D$2:$F$56,2,FALSE) -> 0.20486111 | CY14: =VLOOKUP(CW14,'PS-FS'!$D$2:$F$56,3,FALSE) -> 0.50694444 | CZ14: =IFERROR(VLOOKUP(CW14,'PS-FS'!$D$1:$H$56,5,FALSE),"00:00") -> 0.28819444 | DA14: R | DB14: =VLOOKUP(DA14,'PS-FS'!$D$2:$F$56,2,FALSE) -> - | DC14: =VLOOKUP(DA14,'PS-FS'!$D$2:$F$56,3,FALSE) -> - | DD14: =IFERROR(VLOOKUP(DA14,'PS-FS'!$D$1:$H$56,5,FALSE),"00:00") -> 0 | DE14: R | DF14: =VLOOKUP(DE14,'PS-FS'!$D$2:$F$56,2,FALSE) -> - | DG14: =VLOOKUP(DE14,'PS-FS'!$D$2:$F$56,3,FALSE) -> - | DH14: =IFERROR(VLOOKUP(DE14,'PS-FS'!$D$1:$H$56,5,FALSE),"00:00") -> 0 | DI14: Bourg/PdB-D&F-AM | DJ14: =VLOOKUP(DI14,'PS-FS'!$D$2:$F$56,2,FALSE) -> 0.27777778 | DK14: =VLOOKUP(DI14,'PS-FS'!$D$2:$F$56,3,FALSE) -> 0.54861111 | DL14: 0.27430556 | DM14: =CN14+CR14+CV14+CZ14+DD14+DH14+DL14 -> 1.4340278 | DN14: AA_AM-AM | DO14: =VLOOKUP(DN14,'PS-FS'!$D$2:$F$56,2,FALSE) -> 0.20833333 | DP14: =VLOOKUP(DN14,'PS-FS'!$D$2:$F$56,3,FALSE) -> 0.53472222 | DQ14: =IFERROR(VLOOKUP(DN14,'PS-FS'!$D$1:$H$56,5,FALSE),"00:00") -> 0.3125 | DR14: R | DS14: =VLOOKUP(DR14,'PS-FS'!$D$2:$F$56,2,FALSE) -> - | DT14: =VLOOKUP(DR14,'PS-FS'!$D$2:$F$56,3,FALSE) -> - | DU14: =IFERROR(VLOOKUP(DR14,'PS-FS'!$D$1:$H$56,5,FALSE),"00:00") -> 0 | DV14: R | DW14: =VLOOKUP(DV14,'PS-FS'!$D$2:$F$56,2,FALSE) -> - | DX14: =VLOOKUP(DV14,'PS-FS'!$D$2:$F$56,3,FALSE) -> - | DY14: =IFERROR(VLOOKUP(DV14,'PS-FS'!$D$1:$H$56,5,FALSE),"00:00") -> 0 | DZ14: Dispo-AM | EA14: =VLOOKUP(DZ14,'PS-FS'!$D$2:$F$56,2,FALSE) -> 0.20833333 | EB14: =VLOOKUP(DZ14,'PS-FS'!$D$2:$F$56,3,FALSE) -> 0.5 | EC14: =IFERROR(VLOOKUP(DZ14,'PS-FS'!$D$1:$H$56,5,FALSE),"00:00") -> 0.29166667 | ED14: Bourg-AM | EE14: =VLOOKUP(ED14,'PS-FS'!$D$2:$F$56,2,FALSE) -> 0.20486111 | EF14: =VLOOKUP(ED14,'PS-FS'!$D$2:$F$56,3,FALSE) -> 0.50694444 | EG14: =IFERROR(VLOOKUP(ED14,'PS-FS'!$D$1:$H$56,5,FALSE),"00:00") -> 0.28819444 | EH14: R | EI14: =VLOOKUP(EH14,'PS-FS'!$D$2:$F$56,2,FALSE) -> - | EJ14: =VLOOKUP(EH14,'PS-FS'!$D$2:$F$56,3,FALSE) -> - | EK14: =IFERROR(VLOOKUP(EH14,'PS-FS'!$D$1:$H$56,5,FALSE),"00:00") -> 0 | EL14: R | EM14: - | EN14: - | EO14: 00:00 | EP14: =DQ14+DU14+DY14+EC14+EG14+EK14+EO14 -> 0.89236111 | EQ14: Bourg-AM | ER14: =VLOOKUP(EQ14,'PS-FS'!$D$2:$F$56,2,FALSE) -> 0.20486111 | ES14: =VLOOKUP(EQ14,'PS-FS'!$D$2:$F$56,3,FALSE) -> 0.50694444 | ET14: =IFERROR(VLOOKUP(EQ14,'PS-FS'!$D$1:$H$56,5,FALSE),"00:00") -> 0.28819444 | EU14: PdB-Jour | EV14: =VLOOKUP(EU14,'PS-FS'!$D$2:$F$56,2,FALSE) -> 0.42708333 | EW14: =VLOOKUP(EU14,'PS-FS'!$D$2:$F$56,3,FALSE) -> 0.65625 | EX14: =IFERROR(VLOOKUP(EU14,'PS-FS'!$D$1:$H$56,5,FALSE),"00:00") -> 0.22916667 | EY14: AA_AM-AM | EZ14: =VLOOKUP(EY14,'PS-FS'!$D$2:$F$56,2,FALSE) -> 0.20833333 | FA14: =VLOOKUP(EY14,'PS-FS'!$D$2:$F$56,3,FALSE) -> 0.53472222 | FB14: =IFERROR(VLOOKUP(EY14,'PS-FS'!$D$1:$H$56,5,FALSE),"00:00") -> 0.3125 | FC14: PdB-Jour | FD14: =VLOOKUP(FC14,'PS-FS'!$D$2:$F$56,2,FALSE) -> 0.42708333 | FE14: =VLOOKUP(FC14,'PS-FS'!$D$2:$F$56,3,FALSE) -> 0.65625 | FF14: =IFERROR(VLOOKUP(FC14,'PS-FS'!$D$1:$H$56,5,FALSE),"00:00") -> 0.22916667 | FG14: PdB-Jour | FH14: =VLOOKUP(FG14,'PS-FS'!$D$2:$F$56,2,FALSE) -> 0.42708333 | FI14: =VLOOKUP(FG14,'PS-FS'!$D$2:$F$56,3,FALSE) -> 0.65625 | FJ14: =IFERROR(VLOOKUP(FG14,'PS-FS'!$D$1:$H$56,5,FALSE),"00:00") -> 0.22916667 | FK14: PdB-Jour-Sam | FL14: =VLOOKUP(FK14,'PS-FS'!$D$2:$F$56,2,FALSE) -> 0.42708333 | FM14: =VLOOKUP(FK14,'PS-FS'!$D$2:$F$56,3,FALSE) -> 0.6875 | FN14: =IFERROR(VLOOKUP(FK14,'PS-FS'!$D$1:$H$56,5,FALSE),"00:00") -> 0.26041667 | FO14: R | FP14: =VLOOKUP(FO14,'PS-FS'!$D$2:$F$56,2,FALSE) -> - | FQ14: =VLOOKUP(FO14,'PS-FS'!$D$2:$F$56,3,FALSE) -> - | FR14: 00:00 | FS14: =ET14+EX14+FB14+FF14+FJ14+FN14+FR14 -> 1.5486111
