Workbook
Name _19_août: 'planning-Aout V2'!$B$6:$B$20
Name durée: #REF!
Name durée: #REF!
Name Durée1: #REF!
Name Durée1: #REF!
Name Durée2: #REF!
Name Durée2: #REF!
Name LIU: #REF!
Name LIU: #REF!
Name LP: #REF!
Name LP: #REF!
Name LU: #REF!
Name LU: #REF!
Name LV: #REF!
Name LV: #REF!

Sheet planning-Aout V2
AJ3: Semaine | AM3: =AE5 -> 45530 | AO3: au | AQ3: =BC5 -> 45536
A5: Date | B5: 45523 | F5: 45524 | J5: 45525 | N5: 45526 | R5: 45527 | V5: 45528 | Z5: 45529 | AE5: 45530 | AI5: 45531 | AM5: 45532 | AQ5: 45533 | AU5: 45534 | AY5: 45535 | BC5: 45536 | BH5: 45537 | BL5: 45538 | BP5: 45539 | BT5: 45540 | BX5: 45541 | CB5: 45542 | CF5: 45543 | CK5: 45544 | CO5: 45545 | CS5: 45546 | CW5: 45547 | DA5: 45548 | DE5: 45549 | DI5: 45550 | DN5: 45551 | DR5: 45552 | DV5: 45553 | DZ5: 45554 | ED5: 45555 | EH5: 45556 | EL5: 45557 | EQ5: 45558 | EU5: 45559 | EY5: 45560 | FC5: 45561 | FG5: 45562 | FK5: 45563 | FO5: 45564
A6: CAPTAIN | B6: Lundi | C6: PS | D6: FS | E6: TTE | F6: Mardi | G6: PS | H6: FS | I6: TTE | J6: Mercredi | K6: PS | L6: FS | M6: TTE | N6: Jeudi | O6: PS | P6: FS | Q6: TTE | R6: Vendredi | S6: PS | T6: FS | U6: TTE | V6: Samedi | W6: PS | X6: FS | Y6: TTE | Z6: Dimanche | AA6: PS | AB6: FS | AC6: TTE | AD6: TTE HEBDO | AE6: Lundi | AF6: PS | AG6: FS | AH6: TTE | AI6: Mardi | AJ6: PS | AK6: FS | AL6: TTE | AM6: Mercredi | AN6: PS | AO6: FS | AP6: TTE | AQ6: Jeudi | AR6: PS | AS6: FS | AT6: TTE | AU6: Vendredi | AV6: PS | AW6: FS | AX6: TTE | AY6: Samedi | AZ6: PS | BA6: FS | BB6: TTE | BC6: Dimanche | BD6: PS | BE6: FS | BF6: TTE | BG6: TTE HEBDO | BH6: Lundi | BI6: PS | BJ6: FS | BK6: TTE | BL6: Mardi | BM6: PS | BN6: FS | BO6: TTE | BP6: Mercredi | BQ6: PS | BR6: FS | BS6: TTE | BT6: Jeudi | BU6: PS | BV6: FS | BW6: TTE | BX6: Vendredi | BY6: PS | BZ6: FS | CA6: TTE | CB6: Samedi | CC6: PS | CD6: FS | CE6: TTE | CF6: Dimanche | CG6: PS | CH6: FS | CI6: TTE | CJ6: TTE HEBDO | CK6: Lundi | CL6: PS | CM6: FS | CN6: TTE | CO6: Mardi | CP6: PS | CQ6: FS | CR6: TTE | CS6: Mercredi | CT6: PS | CU6: FS | CV6: TTE | CW6: Jeudi | CX6: PS | CY6: FS | CZ6: TTE | DA6: Vendredi | DB6: PS | DC6: FS | DD6: TTE | DE6: Samedi | DF6: PS | DG6: FS | DH6: TTE | DI6: Dimanche | DJ6: PS | DK6: FS | DL6: TTE | DM6: TTE HEBDO | DN6: Lundi | DO6: PS | DP6: FS | DQ6: TTE | DR6: Mardi | DS6: PS | DT6: FS | DU6: TTE | DV6: Mercredi | DW6: PS | DX6: FS | DY6: TTE | DZ6: Jeudi | EA6: PS | EB6: FS | EC6: TTE | ED6: Vendredi | EE6: PS | EF6: FS | EG6: TTE | EH6: Samedi | EI6: PS | EJ6: FS | EK6: TTE | EL6: Dimanche | EM6: PS | EN6: FS | EO6: TTE | EP6: TTE HEBDO | EQ6: Lundi | ER6: PS | ES6: FS | ET6: TTE | EU6: Mardi | EV6: PS | EW6: FS | EX6: TTE | EY6: Mercredi | EZ6: PS | FA6: FS | FB6: TTE | FC6: Jeudi | FD6: PS | FE6: FS | FF6: TTE | FG6: Vendredi | FH6: PS | FI6: FS | FJ6: TTE | FK6: Samedi | FL6: PS | FM6: FS | FN6: TTE | FO6: Dimanche | FP6: PS | FQ6: FS | FR6: TTE | FS6: TTE HEBDO
A7: Capitaine 1 | B7: Congés | C7: - | D7: - | E7: 00:00 | F7: Congés | G7: - | H7: - | I7: 00:00 | J7: Congés | K7: - | L7: - | M7: 00:00 | N7: Congés | O7: - | P7: - | Q7: 00:00 | R7: Congés | S7: - | T7: - | U7: 00:00 | V7: Congés | W7: - | X7: - | Y7: 00:00 | Z7: R | AA7: - | AB7: - | AC7: 00:00 | AD7: =E7+I7+M7+Q7+U7+Y7+AC7 -> 0 | AE7: Congés | AF7: - | AG7: - | AH7: 00:00 | AI7: Congés | AJ7: - | AK7: - | AL7: 00:00 | AM7: Congés | AN7: - | AO7: - | AP7: 00:00 | AQ7: Congés | AR7: - | AS7: - | AT7: 00:00 | AU7: Congés | AV7: - | AW7: - | AX7: 00:00 | AY7: Congés | AZ7: - | BA7: - | BB7: 00:00 | BC7: R | BD7: - | BE7: - | BF7: 00:00 | BG7: =AH7+AL7+AP7+AT7+AX7+BB7+BF7 -> 0 | BH7: Dispo-AM | BI7: =VLOOKUP(BH7,'PS-FS'!$D$2:$F$56,2,FALSE) -> 0.20833333 | BJ7: =VLOOKUP(BH7,'PS-FS'!$D$2:$F$56,3,FALSE) -> 0.5 | BK7: =IFERROR(VLOOKUP(BH7,'PS-FS'!$D$1:$H$56,5,FALSE),"00:00") -> 0.29166667 | BL7: PdB-AM | BM7: =VLOOKUP(BL7,'PS-FS'!$D$2:$F$56,2,FALSE) -> 0.21180556 | BN7: =VLOOKUP(BL7,'PS-FS'!$D$2:$F$56,3,FALSE) -> 0.42013889 | BO7: =IFERROR(VLOOKUP(BL7,'PS-FS'!$D$1:$H$56,5,FALSE),"00:00") -> 0.20833333 | BP7: PdB-Jour | BQ7: =VLOOKUP(BP7,'PS-FS'!$D$2:$F$56,2,FALSE) -> 0.42708333 | BR7: =VLOOKUP(BP7,'PS-FS'!$D$2:$F$56,3,FALSE) -> 0.65625 | BS7: =IFERROR(VLOOKUP(BP7,'PS-FS'!$D$1:$H$56,5,FALSE),"00:00") -> 0.22916667 | BT7: PdB-AM | BU7: =VLOOKUP(BT7,'PS-FS'!$D$2:$F$56,2,FALSE) -> 0.21180556 | BV7: =VLOOKUP(BT7,'PS-FS'!$D$2:$F$56,3,FALSE) -> 0.42013889 | BW7: =IFERROR(VLOOKUP(BT7,'PS-FS'!$D$1:$H$56,5,FALSE),"00:00") -> 0.20833333 | BX7: R | BY7: =VLOOKUP(BX7,'PS-FS'!$D$2:$F$56,2,FALSE) -> - | BZ7: =VLOOKUP(BX7,'PS-FS'!$D$2:$F$56,3,FALSE) -> - | CA7: =IFERROR(VLOOKUP(BX7,'PS-FS'!$D$1:$H$56,5,FALSE),"00:00") -> 0 | CB7: Bourg-AM-Sam | CC7: =VLOOKUP(CB7,'PS-FS'!$D$2:$F$56,2,FALSE) -> 0.27777778 | CD7: =VLOOKUP(CB7,'PS-FS'!$D$2:$F$56,3,FALSE) -> 0.54861111 | CE7: =IFERROR(VLOOKUP(CB7,'PS-FS'!$D$1:$H$56,5,FALSE),"00:00") -> 0.25694444 | CF7: R | CG7: =VLOOKUP(CF7,'PS-FS'!$D$2:$F$56,2,FALSE) -> - | CH7: =VLOOKUP(CF7,'PS-FS'!$D$2:$F$56,3,FALSE) -> - | CI7: =IFERROR(VLOOKUP(CF7,'PS-FS'!$D$1:$H$56,5,FALSE),"00:00") -> 0 | CJ7: =BK7+BO7+BS7+BW7+CA7+CE7+CI7 -> 1.1944444 | CK7: Bourg-PM | CL7: =VLOOKUP(CK7,'PS-FS'!$D$2:$F$56,2,FALSE) -> 0.52777778 | CM7: =VLOOKUP(CK7,'PS-FS'!$D$2:$F$56,3,FALSE) -> 0.83333333 | CN7: =IFERROR(VLOOKUP(CK7,'PS-FS'!$D$1:$H$56,5,FALSE),"00:00") -> 0.29166667 | CO7: Dispo-PM | CP7: =VLOOKUP(CO7,'PS-FS'!$D$2:$F$56,2,FALSE) -> 0.5 | CQ7: =VLOOKUP(CO7,'PS-FS'!$D$2:$F$56,3,FALSE) -> 0.79166667 | CR7: =IFERROR(VLOOKUP(CO7,'PS-FS'!$D$1:$H$56,5,FALSE),"00:00") -> 0.29166667 | CS7: PdB-AM | CT7: =VLOOKUP(CS7,'PS-FS'!$D$2:$F$56,2,FALSE) -> 0.21180556 | CU7: =VLOOKUP(CS7,'PS-FS'!$D$2:$F$56,3,FALSE) -> 0.42013889 | CV7: =IFERROR(VLOOKUP(CS7,'PS-FS'!$D$1:$H$56,5,FALSE),"00:00") -> 0.20833333 | CW7: PdB-Soir | CX7: =VLOOKUP(CW7,'PS-FS'!$D$2:$F$56,2,FALSE) -> 0.69097222 | CY7: =VLOOKUP(CW7,'PS-FS'!$D$2:$F$56,3,FALSE) -> 0.95833333 | CZ7: =IFERROR(VLOOKUP(CW7,'PS-FS'!$D$1:$H$56,5,FALSE),"00:00") -> 0.25347222 | DA7: R | DB7: =VLOOKUP(DA7,'PS-FS'!$D$2:$F$56,2,FALSE) -> - | DC7: =VLOOKUP(DA7,'PS-FS'!$D$2:$F$56,3,FALSE) -> - | DD7: =IFERROR(VLOOKUP(DA7,'PS-FS'!$D$1:$H$56,5,FALSE),"00:00") -> 0 | DE7: AM_AA-AM-Sam | DF7: =VLOOKUP(DE7,'PS-FS'!$D$2:$F$56,2,FALSE) -> 0.22916667 | DG7: =VLOOKUP(DE7,'PS-FS'!$D$2:$F$56,3,FALSE) -> 0.58680556 | DH7: =IFERROR(VLOOKUP(DE7,'PS-FS'!$D$1:$H$56,5,FALSE),"00:00") -> 0.34375 | DI7: R | DJ7: =VLOOKUP(DI7,'PS-FS'!$D$2:$F$56,2,FALSE) -> - | DK7: =VLOOKUP(DI7,'PS-FS'!$D$2:$F$56,3,FALSE) -> - | DL7: 00:00 | DM7: =CN7+CR7+CV7+CZ7+DD7+DH7+DL7 -> 1.3888889 | DN7: PdB-Jour | DO7: =VLOOKUP(DN7,'PS-FS'!$D$2:$F$56,2,FALSE) -> 0.42708333 | DP7: =VLOOKUP(DN7,'PS-FS'!$D$2:$F$56,3,FALSE) -> 0.65625 | DQ7: =IFERROR(VLOOKUP(DN7,'PS-FS'!$D$1:$H$56,5,FALSE),"00:00") -> 0.22916667 | DR7: Dispo-AM | DS7: =VLOOKUP(DR7,'PS-FS'!$D$2:$F$56,2,FALSE) -> 0.20833333 | DT7: =VLOOKUP(DR7,'PS-FS'!$D$2:$F$56,3,FALSE) -> 0.5 | DU7: =IFERROR(VLOOKUP(DR7,'PS-FS'!$D$1:$H$56,5,FALSE),"00:00") -> 0.29166667 | DV7: R | DW7: =VLOOKUP(DV7,'PS-FS'!$D$2:$F$56,2,FALSE) -> - | DX7: =VLOOKUP(DV7,'PS-FS'!$D$2:$F$56,3,FALSE) -> - | DY7: =IFERROR(VLOOKUP(DV7,'PS-FS'!$D$1:$H$56,5,FALSE),"00:00") -> 0 | DZ7: Dispo-AM | EA7: =VLOOKUP(DZ7,'PS-FS'!$D$2:$F$56,2,FALSE) -> 0.20833333 | EB7: =VLOOKUP(DZ7,'PS-FS'!$D$2:$F$56,3,FALSE) -> 0.5 | EC7: =IFERROR(VLOOKUP(DZ7,'PS-FS'!$D$1:$H$56,5,FALSE),"00:00") -> 0.29166667 | ED7: AA_AM-AM | EE7: =VLOOKUP(ED7,'PS-FS'!$D$2:$F$56,2,FALSE) -> 0.20833333 | EF7: =VLOOKUP(ED7,'PS-FS'!$D$2:$F$56,3,FALSE) -> 0.53472222 | EG7: =IFERROR(VLOOKUP(ED7,'PS-FS'!$D$1:$H$56,5,FALSE),"00:00") -> 0.3125 | EH7: R | EI7: =VLOOKUP(EH7,'PS-FS'!$D$2:$F$56,2,FALSE) -> - | EJ7: =VLOOKUP(EH7,'PS-FS'!$D$2:$F$56,3,FALSE) -> - | EK7: =IFERROR(VLOOKUP(EH7,'PS-FS'!$D$1:$H$56,5,FALSE),"00:00") -> 0 | EL7: Bourg/PdB-D&F-PM | EM7: #N/A | EN7: #N/A | EO7: 00:00 | EP7: =DQ7+DU7+DY7+EC7+EG7+EK7+EO7 -> 1.125 | EQ7: AA_AM-PM | ER7: =VLOOKUP(EQ7,'PS-FS'!$D$2:$F$56,2,FALSE) -> 0.55902778 | ES7: =VLOOKUP(EQ7,'PS-FS'!$D$2:$F$56,3,FALSE) -> 0.83680556 | ET7: =IFERROR(VLOOKUP(EQ7,'PS-FS'!$D$1:$H$56,5,FALSE),"00:00") -> 0.26388889 | EU7: Dispo-PM | EV7: 0.5 | EW7: 0.79166667 | EX7: 0.29166667 | EY7: Dispo-PM | EZ7: =VLOOKUP(EY7,'PS-FS'!$D$2:$F$56,2,FALSE) -> 0.5 | FA7: =VLOOKUP(EY7,'PS-FS'!$D$2:$F$56,3,FALSE) -> 0.79166667 | FB7: 0.29166667 | FC7: AA_AM-PM | FD7: =VLOOKUP(FC7,'PS-FS'!$D$2:$F$56,2,FALSE) -> 0.55902778 | FE7: =VLOOKUP(FC7,'PS-FS'!$D$2:$F$56,3,FALSE) -> 0.83680556 | FF7: =IFERROR(VLOOKUP(FC7,'PS-FS'!$D$1:$H$56,5,FALSE),"00:00") -> 0.26388889 | FG7: R | FH7: =VLOOKUP(FG7,'PS-FS'!$D$2:$F$56,2,FALSE) -> - | FI7: =VLOOKUP(FG7,'PS-FS'!$D$2:$F$56,3,FALSE) -> - | FJ7: 00:00 | FK7: R | FL7: =VLOOKUP(FK7,'PS-FS'!$D$2:$F$56,2,FALSE) -> - | FM7: =VLOOKUP(FK7,'PS-FS'!$D$2:$F$56,3,FALSE) -> - | FN7: 00:00 | FO7: R | FP7: =VLOOKUP(FO7,'PS-FS'!$D$2:$F$56,2,FALSE) -> - | FQ7: =VLOOKUP(FO7,'PS-FS'!$D$2:$F$56,3,FALSE) -> - | FR7: 00:00 | FS7: =ET7+EX7+FB7+FF7+FJ7+FN7+FR7 -> 1.1111111
A8: Capitaine 2 | B8: Congés | C8: - | D8: - | E8: 00:00 | F8: Congés | G8: - | H8: - | I8: 00:00 | J8: Congés | K8: - | L8: - | M8: 00:00 | N8: Congés | O8: - | P8: - | Q8: 00:00 | R8: Congés | S8: - | T8: - | U8: 00:00 | V8: Congés | W8: - | X8: - | Y8: 00:00 | Z8: R | AA8: - | AB8: - | AC8: 00:00 | AD8: =E8+I8+M8+Q8+U8+Y8+AC8 -> 0 | AE8: Congés | AF8: - | AG8: - | AH8: 00:00 | AI8: Congés | AJ8: - | AK8: - | AL8: 00:00 | AM8: Congés | AN8: - | AO8: - | AP8: 00:00 | AQ8: Congés | AR8: - | AS8: - | AT8: 00:00 | AU8: Congés | AV8: - | AW8: - | AX8: 00:00 | AY8: Congés | AZ8: - | BA8: - | BB8: 00:00 | BC8: R | BD8: - | BE8: - | BF8: 00:00 | BG8: =AH8+AL8+AP8+AT8+AX8+BB8+BF8 -> 0 | BH8: Dispo-PM | BI8: =VLOOKUP(BH8,'PS-FS'!$D$2:$F$56,2,FALSE) -> 0.5 | BJ8: =VLOOKUP(BH8,'PS-FS'!$D$2:$F$56,3,FALSE) -> 0.79166667 | BK8: =IFERROR(VLOOKUP(BH8,'PS-FS'!$D$1:$H$56,5,FALSE),"00:00") -> 0.29166667 | BL8: PdB-Soir | BM8: =VLOOKUP(BL8,'PS-FS'!$D$2:$F$56,2,FALSE) -> 0.69097222 | BN8: =VLOOKUP(BL8,'PS-FS'!$D$2:$F$56,3,FALSE) -> 0.95833333 | BO8: =IFERROR(VLOOKUP(BL8,'PS-FS'!$D$1:$H$56,5,FALSE),"00:00") -> 0.25347222 | BP8: PdB-Soir | BQ8: =VLOOKUP(BP8,'PS-FS'!$D$2:$F$56,2,FALSE) -> 0.69097222 | BR8: =VLOOKUP(BP8,'PS-FS'!$D$2:$F$56,3,FALSE) -> 0.95833333 | BS8: =IFERROR(VLOOKUP(BP8,'PS-FS'!$D$1:$H$56,5,FALSE),"00:00") -> 0.25347222 | BT8: PdB-Soir | BU8: =VLOOKUP(BT8,'PS-FS'!$D$2:$F$56,2,FALSE) -> 0.69097222 | BV8: =VLOOKUP(BT8,'PS-FS'!$D$2:$F$56,3,FALSE) -> 0.95833333 | BW8: =IFERROR(VLOOKUP(BT8,'PS-FS'!$D$1:$H$56,5,FALSE),"00:00") -> 0.25347222 | BX8: R | BY8: =VLOOKUP(BX8,'PS-FS'!$D$2:$F$56,2,FALSE) -> - | BZ8: =VLOOKUP(BX8,'PS-FS'!$D$2:$F$56,3,FALSE) -> - | CA8: =IFERROR(VLOOKUP(BX8,'PS-FS'!$D$1:$H$56,5,FALSE),"00:00") -> 0 | CB8: PdB-PM-Soir-Sam | CC8: =VLOOKUP(CB8,'PS-FS'!$D$2:$F$56,2,FALSE) -> 0.70138889 | CD8: =VLOOKUP(CB8,'PS-FS'!$D$2:$F$56,3,FALSE) -> 0.95833333 | CE8: =IFERROR(VLOOKUP(CB8,'PS-FS'!$D$1:$H$56,5,FALSE),"00:00") -> 0.25694444 | CF8: R | CG8: =VLOOKUP(CF8,'PS-FS'!$D$2:$F$56,2,FALSE) -> - | CH8: =VLOOKUP(CF8,'PS-FS'!$D$2:$F$56,3,FALSE) -> - | CI8: =IFERROR(VLOOKUP(CF8,'PS-FS'!$D$1:$H$56,5,FALSE),"00:00") -> 0 | CJ8: =BK8+BO8+BS8+BW8+CA8+CE8+CI8 -> 1.3090278 | CK8: Dispo-AM | CL8: =VLOOKUP(CK8,'PS-FS'!$D$2:$F$56,2,FALSE) -> 0.20833333 | CM8: =VLOOKUP(CK8,'PS-FS'!$D$2:$F$56,3,FALSE) -> 0.5 | CN8: =IFERROR(VLOOKUP(CK8,'PS-FS'!$D$1:$H$56,5,FALSE),"00:00") -> 0.29166667 | CO8: PdB-AM | CP8: =VLOOKUP(CO8,'PS-FS'!$D$2:$F$56,2,FALSE) -> 0.21180556 | CQ8: =VLOOKUP(CO8,'PS-FS'!$D$2:$F$56,3,FALSE) -> 0.42013889 | CR8: =IFERROR(VLOOKUP(CO8,'PS-FS'!$D$1:$H$56,5,FALSE),"00:00") -> 0.20833333 | CS8: PdB-Jour | CT8: =VLOOKUP(CS8,'PS-FS'!$D$2:$F$56,2,FALSE) -> 0.42708333 | CU8: =VLOOKUP(CS8,'PS-FS'!$D$2:$F$56,3,FALSE) -> 0.65625 | CV8: =IFERROR(VLOOKUP(CS8,'PS-FS'!$D$1:$H$56,5,FALSE),"00:00") -> 0.22916667 | CW8: PdB-AM | CX8: =VLOOKUP(CW8,'PS-FS'!$D$2:$F$56,2,FALSE) -> 0.21180556 | CY8: =VLOOKUP(CW8,'PS-FS'!$D$2:$F$56,3,FALSE) -> 0.42013889 | CZ8: =IFERROR(VLOOKUP(CW8,'PS-FS'!$D$1:$H$56,5,FALSE),"00:00") -> 0.20833333 | DA8: R | DB8: =VLOOKUP(DA8,'PS-FS'!$D$2:$F$56,2,FALSE) -> - | DC8: =VLOOKUP(DA8,'PS-FS'!$D$2:$F$56,3,FALSE) -> - | DD8: =IFERROR(VLOOKUP(DA8,'PS-FS'!$D$1:$H$56,5,FALSE),"00:00") -> 0 | DE8: Bourg-AM-Sam | DF8: =VLOOKUP(DE8,'PS-FS'!$D$2:$F$56,2,FALSE) -> 0.27777778 | DG8: =VLOOKUP(DE8,'PS-FS'!$D$2:$F$56,3,FALSE) -> 0.54861111 | DH8: =IFERROR(VLOOKUP(DE8,'PS-FS'!$D$1:$H$56,5,FALSE),"00:00") -> 0.25694444 | DI8: R | DJ8: =VLOOKUP(DI8,'PS-FS'!$D$2:$F$56,2,FALSE) -> - | DK8: =VLOOKUP(DI8,'PS-FS'!$D$2:$F$56,3,FALSE) -> - | DL8: =IFERROR(VLOOKUP(DI8,'PS-FS'!$D$1:$H$56,5,FALSE),"00:00") -> 0 | DM8: =CN8+CR8+CV8+CZ8+DD8+DH8+DL8 -> 1.1944444 | DN8: Bourg-PM | DO8: =VLOOKUP(DN8,'PS-FS'!$D$2:$F$56,2,FALSE) -> 0.52777778 | DP8: =VLOOKUP(DN8,'PS-FS'!$D$2:$F$56,3,FALSE) -> 0.83333333 | DQ8: =IFERROR(VLOOKUP(DN8,'PS-FS'!$D$1:$H$56,5,FALSE),"00:00") -> 0.29166667 | DR8: Dispo-PM | DS8: =VLOOKUP(DR8,'PS-FS'!$D$2:$F$56,2,FALSE) -> 0.5 | DT8: =VLOOKUP(DR8,'PS-FS'!$D$2:$F$56,3,FALSE) -> 0.79166667 | DU8: =IFERROR(VLOOKUP(DR8,'PS-FS'!$D$1:$H$56,5,FALSE),"00:00") -> 0.29166667 | DV8: PdB-AM | DW8: =VLOOKUP(DV8,'PS-FS'!$D$2:$F$56,2,FALSE) -> 0.21180556 | DX8: =VLOOKUP(DV8,'PS-FS'!$D$2:$F$56,3,FALSE) -> 0.42013889 | DY8: =IFERROR(VLOOKUP(DV8,'PS-FS'!$D$1:$H$56,5,FALSE),"00:00") -> 0.20833333 | DZ8: PdB-Soir | EA8: =VLOOKUP(DZ8,'PS-FS'!$D$2:$F$56,2,FALSE) -> 0.69097222 | EB8: =VLOOKUP(DZ8,'PS-FS'!$D$2:$F$56,3,FALSE) -> 0.95833333 | EC8: =IFERROR(VLOOKUP(DZ8,'PS-FS'!$D$1:$H$56,5,FALSE),"00:00") -> 0.25347222 | ED8: R | EE8: =VLOOKUP(ED8,'PS-FS'!$D$2:$F$56,2,FALSE) -> - | EF8: =VLOOKUP(ED8,'PS-FS'!$D$2:$F$56,3,FALSE) -> - | EG8: =IFERROR(VLOOKUP(ED8,'PS-FS'!$D$1:$H$56,5,FALSE),"00:00") -> 0 | EH8: AM_AA-AM-Sam | EI8: =VLOOKUP(EH8,'PS-FS'!$D$2:$F$56,2,FALSE) -> 0.22916667 | EJ8: =VLOOKUP(EH8,'PS-FS'!$D$2:$F$56,3,FALSE) -> 0.58680556 | EK8: =IFERROR(VLOOKUP(EH8,'PS-FS'!$D$1:$H$56,5,FALSE),"00:00") -> 0.34375 | EL8: R | EM8: - | EN8: - | EO8: 00:00 | EP8: =DQ8+DU8+DY8+EC8+EG8+EK8+EO8 -> 1.3888889 | EQ8: PdB-Jour | ER8: =VLOOKUP(EQ8,'PS-FS'!$D$2:$F$56,2,FALSE) -> 0.42708333 | ES8: =VLOOKUP(EQ8,'PS-FS'!$D$2:$F$56,3,FALSE) -> 0.65625 | ET8: =IFERROR(VLOOKUP(EQ8,'PS-FS'!$D$1:$H$56,5,FALSE),"00:00") -> 0.22916667 | EU8: Dispo-AM | EV8: =VLOOKUP(EU8,'PS-FS'!$D$2:$F$56,2,FALSE) -> 0.20833333 | EW8: =VLOOKUP(EU8,'PS-FS'!$D$2:$F$56,3,FALSE) -> 0.5 | EX8: =IFERROR(VLOOKUP(EU8,'PS-FS'!$D$1:$H$56,5,FALSE),"00:00") -> 0.29166667 | EY8: R | EZ8: =VLOOKUP(EY8,'PS-FS'!$D$2:$F$56,2,FALSE) -> - | FA8: =VLOOKUP(EY8,'PS-FS'!$D$2:$F$56,3,FALSE) -> - | FB8: =IFERROR(VLOOKUP(EY8,'PS-FS'!$D$1:$H$56,5,FALSE),"00:00") -> 0 | FC8: Dispo-AM | FD8: =VLOOKUP(FC8,'PS-FS'!$D$2:$F$56,2,FALSE) -> 0.20833333 | FE8: =VLOOKUP(FC8,'PS-FS'!$D$2:$F$56,3,FALSE) -> 0.5 | FF8: =IFERROR(VLOOKUP(FC8,'PS-FS'!$D$1:$H$56,5,FALSE),"00:00") -> 0.29166667 | FG8: AA_AM-AM | FH8: =VLOOKUP(FG8,'PS-FS'!$D$2:$F$56,2,FALSE) -> 0.20833333 | FI8: =VLOOKUP(FG8,'PS-FS'!$D$2:$F$56,3,FALSE) -> 0.53472222 | FJ8: =IFERROR(VLOOKUP(FG8,'PS-FS'!$D$1:$H$56,5,FALSE),"00:00") -> 0.3125 | FK8: R | FL8: =VLOOKUP(FK8,'PS-FS'!$D$2:$F$56,2,FALSE) -> - | FM8: =VLOOKUP(FK8,'PS-FS'!$D$2:$F$56,3,FALSE) -> - | FN8: =IFERROR(VLOOKUP(FK8,'PS-FS'!$D$1:$H$56,5,FALSE),"00:00") -> 0 | FO8: Bourg/PdB-D&F-PM | FP8: =VLOOKUP(FO8,'PS-FS'!$D$2:$F$56,2,FALSE) -> 0.55208333 | FQ8: =VLOOKUP(FO8,'PS-FS'!$D$2:$F$56,3,FALSE) -> 0.82638889 | FR8: 00:00 | FS8: =ET8+EX8+FB8+FF8+FJ8+FN8+FR8 -> 1.125
A9: Capitaine 3 | B9: PdB-PM-N1 | C9: 0.49652778 | D9: 0.80902778 | E9: 0.3125 | F9: Dispo-PM | G9: 0.5 | H9: 0.79166667 | I9: 0.29166667 | J9: PdB-PM-N2 | K9: 0.51736111 | L9: 0.81944444 | M9: 0.30208333 | N9: Dispo-PM | O9: 0.5 | P9: 0.79166667 | Q9: 0.29166667 | R9: Dispo-PM | S9: 0.5 | T9: 0.79166667 | U9: 0.29166667 | V9: R | W9: - | X9: - | Y9: 00:00 | Z9: R | AA9: - | AB9: - | AC9: 00:00 | AD9: =E9+I9+M9+Q9+U9+Y9+AC9 -> 1.4895833 | AE9: PdB-AM-N2 | AF9: 0.21527778 | AG9: 0.53125 | AH9: 0.31597222 | AI9: PdB-AM-N2 | AJ9: 0.21527778 | AK9: 0.53125 | AL9: 0.31597222 | AM9: R | AN9: - | AO9: - | AP9: 00:00 | AQ9: PdB-AM-N2 | AR9: 0.21527778 | AS9: 0.53125 | AT9: 0.31597222 | AU9: R | AV9: - | AW9: - | AX9: 00:00 | AY9: R | AZ9: - | BA9: - | BB9: 00:00 | BC9: PdB-D&F-AM | BD9: 0.26041667 | BE9: 0.53125 | BF9: 0.27083333 | BG9: =AH9+AL9+AP9+AT9+AX9+BB9+BF9 -> 1.21875 | BH9: PdB-AM | BI9: =VLOOKUP(BH9,'PS-FS'!$D$2:$F$56,2,FALSE) -> 0.21180556 | BJ9: =VLOOKUP(BH9,'PS-FS'!$D$2:$F$56,3,FALSE) -> 0.42013889 | BK9: =IFERROR(VLOOKUP(BH9,'PS-FS'!$D$1:$H$56,5,FALSE),"00:00") -> 0.20833333 | BL9: Dispo-AM | BM9: =VLOOKUP(BL9,'PS-FS'!$D$2:$F$56,2,FALSE) -> 0.20833333 | BN9: =VLOOKUP(BL9,'PS-FS'!$D$2:$F$56,3,FALSE) -> 0.5 | BO9: =IFERROR(VLOOKUP(BL9,'PS-FS'!$D$1:$H$56,5,FALSE),"00:00") -> 0.29166667 | BP9: R | BQ9: =VLOOKUP(BP9,'PS-FS'!$D$2:$F$56,2,FALSE) -> - | BR9: =VLOOKUP(BP9,'PS-FS'!$D$2:$F$56,3,FALSE) -> - | BS9: =IFERROR(VLOOKUP(BP9,'PS-FS'!$D$1:$H$56,5,FALSE),"00:00") -> 0 | BT9: Dispo-AM | BU9: =VLOOKUP(BT9,'PS-FS'!$D$2:$F$56,2,FALSE) -> 0.20833333 | BV9: =VLOOKUP(BT9,'PS-FS'!$D$2:$F$56,3,FALSE) -> 0.5 | BW9: =IFERROR(VLOOKUP(BT9,'PS-FS'!$D$1:$H$56,5,FALSE),"00:00") -> 0.29166667 | BX9: PdB-AM | BY9: =VLOOKUP(BX9,'PS-FS'!$D$2:$F$56,2,FALSE) -> 0.21180556 | BZ9: =VLOOKUP(BX9,'PS-FS'!$D$2:$F$56,3,FALSE) -> 0.42013889 | CA9: =IFERROR(VLOOKUP(BX9,'PS-FS'!$D$1:$H$56,5,FALSE),"00:00") -> 0.20833333 | CB9: R | CC9: =VLOOKUP(CB9,'PS-FS'!$D$2:$F$56,2,FALSE) -> - | CD9: =VLOOKUP(CB9,'PS-FS'!$D$2:$F$56,3,FALSE) -> - | CE9: =IFERROR(VLOOKUP(CB9,'PS-FS'!$D$1:$H$56,5,FALSE),"00:00") -> 0 | CF9: R | CG9: =VLOOKUP(CF9,'PS-FS'!$D$2:$F$56,2,FALSE) -> - | CH9: =VLOOKUP(CF9,'PS-FS'!$D$2:$F$56,3,FALSE) -> - | CI9: =IFERROR(VLOOKUP(CF9,'PS-FS'!$D$1:$H$56,5,FALSE),"00:00") -> 0 | CJ9: =BK9+BO9+BS9+BW9+CA9+CE9+CI9 -> 1 | CK9: Congés | CL9: =VLOOKUP(CK9,'PS-FS'!$D$2:$F$56,2,FALSE) -> - | CM9: =VLOOKUP(CK9,'PS-FS'!$D$2:$F$56,3,FALSE) -> - | CN9: 00:00 | CO9: Congés | CP9: - | CQ9: - | CR9: 00:00 | CS9: Congés | CT9: =VLOOKUP(CS9,'PS-FS'!$D$2:$F$56,2,FALSE) -> - | CU9: =VLOOKUP(CS9,'PS-FS'!$D$2:$F$56,3,FALSE) -> - | CV9: 00:00 | CW9: Congés | CX9: =VLOOKUP(CW9,'PS-FS'!$D$2:$F$56,2,FALSE) -> - | CY9: =VLOOKUP(CW9,'PS-FS'!$D$2:$F$56,3,FALSE) -> - | CZ9: 00:00 | DA9: Congés | DB9: =VLOOKUP(DA9,'PS-FS'!$D$2:$F$56,2,FALSE) -> - | DC9: =VLOOKUP(DA9,'PS-FS'!$D$2:$F$56,3,FALSE) -> - | DD9: 00:00 | DE9: Congés | DF9: =VLOOKUP(DE9,'PS-FS'!$D$2:$F$56,2,FALSE) -> - | DG9: =VLOOKUP(DE9,'PS-FS'!$D$2:$F$56,3,FALSE) -> - | DH9: 00:00 | DI9: R | DJ9: =VLOOKUP(DI9,'PS-FS'!$D$2:$F$56,2,FALSE) -> - | DK9: =VLOOKUP(DI9,'PS-FS'!$D$2:$F$56,3,FALSE) -> - | DL9: 00:00 | DM9: =CN9+CR9+CV9+CZ9+DD9+DH9+DL9 -> 0 | DN9: Congés | DO9: =VLOOKUP(DN9,'PS-FS'!$D$2:$F$56,2,FALSE) -> - | DP9: =VLOOKUP(DN9,'PS-FS'!$D$2:$F$56,3,FALSE) -> - | DQ9: 00:00 | DR9: Congés | DS9: =VLOOKUP(DR9,'PS-FS'!$D$2:$F$56,2,FALSE) -> - | DT9: =VLOOKUP(DR9,'PS-FS'!$D$2:$F$56,3,FALSE) -> - | DU9: 00:00 | DV9: Congés | DW9: =VLOOKUP(DV9,'PS-FS'!$D$2:$F$56,2,FALSE) -> - | DX9: =VLOOKUP(DV9,'PS-FS'!$D$2:$F$56,3,FALSE) -> - | DY9: 00:00 | DZ9: Congés | EA9: =VLOOKUP(DZ9,'PS-FS'!$D$2:$F$56,2,FALSE) -> - | EB9: =VLOOKUP(DZ9,'PS-FS'!$D$2:$F$56,3,FALSE) -> - | EC9: 00:00 | ED9: Congés | EE9: =VLOOKUP(ED9,'PS-FS'!$D$2:$F$56,2,FALSE) -> - | EF9: =VLOOKUP(ED9,'PS-FS'!$D$2:$F$56,3,FALSE) -> - | EG9: 00:00 | EH9: Congés | EI9: =VLOOKUP(EH9,'PS-FS'!$D$2:$F$56,2,FALSE) -> - | EJ9: =VLOOKUP(EH9,'PS-FS'!$D$2:$F$56,3,FALSE) -> - | EK9: 00:00 | EL9: R | EM9: - | EN9: - | EO9: 00:00 | EP9: =DQ9+DU9+DY9+EC9+EG9+EK9+EO9 -> 0 | EQ9: Bourg-PM | ER9: =VLOOKUP(EQ9,'PS-FS'!$D$2:$F$56,2,FALSE) -> 0.52777778 | ES9: =VLOOKUP(EQ9,'PS-FS'!$D$2:$F$56,3,FALSE) -> 0.83333333 | ET9: =IFERROR(VLOOKUP(EQ9,'PS-FS'!$D$1:$H$56,5,FALSE),"00:00") -> 0.29166667 | EU9: Dispo-PM | EV9: =VLOOKUP(EU9,'PS-FS'!$D$2:$F$56,2,FALSE) -> 0.5 | EW9: =VLOOKUP(EU9,'PS-FS'!$D$2:$F$56,3,FALSE) -> 0.79166667 | EX9: =IFERROR(VLOOKUP(EU9,'PS-FS'!$D$1:$H$56,5,FALSE),"00:00") -> 0.29166667 | EY9: PdB-AM | EZ9: =VLOOKUP(EY9,'PS-FS'!$D$2:$F$56,2,FALSE) -> 0.21180556 | FA9: =VLOOKUP(EY9,'PS-FS'!$D$2:$F$56,3,FALSE) -> 0.42013889 | FB9: =IFERROR(VLOOKUP(EY9,'PS-FS'!$D$1:$H$56,5,FALSE),"00:00") -> 0.20833333 | FC9: PdB-Soir | FD9: =VLOOKUP(FC9,'PS-FS'!$D$2:$F$56,2,FALSE) -> 0.69097222 | FE9: =VLOOKUP(FC9,'PS-FS'!$D$2:$F$56,3,FALSE) -> 0.95833333 | FF9: =IFERROR(VLOOKUP(FC9,'PS-FS'!$D$1:$H$56,5,FALSE),"00:00") -> 0.25347222 | FG9: R | FH9: =VLOOKUP(FG9,'PS-FS'!$D$2:$F$56,2,FALSE) -> - | FI9: =VLOOKUP(FG9,'PS-FS'!$D$2:$F$56,3,FALSE) -> - | FJ9: =IFERROR(VLOOKUP(FG9,'PS-FS'!$D$1:$H$56,5,FALSE),"00:00") -> 0 | FK9: AM_AA-AM-Sam | FL9: =VLOOKUP(FK9,'PS-FS'!$D$2:$F$56,2,FALSE) -> 0.22916667 | FM9: =VLOOKUP(FK9,'PS-FS'!$D$2:$F$56,3,FALSE) -> 0.58680556 | FN9: =IFERROR(VLOOKUP(FK9,'PS-FS'!$D$1:$H$56,5,FALSE),"00:00") -> 0.34375 | FO9: R | FP9: =VLOOKUP(FO9,'PS-FS'!$D$2:$F$56,2,FALSE) -> - | FQ9: =VLOOKUP(FO9,'PS-FS'!$D$2:$F$56,3,FALSE) -> - | FR9: 00:00 | FS9: =ET9+EX9+FB9+FF9+FJ9+FN9+FR9 -> 1.3888889
A10: Capitaine 4 | B10: Congés | C10: - | D10: - | E10: 00:00 | F10: Congés | G10: - | H10: - | I10: 00:00 | J10: Congés | K10: - | L10: - | M10: 00:00 | N10: Congés | O10: - | P10: - | Q10: 00:00 | R10: Congés | S10: - | T10: - | U10: 00:00 | V10: Congés | W10: - | X10: - | Y10: 00:00 | Z10: R | AA10: - | AB10: - | AC10: 00:00 | AD10: =E10+I10+M10+Q10+U10+Y10+AC10 -> 0 | AE10: Congés | AF10: - | AG10: - | AH10: 00:00 | AI10: Congés | AJ10: - | AK10: - | AL10: 00:00 | AM10: Congés | AN10: - | AO10: - | AP10: 00:00 | AQ10: Congés | AR10: - | AS10: - | AT10: 00:00 | AU10: Congés | AV10: - | AW10: - | AX10: 00:00 | AY10: Congés | AZ10: - | BA10: - | BB10: 00:00 | BC10: R | BD10: - | BE10: - | BF10: 00:00 | BG10: =AH10+AL10+AP10+AT10+AX10+BB10+BF10 -> 0 | BH10: Dispo-AM | BI10: =VLOOKUP(BH10,'PS-FS'!$D$2:$F$56,2,FALSE) -> 0.20833333 | BJ10: =VLOOKUP(BH10,'PS-FS'!$D$2:$F$56,3,FALSE) -> 0.5 | BK10: =IFERROR(VLOOKUP(BH10,'PS-FS'!$D$1:$H$56,5,FALSE),"00:00") -> 0.29166667 | BL10: AA_AM-AM | BM10: =VLOOKUP(BL10,'PS-FS'!$D$2:$F$56,2,FALSE) -> 0.20833333 | BN10: =VLOOKUP(BL10,'PS-FS'!$D$2:$F$56,3,FALSE) -> 0.53472222 | BO10: =IFERROR(VLOOKUP(BL10,'PS-FS'!$D$1:$H$56,5,FALSE),"00:00") -> 0.3125 | BP10: Bourg-AM | BQ10: =VLOOKUP(BP10,'PS-FS'!$D$2:$F$56,2,FALSE) -> 0.20486111 | BR10: =VLOOKUP(BP10,'PS-FS'!$D$2:$F$56,3,FALSE) -> 0.50694444 | BS10: =IFERROR(VLOOKUP(BP10,'PS-FS'!$D$1:$H$56,5,FALSE),"00:00") -> 0.28819444 | BT10: Dispo-AM | BU10: =VLOOKUP(BT10,'PS-FS'!$D$2:$F$56,2,FALSE) -> 0.20833333 | BV10: =VLOOKUP(BT10,'PS-FS'!$D$2:$F$56,3,FALSE) -> 0.5 | BW10: =IFERROR(VLOOKUP(BT10,'PS-FS'!$D$1:$H$56,5,FALSE),"00:00") -> 0.29166667 | BX10: R | BY10: =VLOOKUP(BX10,'PS-FS'!$D$2:$F$56,2,FALSE) -> - | BZ10: =VLOOKUP(BX10,'PS-FS'!$D$2:$F$56,3,FALSE) -> - | CA10: =IFERROR(VLOOKUP(BX10,'PS-FS'!$D$1:$H$56,5,FALSE),"00:00") -> 0 | CB10: PdB-AM-Sam | CC10: =VLOOKUP(CB10,'PS-FS'!$D$2:$F$56,2,FALSE) -> 0.23958333 | CD10: =VLOOKUP(CB10,'PS-FS'!$D$2:$F$56,3,FALSE) -> 0.42361111 | CE10: =IFERROR(VLOOKUP(CB10,'PS-FS'!$D$1:$H$56,5,FALSE),"00:00") -> 0.18402778 | CF10: R | CG10: =VLOOKUP(CF10,'PS-FS'!$D$2:$F$56,2,FALSE) -> - | CH10: =VLOOKUP(CF10,'PS-FS'!$D$2:$F$56,3,FALSE) -> - | CI10: =IFERROR(VLOOKUP(CF10,'PS-FS'!$D$1:$H$56,5,FALSE),"00:00") -> 0 | CJ10: =BK10+BO10+BS10+BW10+CA10+CE10+CI10 -> 1.3680556 | CK10: PdB-AM | CL10: =VLOOKUP(CK10,'PS-FS'!$D$2:$F$56,2,FALSE) -> 0.21180556 | CM10: =VLOOKUP(CK10,'PS-FS'!$D$2:$F$56,3,FALSE) -> 0.42013889 | CN10: =IFERROR(VLOOKUP(CK10,'PS-FS'!$D$1:$H$56,5,FALSE),"00:00") -> 0.20833333 | CO10: Dispo-AM | CP10: =VLOOKUP(CO10,'PS-FS'!$D$2:$F$56,2,FALSE) -> 0.20833333 | CQ10: =VLOOKUP(CO10,'PS-FS'!$D$2:$F$56,3,FALSE) -> 0.5 | CR10: =IFERROR(VLOOKUP(CO10,'PS-FS'!$D$1:$H$56,5,FALSE),"00:00") -> 0.29166667 | CS10: R | CT10: =VLOOKUP(CS10,'PS-FS'!$D$2:$F$56,2,FALSE) -> - | CU10: =VLOOKUP(CS10,'PS-FS'!$D$2:$F$56,3,FALSE) -> - | CV10: =IFERROR(VLOOKUP(CS10,'PS-FS'!$D$1:$H$56,5,FALSE),"00:00") -> 0 | CW10: AA_AM-AM | CX10: =VLOOKUP(CW10,'PS-FS'!$D$2:$F$56,2,FALSE) -> 0.20833333 | CY10: =VLOOKUP(CW10,'PS-FS'!$D$2:$F$56,3,FALSE) -> 0.53472222 | CZ10: =IFERROR(VLOOKUP(CW10,'PS-FS'!$D$1:$H$56,5,FALSE),"00:00") -> 0.3125 | DA10: PdB-AM | DB10: =VLOOKUP(DA10,'PS-FS'!$D$2:$F$56,2,FALSE) -> 0.21180556 | DC10: =VLOOKUP(DA10,'PS-FS'!$D$2:$F$56,3,FALSE) -> 0.42013889 | DD10: =IFERROR(VLOOKUP(DA10,'PS-FS'!$D$1:$H$56,5,FALSE),"00:00") -> 0.20833333 | DE10: R | DF10: =VLOOKUP(DE10,'PS-FS'!$D$2:$F$56,2,FALSE) -> - | DG10: =VLOOKUP(DE10,'PS-FS'!$D$2:$F$56,3,FALSE) -> - | DH10: =IFERROR(VLOOKUP(DE10,'PS-FS'!$D$1:$H$56,5,FALSE),"00:00") -> 0 | DI10: R | DJ10: =VLOOKUP(DI10,'PS-FS'!$D$2:$F$56,2,FALSE) -> - | DK10: =VLOOKUP(DI10,'PS-FS'!$D$2:$F$56,3,FALSE) -> - | DL10: 00:00 | DM10: =CN10+CR10+CV10+CZ10+DD10+DH10+DL10 -> 1.0208333 | DN10: Dispo-AM | DO10: =VLOOKUP(DN10,'PS-FS'!$D$2:$F$56,2,FALSE) -> 0.20833333 | DP10: =VLOOKUP(DN10,'PS-FS'!$D$2:$F$56,3,FALSE) -> 0.5 | DQ10: =IFERROR(VLOOKUP(DN10,'PS-FS'!$D$1:$H$56,5,FALSE),"00:00") -> 0.29166667 | DR10: PdB-AM | DS10: =VLOOKUP(DR10,'PS-FS'!$D$2:$F$56,2,FALSE) -> 0.21180556 | DT10: =VLOOKUP(DR10,'PS-FS'!$D$2:$F$56,3,FALSE) -> 0.42013889 | DU10: =IFERROR(VLOOKUP(DR10,'PS-FS'!$D$1:$H$56,5,FALSE),"00:00") -> 0.20833333 | DV10: PdB-Jour | DW10: =VLOOKUP(DV10,'PS-FS'!$D$2:$F$56,2,FALSE) -> 0.42708333 | DX10: =VLOOKUP(DV10,'PS-FS'!$D$2:$F$56,3,FALSE) -> 0.65625 | DY10: =IFERROR(VLOOKUP(DV10,'PS-FS'!$D$1:$H$56,5,FALSE),"00:00") -> 0.22916667 | DZ10: PdB-AM | EA10: =VLOOKUP(DZ10,'PS-FS'!$D$2:$F$56,2,FALSE) -> 0.21180556 | EB10: =VLOOKUP(DZ10,'PS-FS'!$D$2:$F$56,3,FALSE) -> 0.42013889 | EC10: =IFERROR(VLOOKUP(DZ10,'PS-FS'!$D$1:$H$56,5,FALSE),"00:00") -> 0.20833333 | ED10: R | EE10: =VLOOKUP(ED10,'PS-FS'!$D$2:$F$56,2,FALSE) -> - | EF10: =VLOOKUP(ED10,'PS-FS'!$D$2:$F$56,3,FALSE) -> - | EG10: =IFERROR(VLOOKUP(ED10,'PS-FS'!$D$1:$H$56,5,FALSE),"00:00") -> 0 | EH10: Bourg-AM-Sam | EI10: =VLOOKUP(EH10,'PS-FS'!$D$2:$F$56,2,FALSE) -> 0.27777778 | EJ10: =VLOOKUP(EH10,'PS-FS'!$D$2:$F$56,3,FALSE) -> 0.54861111 | EK10: =IFERROR(VLOOKUP(EH10,'PS-FS'!$D$1:$H$56,5,FALSE),"00:00") -> 0.25694444 | EL10: R | EM10: - | EN10: - | EO10: 00:00 | EP10: =DQ10+DU10+DY10+EC10+EG10+EK10+EO10 -> 1.1944444 | ER10: =VLOOKUP(EQ10,'PS-FS'!$D$2:$F$56,2,FALSE) -> #N/A | ES10: =VLOOKUP(EQ10,'PS-FS'!$D$2:$F$56,3,FALSE) -> #N/A | ET10: 00:00 | EV10: =VLOOKUP(EU10,'PS-FS'!$D$2:$F$56,2,FALSE) -> #N/A | EW10: =VLOOKUP(EU10,'PS-FS'!$D$2:$F$56,3,FALSE) -> #N/A | EX10: 00:00 | EZ10: =VLOOKUP(EY10,'PS-FS'!$D$2:$F$56,2,FALSE) -> #N/A | FA10: =VLOOKUP(EY10,'PS-FS'!$D$2:$F$56,3,FALSE) -> #N/A | FB10: 00:00 | FD10: =VLOOKUP(FC10,'PS-FS'!$D$2:$F$56,2,FALSE) -> #N/A | FE10: =VLOOKUP(FC10,'PS-FS'!$D$2:$F$56,3,FALSE) -> #N/A | FF10: 00:00 | FH10: =VLOOKUP(FG10,'PS-FS'!$D$2:$F$56,2,FALSE) -> #N/A | FI10: =VLOOKUP(FG10,'PS-FS'!$D$2:$F$56,3,FALSE) -> #N/A | FJ10: 00:00 | FL10: =VLOOKUP(FK10,'PS-FS'!$D$2:$F$56,2,FALSE) -> #N/A | FM10: =VLOOKUP(FK10,'PS-FS'!$D$2:$F$56,3,FALSE) -> #N/A | FN10: 00:00 | FP10: =VLOOKUP(FO10,'PS-FS'!$D$2:$F$56,2,FALSE) -> #N/A | FQ10: =VLOOKUP(FO10,'PS-FS'!$D$2:$F$56,3,FALSE) -> #N/A | FR10: 00:00 | FS10: =ET10+EX10+FB10+FF10+FJ10+FN10+FR10 -> 0
A11: Capitaine 5 | B11: PdB-AM-N1 | C11: 0.20486111 | D11: 0.51041667 | E11: 0.30555556 | F11: Dispo-AM | G11: 0.20833333 | H11: 0.5 | I11: 0.29166667 | J11: R | K11: - | L11: - | M11: 00:00 | N11: PdB-AM-N1 | O11: 0.20486111 | P11: 0.51041667 | Q11: 0.30555556 | R11: PdB-AM-N1 | S11: 0.20486111 | T11: 0.51041667 | U11: 0.30555556 | V11: R | W11: - | X11: - | Y11: 00:00 | Z11: PdB-D&F-AM | AA11: 0.26041667 | AB11: 0.53125 | AC11: 0.27083333 | AD11: =E11+I11+M11+Q11+U11+Y11+AC11 -> 1.4791667 | AE11: R | AF11: - | AG11: - | AH11: 00:00 | AI11: Dispo-AM | AJ11: 0.20833333 | AK11: 0.5 | AL11: 0.29166667 | AM11: PdB-AM-N2 | AN11: 0.21527778 | AO11: 0.53125 | AP11: 0.31597222 | AQ11: PdB-AM-N2 | AR11: 0.21527778 | AS11: 0.53125 | AT11: 0.31597222 | AU11: PdB-AM-N2 | AV11: 0.21527778 | AW11: 0.53125 | AX11: 0.31597222 | AY11: R | AZ11: - | BA11: - | BB11: 00:00 | BC11: R | BD11: - | BE11: - | BF11: 00:00 | BG11: =AH11+AL11+AP11+AT11+AX11+BB11+BF11 -> 1.2395833 | BH11: Bourg-AM | BI11: =VLOOKUP(BH11,'PS-FS'!$D$2:$F$56,2,FALSE) -> 0.20486111 | BJ11: =VLOOKUP(BH11,'PS-FS'!$D$2:$F$56,3,FALSE) -> 0.50694444 | BK11: =IFERROR(VLOOKUP(BH11,'PS-FS'!$D$1:$H$56,5,FALSE),"00:00") -> 0.28819444 | BL11: PdB-Jour | BM11: =VLOOKUP(BL11,'PS-FS'!$D$2:$F$56,2,FALSE) -> 0.42708333 | BN11: =VLOOKUP(BL11,'PS-FS'!$D$2:$F$56,3,FALSE) -> 0.65625 | BO11: =IFERROR(VLOOKUP(BL11,'PS-FS'!$D$1:$H$56,5,FALSE),"00:00") -> 0.22916667 | BP11: AA_AM-AM | BQ11: =VLOOKUP(BP11,'PS-FS'!$D$2:$F$56,2,FALSE) -> 0.20833333 | BR11: =VLOOKUP(BP11,'PS-FS'!$D$2:$F$56,3,FALSE) -> 0.53472222 | BS11: =IFERROR(VLOOKUP(BP11,'PS-FS'!$D$1:$H$56,5,FALSE),"00:00") -> 0.3125 | BT11: PdB-Jour | BU11: =VLOOKUP(BT11,'PS-FS'!$D$2:$F$56,2,FALSE) -> 0.42708333 | BV11: =VLOOKUP(BT11,'PS-FS'!$D$2:$F$56,3,FALSE) -> 0.65625 | BW11: =IFERROR(VLOOKUP(BT11,'PS-FS'!$D$1:$H$56,5,FALSE),"00:00") -> 0.22916667 | BX11: PdB-Jour | BY11: =VLOOKUP(BX11,'PS-FS'!$D$2:$F$56,2,FALSE) -> 0.42708333 | BZ11: =VLOOKUP(BX11,'PS-FS'!$D$2:$F$56,3,FALSE) -> 0.65625 | CA11: =IFERROR(VLOOKUP(BX11,'PS-FS'!$D$1:$H$56,5,FALSE),"00:00") -> 0.22916667 | CB11: PdB-Jour-Sam | CC11: =VLOOKUP(CB11,'PS-FS'!$D$2:$F$56,2,FALSE) -> 0.42708333 | CD11: =VLOOKUP(CB11,'PS-FS'!$D$2:$F$56,3,FALSE) -> 0.6875 | CE11: =IFERROR(VLOOKUP(CB11,'PS-FS'!$D$1:$H$56,5,FALSE),"00:00") -> 0.26041667 | CF11: R | CG11: =VLOOKUP(CF11,'PS-FS'!$D$2:$F$56,2,FALSE) -> - | CH11: =VLOOKUP(CF11,'PS-FS'!$D$2:$F$56,3,FALSE) -> - | CI11: =IFERROR(VLOOKUP(CF11,'PS-FS'!$D$1:$H$56,5,FALSE),"00:00") -> 0 | CJ11: =BK11+BO11+BS11+BW11+CA11+CE11+CI11 -> 1.5486111 | CK11: Dispo-AM | CL11: =VLOOKUP(CK11,'PS-FS'!$D$2:$F$56,2,FALSE) -> 0.20833333 | CM11: =VLOOKUP(CK11,'PS-FS'!$D$2:$F$56,3,FALSE) -> 0.5 | CN11: =IFERROR(VLOOKUP(CK11,'PS-FS'!$D$1:$H$56,5,FALSE),"00:00") -> 0.29166667 | CO11: AA_AM-AM | CP11: =VLOOKUP(CO11,'PS-FS'!$D$2:$F$56,2,FALSE) -> 0.20833333 | CQ11: =VLOOKUP(CO11,'PS-FS'!$D$2:$F$56,3,FALSE) -> 0.53472222 | CR11: =IFERROR(VLOOKUP(CO11,'PS-FS'!$D$1:$H$56,5,FALSE),"00:00") -> 0.3125 | CS11: Bourg-AM | CT11: =VLOOKUP(CS11,'PS-FS'!$D$2:$F$56,2,FALSE) -> 0.20486111 | CU11: =VLOOKUP(CS11,'PS-FS'!$D$2:$F$56,3,FALSE) -> 0.50694444 | CV11: =IFERROR(VLOOKUP(CS11,'PS-FS'!$D$1:$H$56,5,FALSE),"00:00") -> 0.28819444 | CW11: Dispo-AM | CX11: =VLOOKUP(CW11,'PS-FS'!$D$2:$F$56,2,FALSE) -> 0.20833333 | CY11: =VLOOKUP(CW11,'PS-FS'!$D$2:$F$56,3,FALSE) -> 0.5 | CZ11: =IFERROR(VLOOKUP(CW11,'PS-FS'!$D$1:$H$56,5,FALSE),"00:00") -> 0.29166667 | DA11: R | DB11: =VLOOKUP(DA11,'PS-FS'!$D$2:$F$56,2,FALSE) -> - | DC11: =VLOOKUP(DA11,'PS-FS'!$D$2:$F$56,3,FALSE) -> - | DD11: =IFERROR(VLOOKUP(DA11,'PS-FS'!$D$1:$H$56,5,FALSE),"00:00") -> 0 | DE11: PdB-AM-Sam | DF11: =VLOOKUP(DE11,'PS-FS'!$D$2:$F$56,2,FALSE) -> 0.23958333 | DG11: =VLOOKUP(DE11,'PS-FS'!$D$2:$F$56,3,FALSE) -> 0.42361111 | DH11: =IFERROR(VLOOKUP(DE11,'PS-FS'!$D$1:$H$56,5,FALSE),"00:00") -> 0.18402778 | DI11: R | DJ11: =VLOOKUP(DI11,'PS-FS'!$D$2:$F$56,2,FALSE) -> - | DK11: =VLOOKUP(DI11,'PS-FS'!$D$2:$F$56,3,FALSE) -> - | DL11: 00:00 | DM11: =CN11+CR11+CV11+CZ11+DD11+DH11+DL11 -> 1.3680556 | DN11: PdB-AM | DO11: =VLOOKUP(DN11,'PS-FS'!$D$2:$F$56,2,FALSE) -> 0.21180556 | DP11: =VLOOKUP(DN11,'PS-FS'!$D$2:$F$56,3,FALSE) -> 0.42013889 | DQ11: =IFERROR(VLOOKUP(DN11,'PS-FS'!$D$1:$H$56,5,FALSE),"00:00") -> 0.20833333 | DR11: Dispo-AM | DS11: =VLOOKUP(DR11,'PS-FS'!$D$2:$F$56,2,FALSE) -> 0.20833333 | DT11: =VLOOKUP(DR11,'PS-FS'!$D$2:$F$56,3,FALSE) -> 0.5 | DU11: =IFERROR(VLOOKUP(DR11,'PS-FS'!$D$1:$H$56,5,FALSE),"00:00") -> 0.29166667 | DV11: R | DW11: =VLOOKUP(DV11,'PS-FS'!$D$2:$F$56,2,FALSE) -> - | DX11: =VLOOKUP(DV11,'PS-FS'!$D$2:$F$56,3,FALSE) -> - | DY11: =IFERROR(VLOOKUP(DV11,'PS-FS'!$D$1:$H$56,5,FALSE),"00:00") -> 0 | DZ11: AA_AM-AM | EA11: =VLOOKUP(DZ11,'PS-FS'!$D$2:$F$56,2,FALSE) -> 0.20833333 | EB11: =VLOOKUP(DZ11,'PS-FS'!$D$2:$F$56,3,FALSE) -> 0.53472222 | EC11: =IFERROR(VLOOKUP(DZ11,'PS-FS'!$D$1:$H$56,5,FALSE),"00:00") -> 0.3125 | ED11: PdB-AM | EE11: =VLOOKUP(ED11,'PS-FS'!$D$2:$F$56,2,FALSE) -> 0.21180556 | EF11: =VLOOKUP(ED11,'PS-FS'!$D$2:$F$56,3,FALSE) -> 0.42013889 | EG11: =IFERROR(VLOOKUP(ED11,'PS-FS'!$D$1:$H$56,5,FALSE),"00:00") -> 0.20833333 | EH11: R | EI11: =VLOOKUP(EH11,'PS-FS'!$D$2:$F$56,2,FALSE) -> - | EJ11: =VLOOKUP(EH11,'PS-FS'!$D$2:$F$56,3,FALSE) -> - | EK11: =IFERROR(VLOOKUP(EH11,'PS-FS'!$D$1:$H$56,5,FALSE),"00:00") -> 0 | EL11: R | EM11: - | EN11: - | EO11: 00:00 | EP11: =DQ11+DU11+DY11+EC11+EG11+EK11+EO11 -> 1.0208333 | EQ11: Dispo-AM | ER11: =VLOOKUP(EQ11,'PS-FS'!$D$2:$F$56,2,FALSE) -> 0.20833333 | ES11: =VLOOKUP(EQ11,'PS-FS'!$D$2:$F$56,3,FALSE) -> 0.5 | ET11: =IFERROR(VLOOKUP(EQ11,'PS-FS'!$D$1:$H$56,5,FALSE),"00:00") -> 0.29166667 | EU11: PdB-AM | EV11: =VLOOKUP(EU11,'PS-FS'!$D$2:$F$56,2,FALSE) -> 0.21180556 | EW11: =VLOOKUP(EU11,'PS-FS'!$D$2:$F$56,3,FALSE) -> 0.42013889 | EX11: =IFERROR(VLOOKUP(EU11,'PS-FS'!$D$1:$H$56,5,FALSE),"00:00") -> 0.20833333 | EY11: PdB-Jour | EZ11: =VLOOKUP(EY11,'PS-FS'!$D$2:$F$56,2,FALSE) -> 0.42708333 | FA11: =VLOOKUP(EY11,'PS-FS'!$D$2:$F$56,3,FALSE) -> 0.65625 | FB11: =IFERROR(VLOOKUP(EY11,'PS-FS'!$D$1:$H$56,5,FALSE),"00:00") -> 0.22916667 | FC11: PdB-AM | FD11: =VLOOKUP(FC11,'PS-FS'!$D$2:$F$56,2,FALSE) -> 0.21180556 | FE11: =VLOOKUP(FC11,'PS-FS'!$D$2:$F$56,3,FALSE) -> 0.42013889 | FF11: =IFERROR(VLOOKUP(FC11,'PS-FS'!$D$1:$H$56,5,FALSE),"00:00") -> 0.20833333 | FG11: R | FH11: =VLOOKUP(FG11,'PS-FS'!$D$2:$F$56,2,FALSE) -> - | FI11: =VLOOKUP(FG11,'PS-FS'!$D$2:$F$56,3,FALSE) -> - | FJ11: =IFERROR(VLOOKUP(FG11,'PS-FS'!$D$1:$H$56,5,FALSE),"00:00") -> 0 | FK11: Bourg-AM-Sam | FL11: =VLOOKUP(FK11,'PS-FS'!$D$2:$F$56,2,FALSE) -> 0.27777778 | FM11: =VLOOKUP(FK11,'PS-FS'!$D$2:$F$56,3,FALSE) -> 0.54861111 | FN11: =IFERROR(VLOOKUP(FK11,'PS-FS'!$D$1:$H$56,5,FALSE),"00:00") -> 0.25694444 | FO11: R | FP11: =VLOOKUP(FO11,'PS-FS'!$D$2:$F$56,2,FALSE) -> - | FQ11: =VLOOKUP(FO11,'PS-FS'!$D$2:$F$56,3,FALSE) -> - | FR11: 00:00 | FS11: =ET11+EX11+FB11+FF11+FJ11+FN11+FR11 -> 1.1944444
A12: Capitaine 6 | B12: R | C12: - | D12: - | E12: 00:00 | F12: R | G12: - | H12: - | I12: 00:00 | J12: PdB-AM-N1 | K12: 0.20486111 | L12: 0.51041667 | M12: 0.30555556 | N12: Dispo-AM | O12: 0.20833333 | P12: 0.5 | Q12: 0.29166667 | R12: PdB-PM-N2 | S12: 0.51736111 | T12: 0.81944444 | U12: 0.30208333 | V12: R | W12: - | X12: - | Y12: 00:00 | Z12: R | AA12: - | AB12: - | AC12: 00:00 | AD12: =E12+I12+M12+Q12+U12+Y12+AC12 -> 0.89930556 | AE12: Dispo-PM | AF12: 0.5 | AG12: 0.79166667 | AH12: 0.29166667 | AI12: PdB-PM-N2 | AJ12: 0.51736111 | AK12: 0.81944444 | AL12: 0.30208333 | AM12: PdB-PM-N2 | AN12: 0.51736111 | AO12: 0.81944444 | AP12: 0.30208333 | AQ12: R | AR12: - | AS12: - | AT12: 00:00 | AU12: PdB-PM-N2 | AV12: 0.51736111 | AW12: 0.81944444 | AX12: 0.30208333 | AY12: R | AZ12: - | BA12: - | BB12: 00:00 | BC12: PdB-D&F-PM | BD12: 0.49652778 | BE12: 0.80902778 | BF12: 0.3125 | BG12: =AH12+AL12+AP12+AT12+AX12+BB12+BF12 -> 1.5104167 | BH12: AA_AM-AM | BI12: =VLOOKUP(BH12,'PS-FS'!$D$2:$F$56,2,FALSE) -> 0.20833333 | BJ12: =VLOOKUP(BH12,'PS-FS'!$D$2:$F$56,3,FALSE) -> 0.53472222 | BK12: =IFERROR(VLOOKUP(BH12,'PS-FS'!$D$1:$H$56,5,FALSE),"00:00") -> 0.3125 | BL12: Dispo-AM | BM12: =VLOOKUP(BL12,'PS-FS'!$D$2:$F$56,2,FALSE) -> 0.20833333 | BN12: =VLOOKUP(BL12,'PS-FS'!$D$2:$F$56,3,FALSE) -> 0.5 | BO12: =IFERROR(VLOOKUP(BL12,'PS-FS'!$D$1:$H$56,5,FALSE),"00:00") -> 0.29166667 | BP12: R | BQ12: =VLOOKUP(BP12,'PS-FS'!$D$2:$F$56,2,FALSE) -> - | BR12: =VLOOKUP(BP12,'PS-FS'!$D$2:$F$56,3,FALSE) -> - | BS12: =IFERROR(VLOOKUP(BP12,'PS-FS'!$D$1:$H$56,5,FALSE),"00:00") -> 0 | BT12: Dispo-AM | BU12: =VLOOKUP(BT12,'PS-FS'!$D$2:$F$56,2,FALSE) -> 0.20833333 | BV12: =VLOOKUP(BT12,'PS-FS'!$D$2:$F$56,3,FALSE) -> 0.5 | BW12: =IFERROR(VLOOKUP(BT12,'PS-FS'!$D$1:$H$56,5,FALSE),"00:00") -> 0.29166667 | BX12: Bourg-AM | BY12: =VLOOKUP(BX12,'PS-FS'!$D$2:$F$56,2,FALSE) -> 0.20486111 | BZ12: =VLOOKUP(BX12,'PS-FS'!$D$2:$F$56,3,FALSE) -> 0.50694444 | CA12: =IFERROR(VLOOKUP(BX12,'PS-FS'!$D$1:$H$56,5,FALSE),"00:00") -> 0.28819444 | CB12: R | CC12: =VLOOKUP(CB12,'PS-FS'!$D$2:$F$56,2,FALSE) -> - | CD12: =VLOOKUP(CB12,'PS-FS'!$D$2:$F$56,3,FALSE) -> - | CE12: =IFERROR(VLOOKUP(CB12,'PS-FS'!$D$1:$H$56,5,FALSE),"00:00") -> 0 | CF12: R | CG12: =VLOOKUP(CF12,'PS-FS'!$D$2:$F$56,2,FALSE) -> - | CH12: =VLOOKUP(CF12,'PS-FS'!$D$2:$F$56,3,FALSE) -> - | CI12: =IFERROR(VLOOKUP(CF12,'PS-FS'!$D$1:$H$56,5,FALSE),"00:00") -> 0 | CJ12: =BK12+BO12+BS12+BW12+CA12+CE12+CI12 -> 1.1840278 | CK12: Bourg-AM | CL12: =VLOOKUP(CK12,'PS-FS'!$D$2:$F$56,2,FALSE) -> 0.20486111 | CM12: =VLOOKUP(CK12,'PS-FS'!$D$2:$F$56,3,FALSE) -> 0.50694444 | CN12: =IFERROR(VLOOKUP(CK12,'PS-FS'!$D$1:$H$56,5,FALSE),"00:00") -> 0.28819444 | CO12: PdB-Jour | CP12: =VLOOKUP(CO12,'PS-FS'!$D$2:$F$56,2,FALSE) -> 0.42708333 | CQ12: =VLOOKUP(CO12,'PS-FS'!$D$2:$F$56,3,FALSE) -> 0.65625 | CR12: =IFERROR(VLOOKUP(CO12,'PS-FS'!$D$1:$H$56,5,FALSE),"00:00") -> 0.22916667 | CS12: AA_AM-AM | CT12: =VLOOKUP(CS12,'PS-FS'!$D$2:$F$56,2,FALSE) -> 0.20833333 | CU12: =VLOOKUP(CS12,'PS-FS'!$D$2:$F$56,3,FALSE) -> 0.53472222 | CV12: =IFERROR(VLOOKUP(CS12,'PS-FS'!$D$1:$H$56,5,FALSE),"00:00") -> 0.3125 | CW12: PdB-Jour | CX12: =VLOOKUP(CW12,'PS-FS'!$D$2:$F$56,2,FALSE) -> 0.42708333 | CY12: =VLOOKUP(CW12,'PS-FS'!$D$2:$F$56,3,FALSE) -> 0.65625 | CZ12: =IFERROR(VLOOKUP(CW12,'PS-FS'!$D$1:$H$56,5,FALSE),"00:00") -> 0.22916667 | DA12: PdB-Jour | DB12: =VLOOKUP(DA12,'PS-FS'!$D$2:$F$56,2,FALSE) -> 0.42708333 | DC12: =VLOOKUP(DA12,'PS-FS'!$D$2:$F$56,3,FALSE) -> 0.65625 | DD12: =IFERROR(VLOOKUP(DA12,'PS-FS'!$D$1:$H$56,5,FALSE),"00:00") -> 0.22916667 | DE12: PdB-Jour-Sam | DF12: =VLOOKUP(DE12,'PS-FS'!$D$2:$F$56,2,FALSE) -> 0.42708333 | DG12: =VLOOKUP(DE12,'PS-FS'!$D$2:$F$56,3,FALSE) -> 0.6875 | DH12: =IFERROR(VLOOKUP(DE12,'PS-FS'!$D$1:$H$56,5,FALSE),"00:00") -> 0.26041667 | DI12: R | DJ12: =VLOOKUP(DI12,'PS-FS'!$D$2:$F$56,2,FALSE) -> - | DK12: =VLOOKUP(DI12,'PS-FS'!$D$2:$F$56,3,FALSE) -> - | DL12: 00:00 | DM12: =CN12+CR12+CV12+CZ12+DD12+DH12+DL12 -> 1.5486111 | DN12: Dispo-AM | DO12: =VLOOKUP(DN12,'PS-FS'!$D$2:$F$56,2,FALSE) -> 0.20833333 | DP12: =VLOOKUP(DN12,'PS-FS'!$D$2:$F$56,3,FALSE) -> 0.5 | DQ12: =IFERROR(VLOOKUP(DN12,'PS-FS'!$D$1:$H$56,5,FALSE),"00:00") -> 0.29166667 | DR12: AA_AM-AM | DS12: =VLOOKUP(DR12,'PS-FS'!$D$2:$F$56,2,FALSE) -> 0.20833333 | DT12: =VLOOKUP(DR12,'PS-FS'!$D$2:$F$56,3,FALSE) -> 0.53472222 | DU12: =IFERROR(VLOOKUP(DR12,'PS-FS'!$D$1:$H$56,5,FALSE),"00:00") -> 0.3125 | DV12: Bourg-AM | DW12: =VLOOKUP(DV12,'PS-FS'!$D$2:$F$56,2,FALSE) -> 0.20486111 | DX12: =VLOOKUP(DV12,'PS-FS'!$D$2:$F$56,3,FALSE) -> 0.50694444 | DY12: =IFERROR(VLOOKUP(DV12,'PS-FS'!$D$1:$H$56,5,FALSE),"00:00") -> 0.28819444 | DZ12: Dispo-AM | EA12: =VLOOKUP(DZ12,'PS-FS'!$D$2:$F$56,2,FALSE) -> 0.20833333 | EB12: =VLOOKUP(DZ12,'PS-FS'!$D$2:$F$56,3,FALSE) -> 0.5 | EC12: =IFERROR(VLOOKUP(DZ12,'PS-FS'!$D$1:$H$56,5,FALSE),"00:00") -> 0.29166667 | ED12: R | EE12: =VLOOKUP(ED12,'PS-FS'!$D$2:$F$56,2,FALSE) -> - | EF12: =VLOOKUP(ED12,'PS-FS'!$D$2:$F$56,3,FALSE) -> - | EG12: =IFERROR(VLOOKUP(ED12,'PS-FS'!$D$1:$H$56,5,FALSE),"00:00") -> 0 | EH12: PdB-AM-Sam | EI12: =VLOOKUP(EH12,'PS-FS'!$D$2:$F$56,2,FALSE) -> 0.23958333 | EJ12: =VLOOKUP(EH12,'PS-FS'!$D$2:$F$56,3,FALSE) -> 0.42361111 | EK12: =IFERROR(VLOOKUP(EH12,'PS-FS'!$D$1:$H$56,5,FALSE),"00:00") -> 0.18402778 | EL12: R | EM12: - | EN12: - | EO12: 00:00 | EP12: =DQ12+DU12+DY12+EC12+EG12+EK12+EO12 -> 1.3680556 | EQ12: PdB-AM | ER12: =VLOOKUP(EQ12,'PS-FS'!$D$2:$F$56,2,FALSE) -> 0.21180556 | ES12: =VLOOKUP(EQ12,'PS-FS'!$D$2:$F$56,3,FALSE) -> 0.42013889 | ET12: =IFERROR(VLOOKUP(EQ12,'PS-FS'!$D$1:$H$56,5,FALSE),"00:00") -> 0.20833333 | EU12: Dispo-AM | EV12: =VLOOKUP(EU12,'PS-FS'!$D$2:$F$56,2,FALSE) -> 0.20833333 | EW12: =VLOOKUP(EU12,'PS-FS'!$D$2:$F$56,3,FALSE) -> 0.5 | EX12: =IFERROR(VLOOKUP(EU12,'PS-FS'!$D$1:$H$56,5,FALSE),"00:00") -> 0.29166667 | EY12: R | EZ12: =VLOOKUP(EY12,'PS-FS'!$D$2:$F$56,2,FALSE) -> - | FA12: =VLOOKUP(EY12,'PS-FS'!$D$2:$F$56,3,FALSE) -> - | FB12: =IFERROR(VLOOKUP(EY12,'PS-FS'!$D$1:$H$56,5,FALSE),"00:00") -> 0 | FC12: AA_AM-AM | FD12: =VLOOKUP(FC12,'PS-FS'!$D$2:$F$56,2,FALSE) -> 0.20833333 | FE12: =VLOOKUP(FC12,'PS-FS'!$D$2:$F$56,3,FALSE) -> 0.53472222 | FF12: =IFERROR(VLOOKUP(FC12,'PS-FS'!$D$1:$H$56,5,FALSE),"00:00") -> 0.3125 | FG12: PdB-AM | FH12: =VLOOKUP(FG12,'PS-FS'!$D$2:$F$56,2,FALSE) -> 0.21180556 | FI12: =VLOOKUP(FG12,'PS-FS'!$D$2:$F$56,3,FALSE) -> 0.42013889 | FJ12: =IFERROR(VLOOKUP(FG12,'PS-FS'!$D$1:$H$56,5,FALSE),"00:00") -> 0.20833333 | FK12: R | FL12: =VLOOKUP(FK12,'PS-FS'!$D$2:$F$56,2,FALSE) -> - | FM12: =VLOOKUP(FK12,'PS-FS'!$D$2:$F$56,3,FALSE) -> - | FN12: =IFERROR(VLOOKUP(FK12,'PS-FS'!$D$1:$H$56,5,FALSE),"00:00") -> 0 | FO12: R | FP12: =VLOOKUP(FO12,'PS-FS'!$D$2:$F$56,2,FALSE) -> - | FQ12: =VLOOKUP(FO12,'PS-FS'!$D$2:$F$56,3,FALSE) -> - | FR12: 00:00 | FS12: =ET12+EX12+FB12+FF12+FJ12+FN12+FR12 -> 1.0208333
A13: Capitaine 7 | B13: Congés | C13: - | D13: - | E13: 00:00 | F13: Congés | G13: - | H13: - | I13: 00:00 | J13: Congés | K13: - | L13: - | M13: 00:00 | N13: Congés | O13: - | P13: - | Q13: 00:00 | R13: Congés | S13: - | T13: - | U13: 00:00 | V13: Congés | W13: - | X13: - | Y13: 00:00 | Z13: R | AA13: - | AB13: - | AC13: 00:00 | AD13: =E13+I13+M13+Q13+U13+Y13+AC13 -> 0 | AE13: Congés | AF13: - | AG13: - | AH13: 00:00 | AI13: Congés | AJ13: - | AK13: - | AL13: 00:00 | AM13: Congés | AN13: - | AO13: - | AP13: 00:00 | AQ13: Congés | AR13: - | AS13: - | AT13: 00:00 | AU13: Congés | AV13: - | AW13: - | AX13: 00:00 | AY13: Congés | AZ13: - | BA13: - | BB13: 00:00 | BC13: R | BD13: - | BE13: - | BF13: 00:00 | BG13: =AH13+AL13+AP13+AT13+AX13+BB13+BF13 -> 0 | BH13: Dispo-AM | BI13: =VLOOKUP(BH13,'PS-FS'!$D$2:$F$56,2,FALSE) -> 0.20833333 | BJ13: =VLOOKUP(BH13,'PS-FS'!$D$2:$F$56,3,FALSE) -> 0.5 | BK13: =IFERROR(VLOOKUP(BH13,'PS-FS'!$D$1:$H$56,5,FALSE),"00:00") -> 0.29166667 | BL13: Bourg-AM | BM13: =VLOOKUP(BL13,'PS-FS'!$D$2:$F$56,2,FALSE) -> 0.20486111 | BN13: =VLOOKUP(BL13,'PS-FS'!$D$2:$F$56,3,FALSE) -> 0.50694444 | BO13: =IFERROR(VLOOKUP(BL13,'PS-FS'!$D$1:$H$56,5,FALSE),"00:00") -> 0.28819444 | BP13: R | BQ13: =VLOOKUP(BP13,'PS-FS'!$D$2:$F$56,2,FALSE) -> - | BR13: =VLOOKUP(BP13,'PS-FS'!$D$2:$F$56,3,FALSE) -> - | BS13: =IFERROR(VLOOKUP(BP13,'PS-FS'!$D$1:$H$56,5,FALSE),"00:00") -> 0 | BT13: Bourg-AM | BU13: =VLOOKUP(BT13,'PS-FS'!$D$2:$F$56,2,FALSE) -> 0.20486111 | BV13: =VLOOKUP(BT13,'PS-FS'!$D$2:$F$56,3,FALSE) -> 0.50694444 | BW13: =IFERROR(VLOOKUP(BT13,'PS-FS'!$D$1:$H$56,5,FALSE),"00:00") -> 0.28819444 | BX13: Dispo-AM | BY13: =VLOOKUP(BX13,'PS-FS'!$D$2:$F$56,2,FALSE) -> 0.20833333 | BZ13: =VLOOKUP(BX13,'PS-FS'!$D$2:$F$56,3,FALSE) -> 0.5 | CA13: =IFERROR(VLOOKUP(BX13,'PS-FS'!$D$1:$H$56,5,FALSE),"00:00") -> 0.29166667 | CB13: R | CC13: =VLOOKUP(CB13,'PS-FS'!$D$2:$F$56,2,FALSE) -> - | CD13: =VLOOKUP(CB13,'PS-FS'!$D$2:$F$56,3,FALSE) -> - | CE13: =IFERROR(VLOOKUP(CB13,'PS-FS'!$D$1:$H$56,5,FALSE),"00:00") -> 0 | CF13: Bourg/PdB-D&F-AM | CG13: =VLOOKUP(CF13,'PS-FS'!$D$2:$F$56,2,FALSE) -> 0.27777778 | CH13: =VLOOKUP(CF13,'PS-FS'!$D$2:$F$56,3,FALSE) -> 0.54861111 | CI13: =IFERROR(VLOOKUP(CF13,'PS-FS'!$D$1:$H$56,5,FALSE),"00:00") -> 0.25694444 | CJ13: =BK13+BO13+BS13+BW13+CA13+CE13+CI13 -> 1.4166667 | CK13: AA_AM-AM | CL13: =VLOOKUP(CK13,'PS-FS'!$D$2:$F$56,2,FALSE) -> 0.20833333 | CM13: =VLOOKUP(CK13,'PS-FS'!$D$2:$F$56,3,FALSE) -> 0.53472222 | CN13: =IFERROR(VLOOKUP(CK13,'PS-FS'!$D$1:$H$56,5,FALSE),"00:00") -> 0.3125 | CO13: R | CP13: =VLOOKUP(CO13,'PS-FS'!$D$2:$F$56,2,FALSE) -> - | CQ13: =VLOOKUP(CO13,'PS-FS'!$D$2:$F$56,3,FALSE) -> - | CR13: =IFERROR(VLOOKUP(CO13,'PS-FS'!$D$1:$H$56,5,FALSE),"00:00") -> 0 | CS13: R | CT13: =VLOOKUP(CS13,'PS-FS'!$D$2:$F$56,2,FALSE) -> - | CU13: =VLOOKUP(CS13,'PS-FS'!$D$2:$F$56,3,FALSE) -> - | CV13: =IFERROR(VLOOKUP(CS13,'PS-FS'!$D$1:$H$56,5,FALSE),"00:00") -> 0 | CW13: Dispo-AM | CX13: =VLOOKUP(CW13,'PS-FS'!$D$2:$F$56,2,FALSE) -> 0.20833333 | CY13: =VLOOKUP(CW13,'PS-FS'!$D$2:$F$56,3,FALSE) -> 0.5 | CZ13: =IFERROR(VLOOKUP(CW13,'PS-FS'!$D$1:$H$56,5,FALSE),"00:00") -> 0.29166667 | DA13: Bourg-AM | DB13: =VLOOKUP(DA13,'PS-FS'!$D$2:$F$56,2,FALSE) -> 0.20486111 | DC13: =VLOOKUP(DA13,'PS-FS'!$D$2:$F$56,3,FALSE) -> 0.50694444 | DD13: =IFERROR(VLOOKUP(DA13,'PS-FS'!$D$1:$H$56,5,FALSE),"00:00") -> 0.28819444 | DE13: R | DF13: =VLOOKUP(DE13,'PS-FS'!$D$2:$F$56,2,FALSE) -> - | DG13: =VLOOKUP(DE13,'PS-FS'!$D$2:$F$56,3,FALSE) -> - | DH13: =IFERROR(VLOOKUP(DE13,'PS-FS'!$D$1:$H$56,5,FALSE),"00:00") -> 0 | DI13: R | DJ13: =VLOOKUP(DI13,'PS-FS'!$D$2:$F$56,2,FALSE) -> - | DK13: =VLOOKUP(DI13,'PS-FS'!$D$2:$F$56,3,FALSE) -> - | DL13: 00:00 | DM13: =CN13+CR13+CV13+CZ13+DD13+DH13+DL13 -> 0.89236111 | DN13: Bourg-AM | DO13: =VLOOKUP(DN13,'PS-FS'!$D$2:$F$56,2,FALSE) -> 0.20486111 | DP13: =VLOOKUP(DN13,'PS-FS'!$D$2:$F$56,3,FALSE) -> 0.50694444 | DQ13: =IFERROR(VLOOKUP(DN13,'PS-FS'!$D$1:$H$56,5,FALSE),"00:00") -> 0.28819444 | DR13: PdB-Jour | DS13: =VLOOKUP(DR13,'PS-FS'!$D$2:$F$56,2,FALSE) -> 0.42708333 | DT13: =VLOOKUP(DR13,'PS-FS'!$D$2:$F$56,3,FALSE) -> 0.65625 | DU13: =IFERROR(VLOOKUP(DR13,'PS-FS'!$D$1:$H$56,5,FALSE),"00:00") -> 0.22916667 | DV13: AA_AM-AM | DW13: =VLOOKUP(DV13,'PS-FS'!$D$2:$F$56,2,FALSE) -> 0.20833333 | DX13: =VLOOKUP(DV13,'PS-FS'!$D$2:$F$56,3,FALSE) -> 0.53472222 | DY13: =IFERROR(VLOOKUP(DV13,'PS-FS'!$D$1:$H$56,5,FALSE),"00:00") -> 0.3125 | DZ13: PdB-Jour | EA13: =VLOOKUP(DZ13,'PS-FS'!$D$2:$F$56,2,FALSE) -> 0.42708333 | EB13: =VLOOKUP(DZ13,'PS-FS'!$D$2:$F$56,3,FALSE) -> 0.65625 | EC13: =IFERROR(VLOOKUP(DZ13,'PS-FS'!$D$1:$H$56,5,FALSE),"00:00") -> 0.22916667 | ED13: PdB-Jour | EE13: =VLOOKUP(ED13,'PS-FS'!$D$2:$F$56,2,FALSE) -> 0.42708333 | EF13: =VLOOKUP(ED13,'PS-FS'!$D$2:$F$56,3,FALSE) -> 0.65625 | EG13: =IFERROR(VLOOKUP(ED13,'PS-FS'!$D$1:$H$56,5,FALSE),"00:00") -> 0.22916667 | EH13: PdB-Jour-Sam | EI13: =VLOOKUP(EH13,'PS-FS'!$D$2:$F$56,2,FALSE) -> 0.42708333 | EJ13: =VLOOKUP(EH13,'PS-FS'!$D$2:$F$56,3,FALSE) -> 0.6875 | EK13: =IFERROR(VLOOKUP(EH13,'PS-FS'!$D$1:$H$56,5,FALSE),"00:00") -> 0.26041667 | EL13: R | EM13: - | EN13: - | EO13: 00:00 | EP13: =DQ13+DU13+DY13+EC13+EG13+EK13+EO13 -> 1.5486111 | EQ13: Dispo-AM | ER13: =VLOOKUP(EQ13,'PS-FS'!$D$2:$F$56,2,FALSE) -> 0.20833333 | ES13: =VLOOKUP(EQ13,'PS-FS'!$D$2:$F$56,3,FALSE) -> 0.5 | ET13: =IFERROR(VLOOKUP(EQ13,'PS-FS'!$D$1:$H$56,5,FALSE),"00:00") -> 0.29166667 | EU13: AA_AM-AM | EV13: =VLOOKUP(EU13,'PS-FS'!$D$2:$F$56,2,FALSE) -> 0.20833333 | EW13: =VLOOKUP(EU13,'PS-FS'!$D$2:$F$56,3,FALSE) -> 0.53472222 | EX13: =IFERROR(VLOOKUP(EU13,'PS-FS'!$D$1:$H$56,5,FALSE),"00:00") -> 0.3125 | EY13: Bourg-AM | EZ13: =VLOOKUP(EY13,'PS-FS'!$D$2:$F$56,2,FALSE) -> 0.20486111 | FA13: =VLOOKUP(EY13,'PS-FS'!$D$2:$F$56,3,FALSE) -> 0.50694444 | FB13: =IFERROR(VLOOKUP(EY13,'PS-FS'!$D$1:$H$56,5,FALSE),"00:00") -> 0.28819444 | FC13: Dispo-AM | FD13: =VLOOKUP(FC13,'PS-FS'!$D$2:$F$56,2,FALSE) -> 0.20833333 | FE13: =VLOOKUP(FC13,'PS-FS'!$D$2:$F$56,3,FALSE) -> 0.5 | FF13: =IFERROR(VLOOKUP(FC13,'PS-FS'!$D$1:$H$56,5,FALSE),"00:00") -> 0.29166667 | FG13: R | FH13: =VLOOKUP(FG13,'PS-FS'!$D$2:$F$56,2,FALSE) -> - | FI13: =VLOOKUP(FG13,'PS-FS'!$D$2:$F$56,3,FALSE) -> - | FJ13: =IFERROR(VLOOKUP(FG13,'PS-FS'!$D$1:$H$56,5,FALSE),"00:00") -> 0 | FK13: PdB-AM-Sam | FL13: =VLOOKUP(FK13,'PS-FS'!$D$2:$F$56,2,FALSE) -> 0.23958333 | FM13: =VLOOKUP(FK13,'PS-FS'!$D$2:$F$56,3,FALSE) -> 0.42361111 | FN13: =IFERROR(VLOOKUP(FK13,'PS-FS'!$D$1:$H$56,5,FALSE),"00:00") -> 0.18402778 | FO13: R | FP13: =VLOOKUP(FO13,'PS-FS'!$D$2:$F$56,2,FALSE) -> - | FQ13: =VLOOKUP(FO13,'PS-FS'!$D$2:$F$56,3,FALSE) -> - | FR13: 00:00 | FS13: =ET13+EX13+FB13+FF13+FJ13+FN13+FR13 -> 1.3680556
A14: Capitaine 8 | B14: Congés | C14: - | D14: - | E14: 00:00 | F14: Congés | G14: - | H14: - | I14: 00:00 | J14: Congés | K14: - | L14: - | M14: 00:00 | N14: Congés | O14: - | P14: - | Q14: 00:00 | R14: Congés | S14: - | T14: - | U14: 00:00 | V14: Congés | W14: - | X14: - | Y14: 00:00 | Z14: R | AA14: - | AB14: - | AC14: 00:00 | AD14: =E14+I14+M14+Q14+U14+Y14+AC14 -> 0 | AE14: Congés | AF14: - | AG14: - | AH14: 00:00 | AI14: Congés | AJ14: - | AK14: - | AL14: 00:00 | AM14: Congés | AN14: - | AO14: - | AP14: 00:00 | AQ14: Congés | AR14: - | AS14: - | AT14: 00:00 | AU14: Congés | AV14: - | AW14: - | AX14: 00:00 | AY14: Congés | AZ14: - | BA14: - | BB14: 00:00 | BC14: R | BD14: - | BE14: - | BF14: 00:00 | BG14: =AH14+AL14+AP14+AT14+AX14+BB14+BF14 -> 0 | BH14: Congés | BI14: =VLOOKUP(BH14,'PS-FS'!$D$2:$F$56,2,FALSE) -> - | BJ14: =VLOOKUP(BH14,'PS-FS'!$D$2:$F$56,3,FALSE) -> - | BK14: =IFERROR(VLOOKUP(BH14,'PS-FS'!$D$1:$H$56,5,FALSE),"00:00") -> 0 | BL14: Congés | BM14: =VLOOKUP(BL14,'PS-FS'!$D$2:$F$56,2,FALSE) -> - | BN14: =VLOOKUP(BL14,'PS-FS'!$D$2:$F$56,3,FALSE) -> - | BO14: =IFERROR(VLOOKUP(BL14,'PS-FS'!$D$1:$H$56,5,FALSE),"00:00") -> 0 | BP14: PdB-AM | BQ14: =VLOOKUP(BP14,'PS-FS'!$D$2:$F$56,2,FALSE) -> 0.21180556 | BR14: =VLOOKUP(BP14,'PS-FS'!$D$2:$F$56,3,FALSE) -> 0.42013889 | BS14: =IFERROR(VLOOKUP(BP14,'PS-FS'!$D$1:$H$56,5,FALSE),"00:00") -> 0.20833333 | BT14: AA_AM-AM | BU14: =VLOOKUP(BT14,'PS-FS'!$D$2:$F$56,2,FALSE) -> 0.20833333 | BV14: =VLOOKUP(BT14,'PS-FS'!$D$2:$F$56,3,FALSE) -> 0.53472222 | BW14: =IFERROR(VLOOKUP(BT14,'PS-FS'!$D$1:$H$56,5,FALSE),"00:00") -> 0.3125 | BX14: AA_AM-AM | BY14: =VLOOKUP(BX14,'PS-FS'!$D$2:$F$56,2,FALSE) -> 0.20833333 | BZ14: =VLOOKUP(BX14,'PS-FS'!$D$2:$F$56,3,FALSE) -> 0.53472222 | CA14: =IFERROR(VLOOKUP(BX14,'PS-FS'!$D$1:$H$56,5,FALSE),"00:00") -> 0.3125 | CB14: AM_AA-AM-Sam | CC14: =VLOOKUP(CB14,'PS-FS'!$D$2:$F$56,2,FALSE) -> 0.22916667 | CD14: =VLOOKUP(CB14,'PS-FS'!$D$2:$F$56,3,FALSE) -> 0.58680556 | CE14: =IFERROR(VLOOKUP(CB14,'PS-FS'!$D$1:$H$56,5,FALSE),"00:00") -> 0.34375 | CF14: R | CG14: =VLOOKUP(CF14,'PS-FS'!$D$2:$F$56,2,FALSE) -> - | CH14: =VLOOKUP(CF14,'PS-FS'!$D$2:$F$56,3,FALSE) -> - | CI14: =IFERROR(VLOOKUP(CF14,'PS-FS'!$D$1:$H$56,5,FALSE),"00:00") -> 0 | CJ14: =BK14+BO14+BS14+BW14+CA14+CE14+CI14 -> 1.1770833 | CK14: Dispo-AM | CL14: =VLOOKUP(CK14,'PS-FS'!$D$2:$F$56,2,FALSE) -> 0.20833333 | CM14: =VLOOKUP(CK14,'PS-FS'!$D$2:$F$56,3,FALSE) -> 0.5 | CN14: =IFERROR(VLOOKUP(CK14,'PS-FS'!$D$1:$H$56,5,FALSE),"00:00") -> 0.29166667 | CO14: Bourg-AM | CP14: =VLOOKUP(CO14,'PS-FS'!$D$2:$F$56,2,FALSE) -> 0.20486111 | CQ14: =VLOOKUP(CO14,'PS-FS'!$D$2:$F$56,3,FALSE) -> 0.50694444 | CR14: =IFERROR(VLOOKUP(CO14,'PS-FS'!$D$1:$H$56,5,FALSE),"00:00") -> 0.28819444 | CS14: Dispo-AM | CT14: =VLOOKUP(CS14,'PS-FS'!$D$2:$F$56,2,FALSE) -> 0.20833333 | CU14: =VLOOKUP(CS14,'PS-FS'!$D$2:$F$56,3,FALSE) -> 0.5 | CV14: =IFERROR(VLOOKUP(CS14,'PS-FS'!$D$1:$H$56,5,FALSE),"00:00") -> 0.29166667 | CW14: Bourg-AM | CX14: =VLOOKUP(CW14,'PS-FS'!$D$2:$F$56,2,FALSE) -> 0.20486111 | CY14: =VLOOKUP(CW14,'PS-FS'!$D$2:$F$56,3,FALSE) -> 0.50694444 | CZ14: =IFERROR(VLOOKUP(CW14,'PS-FS'!$D$1:$H$56,5,FALSE),"00:00") -> 0.28819444 | DA14: R | DB14: =VLOOKUP(DA14,'PS-FS'!$D$2:$F$56,2,FALSE) -> - | DC14: =VLOOKUP(DA14,'PS-FS'!$D$2:$F$56,3,FALSE) -> - | DD14: =IFERROR(VLOOKUP(DA14,'PS-FS'!$D$1:$H$56,5,FALSE),"00:00") -> 0 | DE14: R | DF14: =VLOOKUP(DE14,'PS-FS'!$D$2:$F$56,2,FALSE) -> - | DG14: =VLOOKUP(DE14,'PS-FS'!$D$2:$F$56,3,FALSE) -> - | DH14: =IFERROR(VLOOKUP(DE14,'PS-FS'!$D$1:$H$56,5,FALSE),"00:00") -> 0 | DI14: Bourg/PdB-D&F-AM | DJ14: =VLOOKUP(DI14,'PS-FS'!$D$2:$F$56,2,FALSE) -> 0.27777778 | DK14: =VLOOKUP(DI14,'PS-FS'!$D$2:$F$56,3,FALSE) -> 0.54861111 | DL14: 0.27430556 | DM14: =CN14+CR14+CV14+CZ14+DD14+DH14+DL14 -> 1.4340278 | DN14: AA_AM-AM | DO14: =VLOOKUP(DN14,'PS-FS'!$D$2:$F$56,2,FALSE) -> 0.20833333 | DP14: =VLOOKUP(DN14,'PS-FS'!$D$2:$F$56,3,FALSE) -> 0.53472222 | DQ14: =IFERROR(VLOOKUP(DN14,'PS-FS'!$D$1:$H$56,5,FALSE),"00:00") -> 0.3125 | DR14: R | DS14: =VLOOKUP(DR14,'PS-FS'!$D$2:$F$56,2,FALSE) -> - | DT14: =VLOOKUP(DR14,'PS-FS'!$D$2:$F$56,3,FALSE) -> - | DU14: =IFERROR(VLOOKUP(DR14,'PS-FS'!$D$1:$H$56,5,FALSE),"00:00") -> 0 | DV14: R | DW14: =VLOOKUP(DV14,'PS-FS'!$D$2:$F$56,2,FALSE) -> - | DX14: =VLOOKUP(DV14,'PS-FS'!$D$2:$F$56,3,FALSE) -> - | DY14: =IFERROR(VLOOKUP(DV14,'PS-FS'!$D$1:$H$56,5,FALSE),"00:00") -> 0 | DZ14: Dispo-AM | EA14: =VLOOKUP(DZ14,'PS-FS'!$D$2:$F$56,2,FALSE) -> 0.20833333 | EB14: =VLOOKUP(DZ14,'PS-FS'!$D$2:$F$56,3,FALSE) -> 0.5 | EC14: =IFERROR(VLOOKUP(DZ14,'PS-FS'!$D$1:$H$56,5,FALSE),"00:00") -> 0.29166667 | ED14: Bourg-AM | EE14: =VLOOKUP(ED14,'PS-FS'!$D$2:$F$56,2,FALSE) -> 0.20486111 | EF14: =VLOOKUP(ED14,'PS-FS'!$D$2:$F$56,3,FALSE) -> 0.50694444 | EG14: =IFERROR(VLOOKUP(ED14,'PS-FS'!$D$1:$H$56,5,FALSE),"00:00") -> 0.28819444 | EH14: R | EI14: =VLOOKUP(EH14,'PS-FS'!$D$2:$F$56,2,FALSE) -> - | EJ14: =VLOOKUP(EH14,'PS-FS'!$D$2:$F$56,3,FALSE) -> - | EK14: =IFERROR(VLOOKUP(EH14,'PS-FS'!$D$1:$H$56,5,FALSE),"00:00") -> 0 | EL14: R | EM14: - | EN14: - | EO14: 00:00 | EP14: =DQ14+DU14+DY14+EC14+EG14+EK14+EO14 -> 0.89236111 | EQ14: Bourg-AM | ER14: =VLOOKUP(EQ14,'PS-FS'!$D$2:$F$56,2,FALSE) -> 0.20486111 | ES14: =VLOOKUP(EQ14,'PS-FS'!$D$2:$F$56,3,FALSE) -> 0.50694444 | ET14: =IFERROR(VLOOKUP(EQ14,'PS-FS'!$D$1:$H$56,5,FALSE),"00:00") -> 0.28819444 | EU14: PdB-Jour | EV14: =VLOOKUP(EU14,'PS-FS'!$D$2:$F$56,2,FALSE) -> 0.42708333 | EW14: =VLOOKUP(EU14,'PS-FS'!$D$2:$F$56,3,FALSE) -> 0.65625 | EX14: =IFERROR(VLOOKUP(EU14,'PS-FS'!$D$1:$H$56,5,FALSE),"00:00") -> 0.22916667 | EY14: AA_AM-AM | EZ14: =VLOOKUP(EY14,'PS-FS'!$D$2:$F$56,2,FALSE) -> 0.20833333 | FA14: =VLOOKUP(EY14,'PS-FS'!$D$2:$F$56,3,FALSE) -> 0.53472222 | FB14: =IFERROR(VLOOKUP(EY14,'PS-FS'!$D$1:$H$56,5,FALSE),"00:00") -> 0.3125 | FC14: PdB-Jour | FD14: =VLOOKUP(FC14,'PS-FS'!$D$2:$F$56,2,FALSE) -> 0.42708333 | FE14: =VLOOKUP(FC14,'PS-FS'!$D$2:$F$56,3,FALSE) -> 0.65625 | FF14: =IFERROR(VLOOKUP(FC14,'PS-FS'!$D$1:$H$56,5,FALSE),"00:00") -> 0.22916667 | FG14: PdB-Jour | FH14: =VLOOKUP(FG14,'PS-FS'!$D$2:$F$56,2,FALSE) -> 0.42708333 | FI14: =VLOOKUP(FG14,'PS-FS'!$D$2:$F$56,3,FALSE) -> 0.65625 | FJ14: =IFERROR(VLOOKUP(FG14,'PS-FS'!$D$1:$H$56,5,FALSE),"00:00") -> 0.22916667 | FK14: PdB-Jour-Sam | FL14: =VLOOKUP(FK14,'PS-FS'!$D$2:$F$56,2,FALSE) -> 0.42708333 | FM14: =VLOOKUP(FK14,'PS-FS'!$D$2:$F$56,3,FALSE) -> 0.6875 | FN14: =IFERROR(VLOOKUP(FK14,'PS-FS'!$D$1:$H$56,5,FALSE),"00:00") -> 0.26041667 | FO14: R | FP14: =VLOOKUP(FO14,'PS-FS'!$D$2:$F$56,2,FALSE) -> - | FQ14: =VLOOKUP(FO14,'PS-FS'!$D$2:$F$56,3,FALSE) -> - | FR14: 00:00 | FS14: =ET14+EX14+FB14+FF14+FJ14+FN14+FR14 -> 1.5486111
A15: Capitaine 9 | B15: Dispo-AM | C15: 0.20833333 | D15: 0.5 | E15: 0.29166667 | F15: PdB-AM-N1 | G15: 0.20486111 | H15: 0.51041667 | I15: 0.30555556 | J15: PdB-PM-N1 | K15: 0.49652778 | L15: 0.80902778 | M15: 0.3125 | N15: R | O15: - | P15: - | Q15: 00:00 | R15: PdB-AM-N2 | S15: 0.21527778 | T15: 0.53125 | U15: 0.31597222 | V15: PdB-AM-Sam N2 | W15: 0.24305556 | X15: 0.53125 | Y15: 0.28819444 | Z15: R | AA15: - | AB15: - | AC15: 00:00 | AD15: =E15+I15+M15+Q15+U15+Y15+AC15 -> 1.5138889 | AE15: PdB-PM-N2 | AF15: 0.51736111 | AG15: 0.81944444 | AH15: 0.30208333 | AI15: R | AJ15: - | AK15: - | AL15: 00:00 | AM15: Dispo-AM | AN15: 0.20833333 | AO15: 0.5 | AP15: 0.29166667 | AQ15: R | AR15: - | AS15: - | AT15: 00:00 | AU15: Dispo-AM | AV15: 0.20833333 | AW15: 0.5 | AX15: 0.29166667 | AY15: PdB-AM-Sam N2 | AZ15: 0.24305556 | BA15: 0.53125 | BB15: 0.28819444 | BC15: R | BD15: - | BE15: - | BF15: 00:00 | BG15: =AH15+AL15+AP15+AT15+AX15+BB15+BF15 -> 1.1736111 | BH15: AA_AM-PM | BI15: =VLOOKUP(BH15,'PS-FS'!$D$2:$F$56,2,FALSE) -> 0.55902778 | BJ15: =VLOOKUP(BH15,'PS-FS'!$D$2:$F$56,3,FALSE) -> 0.83680556 | BK15: =IFERROR(VLOOKUP(BH15,'PS-FS'!$D$1:$H$56,5,FALSE),"00:00") -> 0.26388889 | BL15: Congés | BM15: =VLOOKUP(BL15,'PS-FS'!$D$2:$F$56,2,FALSE) -> - | BN15: =VLOOKUP(BL15,'PS-FS'!$D$2:$F$56,3,FALSE) -> - | BO15: =IFERROR(VLOOKUP(BL15,'PS-FS'!$D$1:$H$56,5,FALSE),"00:00") -> 0 | BP15: Congés | BQ15: =VLOOKUP(BP15,'PS-FS'!$D$2:$F$56,2,FALSE) -> - | BR15: =VLOOKUP(BP15,'PS-FS'!$D$2:$F$56,3,FALSE) -> - | BS15: =IFERROR(VLOOKUP(BP15,'PS-FS'!$D$1:$H$56,5,FALSE),"00:00") -> 0 | BT15: Congés | BU15: =VLOOKUP(BT15,'PS-FS'!$D$2:$F$56,2,FALSE) -> - | BV15: =VLOOKUP(BT15,'PS-FS'!$D$2:$F$56,3,FALSE) -> - | BW15: =IFERROR(VLOOKUP(BT15,'PS-FS'!$D$1:$H$56,5,FALSE),"00:00") -> 0 | BX15: Congés | BY15: =VLOOKUP(BX15,'PS-FS'!$D$2:$F$56,2,FALSE) -> - | BZ15: =VLOOKUP(BX15,'PS-FS'!$D$2:$F$56,3,FALSE) -> - | CA15: =IFERROR(VLOOKUP(BX15,'PS-FS'!$D$1:$H$56,5,FALSE),"00:00") -> 0 | CB15: Congés | CC15: =VLOOKUP(CB15,'PS-FS'!$D$2:$F$56,2,FALSE) -> - | CD15: =VLOOKUP(CB15,'PS-FS'!$D$2:$F$56,3,FALSE) -> - | CE15: =IFERROR(VLOOKUP(CB15,'PS-FS'!$D$1:$H$56,5,FALSE),"00:00") -> 0 | CF15: R | CG15: =VLOOKUP(CF15,'PS-FS'!$D$2:$F$56,2,FALSE) -> - | CH15: =VLOOKUP(CF15,'PS-FS'!$D$2:$F$56,3,FALSE) -> - | CI15: =IFERROR(VLOOKUP(CF15,'PS-FS'!$D$1:$H$56,5,FALSE),"00:00") -> 0 | CJ15: =BK15+BO15+BS15+BW15+CA15+CE15+CI15 -> 0.26388889 | CK15: Congés | CL15: =VLOOKUP(CK15,'PS-FS'!$D$2:$F$56,2,FALSE) -> - | CM15: =VLOOKUP(CK15,'PS-FS'!$D$2:$F$56,3,FALSE) -> - | CN15: 00:00 | CO15: Congés | CP15: - | CQ15: - | CR15: 00:00 | CS15: Congés | CT15: =VLOOKUP(CS15,'PS-FS'!$D$2:$F$56,2,FALSE) -> - | CU15: =VLOOKUP(CS15,'PS-FS'!$D$2:$F$56,3,FALSE) -> - | CV15: 00:00 | CW15: Congés | CX15: =VLOOKUP(CW15,'PS-FS'!$D$2:$F$56,2,FALSE) -> - | CY15: =VLOOKUP(CW15,'PS-FS'!$D$2:$F$56,3,FALSE) -> - | CZ15: 00:00 | DA15: Congés | DB15: =VLOOKUP(DA15,'PS-FS'!$D$2:$F$56,2,FALSE) -> - | DC15: =VLOOKUP(DA15,'PS-FS'!$D$2:$F$56,3,FALSE) -> - | DD15: 00:00 | DE15: Congés | DF15: =VLOOKUP(DE15,'PS-FS'!$D$2:$F$56,2,FALSE) -> - | DG15: =VLOOKUP(DE15,'PS-FS'!$D$2:$F$56,3,FALSE) -> - | DH15: 00:00 | DI15: R | DJ15: =VLOOKUP(DI15,'PS-FS'!$D$2:$F$56,2,FALSE) -> - | DK15: =VLOOKUP(DI15,'PS-FS'!$D$2:$F$56,3,FALSE) -> - | DL15: 00:00 | DM15: =CN15+CR15+CV15+CZ15+DD15+DH15+DL15 -> 0 | DN15: Congés | DO15: =VLOOKUP(DN15,'PS-FS'!$D$2:$F$56,2,FALSE) -> - | DP15: =VLOOKUP(DN15,'PS-FS'!$D$2:$F$56,3,FALSE) -> - | DQ15: 00:00 | DR15: Congés | DS15: =VLOOKUP(DR15,'PS-FS'!$D$2:$F$56,2,FALSE) -> - | DT15: =VLOOKUP(DR15,'PS-FS'!$D$2:$F$56,3,FALSE) -> - | DU15: 00:00 | DV15: Congés | DW15: =VLOOKUP(DV15,'PS-FS'!$D$2:$F$56,2,FALSE) -> - | DX15: =VLOOKUP(DV15,'PS-FS'!$D$2:$F$56,3,FALSE) -> - | DY15: 00:00 | DZ15: Congés | EA15: =VLOOKUP(DZ15,'PS-FS'!$D$2:$F$56,2,FALSE) -> - | EB15: =VLOOKUP(DZ15,'PS-FS'!$D$2:$F$56,3,FALSE) -> - | EC15: 00:00 | ED15: Dispo-AM | EE15: =VLOOKUP(ED15,'PS-FS'!$D$2:$F$56,2,FALSE) -> 0.20833333 | EF15: =VLOOKUP(ED15,'PS-FS'!$D$2:$F$56,3,FALSE) -> 0.5 | EG15: 0.29166667 | EH15: Dispo-AM | EI15: =VLOOKUP(EH15,'PS-FS'!$D$2:$F$56,2,FALSE) -> 0.20833333 | EJ15: =VLOOKUP(EH15,'PS-FS'!$D$2:$F$56,3,FALSE) -> 0.5 | EK15: 0.29166667 | EL15: R | EM15: - | EN15: - | EO15: 00:00 | EP15: =DQ15+DU15+DY15+EC15+EG15+EK15+EO15 -> 0.58333333 | EQ15: AA_AM-AM | ER15: =VLOOKUP(EQ15,'PS-FS'!$D$2:$F$56,2,FALSE) -> 0.20833333 | ES15: =VLOOKUP(EQ15,'PS-FS'!$D$2:$F$56,3,FALSE) -> 0.53472222 | ET15: =IFERROR(VLOOKUP(EQ15,'PS-FS'!$D$1:$H$56,5,FALSE),"00:00") -> 0.3125 | EU15: R | EV15: =VLOOKUP(EU15,'PS-FS'!$D$2:$F$56,2,FALSE) -> - | EW15: =VLOOKUP(EU15,'PS-FS'!$D$2:$F$56,3,FALSE) -> - | EX15: =IFERROR(VLOOKUP(EU15,'PS-FS'!$D$1:$H$56,5,FALSE),"00:00") -> 0 | EY15: R | EZ15: =VLOOKUP(EY15,'PS-FS'!$D$2:$F$56,2,FALSE) -> - | FA15: =VLOOKUP(EY15,'PS-FS'!$D$2:$F$56,3,FALSE) -> - | FB15: =IFERROR(VLOOKUP(EY15,'PS-FS'!$D$1:$H$56,5,FALSE),"00:00") -> 0 | FC15: Dispo-AM | FD15: =VLOOKUP(FC15,'PS-FS'!$D$2:$F$56,2,FALSE) -> 0.20833333 | FE15: =VLOOKUP(FC15,'PS-FS'!$D$2:$F$56,3,FALSE) -> 0.5 | FF15: =IFERROR(VLOOKUP(FC15,'PS-FS'!$D$1:$H$56,5,FALSE),"00:00") -> 0.29166667 | FG15: Bourg-AM | FH15: =VLOOKUP(FG15,'PS-FS'!$D$2:$F$56,2,FALSE) -> 0.20486111 | FI15: =VLOOKUP(FG15,'PS-FS'!$D$2:$F$56,3,FALSE) -> 0.50694444 | FJ15: =IFERROR(VLOOKUP(FG15,'PS-FS'!$D$1:$H$56,5,FALSE),"00:00") -> 0.28819444 | FK15: R | FL15: =VLOOKUP(FK15,'PS-FS'!$D$2:$F$56,2,FALSE) -> - | FM15: =VLOOKUP(FK15,'PS-FS'!$D$2:$F$56,3,FALSE) -> - | FN15: =IFERROR(VLOOKUP(FK15,'PS-FS'!$D$1:$H$56,5,FALSE),"00:00") -> 0 | FO15: R | FP15: =VLOOKUP(FO15,'PS-FS'!$D$2:$F$56,2,FALSE) -> - | FQ15: =VLOOKUP(FO15,'PS-FS'!$D$2:$F$56,3,FALSE) -> - | FR15: 00:00 | FS15: =ET15+EX15+FB15+FF15+FJ15+FN15+FR15 -> 0.89236111
A16: Capitaine 10 | B16: PdB-AM-N2 | C16: 0.21527778 | D16: 0.53125 | E16: 0.31597222 | F16: R | G16: - | H16: - | I16: 00:00 | J16: Dispo-PM | K16: 0.5 | L16: 0.79166667 | M16: 0.29166667 | N16: PdB-PM-N2 | O16: 0.51736111 | P16: 0.81944444 | Q16: 0.30208333 | R16: PdB-PM-N2 | S16: 0.51736111 | T16: 0.81944444 | U16: 0.30208333 | V16: PdB-PM-Sam N1 | W16: 0.49652778 | X16: 0.80902778 | Y16: 0.3125 | Z16: R | AA16: - | AB16: - | AC16: 00:00 | AD16: =E16+I16+M16+Q16+U16+Y16+AC16 -> 1.5243056 | AE16: PdB-PM-N1 | AF16: 0.49652778 | AG16: 0.80902778 | AH16: 0.3125 | AI16: PdB-PM-N1 | AJ16: 0.49652778 | AK16: 0.80902778 | AL16: 0.3125 | AM16: PdB-PM-N1 | AN16: 0.49652778 | AO16: 0.80902778 | AP16: 0.3125 | AQ16: PdB-PM-N1 | AR16: 0.49652778 | AS16: 0.80902778 | AT16: 0.3125 | AU16: R | AV16: - | AW16: - | AX16: 00:00 | AY16: PdB-PM-Sam N2 | AZ16: 0.51736111 | BA16: 0.81944444 | BB16: 0.30208333 | BC16: R | BD16: - | BE16: - | BF16: 00:00 | BG16: =AH16+AL16+AP16+AT16+AX16+BB16+BF16 -> 1.5520833 | BH16: Dispo-PM | BI16: =VLOOKUP(BH16,'PS-FS'!$D$2:$F$56,2,FALSE) -> 0.5 | BJ16: =VLOOKUP(BH16,'PS-FS'!$D$2:$F$56,3,FALSE) -> 0.79166667 | BK16: =IFERROR(VLOOKUP(BH16,'PS-FS'!$D$1:$H$56,5,FALSE),"00:00") -> 0.29166667 | BL16: Bourg-PM | BM16: =VLOOKUP(BL16,'PS-FS'!$D$2:$F$56,2,FALSE) -> 0.52777778 | BN16: =VLOOKUP(BL16,'PS-FS'!$D$2:$F$56,3,FALSE) -> 0.83333333 | BO16: =IFERROR(VLOOKUP(BL16,'PS-FS'!$D$1:$H$56,5,FALSE),"00:00") -> 0.29166667 | BP16: Dispo-PM | BQ16: =VLOOKUP(BP16,'PS-FS'!$D$2:$F$56,2,FALSE) -> 0.5 | BR16: =VLOOKUP(BP16,'PS-FS'!$D$2:$F$56,3,FALSE) -> 0.79166667 | BS16: =IFERROR(VLOOKUP(BP16,'PS-FS'!$D$1:$H$56,5,FALSE),"00:00") -> 0.29166667 | BT16: Bourg-PM | BU16: =VLOOKUP(BT16,'PS-FS'!$D$2:$F$56,2,FALSE) -> 0.52777778 | BV16: =VLOOKUP(BT16,'PS-FS'!$D$2:$F$56,3,FALSE) -> 0.83333333 | BW16: =IFERROR(VLOOKUP(BT16,'PS-FS'!$D$1:$H$56,5,FALSE),"00:00") -> 0.29166667 | BX16: Bourg-PM | BY16: =VLOOKUP(BX16,'PS-FS'!$D$2:$F$56,2,FALSE) -> 0.52777778 | BZ16: =VLOOKUP(BX16,'PS-FS'!$D$2:$F$56,3,FALSE) -> 0.83333333 | CA16: =IFERROR(VLOOKUP(BX16,'PS-FS'!$D$1:$H$56,5,FALSE),"00:00") -> 0.29166667 | CB16: R | CC16: =VLOOKUP(CB16,'PS-FS'!$D$2:$F$56,2,FALSE) -> - | CD16: =VLOOKUP(CB16,'PS-FS'!$D$2:$F$56,3,FALSE) -> - | CE16: =IFERROR(VLOOKUP(CB16,'PS-FS'!$D$1:$H$56,5,FALSE),"00:00") -> 0 | CF16: R | CG16: =VLOOKUP(CF16,'PS-FS'!$D$2:$F$56,2,FALSE) -> - | CH16: =VLOOKUP(CF16,'PS-FS'!$D$2:$F$56,3,FALSE) -> - | CI16: =IFERROR(VLOOKUP(CF16,'PS-FS'!$D$1:$H$56,5,FALSE),"00:00") -> 0 | CJ16: =BK16+BO16+BS16+BW16+CA16+CE16+CI16 -> 1.4583333 | CK16: R | CL16: =VLOOKUP(CK16,'PS-FS'!$D$2:$F$56,2,FALSE) -> - | CM16: =VLOOKUP(CK16,'PS-FS'!$D$2:$F$56,3,FALSE) -> - | CN16: =IFERROR(VLOOKUP(CK16,'PS-FS'!$D$1:$H$56,5,FALSE),"00:00") -> 0 | CO16: Bourg-PM | CP16: =VLOOKUP(CO16,'PS-FS'!$D$2:$F$56,2,FALSE) -> 0.52777778 | CQ16: =VLOOKUP(CO16,'PS-FS'!$D$2:$F$56,3,FALSE) -> 0.83333333 | CR16: =IFERROR(VLOOKUP(CO16,'PS-FS'!$D$1:$H$56,5,FALSE),"00:00") -> 0.29166667 | CS16: Bourg-PM | CT16: =VLOOKUP(CS16,'PS-FS'!$D$2:$F$56,2,FALSE) -> 0.52777778 | CU16: =VLOOKUP(CS16,'PS-FS'!$D$2:$F$56,3,FALSE) -> 0.83333333 | CV16: =IFERROR(VLOOKUP(CS16,'PS-FS'!$D$1:$H$56,5,FALSE),"00:00") -> 0.29166667 | CW16: Bourg-PM | CX16: =VLOOKUP(CW16,'PS-FS'!$D$2:$F$56,2,FALSE) -> 0.52777778 | CY16: =VLOOKUP(CW16,'PS-FS'!$D$2:$F$56,3,FALSE) -> 0.83333333 | CZ16: =IFERROR(VLOOKUP(CW16,'PS-FS'!$D$1:$H$56,5,FALSE),"00:00") -> 0.29166667 | DA16: Bourg-PM | DB16: =VLOOKUP(DA16,'PS-FS'!$D$2:$F$56,2,FALSE) -> 0.52777778 | DC16: =VLOOKUP(DA16,'PS-FS'!$D$2:$F$56,3,FALSE) -> 0.83333333 | DD16: =IFERROR(VLOOKUP(DA16,'PS-FS'!$D$1:$H$56,5,FALSE),"00:00") -> 0.29166667 | DE16: AM_AA-PM-Sam | DF16: =VLOOKUP(DE16,'PS-FS'!$D$2:$F$56,2,FALSE) -> 0.55208333 | DG16: =VLOOKUP(DE16,'PS-FS'!$D$2:$F$56,3,FALSE) -> 0.79861111 | DH16: =IFERROR(VLOOKUP(DE16,'PS-FS'!$D$1:$H$56,5,FALSE),"00:00") -> 0.24652778 | DI16: R | DJ16: =VLOOKUP(DI16,'PS-FS'!$D$2:$F$56,2,FALSE) -> - | DK16: =VLOOKUP(DI16,'PS-FS'!$D$2:$F$56,3,FALSE) -> - | DL16: 00:00 | DM16: =CN16+CR16+CV16+CZ16+DD16+DH16+DL16 -> 1.4131944 | DN16: Dispo-AM | DO16: =VLOOKUP(DN16,'PS-FS'!$D$2:$F$56,2,FALSE) -> 0.20833333 | DP16: =VLOOKUP(DN16,'PS-FS'!$D$2:$F$56,3,FALSE) -> 0.5 | DQ16: =IFERROR(VLOOKUP(DN16,'PS-FS'!$D$1:$H$56,5,FALSE),"00:00") -> 0.29166667 | DR16: Bourg-AM | DS16: =VLOOKUP(DR16,'PS-FS'!$D$2:$F$56,2,FALSE) -> 0.20486111 | DT16: =VLOOKUP(DR16,'PS-FS'!$D$2:$F$56,3,FALSE) -> 0.50694444 | DU16: =IFERROR(VLOOKUP(DR16,'PS-FS'!$D$1:$H$56,5,FALSE),"00:00") -> 0.28819444 | DV16: Dispo-AM | DW16: =VLOOKUP(DV16,'PS-FS'!$D$2:$F$56,2,FALSE) -> 0.20833333 | DX16: =VLOOKUP(DV16,'PS-FS'!$D$2:$F$56,3,FALSE) -> 0.5 | DY16: =IFERROR(VLOOKUP(DV16,'PS-FS'!$D$1:$H$56,5,FALSE),"00:00") -> 0.29166667 | DZ16: Bourg-AM | EA16: =VLOOKUP(DZ16,'PS-FS'!$D$2:$F$56,2,FALSE) -> 0.20486111 | EB16: =VLOOKUP(DZ16,'PS-FS'!$D$2:$F$56,3,FALSE) -> 0.50694444 | EC16: =IFERROR(VLOOKUP(DZ16,'PS-FS'!$D$1:$H$56,5,FALSE),"00:00") -> 0.28819444 | ED16: R | EE16: =VLOOKUP(ED16,'PS-FS'!$D$2:$F$56,2,FALSE) -> - | EF16: =VLOOKUP(ED16,'PS-FS'!$D$2:$F$56,3,FALSE) -> - | EG16: =IFERROR(VLOOKUP(ED16,'PS-FS'!$D$1:$H$56,5,FALSE),"00:00") -> 0 | EH16: R | EI16: =VLOOKUP(EH16,'PS-FS'!$D$2:$F$56,2,FALSE) -> - | EJ16: =VLOOKUP(EH16,'PS-FS'!$D$2:$F$56,3,FALSE) -> - | EK16: =IFERROR(VLOOKUP(EH16,'PS-FS'!$D$1:$H$56,5,FALSE),"00:00") -> 0 | EL16: Bourg/PdB-D&F-AM | EM16: 0.55208333 | EN16: 0.82638889 | EO16: 0.27430556 | EP16: =DQ16+DU16+DY16+EC16+EG16+EK16+EO16 -> 1.4340278 | ER16: =VLOOKUP(EQ16,'PS-FS'!$D$2:$F$56,2,FALSE) -> #N/A | ES16: =VLOOKUP(EQ16,'PS-FS'!$D$2:$F$56,3,FALSE) -> #N/A | ET16: 00:00 | EV16: =VLOOKUP(EU16,'PS-FS'!$D$2:$F$56,2,FALSE) -> #N/A | EW16: =VLOOKUP(EU16,'PS-FS'!$D$2:$F$56,3,FALSE) -> #N/A | EX16: 00:00 | EZ16: =VLOOKUP(EY16,'PS-FS'!$D$2:$F$56,2,FALSE) -> #N/A | FA16: =VLOOKUP(EY16,'PS-FS'!$D$2:$F$56,3,FALSE) -> #N/A | FB16: 00:00 | FD16: =VLOOKUP(FC16,'PS-FS'!$D$2:$F$56,2,FALSE) -> #N/A | FE16: =VLOOKUP(FC16,'PS-FS'!$D$2:$F$56,3,FALSE) -> #N/A | FF16: 00:00 | FG16: Dispo-AM | FH16: =VLOOKUP(FG16,'PS-FS'!$D$2:$F$56,2,FALSE) -> 0.20833333 | FI16: =VLOOKUP(FG16,'PS-FS'!$D$2:$F$56,3,FALSE) -> 0.5 | FJ16: 0.29166667 | FK16: Dispo-AM | FL16: =VLOOKUP(FK16,'PS-FS'!$D$2:$F$56,2,FALSE) -> 0.20833333 | FM16: =VLOOKUP(FK16,'PS-FS'!$D$2:$F$56,3,FALSE) -> 0.5 | FN16: 0.29166667 | FO16: R | FP16: =VLOOKUP(FO16,'PS-FS'!$D$2:$F$56,2,FALSE) -> - | FQ16: =VLOOKUP(FO16,'PS-FS'!$D$2:$F$56,3,FALSE) -> - | FR16: 00:00 | FS16: =ET16+EX16+FB16+FF16+FJ16+FN16+FR16 -> 0.58333333
A17: Capitaine 11 | B17: R | C17: - | D17: - | E17: 00:00 | F17: PdB-AM-N2 | G17: 0.21527778 | H17: 0.53125 | I17: 0.31597222 | J17: Dispo-AM | K17: 0.20833333 | L17: 0.5 | M17: 0.29166667 | N17: PdB-AM-N2 | O17: 0.21527778 | P17: 0.53125 | Q17: 0.31597222 | R17: Dispo-AM | S17: 0.20833333 | T17: 0.5 | U17: 0.29166667 | V17: PdB-AM-Sam N1 | W17: 0.23263889 | X17: 0.51041667 | Y17: 0.27777778 | Z17: R | AA17: - | AB17: - | AC17: 00:00 | AD17: =E17+I17+M17+Q17+U17+Y17+AC17 -> 1.4930556 | AE17: Dispo-AM | AF17: 0.20833333 | AG17: 0.5 | AH17: 0.29166667 | AI17: Dispo-PM | AJ17: 0.5 | AK17: 0.79166667 | AL17: 0.29166667 | AM17: R | AN17: - | AO17: - | AP17: 00:00 | AQ17: PdB-AM-N1 | AR17: 0.20486111 | AS17: 0.51041667 | AT17: 0.30555556 | AU17: PdB-AM-N1 | AV17: 0.20486111 | AW17: 0.51041667 | AX17: 0.30555556 | AY17: R | AZ17: - | BA17: - | BB17: 00:00 | BC17: R | BD17: - | BE17: - | BF17: 00:00 | BG17: =AH17+AL17+AP17+AT17+AX17+BB17+BF17 -> 1.1944444 | BH17: PdB-Soir | BI17: =VLOOKUP(BH17,'PS-FS'!$D$2:$F$56,2,FALSE) -> 0.69097222 | BJ17: =VLOOKUP(BH17,'PS-FS'!$D$2:$F$56,3,FALSE) -> 0.95833333 | BK17: =IFERROR(VLOOKUP(BH17,'PS-FS'!$D$1:$H$56,5,FALSE),"00:00") -> 0.25347222 | BL17: Dispo-PM | BM17: =VLOOKUP(BL17,'PS-FS'!$D$2:$F$56,2,FALSE) -> 0.5 | BN17: =VLOOKUP(BL17,'PS-FS'!$D$2:$F$56,3,FALSE) -> 0.79166667 | BO17: =IFERROR(VLOOKUP(BL17,'PS-FS'!$D$1:$H$56,5,FALSE),"00:00") -> 0.29166667 | BP17: AA_AM-PM | BQ17: =VLOOKUP(BP17,'PS-FS'!$D$2:$F$56,2,FALSE) -> 0.55902778 | BR17: =VLOOKUP(BP17,'PS-FS'!$D$2:$F$56,3,FALSE) -> 0.83680556 | BS17: =IFERROR(VLOOKUP(BP17,'PS-FS'!$D$1:$H$56,5,FALSE),"00:00") -> 0.26388889 | BT17: Dispo-PM | BU17: =VLOOKUP(BT17,'PS-FS'!$D$2:$F$56,2,FALSE) -> 0.5 | BV17: =VLOOKUP(BT17,'PS-FS'!$D$2:$F$56,3,FALSE) -> 0.79166667 | BW17: =IFERROR(VLOOKUP(BT17,'PS-FS'!$D$1:$H$56,5,FALSE),"00:00") -> 0.29166667 | BX17: AA_AM-PM | BY17: =VLOOKUP(BX17,'PS-FS'!$D$2:$F$56,2,FALSE) -> 0.55902778 | BZ17: =VLOOKUP(BX17,'PS-FS'!$D$2:$F$56,3,FALSE) -> 0.83680556 | CA17: =IFERROR(VLOOKUP(BX17,'PS-FS'!$D$1:$H$56,5,FALSE),"00:00") -> 0.26388889 | CB17: Bourg-PM-Sam | CC17: =VLOOKUP(CB17,'PS-FS'!$D$2:$F$56,2,FALSE) -> 0.55208333 | CD17: =VLOOKUP(CB17,'PS-FS'!$D$2:$F$56,3,FALSE) -> 0.82638889 | CE17: =IFERROR(VLOOKUP(CB17,'PS-FS'!$D$1:$H$56,5,FALSE),"00:00") -> 0.26041667 | CF17: R | CG17: =VLOOKUP(CF17,'PS-FS'!$D$2:$F$56,2,FALSE) -> - | CH17: =VLOOKUP(CF17,'PS-FS'!$D$2:$F$56,3,FALSE) -> - | CI17: =IFERROR(VLOOKUP(CF17,'PS-FS'!$D$1:$H$56,5,FALSE),"00:00") -> 0 | CJ17: =BK17+BO17+BS17+BW17+CA17+CE17+CI17 -> 1.625 | CK17: PdB-Soir | CL17: =VLOOKUP(CK17,'PS-FS'!$D$2:$F$56,2,FALSE) -> 0.69097222 | CM17: =VLOOKUP(CK17,'PS-FS'!$D$2:$F$56,3,FALSE) -> 0.95833333 | CN17: =IFERROR(VLOOKUP(CK17,'PS-FS'!$D$1:$H$56,5,FALSE),"00:00") -> 0.25347222 | CO17: PdB-Soir | CP17: =VLOOKUP(CO17,'PS-FS'!$D$2:$F$56,2,FALSE) -> 0.69097222 | CQ17: =VLOOKUP(CO17,'PS-FS'!$D$2:$F$56,3,FALSE) -> 0.95833333 | CR17: =IFERROR(VLOOKUP(CO17,'PS-FS'!$D$1:$H$56,5,FALSE),"00:00") -> 0.25347222 | CS17: PdB-Soir | CT17: =VLOOKUP(CS17,'PS-FS'!$D$2:$F$56,2,FALSE) -> 0.69097222 | CU17: =VLOOKUP(CS17,'PS-FS'!$D$2:$F$56,3,FALSE) -> 0.95833333 | CV17: =IFERROR(VLOOKUP(CS17,'PS-FS'!$D$1:$H$56,5,FALSE),"00:00") -> 0.25347222 | CW17: Dispo-PM | CX17: =VLOOKUP(CW17,'PS-FS'!$D$2:$F$56,2,FALSE) -> 0.5 | CY17: =VLOOKUP(CW17,'PS-FS'!$D$2:$F$56,3,FALSE) -> 0.79166667 | CZ17: =IFERROR(VLOOKUP(CW17,'PS-FS'!$D$1:$H$56,5,FALSE),"00:00") -> 0.29166667 | DA17: AA_AM-PM | DB17: =VLOOKUP(DA17,'PS-FS'!$D$2:$F$56,2,FALSE) -> 0.55902778 | DC17: =VLOOKUP(DA17,'PS-FS'!$D$2:$F$56,3,FALSE) -> 0.83680556 | DD17: =IFERROR(VLOOKUP(DA17,'PS-FS'!$D$1:$H$56,5,FALSE),"00:00") -> 0.26388889 | DE17: Bourg-PM-Sam | DF17: =VLOOKUP(DE17,'PS-FS'!$D$2:$F$56,2,FALSE) -> 0.55208333 | DG17: =VLOOKUP(DE17,'PS-FS'!$D$2:$F$56,3,FALSE) -> 0.82638889 | DH17: =IFERROR(VLOOKUP(DE17,'PS-FS'!$D$1:$H$56,5,FALSE),"00:00") -> 0.26041667 | DI17: R | DJ17: =VLOOKUP(DI17,'PS-FS'!$D$2:$F$56,2,FALSE) -> - | DK17: =VLOOKUP(DI17,'PS-FS'!$D$2:$F$56,3,FALSE) -> - | DL17: 00:00 | DM17: =CN17+CR17+CV17+CZ17+DD17+DH17+DL17 -> 1.5763889 | DN17: R | DO17: =VLOOKUP(DN17,'PS-FS'!$D$2:$F$56,2,FALSE) -> - | DP17: =VLOOKUP(DN17,'PS-FS'!$D$2:$F$56,3,FALSE) -> - | DQ17: =IFERROR(VLOOKUP(DN17,'PS-FS'!$D$1:$H$56,5,FALSE),"00:00") -> 0 | DR17: Bourg-PM | DS17: =VLOOKUP(DR17,'PS-FS'!$D$2:$F$56,2,FALSE) -> 0.52777778 | DT17: =VLOOKUP(DR17,'PS-FS'!$D$2:$F$56,3,FALSE) -> 0.83333333 | DU17: =IFERROR(VLOOKUP(DR17,'PS-FS'!$D$1:$H$56,5,FALSE),"00:00") -> 0.29166667 | DV17: Bourg-PM | DW17: =VLOOKUP(DV17,'PS-FS'!$D$2:$F$56,2,FALSE) -> 0.52777778 | DX17: =VLOOKUP(DV17,'PS-FS'!$D$2:$F$56,3,FALSE) -> 0.83333333 | DY17: =IFERROR(VLOOKUP(DV17,'PS-FS'!$D$1:$H$56,5,FALSE),"00:00") -> 0.29166667 | DZ17: Bourg-PM | EA17: =VLOOKUP(DZ17,'PS-FS'!$D$2:$F$56,2,FALSE) -> 0.52777778 | EB17: =VLOOKUP(DZ17,'PS-FS'!$D$2:$F$56,3,FALSE) -> 0.83333333 | EC17: =IFERROR(VLOOKUP(DZ17,'PS-FS'!$D$1:$H$56,5,FALSE),"00:00") -> 0.29166667 | ED17: Bourg-PM | EE17: =VLOOKUP(ED17,'PS-FS'!$D$2:$F$56,2,FALSE) -> 0.52777778 | EF17: =VLOOKUP(ED17,'PS-FS'!$D$2:$F$56,3,FALSE) -> 0.83333333 | EG17: =IFERROR(VLOOKUP(ED17,'PS-FS'!$D$1:$H$56,5,FALSE),"00:00") -> 0.29166667 | EH17: AM_AA-PM-Sam | EI17: =VLOOKUP(EH17,'PS-FS'!$D$2:$F$56,2,FALSE) -> 0.55208333 | EJ17: =VLOOKUP(EH17,'PS-FS'!$D$2:$F$56,3,FALSE) -> 0.79861111 | EK17: =IFERROR(VLOOKUP(EH17,'PS-FS'!$D$1:$H$56,5,FALSE),"00:00") -> 0.24652778 | EL17: R | EM17: - | EN17: - | EO17: 00:00 | EP17: =DQ17+DU17+DY17+EC17+EG17+EK17+EO17 -> 1.4131944 | EQ17: Dispo-AM | ER17: =VLOOKUP(EQ17,'PS-FS'!$D$2:$F$56,2,FALSE) -> 0.20833333 | ES17: =VLOOKUP(EQ17,'PS-FS'!$D$2:$F$56,3,FALSE) -> 0.5 | ET17: =IFERROR(VLOOKUP(EQ17,'PS-FS'!$D$1:$H$56,5,FALSE),"00:00") -> 0.29166667 | EU17: Bourg-AM | EV17: =VLOOKUP(EU17,'PS-FS'!$D$2:$F$56,2,FALSE) -> 0.20486111 | EW17: =VLOOKUP(EU17,'PS-FS'!$D$2:$F$56,3,FALSE) -> 0.50694444 | EX17: =IFERROR(VLOOKUP(EU17,'PS-FS'!$D$1:$H$56,5,FALSE),"00:00") -> 0.28819444 | EY17: Dispo-AM | EZ17: =VLOOKUP(EY17,'PS-FS'!$D$2:$F$56,2,FALSE) -> 0.20833333 | FA17: =VLOOKUP(EY17,'PS-FS'!$D$2:$F$56,3,FALSE) -> 0.5 | FB17: =IFERROR(VLOOKUP(EY17,'PS-FS'!$D$1:$H$56,5,FALSE),"00:00") -> 0.29166667 | FC17: Bourg-AM | FD17: =VLOOKUP(FC17,'PS-FS'!$D$2:$F$56,2,FALSE) -> 0.20486111 | FE17: =VLOOKUP(FC17,'PS-FS'!$D$2:$F$56,3,FALSE) -> 0.50694444 | FF17: =IFERROR(VLOOKUP(FC17,'PS-FS'!$D$1:$H$56,5,FALSE),"00:00") -> 0.28819444 | FG17: R | FH17: =VLOOKUP(FG17,'PS-FS'!$D$2:$F$56,2,FALSE) -> - | FI17: =VLOOKUP(FG17,'PS-FS'!$D$2:$F$56,3,FALSE) -> - | FJ17: =IFERROR(VLOOKUP(FG17,'PS-FS'!$D$1:$H$56,5,FALSE),"00:00") -> 0 | FK17: R | FL17: =VLOOKUP(FK17,'PS-FS'!$D$2:$F$56,2,FALSE) -> - | FM17: =VLOOKUP(FK17,'PS-FS'!$D$2:$F$56,3,FALSE) -> - | FN17: =IFERROR(VLOOKUP(FK17,'PS-FS'!$D$1:$H$56,5,FALSE),"00:00") -> 0 | FO17: Bourg/PdB-D&F-AM | FP17: =VLOOKUP(FO17,'PS-FS'!$D$2:$F$56,2,FALSE) -> 0.27777778 | FQ17: =VLOOKUP(FO17,'PS-FS'!$D$2:$F$56,3,FALSE) -> 0.54861111 | FR17: 0.27430556 | FS17: =ET17+EX17+FB17+FF17+FJ17+FN17+FR17 -> 1.4340278
A18: Capitaine 12 | B18: R | C18: - | D18: - | E18: 00:00 | F18: PdB-PM-N1 | G18: 0.49652778 | H18: 0.80902778 | I18: 0.3125 | J18: R | K18: - | L18: - | M18: 00:00 | N18: R | O18: - | P18: - | Q18: 00:00 | R18: Dispo-PM | S18: 0.5 | T18: 0.79166667 | U18: 0.29166667 | V18: PdB-PM-Sam N2 | W18: 0.51736111 | X18: 0.81944444 | Y18: 0.30208333 | Z18: PdB-D&F-PM | AA18: 0.49652778 | AB18: 0.80902778 | AC18: 0.3125 | AD18: =E18+I18+M18+Q18+U18+Y18+AC18 -> 1.21875 | AE18: R | AF18: - | AG18: - | AH18: 00:00 | AI18: PdB-AM-N2 | AJ18: 0.21527778 | AK18: 0.53125 | AL18: 0.31597222 | AM18: Dispo-PM | AN18: 0.5 | AO18: 0.79166667 | AP18: 0.29166667 | AQ18: PdB-PM-N2 | AR18: 0.51736111 | AS18: 0.81944444 | AT18: 0.30208333 | AU18: PdB-PM-N1 | AV18: 0.49652778 | AW18: 0.80902778 | AX18: 0.3125 | AY18: PdB-PM-Sam N1 | AZ18: 0.49652778 | BA18: 0.80902778 | BB18: 0.3125 | BC18: R | BD18: - | BE18: - | BF18: 00:00 | BG18: =AH18+AL18+AP18+AT18+AX18+BB18+BF18 -> 1.5347222 | BH18: Dispo-PM | BI18: =VLOOKUP(BH18,'PS-FS'!$D$2:$F$56,2,FALSE) -> 0.5 | BJ18: =VLOOKUP(BH18,'PS-FS'!$D$2:$F$56,3,FALSE) -> 0.79166667 | BK18: =IFERROR(VLOOKUP(BH18,'PS-FS'!$D$1:$H$56,5,FALSE),"00:00") -> 0.29166667 | BL18: AA_AM-PM | BM18: =VLOOKUP(BL18,'PS-FS'!$D$2:$F$56,2,FALSE) -> 0.55902778 | BN18: =VLOOKUP(BL18,'PS-FS'!$D$2:$F$56,3,FALSE) -> 0.83680556 | BO18: =IFERROR(VLOOKUP(BL18,'PS-FS'!$D$1:$H$56,5,FALSE),"00:00") -> 0.26388889 | BP18: Dispo-PM | BQ18: =VLOOKUP(BP18,'PS-FS'!$D$2:$F$56,2,FALSE) -> 0.5 | BR18: =VLOOKUP(BP18,'PS-FS'!$D$2:$F$56,3,FALSE) -> 0.79166667 | BS18: =IFERROR(VLOOKUP(BP18,'PS-FS'!$D$1:$H$56,5,FALSE),"00:00") -> 0.29166667 | BT18: AA_AM-PM | BU18: =VLOOKUP(BT18,'PS-FS'!$D$2:$F$56,2,FALSE) -> 0.55902778 | BV18: =VLOOKUP(BT18,'PS-FS'!$D$2:$F$56,3,FALSE) -> 0.83680556 | BW18: =IFERROR(VLOOKUP(BT18,'PS-FS'!$D$1:$H$56,5,FALSE),"00:00") -> 0.26388889 | BX18: PdB-Soir | BY18: =VLOOKUP(BX18,'PS-FS'!$D$2:$F$56,2,FALSE) -> 0.69097222 | BZ18: =VLOOKUP(BX18,'PS-FS'!$D$2:$F$56,3,FALSE) -> 0.95833333 | CA18: =IFERROR(VLOOKUP(BX18,'PS-FS'!$D$1:$H$56,5,FALSE),"00:00") -> 0.25347222 | CB18: R | CC18: =VLOOKUP(CB18,'PS-FS'!$D$2:$F$56,2,FALSE) -> - | CD18: =VLOOKUP(CB18,'PS-FS'!$D$2:$F$56,3,FALSE) -> - | CE18: =IFERROR(VLOOKUP(CB18,'PS-FS'!$D$1:$H$56,5,FALSE),"00:00") -> 0 | CF18: R | CG18: =VLOOKUP(CF18,'PS-FS'!$D$2:$F$56,2,FALSE) -> - | CH18: =VLOOKUP(CF18,'PS-FS'!$D$2:$F$56,3,FALSE) -> - | CI18: =IFERROR(VLOOKUP(CF18,'PS-FS'!$D$1:$H$56,5,FALSE),"00:00") -> 0 | CJ18: =BK18+BO18+BS18+BW18+CA18+CE18+CI18 -> 1.3645833 | CK18: Dispo-PM | CL18: =VLOOKUP(CK18,'PS-FS'!$D$2:$F$56,2,FALSE) -> 0.5 | CM18: =VLOOKUP(CK18,'PS-FS'!$D$2:$F$56,3,FALSE) -> 0.79166667 | CN18: =IFERROR(VLOOKUP(CK18,'PS-FS'!$D$1:$H$56,5,FALSE),"00:00") -> 0.29166667 | CO18: AA_AM-PM | CP18: =VLOOKUP(CO18,'PS-FS'!$D$2:$F$56,2,FALSE) -> 0.55902778 | CQ18: =VLOOKUP(CO18,'PS-FS'!$D$2:$F$56,3,FALSE) -> 0.83680556 | CR18: =IFERROR(VLOOKUP(CO18,'PS-FS'!$D$1:$H$56,5,FALSE),"00:00") -> 0.26388889 | CS18: AA_AM-PM | CT18: =VLOOKUP(CS18,'PS-FS'!$D$2:$F$56,2,FALSE) -> 0.55902778 | CU18: =VLOOKUP(CS18,'PS-FS'!$D$2:$F$56,3,FALSE) -> 0.83680556 | CV18: =IFERROR(VLOOKUP(CS18,'PS-FS'!$D$1:$H$56,5,FALSE),"00:00") -> 0.26388889 | CW18: R | CX18: =VLOOKUP(CW18,'PS-FS'!$D$2:$F$56,2,FALSE) -> - | CY18: =VLOOKUP(CW18,'PS-FS'!$D$2:$F$56,3,FALSE) -> - | CZ18: =IFERROR(VLOOKUP(CW18,'PS-FS'!$D$1:$H$56,5,FALSE),"00:00") -> 0 | DA18: PdB-Soir | DB18: =VLOOKUP(DA18,'PS-FS'!$D$2:$F$56,2,FALSE) -> 0.69097222 | DC18: =VLOOKUP(DA18,'PS-FS'!$D$2:$F$56,3,FALSE) -> 0.95833333 | DD18: =IFERROR(VLOOKUP(DA18,'PS-FS'!$D$1:$H$56,5,FALSE),"00:00") -> 0.25347222 | DE18: PdB-PM-Soir-Sam | DF18: =VLOOKUP(DE18,'PS-FS'!$D$2:$F$56,2,FALSE) -> 0.70138889 | DG18: =VLOOKUP(DE18,'PS-FS'!$D$2:$F$56,3,FALSE) -> 0.95833333 | DH18: =IFERROR(VLOOKUP(DE18,'PS-FS'!$D$1:$H$56,5,FALSE),"00:00") -> 0.25694444 | DI18: R | DJ18: =VLOOKUP(DI18,'PS-FS'!$D$2:$F$56,2,FALSE) -> - | DK18: =VLOOKUP(DI18,'PS-FS'!$D$2:$F$56,3,FALSE) -> - | DL18: 00:00 | DM18: =CN18+CR18+CV18+CZ18+DD18+DH18+DL18 -> 1.3298611 | DN18: PdB-Soir | DO18: =VLOOKUP(DN18,'PS-FS'!$D$2:$F$56,2,FALSE) -> 0.69097222 | DP18: =VLOOKUP(DN18,'PS-FS'!$D$2:$F$56,3,FALSE) -> 0.95833333 | DQ18: =IFERROR(VLOOKUP(DN18,'PS-FS'!$D$1:$H$56,5,FALSE),"00:00") -> 0.25347222 | DR18: PdB-Soir | DS18: =VLOOKUP(DR18,'PS-FS'!$D$2:$F$56,2,FALSE) -> 0.69097222 | DT18: =VLOOKUP(DR18,'PS-FS'!$D$2:$F$56,3,FALSE) -> 0.95833333 | DU18: =IFERROR(VLOOKUP(DR18,'PS-FS'!$D$1:$H$56,5,FALSE),"00:00") -> 0.25347222 | DV18: PdB-Soir | DW18: =VLOOKUP(DV18,'PS-FS'!$D$2:$F$56,2,FALSE) -> 0.69097222 | DX18: =VLOOKUP(DV18,'PS-FS'!$D$2:$F$56,3,FALSE) -> 0.95833333 | DY18: =IFERROR(VLOOKUP(DV18,'PS-FS'!$D$1:$H$56,5,FALSE),"00:00") -> 0.25347222 | DZ18: Dispo-PM | EA18: =VLOOKUP(DZ18,'PS-FS'!$D$2:$F$56,2,FALSE) -> 0.5 | EB18: =VLOOKUP(DZ18,'PS-FS'!$D$2:$F$56,3,FALSE) -> 0.79166667 | EC18: =IFERROR(VLOOKUP(DZ18,'PS-FS'!$D$1:$H$56,5,FALSE),"00:00") -> 0.29166667 | ED18: AA_AM-PM | EE18: =VLOOKUP(ED18,'PS-FS'!$D$2:$F$56,2,FALSE) -> 0.55902778 | EF18: =VLOOKUP(ED18,'PS-FS'!$D$2:$F$56,3,FALSE) -> 0.83680556 | EG18: =IFERROR(VLOOKUP(ED18,'PS-FS'!$D$1:$H$56,5,FALSE),"00:00") -> 0.26388889 | EH18: Bourg-PM-Sam | EI18: =VLOOKUP(EH18,'PS-FS'!$D$2:$F$56,2,FALSE) -> 0.55208333 | EJ18: =VLOOKUP(EH18,'PS-FS'!$D$2:$F$56,3,FALSE) -> 0.82638889 | EK18: =IFERROR(VLOOKUP(EH18,'PS-FS'!$D$1:$H$56,5,FALSE),"00:00") -> 0.26041667 | EL18: R | EM18: - | EN18: - | EO18: 00:00 | EP18: =DQ18+DU18+DY18+EC18+EG18+EK18+EO18 -> 1.5763889 | EQ18: R | ER18: =VLOOKUP(EQ18,'PS-FS'!$D$2:$F$56,2,FALSE) -> - | ES18: =VLOOKUP(EQ18,'PS-FS'!$D$2:$F$56,3,FALSE) -> - | ET18: =IFERROR(VLOOKUP(EQ18,'PS-FS'!$D$1:$H$56,5,FALSE),"00:00") -> 0 | EU18: Bourg-PM | EV18: =VLOOKUP(EU18,'PS-FS'!$D$2:$F$56,2,FALSE) -> 0.52777778 | EW18: =VLOOKUP(EU18,'PS-FS'!$D$2:$F$56,3,FALSE) -> 0.83333333 | EX18: =IFERROR(VLOOKUP(EU18,'PS-FS'!$D$1:$H$56,5,FALSE),"00:00") -> 0.29166667 | EY18: Bourg-PM | EZ18: =VLOOKUP(EY18,'PS-FS'!$D$2:$F$56,2,FALSE) -> 0.52777778 | FA18: =VLOOKUP(EY18,'PS-FS'!$D$2:$F$56,3,FALSE) -> 0.83333333 | FB18: =IFERROR(VLOOKUP(EY18,'PS-FS'!$D$1:$H$56,5,FALSE),"00:00") -> 0.29166667 | FC18: Bourg-PM | FD18: =VLOOKUP(FC18,'PS-FS'!$D$2:$F$56,2,FALSE) -> 0.52777778 | FE18: =VLOOKUP(FC18,'PS-FS'!$D$2:$F$56,3,FALSE) -> 0.83333333 | FF18: =IFERROR(VLOOKUP(FC18,'PS-FS'!$D$1:$H$56,5,FALSE),"00:00") -> 0.29166667 | FG18: Bourg-PM | FH18: =VLOOKUP(FG18,'PS-FS'!$D$2:$F$56,2,FALSE) -> 0.52777778 | FI18: =VLOOKUP(FG18,'PS-FS'!$D$2:$F$56,3,FALSE) -> 0.83333333 | FJ18: =IFERROR(VLOOKUP(FG18,'PS-FS'!$D$1:$H$56,5,FALSE),"00:00") -> 0.29166667 | FK18: AM_AA-PM-Sam | FL18: =VLOOKUP(FK18,'PS-FS'!$D$2:$F$56,2,FALSE) -> 0.55208333 | FM18: =VLOOKUP(FK18,'PS-FS'!$D$2:$F$56,3,FALSE) -> 0.79861111 | FN18: =IFERROR(VLOOKUP(FK18,'PS-FS'!$D$1:$H$56,5,FALSE),"00:00") -> 0.24652778 | FO18: R | FP18: =VLOOKUP(FO18,'PS-FS'!$D$2:$F$56,2,FALSE) -> - | FQ18: =VLOOKUP(FO18,'PS-FS'!$D$2:$F$56,3,FALSE) -> - | FR18: 00:00 | FS18: =ET18+EX18+FB18+FF18+FJ18+FN18+FR18 -> 1.4131944
A19: Capitaine 13 | B19: Congés | C19: - | D19: - | E19: 00:00 | F19: Congés | G19: - | H19: - | I19: 00:00 | J19: Congés | K19: - | L19: - | M19: 00:00 | N19: Congés | O19: - | P19: - | Q19: 00:00 | R19: Congés | S19: - | T19: - | U19: 00:00 | V19: Congés | W19: - | X19: - | Y19: 00:00 | Z19: R | AA19: - | AB19: - | AC19: 00:00 | AD19: =E19+I19+M19+Q19+U19+Y19+AC19 -> 0 | AE19: PdB-AM-N1 | AF19: 0.20486111 | AG19: 0.51041667 | AH19: 0.30555556 | AI19: R | AJ19: - | AK19: - | AL19: 00:00 | AM19: PdB-AM-N1 | AN19: 0.20486111 | AO19: 0.51041667 | AP19: 0.30555556 | AQ19: Dispo-AM | AR19: 0.20833333 | AS19: 0.5 | AT19: 0.29166667 | AU19: R | AV19: - | AW19: - | AX19: 00:00 | AY19: PdB-AM-Sam N1 | AZ19: 0.23263889 | BA19: 0.51041667 | BB19: 0.27777778 | BC19: R | BD19: - | BE19: - | BF19: 00:00 | BG19: =AH19+AL19+AP19+AT19+AX19+BB19+BF19 -> 1.1805556 | BH19: PdB-Jour | BI19: =VLOOKUP(BH19,'PS-FS'!$D$2:$F$56,2,FALSE) -> 0.42708333 | BJ19: =VLOOKUP(BH19,'PS-FS'!$D$2:$F$56,3,FALSE) -> 0.65625 | BK19: =IFERROR(VLOOKUP(BH19,'PS-FS'!$D$1:$H$56,5,FALSE),"00:00") -> 0.22916667 | BL19: Dispo-AM | BM19: =VLOOKUP(BL19,'PS-FS'!$D$2:$F$56,2,FALSE) -> 0.20833333 | BN19: =VLOOKUP(BL19,'PS-FS'!$D$2:$F$56,3,FALSE) -> 0.5 | BO19: =IFERROR(VLOOKUP(BL19,'PS-FS'!$D$1:$H$56,5,FALSE),"00:00") -> 0.29166667 | BP19: R | BQ19: =VLOOKUP(BP19,'PS-FS'!$D$2:$F$56,2,FALSE) -> - | BR19: =VLOOKUP(BP19,'PS-FS'!$D$2:$F$56,3,FALSE) -> - | BS19: =IFERROR(VLOOKUP(BP19,'PS-FS'!$D$1:$H$56,5,FALSE),"00:00") -> 0 | BT19: Dispo-AM | BU19: =VLOOKUP(BT19,'PS-FS'!$D$2:$F$56,2,FALSE) -> 0.20833333 | BV19: =VLOOKUP(BT19,'PS-FS'!$D$2:$F$56,3,FALSE) -> 0.5 | BW19: =IFERROR(VLOOKUP(BT19,'PS-FS'!$D$1:$H$56,5,FALSE),"00:00") -> 0.29166667 | BX19: Dispo-PM | BY19: =VLOOKUP(BX19,'PS-FS'!$D$2:$F$56,2,FALSE) -> 0.5 | BZ19: =VLOOKUP(BX19,'PS-FS'!$D$2:$F$56,3,FALSE) -> 0.79166667 | CA19: =IFERROR(VLOOKUP(BX19,'PS-FS'!$D$1:$H$56,5,FALSE),"00:00") -> 0.29166667 | CB19: R | CC19: =VLOOKUP(CB19,'PS-FS'!$D$2:$F$56,2,FALSE) -> - | CD19: =VLOOKUP(CB19,'PS-FS'!$D$2:$F$56,3,FALSE) -> - | CE19: =IFERROR(VLOOKUP(CB19,'PS-FS'!$D$1:$H$56,5,FALSE),"00:00") -> 0 | CF19: Bourg/PdB-D&F-PM | CG19: =VLOOKUP(CF19,'PS-FS'!$D$2:$F$56,2,FALSE) -> 0.55208333 | CH19: =VLOOKUP(CF19,'PS-FS'!$D$2:$F$56,3,FALSE) -> 0.82638889 | CI19: =IFERROR(VLOOKUP(CF19,'PS-FS'!$D$1:$H$56,5,FALSE),"00:00") -> 0.27430556 | CJ19: =BK19+BO19+BS19+BW19+CA19+CE19+CI19 -> 1.3784722 | CK19: AA_AM-PM | CL19: =VLOOKUP(CK19,'PS-FS'!$D$2:$F$56,2,FALSE) -> 0.55902778 | CM19: =VLOOKUP(CK19,'PS-FS'!$D$2:$F$56,3,FALSE) -> 0.83680556 | CN19: =IFERROR(VLOOKUP(CK19,'PS-FS'!$D$1:$H$56,5,FALSE),"00:00") -> 0.26388889 | CO19: Dispo-PM | CP19: 0.5 | CQ19: 0.79166667 | CR19: 0.29166667 | CS19: Dispo-PM | CT19: =VLOOKUP(CS19,'PS-FS'!$D$2:$F$56,2,FALSE) -> 0.5 | CU19: =VLOOKUP(CS19,'PS-FS'!$D$2:$F$56,3,FALSE) -> 0.79166667 | CV19: 0.29166667 | CW19: AA_AM-PM | CX19: =VLOOKUP(CW19,'PS-FS'!$D$2:$F$56,2,FALSE) -> 0.55902778 | CY19: =VLOOKUP(CW19,'PS-FS'!$D$2:$F$56,3,FALSE) -> 0.83680556 | CZ19: =IFERROR(VLOOKUP(CW19,'PS-FS'!$D$1:$H$56,5,FALSE),"00:00") -> 0.26388889 | DA19: R | DB19: =VLOOKUP(DA19,'PS-FS'!$D$2:$F$56,2,FALSE) -> - | DC19: =VLOOKUP(DA19,'PS-FS'!$D$2:$F$56,3,FALSE) -> - | DD19: 00:00 | DE19: R | DF19: =VLOOKUP(DE19,'PS-FS'!$D$2:$F$56,2,FALSE) -> - | DG19: =VLOOKUP(DE19,'PS-FS'!$D$2:$F$56,3,FALSE) -> - | DH19: 00:00 | DI19: R | DJ19: =VLOOKUP(DI19,'PS-FS'!$D$2:$F$56,2,FALSE) -> - | DK19: =VLOOKUP(DI19,'PS-FS'!$D$2:$F$56,3,FALSE) -> - | DL19: 00:00 | DM19: =CN19+CR19+CV19+CZ19+DD19+DH19+DL19 -> 1.1111111 | DN19: Dispo-PM | DO19: =VLOOKUP(DN19,'PS-FS'!$D$2:$F$56,2,FALSE) -> 0.5 | DP19: =VLOOKUP(DN19,'PS-FS'!$D$2:$F$56,3,FALSE) -> 0.79166667 | DQ19: =IFERROR(VLOOKUP(DN19,'PS-FS'!$D$1:$H$56,5,FALSE),"00:00") -> 0.29166667 | DR19: AA_AM-PM | DS19: =VLOOKUP(DR19,'PS-FS'!$D$2:$F$56,2,FALSE) -> 0.55902778 | DT19: =VLOOKUP(DR19,'PS-FS'!$D$2:$F$56,3,FALSE) -> 0.83680556 | DU19: =IFERROR(VLOOKUP(DR19,'PS-FS'!$D$1:$H$56,5,FALSE),"00:00") -> 0.26388889 | DV19: AA_AM-PM | DW19: =VLOOKUP(DV19,'PS-FS'!$D$2:$F$56,2,FALSE) -> 0.55902778 | DX19: =VLOOKUP(DV19,'PS-FS'!$D$2:$F$56,3,FALSE) -> 0.83680556 | DY19: =IFERROR(VLOOKUP(DV19,'PS-FS'!$D$1:$H$56,5,FALSE),"00:00") -> 0.26388889 | DZ19: R | EA19: =VLOOKUP(DZ19,'PS-FS'!$D$2:$F$56,2,FALSE) -> - | EB19: =VLOOKUP(DZ19,'PS-FS'!$D$2:$F$56,3,FALSE) -> - | EC19: =IFERROR(VLOOKUP(DZ19,'PS-FS'!$D$1:$H$56,5,FALSE),"00:00") -> 0 | ED19: PdB-Soir | EE19: =VLOOKUP(ED19,'PS-FS'!$D$2:$F$56,2,FALSE) -> 0.69097222 | EF19: =VLOOKUP(ED19,'PS-FS'!$D$2:$F$56,3,FALSE) -> 0.95833333 | EG19: =IFERROR(VLOOKUP(ED19,'PS-FS'!$D$1:$H$56,5,FALSE),"00:00") -> 0.25347222 | EH19: PdB-PM-Soir-Sam | EI19: =VLOOKUP(EH19,'PS-FS'!$D$2:$F$56,2,FALSE) -> 0.70138889 | EJ19: =VLOOKUP(EH19,'PS-FS'!$D$2:$F$56,3,FALSE) -> 0.95833333 | EK19: =IFERROR(VLOOKUP(EH19,'PS-FS'!$D$1:$H$56,5,FALSE),"00:00") -> 0.25694444 | EL19: R | EM19: - | EN19: - | EO19: 00:00 | EP19: =DQ19+DU19+DY19+EC19+EG19+EK19+EO19 -> 1.3298611 | EQ19: PdB-Soir | ER19: =VLOOKUP(EQ19,'PS-FS'!$D$2:$F$56,2,FALSE) -> 0.69097222 | ES19: =VLOOKUP(EQ19,'PS-FS'!$D$2:$F$56,3,FALSE) -> 0.95833333 | ET19: =IFERROR(VLOOKUP(EQ19,'PS-FS'!$D$1:$H$56,5,FALSE),"00:00") -> 0.25347222 | EU19: PdB-Soir | EV19: =VLOOKUP(EU19,'PS-FS'!$D$2:$F$56,2,FALSE) -> 0.69097222 | EW19: =VLOOKUP(EU19,'PS-FS'!$D$2:$F$56,3,FALSE) -> 0.95833333 | EX19: =IFERROR(VLOOKUP(EU19,'PS-FS'!$D$1:$H$56,5,FALSE),"00:00") -> 0.25347222 | EY19: PdB-Soir | EZ19: =VLOOKUP(EY19,'PS-FS'!$D$2:$F$56,2,FALSE) -> 0.69097222 | FA19: =VLOOKUP(EY19,'PS-FS'!$D$2:$F$56,3,FALSE) -> 0.95833333 | FB19: =IFERROR(VLOOKUP(EY19,'PS-FS'!$D$1:$H$56,5,FALSE),"00:00") -> 0.25347222 | FC19: Dispo-PM | FD19: =VLOOKUP(FC19,'PS-FS'!$D$2:$F$56,2,FALSE) -> 0.5 | FE19: =VLOOKUP(FC19,'PS-FS'!$D$2:$F$56,3,FALSE) -> 0.79166667 | FF19: =IFERROR(VLOOKUP(FC19,'PS-FS'!$D$1:$H$56,5,FALSE),"00:00") -> 0.29166667 | FG19: AA_AM-PM | FH19: =VLOOKUP(FG19,'PS-FS'!$D$2:$F$56,2,FALSE) -> 0.55902778 | FI19: =VLOOKUP(FG19,'PS-FS'!$D$2:$F$56,3,FALSE) -> 0.83680556 | FJ19: =IFERROR(VLOOKUP(FG19,'PS-FS'!$D$1:$H$56,5,FALSE),"00:00") -> 0.26388889 | FK19: Bourg-PM-Sam | FL19: =VLOOKUP(FK19,'PS-FS'!$D$2:$F$56,2,FALSE) -> 0.55208333 | FM19: =VLOOKUP(FK19,'PS-FS'!$D$2:$F$56,3,FALSE) -> 0.82638889 | FN19: =IFERROR(VLOOKUP(FK19,'PS-FS'!$D$1:$H$56,5,FALSE),"00:00") -> 0.26041667 | FO19: R | FP19: =VLOOKUP(FO19,'PS-FS'!$D$2:$F$56,2,FALSE) -> - | FQ19: =VLOOKUP(FO19,'PS-FS'!$D$2:$F$56,3,FALSE) -> - | FR19: 00:00 | FS19: =ET19+EX19+FB19+FF19+FJ19+FN19+FR19 -> 1.5763889
A20: Capitaine 14 | B20: PdB-PM-N2 | C20: 0.51736111 | D20: 0.81944444 | E20: 0.30208333 | F20: PdB-PM-N2 | G20: 0.51736111 | H20: 0.81944444 | I20: 0.30208333 | J20: PdB-AM-N2 | K20: 0.21527778 | L20: 0.53125 | M20: 0.31597222 | N20: PdB-PM-N1 | O20: 0.49652778 | P20: 0.80902778 | Q20: 0.3125 | R20: Congés | S20: - | T20: - | U20: 00:00 | V20: Congés | W20: - | X20: - | Y20: 00:00 | Z20: R | AA20: - | AB20: - | AC20: 00:00 | AD20: =E20+I20+M20+Q20+U20+Y20+AC20 -> 1.2326389 | AE20: Congés | AF20: - | AG20: - | AH20: 00:00 | AI20: Congés | AJ20: - | AK20: - | AL20: 00:00 | AM20: Congés | AN20: - | AO20: - | AP20: 00:00 | AQ20: Congés | AR20: - | AS20: - | AT20: 00:00 | AU20: Congés | AV20: - | AW20: - | AX20: 00:00 | AY20: Congés | AZ20: - | BA20: - | BB20: 00:00 | BC20: R | BD20: - | BE20: - | BF20: 00:00 | BG20: =AH20+AL20+AP20+AT20+AX20+BB20+BF20 -> 0 | BH20: Bourg-PM | BI20: =VLOOKUP(BH20,'PS-FS'!$D$2:$F$56,2,FALSE) -> 0.52777778 | BJ20: =VLOOKUP(BH20,'PS-FS'!$D$2:$F$56,3,FALSE) -> 0.83333333 | BK20: =IFERROR(VLOOKUP(BH20,'PS-FS'!$D$1:$H$56,5,FALSE),"00:00") -> 0.29166667 | BL20: Dispo-PM | BM20: =VLOOKUP(BL20,'PS-FS'!$D$2:$F$56,2,FALSE) -> 0.5 | BN20: =VLOOKUP(BL20,'PS-FS'!$D$2:$F$56,3,FALSE) -> 0.79166667 | BO20: =IFERROR(VLOOKUP(BL20,'PS-FS'!$D$1:$H$56,5,FALSE),"00:00") -> 0.29166667 | BP20: Bourg-PM | BQ20: =VLOOKUP(BP20,'PS-FS'!$D$2:$F$56,2,FALSE) -> 0.52777778 | BR20: =VLOOKUP(BP20,'PS-FS'!$D$2:$F$56,3,FALSE) -> 0.83333333 | BS20: =IFERROR(VLOOKUP(BP20,'PS-FS'!$D$1:$H$56,5,FALSE),"00:00") -> 0.29166667 | BT20: Dispo-PM | BU20: =VLOOKUP(BT20,'PS-FS'!$D$2:$F$56,2,FALSE) -> 0.5 | BV20: =VLOOKUP(BT20,'PS-FS'!$D$2:$F$56,3,FALSE) -> 0.79166667 | BW20: =IFERROR(VLOOKUP(BT20,'PS-FS'!$D$1:$H$56,5,FALSE),"00:00") -> 0.29166667 | BX20: R | BY20: =VLOOKUP(BX20,'PS-FS'!$D$2:$F$56,2,FALSE) -> - | BZ20: =VLOOKUP(BX20,'PS-FS'!$D$2:$F$56,3,FALSE) -> - | CA20: =IFERROR(VLOOKUP(BX20,'PS-FS'!$D$1:$H$56,5,FALSE),"00:00") -> 0 | CB20: AM_AA-PM-Sam | CC20: =VLOOKUP(CB20,'PS-FS'!$D$2:$F$56,2,FALSE) -> 0.55208333 | CD20: =VLOOKUP(CB20,'PS-FS'!$D$2:$F$56,3,FALSE) -> 0.79861111 | CE20: =IFERROR(VLOOKUP(CB20,'PS-FS'!$D$1:$H$56,5,FALSE),"00:00") -> 0.24652778 | CF20: R | CG20: =VLOOKUP(CF20,'PS-FS'!$D$2:$F$56,2,FALSE) -> - | CH20: =VLOOKUP(CF20,'PS-FS'!$D$2:$F$56,3,FALSE) -> - | CI20: =IFERROR(VLOOKUP(CF20,'PS-FS'!$D$1:$H$56,5,FALSE),"00:00") -> 0 | CJ20: =BK20+BO20+BS20+BW20+CA20+CE20+CI20 -> 1.4131944 | CK20: PdB-Jour | CL20: =VLOOKUP(CK20,'PS-FS'!$D$2:$F$56,2,FALSE) -> 0.42708333 | CM20: =VLOOKUP(CK20,'PS-FS'!$D$2:$F$56,3,FALSE) -> 0.65625 | CN20: =IFERROR(VLOOKUP(CK20,'PS-FS'!$D$1:$H$56,5,FALSE),"00:00") -> 0.22916667 | CO20: Dispo-AM | CP20: =VLOOKUP(CO20,'PS-FS'!$D$2:$F$56,2,FALSE) -> 0.20833333 | CQ20: =VLOOKUP(CO20,'PS-FS'!$D$2:$F$56,3,FALSE) -> 0.5 | CR20: =IFERROR(VLOOKUP(CO20,'PS-FS'!$D$1:$H$56,5,FALSE),"00:00") -> 0.29166667 | CS20: R | CT20: =VLOOKUP(CS20,'PS-FS'!$D$2:$F$56,2,FALSE) -> - | CU20: =VLOOKUP(CS20,'PS-FS'!$D$2:$F$56,3,FALSE) -> - | CV20: =IFERROR(VLOOKUP(CS20,'PS-FS'!$D$1:$H$56,5,FALSE),"00:00") -> 0 | CW20: Dispo-AM | CX20: =VLOOKUP(CW20,'PS-FS'!$D$2:$F$56,2,FALSE) -> 0.20833333 | CY20: =VLOOKUP(CW20,'PS-FS'!$D$2:$F$56,3,FALSE) -> 0.5 | CZ20: =IFERROR(VLOOKUP(CW20,'PS-FS'!$D$1:$H$56,5,FALSE),"00:00") -> 0.29166667 | DA20: AA_AM-AM | DB20: =VLOOKUP(DA20,'PS-FS'!$D$2:$F$56,2,FALSE) -> 0.20833333 | DC20: =VLOOKUP(DA20,'PS-FS'!$D$2:$F$56,3,FALSE) -> 0.53472222 | DD20: =IFERROR(VLOOKUP(DA20,'PS-FS'!$D$1:$H$56,5,FALSE),"00:00") -> 0.3125 | DE20: R | DF20: =VLOOKUP(DE20,'PS-FS'!$D$2:$F$56,2,FALSE) -> - | DG20: =VLOOKUP(DE20,'PS-FS'!$D$2:$F$56,3,FALSE) -> - | DH20: =IFERROR(VLOOKUP(DE20,'PS-FS'!$D$1:$H$56,5,FALSE),"00:00") -> 0 | DI20: Bourg/PdB-D&F-PM | DJ20: =VLOOKUP(DI20,'PS-FS'!$D$2:$F$56,2,FALSE) -> 0.55208333 | DK20: =VLOOKUP(DI20,'PS-FS'!$D$2:$F$56,3,FALSE) -> 0.82638889 | DL20: =IFERROR(VLOOKUP(DI20,'PS-FS'!$D$1:$H$56,5,FALSE),"00:00") -> 0.27430556 | DM20: =CN20+CR20+CV20+CZ20+DD20+DH20+DL20 -> 1.3993056 | DN20: AA_AM-PM | DO20: =VLOOKUP(DN20,'PS-FS'!$D$2:$F$56,2,FALSE) -> 0.55902778 | DP20: =VLOOKUP(DN20,'PS-FS'!$D$2:$F$56,3,FALSE) -> 0.83680556 | DQ20: =IFERROR(VLOOKUP(DN20,'PS-FS'!$D$1:$H$56,5,FALSE),"00:00") -> 0.26388889 | DR20: Dispo-PM | DS20: 0.5 | DT20: 0.79166667 | DU20: 0.29166667 | DV20: Dispo-PM | DW20: =VLOOKUP(DV20,'PS-FS'!$D$2:$F$56,2,FALSE) -> 0.5 | DX20: =VLOOKUP(DV20,'PS-FS'!$D$2:$F$56,3,FALSE) -> 0.79166667 | DY20: 0.29166667 | DZ20: AA_AM-PM | EA20: =VLOOKUP(DZ20,'PS-FS'!$D$2:$F$56,2,FALSE) -> 0.55902778 | EB20: =VLOOKUP(DZ20,'PS-FS'!$D$2:$F$56,3,FALSE) -> 0.83680556 | EC20: =IFERROR(VLOOKUP(DZ20,'PS-FS'!$D$1:$H$56,5,FALSE),"00:00") -> 0.26388889 | ED20: R | EE20: =VLOOKUP(ED20,'PS-FS'!$D$2:$F$56,2,FALSE) -> - | EF20: =VLOOKUP(ED20,'PS-FS'!$D$2:$F$56,3,FALSE) -> - | EG20: 00:00 | EH20: R | EI20: =VLOOKUP(EH20,'PS-FS'!$D$2:$F$56,2,FALSE) -> - | EJ20: =VLOOKUP(EH20,'PS-FS'!$D$2:$F$56,3,FALSE) -> - | EK20: 00:00 | EL20: R | EM20: - | EN20: - | EO20: 00:00 | EP20: =DQ20+DU20+DY20+EC20+EG20+EK20+EO20 -> 1.1111111 | EQ20: Dispo-PM | ER20: =VLOOKUP(EQ20,'PS-FS'!$D$2:$F$56,2,FALSE) -> 0.5 | ES20: =VLOOKUP(EQ20,'PS-FS'!$D$2:$F$56,3,FALSE) -> 0.79166667 | ET20: =IFERROR(VLOOKUP(EQ20,'PS-FS'!$D$1:$H$56,5,FALSE),"00:00") -> 0.29166667 | EU20: AA_AM-PM | EV20: =VLOOKUP(EU20,'PS-FS'!$D$2:$F$56,2,FALSE) -> 0.55902778 | EW20: =VLOOKUP(EU20,'PS-FS'!$D$2:$F$56,3,FALSE) -> 0.83680556 | EX20: =IFERROR(VLOOKUP(EU20,'PS-FS'!$D$1:$H$56,5,FALSE),"00:00") -> 0.26388889 | EY20: AA_AM-PM | EZ20: =VLOOKUP(EY20,'PS-FS'!$D$2:$F$56,2,FALSE) -> 0.55902778 | FA20: =VLOOKUP(EY20,'PS-FS'!$D$2:$F$56,3,FALSE) -> 0.83680556 | FB20: =IFERROR(VLOOKUP(EY20,'PS-FS'!$D$1:$H$56,5,FALSE),"00:00") -> 0.26388889 | FC20: R | FD20: =VLOOKUP(FC20,'PS-FS'!$D$2:$F$56,2,FALSE) -> - | FE20: =VLOOKUP(FC20,'PS-FS'!$D$2:$F$56,3,FALSE) -> - | FF20: =IFERROR(VLOOKUP(FC20,'PS-FS'!$D$1:$H$56,5,FALSE),"00:00") -> 0 | FG20: PdB-Soir | FH20: =VLOOKUP(FG20,'PS-FS'!$D$2:$F$56,2,FALSE) -> 0.69097222 | FI20: =VLOOKUP(FG20,'PS-FS'!$D$2:$F$56,3,FALSE) -> 0.95833333 | FJ20: =IFERROR(VLOOKUP(FG20,'PS-FS'!$D$1:$H$56,5,FALSE),"00:00") -> 0.25347222 | FK20: PdB-PM-Soir-Sam | FL20: =VLOOKUP(FK20,'PS-FS'!$D$2:$F$56,2,FALSE) -> 0.70138889 | FM20: =VLOOKUP(FK20,'PS-FS'!$D$2:$F$56,3,FALSE) -> 0.95833333 | FN20: =IFERROR(VLOOKUP(FK20,'PS-FS'!$D$1:$H$56,5,FALSE),"00:00") -> 0.25694444 | FO20: R | FP20: =VLOOKUP(FO20,'PS-FS'!$D$2:$F$56,2,FALSE) -> - | FQ20: =VLOOKUP(FO20,'PS-FS'!$D$2:$F$56,3,FALSE) -> - | FR20: 00:00 | FS20: =ET20+EX20+FB20+FF20+FJ20+FN20+FR20 -> 1.3298611
E21: =COUNTIF(E7:E20,">00:00") -> 5 | I21: =COUNTIF(I7:I20,">00:00") -> 6 | M21: =COUNTIF(M7:M20,">00:00") -> 6 | Q21: =COUNTIF(Q7:Q20,">00:00") -> 6 | U21: =COUNTIF(U7:U20,">00:00") -> 7 | Y21: =COUNTIF(Y7:Y20,">00:00") -> 4 | AC21: =COUNTIF(AC7:AC20,">00:00") -> 2 | AH21: =COUNTIF(AH7:AH20,">00:00") -> 6 | AL21: =COUNTIF(AL7:AL20,">00:00") -> 6 | AP21: =COUNTIF(AP7:AP20,">00:00") -> 6 | AT21: =COUNTIF(AT7:AT20,">00:00") -> 6 | AX21: =COUNTIF(AX7:AX20,">00:00") -> 5 | BB21: =COUNTIF(BB7:BB20,">00:00") -> 4 | BF21: =COUNTIF(BF7:BF20,">00:00") -> 2 | BK21: =COUNTIF(BK7:BK20,">00:00") -> 13 | BO21: =COUNTIF(BO7:BO20,">00:00") -> 12 | BS21: =COUNTIF(BS7:BS20,">00:00") -> 9 | BW21: =COUNTIF(BW7:BW20,">00:00") -> 13 | CA21: =COUNTIF(CA7:CA20,">00:00") -> 9 | CE21: =COUNTIF(CE7:CE20,">00:00") -> 7 | CI21: =COUNTIF(CI7:CI20,">00:00") -> 2 | CN21: =COUNTIF(CN7:CN20,">00:00") -> 11 | CR21: =COUNTIF(CR7:CR20,">00:00") -> 11 | CV21: =COUNTIF(CV7:CV20,">00:00") -> 9 | CZ21: =COUNTIF(CZ7:CZ20,">00:00") -> 11 | DD21: =COUNTIF(DD7:DD20,">00:00") -> 7 | DH21: =COUNTIF(DH7:DH20,">00:00") -> 7 | DL21: =COUNTIF(DL7:DL20,">00:00") -> 2 | DQ21: =COUNTIF(DQ7:DQ20,">00:00") -> 11 | DU21: =COUNTIF(DU7:DU20,">00:00") -> 11 | DY21: =COUNTIF(DY7:DY20,">00:00") -> 9 | EC21: =COUNTIF(EC7:EC20,">00:00") -> 11 | EG21: =COUNTIF(EG7:EG20,">00:00") -> 8 | EK21: =COUNTIF(EK7:EK20,">00:00") -> 8 | EO21: =COUNTIF(EO7:EO20,">00:00") -> 1 | ET21: =COUNTIF(ET7:ET20,">00:00") -> 11 | EX21: =COUNTIF(EX7:EX20,">00:00") -> 11 | FB21: =COUNTIF(FB7:FB20,">00:00") -> 9 | FF21: =COUNTIF(FF7:FF20,">00:00") -> 11 | FJ21: =COUNTIF(FJ7:FJ20,">00:00") -> 8 | FN21: =COUNTIF(FN7:FN20,">00:00") -> 8 | FR21: =COUNTIF(FR7:FR20,">00:00") -> 1
A22: AM : Ante Meridiem - avant midi
A23: PM : Post Meridiem - après midi
B24: 45523 | F24: 45524 | J24: 45525 | N24: 45526 | R24: 45527 | V24: 45528 | Z24: 45529 | AE24: 45530 | AI24: 45531 | AM24: 45532 | AQ24: 45533 | AU24: 45534 | AY24: 45535 | BC24: 45536 | BH24: 45537 | BL24: 45538 | BP24: 45539 | BT24: 45540 | BX24: 45541 | CB24: 45542 | CF24: 45543 | CK24: 45544 | CO24: 45545 | CS24: 45546 | CW24: 45547 | DA24: 45548 | DE24: 45549 | DI24: 45550 | DN24: 45551 | DR24: 45552 | DV24: 45553 | DZ24: 45554 | ED24: 45555 | EH24: 45556 | EL24: 45557 | EQ24: 45558 | EU24: 45559 | EY24: 45560 | FC24: 45561 | FG24: 45562 | FK24: 45563 | FO24: 45564
A25: CHEF MECANO | B25: Lundi | C25: PS | D25: FS | E25: TTE | F25: Mardi | G25: PS | H25: FS | I25: TTE | J25: Mercredi | K25: PS | L25: FS | M25: TTE | N25: Jeudi | O25: PS | P25: FS | Q25: TTE | R25: Vendredi | S25: PS | T25: FS | U25: TTE | V25: Samedi | W25: PS | X25: FS | Y25: TTE | Z25: Dimanche | AA25: PS | AB25: FS | AC25: TTE | AD25: TTE HEBDO | AE25: Lundi | AF25: PS | AG25: FS | AH25: TTE | AI25: Mardi | AJ25: PS | AK25: FS | AL25: TTE | AM25: Mercredi | AN25: PS | AO25: FS | AP25: TTE | AQ25: Jeudi | AR25: PS | AS25: FS | AT25: TTE | AU25: Vendredi | AV25: PS | AW25: FS | AX25: TTE | AY25: Samedi | AZ25: PS | BA25: FS | BB25: TTE | BC25: Dimanche | BD25: PS | BE25: FS | BF25: TTE | BG25: TTE HEBDO | BH25: Lundi | BI25: PS | BJ25: FS | BK25: TTE | BL25: Mardi | BM25: PS | BN25: FS | BO25: TTE | BP25: Mercredi | BQ25: PS | BR25: FS | BS25: TTE | BT25: Jeudi | BU25: PS | BV25: FS | BW25: TTE | BX25: Vendredi | BY25: PS | BZ25: FS | CA25: TTE | CB25: Samedi | CC25: PS | CD25: FS | CE25: TTE | CF25: Dimanche | CG25: PS | CH25: FS | CI25: TTE | CJ25: TTE HEBDO | CK25: Lundi | CL25: PS | CM25: FS | CN25: TTE | CO25: Mardi | CP25: PS | CQ25: FS | CR25: TTE | CS25: Mercredi | CT25: PS | CU25: FS | CV25: TTE | CW25: Jeudi | CX25: PS | CY25: FS | CZ25: TTE | DA25: Vendredi | DB25: PS | DC25: FS | DD25: TTE | DE25: Samedi | DF25: PS | DG25: FS | DH25: TTE | DI25: Dimanche | DJ25: PS | DK25: FS | DL25: TTE | DM25: TTE HEBDO | DN25: Lundi | DO25: PS | DP25: FS | DQ25: TTE | DR25: Mardi | DS25: PS | DT25: FS | DU25: TTE | DV25: Mercredi | DW25: PS | DX25: FS | DY25: TTE | DZ25: Jeudi | EA25: PS | EB25: FS | EC25: TTE | ED25: Vendredi | EE25: PS | EF25: FS | EG25: TTE | EH25: Samedi | EI25: PS | EJ25: FS | EK25: TTE | EL25: Dimanche | EM25: PS | EN25: FS | EO25: TTE | EP25: TTE HEBDO | EQ25: Lundi | ER25: PS | ES25: FS | ET25: TTE | EU25: Mardi | EV25: PS | EW25: FS | EX25: TTE | EY25: Mercredi | EZ25: PS | FA25: FS | FB25: TTE | FC25: Jeudi | FD25: PS | FE25: FS | FF25: TTE | FG25: Vendredi | FH25: PS | FI25: FS | FJ25: TTE | FK25: Samedi | FL25: PS | FM25: FS | FN25: TTE | FO25: Dimanche | FP25: PS | FQ25: FS | FR25: TTE | FS25: TTE HEBDO
A26: Chef Meca 1 | B26: Congés | C26: - | D26: - | E26: 00:00 | F26: Congés | G26: - | H26: - | I26: 00:00 | J26: Congés | K26: - | L26: - | M26: 00:00 | N26: Congés | O26: - | P26: - | Q26: 00:00 | R26: Congés | S26: - | T26: - | U26: 00:00 | V26: Congés | W26: - | X26: - | Y26: 00:00 | Z26: R | AA26: - | AB26: - | AC26: 00:00 | AD26: =E26+I26+M26+Q26+U26+Y26+AC26 -> 0 | AE26: Congés | AF26: - | AG26: - | AH26: 00:00 | AI26: Congés | AJ26: - | AK26: - | AL26: 00:00 | AM26: Congés | AN26: - | AO26: - | AP26: 00:00 | AQ26: Congés | AR26: - | AS26: - | AT26: 00:00 | AU26: Congés | AV26: - | AW26: - | AX26: 00:00 | AY26: Congés | AZ26: - | BA26: - | BB26: 00:00 | BC26: R | BD26: - | BE26: - | BF26: 00:00 | BG26: =AH26+AL26+AP26+AT26+AX26+BB26+BF26 -> 0 | BH26: Congés | BI26: =VLOOKUP(BH26,'PS-FS'!$D$2:$F$56,2,FALSE) -> - | BJ26: =VLOOKUP(BH26,'PS-FS'!$D$2:$F$56,3,FALSE) -> - | BK26: =IFERROR(VLOOKUP(BH26,'PS-FS'!$D$1:$H$56,5,FALSE),"00:00") -> 0 | BL26: Congés | BM26: =VLOOKUP(BL26,'PS-FS'!$D$2:$F$56,2,FALSE) -> - | BN26: =VLOOKUP(BL26,'PS-FS'!$D$2:$F$56,3,FALSE) -> - | BO26: =IFERROR(VLOOKUP(BL26,'PS-FS'!$D$1:$H$56,5,FALSE),"00:00") -> 0 | BP26: Dispo-AM | BQ26: =VLOOKUP(BP26,'PS-FS'!$D$2:$F$56,2,FALSE) -> 0.20833333 | BR26: =VLOOKUP(BP26,'PS-FS'!$D$2:$F$56,3,FALSE) -> 0.5 | BS26: =IFERROR(VLOOKUP(BP26,'PS-FS'!$D$1:$H$56,5,FALSE),"00:00") -> 0.29166667 | BT26: PdB-AM | BU26: =VLOOKUP(BT26,'PS-FS'!$D$2:$F$56,2,FALSE) -> 0.21180556 | BV26: =VLOOKUP(BT26,'PS-FS'!$D$2:$F$56,3,FALSE) -> 0.42013889 | BW26: =IFERROR(VLOOKUP(BT26,'PS-FS'!$D$1:$H$56,5,FALSE),"00:00") -> 0.20833333 | BX26: AA_AM-AM | BY26: =VLOOKUP(BX26,'PS-FS'!$D$2:$F$56,2,FALSE) -> 0.20833333 | BZ26: =VLOOKUP(BX26,'PS-FS'!$D$2:$F$56,3,FALSE) -> 0.53472222 | CA26: =IFERROR(VLOOKUP(BX26,'PS-FS'!$D$1:$H$56,5,FALSE),"00:00") -> 0.3125 | CB26: AM_AA-AM-Sam | CC26: =VLOOKUP(CB26,'PS-FS'!$D$2:$F$56,2,FALSE) -> 0.22916667 | CD26: =VLOOKUP(CB26,'PS-FS'!$D$2:$F$56,3,FALSE) -> 0.58680556 | CE26: =IFERROR(VLOOKUP(CB26,'PS-FS'!$D$1:$H$56,5,FALSE),"00:00") -> 0.34375 | CF26: R | CG26: - | CH26: - | CI26: =IFERROR(VLOOKUP(CF26,'PS-FS'!$D$1:$H$56,5,FALSE),"00:00") -> 0 | CJ26: =BK26+BO26+BS26+BW26+CA26+CE26+CI26 -> 1.15625 | CK26: AA_AM-PM | CL26: =VLOOKUP(CK26,'PS-FS'!$D$2:$F$56,2,FALSE) -> 0.55902778 | CM26: =VLOOKUP(CK26,'PS-FS'!$D$2:$F$56,3,FALSE) -> 0.83680556 | CN26: =IFERROR(VLOOKUP(CK26,'PS-FS'!$D$1:$H$56,5,FALSE),"00:00") -> 0.26388889 | CO26: AA_AM-PM | CP26: =VLOOKUP(CO26,'PS-FS'!$D$2:$F$56,2,FALSE) -> 0.55902778 | CQ26: =VLOOKUP(CO26,'PS-FS'!$D$2:$F$56,3,FALSE) -> 0.83680556 | CR26: =IFERROR(VLOOKUP(CO26,'PS-FS'!$D$1:$H$56,5,FALSE),"00:00") -> 0.26388889 | CS26: PdB-Jour | CT26: =VLOOKUP(CS26,'PS-FS'!$D$2:$F$56,2,FALSE) -> 0.42708333 | CU26: =VLOOKUP(CS26,'PS-FS'!$D$2:$F$56,3,FALSE) -> 0.65625 | CV26: =IFERROR(VLOOKUP(CS26,'PS-FS'!$D$1:$H$56,5,FALSE),"00:00") -> 0.22916667 | CW26: Dispo-PM | CX26: =VLOOKUP(CW26,'PS-FS'!$D$2:$F$56,2,FALSE) -> 0.5 | CY26: =VLOOKUP(CW26,'PS-FS'!$D$2:$F$56,3,FALSE) -> 0.79166667 | CZ26: =IFERROR(VLOOKUP(CW26,'PS-FS'!$D$1:$H$56,5,FALSE),"00:00") -> 0.29166667 | DA26: Bourg-PM | DB26: =VLOOKUP(DA26,'PS-FS'!$D$2:$F$56,2,FALSE) -> 0.52777778 | DC26: =VLOOKUP(DA26,'PS-FS'!$D$2:$F$56,3,FALSE) -> 0.83333333 | DD26: =IFERROR(VLOOKUP(DA26,'PS-FS'!$D$1:$H$56,5,FALSE),"00:00") -> 0.29166667 | DE26: R | DF26: =VLOOKUP(DE26,'PS-FS'!$D$2:$F$56,2,FALSE) -> - | DG26: =VLOOKUP(DE26,'PS-FS'!$D$2:$F$56,3,FALSE) -> - | DH26: =IFERROR(VLOOKUP(DE26,'PS-FS'!$D$1:$H$56,5,FALSE),"00:00") -> 0 | DI26: R | DJ26: =VLOOKUP(DI26,'PS-FS'!$D$2:$F$56,2,FALSE) -> - | DK26: =VLOOKUP(DI26,'PS-FS'!$D$2:$F$56,3,FALSE) -> - | DL26: =IFERROR(VLOOKUP(DI26,'PS-FS'!$D$1:$H$56,5,FALSE),"00:00") -> 0 | DM26: =CN26+CR26+CV26+CZ26+DD26+DH26+DL26 -> 1.3402778 | DN26: AA_AM-AM | DO26: =VLOOKUP(DN26,'PS-FS'!$D$2:$F$56,2,FALSE) -> 0.20833333 | DP26: =VLOOKUP(DN26,'PS-FS'!$D$2:$F$56,3,FALSE) -> 0.53472222 | DQ26: 0.27777778 | DR26: AA_AM-AM | DS26: =VLOOKUP(DR26,'PS-FS'!$D$2:$F$56,2,FALSE) -> 0.20833333 | DT26: =VLOOKUP(DR26,'PS-FS'!$D$2:$F$56,3,FALSE) -> 0.53472222 | DU26: 0.27777778 | DV26: R | DW26: =VLOOKUP(DV26,'PS-FS'!$D$2:$F$56,2,FALSE) -> - | DX26: =VLOOKUP(DV26,'PS-FS'!$D$2:$F$56,3,FALSE) -> - | DY26: =IFERROR(VLOOKUP(DV26,'PS-FS'!$D$1:$H$56,5,FALSE),"00:00") -> 0 | DZ26: PdB-AM | EA26: =VLOOKUP(DZ26,'PS-FS'!$D$2:$F$56,2,FALSE) -> 0.21180556 | EB26: =VLOOKUP(DZ26,'PS-FS'!$D$2:$F$56,3,FALSE) -> 0.42013889 | EC26: =IFERROR(VLOOKUP(DZ26,'PS-FS'!$D$1:$H$56,5,FALSE),"00:00") -> 0.20833333 | ED26: AA_AM-AM | EE26: =VLOOKUP(ED26,'PS-FS'!$D$2:$F$56,2,FALSE) -> 0.20833333 | EF26: =VLOOKUP(ED26,'PS-FS'!$D$2:$F$56,3,FALSE) -> 0.53472222 | EG26: =IFERROR(VLOOKUP(ED26,'PS-FS'!$D$1:$H$56,5,FALSE),"00:00") -> 0.3125 | EH26: AM_AA-AM-Sam | EI26: =VLOOKUP(EH26,'PS-FS'!$D$2:$F$56,2,FALSE) -> 0.22916667 | EJ26: =VLOOKUP(EH26,'PS-FS'!$D$2:$F$56,3,FALSE) -> 0.58680556 | EK26: =IFERROR(VLOOKUP(EH26,'PS-FS'!$D$1:$H$56,5,FALSE),"00:00") -> 0.34375 | EL26: R | EM26: - | EN26: - | EO26: 00:00 | EP26: =DQ26+DU26+DY26+EC26+EG26+EK26+EO26 -> 1.4201389 | EQ26: AA_AM-PM | ER26: =VLOOKUP(EQ26,'PS-FS'!$D$2:$F$56,2,FALSE) -> 0.55902778 | ES26: =VLOOKUP(EQ26,'PS-FS'!$D$2:$F$56,3,FALSE) -> 0.83680556 | ET26: =IFERROR(VLOOKUP(EQ26,'PS-FS'!$D$1:$H$56,5,FALSE),"00:00") -> 0.26388889 | EU26: AA_AM-PM | EV26: =VLOOKUP(EU26,'PS-FS'!$D$2:$F$56,2,FALSE) -> 0.55902778 | EW26: =VLOOKUP(EU26,'PS-FS'!$D$2:$F$56,3,FALSE) -> 0.83680556 | EX26: =IFERROR(VLOOKUP(EU26,'PS-FS'!$D$1:$H$56,5,FALSE),"00:00") -> 0.26388889 | EY26: PdB-Jour | EZ26: =VLOOKUP(EY26,'PS-FS'!$D$2:$F$56,2,FALSE) -> 0.42708333 | FA26: =VLOOKUP(EY26,'PS-FS'!$D$2:$F$56,3,FALSE) -> 0.65625 | FB26: =IFERROR(VLOOKUP(EY26,'PS-FS'!$D$1:$H$56,5,FALSE),"00:00") -> 0.22916667 | FC26: Dispo-PM | FD26: =VLOOKUP(FC26,'PS-FS'!$D$2:$F$56,2,FALSE) -> 0.5 | FE26: =VLOOKUP(FC26,'PS-FS'!$D$2:$F$56,3,FALSE) -> 0.79166667 | FF26: =IFERROR(VLOOKUP(FC26,'PS-FS'!$D$1:$H$56,5,FALSE),"00:00") -> 0.29166667 | FG26: Bourg-PM | FH26: =VLOOKUP(FG26,'PS-FS'!$D$2:$F$56,2,FALSE) -> 0.52777778 | FI26: =VLOOKUP(FG26,'PS-FS'!$D$2:$F$56,3,FALSE) -> 0.83333333 | FJ26: =IFERROR(VLOOKUP(FG26,'PS-FS'!$D$1:$H$56,5,FALSE),"00:00") -> 0.29166667 | FK26: R | FL26: =VLOOKUP(FK26,'PS-FS'!$D$2:$F$56,2,FALSE) -> - | FM26: =VLOOKUP(FK26,'PS-FS'!$D$2:$F$56,3,FALSE) -> - | FN26: =IFERROR(VLOOKUP(FK26,'PS-FS'!$D$1:$H$56,5,FALSE),"00:00") -> 0 | FO26: R | FP26: =VLOOKUP(FO26,'PS-FS'!$D$2:$F$56,2,FALSE) -> - | FQ26: =VLOOKUP(FO26,'PS-FS'!$D$2:$F$56,3,FALSE) -> - | FR26: 00:00 | FS26: =ET26+EX26+FB26+FF26+FJ26+FN26+FR26 -> 1.3402778
A27: Chef Meca 2 | B27: PdB-AM-N1 | C27: 0.20486111 | D27: 0.51041667 | E27: 0.30555556 | F27: PdB-AM-N1 | G27: 0.20486111 | H27: 0.51041667 | I27: 0.30555556 | J27: PdB-AM-N1 | K27: 0.20486111 | L27: 0.51041667 | M27: 0.30555556 | N27: R | O27: - | P27: - | Q27: 00:00 | R27: PdB-AM-N1 | S27: 0.20486111 | T27: 0.51041667 | U27: 0.30555556 | V27: PdB-AM-Sam N2 | W27: 0.24305556 | X27: 0.53125 | Y27: 0.28819444 | Z27: R | AA27: - | AB27: - | AC27: 00:00 | AD27: =E27+I27+M27+Q27+U27+Y27+AC27 -> 1.5104167 | AE27: PdB-AM-N1 | AF27: 0.20486111 | AG27: 0.51041667 | AH27: 0.30555556 | AI27: PdB-AM-N1 | AJ27: 0.20486111 | AK27: 0.51041667 | AL27: 0.30555556 | AM27: PdB-AM-N1 | AN27: 0.20486111 | AO27: 0.51041667 | AP27: 0.30555556 | AQ27: PdB-AM-N2 | AR27: 0.21527778 | AS27: 0.53125 | AT27: 0.31597222 | AU27: R | AV27: - | AW27: - | AX27: 00:00 | AY27: R | AZ27: - | BA27: - | BB27: 00:00 | BC27: R | BD27: - | BE27: - | BF27: 00:00 | BG27: =AH27+AL27+AP27+AT27+AX27+BB27+BF27 -> 1.2326389 | BH27: PdB-AM | BI27: =VLOOKUP(BH27,'PS-FS'!$D$2:$F$56,2,FALSE) -> 0.21180556 | BJ27: =VLOOKUP(BH27,'PS-FS'!$D$2:$F$56,3,FALSE) -> 0.42013889 | BK27: =IFERROR(VLOOKUP(BH27,'PS-FS'!$D$1:$H$56,5,FALSE),"00:00") -> 0.20833333 | BL27: PdB-AM | BM27: =VLOOKUP(BL27,'PS-FS'!$D$2:$F$56,2,FALSE) -> 0.21180556 | BN27: =VLOOKUP(BL27,'PS-FS'!$D$2:$F$56,3,FALSE) -> 0.42013889 | BO27: =IFERROR(VLOOKUP(BL27,'PS-FS'!$D$1:$H$56,5,FALSE),"00:00") -> 0.20833333 | BP27: PdB-AM | BQ27: =VLOOKUP(BP27,'PS-FS'!$D$2:$F$56,2,FALSE) -> 0.21180556 | BR27: =VLOOKUP(BP27,'PS-FS'!$D$2:$F$56,3,FALSE) -> 0.42013889 | BS27: =IFERROR(VLOOKUP(BP27,'PS-FS'!$D$1:$H$56,5,FALSE),"00:00") -> 0.20833333 | BT27: Dispo-AM | BU27: =VLOOKUP(BT27,'PS-FS'!$D$2:$F$56,2,FALSE) -> 0.20833333 | BV27: =VLOOKUP(BT27,'PS-FS'!$D$2:$F$56,3,FALSE) -> 0.5 | BW27: =IFERROR(VLOOKUP(BT27,'PS-FS'!$D$1:$H$56,5,FALSE),"00:00") -> 0.29166667 | BX27: PdB-AM | BY27: =VLOOKUP(BX27,'PS-FS'!$D$2:$F$56,2,FALSE) -> 0.21180556 | BZ27: =VLOOKUP(BX27,'PS-FS'!$D$2:$F$56,3,FALSE) -> 0.42013889 | CA27: =IFERROR(VLOOKUP(BX27,'PS-FS'!$D$1:$H$56,5,FALSE),"00:00") -> 0.20833333 | CB27: R | CC27: =VLOOKUP(CB27,'PS-FS'!$D$2:$F$56,2,FALSE) -> - | CD27: =VLOOKUP(CB27,'PS-FS'!$D$2:$F$56,3,FALSE) -> - | CE27: =IFERROR(VLOOKUP(CB27,'PS-FS'!$D$1:$H$56,5,FALSE),"00:00") -> 0 | CF27: Bourg/PdB-D&F-AM | CG27: 0.55208333 | CH27: 0.82638889 | CI27: =IFERROR(VLOOKUP(CF27,'PS-FS'!$D$1:$H$56,5,FALSE),"00:00") -> 0.25694444 | CJ27: =BK27+BO27+BS27+BW27+CA27+CE27+CI27 -> 1.3819444 | CK27: AA_AM-AM | CL27: =VLOOKUP(CK27,'PS-FS'!$D$2:$F$56,2,FALSE) -> 0.20833333 | CM27: =VLOOKUP(CK27,'PS-FS'!$D$2:$F$56,3,FALSE) -> 0.53472222 | CN27: 0.27777778 | CO27: AA_AM-AM | CP27: =VLOOKUP(CO27,'PS-FS'!$D$2:$F$56,2,FALSE) -> 0.20833333 | CQ27: =VLOOKUP(CO27,'PS-FS'!$D$2:$F$56,3,FALSE) -> 0.53472222 | CR27: 0.27777778 | CS27: R | CT27: =VLOOKUP(CS27,'PS-FS'!$D$2:$F$56,2,FALSE) -> - | CU27: =VLOOKUP(CS27,'PS-FS'!$D$2:$F$56,3,FALSE) -> - | CV27: =IFERROR(VLOOKUP(CS27,'PS-FS'!$D$1:$H$56,5,FALSE),"00:00") -> 0 | CW27: PdB-AM | CX27: =VLOOKUP(CW27,'PS-FS'!$D$2:$F$56,2,FALSE) -> 0.21180556 | CY27: =VLOOKUP(CW27,'PS-FS'!$D$2:$F$56,3,FALSE) -> 0.42013889 | CZ27: =IFERROR(VLOOKUP(CW27,'PS-FS'!$D$1:$H$56,5,FALSE),"00:00") -> 0.20833333 | DA27: AA_AM-AM | DB27: =VLOOKUP(DA27,'PS-FS'!$D$2:$F$56,2,FALSE) -> 0.20833333 | DC27: =VLOOKUP(DA27,'PS-FS'!$D$2:$F$56,3,FALSE) -> 0.53472222 | DD27: =IFERROR(VLOOKUP(DA27,'PS-FS'!$D$1:$H$56,5,FALSE),"00:00") -> 0.3125 | DE27: AM_AA-AM-Sam | DF27: =VLOOKUP(DE27,'PS-FS'!$D$2:$F$56,2,FALSE) -> 0.22916667 | DG27: =VLOOKUP(DE27,'PS-FS'!$D$2:$F$56,3,FALSE) -> 0.58680556 | DH27: =IFERROR(VLOOKUP(DE27,'PS-FS'!$D$1:$H$56,5,FALSE),"00:00") -> 0.34375 | DI27: R | DJ27: =VLOOKUP(DI27,'PS-FS'!$D$2:$F$56,2,FALSE) -> - | DK27: =VLOOKUP(DI27,'PS-FS'!$D$2:$F$56,3,FALSE) -> - | DL27: =IFERROR(VLOOKUP(DI27,'PS-FS'!$D$1:$H$56,5,FALSE),"00:00") -> 0 | DM27: =CN27+CR27+CV27+CZ27+DD27+DH27+DL27 -> 1.4201389 | DN27: PdB-AM | DO27: =VLOOKUP(DN27,'PS-FS'!$D$2:$F$56,2,FALSE) -> 0.21180556 | DP27: =VLOOKUP(DN27,'PS-FS'!$D$2:$F$56,3,FALSE) -> 0.42013889 | DQ27: =IFERROR(VLOOKUP(DN27,'PS-FS'!$D$1:$H$56,5,FALSE),"00:00") -> 0.20833333 | DR27: PdB-AM | DS27: =VLOOKUP(DR27,'PS-FS'!$D$2:$F$56,2,FALSE) -> 0.21180556 | DT27: =VLOOKUP(DR27,'PS-FS'!$D$2:$F$56,3,FALSE) -> 0.42013889 | DU27: =IFERROR(VLOOKUP(DR27,'PS-FS'!$D$1:$H$56,5,FALSE),"00:00") -> 0.20833333 | DV27: PdB-AM | DW27: =VLOOKUP(DV27,'PS-FS'!$D$2:$F$56,2,FALSE) -> 0.21180556 | DX27: =VLOOKUP(DV27,'PS-FS'!$D$2:$F$56,3,FALSE) -> 0.42013889 | DY27: =IFERROR(VLOOKUP(DV27,'PS-FS'!$D$1:$H$56,5,FALSE),"00:00") -> 0.20833333 | DZ27: Dispo-AM | EA27: =VLOOKUP(DZ27,'PS-FS'!$D$2:$F$56,2,FALSE) -> 0.20833333 | EB27: =VLOOKUP(DZ27,'PS-FS'!$D$2:$F$56,3,FALSE) -> 0.5 | EC27: =IFERROR(VLOOKUP(DZ27,'PS-FS'!$D$1:$H$56,5,FALSE),"00:00") -> 0.29166667 | ED27: PdB-AM | EE27: =VLOOKUP(ED27,'PS-FS'!$D$2:$F$56,2,FALSE) -> 0.21180556 | EF27: =VLOOKUP(ED27,'PS-FS'!$D$2:$F$56,3,FALSE) -> 0.42013889 | EG27: =IFERROR(VLOOKUP(ED27,'PS-FS'!$D$1:$H$56,5,FALSE),"00:00") -> 0.20833333 | EH27: R | EI27: =VLOOKUP(EH27,'PS-FS'!$D$2:$F$56,2,FALSE) -> - | EJ27: =VLOOKUP(EH27,'PS-FS'!$D$2:$F$56,3,FALSE) -> - | EK27: =IFERROR(VLOOKUP(EH27,'PS-FS'!$D$1:$H$56,5,FALSE),"00:00") -> 0 | EL27: Bourg/PdB-D&F-AM | EM27: 0.55208333 | EN27: 0.82638889 | EO27: 0.27430556 | EP27: =DQ27+DU27+DY27+EC27+EG27+EK27+EO27 -> 1.3993056 | EQ27: AA_AM-AM | ER27: =VLOOKUP(EQ27,'PS-FS'!$D$2:$F$56,2,FALSE) -> 0.20833333 | ES27: =VLOOKUP(EQ27,'PS-FS'!$D$2:$F$56,3,FALSE) -> 0.53472222 | ET27: 0.27777778 | EU27: AA_AM-AM | EV27: =VLOOKUP(EU27,'PS-FS'!$D$2:$F$56,2,FALSE) -> 0.20833333 | EW27: =VLOOKUP(EU27,'PS-FS'!$D$2:$F$56,3,FALSE) -> 0.53472222 | EX27: 0.27777778 | EY27: R | EZ27: =VLOOKUP(EY27,'PS-FS'!$D$2:$F$56,2,FALSE) -> - | FA27: =VLOOKUP(EY27,'PS-FS'!$D$2:$F$56,3,FALSE) -> - | FB27: =IFERROR(VLOOKUP(EY27,'PS-FS'!$D$1:$H$56,5,FALSE),"00:00") -> 0 | FC27: PdB-AM | FD27: =VLOOKUP(FC27,'PS-FS'!$D$2:$F$56,2,FALSE) -> 0.21180556 | FE27: =VLOOKUP(FC27,'PS-FS'!$D$2:$F$56,3,FALSE) -> 0.42013889 | FF27: =IFERROR(VLOOKUP(FC27,'PS-FS'!$D$1:$H$56,5,FALSE),"00:00") -> 0.20833333 | FG27: AA_AM-AM | FH27: =VLOOKUP(FG27,'PS-FS'!$D$2:$F$56,2,FALSE) -> 0.20833333 | FI27: =VLOOKUP(FG27,'PS-FS'!$D$2:$F$56,3,FALSE) -> 0.53472222 | FJ27: =IFERROR(VLOOKUP(FG27,'PS-FS'!$D$1:$H$56,5,FALSE),"00:00") -> 0.3125 | FK27: AM_AA-AM-Sam | FL27: =VLOOKUP(FK27,'PS-FS'!$D$2:$F$56,2,FALSE) -> 0.22916667 | FM27: =VLOOKUP(FK27,'PS-FS'!$D$2:$F$56,3,FALSE) -> 0.58680556 | FN27: =IFERROR(VLOOKUP(FK27,'PS-FS'!$D$1:$H$56,5,FALSE),"00:00") -> 0.34375 | FO27: R | FP27: =VLOOKUP(FO27,'PS-FS'!$D$2:$F$56,2,FALSE) -> - | FQ27: =VLOOKUP(FO27,'PS-FS'!$D$2:$F$56,3,FALSE) -> - | FR27: 00:00 | FS27: =ET27+EX27+FB27+FF27+FJ27+FN27+FR27 -> 1.4201389
A28: Chef Meca 3 | B28: Dispo-AM | C28: 0.20833333 | D28: 0.5 | E28: 0.29166667 | F28: R | G28: - | H28: - | I28: 00:00 | J28: PdB-AM-N2 | K28: 0.21527778 | L28: 0.53125 | M28: 0.31597222 | N28: Dispo-PM | O28: 0.5 | P28: 0.79166667 | Q28: 0.29166667 | R28: PdB-PM-N2 | S28: 0.51736111 | T28: 0.81944444 | U28: 0.30208333 | V28: PdB-AM-Sam N1 | W28: 0.23263889 | X28: 0.51041667 | Y28: 0.27777778 | Z28: R | AA28: - | AB28: - | AC28: 00:00 | AD28: =E28+I28+M28+Q28+U28+Y28+AC28 -> 1.4791667 | AE28: R | AF28: - | AG28: - | AH28: 00:00 | AI28: PdB-AM-N2 | AJ28: 0.21527778 | AK28: 0.53125 | AL28: 0.31597222 | AM28: Dispo-AM | AN28: 0.20833333 | AO28: 0.5 | AP28: 0.29166667 | AQ28: Dispo-PM | AR28: 0.5 | AS28: 0.79166667 | AT28: 0.29166667 | AU28: PdB-PM-N2 | AV28: 0.51736111 | AW28: 0.81944444 | AX28: 0.30208333 | AY28: PdB-PM-Sam N2 | AZ28: 0.51736111 | BA28: 0.81944444 | BB28: 0.30208333 | BC28: R | BD28: - | BE28: - | BF28: 00:00 | BG28: =AH28+AL28+AP28+AT28+AX28+BB28+BF28 -> 1.5034722 | BH28: PdB-Jour | BI28: =VLOOKUP(BH28,'PS-FS'!$D$2:$F$56,2,FALSE) -> 0.42708333 | BJ28: =VLOOKUP(BH28,'PS-FS'!$D$2:$F$56,3,FALSE) -> 0.65625 | BK28: =IFERROR(VLOOKUP(BH28,'PS-FS'!$D$1:$H$56,5,FALSE),"00:00") -> 0.22916667 | BL28: PdB-Jour | BM28: =VLOOKUP(BL28,'PS-FS'!$D$2:$F$56,2,FALSE) -> 0.42708333 | BN28: =VLOOKUP(BL28,'PS-FS'!$D$2:$F$56,3,FALSE) -> 0.65625 | BO28: =IFERROR(VLOOKUP(BL28,'PS-FS'!$D$1:$H$56,5,FALSE),"00:00") -> 0.22916667 | BP28: PdB-Jour | BQ28: =VLOOKUP(BP28,'PS-FS'!$D$2:$F$56,2,FALSE) -> 0.42708333 | BR28: =VLOOKUP(BP28,'PS-FS'!$D$2:$F$56,3,FALSE) -> 0.65625 | BS28: =IFERROR(VLOOKUP(BP28,'PS-FS'!$D$1:$H$56,5,FALSE),"00:00") -> 0.22916667 | BT28: PdB-Jour | BU28: =VLOOKUP(BT28,'PS-FS'!$D$2:$F$56,2,FALSE) -> 0.42708333 | BV28: =VLOOKUP(BT28,'PS-FS'!$D$2:$F$56,3,FALSE) -> 0.65625 | BW28: =IFERROR(VLOOKUP(BT28,'PS-FS'!$D$1:$H$56,5,FALSE),"00:00") -> 0.22916667 | BX28: R | BY28: =VLOOKUP(BX28,'PS-FS'!$D$2:$F$56,2,FALSE) -> - | BZ28: =VLOOKUP(BX28,'PS-FS'!$D$2:$F$56,3,FALSE) -> - | CA28: =IFERROR(VLOOKUP(BX28,'PS-FS'!$D$1:$H$56,5,FALSE),"00:00") -> 0 | CB28: AM_AA-PM-Sam | CC28: =VLOOKUP(CB28,'PS-FS'!$D$2:$F$56,2,FALSE) -> 0.55208333 | CD28: =VLOOKUP(CB28,'PS-FS'!$D$2:$F$56,3,FALSE) -> 0.79861111 | CE28: =IFERROR(VLOOKUP(CB28,'PS-FS'!$D$1:$H$56,5,FALSE),"00:00") -> 0.24652778 | CF28: R | CG28: - | CH28: - | CI28: =IFERROR(VLOOKUP(CF28,'PS-FS'!$D$1:$H$56,5,FALSE),"00:00") -> 0 | CJ28: =BK28+BO28+BS28+BW28+CA28+CE28+CI28 -> 1.1631944 | CK28: PdB-AM | CL28: =VLOOKUP(CK28,'PS-FS'!$D$2:$F$56,2,FALSE) -> 0.21180556 | CM28: =VLOOKUP(CK28,'PS-FS'!$D$2:$F$56,3,FALSE) -> 0.42013889 | CN28: =IFERROR(VLOOKUP(CK28,'PS-FS'!$D$1:$H$56,5,FALSE),"00:00") -> 0.20833333 | CO28: PdB-AM | CP28: =VLOOKUP(CO28,'PS-FS'!$D$2:$F$56,2,FALSE) -> 0.21180556 | CQ28: =VLOOKUP(CO28,'PS-FS'!$D$2:$F$56,3,FALSE) -> 0.42013889 | CR28: =IFERROR(VLOOKUP(CO28,'PS-FS'!$D$1:$H$56,5,FALSE),"00:00") -> 0.20833333 | CS28: PdB-AM | CT28: =VLOOKUP(CS28,'PS-FS'!$D$2:$F$56,2,FALSE) -> 0.21180556 | CU28: =VLOOKUP(CS28,'PS-FS'!$D$2:$F$56,3,FALSE) -> 0.42013889 | CV28: =IFERROR(VLOOKUP(CS28,'PS-FS'!$D$1:$H$56,5,FALSE),"00:00") -> 0.20833333 | CW28: Dispo-AM | CX28: =VLOOKUP(CW28,'PS-FS'!$D$2:$F$56,2,FALSE) -> 0.20833333 | CY28: =VLOOKUP(CW28,'PS-FS'!$D$2:$F$56,3,FALSE) -> 0.5 | CZ28: =IFERROR(VLOOKUP(CW28,'PS-FS'!$D$1:$H$56,5,FALSE),"00:00") -> 0.29166667 | DA28: PdB-AM | DB28: =VLOOKUP(DA28,'PS-FS'!$D$2:$F$56,2,FALSE) -> 0.21180556 | DC28: =VLOOKUP(DA28,'PS-FS'!$D$2:$F$56,3,FALSE) -> 0.42013889 | DD28: =IFERROR(VLOOKUP(DA28,'PS-FS'!$D$1:$H$56,5,FALSE),"00:00") -> 0.20833333 | DE28: R | DF28: =VLOOKUP(DE28,'PS-FS'!$D$2:$F$56,2,FALSE) -> - | DG28: =VLOOKUP(DE28,'PS-FS'!$D$2:$F$56,3,FALSE) -> - | DH28: =IFERROR(VLOOKUP(DE28,'PS-FS'!$D$1:$H$56,5,FALSE),"00:00") -> 0 | DI28: Bourg/PdB-D&F-AM | DJ28: =VLOOKUP(DI28,'PS-FS'!$D$2:$F$56,2,FALSE) -> 0.27777778 | DK28: =VLOOKUP(DI28,'PS-FS'!$D$2:$F$56,3,FALSE) -> 0.54861111 | DL28: =IFERROR(VLOOKUP(DI28,'PS-FS'!$D$1:$H$56,5,FALSE),"00:00") -> 0.25694444 | DM28: =CN28+CR28+CV28+CZ28+DD28+DH28+DL28 -> 1.3819444 | DN28: PdB-Soir | DO28: =VLOOKUP(DN28,'PS-FS'!$D$2:$F$56,2,FALSE) -> 0.69097222 | DP28: =VLOOKUP(DN28,'PS-FS'!$D$2:$F$56,3,FALSE) -> 0.95833333 | DQ28: =IFERROR(VLOOKUP(DN28,'PS-FS'!$D$1:$H$56,5,FALSE),"00:00") -> 0.25347222 | DR28: PdB-Soir | DS28: =VLOOKUP(DR28,'PS-FS'!$D$2:$F$56,2,FALSE) -> 0.69097222 | DT28: =VLOOKUP(DR28,'PS-FS'!$D$2:$F$56,3,FALSE) -> 0.95833333 | DU28: =IFERROR(VLOOKUP(DR28,'PS-FS'!$D$1:$H$56,5,FALSE),"00:00") -> 0.25347222 | DV28: PdB-Soir | DW28: =VLOOKUP(DV28,'PS-FS'!$D$2:$F$56,2,FALSE) -> 0.69097222 | DX28: =VLOOKUP(DV28,'PS-FS'!$D$2:$F$56,3,FALSE) -> 0.95833333 | DY28: =IFERROR(VLOOKUP(DV28,'PS-FS'!$D$1:$H$56,5,FALSE),"00:00") -> 0.25347222 | DZ28: PdB-Soir | EA28: =VLOOKUP(DZ28,'PS-FS'!$D$2:$F$56,2,FALSE) -> 0.69097222 | EB28: =VLOOKUP(DZ28,'PS-FS'!$D$2:$F$56,3,FALSE) -> 0.95833333 | EC28: =IFERROR(VLOOKUP(DZ28,'PS-FS'!$D$1:$H$56,5,FALSE),"00:00") -> 0.25347222 | ED28: PdB-Soir | EE28: =VLOOKUP(ED28,'PS-FS'!$D$2:$F$56,2,FALSE) -> 0.69097222 | EF28: =VLOOKUP(ED28,'PS-FS'!$D$2:$F$56,3,FALSE) -> 0.95833333 | EG28: 00:00 | EH28: AM_AA-PM-Sam | EI28: =VLOOKUP(EH28,'PS-FS'!$D$2:$F$56,2,FALSE) -> 0.55208333 | EJ28: =VLOOKUP(EH28,'PS-FS'!$D$2:$F$56,3,FALSE) -> 0.79861111 | EK28: =IFERROR(VLOOKUP(EH28,'PS-FS'!$D$1:$H$56,5,FALSE),"00:00") -> 0.24652778 | EL28: R | EM28: - | EN28: - | EO28: 00:00 | EP28: =DQ28+DU28+DY28+EC28+EG28+EK28+EO28 -> 1.2604167 | EQ28: PdB-AM | ER28: =VLOOKUP(EQ28,'PS-FS'!$D$2:$F$56,2,FALSE) -> 0.21180556 | ES28: =VLOOKUP(EQ28,'PS-FS'!$D$2:$F$56,3,FALSE) -> 0.42013889 | ET28: =IFERROR(VLOOKUP(EQ28,'PS-FS'!$D$1:$H$56,5,FALSE),"00:00") -> 0.20833333 | EU28: PdB-AM | EV28: =VLOOKUP(EU28,'PS-FS'!$D$2:$F$56,2,FALSE) -> 0.21180556 | EW28: =VLOOKUP(EU28,'PS-FS'!$D$2:$F$56,3,FALSE) -> 0.42013889 | EX28: =IFERROR(VLOOKUP(EU28,'PS-FS'!$D$1:$H$56,5,FALSE),"00:00") -> 0.20833333 | EY28: PdB-AM | EZ28: =VLOOKUP(EY28,'PS-FS'!$D$2:$F$56,2,FALSE) -> 0.21180556 | FA28: =VLOOKUP(EY28,'PS-FS'!$D$2:$F$56,3,FALSE) -> 0.42013889 | FB28: =IFERROR(VLOOKUP(EY28,'PS-FS'!$D$1:$H$56,5,FALSE),"00:00") -> 0.20833333 | FC28: Dispo-AM | FD28: =VLOOKUP(FC28,'PS-FS'!$D$2:$F$56,2,FALSE) -> 0.20833333 | FE28: =VLOOKUP(FC28,'PS-FS'!$D$2:$F$56,3,FALSE) -> 0.5 | FF28: =IFERROR(VLOOKUP(FC28,'PS-FS'!$D$1:$H$56,5,FALSE),"00:00") -> 0.29166667 | FG28: PdB-AM | FH28: =VLOOKUP(FG28,'PS-FS'!$D$2:$F$56,2,FALSE) -> 0.21180556 | FI28: =VLOOKUP(FG28,'PS-FS'!$D$2:$F$56,3,FALSE) -> 0.42013889 | FJ28: =IFERROR(VLOOKUP(FG28,'PS-FS'!$D$1:$H$56,5,FALSE),"00:00") -> 0.20833333 | FK28: R | FL28: =VLOOKUP(FK28,'PS-FS'!$D$2:$F$56,2,FALSE) -> - | FM28: =VLOOKUP(FK28,'PS-FS'!$D$2:$F$56,3,FALSE) -> - | FN28: =IFERROR(VLOOKUP(FK28,'PS-FS'!$D$1:$H$56,5,FALSE),"00:00") -> 0 | FO28: Bourg/PdB-D&F-AM | FP28: =VLOOKUP(FO28,'PS-FS'!$D$2:$F$56,2,FALSE) -> 0.27777778 | FQ28: =VLOOKUP(FO28,'PS-FS'!$D$2:$F$56,3,FALSE) -> 0.54861111 | FR28: 0.27430556 | FS28: =ET28+EX28+FB28+FF28+FJ28+FN28+FR28 -> 1.3993056
A29: Chef Meca 4 | B29: PdB-PM-N1 | C29: 0.49652778 | D29: 0.80902778 | E29: 0.3125 | F29: Dispo-PM | G29: 0.5 | H29: 0.79166667 | I29: 0.29166667 | J29: Dispo-PM | K29: 0.5 | L29: 0.79166667 | M29: 0.29166667 | N29: PdB-PM-N2 | O29: 0.51736111 | P29: 0.81944444 | Q29: 0.30208333 | R29: Dispo-AM | S29: 0.20833333 | T29: 0.5 | U29: 0.29166667 | V29: Congés | W29: - | X29: - | Y29: 00:00 | Z29: R | AA29: - | AB29: - | AC29: 00:00 | AD29: =E29+I29+M29+Q29+U29+Y29+AC29 -> 1.4895833 | AE29: Congés | AF29: - | AG29: - | AH29: 00:00 | AI29: Congés | AJ29: - | AK29: - | AL29: 00:00 | AM29: Congés | AN29: - | AO29: - | AP29: 00:00 | AQ29: Congés | AR29: - | AS29: - | AT29: 00:00 | AU29: Congés | AV29: - | AW29: - | AX29: 00:00 | AY29: Congés | AZ29: - | BA29: - | BB29: 00:00 | BC29: R | BD29: - | BE29: - | BF29: 00:00 | BG29: =AH29+AL29+AP29+AT29+AX29+BB29+BF29 -> 0 | BH29: Congés | BI29: =VLOOKUP(BH29,'PS-FS'!$D$2:$F$56,2,FALSE) -> - | BJ29: =VLOOKUP(BH29,'PS-FS'!$D$2:$F$56,3,FALSE) -> - | BK29: =IFERROR(VLOOKUP(BH29,'PS-FS'!$D$1:$H$56,5,FALSE),"00:00") -> 0 | BL29: Congés | BM29: =VLOOKUP(BL29,'PS-FS'!$D$2:$F$56,2,FALSE) -> - | BN29: =VLOOKUP(BL29,'PS-FS'!$D$2:$F$56,3,FALSE) -> - | BO29: =IFERROR(VLOOKUP(BL29,'PS-FS'!$D$1:$H$56,5,FALSE),"00:00") -> 0 | BP29: Congés | BQ29: =VLOOKUP(BP29,'PS-FS'!$D$2:$F$56,2,FALSE) -> - | BR29: =VLOOKUP(BP29,'PS-FS'!$D$2:$F$56,3,FALSE) -> - | BS29: =IFERROR(VLOOKUP(BP29,'PS-FS'!$D$1:$H$56,5,FALSE),"00:00") -> 0 | BT29: Congés | BU29: =VLOOKUP(BT29,'PS-FS'!$D$2:$F$56,2,FALSE) -> - | BV29: =VLOOKUP(BT29,'PS-FS'!$D$2:$F$56,3,FALSE) -> - | BW29: =IFERROR(VLOOKUP(BT29,'PS-FS'!$D$1:$H$56,5,FALSE),"00:00") -> 0 | BX29: Congés | BY29: =VLOOKUP(BX29,'PS-FS'!$D$2:$F$56,2,FALSE) -> - | BZ29: =VLOOKUP(BX29,'PS-FS'!$D$2:$F$56,3,FALSE) -> - | CA29: =IFERROR(VLOOKUP(BX29,'PS-FS'!$D$1:$H$56,5,FALSE),"00:00") -> 0 | CB29: Congés | CC29: =VLOOKUP(CB29,'PS-FS'!$D$2:$F$56,2,FALSE) -> - | CD29: =VLOOKUP(CB29,'PS-FS'!$D$2:$F$56,3,FALSE) -> - | CE29: =IFERROR(VLOOKUP(CB29,'PS-FS'!$D$1:$H$56,5,FALSE),"00:00") -> 0 | CF29: R | CG29: - | CH29: - | CI29: =IFERROR(VLOOKUP(CF29,'PS-FS'!$D$1:$H$56,5,FALSE),"00:00") -> 0 | CJ29: =BK29+BO29+BS29+BW29+CA29+CE29+CI29 -> 0 | CK29: Congés | CL29: =VLOOKUP(CK29,'PS-FS'!$D$2:$F$56,2,FALSE) -> - | CM29: =VLOOKUP(CK29,'PS-FS'!$D$2:$F$56,3,FALSE) -> - | CN29: 00:00 | CO29: Congés | CP29: =VLOOKUP(CO29,'PS-FS'!$D$2:$F$56,2,FALSE) -> - | CQ29: =VLOOKUP(CO29,'PS-FS'!$D$2:$F$56,3,FALSE) -> - | CR29: 00:00 | CS29: Congés | CT29: =VLOOKUP(CS29,'PS-FS'!$D$2:$F$56,2,FALSE) -> - | CU29: =VLOOKUP(CS29,'PS-FS'!$D$2:$F$56,3,FALSE) -> - | CV29: 00:00 | CW29: AA_AM-AM | CX29: =VLOOKUP(CW29,'PS-FS'!$D$2:$F$56,2,FALSE) -> 0.20833333 | CY29: =VLOOKUP(CW29,'PS-FS'!$D$2:$F$56,3,FALSE) -> 0.53472222 | CZ29: 0.27777778 | DA29: Dispo-AM | DB29: =VLOOKUP(DA29,'PS-FS'!$D$2:$F$56,2,FALSE) -> 0.20833333 | DC29: =VLOOKUP(DA29,'PS-FS'!$D$2:$F$56,3,FALSE) -> 0.5 | DD29: 0.29166667 | DE29: PdB-Jour-Sam | DF29: =VLOOKUP(DE29,'PS-FS'!$D$2:$F$56,2,FALSE) -> 0.42708333 | DG29: =VLOOKUP(DE29,'PS-FS'!$D$2:$F$56,3,FALSE) -> 0.6875 | DH29: =IFERROR(VLOOKUP(DE29,'PS-FS'!$D$1:$H$56,5,FALSE),"00:00") -> 0.26041667 | DI29: R | DJ29: =VLOOKUP(DI29,'PS-FS'!$D$2:$F$56,2,FALSE) -> - | DK29: =VLOOKUP(DI29,'PS-FS'!$D$2:$F$56,3,FALSE) -> - | DL29: =IFERROR(VLOOKUP(DI29,'PS-FS'!$D$1:$H$56,5,FALSE),"00:00") -> 0 | DM29: =CN29+CR29+CV29+CZ29+DD29+DH29+DL29 -> 0.82986111 | DN29: PdB-Jour | DO29: =VLOOKUP(DN29,'PS-FS'!$D$2:$F$56,2,FALSE) -> 0.42708333 | DP29: =VLOOKUP(DN29,'PS-FS'!$D$2:$F$56,3,FALSE) -> 0.65625 | DQ29: =IFERROR(VLOOKUP(DN29,'PS-FS'!$D$1:$H$56,5,FALSE),"00:00") -> 0.22916667 | DR29: Dispo-AM | DS29: =VLOOKUP(DR29,'PS-FS'!$D$2:$F$56,2,FALSE) -> 0.20833333 | DT29: =VLOOKUP(DR29,'PS-FS'!$D$2:$F$56,3,FALSE) -> 0.5 | DU29: =IFERROR(VLOOKUP(DR29,'PS-FS'!$D$1:$H$56,5,FALSE),"00:00") -> 0.29166667 | DV29: AA_AM-AM | DW29: =VLOOKUP(DV29,'PS-FS'!$D$2:$F$56,2,FALSE) -> 0.20833333 | DX29: =VLOOKUP(DV29,'PS-FS'!$D$2:$F$56,3,FALSE) -> 0.53472222 | DY29: =IFERROR(VLOOKUP(DV29,'PS-FS'!$D$1:$H$56,5,FALSE),"00:00") -> 0.3125 | DZ29: PdB-Jour | EA29: =VLOOKUP(DZ29,'PS-FS'!$D$2:$F$56,2,FALSE) -> 0.42708333 | EB29: =VLOOKUP(DZ29,'PS-FS'!$D$2:$F$56,3,FALSE) -> 0.65625 | EC29: =IFERROR(VLOOKUP(DZ29,'PS-FS'!$D$1:$H$56,5,FALSE),"00:00") -> 0.22916667 | ED29: PdB-Jour | EE29: =VLOOKUP(ED29,'PS-FS'!$D$2:$F$56,2,FALSE) -> 0.42708333 | EF29: =VLOOKUP(ED29,'PS-FS'!$D$2:$F$56,3,FALSE) -> 0.65625 | EG29: =IFERROR(VLOOKUP(ED29,'PS-FS'!$D$1:$H$56,5,FALSE),"00:00") -> 0.22916667 | EH29: R | EI29: =VLOOKUP(EH29,'PS-FS'!$D$2:$F$56,2,FALSE) -> - | EJ29: =VLOOKUP(EH29,'PS-FS'!$D$2:$F$56,3,FALSE) -> - | EK29: =IFERROR(VLOOKUP(EH29,'PS-FS'!$D$1:$H$56,5,FALSE),"00:00") -> 0 | EL29: R | EM29: - | EN29: - | EO29: 00:00 | EP29: =DQ29+DU29+DY29+EC29+EG29+EK29+EO29 -> 1.2916667 | EQ29: PdB-Soir | ER29: =VLOOKUP(EQ29,'PS-FS'!$D$2:$F$56,2,FALSE) -> 0.69097222 | ES29: =VLOOKUP(EQ29,'PS-FS'!$D$2:$F$56,3,FALSE) -> 0.95833333 | ET29: =IFERROR(VLOOKUP(EQ29,'PS-FS'!$D$1:$H$56,5,FALSE),"00:00") -> 0.25347222 | EU29: PdB-Soir | EV29: =VLOOKUP(EU29,'PS-FS'!$D$2:$F$56,2,FALSE) -> 0.69097222 | EW29: =VLOOKUP(EU29,'PS-FS'!$D$2:$F$56,3,FALSE) -> 0.95833333 | EX29: =IFERROR(VLOOKUP(EU29,'PS-FS'!$D$1:$H$56,5,FALSE),"00:00") -> 0.25347222 | EY29: PdB-Soir | EZ29: =VLOOKUP(EY29,'PS-FS'!$D$2:$F$56,2,FALSE) -> 0.69097222 | FA29: =VLOOKUP(EY29,'PS-FS'!$D$2:$F$56,3,FALSE) -> 0.95833333 | FB29: =IFERROR(VLOOKUP(EY29,'PS-FS'!$D$1:$H$56,5,FALSE),"00:00") -> 0.25347222 | FC29: PdB-Soir | FD29: =VLOOKUP(FC29,'PS-FS'!$D$2:$F$56,2,FALSE) -> 0.69097222 | FE29: =VLOOKUP(FC29,'PS-FS'!$D$2:$F$56,3,FALSE) -> 0.95833333 | FF29: =IFERROR(VLOOKUP(FC29,'PS-FS'!$D$1:$H$56,5,FALSE),"00:00") -> 0.25347222 | FG29: PdB-Jour | FH29: =VLOOKUP(FG29,'PS-FS'!$D$2:$F$56,2,FALSE) -> 0.42708333 | FI29: =VLOOKUP(FG29,'PS-FS'!$D$2:$F$56,3,FALSE) -> 0.65625 | FJ29: 0.22916667 | FK29: AM_AA-PM-Sam | FL29: =VLOOKUP(FK29,'PS-FS'!$D$2:$F$56,2,FALSE) -> 0.55208333 | FM29: =VLOOKUP(FK29,'PS-FS'!$D$2:$F$56,3,FALSE) -> 0.79861111 | FN29: =IFERROR(VLOOKUP(FK29,'PS-FS'!$D$1:$H$56,5,FALSE),"00:00") -> 0.24652778 | FO29: R | FP29: =VLOOKUP(FO29,'PS-FS'!$D$2:$F$56,2,FALSE) -> - | FQ29: =VLOOKUP(FO29,'PS-FS'!$D$2:$F$56,3,FALSE) -> - | FR29: 00:00 | FS29: =ET29+EX29+FB29+FF29+FJ29+FN29+FR29 -> 1.4895833
A30: Chef Meca 5 | E30: 00:00 | F30: Dispo-AM | G30: 0.20833333 | H30: 0.5 | I30: 0.29166667 | J30: PdB-AM-N1 | K30: 0.20486111 | L30: 0.51041667 | M30: 0.30555556 | N30: PdB-AM-N1 | O30: 0.20486111 | P30: 0.51041667 | Q30: 0.30555556 | R30: PdB-AM-N1 | S30: 0.20486111 | T30: 0.51041667 | U30: 0.30555556 | V30: PdB-PM-Sam N2 | W30: 0.51736111 | X30: 0.81944444 | Y30: 0.30208333 | Z30: R | AA30: - | AB30: - | AC30: 00:00 | AD30: =E30+I30+M30+Q30+U30+Y30+AC30 -> 1.5104167 | AE30: PdB-PM-N1 | AF30: 0.49652778 | AG30: 0.80902778 | AH30: 0.3125 | AI30: PdB-PM-N1 | AJ30: 0.49652778 | AK30: 0.80902778 | AL30: 0.3125 | AM30: PdB-PM-N1 | AN30: 0.49652778 | AO30: 0.80902778 | AP30: 0.3125 | AQ30: Dispo-PM | AR30: 0.5 | AS30: 0.79166667 | AT30: 0.29166667 | AU30: Dispo-PM | AV30: 0.5 | AW30: 0.79166667 | AX30: 0.29166667 | AY30: R | AZ30: - | BA30: - | BB30: 00:00 | BC30: R | BD30: - | BE30: - | BF30: 00:00 | BG30: =AH30+AL30+AP30+AT30+AX30+BB30+BF30 -> 1.5208333 | BH30: Bourg-AM | BI30: =VLOOKUP(BH30,'PS-FS'!$D$2:$F$56,2,FALSE) -> 0.20486111 | BJ30: =VLOOKUP(BH30,'PS-FS'!$D$2:$F$56,3,FALSE) -> 0.50694444 | BK30: =IFERROR(VLOOKUP(BH30,'PS-FS'!$D$1:$H$56,5,FALSE),"00:00") -> 0.28819444 | BL30: Bourg-AM | BM30: =VLOOKUP(BL30,'PS-FS'!$D$2:$F$56,2,FALSE) -> 0.20486111 | BN30: =VLOOKUP(BL30,'PS-FS'!$D$2:$F$56,3,FALSE) -> 0.50694444 | BO30: =IFERROR(VLOOKUP(BL30,'PS-FS'!$D$1:$H$56,5,FALSE),"00:00") -> 0.28819444 | BP30: Bourg-AM | BQ30: =VLOOKUP(BP30,'PS-FS'!$D$2:$F$56,2,FALSE) -> 0.20486111 | BR30: =VLOOKUP(BP30,'PS-FS'!$D$2:$F$56,3,FALSE) -> 0.50694444 | BS30: =IFERROR(VLOOKUP(BP30,'PS-FS'!$D$1:$H$56,5,FALSE),"00:00") -> 0.28819444 | BT30: Bourg-AM | BU30: =VLOOKUP(BT30,'PS-FS'!$D$2:$F$56,2,FALSE) -> 0.20486111 | BV30: =VLOOKUP(BT30,'PS-FS'!$D$2:$F$56,3,FALSE) -> 0.50694444 | BW30: =IFERROR(VLOOKUP(BT30,'PS-FS'!$D$1:$H$56,5,FALSE),"00:00") -> 0.28819444 | BX30: Bourg-AM | BY30: =VLOOKUP(BX30,'PS-FS'!$D$2:$F$56,2,FALSE) -> 0.20486111 | BZ30: =VLOOKUP(BX30,'PS-FS'!$D$2:$F$56,3,FALSE) -> 0.50694444 | CA30: =IFERROR(VLOOKUP(BX30,'PS-FS'!$D$1:$H$56,5,FALSE),"00:00") -> 0.28819444 | CB30: PdB-AM-Sam | CC30: =VLOOKUP(CB30,'PS-FS'!$D$2:$F$56,2,FALSE) -> 0.23958333 | CD30: =VLOOKUP(CB30,'PS-FS'!$D$2:$F$56,3,FALSE) -> 0.42361111 | CE30: =IFERROR(VLOOKUP(CB30,'PS-FS'!$D$1:$H$56,5,FALSE),"00:00") -> 0.18402778 | CF30: R | CG30: - | CH30: - | CI30: =IFERROR(VLOOKUP(CF30,'PS-FS'!$D$1:$H$56,5,FALSE),"00:00") -> 0 | CJ30: =BK30+BO30+BS30+BW30+CA30+CE30+CI30 -> 1.625 | CK30: PdB-Soir | CL30: =VLOOKUP(CK30,'PS-FS'!$D$2:$F$56,2,FALSE) -> 0.69097222 | CM30: =VLOOKUP(CK30,'PS-FS'!$D$2:$F$56,3,FALSE) -> 0.95833333 | CN30: =IFERROR(VLOOKUP(CK30,'PS-FS'!$D$1:$H$56,5,FALSE),"00:00") -> 0.25347222 | CO30: PdB-Soir | CP30: =VLOOKUP(CO30,'PS-FS'!$D$2:$F$56,2,FALSE) -> 0.69097222 | CQ30: =VLOOKUP(CO30,'PS-FS'!$D$2:$F$56,3,FALSE) -> 0.95833333 | CR30: =IFERROR(VLOOKUP(CO30,'PS-FS'!$D$1:$H$56,5,FALSE),"00:00") -> 0.25347222 | CS30: PdB-Soir | CT30: =VLOOKUP(CS30,'PS-FS'!$D$2:$F$56,2,FALSE) -> 0.69097222 | CU30: =VLOOKUP(CS30,'PS-FS'!$D$2:$F$56,3,FALSE) -> 0.95833333 | CV30: =IFERROR(VLOOKUP(CS30,'PS-FS'!$D$1:$H$56,5,FALSE),"00:00") -> 0.25347222 | CW30: PdB-Soir | CX30: =VLOOKUP(CW30,'PS-FS'!$D$2:$F$56,2,FALSE) -> 0.69097222 | CY30: =VLOOKUP(CW30,'PS-FS'!$D$2:$F$56,3,FALSE) -> 0.95833333 | CZ30: =IFERROR(VLOOKUP(CW30,'PS-FS'!$D$1:$H$56,5,FALSE),"00:00") -> 0.25347222 | DA30: PdB-Soir | DB30: =VLOOKUP(DA30,'PS-FS'!$D$2:$F$56,2,FALSE) -> 0.69097222 | DC30: =VLOOKUP(DA30,'PS-FS'!$D$2:$F$56,3,FALSE) -> 0.95833333 | DD30: 00:00 | DE30: AM_AA-PM-Sam | DF30: =VLOOKUP(DE30,'PS-FS'!$D$2:$F$56,2,FALSE) -> 0.55208333 | DG30: =VLOOKUP(DE30,'PS-FS'!$D$2:$F$56,3,FALSE) -> 0.79861111 | DH30: =IFERROR(VLOOKUP(DE30,'PS-FS'!$D$1:$H$56,5,FALSE),"00:00") -> 0.24652778 | DI30: R | DJ30: =VLOOKUP(DI30,'PS-FS'!$D$2:$F$56,2,FALSE) -> - | DK30: =VLOOKUP(DI30,'PS-FS'!$D$2:$F$56,3,FALSE) -> - | DL30: =IFERROR(VLOOKUP(DI30,'PS-FS'!$D$1:$H$56,5,FALSE),"00:00") -> 0 | DM30: =CN30+CR30+CV30+CZ30+DD30+DH30+DL30 -> 1.2604167 | DN30: Bourg-PM | DO30: =VLOOKUP(DN30,'PS-FS'!$D$2:$F$56,2,FALSE) -> 0.52777778 | DP30: =VLOOKUP(DN30,'PS-FS'!$D$2:$F$56,3,FALSE) -> 0.83333333 | DQ30: =IFERROR(VLOOKUP(DN30,'PS-FS'!$D$1:$H$56,5,FALSE),"00:00") -> 0.29166667 | DR30: Bourg-PM | DS30: =VLOOKUP(DR30,'PS-FS'!$D$2:$F$56,2,FALSE) -> 0.52777778 | DT30: =VLOOKUP(DR30,'PS-FS'!$D$2:$F$56,3,FALSE) -> 0.83333333 | DU30: =IFERROR(VLOOKUP(DR30,'PS-FS'!$D$1:$H$56,5,FALSE),"00:00") -> 0.29166667 | DV30: AA_AM-PM | DW30: =VLOOKUP(DV30,'PS-FS'!$D$2:$F$56,2,FALSE) -> 0.55902778 | DX30: =VLOOKUP(DV30,'PS-FS'!$D$2:$F$56,3,FALSE) -> 0.83680556 | DY30: =IFERROR(VLOOKUP(DV30,'PS-FS'!$D$1:$H$56,5,FALSE),"00:00") -> 0.26388889 | DZ30: Bourg-PM | EA30: =VLOOKUP(DZ30,'PS-FS'!$D$2:$F$56,2,FALSE) -> 0.52777778 | EB30: =VLOOKUP(DZ30,'PS-FS'!$D$2:$F$56,3,FALSE) -> 0.83333333 | EC30: =IFERROR(VLOOKUP(DZ30,'PS-FS'!$D$1:$H$56,5,FALSE),"00:00") -> 0.29166667 | ED30: AA_AM-PM | EE30: =VLOOKUP(ED30,'PS-FS'!$D$2:$F$56,2,FALSE) -> 0.55902778 | EF30: =VLOOKUP(ED30,'PS-FS'!$D$2:$F$56,3,FALSE) -> 0.83680556 | EG30: =IFERROR(VLOOKUP(ED30,'PS-FS'!$D$1:$H$56,5,FALSE),"00:00") -> 0.26388889 | EH30: Bourg-PM-Sam | EI30: =VLOOKUP(EH30,'PS-FS'!$D$2:$F$56,2,FALSE) -> 0.55208333 | EJ30: =VLOOKUP(EH30,'PS-FS'!$D$2:$F$56,3,FALSE) -> 0.82638889 | EK30: =IFERROR(VLOOKUP(EH30,'PS-FS'!$D$1:$H$56,5,FALSE),"00:00") -> 0.26041667 | EL30: R | EM30: - | EN30: - | EO30: 00:00 | EP30: =DQ30+DU30+DY30+EC30+EG30+EK30+EO30 -> 1.6631944 | EQ30: PdB-Jour | ER30: =VLOOKUP(EQ30,'PS-FS'!$D$2:$F$56,2,FALSE) -> 0.42708333 | ES30: =VLOOKUP(EQ30,'PS-FS'!$D$2:$F$56,3,FALSE) -> 0.65625 | ET30: =IFERROR(VLOOKUP(EQ30,'PS-FS'!$D$1:$H$56,5,FALSE),"00:00") -> 0.22916667 | EU30: Dispo-AM | EV30: =VLOOKUP(EU30,'PS-FS'!$D$2:$F$56,2,FALSE) -> 0.20833333 | EW30: =VLOOKUP(EU30,'PS-FS'!$D$2:$F$56,3,FALSE) -> 0.5 | EX30: =IFERROR(VLOOKUP(EU30,'PS-FS'!$D$1:$H$56,5,FALSE),"00:00") -> 0.29166667 | EY30: AA_AM-AM | EZ30: =VLOOKUP(EY30,'PS-FS'!$D$2:$F$56,2,FALSE) -> 0.20833333 | FA30: =VLOOKUP(EY30,'PS-FS'!$D$2:$F$56,3,FALSE) -> 0.53472222 | FB30: =IFERROR(VLOOKUP(EY30,'PS-FS'!$D$1:$H$56,5,FALSE),"00:00") -> 0.3125 | FC30: PdB-Jour | FD30: =VLOOKUP(FC30,'PS-FS'!$D$2:$F$56,2,FALSE) -> 0.42708333 | FE30: =VLOOKUP(FC30,'PS-FS'!$D$2:$F$56,3,FALSE) -> 0.65625 | FF30: =IFERROR(VLOOKUP(FC30,'PS-FS'!$D$1:$H$56,5,FALSE),"00:00") -> 0.22916667 | FG30: PdB-Soir | FH30: =VLOOKUP(FG30,'PS-FS'!$D$2:$F$56,2,FALSE) -> 0.69097222 | FI30: =VLOOKUP(FG30,'PS-FS'!$D$2:$F$56,3,FALSE) -> 0.95833333 | FJ30: =IFERROR(VLOOKUP(FG30,'PS-FS'!$D$1:$H$56,5,FALSE),"00:00") -> 0.25347222 | FK30: R | FL30: =VLOOKUP(FK30,'PS-FS'!$D$2:$F$56,2,FALSE) -> - | FM30: =VLOOKUP(FK30,'PS-FS'!$D$2:$F$56,3,FALSE) -> - | FN30: =IFERROR(VLOOKUP(FK30,'PS-FS'!$D$1:$H$56,5,FALSE),"00:00") -> 0 | FO30: R | FP30: =VLOOKUP(FO30,'PS-FS'!$D$2:$F$56,2,FALSE) -> - | FQ30: =VLOOKUP(FO30,'PS-FS'!$D$2:$F$56,3,FALSE) -> - | FR30: 00:00 | FS30: =ET30+EX30+FB30+FF30+FJ30+FN30+FR30 -> 1.3159722
A31: Chef Meca 6 | B31: R | C31: - | D31: - | E31: 00:00 | F31: PdB-PM-N2 | G31: 0.51736111 | H31: 0.81944444 | I31: 0.30208333 | J31: PdB-PM-N2 | K31: 0.51736111 | L31: 0.81944444 | M31: 0.30208333 | N31: Dispo-AM | O31: 0.20833333 | P31: 0.5 | Q31: 0.29166667 | R31: PdB-AM-N2 | S31: 0.21527778 | T31: 0.53125 | U31: 0.31597222 | V31: R | W31: - | X31: - | Y31: 00:00 | Z31: PdB-D&F-AM | AA31: 0.26041667 | AB31: 0.53125 | AC31: 0.27083333 | AD31: =E31+I31+M31+Q31+U31+Y31+AC31 -> 1.4826389 | AE31: Dispo-AM | AF31: 0.20833333 | AG31: 0.5 | AH31: 0.29166667 | AI31: Dispo-AM | AJ31: 0.20833333 | AK31: 0.5 | AL31: 0.29166667 | AM31: R | AN31: - | AO31: - | AP31: 00:00 | AQ31: PdB-AM-N1 | AR31: 0.20486111 | AS31: 0.51041667 | AT31: 0.30555556 | AU31: PdB-AM-N1 | AV31: 0.20486111 | AW31: 0.51041667 | AX31: 0.30555556 | AY31: PdB-AM-Sam N1 | AZ31: 0.23263889 | BA31: 0.51041667 | BB31: 0.27777778 | BC31: R | BD31: - | BE31: - | BF31: 00:00 | BG31: =AH31+AL31+AP31+AT31+AX31+BB31+BF31 -> 1.4722222 | BH31: AA_AM-AM | BI31: =VLOOKUP(BH31,'PS-FS'!$D$2:$F$56,2,FALSE) -> 0.20833333 | BJ31: =VLOOKUP(BH31,'PS-FS'!$D$2:$F$56,3,FALSE) -> 0.53472222 | BK31: =IFERROR(VLOOKUP(BH31,'PS-FS'!$D$1:$H$56,5,FALSE),"00:00") -> 0.3125 | BL31: AA_AM-AM | BM31: =VLOOKUP(BL31,'PS-FS'!$D$2:$F$56,2,FALSE) -> 0.20833333 | BN31: =VLOOKUP(BL31,'PS-FS'!$D$2:$F$56,3,FALSE) -> 0.53472222 | BO31: =IFERROR(VLOOKUP(BL31,'PS-FS'!$D$1:$H$56,5,FALSE),"00:00") -> 0.3125 | BP31: AA_AM-AM | BQ31: =VLOOKUP(BP31,'PS-FS'!$D$2:$F$56,2,FALSE) -> 0.20833333 | BR31: =VLOOKUP(BP31,'PS-FS'!$D$2:$F$56,3,FALSE) -> 0.53472222 | BS31: =IFERROR(VLOOKUP(BP31,'PS-FS'!$D$1:$H$56,5,FALSE),"00:00") -> 0.3125 | BT31: AA_AM-AM | BU31: =VLOOKUP(BT31,'PS-FS'!$D$2:$F$56,2,FALSE) -> 0.20833333 | BV31: =VLOOKUP(BT31,'PS-FS'!$D$2:$F$56,3,FALSE) -> 0.53472222 | BW31: =IFERROR(VLOOKUP(BT31,'PS-FS'!$D$1:$H$56,5,FALSE),"00:00") -> 0.3125 | BX31: PdB-Jour | BY31: =VLOOKUP(BX31,'PS-FS'!$D$2:$F$56,2,FALSE) -> 0.42708333 | BZ31: =VLOOKUP(BX31,'PS-FS'!$D$2:$F$56,3,FALSE) -> 0.65625 | CA31: =IFERROR(VLOOKUP(BX31,'PS-FS'!$D$1:$H$56,5,FALSE),"00:00") -> 0.22916667 | CB31: PdB-Jour-Sam | CC31: =VLOOKUP(CB31,'PS-FS'!$D$2:$F$56,2,FALSE) -> 0.42708333 | CD31: =VLOOKUP(CB31,'PS-FS'!$D$2:$F$56,3,FALSE) -> 0.6875 | CE31: =IFERROR(VLOOKUP(CB31,'PS-FS'!$D$1:$H$56,5,FALSE),"00:00") -> 0.26041667 | CF31: R | CG31: - | CH31: - | CI31: =IFERROR(VLOOKUP(CF31,'PS-FS'!$D$1:$H$56,5,FALSE),"00:00") -> 0 | CJ31: =BK31+BO31+BS31+BW31+CA31+CE31+CI31 -> 1.7395833 | CK31: PdB-Jour | CL31: =VLOOKUP(CK31,'PS-FS'!$D$2:$F$56,2,FALSE) -> 0.42708333 | CM31: =VLOOKUP(CK31,'PS-FS'!$D$2:$F$56,3,FALSE) -> 0.65625 | CN31: =IFERROR(VLOOKUP(CK31,'PS-FS'!$D$1:$H$56,5,FALSE),"00:00") -> 0.22916667 | CO31: PdB-Jour | CP31: =VLOOKUP(CO31,'PS-FS'!$D$2:$F$56,2,FALSE) -> 0.42708333 | CQ31: =VLOOKUP(CO31,'PS-FS'!$D$2:$F$56,3,FALSE) -> 0.65625 | CR31: =IFERROR(VLOOKUP(CO31,'PS-FS'!$D$1:$H$56,5,FALSE),"00:00") -> 0.22916667 | CS31: AA_AM-AM | CT31: =VLOOKUP(CS31,'PS-FS'!$D$2:$F$56,2,FALSE) -> 0.20833333 | CU31: =VLOOKUP(CS31,'PS-FS'!$D$2:$F$56,3,FALSE) -> 0.53472222 | CV31: =IFERROR(VLOOKUP(CS31,'PS-FS'!$D$1:$H$56,5,FALSE),"00:00") -> 0.3125 | CW31: PdB-Jour | CX31: =VLOOKUP(CW31,'PS-FS'!$D$2:$F$56,2,FALSE) -> 0.42708333 | CY31: =VLOOKUP(CW31,'PS-FS'!$D$2:$F$56,3,FALSE) -> 0.65625 | CZ31: =IFERROR(VLOOKUP(CW31,'PS-FS'!$D$1:$H$56,5,FALSE),"00:00") -> 0.22916667 | DA31: AA_AM-PM | DB31: =VLOOKUP(DA31,'PS-FS'!$D$2:$F$56,2,FALSE) -> 0.55902778 | DC31: =VLOOKUP(DA31,'PS-FS'!$D$2:$F$56,3,FALSE) -> 0.83680556 | DD31: =IFERROR(VLOOKUP(DA31,'PS-FS'!$D$1:$H$56,5,FALSE),"00:00") -> 0.26388889 | DE31: R | DF31: =VLOOKUP(DE31,'PS-FS'!$D$2:$F$56,2,FALSE) -> - | DG31: =VLOOKUP(DE31,'PS-FS'!$D$2:$F$56,3,FALSE) -> - | DH31: =IFERROR(VLOOKUP(DE31,'PS-FS'!$D$1:$H$56,5,FALSE),"00:00") -> 0 | DI31: R | DJ31: =VLOOKUP(DI31,'PS-FS'!$D$2:$F$56,2,FALSE) -> - | DK31: =VLOOKUP(DI31,'PS-FS'!$D$2:$F$56,3,FALSE) -> - | DL31: =IFERROR(VLOOKUP(DI31,'PS-FS'!$D$1:$H$56,5,FALSE),"00:00") -> 0 | DM31: =CN31+CR31+CV31+CZ31+DD31+DH31+DL31 -> 1.2638889 | DN31: Bourg-AM | DO31: =VLOOKUP(DN31,'PS-FS'!$D$2:$F$56,2,FALSE) -> 0.20486111 | DP31: =VLOOKUP(DN31,'PS-FS'!$D$2:$F$56,3,FALSE) -> 0.50694444 | DQ31: =IFERROR(VLOOKUP(DN31,'PS-FS'!$D$1:$H$56,5,FALSE),"00:00") -> 0.28819444 | DR31: Bourg-AM | DS31: =VLOOKUP(DR31,'PS-FS'!$D$2:$F$56,2,FALSE) -> 0.20486111 | DT31: =VLOOKUP(DR31,'PS-FS'!$D$2:$F$56,3,FALSE) -> 0.50694444 | DU31: =IFERROR(VLOOKUP(DR31,'PS-FS'!$D$1:$H$56,5,FALSE),"00:00") -> 0.28819444 | DV31: Bourg-AM | DW31: =VLOOKUP(DV31,'PS-FS'!$D$2:$F$56,2,FALSE) -> 0.20486111 | DX31: =VLOOKUP(DV31,'PS-FS'!$D$2:$F$56,3,FALSE) -> 0.50694444 | DY31: =IFERROR(VLOOKUP(DV31,'PS-FS'!$D$1:$H$56,5,FALSE),"00:00") -> 0.28819444 | DZ31: Bourg-AM | EA31: =VLOOKUP(DZ31,'PS-FS'!$D$2:$F$56,2,FALSE) -> 0.20486111 | EB31: =VLOOKUP(DZ31,'PS-FS'!$D$2:$F$56,3,FALSE) -> 0.50694444 | EC31: =IFERROR(VLOOKUP(DZ31,'PS-FS'!$D$1:$H$56,5,FALSE),"00:00") -> 0.28819444 | ED31: Bourg-AM | EE31: =VLOOKUP(ED31,'PS-FS'!$D$2:$F$56,2,FALSE) -> 0.20486111 | EF31: =VLOOKUP(ED31,'PS-FS'!$D$2:$F$56,3,FALSE) -> 0.50694444 | EG31: =IFERROR(VLOOKUP(ED31,'PS-FS'!$D$1:$H$56,5,FALSE),"00:00") -> 0.28819444 | EH31: PdB-AM-Sam | EI31: =VLOOKUP(EH31,'PS-FS'!$D$2:$F$56,2,FALSE) -> 0.23958333 | EJ31: =VLOOKUP(EH31,'PS-FS'!$D$2:$F$56,3,FALSE) -> 0.42361111 | EK31: =IFERROR(VLOOKUP(EH31,'PS-FS'!$D$1:$H$56,5,FALSE),"00:00") -> 0.18402778 | EL31: R | EM31: - | EN31: - | EO31: 00:00 | EP31: =DQ31+DU31+DY31+EC31+EG31+EK31+EO31 -> 1.625 | EQ31: Bourg-PM | ER31: =VLOOKUP(EQ31,'PS-FS'!$D$2:$F$56,2,FALSE) -> 0.52777778 | ES31: =VLOOKUP(EQ31,'PS-FS'!$D$2:$F$56,3,FALSE) -> 0.83333333 | ET31: =IFERROR(VLOOKUP(EQ31,'PS-FS'!$D$1:$H$56,5,FALSE),"00:00") -> 0.29166667 | EU31: Bourg-PM | EV31: =VLOOKUP(EU31,'PS-FS'!$D$2:$F$56,2,FALSE) -> 0.52777778 | EW31: =VLOOKUP(EU31,'PS-FS'!$D$2:$F$56,3,FALSE) -> 0.83333333 | EX31: =IFERROR(VLOOKUP(EU31,'PS-FS'!$D$1:$H$56,5,FALSE),"00:00") -> 0.29166667 | EY31: AA_AM-PM | EZ31: =VLOOKUP(EY31,'PS-FS'!$D$2:$F$56,2,FALSE) -> 0.55902778 | FA31: =VLOOKUP(EY31,'PS-FS'!$D$2:$F$56,3,FALSE) -> 0.83680556 | FB31: =IFERROR(VLOOKUP(EY31,'PS-FS'!$D$1:$H$56,5,FALSE),"00:00") -> 0.26388889 | FC31: Bourg-PM | FD31: =VLOOKUP(FC31,'PS-FS'!$D$2:$F$56,2,FALSE) -> 0.52777778 | FE31: =VLOOKUP(FC31,'PS-FS'!$D$2:$F$56,3,FALSE) -> 0.83333333 | FF31: =IFERROR(VLOOKUP(FC31,'PS-FS'!$D$1:$H$56,5,FALSE),"00:00") -> 0.29166667 | FG31: AA_AM-PM | FH31: =VLOOKUP(FG31,'PS-FS'!$D$2:$F$56,2,FALSE) -> 0.55902778 | FI31: =VLOOKUP(FG31,'PS-FS'!$D$2:$F$56,3,FALSE) -> 0.83680556 | FJ31: =IFERROR(VLOOKUP(FG31,'PS-FS'!$D$1:$H$56,5,FALSE),"00:00") -> 0.26388889 | FK31: Bourg-PM-Sam | FL31: =VLOOKUP(FK31,'PS-FS'!$D$2:$F$56,2,FALSE) -> 0.55208333 | FM31: =VLOOKUP(FK31,'PS-FS'!$D$2:$F$56,3,FALSE) -> 0.82638889 | FN31: =IFERROR(VLOOKUP(FK31,'PS-FS'!$D$1:$H$56,5,FALSE),"00:00") -> 0.26041667 | FO31: R | FP31: =VLOOKUP(FO31,'PS-FS'!$D$2:$F$56,2,FALSE) -> - | FQ31: =VLOOKUP(FO31,'PS-FS'!$D$2:$F$56,3,FALSE) -> - | FR31: 00:00 | FS31: =ET31+EX31+FB31+FF31+FJ31+FN31+FR31 -> 1.6631944
A32: Chef Meca 7 | B32: R | C32: - | D32: - | E32: 00:00 | F32: Dispo-AM | G32: 0.20833333 | H32: 0.5 | I32: 0.29166667 | J32: R | K32: - | L32: - | M32: 00:00 | N32: PdB-AM-N1 | O32: 0.20486111 | P32: 0.51041667 | Q32: 0.30555556 | R32: Dispo-PM | S32: 0.5 | T32: 0.79166667 | U32: 0.29166667 | V32: R | W32: - | X32: - | Y32: 00:00 | Z32: Dispo-AM | AA32: 0.5 | AB32: 0.79166667 | AC32: 0.29166667 | AD32: =E32+I32+M32+Q32+U32+Y32+AC32 -> 1.1805556 | AE32: PdB-PM-N2 | AF32: 0.51736111 | AG32: 0.81944444 | AH32: 0.30208333 | AI32: R | AJ32: - | AK32: - | AL32: 00:00 | AM32: Dispo-PM | AN32: 0.5 | AO32: 0.79166667 | AP32: 0.29166667 | AQ32: PdB-PM-N1 | AR32: 0.49652778 | AS32: 0.80902778 | AT32: 0.3125 | AU32: Dispo-PM | AV32: 0.5 | AW32: 0.79166667 | AX32: 0.29166667 | AY32: R | AZ32: - | BA32: - | BB32: 00:00 | BC32: PdB-D&F-PM | BD32: 0.49652778 | BE32: 0.80902778 | BF32: 0.3125 | BG32: =AH32+AL32+AP32+AT32+AX32+BB32+BF32 -> 1.5104167 | BH32: Dispo-AM | BI32: =VLOOKUP(BH32,'PS-FS'!$D$2:$F$56,2,FALSE) -> 0.20833333 | BJ32: =VLOOKUP(BH32,'PS-FS'!$D$2:$F$56,3,FALSE) -> 0.5 | BK32: =IFERROR(VLOOKUP(BH32,'PS-FS'!$D$1:$H$56,5,FALSE),"00:00") -> 0.29166667 | BL32: PdB-Soir | BM32: =VLOOKUP(BL32,'PS-FS'!$D$2:$F$56,2,FALSE) -> 0.69097222 | BN32: =VLOOKUP(BL32,'PS-FS'!$D$2:$F$56,3,FALSE) -> 0.95833333 | BO32: =IFERROR(VLOOKUP(BL32,'PS-FS'!$D$1:$H$56,5,FALSE),"00:00") -> 0.25347222 | BP32: AA_AM-PM | BQ32: =VLOOKUP(BP32,'PS-FS'!$D$2:$F$56,2,FALSE) -> 0.55902778 | BR32: =VLOOKUP(BP32,'PS-FS'!$D$2:$F$56,3,FALSE) -> 0.83680556 | BS32: =IFERROR(VLOOKUP(BP32,'PS-FS'!$D$1:$H$56,5,FALSE),"00:00") -> 0.26388889 | BT32: AA_AM-PM | BU32: =VLOOKUP(BT32,'PS-FS'!$D$2:$F$56,2,FALSE) -> 0.55902778 | BV32: =VLOOKUP(BT32,'PS-FS'!$D$2:$F$56,3,FALSE) -> 0.83680556 | BW32: =IFERROR(VLOOKUP(BT32,'PS-FS'!$D$1:$H$56,5,FALSE),"00:00") -> 0.26388889 | BX32: Dispo-PM | BY32: =VLOOKUP(BX32,'PS-FS'!$D$2:$F$56,2,FALSE) -> 0.5 | BZ32: =VLOOKUP(BX32,'PS-FS'!$D$2:$F$56,3,FALSE) -> 0.79166667 | CA32: =IFERROR(VLOOKUP(BX32,'PS-FS'!$D$1:$H$56,5,FALSE),"00:00") -> 0.29166667 | CB32: R | CC32: =VLOOKUP(CB32,'PS-FS'!$D$2:$F$56,2,FALSE) -> - | CD32: =VLOOKUP(CB32,'PS-FS'!$D$2:$F$56,3,FALSE) -> - | CE32: =IFERROR(VLOOKUP(CB32,'PS-FS'!$D$1:$H$56,5,FALSE),"00:00") -> 0 | CF32: R | CG32: - | CH32: - | CI32: =IFERROR(VLOOKUP(CF32,'PS-FS'!$D$1:$H$56,5,FALSE),"00:00") -> 0 | CJ32: =BK32+BO32+BS32+BW32+CA32+CE32+CI32 -> 1.3645833 | CK32: Bourg-PM | CL32: =VLOOKUP(CK32,'PS-FS'!$D$2:$F$56,2,FALSE) -> 0.52777778 | CM32: =VLOOKUP(CK32,'PS-FS'!$D$2:$F$56,3,FALSE) -> 0.83333333 | CN32: =IFERROR(VLOOKUP(CK32,'PS-FS'!$D$1:$H$56,5,FALSE),"00:00") -> 0.29166667 | CO32: Bourg-PM | CP32: =VLOOKUP(CO32,'PS-FS'!$D$2:$F$56,2,FALSE) -> 0.52777778 | CQ32: =VLOOKUP(CO32,'PS-FS'!$D$2:$F$56,3,FALSE) -> 0.83333333 | CR32: =IFERROR(VLOOKUP(CO32,'PS-FS'!$D$1:$H$56,5,FALSE),"00:00") -> 0.29166667 | CS32: AA_AM-PM | CT32: =VLOOKUP(CS32,'PS-FS'!$D$2:$F$56,2,FALSE) -> 0.55902778 | CU32: =VLOOKUP(CS32,'PS-FS'!$D$2:$F$56,3,FALSE) -> 0.83680556 | CV32: =IFERROR(VLOOKUP(CS32,'PS-FS'!$D$1:$H$56,5,FALSE),"00:00") -> 0.26388889 | CW32: Bourg-PM | CX32: =VLOOKUP(CW32,'PS-FS'!$D$2:$F$56,2,FALSE) -> 0.52777778 | CY32: =VLOOKUP(CW32,'PS-FS'!$D$2:$F$56,3,FALSE) -> 0.83333333 | CZ32: =IFERROR(VLOOKUP(CW32,'PS-FS'!$D$1:$H$56,5,FALSE),"00:00") -> 0.29166667 | DA32: PdB-Jour | DB32: =VLOOKUP(DA32,'PS-FS'!$D$2:$F$56,2,FALSE) -> 0.42708333 | DC32: =VLOOKUP(DA32,'PS-FS'!$D$2:$F$56,3,FALSE) -> 0.65625 | DD32: =IFERROR(VLOOKUP(DA32,'PS-FS'!$D$1:$H$56,5,FALSE),"00:00") -> 0.22916667 | DE32: Bourg-PM-Sam | DF32: =VLOOKUP(DE32,'PS-FS'!$D$2:$F$56,2,FALSE) -> 0.55208333 | DG32: =VLOOKUP(DE32,'PS-FS'!$D$2:$F$56,3,FALSE) -> 0.82638889 | DH32: =IFERROR(VLOOKUP(DE32,'PS-FS'!$D$1:$H$56,5,FALSE),"00:00") -> 0.26041667 | DI32: R | DJ32: =VLOOKUP(DI32,'PS-FS'!$D$2:$F$56,2,FALSE) -> - | DK32: =VLOOKUP(DI32,'PS-FS'!$D$2:$F$56,3,FALSE) -> - | DL32: =IFERROR(VLOOKUP(DI32,'PS-FS'!$D$1:$H$56,5,FALSE),"00:00") -> 0 | DM32: =CN32+CR32+CV32+CZ32+DD32+DH32+DL32 -> 1.6284722 | DN32: Dispo-AM | DO32: =VLOOKUP(DN32,'PS-FS'!$D$2:$F$56,2,FALSE) -> 0.20833333 | DP32: =VLOOKUP(DN32,'PS-FS'!$D$2:$F$56,3,FALSE) -> 0.5 | DQ32: 0.29166667 | DR32: PdB-Jour | DS32: =VLOOKUP(DR32,'PS-FS'!$D$2:$F$56,2,FALSE) -> 0.42708333 | DT32: =VLOOKUP(DR32,'PS-FS'!$D$2:$F$56,3,FALSE) -> 0.65625 | DU32: 0.22916667 | DV32: Dispo-AM | DW32: 0.20833333 | DX32: 0.5 | DY32: 0.29166667 | DZ32: AA_AM-AM | EA32: =VLOOKUP(DZ32,'PS-FS'!$D$2:$F$56,2,FALSE) -> 0.20833333 | EB32: =VLOOKUP(DZ32,'PS-FS'!$D$2:$F$56,3,FALSE) -> 0.53472222 | EC32: 0.27777778 | ED32: Dispo-AM | EE32: =VLOOKUP(ED32,'PS-FS'!$D$2:$F$56,2,FALSE) -> 0.20833333 | EF32: =VLOOKUP(ED32,'PS-FS'!$D$2:$F$56,3,FALSE) -> 0.5 | EG32: 0.29166667 | EH32: PdB-Jour-Sam | EI32: =VLOOKUP(EH32,'PS-FS'!$D$2:$F$56,2,FALSE) -> 0.42708333 | EJ32: =VLOOKUP(EH32,'PS-FS'!$D$2:$F$56,3,FALSE) -> 0.6875 | EK32: =IFERROR(VLOOKUP(EH32,'PS-FS'!$D$1:$H$56,5,FALSE),"00:00") -> 0.26041667 | EL32: R | EM32: - | EN32: - | EO32: 00:00 | EP32: =DQ32+DU32+DY32+EC32+EG32+EK32+EO32 -> 1.6423611 | EQ32: Bourg-AM | ER32: =VLOOKUP(EQ32,'PS-FS'!$D$2:$F$56,2,FALSE) -> 0.20486111 | ES32: =VLOOKUP(EQ32,'PS-FS'!$D$2:$F$56,3,FALSE) -> 0.50694444 | ET32: =IFERROR(VLOOKUP(EQ32,'PS-FS'!$D$1:$H$56,5,FALSE),"00:00") -> 0.28819444 | EU32: Bourg-AM | EV32: =VLOOKUP(EU32,'PS-FS'!$D$2:$F$56,2,FALSE) -> 0.20486111 | EW32: =VLOOKUP(EU32,'PS-FS'!$D$2:$F$56,3,FALSE) -> 0.50694444 | EX32: =IFERROR(VLOOKUP(EU32,'PS-FS'!$D$1:$H$56,5,FALSE),"00:00") -> 0.28819444 | EY32: Bourg-AM | EZ32: =VLOOKUP(EY32,'PS-FS'!$D$2:$F$56,2,FALSE) -> 0.20486111 | FA32: =VLOOKUP(EY32,'PS-FS'!$D$2:$F$56,3,FALSE) -> 0.50694444 | FB32: =IFERROR(VLOOKUP(EY32,'PS-FS'!$D$1:$H$56,5,FALSE),"00:00") -> 0.28819444 | FC32: Dispo-AM | FD32: =VLOOKUP(FC32,'PS-FS'!$D$2:$F$56,2,FALSE) -> 0.20833333 | FE32: =VLOOKUP(FC32,'PS-FS'!$D$2:$F$56,3,FALSE) -> 0.5 | FF32: =IFERROR(VLOOKUP(FC32,'PS-FS'!$D$1:$H$56,5,FALSE),"00:00") -> 0.29166667 | FG32: Bourg-AM | FH32: =VLOOKUP(FG32,'PS-FS'!$D$2:$F$56,2,FALSE) -> 0.20486111 | FI32: =VLOOKUP(FG32,'PS-FS'!$D$2:$F$56,3,FALSE) -> 0.50694444 | FJ32: =IFERROR(VLOOKUP(FG32,'PS-FS'!$D$1:$H$56,5,FALSE),"00:00") -> 0.28819444 | FK32: PdB-AM-Sam | FL32: =VLOOKUP(FK32,'PS-FS'!$D$2:$F$56,2,FALSE) -> 0.23958333 | FM32: =VLOOKUP(FK32,'PS-FS'!$D$2:$F$56,3,FALSE) -> 0.42361111 | FN32: =IFERROR(VLOOKUP(FK32,'PS-FS'!$D$1:$H$56,5,FALSE),"00:00") -> 0.18402778 | FO32: R | FP32: =VLOOKUP(FO32,'PS-FS'!$D$2:$F$56,2,FALSE) -> - | FQ32: =VLOOKUP(FO32,'PS-FS'!$D$2:$F$56,3,FALSE) -> - | FR32: 00:00 | FS32: =ET32+EX32+FB32+FF32+FJ32+FN32+FR32 -> 1.6284722
A33: Chef Meca 8 | B33: PdB-PM-N2 | C33: 0.51736111 | D33: 0.81944444 | E33: 0.30208333 | F33: PdB-PM-N1 | G33: 0.49652778 | H33: 0.80902778 | I33: 0.3125 | J33: R | K33: - | L33: - | M33: 00:00 | N33: PdB-PM-N1 | O33: 0.49652778 | P33: 0.80902778 | Q33: 0.3125 | R33: PdB-PM-N1 | S33: 0.49652778 | T33: 0.80902778 | U33: 0.3125 | V33: R | W33: - | X33: - | Y33: 00:00 | Z33: PdB-D&F-PM | AA33: 0.49652778 | AB33: 0.80902778 | AC33: 0.3125 | AD33: =E33+I33+M33+Q33+U33+Y33+AC33 -> 1.5520833 | AE33: PdB-AM-N2 | AF33: 0.21527778 | AG33: 0.53125 | AH33: 0.31597222 | AI33: R | AJ33: - | AK33: - | AL33: 00:00 | AM33: PdB-AM-N2 | AN33: 0.21527778 | AO33: 0.53125 | AP33: 0.31597222 | AQ33: Dispo-PM | AR33: 0.5 | AS33: 0.79166667 | AT33: 0.29166667 | AU33: PdB-PM-N1 | AV33: 0.49652778 | AW33: 0.80902778 | AX33: 0.3125 | AY33: PdB-PM-Sam N1 | AZ33: 0.49652778 | BA33: 0.80902778 | BB33: 0.3125 | BC33: R | BD33: - | BE33: - | BF33: 00:00 | BG33: =AH33+AL33+AP33+AT33+AX33+BB33+BF33 -> 1.5486111 | BH33: Bourg-PM | BI33: =VLOOKUP(BH33,'PS-FS'!$D$2:$F$56,2,FALSE) -> 0.52777778 | BJ33: =VLOOKUP(BH33,'PS-FS'!$D$2:$F$56,3,FALSE) -> 0.83333333 | BK33: =IFERROR(VLOOKUP(BH33,'PS-FS'!$D$1:$H$56,5,FALSE),"00:00") -> 0.29166667 | BL33: Bourg-PM | BM33: =VLOOKUP(BL33,'PS-FS'!$D$2:$F$56,2,FALSE) -> 0.52777778 | BN33: =VLOOKUP(BL33,'PS-FS'!$D$2:$F$56,3,FALSE) -> 0.83333333 | BO33: =IFERROR(VLOOKUP(BL33,'PS-FS'!$D$1:$H$56,5,FALSE),"00:00") -> 0.29166667 | BP33: Dispo-PM | BQ33: =VLOOKUP(BP33,'PS-FS'!$D$2:$F$56,2,FALSE) -> 0.5 | BR33: =VLOOKUP(BP33,'PS-FS'!$D$2:$F$56,3,FALSE) -> 0.79166667 | BS33: =IFERROR(VLOOKUP(BP33,'PS-FS'!$D$1:$H$56,5,FALSE),"00:00") -> 0.29166667 | BT33: Bourg-PM | BU33: =VLOOKUP(BT33,'PS-FS'!$D$2:$F$56,2,FALSE) -> 0.52777778 | BV33: =VLOOKUP(BT33,'PS-FS'!$D$2:$F$56,3,FALSE) -> 0.83333333 | BW33: =IFERROR(VLOOKUP(BT33,'PS-FS'!$D$1:$H$56,5,FALSE),"00:00") -> 0.29166667 | BX33: AA_AM-PM | BY33: =VLOOKUP(BX33,'PS-FS'!$D$2:$F$56,2,FALSE) -> 0.55902778 | BZ33: =VLOOKUP(BX33,'PS-FS'!$D$2:$F$56,3,FALSE) -> 0.83680556 | CA33: =IFERROR(VLOOKUP(BX33,'PS-FS'!$D$1:$H$56,5,FALSE),"00:00") -> 0.26388889 | CB33: Bourg-PM-Sam | CC33: =VLOOKUP(CB33,'PS-FS'!$D$2:$F$56,2,FALSE) -> 0.55208333 | CD33: =VLOOKUP(CB33,'PS-FS'!$D$2:$F$56,3,FALSE) -> 0.82638889 | CE33: =IFERROR(VLOOKUP(CB33,'PS-FS'!$D$1:$H$56,5,FALSE),"00:00") -> 0.26041667 | CF33: R | CG33: - | CH33: - | CI33: =IFERROR(VLOOKUP(CF33,'PS-FS'!$D$1:$H$56,5,FALSE),"00:00") -> 0 | CJ33: =BK33+BO33+BS33+BW33+CA33+CE33+CI33 -> 1.6909722 | CK33: Bourg-AM | CL33: =VLOOKUP(CK33,'PS-FS'!$D$2:$F$56,2,FALSE) -> 0.20486111 | CM33: =VLOOKUP(CK33,'PS-FS'!$D$2:$F$56,3,FALSE) -> 0.50694444 | CN33: =IFERROR(VLOOKUP(CK33,'PS-FS'!$D$1:$H$56,5,FALSE),"00:00") -> 0.28819444 | CO33: Bourg-AM | CP33: =VLOOKUP(CO33,'PS-FS'!$D$2:$F$56,2,FALSE) -> 0.20486111 | CQ33: =VLOOKUP(CO33,'PS-FS'!$D$2:$F$56,3,FALSE) -> 0.50694444 | CR33: =IFERROR(VLOOKUP(CO33,'PS-FS'!$D$1:$H$56,5,FALSE),"00:00") -> 0.28819444 | CS33: Bourg-AM | CT33: =VLOOKUP(CS33,'PS-FS'!$D$2:$F$56,2,FALSE) -> 0.20486111 | CU33: =VLOOKUP(CS33,'PS-FS'!$D$2:$F$56,3,FALSE) -> 0.50694444 | CV33: =IFERROR(VLOOKUP(CS33,'PS-FS'!$D$1:$H$56,5,FALSE),"00:00") -> 0.28819444 | CW33: Bourg-AM | CX33: =VLOOKUP(CW33,'PS-FS'!$D$2:$F$56,2,FALSE) -> 0.20486111 | CY33: =VLOOKUP(CW33,'PS-FS'!$D$2:$F$56,3,FALSE) -> 0.50694444 | CZ33: =IFERROR(VLOOKUP(CW33,'PS-FS'!$D$1:$H$56,5,FALSE),"00:00") -> 0.28819444 | DA33: Bourg-AM | DB33: =VLOOKUP(DA33,'PS-FS'!$D$2:$F$56,2,FALSE) -> 0.20486111 | DC33: =VLOOKUP(DA33,'PS-FS'!$D$2:$F$56,3,FALSE) -> 0.50694444 | DD33: =IFERROR(VLOOKUP(DA33,'PS-FS'!$D$1:$H$56,5,FALSE),"00:00") -> 0.28819444 | DE33: PdB-AM-Sam | DF33: =VLOOKUP(DE33,'PS-FS'!$D$2:$F$56,2,FALSE) -> 0.23958333 | DG33: =VLOOKUP(DE33,'PS-FS'!$D$2:$F$56,3,FALSE) -> 0.42361111 | DH33: =IFERROR(VLOOKUP(DE33,'PS-FS'!$D$1:$H$56,5,FALSE),"00:00") -> 0.18402778 | DI33: R | DJ33: =VLOOKUP(DI33,'PS-FS'!$D$2:$F$56,2,FALSE) -> - | DK33: =VLOOKUP(DI33,'PS-FS'!$D$2:$F$56,3,FALSE) -> - | DL33: =IFERROR(VLOOKUP(DI33,'PS-FS'!$D$1:$H$56,5,FALSE),"00:00") -> 0 | DM33: =CN33+CR33+CV33+CZ33+DD33+DH33+DL33 -> 1.625 | DN33: AA_AM-PM | DO33: =VLOOKUP(DN33,'PS-FS'!$D$2:$F$56,2,FALSE) -> 0.55902778 | DP33: =VLOOKUP(DN33,'PS-FS'!$D$2:$F$56,3,FALSE) -> 0.83680556 | DQ33: =IFERROR(VLOOKUP(DN33,'PS-FS'!$D$1:$H$56,5,FALSE),"00:00") -> 0.26388889 | DR33: Dispo-AM | DS33: =VLOOKUP(DR33,'PS-FS'!$D$2:$F$56,2,FALSE) -> 0.20833333 | DT33: =VLOOKUP(DR33,'PS-FS'!$D$2:$F$56,3,FALSE) -> 0.5 | DU33: =IFERROR(VLOOKUP(DR33,'PS-FS'!$D$1:$H$56,5,FALSE),"00:00") -> 0.29166667 | DV33: R | DW33: =VLOOKUP(DV33,'PS-FS'!$D$2:$F$56,2,FALSE) -> - | DX33: =VLOOKUP(DV33,'PS-FS'!$D$2:$F$56,3,FALSE) -> - | DY33: =IFERROR(VLOOKUP(DV33,'PS-FS'!$D$1:$H$56,5,FALSE),"00:00") -> 0 | DZ33: Dispo-AM | EA33: =VLOOKUP(DZ33,'PS-FS'!$D$2:$F$56,2,FALSE) -> 0.20833333 | EB33: =VLOOKUP(DZ33,'PS-FS'!$D$2:$F$56,3,FALSE) -> 0.5 | EC33: =IFERROR(VLOOKUP(DZ33,'PS-FS'!$D$1:$H$56,5,FALSE),"00:00") -> 0.29166667 | ED33: Dispo-AM | EE33: =VLOOKUP(ED33,'PS-FS'!$D$2:$F$56,2,FALSE) -> 0.20833333 | EF33: =VLOOKUP(ED33,'PS-FS'!$D$2:$F$56,3,FALSE) -> 0.5 | EG33: =IFERROR(VLOOKUP(ED33,'PS-FS'!$D$1:$H$56,5,FALSE),"00:00") -> 0.29166667 | EH33: PdB-PM-Soir-Sam | EI33: =VLOOKUP(EH33,'PS-FS'!$D$2:$F$56,2,FALSE) -> 0.70138889 | EJ33: =VLOOKUP(EH33,'PS-FS'!$D$2:$F$56,3,FALSE) -> 0.95833333 | EK33: =IFERROR(VLOOKUP(EH33,'PS-FS'!$D$1:$H$56,5,FALSE),"00:00") -> 0.25694444 | EL33: Bourg/PdB-D&F-PM | EM33: #N/A | EN33: #N/A | EO33: 00:00 | EP33: =DQ33+DU33+DY33+EC33+EG33+EK33+EO33 -> 1.3958333 | EQ33: Dispo-AM | ER33: =VLOOKUP(EQ33,'PS-FS'!$D$2:$F$56,2,FALSE) -> 0.20833333 | ES33: =VLOOKUP(EQ33,'PS-FS'!$D$2:$F$56,3,FALSE) -> 0.5 | ET33: 0.29166667 | EU33: PdB-Jour | EV33: =VLOOKUP(EU33,'PS-FS'!$D$2:$F$56,2,FALSE) -> 0.42708333 | EW33: =VLOOKUP(EU33,'PS-FS'!$D$2:$F$56,3,FALSE) -> 0.65625 | EX33: 0.22916667 | EY33: Dispo-AM | EZ33: 0.20833333 | FA33: 0.5 | FB33: 0.29166667 | FC33: AA_AM-AM | FD33: =VLOOKUP(FC33,'PS-FS'!$D$2:$F$56,2,FALSE) -> 0.20833333 | FE33: =VLOOKUP(FC33,'PS-FS'!$D$2:$F$56,3,FALSE) -> 0.53472222 | FF33: 0.27777778 | FG33: Dispo-AM | FH33: =VLOOKUP(FG33,'PS-FS'!$D$2:$F$56,2,FALSE) -> 0.20833333 | FI33: =VLOOKUP(FG33,'PS-FS'!$D$2:$F$56,3,FALSE) -> 0.5 | FJ33: 0.29166667 | FK33: PdB-Jour-Sam | FL33: =VLOOKUP(FK33,'PS-FS'!$D$2:$F$56,2,FALSE) -> 0.42708333 | FM33: =VLOOKUP(FK33,'PS-FS'!$D$2:$F$56,3,FALSE) -> 0.6875 | FN33: =IFERROR(VLOOKUP(FK33,'PS-FS'!$D$1:$H$56,5,FALSE),"00:00") -> 0.26041667 | FO33: R | FP33: =VLOOKUP(FO33,'PS-FS'!$D$2:$F$56,2,FALSE) -> - | FQ33: =VLOOKUP(FO33,'PS-FS'!$D$2:$F$56,3,FALSE) -> - | FR33: 00:00 | FS33: =ET33+EX33+FB33+FF33+FJ33+FN33+FR33 -> 1.6423611
A34: Chef Meca 9 | B34: PdB-AM-N2 | C34: 0.21527778 | D34: 0.53125 | E34: 0.31597222 | F34: PdB-AM-N2 | G34: 0.21527778 | H34: 0.53125 | I34: 0.31597222 | J34: R | K34: - | L34: - | M34: 00:00 | N34: PdB-AM-N2 | O34: 0.21527778 | P34: 0.53125 | Q34: 0.31597222 | R34: Dispo-PM | S34: 0.5 | T34: 0.79166667 | U34: 0.29166667 | V34: PdB-PM-Sam N1 | W34: 0.49652778 | X34: 0.80902778 | Y34: 0.3125 | Z34: R | AA34: - | AB34: - | AC34: 00:00 | AD34: =E34+I34+M34+Q34+U34+Y34+AC34 -> 1.5520833 | AE34: Dispo-PM | AF34: 0.5 | AG34: 0.79166667 | AH34: 0.29166667 | AI34: PdB-PM-N2 | AJ34: 0.51736111 | AK34: 0.81944444 | AL34: 0.30208333 | AM34: R | AN34: - | AO34: - | AP34: 00:00 | AQ34: R | AR34: - | AS34: - | AT34: 00:00 | AU34: PdB-AM-N2 | AV34: 0.21527778 | AW34: 0.53125 | AX34: 0.31597222 | AY34: PdB-AM-Sam N2 | AZ34: 0.24305556 | BA34: 0.53125 | BB34: 0.28819444 | BC34: R | BD34: - | BE34: - | BF34: 00:00 | BG34: =AH34+AL34+AP34+AT34+AX34+BB34+BF34 -> 1.1979167 | BH34: PdB-Soir | BI34: =VLOOKUP(BH34,'PS-FS'!$D$2:$F$56,2,FALSE) -> 0.69097222 | BJ34: =VLOOKUP(BH34,'PS-FS'!$D$2:$F$56,3,FALSE) -> 0.95833333 | BK34: =IFERROR(VLOOKUP(BH34,'PS-FS'!$D$1:$H$56,5,FALSE),"00:00") -> 0.25347222 | BL34: AA_AM-PM | BM34: =VLOOKUP(BL34,'PS-FS'!$D$2:$F$56,2,FALSE) -> 0.55902778 | BN34: =VLOOKUP(BL34,'PS-FS'!$D$2:$F$56,3,FALSE) -> 0.83680556 | BO34: =IFERROR(VLOOKUP(BL34,'PS-FS'!$D$1:$H$56,5,FALSE),"00:00") -> 0.26388889 | BP34: PdB-Soir | BQ34: =VLOOKUP(BP34,'PS-FS'!$D$2:$F$56,2,FALSE) -> 0.69097222 | BR34: =VLOOKUP(BP34,'PS-FS'!$D$2:$F$56,3,FALSE) -> 0.95833333 | BS34: =IFERROR(VLOOKUP(BP34,'PS-FS'!$D$1:$H$56,5,FALSE),"00:00") -> 0.25347222 | BT34: PdB-Soir | BU34: =VLOOKUP(BT34,'PS-FS'!$D$2:$F$56,2,FALSE) -> 0.69097222 | BV34: =VLOOKUP(BT34,'PS-FS'!$D$2:$F$56,3,FALSE) -> 0.95833333 | BW34: =IFERROR(VLOOKUP(BT34,'PS-FS'!$D$1:$H$56,5,FALSE),"00:00") -> 0.25347222 | BX34: PdB-Soir | BY34: =VLOOKUP(BX34,'PS-FS'!$D$2:$F$56,2,FALSE) -> 0.69097222 | BZ34: =VLOOKUP(BX34,'PS-FS'!$D$2:$F$56,3,FALSE) -> 0.95833333 | CA34: =IFERROR(VLOOKUP(BX34,'PS-FS'!$D$1:$H$56,5,FALSE),"00:00") -> 0.25347222 | CB34: Congés | CC34: =VLOOKUP(CB34,'PS-FS'!$D$2:$F$56,2,FALSE) -> - | CD34: =VLOOKUP(CB34,'PS-FS'!$D$2:$F$56,3,FALSE) -> - | CE34: =IFERROR(VLOOKUP(CB34,'PS-FS'!$D$1:$H$56,5,FALSE),"00:00") -> 0 | CF34: R | CG34: - | CH34: - | CI34: =IFERROR(VLOOKUP(CF34,'PS-FS'!$D$1:$H$56,5,FALSE),"00:00") -> 0 | CJ34: =BK34+BO34+BS34+BW34+CA34+CE34+CI34 -> 1.2777778 | CK34: Congés | CL34: =VLOOKUP(CK34,'PS-FS'!$D$2:$F$56,2,FALSE) -> - | CM34: =VLOOKUP(CK34,'PS-FS'!$D$2:$F$56,3,FALSE) -> - | CN34: 00:00 | CO34: Congés | CP34: =VLOOKUP(CO34,'PS-FS'!$D$2:$F$56,2,FALSE) -> - | CQ34: =VLOOKUP(CO34,'PS-FS'!$D$2:$F$56,3,FALSE) -> - | CR34: 00:00 | CS34: Congés | CT34: =VLOOKUP(CS34,'PS-FS'!$D$2:$F$56,2,FALSE) -> - | CU34: =VLOOKUP(CS34,'PS-FS'!$D$2:$F$56,3,FALSE) -> - | CV34: 00:00 | CW34: Congés | CX34: =VLOOKUP(CW34,'PS-FS'!$D$2:$F$56,2,FALSE) -> - | CY34: =VLOOKUP(CW34,'PS-FS'!$D$2:$F$56,3,FALSE) -> - | CZ34: 00:00 | DA34: Congés | DB34: =VLOOKUP(DA34,'PS-FS'!$D$2:$F$56,2,FALSE) -> - | DC34: =VLOOKUP(DA34,'PS-FS'!$D$2:$F$56,3,FALSE) -> - | DD34: 00:00 | DE34: Congés | DF34: =VLOOKUP(DE34,'PS-FS'!$D$2:$F$56,2,FALSE) -> - | DG34: =VLOOKUP(DE34,'PS-FS'!$D$2:$F$56,3,FALSE) -> - | DH34: 00:00 | DI34: R | DJ34: =VLOOKUP(DI34,'PS-FS'!$D$2:$F$56,2,FALSE) -> - | DK34: =VLOOKUP(DI34,'PS-FS'!$D$2:$F$56,3,FALSE) -> - | DL34: =IFERROR(VLOOKUP(DI34,'PS-FS'!$D$1:$H$56,5,FALSE),"00:00") -> 0 | DM34: =CN34+CR34+CV34+CZ34+DD34+DH34+DL34 -> 0 | DN34: Dispo-PM | DO34: =VLOOKUP(DN34,'PS-FS'!$D$2:$F$56,2,FALSE) -> 0.5 | DP34: =VLOOKUP(DN34,'PS-FS'!$D$2:$F$56,3,FALSE) -> 0.79166667 | DQ34: =IFERROR(VLOOKUP(DN34,'PS-FS'!$D$1:$H$56,5,FALSE),"00:00") -> 0.29166667 | DR34: Dispo-PM | DS34: =VLOOKUP(DR34,'PS-FS'!$D$2:$F$56,2,FALSE) -> 0.5 | DT34: =VLOOKUP(DR34,'PS-FS'!$D$2:$F$56,3,FALSE) -> 0.79166667 | DU34: =IFERROR(VLOOKUP(DR34,'PS-FS'!$D$1:$H$56,5,FALSE),"00:00") -> 0.29166667 | DV34: Bourg-PM | DW34: =VLOOKUP(DV34,'PS-FS'!$D$2:$F$56,2,FALSE) -> 0.52777778 | DX34: =VLOOKUP(DV34,'PS-FS'!$D$2:$F$56,3,FALSE) -> 0.83333333 | DY34: =IFERROR(VLOOKUP(DV34,'PS-FS'!$D$1:$H$56,5,FALSE),"00:00") -> 0.29166667 | DZ34: AA_AM-PM | EA34: =VLOOKUP(DZ34,'PS-FS'!$D$2:$F$56,2,FALSE) -> 0.55902778 | EB34: =VLOOKUP(DZ34,'PS-FS'!$D$2:$F$56,3,FALSE) -> 0.83680556 | EC34: =IFERROR(VLOOKUP(DZ34,'PS-FS'!$D$1:$H$56,5,FALSE),"00:00") -> 0.26388889 | ED34: R | EE34: =VLOOKUP(ED34,'PS-FS'!$D$2:$F$56,2,FALSE) -> - | EF34: =VLOOKUP(ED34,'PS-FS'!$D$2:$F$56,3,FALSE) -> - | EG34: =IFERROR(VLOOKUP(ED34,'PS-FS'!$D$1:$H$56,5,FALSE),"00:00") -> 0 | EH34: Bourg-AM-Sam | EI34: =VLOOKUP(EH34,'PS-FS'!$D$2:$F$56,2,FALSE) -> 0.27777778 | EJ34: =VLOOKUP(EH34,'PS-FS'!$D$2:$F$56,3,FALSE) -> 0.54861111 | EK34: =IFERROR(VLOOKUP(EH34,'PS-FS'!$D$1:$H$56,5,FALSE),"00:00") -> 0.25694444 | EL34: R | EM34: - | EN34: - | EO34: 00:00 | EP34: =DQ34+DU34+DY34+EC34+EG34+EK34+EO34 -> 1.3958333 | EQ34: AA_AM-PM | ER34: =VLOOKUP(EQ34,'PS-FS'!$D$2:$F$56,2,FALSE) -> 0.55902778 | ES34: =VLOOKUP(EQ34,'PS-FS'!$D$2:$F$56,3,FALSE) -> 0.83680556 | ET34: =IFERROR(VLOOKUP(EQ34,'PS-FS'!$D$1:$H$56,5,FALSE),"00:00") -> 0.26388889 | EU34: Dispo-AM | EV34: =VLOOKUP(EU34,'PS-FS'!$D$2:$F$56,2,FALSE) -> 0.20833333 | EW34: =VLOOKUP(EU34,'PS-FS'!$D$2:$F$56,3,FALSE) -> 0.5 | EX34: =IFERROR(VLOOKUP(EU34,'PS-FS'!$D$1:$H$56,5,FALSE),"00:00") -> 0.29166667 | EY34: R | EZ34: =VLOOKUP(EY34,'PS-FS'!$D$2:$F$56,2,FALSE) -> - | FA34: =VLOOKUP(EY34,'PS-FS'!$D$2:$F$56,3,FALSE) -> - | FB34: =IFERROR(VLOOKUP(EY34,'PS-FS'!$D$1:$H$56,5,FALSE),"00:00") -> 0 | FC34: Bourg-AM | FD34: =VLOOKUP(FC34,'PS-FS'!$D$2:$F$56,2,FALSE) -> 0.20486111 | FE34: =VLOOKUP(FC34,'PS-FS'!$D$2:$F$56,3,FALSE) -> 0.50694444 | FF34: =IFERROR(VLOOKUP(FC34,'PS-FS'!$D$1:$H$56,5,FALSE),"00:00") -> 0.28819444 | FG34: Dispo-AM | FH34: =VLOOKUP(FG34,'PS-FS'!$D$2:$F$56,2,FALSE) -> 0.20833333 | FI34: =VLOOKUP(FG34,'PS-FS'!$D$2:$F$56,3,FALSE) -> 0.5 | FJ34: =IFERROR(VLOOKUP(FG34,'PS-FS'!$D$1:$H$56,5,FALSE),"00:00") -> 0.29166667 | FK34: PdB-PM-Soir-Sam | FL34: =VLOOKUP(FK34,'PS-FS'!$D$2:$F$56,2,FALSE) -> 0.70138889 | FM34: =VLOOKUP(FK34,'PS-FS'!$D$2:$F$56,3,FALSE) -> 0.95833333 | FN34: =IFERROR(VLOOKUP(FK34,'PS-FS'!$D$1:$H$56,5,FALSE),"00:00") -> 0.25694444 | FO34: Bourg/PdB-D&F-PM | FP34: =VLOOKUP(FO34,'PS-FS'!$D$2:$F$56,2,FALSE) -> 0.55208333 | FQ34: =VLOOKUP(FO34,'PS-FS'!$D$2:$F$56,3,FALSE) -> 0.82638889 | FR34: 00:00 | FS34: =ET34+EX34+FB34+FF34+FJ34+FN34+FR34 -> 1.3923611
A35: Chef Meca 10 | B35: R | C35: - | D35: - | E35: 00:00 | F35: Dispo-PM | G35: 0.5 | H35: 0.79166667 | I35: 0.29166667 | J35: PdB-PM-N1 | K35: 0.49652778 | L35: 0.80902778 | M35: 0.3125 | N35: R | O35: - | P35: - | Q35: 00:00 | R35: R | S35: - | T35: - | U35: 00:00 | V35: R | W35: - | X35: - | Y35: 00:00 | Z35: Dispo-AM | AA35: 0.5 | AB35: 0.79166667 | AC35: 0.29166667 | AD35: =E35+I35+M35+Q35+U35+Y35+AC35 -> 0.89583333 | AE35: R | AF35: - | AG35: - | AH35: 00:00 | AI35: Dispo-AM | AJ35: 0.20833333 | AK35: 0.5 | AL35: 0.29166667 | AM35: PdB-PM-N2 | AN35: 0.51736111 | AO35: 0.81944444 | AP35: 0.30208333 | AQ35: PdB-PM-N2 | AR35: 0.51736111 | AS35: 0.81944444 | AT35: 0.30208333 | AU35: R | AV35: - | AW35: - | AX35: 00:00 | AY35: R | AZ35: - | BA35: - | BB35: 00:00 | BC35: PdB-D&F-AM | BD35: 0.26041667 | BE35: 0.53125 | BF35: 0.27083333 | BG35: =AH35+AL35+AP35+AT35+AX35+BB35+BF35 -> 1.1666667 | BH35: AA_AM-PM | BI35: =VLOOKUP(BH35,'PS-FS'!$D$2:$F$56,2,FALSE) -> 0.55902778 | BJ35: =VLOOKUP(BH35,'PS-FS'!$D$2:$F$56,3,FALSE) -> 0.83680556 | BK35: =IFERROR(VLOOKUP(BH35,'PS-FS'!$D$1:$H$56,5,FALSE),"00:00") -> 0.26388889 | BL35: Dispo-PM | BM35: =VLOOKUP(BL35,'PS-FS'!$D$2:$F$56,2,FALSE) -> 0.5 | BN35: =VLOOKUP(BL35,'PS-FS'!$D$2:$F$56,3,FALSE) -> 0.79166667 | BO35: =IFERROR(VLOOKUP(BL35,'PS-FS'!$D$1:$H$56,5,FALSE),"00:00") -> 0.29166667 | BP35: R | BQ35: =VLOOKUP(BP35,'PS-FS'!$D$2:$F$56,2,FALSE) -> - | BR35: =VLOOKUP(BP35,'PS-FS'!$D$2:$F$56,3,FALSE) -> - | BS35: =IFERROR(VLOOKUP(BP35,'PS-FS'!$D$1:$H$56,5,FALSE),"00:00") -> 0 | BT35: Dispo-PM | BU35: =VLOOKUP(BT35,'PS-FS'!$D$2:$F$56,2,FALSE) -> 0.5 | BV35: =VLOOKUP(BT35,'PS-FS'!$D$2:$F$56,3,FALSE) -> 0.79166667 | BW35: =IFERROR(VLOOKUP(BT35,'PS-FS'!$D$1:$H$56,5,FALSE),"00:00") -> 0.29166667 | BX35: Bourg-PM | BY35: =VLOOKUP(BX35,'PS-FS'!$D$2:$F$56,2,FALSE) -> 0.52777778 | BZ35: =VLOOKUP(BX35,'PS-FS'!$D$2:$F$56,3,FALSE) -> 0.83333333 | CA35: =IFERROR(VLOOKUP(BX35,'PS-FS'!$D$1:$H$56,5,FALSE),"00:00") -> 0.29166667 | CB35: R | CC35: =VLOOKUP(CB35,'PS-FS'!$D$2:$F$56,2,FALSE) -> - | CD35: =VLOOKUP(CB35,'PS-FS'!$D$2:$F$56,3,FALSE) -> - | CE35: =IFERROR(VLOOKUP(CB35,'PS-FS'!$D$1:$H$56,5,FALSE),"00:00") -> 0 | CF35: R | CG35: =VLOOKUP(CF35,'PS-FS'!$D$2:$F$56,2,FALSE) -> - | CH35: =VLOOKUP(CF35,'PS-FS'!$D$2:$F$56,3,FALSE) -> - | CI35: =IFERROR(VLOOKUP(CF35,'PS-FS'!$D$1:$H$56,5,FALSE),"00:00") -> 0 | CJ35: =BK35+BO35+BS35+BW35+CA35+CE35+CI35 -> 1.1388889 | CL35: =VLOOKUP(CK35,'PS-FS'!$D$2:$F$56,2,FALSE) -> #N/A | CM35: =VLOOKUP(CK35,'PS-FS'!$D$2:$F$56,3,FALSE) -> #N/A | CN35: 00:00 | CP35: =VLOOKUP(CO35,'PS-FS'!$D$2:$F$56,2,FALSE) -> #N/A | CQ35: =VLOOKUP(CO35,'PS-FS'!$D$2:$F$56,3,FALSE) -> #N/A | CR35: 00:00 | CT35: =VLOOKUP(CS35,'PS-FS'!$D$2:$F$56,2,FALSE) -> #N/A | CU35: =VLOOKUP(CS35,'PS-FS'!$D$2:$F$56,3,FALSE) -> #N/A | CV35: 00:00 | CX35: =VLOOKUP(CW35,'PS-FS'!$D$2:$F$56,2,FALSE) -> #N/A | CY35: =VLOOKUP(CW35,'PS-FS'!$D$2:$F$56,3,FALSE) -> #N/A | CZ35: 00:00 | DB35: =VLOOKUP(DA35,'PS-FS'!$D$2:$F$56,2,FALSE) -> #N/A | DC35: =VLOOKUP(DA35,'PS-FS'!$D$2:$F$56,3,FALSE) -> #N/A | DD35: 00:00 | DF35: =VLOOKUP(DE35,'PS-FS'!$D$2:$F$56,2,FALSE) -> #N/A | DG35: =VLOOKUP(DE35,'PS-FS'!$D$2:$F$56,3,FALSE) -> #N/A | DH35: 00:00 | DJ35: =VLOOKUP(DI35,'PS-FS'!$D$2:$F$56,2,FALSE) -> #N/A | DK35: =VLOOKUP(DI35,'PS-FS'!$D$2:$F$56,3,FALSE) -> #N/A | DL35: =IFERROR(VLOOKUP(DI35,'PS-FS'!$D$1:$H$56,5,FALSE),"00:00") -> 00:00 | DM35: =CN35+CR35+CV35+CZ35+DD35+DH35+DL35 -> 0 | DO35: =VLOOKUP(DN35,'PS-FS'!$D$2:$F$56,2,FALSE) -> #N/A | DP35: =VLOOKUP(DN35,'PS-FS'!$D$2:$F$56,3,FALSE) -> #N/A | DQ35: =IFERROR(VLOOKUP(DN35,'PS-FS'!$D$1:$H$56,5,FALSE),"00:00") -> 00:00 | DS35: =VLOOKUP(DR35,'PS-FS'!$D$2:$F$56,2,FALSE) -> #N/A | DT35: =VLOOKUP(DR35,'PS-FS'!$D$2:$F$56,3,FALSE) -> #N/A | DU35: =IFERROR(VLOOKUP(DR35,'PS-FS'!$D$1:$H$56,5,FALSE),"00:00") -> 00:00 | DW35: =VLOOKUP(DV35,'PS-FS'!$D$2:$F$56,2,FALSE) -> #N/A | DX35: =VLOOKUP(DV35,'PS-FS'!$D$2:$F$56,3,FALSE) -> #N/A | DY35: =IFERROR(VLOOKUP(DV35,'PS-FS'!$D$1:$H$56,5,FALSE),"00:00") -> 00:00 | EA35: =VLOOKUP(DZ35,'PS-FS'!$D$2:$F$56,2,FALSE) -> #N/A | EB35: =VLOOKUP(DZ35,'PS-FS'!$D$2:$F$56,3,FALSE) -> #N/A | EC35: =IFERROR(VLOOKUP(DZ35,'PS-FS'!$D$1:$H$56,5,FALSE),"00:00") -> 00:00 | EE35: =VLOOKUP(ED35,'PS-FS'!$D$2:$F$56,2,FALSE) -> #N/A | EF35: =VLOOKUP(ED35,'PS-FS'!$D$2:$F$56,3,FALSE) -> #N/A | EG35: =IFERROR(VLOOKUP(ED35,'PS-FS'!$D$1:$H$56,5,FALSE),"00:00") -> 00:00 | EI35: =VLOOKUP(EH35,'PS-FS'!$D$2:$F$56,2,FALSE) -> #N/A | EJ35: =VLOOKUP(EH35,'PS-FS'!$D$2:$F$56,3,FALSE) -> #N/A | EK35: =IFERROR(VLOOKUP(EH35,'PS-FS'!$D$1:$H$56,5,FALSE),"00:00") -> 00:00 | EM35: #N/A | EN35: #N/A | EO35: 00:00 | EP35: =DQ35+DU35+DY35+EC35+EG35+EK35+EO35 -> 0 | EQ35: Dispo-PM | ER35: =VLOOKUP(EQ35,'PS-FS'!$D$2:$F$56,2,FALSE) -> 0.5 | ES35: =VLOOKUP(EQ35,'PS-FS'!$D$2:$F$56,3,FALSE) -> 0.79166667 | ET35: =IFERROR(VLOOKUP(EQ35,'PS-FS'!$D$1:$H$56,5,FALSE),"00:00") -> 0.29166667 | EU35: Dispo-PM | EV35: =VLOOKUP(EU35,'PS-FS'!$D$2:$F$56,2,FALSE) -> 0.5 | EW35: =VLOOKUP(EU35,'PS-FS'!$D$2:$F$56,3,FALSE) -> 0.79166667 | EX35: =IFERROR(VLOOKUP(EU35,'PS-FS'!$D$1:$H$56,5,FALSE),"00:00") -> 0.29166667 | EY35: Bourg-PM | EZ35: =VLOOKUP(EY35,'PS-FS'!$D$2:$F$56,2,FALSE) -> 0.52777778 | FA35: =VLOOKUP(EY35,'PS-FS'!$D$2:$F$56,3,FALSE) -> 0.83333333 | FB35: =IFERROR(VLOOKUP(EY35,'PS-FS'!$D$1:$H$56,5,FALSE),"00:00") -> 0.29166667 | FC35: AA_AM-PM | FD35: =VLOOKUP(FC35,'PS-FS'!$D$2:$F$56,2,FALSE) -> 0.55902778 | FE35: =VLOOKUP(FC35,'PS-FS'!$D$2:$F$56,3,FALSE) -> 0.83680556 | FF35: =IFERROR(VLOOKUP(FC35,'PS-FS'!$D$1:$H$56,5,FALSE),"00:00") -> 0.26388889 | FG35: R | FH35: =VLOOKUP(FG35,'PS-FS'!$D$2:$F$56,2,FALSE) -> - | FI35: =VLOOKUP(FG35,'PS-FS'!$D$2:$F$56,3,FALSE) -> - | FJ35: =IFERROR(VLOOKUP(FG35,'PS-FS'!$D$1:$H$56,5,FALSE),"00:00") -> 0 | FK35: Bourg-AM-Sam | FL35: =VLOOKUP(FK35,'PS-FS'!$D$2:$F$56,2,FALSE) -> 0.27777778 | FM35: =VLOOKUP(FK35,'PS-FS'!$D$2:$F$56,3,FALSE) -> 0.54861111 | FN35: =IFERROR(VLOOKUP(FK35,'PS-FS'!$D$1:$H$56,5,FALSE),"00:00") -> 0.25694444 | FO35: R | FP35: =VLOOKUP(FO35,'PS-FS'!$D$2:$F$56,2,FALSE) -> - | FQ35: =VLOOKUP(FO35,'PS-FS'!$D$2:$F$56,3,FALSE) -> - | FR35: 00:00 | FS35: =ET35+EX35+FB35+FF35+FJ35+FN35+FR35 -> 1.3958333
A36: Chef Meca 11 | AC36: 00:00 | AD36: =E36+I36+M36+Q36+U36+Y36+AC36 -> 0 | AV36: #N/A | AW36: #N/A | AX36: 00:00 | BH36: Dispo-PM | BI36: =VLOOKUP(BH36,'PS-FS'!$D$2:$F$56,2,FALSE) -> 0.5 | BJ36: =VLOOKUP(BH36,'PS-FS'!$D$2:$F$56,3,FALSE) -> 0.79166667 | BK36: =IFERROR(VLOOKUP(BH36,'PS-FS'!$D$1:$H$56,5,FALSE),"00:00") -> 0.29166667 | BL36: Dispo-AM | BM36: =VLOOKUP(BL36,'PS-FS'!$D$2:$F$56,2,FALSE) -> 0.20833333 | BN36: =VLOOKUP(BL36,'PS-FS'!$D$2:$F$56,3,FALSE) -> 0.5 | BO36: =IFERROR(VLOOKUP(BL36,'PS-FS'!$D$1:$H$56,5,FALSE),"00:00") -> 0.29166667 | BP36: Bourg-PM | BQ36: =VLOOKUP(BP36,'PS-FS'!$D$2:$F$56,2,FALSE) -> 0.52777778 | BR36: =VLOOKUP(BP36,'PS-FS'!$D$2:$F$56,3,FALSE) -> 0.83333333 | BS36: =IFERROR(VLOOKUP(BP36,'PS-FS'!$D$1:$H$56,5,FALSE),"00:00") -> 0.29166667 | BT36: Dispo-AM | BU36: =VLOOKUP(BT36,'PS-FS'!$D$2:$F$56,2,FALSE) -> 0.20833333 | BV36: =VLOOKUP(BT36,'PS-FS'!$D$2:$F$56,3,FALSE) -> 0.5 | BW36: =IFERROR(VLOOKUP(BT36,'PS-FS'!$D$1:$H$56,5,FALSE),"00:00") -> 0.29166667 | BX36: Dispo-AM | BY36: =VLOOKUP(BX36,'PS-FS'!$D$2:$F$56,2,FALSE) -> 0.20833333 | BZ36: =VLOOKUP(BX36,'PS-FS'!$D$2:$F$56,3,FALSE) -> 0.5 | CA36: =IFERROR(VLOOKUP(BX36,'PS-FS'!$D$1:$H$56,5,FALSE),"00:00") -> 0.29166667 | CB36: Bourg-AM-Sam | CC36: =VLOOKUP(CB36,'PS-FS'!$D$2:$F$56,2,FALSE) -> 0.27777778 | CD36: =VLOOKUP(CB36,'PS-FS'!$D$2:$F$56,3,FALSE) -> 0.54861111 | CE36: =IFERROR(VLOOKUP(CB36,'PS-FS'!$D$1:$H$56,5,FALSE),"00:00") -> 0.25694444 | CF36: R | CG36: =VLOOKUP(CF36,'PS-FS'!$D$2:$F$56,2,FALSE) -> - | CH36: =VLOOKUP(CF36,'PS-FS'!$D$2:$F$56,3,FALSE) -> - | CI36: =IFERROR(VLOOKUP(CF36,'PS-FS'!$D$1:$H$56,5,FALSE),"00:00") -> 0 | CJ36: =BK36+BO36+BS36+BW36+CA36+CE36+CI36 -> 1.7152778 | CK36: Dispo-AM | CL36: =VLOOKUP(CK36,'PS-FS'!$D$2:$F$56,2,FALSE) -> 0.20833333 | CM36: =VLOOKUP(CK36,'PS-FS'!$D$2:$F$56,3,FALSE) -> 0.5 | CN36: =IFERROR(VLOOKUP(CK36,'PS-FS'!$D$1:$H$56,5,FALSE),"00:00") -> 0.29166667 | CO36: Dispo-AM | CP36: =VLOOKUP(CO36,'PS-FS'!$D$2:$F$56,2,FALSE) -> 0.20833333 | CQ36: =VLOOKUP(CO36,'PS-FS'!$D$2:$F$56,3,FALSE) -> 0.5 | CR36: =IFERROR(VLOOKUP(CO36,'PS-FS'!$D$1:$H$56,5,FALSE),"00:00") -> 0.29166667 | CS36: R | CT36: =VLOOKUP(CS36,'PS-FS'!$D$2:$F$56,2,FALSE) -> - | CU36: =VLOOKUP(CS36,'PS-FS'!$D$2:$F$56,3,FALSE) -> - | CV36: =IFERROR(VLOOKUP(CS36,'PS-FS'!$D$1:$H$56,5,FALSE),"00:00") -> 0 | CW36: R | CX36: =VLOOKUP(CW36,'PS-FS'!$D$2:$F$56,2,FALSE) -> - | CY36: =VLOOKUP(CW36,'PS-FS'!$D$2:$F$56,3,FALSE) -> - | CZ36: =IFERROR(VLOOKUP(CW36,'PS-FS'!$D$1:$H$56,5,FALSE),"00:00") -> 0 | DA36: Dispo-AM | DB36: =VLOOKUP(DA36,'PS-FS'!$D$2:$F$56,2,FALSE) -> 0.20833333 | DC36: =VLOOKUP(DA36,'PS-FS'!$D$2:$F$56,3,FALSE) -> 0.5 | DD36: =IFERROR(VLOOKUP(DA36,'PS-FS'!$D$1:$H$56,5,FALSE),"00:00") -> 0.29166667 | DE36: PdB-PM-Soir-Sam | DF36: =VLOOKUP(DE36,'PS-FS'!$D$2:$F$56,2,FALSE) -> 0.70138889 | DG36: =VLOOKUP(DE36,'PS-FS'!$D$2:$F$56,3,FALSE) -> 0.95833333 | DH36: =IFERROR(VLOOKUP(DE36,'PS-FS'!$D$1:$H$56,5,FALSE),"00:00") -> 0.25694444 | DI36: Bourg/PdB-D&F-PM | DJ36: =VLOOKUP(DI36,'PS-FS'!$D$2:$F$56,2,FALSE) -> 0.55208333 | DK36: =VLOOKUP(DI36,'PS-FS'!$D$2:$F$56,3,FALSE) -> 0.82638889 | DL36: =IFERROR(VLOOKUP(DI36,'PS-FS'!$D$1:$H$56,5,FALSE),"00:00") -> 0.27430556 | DM36: =CN36+CR36+CV36+CZ36+DD36+DH36+DL36 -> 1.40625 | DN36: AA_AM-PM | DO36: =VLOOKUP(DN36,'PS-FS'!$D$2:$F$56,2,FALSE) -> 0.55902778 | DP36: =VLOOKUP(DN36,'PS-FS'!$D$2:$F$56,3,FALSE) -> 0.83680556 | DQ36: =IFERROR(VLOOKUP(DN36,'PS-FS'!$D$1:$H$56,5,FALSE),"00:00") -> 0.26388889 | DR36: AA_AM-PM | DS36: =VLOOKUP(DR36,'PS-FS'!$D$2:$F$56,2,FALSE) -> 0.55902778 | DT36: =VLOOKUP(DR36,'PS-FS'!$D$2:$F$56,3,FALSE) -> 0.83680556 | DU36: =IFERROR(VLOOKUP(DR36,'PS-FS'!$D$1:$H$56,5,FALSE),"00:00") -> 0.26388889 | DV36: PdB-Jour | DW36: =VLOOKUP(DV36,'PS-FS'!$D$2:$F$56,2,FALSE) -> 0.42708333 | DX36: =VLOOKUP(DV36,'PS-FS'!$D$2:$F$56,3,FALSE) -> 0.65625 | DY36: =IFERROR(VLOOKUP(DV36,'PS-FS'!$D$1:$H$56,5,FALSE),"00:00") -> 0.22916667 | DZ36: Dispo-PM | EA36: =VLOOKUP(DZ36,'PS-FS'!$D$2:$F$56,2,FALSE) -> 0.5 | EB36: =VLOOKUP(DZ36,'PS-FS'!$D$2:$F$56,3,FALSE) -> 0.79166667 | EC36: =IFERROR(VLOOKUP(DZ36,'PS-FS'!$D$1:$H$56,5,FALSE),"00:00") -> 0.29166667 | ED36: Bourg-PM | EE36: =VLOOKUP(ED36,'PS-FS'!$D$2:$F$56,2,FALSE) -> 0.52777778 | EF36: =VLOOKUP(ED36,'PS-FS'!$D$2:$F$56,3,FALSE) -> 0.83333333 | EG36: =IFERROR(VLOOKUP(ED36,'PS-FS'!$D$1:$H$56,5,FALSE),"00:00") -> 0.29166667 | EH36: R | EI36: =VLOOKUP(EH36,'PS-FS'!$D$2:$F$56,2,FALSE) -> - | EJ36: =VLOOKUP(EH36,'PS-FS'!$D$2:$F$56,3,FALSE) -> - | EK36: =IFERROR(VLOOKUP(EH36,'PS-FS'!$D$1:$H$56,5,FALSE),"00:00") -> 0 | EL36: R | EM36: - | EN36: - | EO36: 00:00 | EP36: =DQ36+DU36+DY36+EC36+EG36+EK36+EO36 -> 1.3402778 | EQ36: Dispo-PM | ER36: =VLOOKUP(EQ36,'PS-FS'!$D$2:$F$56,2,FALSE) -> 0.5 | ES36: =VLOOKUP(EQ36,'PS-FS'!$D$2:$F$56,3,FALSE) -> 0.79166667 | ET36: =IFERROR(VLOOKUP(EQ36,'PS-FS'!$D$1:$H$56,5,FALSE),"00:00") -> 0.29166667 | EU36: Dispo-PM | EV36: =VLOOKUP(EU36,'PS-FS'!$D$2:$F$56,2,FALSE) -> 0.5 | EW36: =VLOOKUP(EU36,'PS-FS'!$D$2:$F$56,3,FALSE) -> 0.79166667 | EX36: =IFERROR(VLOOKUP(EU36,'PS-FS'!$D$1:$H$56,5,FALSE),"00:00") -> 0.29166667 | EY36: Dispo-PM | EZ36: =VLOOKUP(EY36,'PS-FS'!$D$2:$F$56,2,FALSE) -> 0.5 | FA36: =VLOOKUP(EY36,'PS-FS'!$D$2:$F$56,3,FALSE) -> 0.79166667 | FB36: =IFERROR(VLOOKUP(EY36,'PS-FS'!$D$1:$H$56,5,FALSE),"00:00") -> 0.29166667 | FC36: Dispo-PM | FD36: =VLOOKUP(FC36,'PS-FS'!$D$2:$F$56,2,FALSE) -> 0.5 | FE36: =VLOOKUP(FC36,'PS-FS'!$D$2:$F$56,3,FALSE) -> 0.79166667 | FF36: =IFERROR(VLOOKUP(FC36,'PS-FS'!$D$1:$H$56,5,FALSE),"00:00") -> 0.29166667 | FG36: R | FH36: =VLOOKUP(FG36,'PS-FS'!$D$2:$F$56,2,FALSE) -> - | FI36: =VLOOKUP(FG36,'PS-FS'!$D$2:$F$56,3,FALSE) -> - | FJ36: =IFERROR(VLOOKUP(FG36,'PS-FS'!$D$1:$H$56,5,FALSE),"00:00") -> 0 | FK36: AM_AA-PM-Sam | FL36: =VLOOKUP(FK36,'PS-FS'!$D$2:$F$56,2,FALSE) -> 0.55208333 | FM36: =VLOOKUP(FK36,'PS-FS'!$D$2:$F$56,3,FALSE) -> 0.79861111 | FN36: =IFERROR(VLOOKUP(FK36,'PS-FS'!$D$1:$H$56,5,FALSE),"00:00") -> 0.24652778 | FP36: =VLOOKUP(FO36,'PS-FS'!$D$2:$F$56,2,FALSE) -> #N/A | FQ36: =VLOOKUP(FO36,'PS-FS'!$D$2:$F$56,3,FALSE) -> #N/A | FR36: 00:00 | FS36: =ET36+EX36+FB36+FF36+FJ36+FN36+FR36 -> 1.4131944
A37: Chef Meca 12 | AC37: 00:00 | AD37: =E37+I37+M37+Q37+U37+Y37+AC37 -> 0 | AV37: #N/A | AW37: #N/A | AX37: 00:00 | BH37: Dispo-PM | BI37: =VLOOKUP(BH37,'PS-FS'!$D$2:$F$56,2,FALSE) -> 0.5 | BJ37: =VLOOKUP(BH37,'PS-FS'!$D$2:$F$56,3,FALSE) -> 0.79166667 | BK37: =IFERROR(VLOOKUP(BH37,'PS-FS'!$D$1:$H$56,5,FALSE),"00:00") -> 0.29166667 | BL37: Dispo-PM | BM37: =VLOOKUP(BL37,'PS-FS'!$D$2:$F$56,2,FALSE) -> 0.5 | BN37: =VLOOKUP(BL37,'PS-FS'!$D$2:$F$56,3,FALSE) -> 0.79166667 | BO37: =IFERROR(VLOOKUP(BL37,'PS-FS'!$D$1:$H$56,5,FALSE),"00:00") -> 0.29166667 | BP37: R | BQ37: =VLOOKUP(BP37,'PS-FS'!$D$2:$F$56,2,FALSE) -> - | BR37: =VLOOKUP(BP37,'PS-FS'!$D$2:$F$56,3,FALSE) -> - | BS37: =IFERROR(VLOOKUP(BP37,'PS-FS'!$D$1:$H$56,5,FALSE),"00:00") -> 0 | BT37: R | BU37: =VLOOKUP(BT37,'PS-FS'!$D$2:$F$56,2,FALSE) -> - | BV37: =VLOOKUP(BT37,'PS-FS'!$D$2:$F$56,3,FALSE) -> - | BW37: =IFERROR(VLOOKUP(BT37,'PS-FS'!$D$1:$H$56,5,FALSE),"00:00") -> 0 | BX37: Bourg-PM | BY37: =VLOOKUP(BX37,'PS-FS'!$D$2:$F$56,2,FALSE) -> 0.52777778 | BZ37: =VLOOKUP(BX37,'PS-FS'!$D$2:$F$56,3,FALSE) -> 0.83333333 | CA37: =IFERROR(VLOOKUP(BX37,'PS-FS'!$D$1:$H$56,5,FALSE),"00:00") -> 0.29166667 | CB37: PdB-PM-Soir-Sam | CC37: =VLOOKUP(CB37,'PS-FS'!$D$2:$F$56,2,FALSE) -> 0.70138889 | CD37: =VLOOKUP(CB37,'PS-FS'!$D$2:$F$56,3,FALSE) -> 0.95833333 | CE37: =IFERROR(VLOOKUP(CB37,'PS-FS'!$D$1:$H$56,5,FALSE),"00:00") -> 0.25694444 | CF37: Bourg/PdB-D&F-PM | CG37: =VLOOKUP(CF37,'PS-FS'!$D$2:$F$56,2,FALSE) -> 0.55208333 | CH37: =VLOOKUP(CF37,'PS-FS'!$D$2:$F$56,3,FALSE) -> 0.82638889 | CI37: =IFERROR(VLOOKUP(CF37,'PS-FS'!$D$1:$H$56,5,FALSE),"00:00") -> 0.27430556 | CJ37: =BK37+BO37+BS37+BW37+CA37+CE37+CI37 -> 1.40625 | CK37: Dispo-PM | CL37: =VLOOKUP(CK37,'PS-FS'!$D$2:$F$56,2,FALSE) -> 0.5 | CM37: =VLOOKUP(CK37,'PS-FS'!$D$2:$F$56,3,FALSE) -> 0.79166667 | CN37: =IFERROR(VLOOKUP(CK37,'PS-FS'!$D$1:$H$56,5,FALSE),"00:00") -> 0.29166667 | CO37: AA_AM-PM | CP37: =VLOOKUP(CO37,'PS-FS'!$D$2:$F$56,2,FALSE) -> 0.55902778 | CQ37: =VLOOKUP(CO37,'PS-FS'!$D$2:$F$56,3,FALSE) -> 0.83680556 | CR37: =IFERROR(VLOOKUP(CO37,'PS-FS'!$D$1:$H$56,5,FALSE),"00:00") -> 0.26388889 | CS37: Bourg-PM | CT37: =VLOOKUP(CS37,'PS-FS'!$D$2:$F$56,2,FALSE) -> 0.52777778 | CU37: =VLOOKUP(CS37,'PS-FS'!$D$2:$F$56,3,FALSE) -> 0.83333333 | CV37: =IFERROR(VLOOKUP(CS37,'PS-FS'!$D$1:$H$56,5,FALSE),"00:00") -> 0.29166667 | CW37: AA_AM-PM | CX37: =VLOOKUP(CW37,'PS-FS'!$D$2:$F$56,2,FALSE) -> 0.55902778 | CY37: =VLOOKUP(CW37,'PS-FS'!$D$2:$F$56,3,FALSE) -> 0.83680556 | CZ37: =IFERROR(VLOOKUP(CW37,'PS-FS'!$D$1:$H$56,5,FALSE),"00:00") -> 0.26388889 | DA37: R | DB37: =VLOOKUP(DA37,'PS-FS'!$D$2:$F$56,2,FALSE) -> - | DC37: =VLOOKUP(DA37,'PS-FS'!$D$2:$F$56,3,FALSE) -> - | DD37: =IFERROR(VLOOKUP(DA37,'PS-FS'!$D$1:$H$56,5,FALSE),"00:00") -> 0 | DE37: Bourg-AM-Sam | DF37: =VLOOKUP(DE37,'PS-FS'!$D$2:$F$56,2,FALSE) -> 0.27777778 | DG37: =VLOOKUP(DE37,'PS-FS'!$D$2:$F$56,3,FALSE) -> 0.54861111 | DH37: =IFERROR(VLOOKUP(DE37,'PS-FS'!$D$1:$H$56,5,FALSE),"00:00") -> 0.25694444 | DI37: R | DJ37: =VLOOKUP(DI37,'PS-FS'!$D$2:$F$56,2,FALSE) -> - | DK37: =VLOOKUP(DI37,'PS-FS'!$D$2:$F$56,3,FALSE) -> - | DL37: =IFERROR(VLOOKUP(DI37,'PS-FS'!$D$1:$H$56,5,FALSE),"00:00") -> 0 | DM37: =CN37+CR37+CV37+CZ37+DD37+DH37+DL37 -> 1.3680556 | DN37: Dispo-PM | DR37: Dispo-PM | DV37: Dispo-PM | DZ37: Dispo-PM | ED37: Dispo-PM | EH37: R | EI37: =VLOOKUP(EH37,'PS-FS'!$D$2:$F$56,2,FALSE) -> - | EJ37: =VLOOKUP(EH37,'PS-FS'!$D$2:$F$56,3,FALSE) -> - | EK37: =IFERROR(VLOOKUP(EH37,'PS-FS'!$D$1:$H$56,5,FALSE),"00:00") -> 0 | EL37: R | EM37: - | EN37: - | EO37: 00:00 | EP37: =DQ37+DU37+DY37+EC37+EG37+EK37+EO37 -> 0 | FP37: =VLOOKUP(FO37,'PS-FS'!$D$2:$F$56,2,FALSE) -> #N/A | FQ37: =VLOOKUP(FO37,'PS-FS'!$D$2:$F$56,3,FALSE) -> #N/A | FR37: 00:00 | FS37: =ET37+EX37+FB37+FF37+FJ37+FN37+FR37 -> 0
A38: Chef Meca 13 | B38: Dispo-AM | C38: 0.20833333 | D38: 0.5 | E38: 0.29166667 | F38: R | G38: - | H38: - | I38: 00:00 | J38: Dispo-AM | K38: 0.20833333 | L38: 0.5 | M38: 0.29166667 | N38: Dispo-AM | O38: 0.20833333 | P38: 0.5 | Q38: 0.29166667 | R38: R | S38: - | T38: - | U38: 00:00 | V38: PdB-PM-Sam N2 | W38: 0.51736111 | X38: 0.81944444 | Y38: 0.30208333 | Z38: R | AA38: - | AB38: - | AC38: 00:00 | AD38: =E38+I38+M38+Q38+U38+Y38+AC38 -> 1.1770833 | AE38: Dispo-AM | AF38: 0.20833333 | AG38: 0.5 | AH38: 0.29166667 | AI38: Dispo-AM | AJ38: 0.20833333 | AK38: 0.5 | AL38: 0.29166667 | AM38: Dispo-AM | AN38: 0.20833333 | AO38: 0.5 | AP38: 0.29166667 | AQ38: Dispo-AM | AR38: 0.20833333 | AS38: 0.5 | AT38: 0.29166667 | AU38: Dispo-AM | AV38: 0.20833333 | AW38: 0.5 | AX38: 0.29166667 | AY38: R | AZ38: - | BA38: - | BB38: 00:00 | BC38: R | BD38: - | BE38: - | BF38: 00:00 | BG38: =AH38+AL38+AP38+AT38+AX38+BB38+BF38 -> 1.4583333 | BH38: Dispo-AM | BI38: =VLOOKUP(BH38,'PS-FS'!$D$2:$F$56,2,FALSE) -> 0.20833333 | BJ38: =VLOOKUP(BH38,'PS-FS'!$D$2:$F$56,3,FALSE) -> 0.5 | BK38: =IFERROR(VLOOKUP(BH38,'PS-FS'!$D$1:$H$56,5,FALSE),"00:00") -> 0.29166667 | BL38: Dispo-AM | BM38: =VLOOKUP(BL38,'PS-FS'!$D$2:$F$56,2,FALSE) -> 0.20833333 | BN38: =VLOOKUP(BL38,'PS-FS'!$D$2:$F$56,3,FALSE) -> 0.5 | BO38: =IFERROR(VLOOKUP(BL38,'PS-FS'!$D$1:$H$56,5,FALSE),"00:00") -> 0.29166667 | BP38: Dispo-AM | BQ38: =VLOOKUP(BP38,'PS-FS'!$D$2:$F$56,2,FALSE) -> 0.20833333 | BR38: =VLOOKUP(BP38,'PS-FS'!$D$2:$F$56,3,FALSE) -> 0.5 | BS38: =IFERROR(VLOOKUP(BP38,'PS-FS'!$D$1:$H$56,5,FALSE),"00:00") -> 0.29166667 | BT38: Dispo-AM | BU38: =VLOOKUP(BT38,'PS-FS'!$D$2:$F$56,2,FALSE) -> 0.20833333 | BV38: =VLOOKUP(BT38,'PS-FS'!$D$2:$F$56,3,FALSE) -> 0.5 | BW38: =IFERROR(VLOOKUP(BT38,'PS-FS'!$D$1:$H$56,5,FALSE),"00:00") -> 0.29166667 | BX38: Dispo-AM | BY38: =VLOOKUP(BX38,'PS-FS'!$D$2:$F$56,2,FALSE) -> 0.20833333 | BZ38: =VLOOKUP(BX38,'PS-FS'!$D$2:$F$56,3,FALSE) -> 0.5 | CA38: =IFERROR(VLOOKUP(BX38,'PS-FS'!$D$1:$H$56,5,FALSE),"00:00") -> 0.29166667 | CB38: R | CC38: =VLOOKUP(CB38,'PS-FS'!$D$2:$F$56,2,FALSE) -> - | CD38: =VLOOKUP(CB38,'PS-FS'!$D$2:$F$56,3,FALSE) -> - | CE38: =IFERROR(VLOOKUP(CB38,'PS-FS'!$D$1:$H$56,5,FALSE),"00:00") -> 0 | CF38: R | CG38: - | CH38: - | CI38: =IFERROR(VLOOKUP(CF38,'PS-FS'!$D$1:$H$56,5,FALSE),"00:00") -> 0 | CJ38: =BK38+BO38+BS38+BW38+CA38+CE38+CI38 -> 1.4583333 | CK38: Dispo-AM | CL38: =VLOOKUP(CK38,'PS-FS'!$D$2:$F$56,2,FALSE) -> 0.20833333 | CM38: =VLOOKUP(CK38,'PS-FS'!$D$2:$F$56,3,FALSE) -> 0.5 | CN38: =IFERROR(VLOOKUP(CK38,'PS-FS'!$D$1:$H$56,5,FALSE),"00:00") -> 0.29166667 | CO38: Dispo-AM | CP38: =VLOOKUP(CO38,'PS-FS'!$D$2:$F$56,2,FALSE) -> 0.20833333 | CQ38: =VLOOKUP(CO38,'PS-FS'!$D$2:$F$56,3,FALSE) -> 0.5 | CR38: =IFERROR(VLOOKUP(CO38,'PS-FS'!$D$1:$H$56,5,FALSE),"00:00") -> 0.29166667 | CS38: Dispo-AM | CT38: =VLOOKUP(CS38,'PS-FS'!$D$2:$F$56,2,FALSE) -> 0.20833333 | CU38: =VLOOKUP(CS38,'PS-FS'!$D$2:$F$56,3,FALSE) -> 0.5 | CV38: =IFERROR(VLOOKUP(CS38,'PS-FS'!$D$1:$H$56,5,FALSE),"00:00") -> 0.29166667 | CW38: Dispo-AM | CX38: =VLOOKUP(CW38,'PS-FS'!$D$2:$F$56,2,FALSE) -> 0.20833333 | CY38: =VLOOKUP(CW38,'PS-FS'!$D$2:$F$56,3,FALSE) -> 0.5 | CZ38: =IFERROR(VLOOKUP(CW38,'PS-FS'!$D$1:$H$56,5,FALSE),"00:00") -> 0.29166667 | DA38: Dispo-AM | DB38: =VLOOKUP(DA38,'PS-FS'!$D$2:$F$56,2,FALSE) -> 0.20833333 | DC38: =VLOOKUP(DA38,'PS-FS'!$D$2:$F$56,3,FALSE) -> 0.5 | DD38: =IFERROR(VLOOKUP(DA38,'PS-FS'!$D$1:$H$56,5,FALSE),"00:00") -> 0.29166667 | DE38: R | DF38: =VLOOKUP(DE38,'PS-FS'!$D$2:$F$56,2,FALSE) -> - | DG38: =VLOOKUP(DE38,'PS-FS'!$D$2:$F$56,3,FALSE) -> - | DH38: =IFERROR(VLOOKUP(DE38,'PS-FS'!$D$1:$H$56,5,FALSE),"00:00") -> 0 | DI38: R | DJ38: =VLOOKUP(DI38,'PS-FS'!$D$2:$F$56,2,FALSE) -> - | DK38: =VLOOKUP(DI38,'PS-FS'!$D$2:$F$56,3,FALSE) -> - | DL38: =IFERROR(VLOOKUP(DI38,'PS-FS'!$D$1:$H$56,5,FALSE),"00:00") -> 0 | DM38: =CN38+CR38+CV38+CZ38+DD38+DH38+DL38 -> 1.4583333 | DN38: Dispo-AM | DO38: =VLOOKUP(DN38,'PS-FS'!$D$2:$F$56,2,FALSE) -> 0.20833333 | DP38: =VLOOKUP(DN38,'PS-FS'!$D$2:$F$56,3,FALSE) -> 0.5 | DQ38: =IFERROR(VLOOKUP(DN38,'PS-FS'!$D$1:$H$56,5,FALSE),"00:00") -> 0.29166667 | DR38: Dispo-AM | DS38: =VLOOKUP(DR38,'PS-FS'!$D$2:$F$56,2,FALSE) -> 0.20833333 | DT38: =VLOOKUP(DR38,'PS-FS'!$D$2:$F$56,3,FALSE) -> 0.5 | DU38: =IFERROR(VLOOKUP(DR38,'PS-FS'!$D$1:$H$56,5,FALSE),"00:00") -> 0.29166667 | DV38: Dispo-AM | DW38: =VLOOKUP(DV38,'PS-FS'!$D$2:$F$56,2,FALSE) -> 0.20833333 | DX38: =VLOOKUP(DV38,'PS-FS'!$D$2:$F$56,3,FALSE) -> 0.5 | DY38: =IFERROR(VLOOKUP(DV38,'PS-FS'!$D$1:$H$56,5,FALSE),"00:00") -> 0.29166667 | DZ38: Dispo-AM | EA38: =VLOOKUP(DZ38,'PS-FS'!$D$2:$F$56,2,FALSE) -> 0.20833333 | EB38: =VLOOKUP(DZ38,'PS-FS'!$D$2:$F$56,3,FALSE) -> 0.5 | EC38: =IFERROR(VLOOKUP(DZ38,'PS-FS'!$D$1:$H$56,5,FALSE),"00:00") -> 0.29166667 | ED38: Dispo-AM | EE38: =VLOOKUP(ED38,'PS-FS'!$D$2:$F$56,2,FALSE) -> 0.20833333 | EF38: =VLOOKUP(ED38,'PS-FS'!$D$2:$F$56,3,FALSE) -> 0.5 | EG38: =IFERROR(VLOOKUP(ED38,'PS-FS'!$D$1:$H$56,5,FALSE),"00:00") -> 0.29166667 | EH38: R | EI38: =VLOOKUP(EH38,'PS-FS'!$D$2:$F$56,2,FALSE) -> - | EJ38: =VLOOKUP(EH38,'PS-FS'!$D$2:$F$56,3,FALSE) -> - | EK38: =IFERROR(VLOOKUP(EH38,'PS-FS'!$D$1:$H$56,5,FALSE),"00:00") -> 0 | EL38: R | EM38: - | EN38: - | EO38: 00:00 | EP38: =DQ38+DU38+DY38+EC38+EG38+EK38+EO38 -> 1.4583333 | EQ38: Dispo-AM | ER38: =VLOOKUP(EQ38,'PS-FS'!$D$2:$F$56,2,FALSE) -> 0.20833333 | ES38: =VLOOKUP(EQ38,'PS-FS'!$D$2:$F$56,3,FALSE) -> 0.5 | ET38: =IFERROR(VLOOKUP(EQ38,'PS-FS'!$D$1:$H$56,5,FALSE),"00:00") -> 0.29166667 | EU38: Dispo-AM | EV38: =VLOOKUP(EU38,'PS-FS'!$D$2:$F$56,2,FALSE) -> 0.20833333 | EW38: =VLOOKUP(EU38,'PS-FS'!$D$2:$F$56,3,FALSE) -> 0.5 | EX38: =IFERROR(VLOOKUP(EU38,'PS-FS'!$D$1:$H$56,5,FALSE),"00:00") -> 0.29166667 | EY38: Dispo-AM | EZ38: =VLOOKUP(EY38,'PS-FS'!$D$2:$F$56,2,FALSE) -> 0.20833333 | FA38: =VLOOKUP(EY38,'PS-FS'!$D$2:$F$56,3,FALSE) -> 0.5 | FB38: =IFERROR(VLOOKUP(EY38,'PS-FS'!$D$1:$H$56,5,FALSE),"00:00") -> 0.29166667 | FC38: Dispo-AM | FD38: =VLOOKUP(FC38,'PS-FS'!$D$2:$F$56,2,FALSE) -> 0.20833333 | FE38: =VLOOKUP(FC38,'PS-FS'!$D$2:$F$56,3,FALSE) -> 0.5 | FF38: =IFERROR(VLOOKUP(FC38,'PS-FS'!$D$1:$H$56,5,FALSE),"00:00") -> 0.29166667 | FG38: Dispo-AM | FH38: =VLOOKUP(FG38,'PS-FS'!$D$2:$F$56,2,FALSE) -> 0.20833333 | FI38: =VLOOKUP(FG38,'PS-FS'!$D$2:$F$56,3,FALSE) -> 0.5 | FJ38: =IFERROR(VLOOKUP(FG38,'PS-FS'!$D$1:$H$56,5,FALSE),"00:00") -> 0.29166667 | FK38: R | FL38: =VLOOKUP(FK38,'PS-FS'!$D$2:$F$56,2,FALSE) -> - | FM38: =VLOOKUP(FK38,'PS-FS'!$D$2:$F$56,3,FALSE) -> - | FN38: =IFERROR(VLOOKUP(FK38,'PS-FS'!$D$1:$H$56,5,FALSE),"00:00") -> 0 | FO38: R | FP38: =VLOOKUP(FO38,'PS-FS'!$D$2:$F$56,2,FALSE) -> - | FQ38: =VLOOKUP(FO38,'PS-FS'!$D$2:$F$56,3,FALSE) -> - | FR38: 00:00 | FS38: =ET38+EX38+FB38+FF38+FJ38+FN38+FR38 -> 1.4583333
E39: =COUNTIF(E26:E38,">00:00") -> 6 | I39: =COUNTIF(I26:I38,">00:00") -> 8 | M39: =COUNTIF(M26:M38,">00:00") -> 7 | Q39: =COUNTIF(Q26:Q38,">00:00") -> 8 | U39: =COUNTIF(U26:U38,">00:00") -> 8 | Y39: =COUNTIF(Y26:Y38,">00:00") -> 5 | AC39: =COUNTIF(AC26:AC38,">00:00") -> 4 | AH39: =COUNTIF(AH26:AH38,">00:00") -> 7 | AL39: =COUNTIF(AL26:AL38,">00:00") -> 7 | AP39: =COUNTIF(AP26:AP38,">00:00") -> 7 | AT39: =COUNTIF(AT26:AT38,">00:00") -> 8 | AX39: =COUNTIF(AX26:AX38,">00:00") -> 7 | BB39: =COUNTIF(BB26:BB38,">00:00") -> 4 | BF39: =COUNTIF(BF26:BF38,">00:00") -> 2 | BK39: =COUNTIF(BK26:BK38,">00:00") -> 11 | BO39: =COUNTIF(BO26:BO38,">00:00") -> 11 | BS39: =COUNTIF(BS26:BS38,">00:00") -> 10 | BW39: =COUNTIF(BW26:BW38,">00:00") -> 11 | CA39: =COUNTIF(CA26:CA38,">00:00") -> 11 | CE39: =COUNTIF(CE26:CE38,">00:00") -> 7 | CI39: =COUNTIF(CI26:CI38,">00:00") -> 2 | CN39: =COUNTIF(CN26:CN38,">00:00") -> 10 | CR39: =COUNTIF(CR26:CR38,">00:00") -> 10 | CV39: =COUNTIF(CV26:CV38,">00:00") -> 8 | CZ39: =COUNTIF(CZ26:CZ38,">00:00") -> 10 | DD39: =COUNTIF(DD26:DD38,">00:00") -> 9 | DH39: =COUNTIF(DH26:DH38,">00:00") -> 7 | DL39: =COUNTIF(DL26:DL38,">00:00") -> 2 | DQ39: =COUNTIF(DQ26:DQ38,">00:00") -> 11 | DU39: =COUNTIF(DU26:DU38,">00:00") -> 11 | DY39: =COUNTIF(DY26:DY38,">00:00") -> 9 | EC39: =COUNTIF(EC26:EC38,">00:00") -> 11 | EG39: =COUNTIF(EG26:EG38,">00:00") -> 9 | EK39: =COUNTIF(EK26:EK38,">00:00") -> 7 | EO39: =COUNTIF(EO26:EO38,">00:00") -> 1
A40: AM : Ante Meridiem - avant midi
A41: PM : Post Meridiem - après midi
B42: 45523 | F42: 45524 | J42: 45525 | N42: 45526 | R42: 45527 | V42: 45528 | Z42: 45529 | AE42: 45530 | AI42: 45531 | AM42: 45532 | AQ42: 45533 | AU42: 45534 | AY42: 45535 | BC42: 45536 | BH42: 45537 | BL42: 45538 | BP42: 45539 | BT42: 45540 | BX42: 45541 | CB42: 45542 | CF42: 45543 | CK42: 45544 | CO42: 45545 | CS42: 45546 | CW42: 45547 | DA42: 45548 | DE42: 45549 | DI42: 45550 | DN42: 45551 | DR42: 45552 | DV42: 45553 | DZ42: 45554 | ED42: 45555 | EH42: 45556 | EL42: 45557 | EQ42: 45558 | EU42: 45559 | EY42: 45560 | FC42: 45561 | FG42: 45562 | FK42: 45563 | FO42: 45564
A43: MATELOT | B43: Lundi | C43: PS | D43: FS | E43: TTE | F43: Mardi | G43: PS | H43: FS | I43: TTE | J43: Mercredi | K43: PS | L43: FS | M43: TTE | N43: Jeudi | O43: PS | P43: FS | Q43: TTE | R43: Vendredi | S43: PS | T43: FS | U43: TTE | V43: Samedi | W43: PS | X43: FS | Y43: TTE | Z43: Dimanche | AA43: PS | AB43: FS | AC43: TTE | AD43: TTE HEBDO | AE43: Lundi | AF43: PS | AG43: FS | AH43: TTE | AI43: Mardi | AJ43: PS | AK43: FS | AL43: TTE | AM43: Mercredi | AN43: PS | AO43: FS | AP43: TTE | AQ43: Jeudi | AR43: PS | AS43: FS | AT43: TTE | AU43: Vendredi | AV43: PS | AW43: FS | AX43: TTE | AY43: Samedi | AZ43: PS | BA43: FS | BB43: TTE | BC43: Dimanche | BD43: PS | BE43: FS | BF43: TTE | BG43: TTE HEBDO | BH43: Lundi | BI43: PS | BJ43: FS | BK43: TTE | BL43: Mardi | BM43: PS | BN43: FS | BO43: TTE | BP43: Mercredi | BQ43: PS | BR43: FS | BS43: TTE | BT43: Jeudi | BU43: PS | BV43: FS | BW43: TTE | BX43: Vendredi | BY43: PS | BZ43: FS | CA43: TTE | CB43: Samedi | CC43: PS | CD43: FS | CE43: TTE | CF43: Dimanche | CG43: PS | CH43: FS | CI43: TTE | CJ43: TTE HEBDO | CK43: Lundi | CL43: PS | CM43: FS | CN43: TTE | CO43: Mardi | CP43: PS | CQ43: FS | CR43: TTE | CS43: Mercredi | CT43: PS | CU43: FS | CV43: TTE | CW43: Jeudi | CX43: PS | CY43: FS | CZ43: TTE | DA43: Vendredi | DB43: PS | DC43: FS | DD43: TTE | DE43: Samedi | DF43: PS | DG43: FS | DH43: TTE | DI43: Dimanche | DJ43: PS | DK43: FS | DL43: TTE | DM43: TTE HEBDO | DN43: Lundi | DO43: PS | DP43: FS | DQ43: TTE | DR43: Mardi | DS43: PS | DT43: FS | DU43: TTE | DV43: Mercredi | DW43: PS | DX43: FS | DY43: TTE | DZ43: Jeudi | EA43: PS | EB43: FS | EC43: TTE | ED43: Vendredi | EE43: PS | EF43: FS | EG43: TTE | EH43: Samedi | EI43: PS | EJ43: FS | EK43: TTE | EL43: Dimanche | EM43: PS | EN43: FS | EO43: TTE | EP43: TTE HEBDO | EQ43: Lundi | ER43: PS | ES43: FS | ET43: TTE | EU43: Mardi | EV43: PS | EW43: FS | EX43: TTE | EY43: Mercredi | EZ43: PS | FA43: FS | FB43: TTE | FC43: Jeudi | FD43: PS | FE43: FS | FF43: TTE | FG43: Vendredi | FH43: PS | FI43: FS | FJ43: TTE | FK43: Samedi | FL43: PS | FM43: FS | FN43: TTE | FO43: Dimanche | FP43: PS | FQ43: FS | FR43: TTE | FS43: TTE HEBDO
A44: Matelot 1 | B44: R | C44: - | D44: - | E44: 00:00 | F44: Dispo-PM | G44: 0.5 | H44: 0.79166667 | I44: 0.29166667 | J44: PdB-PM-N1 | K44: 0.49652778 | L44: 0.80902778 | M44: 0.3125 | N44: R | O44: - | P44: - | Q44: 00:00 | R44: PdB-PM-N2 | S44: 0.51736111 | T44: 0.81944444 | U44: 0.30208333 | V44: R | W44: - | X44: - | Y44: 00:00 | Z44: R | AA44: - | AB44: - | AC44: 00:00 | AD44: =E44+I44+M44+Q44+U44+Y44+AC44 -> 0.90625 | AE44: R | AF44: - | AG44: - | AH44: 00:00 | AI44: PdB-AM-N1 | AJ44: 0.20486111 | AK44: 0.51041667 | AL44: 0.30555556 | AM44: Dispo-AM | AN44: 0.20833333 | AO44: 0.41666667 | AP44: 0.29166667 | AQ44: Congés | AR44: - | AS44: - | AT44: 00:00 | AU44: Congés | AV44: - | AW44: - | AX44: 00:00 | AY44: Congés | AZ44: - | BA44: - | BB44: 00:00 | BC44: R | BD44: - | BE44: - | BF44: 00:00 | BG44: =AH44+AL44+AP44+AT44+AX44+BB44+BF44 -> 0.59722222 | BH44: Congés | BI44: =VLOOKUP(BH44,'PS-FS'!$D$2:$F$56,2,FALSE) -> - | BJ44: =VLOOKUP(BH44,'PS-FS'!$D$2:$F$56,3,FALSE) -> - | BK44: =IFERROR(VLOOKUP(BH44,'PS-FS'!$D$1:$H$56,5,FALSE),"00:00") -> 0 | BL44: Congés | BM44: =VLOOKUP(BL44,'PS-FS'!$D$2:$F$56,2,FALSE) -> - | BN44: =VLOOKUP(BL44,'PS-FS'!$D$2:$F$56,3,FALSE) -> - | BO44: =IFERROR(VLOOKUP(BL44,'PS-FS'!$D$1:$H$56,5,FALSE),"00:00") -> 0 | BP44: Congés | BQ44: =VLOOKUP(BP44,'PS-FS'!$D$2:$F$56,2,FALSE) -> - | BR44: =VLOOKUP(BP44,'PS-FS'!$D$2:$F$56,3,FALSE) -> - | BS44: =IFERROR(VLOOKUP(BP44,'PS-FS'!$D$1:$H$56,5,FALSE),"00:00") -> 0 | BT44: Congés | BU44: =VLOOKUP(BT44,'PS-FS'!$D$2:$F$56,2,FALSE) -> - | BV44: =VLOOKUP(BT44,'PS-FS'!$D$2:$F$56,3,FALSE) -> - | BW44: =IFERROR(VLOOKUP(BT44,'PS-FS'!$D$1:$H$56,5,FALSE),"00:00") -> 0 | BX44: Congés | BY44: =VLOOKUP(BX44,'PS-FS'!$D$2:$F$56,2,FALSE) -> - | BZ44: =VLOOKUP(BX44,'PS-FS'!$D$2:$F$56,3,FALSE) -> - | CA44: =IFERROR(VLOOKUP(BX44,'PS-FS'!$D$1:$H$56,5,FALSE),"00:00") -> 0 | CB44: Congés | CC44: =VLOOKUP(CB44,'PS-FS'!$D$2:$F$56,2,FALSE) -> - | CD44: =VLOOKUP(CB44,'PS-FS'!$D$2:$F$56,3,FALSE) -> - | CE44: =IFERROR(VLOOKUP(CB44,'PS-FS'!$D$1:$H$56,5,FALSE),"00:00") -> 0 | CF44: R | CG44: =VLOOKUP(CF44,'PS-FS'!$D$2:$F$56,2,FALSE) -> - | CH44: =VLOOKUP(CF44,'PS-FS'!$D$2:$F$56,3,FALSE) -> - | CI44: =IFERROR(VLOOKUP(CF44,'PS-FS'!$D$1:$H$56,5,FALSE),"00:00") -> 0 | CJ44: =BK44+BO44+BS44+BW44+CA44+CE44+CI44 -> 0 | CK44: Congés | CL44: =VLOOKUP(CK44,'PS-FS'!$D$2:$F$56,2,FALSE) -> - | CM44: =VLOOKUP(CK44,'PS-FS'!$D$2:$F$56,3,FALSE) -> - | CN44: 00:00 | CO44: Congés | CP44: =VLOOKUP(CO44,'PS-FS'!$D$2:$F$56,2,FALSE) -> - | CQ44: =VLOOKUP(CO44,'PS-FS'!$D$2:$F$56,3,FALSE) -> - | CR44: 00:00 | CS44: Congés | CT44: =VLOOKUP(CS44,'PS-FS'!$D$2:$F$56,2,FALSE) -> - | CU44: =VLOOKUP(CS44,'PS-FS'!$D$2:$F$56,3,FALSE) -> - | CV44: 00:00 | CW44: Congés | CX44: =VLOOKUP(CW44,'PS-FS'!$D$2:$F$56,2,FALSE) -> - | CY44: =VLOOKUP(CW44,'PS-FS'!$D$2:$F$56,3,FALSE) -> - | CZ44: 00:00 | DA44: Congés | DB44: =VLOOKUP(DA44,'PS-FS'!$D$2:$F$56,2,FALSE) -> - | DC44: =VLOOKUP(DA44,'PS-FS'!$D$2:$F$56,3,FALSE) -> - | DD44: 00:00 | DE44: Congés | DF44: =VLOOKUP(DE44,'PS-FS'!$D$2:$F$56,2,FALSE) -> - | DG44: =VLOOKUP(DE44,'PS-FS'!$D$2:$F$56,3,FALSE) -> - | DH44: 00:00 | DI44: R | DJ44: =VLOOKUP(DI44,'PS-FS'!$D$2:$F$56,2,FALSE) -> - | DK44: =VLOOKUP(DI44,'PS-FS'!$D$2:$F$56,3,FALSE) -> - | DL44: =IFERROR(VLOOKUP(DI44,'PS-FS'!$D$1:$H$56,5,FALSE),"00:00") -> 0 | DM44: =CN44+CR44+CV44+CZ44+DD44+DH44+DL44 -> 0 | DN44: Congés | DO44: =VLOOKUP(DN44,'PS-FS'!$D$2:$F$56,2,FALSE) -> - | DP44: =VLOOKUP(DN44,'PS-FS'!$D$2:$F$56,3,FALSE) -> - | DQ44: 00:00 | DR44: Congés | DS44: =VLOOKUP(DR44,'PS-FS'!$D$2:$F$56,2,FALSE) -> - | DT44: =VLOOKUP(DR44,'PS-FS'!$D$2:$F$56,3,FALSE) -> - | DU44: 00:00 | DV44: Congés | DW44: =VLOOKUP(DV44,'PS-FS'!$D$2:$F$56,2,FALSE) -> - | DX44: =VLOOKUP(DV44,'PS-FS'!$D$2:$F$56,3,FALSE) -> - | DY44: 00:00 | DZ44: Congés | EA44: =VLOOKUP(DZ44,'PS-FS'!$D$2:$F$56,2,FALSE) -> - | EB44: =VLOOKUP(DZ44,'PS-FS'!$D$2:$F$56,3,FALSE) -> - | EC44: 00:00 | ED44: Congés | EE44: =VLOOKUP(ED44,'PS-FS'!$D$2:$F$56,2,FALSE) -> - | EF44: =VLOOKUP(ED44,'PS-FS'!$D$2:$F$56,3,FALSE) -> - | EG44: 00:00 | EH44: Congés | EI44: =VLOOKUP(EH44,'PS-FS'!$D$2:$F$56,2,FALSE) -> - | EJ44: =VLOOKUP(EH44,'PS-FS'!$D$2:$F$56,3,FALSE) -> - | EK44: 00:00 | EL44: R | EM44: =VLOOKUP(EL44,'PS-FS'!$D$2:$F$56,2,FALSE) -> - | EN44: =VLOOKUP(EL44,'PS-FS'!$D$2:$F$56,3,FALSE) -> - | EO44: 00:00 | EP44: =DQ44+DU44+DY44+EC44+EG44+EK44+EO44 -> 0 | EQ44: Congés | ER44: =VLOOKUP(EQ44,'PS-FS'!$D$2:$F$56,2,FALSE) -> - | ES44: =VLOOKUP(EQ44,'PS-FS'!$D$2:$F$56,3,FALSE) -> - | ET44: 00:00 | EU44: Congés | EV44: =VLOOKUP(EU44,'PS-FS'!$D$2:$F$56,2,FALSE) -> - | EW44: =VLOOKUP(EU44,'PS-FS'!$D$2:$F$56,3,FALSE) -> - | EX44: 00:00 | EY44: Congés | EZ44: =VLOOKUP(EY44,'PS-FS'!$D$2:$F$56,2,FALSE) -> - | FA44: =VLOOKUP(EY44,'PS-FS'!$D$2:$F$56,3,FALSE) -> - | FB44: 00:00 | FC44: Congés | FD44: =VLOOKUP(FC44,'PS-FS'!$D$2:$F$56,2,FALSE) -> - | FE44: =VLOOKUP(FC44,'PS-FS'!$D$2:$F$56,3,FALSE) -> - | FF44: 00:00 | FG44: Congés | FH44: =VLOOKUP(FG44,'PS-FS'!$D$2:$F$56,2,FALSE) -> - | FI44: =VLOOKUP(FG44,'PS-FS'!$D$2:$F$56,3,FALSE) -> - | FJ44: 00:00 | FK44: Congés | FL44: =VLOOKUP(FK44,'PS-FS'!$D$2:$F$56,2,FALSE) -> - | FM44: =VLOOKUP(FK44,'PS-FS'!$D$2:$F$56,3,FALSE) -> - | FN44: 00:00 | FO44: R | FP44: =VLOOKUP(FO44,'PS-FS'!$D$2:$F$56,2,FALSE) -> - | FQ44: =VLOOKUP(FO44,'PS-FS'!$D$2:$F$56,3,FALSE) -> - | FR44: 00:00 | FS44: =ET44+EX44+FB44+FF44+FJ44+FN44+FR44 -> 0
A45: Matelot 2 | B45: Dispo-PM | C45: 0.5 | D45: 0.79166667 | E45: 0.29166667 | F45: PdB-PM-N2 | G45: 0.51736111 | H45: 0.81944444 | I45: 0.30208333 | J45: Dispo-PM | K45: 0.5 | L45: 0.79166667 | M45: 0.29166667 | N45: R | O45: - | P45: - | Q45: 00:00 | R45: Dispo-AM | S45: 0.20833333 | T45: 0.5 | U45: 0.29166667 | V45: PdB-AM-Sam N1 | W45: 0.23263889 | X45: 0.51041667 | Y45: 0.27777778 | Z45: R | AA45: - | AB45: - | AC45: 00:00 | AD45: =E45+I45+M45+Q45+U45+Y45+AC45 -> 1.4548611 | AE45: PdB-AM-N2 | AF45: 0.21527778 | AG45: 0.53125 | AH45: 0.29166667 | AI45: PdB-PM-N2 | AJ45: 0.51736111 | AK45: 0.81944444 | AL45: 0.30208333 | AM45: PdB-PM-N2 | AN45: 0.51736111 | AO45: 0.81944444 | AP45: 0.30208333 | AQ45: R | AR45: - | AS45: - | AT45: 00:00 | AU45: Dispo-AM | AV45: 0.20833333 | AW45: 0.5 | AX45: 0.29166667 | AY45: PdB-AM-Sam N2 | AZ45: 0.24305556 | BA45: 0.53125 | BB45: 0.28819444 | BC45: R | BD45: - | BE45: - | BF45: 00:00 | BG45: =AH45+AL45+AP45+AT45+AX45+BB45+BF45 -> 1.4756944 | BH45: PdB-Jour | BI45: =VLOOKUP(BH45,'PS-FS'!$D$2:$F$56,2,FALSE) -> 0.42708333 | BJ45: =VLOOKUP(BH45,'PS-FS'!$D$2:$F$56,3,FALSE) -> 0.65625 | BK45: =IFERROR(VLOOKUP(BH45,'PS-FS'!$D$1:$H$56,5,FALSE),"00:00") -> 0.22916667 | BL45: PdB-Jour | BM45: =VLOOKUP(BL45,'PS-FS'!$D$2:$F$56,2,FALSE) -> 0.42708333 | BN45: =VLOOKUP(BL45,'PS-FS'!$D$2:$F$56,3,FALSE) -> 0.65625 | BO45: =IFERROR(VLOOKUP(BL45,'PS-FS'!$D$1:$H$56,5,FALSE),"00:00") -> 0.22916667 | BP45: Dispo-PM | BQ45: =VLOOKUP(BP45,'PS-FS'!$D$2:$F$56,2,FALSE) -> 0.5 | BR45: =VLOOKUP(BP45,'PS-FS'!$D$2:$F$56,3,FALSE) -> 0.79166667 | BS45: =IFERROR(VLOOKUP(BP45,'PS-FS'!$D$1:$H$56,5,FALSE),"00:00") -> 0.29166667 | BT45: Dispo-PM | BU45: =VLOOKUP(BT45,'PS-FS'!$D$2:$F$56,2,FALSE) -> 0.5 | BV45: =VLOOKUP(BT45,'PS-FS'!$D$2:$F$56,3,FALSE) -> 0.79166667 | BW45: =IFERROR(VLOOKUP(BT45,'PS-FS'!$D$1:$H$56,5,FALSE),"00:00") -> 0.29166667 | BX45: Bourg-AM | BY45: =VLOOKUP(BX45,'PS-FS'!$D$2:$F$56,2,FALSE) -> 0.20486111 | BZ45: =VLOOKUP(BX45,'PS-FS'!$D$2:$F$56,3,FALSE) -> 0.50694444 | CA45: =IFERROR(VLOOKUP(BX45,'PS-FS'!$D$1:$H$56,5,FALSE),"00:00") -> 0.28819444 | CB45: R | CC45: =VLOOKUP(CB45,'PS-FS'!$D$2:$F$56,2,FALSE) -> - | CD45: =VLOOKUP(CB45,'PS-FS'!$D$2:$F$56,3,FALSE) -> - | CE45: =IFERROR(VLOOKUP(CB45,'PS-FS'!$D$1:$H$56,5,FALSE),"00:00") -> 0 | CF45: R | CG45: =VLOOKUP(CF45,'PS-FS'!$D$2:$F$56,2,FALSE) -> - | CH45: =VLOOKUP(CF45,'PS-FS'!$D$2:$F$56,3,FALSE) -> - | CI45: =IFERROR(VLOOKUP(CF45,'PS-FS'!$D$1:$H$56,5,FALSE),"00:00") -> 0 | CJ45: =BK45+BO45+BS45+BW45+CA45+CE45+CI45 -> 1.3298611 | CK45: Bourg-AM | CL45: =VLOOKUP(CK45,'PS-FS'!$D$2:$F$56,2,FALSE) -> 0.20486111 | CM45: =VLOOKUP(CK45,'PS-FS'!$D$2:$F$56,3,FALSE) -> 0.50694444 | CN45: =IFERROR(VLOOKUP(CK45,'PS-FS'!$D$1:$H$56,5,FALSE),"00:00") -> 0.28819444 | CO45: Dispo-AM | CP45: =VLOOKUP(CO45,'PS-FS'!$D$2:$F$56,2,FALSE) -> 0.20833333 | CQ45: =VLOOKUP(CO45,'PS-FS'!$D$2:$F$56,3,FALSE) -> 0.5 | CR45: =IFERROR(VLOOKUP(CO45,'PS-FS'!$D$1:$H$56,5,FALSE),"00:00") -> 0.29166667 | CS45: R | CT45: =VLOOKUP(CS45,'PS-FS'!$D$2:$F$56,2,FALSE) -> - | CU45: =VLOOKUP(CS45,'PS-FS'!$D$2:$F$56,3,FALSE) -> - | CV45: =IFERROR(VLOOKUP(CS45,'PS-FS'!$D$1:$H$56,5,FALSE),"00:00") -> 0 | CW45: AA_AM-AM | CX45: =VLOOKUP(CW45,'PS-FS'!$D$2:$F$56,2,FALSE) -> 0.20833333 | CY45: =VLOOKUP(CW45,'PS-FS'!$D$2:$F$56,3,FALSE) -> 0.53472222 | CZ45: =IFERROR(VLOOKUP(CW45,'PS-FS'!$D$1:$H$56,5,FALSE),"00:00") -> 0.3125 | DA45: R | DB45: =VLOOKUP(DA45,'PS-FS'!$D$2:$F$56,2,FALSE) -> - | DC45: =VLOOKUP(DA45,'PS-FS'!$D$2:$F$56,3,FALSE) -> - | DD45: =IFERROR(VLOOKUP(DA45,'PS-FS'!$D$1:$H$56,5,FALSE),"00:00") -> 0 | DE45: AM_AA-AM-Sam | DF45: =VLOOKUP(DE45,'PS-FS'!$D$2:$F$56,2,FALSE) -> 0.22916667 | DG45: =VLOOKUP(DE45,'PS-FS'!$D$2:$F$56,3,FALSE) -> 0.58680556 | DH45: =IFERROR(VLOOKUP(DE45,'PS-FS'!$D$1:$H$56,5,FALSE),"00:00") -> 0.34375 | DI45: R | DJ45: =VLOOKUP(DI45,'PS-FS'!$D$2:$F$56,2,FALSE) -> - | DK45: =VLOOKUP(DI45,'PS-FS'!$D$2:$F$56,3,FALSE) -> - | DL45: =IFERROR(VLOOKUP(DI45,'PS-FS'!$D$1:$H$56,5,FALSE),"00:00") -> 0 | DM45: =CN45+CR45+CV45+CZ45+DD45+DH45+DL45 -> 1.2361111 | DN45: PdB-Jour | DO45: =VLOOKUP(DN45,'PS-FS'!$D$2:$F$56,2,FALSE) -> 0.42708333 | DP45: =VLOOKUP(DN45,'PS-FS'!$D$2:$F$56,3,FALSE) -> 0.65625 | DQ45: =IFERROR(VLOOKUP(DN45,'PS-FS'!$D$1:$H$56,5,FALSE),"00:00") -> 0.22916667 | DR45: Bourg-PM | DS45: =VLOOKUP(DR45,'PS-FS'!$D$2:$F$56,2,FALSE) -> 0.52777778 | DT45: =VLOOKUP(DR45,'PS-FS'!$D$2:$F$56,3,FALSE) -> 0.83333333 | DU45: =IFERROR(VLOOKUP(DR45,'PS-FS'!$D$1:$H$56,5,FALSE),"00:00") -> 0.29166667 | DV45: Bourg-PM | DW45: =VLOOKUP(DV45,'PS-FS'!$D$2:$F$56,2,FALSE) -> 0.52777778 | DX45: =VLOOKUP(DV45,'PS-FS'!$D$2:$F$56,3,FALSE) -> 0.83333333 | DY45: =IFERROR(VLOOKUP(DV45,'PS-FS'!$D$1:$H$56,5,FALSE),"00:00") -> 0.29166667 | DZ45: Dispo-PM | EA45: =VLOOKUP(DZ45,'PS-FS'!$D$2:$F$56,2,FALSE) -> 0.5 | EB45: =VLOOKUP(DZ45,'PS-FS'!$D$2:$F$56,3,FALSE) -> 0.79166667 | EC45: 0.29166667 | ED45: PdB-Jour | EE45: =VLOOKUP(ED45,'PS-FS'!$D$2:$F$56,2,FALSE) -> 0.42708333 | EF45: =VLOOKUP(ED45,'PS-FS'!$D$2:$F$56,3,FALSE) -> 0.65625 | EG45: 0.22916667 | EH45: R | EI45: =VLOOKUP(EH45,'PS-FS'!$D$2:$F$56,2,FALSE) -> - | EJ45: =VLOOKUP(EH45,'PS-FS'!$D$2:$F$56,3,FALSE) -> - | EK45: 00:00 | EL45: R | EM45: =VLOOKUP(EL45,'PS-FS'!$D$2:$F$56,2,FALSE) -> - | EN45: =VLOOKUP(EL45,'PS-FS'!$D$2:$F$56,3,FALSE) -> - | EO45: 00:00 | EP45: =DQ45+DU45+DY45+EC45+EG45+EK45+EO45 -> 1.3333333 | EQ45: Bourg-AM | ER45: =VLOOKUP(EQ45,'PS-FS'!$D$2:$F$56,2,FALSE) -> 0.20486111 | ES45: =VLOOKUP(EQ45,'PS-FS'!$D$2:$F$56,3,FALSE) -> 0.50694444 | ET45: 0.30555556 | EU45: AA_AM-AM | EV45: =VLOOKUP(EU45,'PS-FS'!$D$2:$F$56,2,FALSE) -> 0.20833333 | EW45: =VLOOKUP(EU45,'PS-FS'!$D$2:$F$56,3,FALSE) -> 0.53472222 | EX45: 0.27777778 | EY45: Dispo-AM | EZ45: =VLOOKUP(EY45,'PS-FS'!$D$2:$F$56,2,FALSE) -> 0.20833333 | FA45: =VLOOKUP(EY45,'PS-FS'!$D$2:$F$56,3,FALSE) -> 0.5 | FB45: 0.29166667 | FC45: Dispo-AM | FD45: =VLOOKUP(FC45,'PS-FS'!$D$2:$F$56,2,FALSE) -> 0.20833333 | FE45: =VLOOKUP(FC45,'PS-FS'!$D$2:$F$56,3,FALSE) -> 0.5 | FF45: 0.29166667 | FG45: AA_AM-AM | FH45: =VLOOKUP(FG45,'PS-FS'!$D$2:$F$56,2,FALSE) -> 0.20833333 | FI45: =VLOOKUP(FG45,'PS-FS'!$D$2:$F$56,3,FALSE) -> 0.53472222 | FJ45: 0.27777778 | FK45: R | FL45: =VLOOKUP(FK45,'PS-FS'!$D$2:$F$56,2,FALSE) -> - | FM45: =VLOOKUP(FK45,'PS-FS'!$D$2:$F$56,3,FALSE) -> - | FN45: 00:00 | FO45: R | FP45: =VLOOKUP(FO45,'PS-FS'!$D$2:$F$56,2,FALSE) -> - | FQ45: =VLOOKUP(FO45,'PS-FS'!$D$2:$F$56,3,FALSE) -> - | FR45: 00:00 | FS45: =ET45+EX45+FB45+FF45+FJ45+FN45+FR45 -> 1.4444444
