Workbook
Name _19_août: 'planning-Aout V2'!$B$2:$B$16
Name durée: #REF!
Name Durée1: #REF!
Name Durée2: #REF!
Name LIU: #REF!
Name LP: #REF!
Name LU: #REF!
Name LV: #REF!

Sheet planning-Aout V2
A1: Date | B1: 45523 | F1: 45524 | J1: 45525 | N1: 45526 | R1: 45527 | V1: 45528 | Z1: 45529
A2: CAPTAIN | B2: Lundi | C2: PS | D2: FS | E2: TTE | F2: Mardi | G2: PS | H2: FS | I2: TTE | J2: Mercredi | K2: PS | L2: FS | M2: TTE | N2: Jeudi | O2: PS | P2: FS | Q2: TTE | R2: Vendredi | S2: PS | T2: FS | U2: TTE | V2: Samedi | W2: PS | X2: FS | Y2: TTE | Z2: Dimanche | AA2: PS | AB2: FS | AC2: TTE | AD2: TTE HEBDO
A3: Cap 1 | B3: Congés | C3: - | D3: - | E3: 00:00 | F3: Congés | G3: - | H3: - | I3: 00:00 | J3: Congés | K3: - | L3: - | M3: 00:00 | N3: Congés | O3: - | P3: - | Q3: 00:00 | R3: Congés | S3: - | T3: - | U3: 00:00 | V3: Congés | W3: - | X3: - | Y3: 00:00 | Z3: R | AA3: - | AB3: - | AC3: 00:00 | AD3: =E3+I3+M3+Q3+U3+Y3+AC3 -> 0
A4: Cap 2 | B4: Congés | C4: - | D4: - | E4: 00:00 | F4: Congés | G4: - | H4: - | I4: 00:00 | J4: Congés | K4: - | L4: - | M4: 00:00 | N4: Congés | O4: - | P4: - | Q4: 00:00 | R4: Congés | S4: - | T4: - | U4: 00:00 | V4: Congés | W4: - | X4: - | Y4: 00:00 | Z4: R | AA4: - | AB4: - | AC4: 00:00 | AD4: =E4+I4+M4+Q4+U4+Y4+AC4 -> 0
A5: Cap 3 | B5: PdB-PM-N1 | C5: 0.49652778 | D5: 0.80902778 | E5: 0.3125 | F5: Dispo-PM | G5: 0.5 | H5: 0.79166667 | I5: 0.29166667 | J5: PdB-PM-N2 | K5: 0.51736111 | L5: 0.81944444 | M5: 0.30208333 | N5: Dispo-PM | O5: 0.5 | P5: 0.79166667 | Q5: 0.29166667 | R5: Dispo-PM | S5: 0.5 | T5: 0.79166667 | U5: 0.29166667 | V5: R | W5: - | X5: - | Y5: 00:00 | Z5: R | AA5: - | AB5: - | AC5: 00:00 | AD5: =E5+I5+M5+Q5+U5+Y5+AC5 -> 1.4895833
A6: Cap 4 | B6: Congés | C6: - | D6: - | E6: 00:00 | F6: Congés | G6: - | H6: - | I6: 00:00 | J6: Congés | K6: - | L6: - | M6: 00:00 | N6: Congés | O6: - | P6: - | Q6: 00:00 | R6: Congés | S6: - | T6: - | U6: 00:00 | V6: Congés | W6: - | X6: - | Y6: 00:00 | Z6: R | AA6: - | AB6: - | AC6: 00:00 | AD6: =E6+I6+M6+Q6+U6+Y6+AC6 -> 0
A7: Cap 5 | B7: PdB-AM-N1 | C7: 0.20486111 | D7: 0.51041667 | E7: 0.30555556 | F7: Dispo-AM | G7: 0.20833333 | H7: 0.5 | I7: 0.29166667 | J7: R | K7: - | L7: - | M7: 00:00 | N7: PdB-AM-N1 | O7: 0.20486111 | P7: 0.51041667 | Q7: 0.30555556 | R7: PdB-AM-N1 | S7: 0.20486111 | T7: 0.51041667 | U7: 0.30555556 | V7: R | W7: - | X7: - | Y7: 00:00 | Z7: PdB-D&F-AM | AA7: 0.26041667 | AB7: 0.53125 | AC7: 0.27083333 | AD7: =E7+I7+M7+Q7+U7+Y7+AC7 -> 1.4791667
A8: Cap 6 | B8: R | C8: - | D8: - | E8: 00:00 | F8: R | G8: - | H8: - | I8: 00:00 | J8: PdB-AM-N1 | K8: 0.20486111 | L8: 0.51041667 | M8: 0.30555556 | N8: Dispo-AM | O8: 0.20833333 | P8: 0.5 | Q8: 0.29166667 | R8: PdB-PM-N2 | S8: 0.51736111 | T8: 0.81944444 | U8: 0.30208333 | V8: R | W8: - | X8: - | Y8: 00:00 | Z8: R | AA8: - | AB8: - | AC8: 00:00 | AD8: =E8+I8+M8+Q8+U8+Y8+AC8 -> 0.89930556
A9: Cap 7 | B9: Congés | C9: - | D9: - | E9: 00:00 | F9: Congés | G9: - | H9: - | I9: 00:00 | J9: Congés | K9: - | L9: - | M9: 00:00 | N9: Congés | O9: - | P9: - | Q9: 00:00 | R9: Congés | S9: - | T9: - | U9: 00:00 | V9: Congés | W9: - | X9: - | Y9: 00:00 | Z9: R | AA9: - | AB9: - | AC9: 00:00 | AD9: =E9+I9+M9+Q9+U9+Y9+AC9 -> 0
A10: Cap 8 | B10: Congés | C10: - | D10: - | E10: 00:00 | F10: Congés | G10: - | H10: - | I10: 00:00 | J10: Congés | K10: - | L10: - | M10: 00:00 | N10: Congés | O10: - | P10: - | Q10: 00:00 | R10: Congés | S10: - | T10: - | U10: 00:00 | V10: Congés | W10: - | X10: - | Y10: 00:00 | Z10: R | AA10: - | AB10: - | AC10: 00:00 | AD10: =E10+I10+M10+Q10+U10+Y10+AC10 -> 0
A11: Cap 9 | B11: Dispo-AM | C11: 0.20833333 | D11: 0.5 | E11: 0.29166667 | F11: PdB-AM-N1 | G11: 0.20486111 | H11: 0.51041667 | I11: 0.30555556 | J11: PdB-PM-N1 | K11: 0.49652778 | L11: 0.80902778 | M11: 0.3125 | N11: R | O11: - | P11: - | Q11: 00:00 | R11: PdB-AM-N2 | S11: 0.21527778 | T11: 0.53125 | U11: 0.31597222 | V11: PdB-AM-Sam N2 | W11: 0.24305556 | X11: 0.53125 | Y11: 0.28819444 | Z11: R | AA11: - | AB11: - | AC11: 00:00 | AD11: =E11+I11+M11+Q11+U11+Y11+AC11 -> 1.5138889
A12: Cap 10 | B12: PdB-AM-N2 | C12: 0.21527778 | D12: 0.53125 | E12: 0.31597222 | F12: R | G12: - | H12: - | I12: 00:00 | J12: Dispo-PM | K12: 0.5 | L12: 0.79166667 | M12: 0.29166667 | N12: PdB-PM-N2 | O12: 0.51736111 | P12: 0.81944444 | Q12: 0.30208333 | R12: PdB-PM-N2 | S12: 0.51736111 | T12: 0.81944444 | U12: 0.30208333 | V12: PdB-PM-Sam N1 | W12: 0.49652778 | X12: 0.80902778 | Y12: 0.3125 | Z12: R | AA12: - | AB12: - | AC12: 00:00 | AD12: =E12+I12+M12+Q12+U12+Y12+AC12 -> 1.5243056
A13: Cap 11 | B13: R | C13: - | D13: - | E13: 00:00 | F13: PdB-AM-N2 | G13: 0.21527778 | H13: 0.53125 | I13: 0.31597222 | J13: Dispo-AM | K13: 0.20833333 | L13: 0.5 | M13: 0.29166667 | N13: PdB-AM-N2 | O13: 0.21527778 | P13: 0.53125 | Q13: 0.31597222 | R13: Dispo-AM | S13: 0.20833333 | T13: 0.5 | U13: 0.29166667 | V13: PdB-AM-Sam N1 | W13: 0.23263889 | X13: 0.51041667 | Y13: 0.27777778 | Z13: R | AA13: - | AB13: - | AC13: 00:00 | AD13: =E13+I13+M13+Q13+U13+Y13+AC13 -> 1.4930556
A14: Cap 12 | B14: R | C14: - | D14: - | E14: 00:00 | F14: PdB-PM-N1 | G14: 0.49652778 | H14: 0.80902778 | I14: 0.3125 | J14: R | K14: - | L14: - | M14: 00:00 | N14: R | O14: - | P14: - | Q14: 00:00 | R14: Dispo-PM | S14: 0.5 | T14: 0.79166667 | U14: 0.29166667 | V14: PdB-PM-Sam N2 | W14: 0.51736111 | X14: 0.81944444 | Y14: 0.30208333 | Z14: PdB-D&F-PM | AA14: 0.49652778 | AB14: 0.80902778 | AC14: 0.3125 | AD14: =E14+I14+M14+Q14+U14+Y14+AC14 -> 1.21875
A15: Cap 13 | B15: Congés | C15: - | D15: - | E15: 00:00 | F15: Congés | G15: - | H15: - | I15: 00:00 | J15: Congés | K15: - | L15: - | M15: 00:00 | N15: Congés | O15: - | P15: - | Q15: 00:00 | R15: Congés | S15: - | T15: - | U15: 00:00 | V15: Congés | W15: - | X15: - | Y15: 00:00 | Z15: R | AA15: - | AB15: - | AC15: 00:00 | AD15: =E15+I15+M15+Q15+U15+Y15+AC15 -> 0
A16: Cap 14 | B16: PdB-PM-N2 | C16: 0.51736111 | D16: 0.81944444 | E16: 0.30208333 | F16: PdB-PM-N2 | G16: 0.51736111 | H16: 0.81944444 | I16: 0.30208333 | J16: PdB-AM-N2 | K16: 0.21527778 | L16: 0.53125 | M16: 0.31597222 | N16: PdB-PM-N1 | O16: 0.49652778 | P16: 0.80902778 | Q16: 0.3125 | R16: Congés | S16: - | T16: - | U16: 00:00 | V16: Congés | W16: - | X16: - | Y16: 00:00 | Z16: R | AA16: - | AB16: - | AC16: 00:00 | AD16: =E16+I16+M16+Q16+U16+Y16+AC16 -> 1.2326389
E17: =COUNTIF(E3:E16,">00:00") -> 5 | I17: =COUNTIF(I3:I16,">00:00") -> 6 | M17: =COUNTIF(M3:M16,">00:00") -> 6 | Q17: =COUNTIF(Q3:Q16,">00:00") -> 6 | U17: =COUNTIF(U3:U16,">00:00") -> 7 | Y17: =COUNTIF(Y3:Y16,">00:00") -> 4 | AC17: =COUNTIF(AC3:AC16,">00:00") -> 2
A18: AM : Ante Meridiem - avant midi
A19: PM : Post Meridiem - après midi
B20: 45523 | F20: 45524 | J20: 45525 | N20: 45526 | R20: 45527 | V20: 45528 | Z20: 45529
A21: CHEF MECANO | B21: Lundi | C21: PS | D21: FS | E21: TTE | F21: Mardi | G21: PS | H21: FS | I21: TTE | J21: Mercredi | K21: PS | L21: FS | M21: TTE | N21: Jeudi | O21: PS | P21: FS | Q21: TTE | R21: Vendredi | S21: PS | T21: FS | U21: TTE | V21: Samedi | W21: PS | X21: FS | Y21: TTE | Z21: Dimanche | AA21: PS | AB21: FS | AC21: TTE | AD21: TTE HEBDO
A22: CM 1 | B22: Congés | C22: - | D22: - | E22: 00:00 | F22: Congés | G22: - | H22: - | I22: 00:00 | J22: Congés | K22: - | L22: - | M22: 00:00 | N22: Congés | O22: - | P22: - | Q22: 00:00 | R22: Congés | S22: - | T22: - | U22: 00:00 | V22: Congés | W22: - | X22: - | Y22: 00:00 | Z22: R | AA22: - | AB22: - | AC22: 00:00 | AD22: =E22+I22+M22+Q22+U22+Y22+AC22 -> 0
A23: CM 2 | B23: PdB-AM-N1 | C23: 0.20486111 | D23: 0.51041667 | E23: 0.30555556 | F23: PdB-AM-N1 | G23: 0.20486111 | H23: 0.51041667 | I23: 0.30555556 | J23: PdB-AM-N1 | K23: 0.20486111 | L23: 0.51041667 | M23: 0.30555556 | N23: R | O23: - | P23: - | Q23: 00:00 | R23: PdB-AM-N1 | S23: 0.20486111 | T23: 0.51041667 | U23: 0.30555556 | V23: PdB-AM-Sam N2 | W23: 0.24305556 | X23: 0.53125 | Y23: 0.28819444 | Z23: R | AA23: - | AB23: - | AC23: 00:00 | AD23: =E23+I23+M23+Q23+U23+Y23+AC23 -> 1.5104167
A24: CM 3 | B24: Dispo-AM | C24: 0.20833333 | D24: 0.5 | E24: 0.29166667 | F24: R | G24: - | H24: - | I24: 00:00 | J24: PdB-AM-N2 | K24: 0.21527778 | L24: 0.53125 | M24: 0.31597222 | N24: Dispo-PM | O24: 0.5 | P24: 0.79166667 | Q24: 0.29166667 | R24: PdB-PM-N2 | S24: 0.51736111 | T24: 0.81944444 | U24: 0.30208333 | V24: PdB-AM-Sam N1 | W24: 0.23263889 | X24: 0.51041667 | Y24: 0.27777778 | Z24: R | AA24: - | AB24: - | AC24: 00:00 | AD24: =E24+I24+M24+Q24+U24+Y24+AC24 -> 1.4791667
A25: CM 4 | B25: PdB-PM-N1 | C25: 0.49652778 | D25: 0.80902778 | E25: 0.3125 | F25: Dispo-PM | G25: 0.5 | H25: 0.79166667 | I25: 0.29166667 | J25: Dispo-PM | K25: 0.5 | L25: 0.79166667 | M25: 0.29166667 | N25: PdB-PM-N2 | O25: 0.51736111 | P25: 0.81944444 | Q25: 0.30208333 | R25: Dispo-AM | S25: 0.20833333 | T25: 0.5 | U25: 0.29166667 | V25: Congés | W25: - | X25: - | Y25: 00:00 | Z25: R | AA25: - | AB25: - | AC25: 00:00 | AD25: =E25+I25+M25+Q25+U25+Y25+AC25 -> 1.4895833
A26: CM 5 | E26: 00:00 | I26: 00:00 | M26: 00:00 | Q26: 00:00 | U26: 00:00 | Y26: 00:00 | AC26: 00:00 | AD26: =E26+I26+M26+Q26+U26+Y26+AC26 -> 0
A27: CM 6 | B27: R | C27: - | D27: - | E27: 00:00 | F27: PdB-PM-N2 | G27: 0.51736111 | H27: 0.81944444 | I27: 0.30208333 | J27: PdB-PM-N2 | K27: 0.51736111 | L27: 0.81944444 | M27: 0.30208333 | N27: Dispo-AM | O27: 0.20833333 | P27: 0.5 | Q27: 0.29166667 | R27: PdB-AM-N2 | S27: 0.21527778 | T27: 0.53125 | U27: 0.31597222 | V27: R | W27: - | X27: - | Y27: 00:00 | Z27: PdB-D&F-AM | AA27: 0.26041667 | AB27: 0.53125 | AC27: 0.27083333 | AD27: =E27+I27+M27+Q27+U27+Y27+AC27 -> 1.4826389
A28: CM 7 | B28: R | C28: - | D28: - | E28: 00:00 | F28: Dispo-AM | G28: 0.20833333 | H28: 0.5 | I28: 0.29166667 | J28: R | K28: - | L28: - | M28: 00:00 | N28: PdB-AM-N1 | O28: 0.20486111 | P28: 0.51041667 | Q28: 0.30555556 | R28: Dispo-PM | S28: 0.5 | T28: 0.79166667 | U28: 0.29166667 | V28: R | W28: - | X28: - | Y28: 00:00 | Z28: R | AA28: - | AB28: - | AC28: 00:00 | AD28: =E28+I28+M28+Q28+U28+Y28+AC28 -> 0.88888889
A29: CM 8 | B29: PdB-PM-N2 | C29: 0.51736111 | D29: 0.81944444 | E29: 0.30208333 | F29: PdB-PM-N1 | G29: 0.49652778 | H29: 0.80902778 | I29: 0.3125 | J29: R | K29: - | L29: - | M29: 00:00 | N29: PdB-PM-N1 | O29: 0.49652778 | P29: 0.80902778 | Q29: 0.3125 | R29: PdB-PM-N1 | S29: 0.49652778 | T29: 0.80902778 | U29: 0.3125 | V29: R | W29: - | X29: - | Y29: 00:00 | Z29: PdB-D&F-PM | AA29: 0.49652778 | AB29: 0.80902778 | AC29: 0.3125 | AD29: =E29+I29+M29+Q29+U29+Y29+AC29 -> 1.5520833
A30: CM 9 | B30: PdB-AM-N2 | C30: 0.21527778 | D30: 0.53125 | E30: 0.31597222 | F30: PdB-AM-N2 | G30: 0.21527778 | H30: 0.53125 | I30: 0.31597222 | J30: R | K30: - | L30: - | M30: 00:00 | N30: PdB-AM-N2 | O30: 0.21527778 | P30: 0.53125 | Q30: 0.31597222 | R30: Dispo-PM | S30: 0.5 | T30: 0.79166667 | U30: 0.29166667 | V30: PdB-PM-Sam N1 | W30: 0.49652778 | X30: 0.80902778 | Y30: 0.3125 | Z30: R | AA30: - | AB30: - | AC30: 00:00 | AD30: =E30+I30+M30+Q30+U30+Y30+AC30 -> 1.5520833
A31: CM 10 | B31: R | C31: - | D31: - | E31: 00:00 | F31: Dispo-PM | G31: 0.5 | H31: 0.79166667 | I31: 0.29166667 | J31: PdB-PM-N1 | K31: 0.49652778 | L31: 0.80902778 | M31: 0.3125 | N31: R | O31: - | P31: - | Q31: 00:00 | R31: R | S31: - | T31: - | U31: 00:00 | V31: R | W31: - | X31: - | Y31: 00:00 | Z31: Dispo-PM | AA31: 0.5 | AB31: 0.79166667 | AC31: 0.29166667 | AD31: =E31+I31+M31+Q31+U31+Y31+AC31 -> 0.89583333
A32: CM 11 | B32: Dispo-AM | C32: 0.20833333 | D32: 0.5 | E32: 0.29166667 | F32: R | G32: - | H32: - | I32: 00:00 | J32: Dispo-AM | K32: 0.20833333 | L32: 0.5 | M32: 0.29166667 | N32: Dispo-AM | O32: 0.20833333 | P32: 0.5 | Q32: 0.29166667 | R32: R | S32: - | T32: - | U32: 00:00 | V32: PdB-PM-Sam N2 | W32: 0.51736111 | X32: 0.81944444 | Y32: 0.30208333 | Z32: R | AA32: - | AB32: - | AC32: 00:00 | AD32: =E32+I32+M32+Q32+U32+Y32+AC32 -> 1.1770833
E33: =COUNTIF(E22:E32,">00:00") -> 6 | I33: =COUNTIF(I22:I32,">00:00") -> 7 | M33: =COUNTIF(M22:M32,">00:00") -> 6 | Q33: =COUNTIF(Q22:Q32,">00:00") -> 7 | U33: =COUNTIF(U22:U32,">00:00") -> 7 | Y33: =COUNTIF(Y22:Y32,">00:00") -> 4 | AC33: =COUNTIF(AC22:AC32,">00:00") -> 3
A34: AM : Ante Meridiem - avant midi
A35: PM : Post Meridiem - après midi
B36: 45523 | F36: 45524 | J36: 45525 | N36: 45526 | R36: 45527 | V36: 45528 | Z36: 45529
A37: MATELOT | B37: Lundi | C37: PS | D37: FS | E37: TTE | F37: Mardi | G37: PS | H37: FS | I37: TTE | J37: Mercredi | K37: PS | L37: FS | M37: TTE | N37: Jeudi | O37: PS | P37: FS | Q37: TTE | R37: Vendredi | S37: PS | T37: FS | U37: TTE | V37: Samedi | W37: PS | X37: FS | Y37: TTE | Z37: Dimanche | AA37: PS | AB37: FS | AC37: TTE | AD37: TTE HEBDO
A38: Mat 1 | B38: R | C38: - | D38: - | E38: 00:00 | F38: Dispo-PM | G38: 0.5 | H38: 0.79166667 | I38: 0.29166667 | J38: PdB-PM-N1 | K38: 0.49652778 | L38: 0.80902778 | M38: 0.3125 | N38: R | O38: - | P38: - | Q38: 00:00 | R38: PdB-PM-N2 | S38: 0.51736111 | T38: 0.81944444 | U38: 0.30208333 | V38: R | W38: - | X38: - | Y38: 00:00 | Z38: R | AA38: - | AB38: - | AC38: 00:00 | AD38: =E38+I38+M38+Q38+U38+Y38+AC38 -> 0.90625
A39: Mat 2 | B39: Dispo-PM | C39: 0.5 | D39: 0.79166667 | E39: 0.29166667 | F39: PdB-PM-N2 | G39: 0.51736111 | H39: 0.81944444 | I39: 0.30208333 | J39: Dispo-PM | K39: 0.5 | L39: 0.79166667 | M39: 0.29166667 | N39: R | O39: - | P39: - | Q39: 00:00 | R39: Dispo-AM | S39: 0.20833333 | T39: 0.5 | U39: 0.29166667 | V39: PdB-AM-Sam N1 | W39: 0.23263889 | X39: 0.51041667 | Y39: 0.27777778 | Z39: R | AA39: - | AB39: - | AC39: 00:00 | AD39: =E39+I39+M39+Q39+U39+Y39+AC39 -> 1.4548611
A40: Mat 3 | B40: Congés | C40: - | D40: - | E40: 00:00 | F40: Congés | G40: - | H40: - | I40: 00:00 | J40: Congés | K40: - | L40: - | M40: 00:00 | N40: Congés | O40: - | P40: - | Q40: 00:00 | R40: Congés | S40: - | T40: - | U40: 00:00 | V40: Congés | W40: - | X40: - | Y40: 00:00 | Z40: R | AA40: - | AB40: - | AC40: 00:00 | AD40: =E40+I40+M40+Q40+U40+Y40+AC40 -> 0
A41: Mat 4 | B41: PdB-PM-N1 | C41: 0.49652778 | D41: 0.80902778 | E41: 0.3125 | F41: R | G41: - | H41: - | I41: 00:00 | J41: Dispo-AM | K41: 0.20833333 | L41: 0.5 | M41: 0.29166667 | N41: Dispo-AM | O41: 0.20833333 | P41: 0.5 | Q41: 0.29166667 | R41: PdB-AM-N1 | S41: 0.20486111 | T41: 0.51041667 | U41: 0.30555556 | V41: PdB-AM-Sam N2 | W41: 0.24305556 | X41: 0.53125 | Y41: 0.28819444 | Z41: R | AA41: - | AB41: - | AC41: 00:00 | AD41: =E41+I41+M41+Q41+U41+Y41+AC41 -> 1.4895833
A42: Mat 5 | B42: R | E42: 00:00 | F42: PdB-AM-N2 | G42: 0.21527778 | H42: 0.53125 | I42: 0.31597222 | J42: PdB-AM-N2 | K42: 0.21527778 | L42: 0.53125 | M42: 0.31597222 | N42: PdB-AM-N2 | O42: 0.21527778 | P42: 0.53125 | Q42: 0.31597222 | R42: Dispo-AM | S42: 0.20833333 | T42: 0.5 | U42: 0.29166667 | V42: R | Y42: 00:00 | Z42: PdB-D&F-PM | AA42: 0.49652778 | AB42: 0.80902778 | AC42: 0.3125 | AD42: =E42+I42+M42+Q42+U42+Y42+AC42 -> 1.5520833
A43: Mat 6 | B43: Congés | C43: - | D43: - | E43: 00:00 | F43: Congés | G43: - | H43: - | I43: 00:00 | J43: Congés | K43: - | L43: - | M43: 00:00 | N43: Congés | O43: - | P43: - | Q43: 00:00 | R43: Congés | S43: - | T43: - | U43: 00:00 | V43: Congés | W43: - | X43: - | Y43: 00:00 | Z43: R | AA43: - | AB43: - | AC43: 00:00 | AD43: =E43+I43+M43+Q43+U43+Y43+AC43 -> 0
A44: Mat 7 | B44: PdB-PM-N2 | C44: 0.51736111 | D44: 0.81944444 | E44: 0.30208333 | F44: R | G44: - | H44: - | I44: 00:00 | J44: Dispo-PM | K44: 0.5 | L44: 0.79166667 | M44: 0.29166667 | N44: Dispo-PM | O44: 0.5 | P44: 0.79166667 | Q44: 0.29166667 | R44: PdB-AM-N2 | S44: 0.21527778 | T44: 0.53125 | U44: 0.31597222 | V44: R | W44: - | X44: - | Y44: 00:00 | Z44: R | AA44: - | AB44: - | AC44: 00:00 | AD44: =E44+I44+M44+Q44+U44+Y44+AC44 -> 1.2013889
A45: Mat 8 | B45: R | C45: - | D45: - | E45: 00:00 | F45: Dispo-AM | G45: 0.20833333 | H45: 0.5 | I45: 0.30555556 | J45: PdB-AM-N1 | K45: 0.20486111 | L45: 0.51041667 | M45: 0.30555556 | N45: PdB-AM-N1 | O45: 0.20486111 | P45: 0.51041667 | Q45: 0.30555556 | R45: Dispo-AM | S45: 0.20833333 | T45: 0.5 | U45: 0.29166667 | V45: R | W45: - | X45: - | Y45: 00:00 | Z45: PdB-D&F-AM | AA45: 0.26041667 | AB45: 0.53125 | AC45: 0.27083333 | AD45: =E45+I45+M45+Q45+U45+Y45+AC45 -> 1.4791667
A46: Mat 9 | B46: PdB-AM-N2 | C46: 0.21527778 | D46: 0.53125 | E46: 0.31597222 | F46: Dispo-AM | G46: 0.20833333 | H46: 0.5 | I46: 0.29166667 | J46: R | K46: - | L46: - | M46: 00:00 | N46: PdB-PM-N1 | O46: 0.49652778 | P46: 0.80902778 | Q46: 0.3125 | R46: PdB-PM-N1 | S46: 0.49652778 | T46: 0.80902778 | U46: 0.3125 | V46: PdB-PM-Sam N1 | W46: 0.49652778 | X46: 0.80902778 | Y46: 0.3125 | Z46: R | AA46: - | AB46: - | AC46: 00:00 | AD46: =E46+I46+M46+Q46+U46+Y46+AC46 -> 1.5451389
A47: Mat 10 | B47: R | C47: - | D47: - | E47: 00:00 | F47: PdB-AM-N1 | G47: 0.20486111 | H47: 0.51041667 | I47: 00:00 | J47: Dispo-AM | K47: 0.20833333 | L47: 0.5 | M47: 0.29166667 | N47: PdB-PM-N2 | O47: 0.51736111 | P47: 0.81944444 | Q47: 0.30208333 | R47: R | S47: - | T47: - | U47: 00:00 | V47: R | W47: - | X47: - | Y47: 00:00 | Z47: Dispo-AM | AA47: 0.20833333 | AB47: 0.5 | AC47: 0.29166667 | AD47: =E47+I47+M47+Q47+U47+Y47+AC47 -> 0.88541667
A48: Mat 11 | B48: PdB-AM-N1 | C48: 0.20486111 | D48: 0.51041667 | E48: 0.30555556 | F48: PdB-PM-N1 | G48: 0.49652778 | H48: 0.80902778 | I48: 0.3125 | J48: PdB-PM-N2 | K48: 0.51736111 | L48: 0.81944444 | M48: 0.30208333 | N48: R | O48: - | P48: - | Q48: 00:00 | R48: R | S48: - | T48: - | U48: 00:00 | V48: PdB-PM-Sam N2 | W48: 0.51736111 | X48: 0.81944444 | Y48: 0.30208333 | Z48: Dispo-PM | AA48: 0.5 | AB48: 0.79166667 | AC48: 0.29166667 | AD48: =E48+I48+M48+Q48+U48+Y48+AC48 -> 1.5138889
E49: =COUNTIF(E38:E48,">00:00") -> 5 | I49: =COUNTIF(I38:I48,">00:00") -> 6 | M49: =COUNTIF(M38:M48,">00:00") -> 8 | Q49: =COUNTIF(Q38:Q48,">00:00") -> 6 | U49: =COUNTIF(U38:U48,">00:00") -> 7 | Y49: =COUNTIF(Y38:Y48,">00:00") -> 4 | AC49: =COUNTIF(AC38:AC48,">00:00") -> 4
A50: AM : Ante Meridiem - avant midi
A51: PM : Post Meridiem - après midi

Sheet Planning indiv Mat 7
B1: PLANNING AOUT 2024
A3: MATELOT | B3: 45523 | F3: 45524 | J3: 45525 | N3: 45526 | R3: 45527 | V3: 45528 | Z3: 45529
A4: Mat 7 | B4: Lundi | C4: PS | D4: FS | E4: TTE | F4: Mardi | G4: PS | H4: FS | I4: TTE | J4: Mercredi | K4: PS | L4: FS | M4: TTE | N4: Jeudi | O4: PS | P4: FS | Q4: TTE | R4: Vendredi | S4: PS | T4: FS | U4: TTE | V4: Samedi | W4: PS | X4: FS | Y4: TTE | Z4: Dimanche | AA4: PS | AB4: FS | AC4: TTE | AD4: TTE HEBDO | AE4: REPOS HEBDO | AF4: HEURES DE NUIT
B5: PdB-PM-N2 | C5: 0.51736111 | D5: 0.81944444 | E5: 0.30208333 | F5: R | G5: - | H5: - | I5: 00:00 | J5: Dispo-PM | K5: 0.5 | L5: 0.79166667 | M5: 0.29166667 | N5: Dispo-PM | O5: 0.5 | P5: 0.79166667 | Q5: 0.29166667 | R5: PdB-AM-N2 | S5: 0.21527778 | T5: 0.53125 | U5: 0.31597222 | V5: R | W5: - | X5: - | Y5: 00:00 | Z5: R | AA5: #N/A | AB5: - | AC5: 00:00 | AD5: =E5+I5+M5+Q5+U5+Y5+AC5 -> 1.2013889 | AE5: =SUM(B6:Z6) -> #REF! | AF5: =SUM(#REF!) -> #REF!
B6: =IF(B5="R",(E5+#REF!)+$AC$10,"") | F6: =IF(F5="R",($AC$10-D5)+(I5+#REF!)+$AC$10,"") -> #REF! | J6: =IF(J5="R",($AC$10-#REF!)+(M5+#REF!)+$AC$10,"") | N6: =IF(N5="R",($AC$10-#REF!)+$AC$10,"") | R6: =IF(R5="R",($AC$10-#REF!)+(U5+#REF!)+$AC$10,"") | V6: =IF(V5="R",($AC$10-#REF!)+(Y5+#REF!)+$AC$10,"") -> #REF! | Z6: =IF(Z5="R",($AC$10-#REF!)+(#REF!+#REF!)+$AC$10,"") -> #REF!
A7: Captain | B7: =IF(LEFT(B$5,3)="PdB",INDEX('planning-Aout V2'!$A$3:$A$16,MATCH(B$5,INDIRECT("'planning-Aout V2'!$"&CHAR(COLUMN()+64)&"$3:$"&CHAR(COLUMN()+64)&"$16"),0)),"") -> Cap 14 | F7: =IF(LEFT(F$5,3)="PdB",INDEX('planning-Aout V2'!$A$3:$A$16,MATCH(F$5,INDIRECT("'planning-Aout V2'!$"&CHAR(COLUMN()+64)&"$3:$"&CHAR(COLUMN()+64)&"$16"),0)),"") | J7: =IF(LEFT(J$5,3)="PdB",INDEX('planning-Aout V2'!$A$3:$A$16,MATCH(J$5,INDIRECT("'planning-Aout V2'!$"&CHAR(COLUMN()+64)&"$3:$"&CHAR(COLUMN()+64)&"$16"),0)),"") | N7: =IF(LEFT(N$5,3)="PdB",INDEX('planning-Aout V2'!$A$3:$A$16,MATCH(N$5,INDIRECT("'planning-Aout V2'!$"&CHAR(COLUMN()+64)&"$3:$"&CHAR(COLUMN()+64)&"$16"),0)),"") | R7: =IF(LEFT(R$5,3)="PdB",INDEX('planning-Aout V2'!$A$3:$A$16,MATCH(R$5,INDIRECT("'planning-Aout V2'!$"&CHAR(COLUMN()+64)&"$3:$"&CHAR(COLUMN()+64)&"$16"),0)),"") -> Cap 9 | V7: =IF(LEFT(V$5,3)="PdB",INDEX('planning-Aout V2'!$A$3:$A$16,MATCH(V$5,INDIRECT("'planning-Aout V2'!$"&CHAR(COLUMN()+64)&"$3:$"&CHAR(COLUMN()+64)&"$16"),0)),"") | Z7: =IF(LEFT(Z$5,3)="PdB",INDEX('planning-Aout V2'!$A$3:$A$16,MATCH(Z$5,INDIRECT("'planning-Aout V2'!$"&CHAR(COLUMN()+64)&"$3:$"&CHAR(COLUMN()+64)&"$16"),0)),"")
A8: Chef Meca | B8: =IF(LEFT(B$5,3)="PdB",INDEX('planning-Aout V2'!$A$22:$A$32,MATCH(B$5,INDIRECT("'planning-Aout V2'!$"&CHAR(COLUMN()+64)&"$22:$"&CHAR(COLUMN()+64)&"$32"),0)),"") -> CM 8 | F8: =IF(LEFT(F$5,3)="PdB",INDEX('planning-Aout V2'!$A$22:$A$32,MATCH(F$5,INDIRECT("'planning-Aout V2'!$"&CHAR(COLUMN()+64)&"$22:$"&CHAR(COLUMN()+64)&"$32"),0)),"") | J8: =IF(LEFT(J$5,3)="PdB",INDEX('planning-Aout V2'!$A$22:$A$32,MATCH(J$5,INDIRECT("'planning-Aout V2'!$"&CHAR(COLUMN()+64)&"$22:$"&CHAR(COLUMN()+64)&"$32"),0)),"") | N8: =IF(LEFT(N$5,3)="PdB",INDEX('planning-Aout V2'!$A$22:$A$32,MATCH(N$5,INDIRECT("'planning-Aout V2'!$"&CHAR(COLUMN()+64)&"$22:$"&CHAR(COLUMN()+64)&"$32"),0)),"") | R8: =IF(LEFT(R$5,3)="PdB",INDEX('planning-Aout V2'!$A$22:$A$32,MATCH(R$5,INDIRECT("'planning-Aout V2'!$"&CHAR(COLUMN()+64)&"$22:$"&CHAR(COLUMN()+64)&"$32"),0)),"") -> CM 6 | V8: =IF(LEFT(V$5,3)="PdB",INDEX('planning-Aout V2'!$A$22:$A$32,MATCH(V$5,INDIRECT("'planning-Aout V2'!$"&CHAR(COLUMN()+64)&"$22:$"&CHAR(COLUMN()+64)&"$32"),0)),"") | Z8: =IF(LEFT(Z$5,3)="PdB",INDEX('planning-Aout V2'!$A$22:$A$32,MATCH(Z$5,INDIRECT("'planning-Aout V2'!$"&CHAR(COLUMN()+64)&"$22:$"&CHAR(COLUMN()+64)&"$32"),0)),"")
A9: Prise de service :
A10: Fin de service : | B10: =CHAR(COLUMN()+64) -> B | AA10: R = Repos : | AC10: 1
A11: Heures de nuit : | B11: =INDEX('planning-Aout V2'!$A$3:$A$16,MATCH(B$5,INDIRECT("'planning-Aout V2'!$"&CHAR(COLUMN()+64)&"$3:$"&CHAR(COLUMN()+64)&"$16"),0)) -> Cap 14 | AA11: Dispo : Présent à la base
