Workbook

Sheet Base
A1: Concat* | B1: Solde | C1: Compteur | D1: Relance
A2: S045-450HEINI | B2: -3903.47 | C2: 2 | D2: MED Avocat
A3: S103-45018CASTELNAU | B3: -6341.98 | C3: 2 | D3: MED Avocat
A4: S045-450ULRICH | B4: -1740.03 | C4: 2 | D4: MED Avocat
A5: S101-450ABP | B5: -515.53 | C5: 2 | D5: MED Avocat
A6: S035-450ELBAZ | B6: -6391.71 | C6: 2 | D6: MED Avocat
A7: S090-450ADANIR | B7: -3019.56 | C7: 2 | D7: MED Avocat
A8: S083-450VERSUS | B8: -468.73 | C8: 2 | D8: MED Avocat
A9: S114-450ALONSO-2 | B9: -1814.38 | C9: 2 | D9: MED Avocat
A10: S050-450HAMISSI | B10: -695.85 | C10: 2 | D10: MED Avocat
A11: S068-450AMBOS-COHEN | B11: -4333.34 | C11: 2 | D11: MED Avocat
A12: S044-450GARNIER | B12: -338.97 | C12: 2 | D12: MED Avocat
A13: S048-450ANDING | B13: -1772.46 | C13: 2 | D13: MED Avocat
... A205: S020-450ZUBER | B205: -621.86 | C205: 1 | D205: MED

Sheet test
A1: Concat | B1: Entite | C1: N° Compte | D1: Compteur | E1: Types relances | F1: 05/11/2023 | G1: Relancés | H1: 05/12/2023 | I1: Relancés2 | J1: 05/01/2024 | K1: Relancés3 | L1: 05/02/2024 | M1: Relancés4 | N1: 05/03/2024 | O1: Relancés5 | P1: 05/04/2024 | Q1: Relancés6 | R1: 05/05/2024 | S1: Relancés7 | T1: 05/06/2024 | U1: Relancés8 | V1: 05/07/2024 | W1: Relancés9 | X1: 05/08/2024 | Y1: Relancés10 | Z1: 05/09/2024 | AA1: Relancés11 | AB1: 05/10/2024 | AC1: Relancés12 | AD1: 05/11/2024 | AE1: Relancés13 | AF1: 05/12/2024
A2: =B2&"-"&C2 -> S028-450GILLET | B2: S028 | C2: 450GILLET | D2: =COUNTIF(F2:AZ2,"OUI") -> 0 | E2: =IF(D2=0,"Relance Simple",IF(D2=1,"MED","MED Avocat")) -> Relance Simple | F2: =IFERROR(VLOOKUP(A2,Export0511!A:E,5,FALSE)," ") -> -11028.63 | H2: =IFERROR(VLOOKUP(A2,Export0412!A:E,5,FALSE)," ") -> -22057.26
A3: =B3&"-"&C3 -> S028-450MATHIS | B3: S028 | C3: 450MATHIS | D3: =COUNTIF(F3:AZ3,"OUI") -> 0 | E3: =IF(D3=0,"Relance Simple",IF(D3=1,"MED","MED Avocat")) -> Relance Simple | F3: =IFERROR(VLOOKUP(A3,Export0511!A:E,5,FALSE)," ") -> -6118.01 | H3: =IFERROR(VLOOKUP(A3,Export0412!A:E,5,FALSE)," ") -> -12875.51
A4: =B4&"-"&C4 -> S028-450HURET | B4: S028 | C4: 450HURET | D4: =COUNTIF(F4:AZ4,"OUI") -> 0 | E4: =IF(D4=0,"Relance Simple",IF(D4=1,"MED","MED Avocat")) -> Relance Simple | F4: =IFERROR(VLOOKUP(A4,Export0511!A:E,5,FALSE)," ") -> -5740.08 | H4: =IFERROR(VLOOKUP(A4,Export0412!A:E,5,FALSE)," ") -> -11078.77
A5: =B5&"-"&C5 -> S122-450BELLUS | B5: S122 | C5: 450BELLUS | D5: =COUNTIF(F5:AZ5,"OUI") -> 0 | E5: =IF(D5=0,"Relance Simple",IF(D5=1,"MED","MED Avocat")) -> Relance Simple | F5: =IFERROR(VLOOKUP(A5,Export0511!A:E,5,FALSE)," ") -> -8105.21 | H5: =IFERROR(VLOOKUP(A5,Export0412!A:E,5,FALSE)," ") -> -8105.21
A6: =B6&"-"&C6 -> S002-450KILIC | B6: S002 | C6: 450KILIC | D6: =COUNTIF(F6:AZ6,"OUI") -> 0 | E6: =IF(D6=0,"Relance Simple",IF(D6=1,"MED","MED Avocat")) -> Relance Simple | F6: =IFERROR(VLOOKUP(A6,Export0511!A:E,5,FALSE)," ") -> -7592.33 | H6: =IFERROR(VLOOKUP(A6,Export0412!A:E,5,FALSE)," ") -> -6821.25
A7: =B7&"-"&C7 -> S035-450ELBAZ | B7: S035 | C7: 450ELBAZ | D7: =COUNTIF(F7:AZ7,"OUI") -> 0 | E7: =IF(D7=0,"Relance Simple",IF(D7=1,"MED","MED Avocat")) -> Relance Simple | F7: =IFERROR(VLOOKUP(A7,Export0511!A:E,5,FALSE)," ") -> -6391.71 | H7: =IFERROR(VLOOKUP(A7,Export0412!A:E,5,FALSE)," ") -> -6391.71
A8: =B8&"-"&C8 -> S073-450COUDERT-SCP | B8: S073 | C8: 450COUDERT-SCP | D8: =COUNTIF(F8:AZ8,"OUI") -> 0 | E8: =IF(D8=0,"Relance Simple",IF(D8=1,"MED","MED Avocat")) -> Relance Simple | F8: =IFERROR(VLOOKUP(A8,Export0511!A:E,5,FALSE)," ") -> -6385.24 | H8: =IFERROR(VLOOKUP(A8,Export0412!A:E,5,FALSE)," ") -> -6385.24
A9: =B9&"-"&C9 -> S103-45018CASTELNAU | B9: S103 | C9: 45018CASTELNAU | D9: =COUNTIF(F9:AZ9,"OUI") -> 0 | E9: =IF(D9=0,"Relance Simple",IF(D9=1,"MED","MED Avocat")) -> Relance Simple | F9: =IFERROR(VLOOKUP(A9,Export0511!A:E,5,FALSE)," ") -> -6341.98 | H9: =IFERROR(VLOOKUP(A9,Export0412!A:E,5,FALSE)," ") -> -6341.98
A10: =B10&"-"&C10 -> S125-450PALLAMIDESSI | B10: S125 | C10: 450PALLAMIDESSI | D10: =COUNTIF(F10:AZ10,"OUI") -> 0 | E10: =IF(D10=0,"Relance Simple",IF(D10=1,"MED","MED Avocat")) -> Relance Simple | F10: =IFERROR(VLOOKUP(A10,Export0511!A:E,5,FALSE)," ") -> -6023.56 | H10: =IFERROR(VLOOKUP(A10,Export0412!A:E,5,FALSE)," ") -> -6059.56
A11: =B11&"-"&C11 -> S133-450ARBELES | B11: S133 | C11: 450ARBELES | D11: =COUNTIF(F11:AZ11,"OUI") -> 0 | E11: =IF(D11=0,"Relance Simple",IF(D11=1,"MED","MED Avocat")) -> Relance Simple | F11: =IFERROR(VLOOKUP(A11,Export0511!A:E,5,FALSE)," ") -> -5865.34 | H11: =IFERROR(VLOOKUP(A11,Export0412!A:E,5,FALSE)," ") -> -5865.34
A12: =B12&"-"&C12 -> S078-450LANGIN | B12: S078 | C12: 450LANGIN | D12: =COUNTIF(F12:AZ12,"OUI") -> 0 | E12: =IF(D12=0,"Relance Simple",IF(D12=1,"MED","MED Avocat")) -> Relance Simple | F12: =IFERROR(VLOOKUP(A12,Export0511!A:E,5,FALSE)," ") -> -5423.05 | H12: =IFERROR(VLOOKUP(A12,Export0412!A:E,5,FALSE)," ") -> -5423.05
A13: =B13&"-"&C13 -> S068-450AMBOS-COHEN | B13: S068 | C13: 450AMBOS-COHEN | D13: =COUNTIF(F13:AZ13,"OUI") -> 0 | E13: =IF(D13=0,"Relance Simple",IF(D13=1,"MED","MED Avocat")) -> Relance Simple | F13: =IFERROR(VLOOKUP(A13,Export0511!A:E,5,FALSE)," ") -> -4333.34 | H13: =IFERROR(VLOOKUP(A13,Export0412!A:E,5,FALSE)," ") -> -4333.34
... A1455: =B1455&"-"&C1455 -> S134-450NEUBURGER | B1455: S134 | C1455: 450NEUBURGER | D1455: =COUNTIF(F1455:AZ1455,"OUI") -> 0 | E1455: =IF(D1455=0,"Relance Simple",IF(D1455=1,"MED","MED Avocat")) -> Relance Simple | F1455: =IFERROR(VLOOKUP(A1455,Export0511!A:E,5,FALSE)," ") | H1455: =IFERROR(VLOOKUP(A1455,Export0412!A:E,5,FALSE)," ")

Sheet Suivi 
A1: A relancer | B1: Concat | C1: Entite | D1: N° Compte | E1: Compteur | F1: Types relances | H1: 45235 | I1: Relancés | J1: 45265 | K1: Relancés | L1: 45296 | M1: Relancés | N1: 45327 | O1: Relancés | P1: 45356 | Q1: Relancés | R1: 45387 | S1: Relancés | T1: 45417 | U1: Relancés | V1: 45448 | W1: Relancés | X1: 45478 | Y1: Relancés | Z1: 45509 | AA1: Relancés | AB1: 45540 | AC1: Relancés | AD1: 45570 | AE1: Relancés | AF1: 45601 | AG1: Relancés | AH1: 45631
A2: =IF(ISERROR(VLOOKUP(B2,Export0511!A:A,1,FALSE)),"Non","Oui") -> Oui | B2: =C2&"-"&D2 -> S045-450HEINI | C2: S045 | D2: 450HEINI | E2: =COUNTIF(G2:BB2,"OUI") -> 1 | F2: =IF(E2=0,"Relance Simple",IF(E2=1,"MED","MED Avocat")) -> MED | H2: =IF(A2="Oui",VLOOKUP(B2,Export0511!A:E,5,FALSE)," ") -> -3903.47 | I2: Oui | J2: =IFERROR(IF(A2="Oui",VLOOKUP(B2,Export0412!A:E,5,FALSE)," ")," ") -> -3903.47
A3: =IF(ISERROR(VLOOKUP(B3,Export0511!A:A,1,FALSE)),"Non","Oui") -> Oui | B3: =C3&"-"&D3 -> S045-450ULRICH | C3: S045 | D3: 450ULRICH | E3: =COUNTIF(G3:BB3,"OUI") -> 1 | F3: =IF(E3=0,"Relance Simple",IF(E3=1,"MED","MED Avocat")) -> MED | H3: =IF(A3="Oui",VLOOKUP(B3,Export0511!A:E,5,FALSE)," ") -> -1740.03 | I3: Oui | J3: =IFERROR(IF(A3="Oui",VLOOKUP(B3,Export0412!A:E,5,FALSE)," ")," ") -> -1740.03
A4: =IF(ISERROR(VLOOKUP(B4,Export0511!A:A,1,FALSE)),"Non","Oui") -> Oui | B4: =C4&"-"&D4 -> S035-450ELBAZ | C4: S035 | D4: 450ELBAZ | E4: =COUNTIF(G4:BB4,"OUI") -> 1 | F4: =IF(E4=0,"Relance Simple",IF(E4=1,"MED","MED Avocat")) -> MED | H4: =IF(A4="Oui",VLOOKUP(B4,Export0511!A:E,5,FALSE)," ") -> -6391.71 | I4: Oui | J4: =IFERROR(IF(A4="Oui",VLOOKUP(B4,Export0412!A:E,5,FALSE)," ")," ") -> -6391.71
A5: =IF(ISERROR(VLOOKUP(B5,Export0511!A:A,1,FALSE)),"Non","Oui") -> Oui | B5: =C5&"-"&D5 -> S083-450VERSUS | C5: S083 | D5: 450VERSUS | E5: =COUNTIF(G5:BB5,"OUI") -> 1 | F5: =IF(E5=0,"Relance Simple",IF(E5=1,"MED","MED Avocat")) -> MED | H5: =IF(A5="Oui",VLOOKUP(B5,Export0511!A:E,5,FALSE)," ") -> -568.73 | I5: Oui | J5: =IFERROR(IF(A5="Oui",VLOOKUP(B5,Export0412!A:E,5,FALSE)," ")," ") -> -468.73
A6: =IF(ISERROR(VLOOKUP(B6,Export0511!A:A,1,FALSE)),"Non","Oui") -> Oui | B6: =C6&"-"&D6 -> S050-450HAMISSI | C6: S050 | D6: 450HAMISSI | E6: =COUNTIF(G6:BB6,"OUI") -> 1 | F6: =IF(E6=0,"Relance Simple",IF(E6=1,"MED","MED Avocat")) -> MED | H6: =IF(A6="Oui",VLOOKUP(B6,Export0511!A:E,5,FALSE)," ") -> -695.85 | I6: Oui | J6: =IFERROR(IF(A6="Oui",VLOOKUP(B6,Export0412!A:E,5,FALSE)," ")," ") -> -695.85
A7: =IF(ISERROR(VLOOKUP(B7,Export0511!A:A,1,FALSE)),"Non","Oui") -> Oui | B7: =C7&"-"&D7 -> S044-450GARNIER | C7: S044 | D7: 450GARNIER | E7: =COUNTIF(G7:BB7,"OUI") -> 1 | F7: =IF(E7=0,"Relance Simple",IF(E7=1,"MED","MED Avocat")) -> MED | H7: =IF(A7="Oui",VLOOKUP(B7,Export0511!A:E,5,FALSE)," ") -> -586.77 | I7: Oui | J7: =IFERROR(IF(A7="Oui",VLOOKUP(B7,Export0412!A:E,5,FALSE)," ")," ") -> -338.97
A8: =IF(ISERROR(VLOOKUP(B8,Export0511!A:A,1,FALSE)),"Non","Oui") -> Oui | B8: =C8&"-"&D8 -> S113-450CARPEDIEM | C8: S113 | D8: 450CARPEDIEM | E8: =COUNTIF(G8:BB8,"OUI") -> 1 | F8: =IF(E8=0,"Relance Simple",IF(E8=1,"MED","MED Avocat")) -> MED | H8: =IF(A8="Oui",VLOOKUP(B8,Export0511!A:E,5,FALSE)," ") -> -3741.94 | I8: Oui | J8: =IFERROR(IF(A8="Oui",VLOOKUP(B8,Export0412!A:E,5,FALSE)," ")," ") -> -3741.94
A9: =IF(ISERROR(VLOOKUP(B9,Export0511!A:A,1,FALSE)),"Non","Oui") -> Oui | B9: =C9&"-"&D9 -> S128-450ARGOUB | C9: S128 | D9: 450ARGOUB | E9: =COUNTIF(G9:BB9,"OUI") -> 1 | F9: =IF(E9=0,"Relance Simple",IF(E9=1,"MED","MED Avocat")) -> MED | H9: =IF(A9="Oui",VLOOKUP(B9,Export0511!A:E,5,FALSE)," ") -> -3387.3 | I9: Oui | J9: =IFERROR(IF(A9="Oui",VLOOKUP(B9,Export0412!A:E,5,FALSE)," ")," ") -> -3387.3
A10: =IF(ISERROR(VLOOKUP(B10,Export0511!A:A,1,FALSE)),"Non","Oui") -> Oui | B10: =C10&"-"&D10 -> S128-450EDA | C10: S128 | D10: 450EDA | E10: =COUNTIF(G10:BB10,"OUI") -> 1 | F10: =IF(E10=0,"Relance Simple",IF(E10=1,"MED","MED Avocat")) -> MED | H10: =IF(A10="Oui",VLOOKUP(B10,Export0511!A:E,5,FALSE)," ") -> -1831.79 | I10: Oui | J10: =IFERROR(IF(A10="Oui",VLOOKUP(B10,Export0412!A:E,5,FALSE)," ")," ") -> -1831.79
A11: =IF(ISERROR(VLOOKUP(B11,Export0511!A:A,1,FALSE)),"Non","Oui") -> Oui | B11: =C11&"-"&D11 -> S121-450LOGIUDICE | C11: S121 | D11: 450LOGIUDICE | E11: =COUNTIF(G11:BB11,"OUI") -> 1 | F11: =IF(E11=0,"Relance Simple",IF(E11=1,"MED","MED Avocat")) -> MED | H11: =IF(A11="Oui",VLOOKUP(B11,Export0511!A:E,5,FALSE)," ") -> -2333.66 | I11: Oui | J11: =IFERROR(IF(A11="Oui",VLOOKUP(B11,Export0412!A:E,5,FALSE)," ")," ") -> -2333.66
A12: =IF(ISERROR(VLOOKUP(B12,Export0511!A:A,1,FALSE)),"Non","Oui") -> Oui | B12: =C12&"-"&D12 -> S121-450HENTZ | C12: S121 | D12: 450HENTZ | E12: =COUNTIF(G12:BB12,"OUI") -> 1 | F12: =IF(E12=0,"Relance Simple",IF(E12=1,"MED","MED Avocat")) -> MED | H12: =IF(A12="Oui",VLOOKUP(B12,Export0511!A:E,5,FALSE)," ") -> -1243.43 | I12: Oui | J12: =IFERROR(IF(A12="Oui",VLOOKUP(B12,Export0412!A:E,5,FALSE)," ")," ") -> -634.57
A13: =IF(ISERROR(VLOOKUP(B13,Export0511!A:A,1,FALSE)),"Non","Oui") -> Oui | B13: =C13&"-"&D13 -> S121-450ARACI | C13: S121 | D13: 450ARACI | E13: =COUNTIF(G13:BB13,"OUI") -> 1 | F13: =IF(E13=0,"Relance Simple",IF(E13=1,"MED","MED Avocat")) -> MED | H13: =IF(A13="Oui",VLOOKUP(B13,Export0511!A:E,5,FALSE)," ") -> -773.75 | I13: Oui | J13: =IFERROR(IF(A13="Oui",VLOOKUP(B13,Export0412!A:E,5,FALSE)," ")," ")
... A222: =IF(ISERROR(VLOOKUP(B222,Export0511!A:A,1,FALSE)),"Non","Oui") -> Oui | B222: =C222&"-"&D222 -> S057-450DUPETIT | C222: S057 | D222: 450DUPETIT | E222: =COUNTIF(G222:BB222,"OUI") -> 1 | F222: =IF(E222=0,"Relance Simple",IF(E222=1,"MED","MED Avocat")) -> MED | H222: =IF(A222="Oui",VLOOKUP(B222,Export0511!A:E,5,FALSE)," ") -> -627.15 | I222: Oui | J222: =IFERROR(IF(A222="Oui",VLOOKUP(B222,Export0412!A:E,5,FALSE)," ")," ")

Sheet Export0511
A1: concat | B1: Entité | C1: N° de compte | D1: Libellé | E1: Solde au 10/11/2023 | F1: Dernier mouvement | G1: Débiteur depuis | H1: Dernière relance | I1: Cpteur relance | J1: solde au 20/11/2023
A2: =B2&"-"&C2 -> S045-450HEINI | B2: S045 | C2: 450HEINI | D2: RCKIR Lysufqq | E2: -3903.47 | F2: 45200 | G2: 44562 | H2: 00/00/00 | I2: 0
A3: =B3&"-"&C3 -> S045-450ULRICH | B3: S045 | C3: 450ULRICH | D3: IPIYUA RQGOESZ E. &edq; N. | E3: -1740.03 | F3: 45200 | G3: 44562 | H3: 00/00/00 | I3: 0
A4: =B4&"-"&C4 -> S035-450ELBAZ | B4: S035 | C4: 450ELBAZ | D4: XJPGM Eqbxfk &dzq; Mlxcbrvx | E4: -6391.71 | F4: 45205 | G4: 44562 | H4: 00/00/00 | I4: 0
A5: =B5&"-"&C5 -> S083-450VERSUS | B5: S083 | C5: 450VERSUS | D5: EKI HSOCGS | E5: -568.73 | F5: 45222 | G5: 44562 | H5: 00/00/00 | I5: 0
A6: =B6&"-"&C6 -> S050-450HAMISSI | B6: S050 | C6: 450HAMISSI | D6: UYLGLHO Odrw | E6: -695.85 | F6: 45231 | G6: 44562 | H6: 00/00/00 | I6: 0
A7: =B7&"-"&C7 -> S044-450GARNIER | B7: S044 | C7: 450GARNIER | D7: NHJTPKH Ccvbrff | E7: -586.77 | F7: 45231 | G7: 44562 | H7: 00/00/00 | I7: 0
A8: =B8&"-"&C8 -> S113-450CARPEDIEM | B8: S113 | C8: 450CARPEDIEM | D8: CRD UXATQ CLSJ | E8: -3741.94 | F8: 45200 | G8: 44652 | H8: 00/00/00 | I8: 0
A9: =B9&"-"&C9 -> S128-450ARGOUB | B9: S128 | C9: 450ARGOUB | D9: YKUSSL Hpzqud &yvj; DRWOTVE Jvjnnmh | E9: -3387.3 | F9: 45200 | G9: 44652 | H9: 00/00/00 | I9: 0
A10: =B10&"-"&C10 -> S128-450EDA | B10: S128 | C10: 450EDA | D10: ZWE NOM | E10: -1831.79 | F10: 45230 | G10: 44652 | H10: 00/00/00 | I10: 0
A11: =B11&"-"&C11 -> S121-450LOGIUDICE | B11: S121 | C11: 450LOGIUDICE | D11: SUWPEDXCN Xzqtysd | E11: -2333.66 | F11: 45231 | G11: 44652 | H11: 00/00/00 | I11: 0
A12: =B12&"-"&C12 -> S121-450HENTZ | B12: S121 | C12: 450HENTZ | D12: GBLZB Vlbk-Cpmxikj &lco; Rnexwkpi | E12: -1243.43 | F12: 45231 | G12: 44652 | H12: 00/00/00 | I12: 0
A13: =B13&"-"&C13 -> S121-450ARACI | B13: S121 | C13: 450ARACI | D13: UINKI Imfup &qvx; VHZQP Qwmnyvg | E13: -773.75 | F13: 45231 | G13: 44652 | H13: 00/00/00 | I13: 0
... A222: =B222&"-"&C222 -> S057-450DUPETIT | B222: S057 | C222: 450DUPETIT | D222: DUPETIT Julien | E222: -627.15 | F222: 45231 | G222: 45231 | H222: 00/00/00 | I222: 0

Sheet Export0412
A1: concat | B1: Entité | C1: N° de compte | D1: Libellé | E1: Solde au 04/12/2023 | F1: Dernier mouvement | G1: Débiteur depuis | H1: Dernière relance | I1: Cpteur relance
A2: =B2&"-"&C2 -> S103-45018CASTELNAU | B2: S103 | C2: 45018CASTELNAU | D2: ADW 66 BHVVXBQYW | E2: -6341.98 | F2: 45201 | G2: 44835 | H2: 00/00/00 | I2: 0
A3: =B3&"-"&C3 -> S101-450ABP | B3: S101 | C3: 450ABP | D3: YUN XIA | E3: -515.53 | F3: 45261 | G3: 45200 | H3: 00/00/00 | I3: 0
A4: =B4&"-"&C4 -> S090-450ADANIR | B4: S090 | C4: 450ADANIR | D4: YDRJAY Fbuoq &cji; OAABCZTT Uxnht | E4: -3019.56 | F4: 45200 | G4: 45017 | H4: 00/00/00 | I4: 0
A5: =B5&"-"&C5 -> S114-450ALONSO-2 | B5: S114 | C5: 450ALONSO-2 | D5: PYPYXY QBSYPG Kagvgk - XIWVVN | E5: -1814.38 | F5: 45212 | G5: 45189 | H5: 00/00/00 | I5: 0
A6: =B6&"-"&C6 -> S068-450AMBOS-COHEN | B6: S068 | C6: 450AMBOS-COHEN | D6: TCZXK Lqusugn &rcw; DUXBL Sxxsamo | E6: -4333.34 | F6: 45200 | G6: 44927 | H6: 00/00/00 | I6: 0
A7: =B7&"-"&C7 -> S048-450ANDING | B7: S048 | C7: 450ANDING | D7: CJYVPY Oxne-Cuvshe | E7: -1772.46 | F7: 45200 | G7: 45108 | H7: 00/00/00 | I7: 0
A8: =B8&"-"&C8 -> S133-450ARBELES | B8: S133 | C8: 450ARBELES | D8: FPI DKXGQBJ | E8: -5865.34 | F8: 45200 | G8: 44927 | H8: 00/00/00 | I8: 0
A9: =B9&"-"&C9 -> S128-450ARGOUB | B9: S128 | C9: 450ARGOUB | D9: OFWPFA Nnhvnn &bcn; XPAONWS Txpbhkj | E9: -3387.3 | F9: 45200 | G9: 44652 | H9: 00/00/00 | I9: 0
A10: =B10&"-"&C10 -> S093-450ARNOUX | B10: S093 | C10: 450ARNOUX | D10: PNTDKV Xxbykbmv | E10: -1976.61 | F10: 45240 | G10: 44927 | H10: 00/00/00 | I10: 0
A11: =B11&"-"&C11 -> S002-450ARTUK | B11: S002 | C11: 450ARTUK | D11: FXGEL Vdykoli &gqe; FNUV FXMC Xpkqp | E11: -1393.94 | F11: 45261 | G11: 44964 | H11: 00/00/00 | I11: 0
A12: =B12&"-"&C12 -> S057-450ATAS-DOLEN | B12: S057 | C12: 450ATAS-DOLEN | D12: IIEK &fmm; ZZCBO | E12: -1144.71 | F12: 45200 | G12: 45108 | H12: 00/00/00 | I12: 0
A13: =B13&"-"&C13 -> S076-450BALDELLI | B13: S076 | C13: 450BALDELLI | D13: UNQSJUYJ Yhbhs &crb; Hdkxo Dyctrl | E13: -1191.61 | F13: 45200 | G13: 45019 | H13: 00/00/00 | I13: 0
... A205: =B205&"-"&C205 -> S020-450ZUBER | B205: S020 | C205: 450ZUBER | D205: ZUBER Céline | E205: -621.86 | F205: 45231 | G205: 45200 | H205: 00/00/00 | I205: 0
