Workbook
Name SOP_Heading1: "Local Product brand"
Name SOP_Heading2: "Key Figure"

Sheet DATA
A1: Key Figure | B1: Local Product brand | C1: Aug-22 | D1: Sep-22 | E1: Oct-22 | F1: W31 2022 | G1: W32 2022 | H1: W33 2022 | I1: W34 2022 | J1: W35 2022 | K1: W36 2022 | L1: W37 2022 | M1: W38 2022 | N1: W39 2022 | O1: W40 2022
A2: =_xll.EPMOlapMemberO("[KEY_FIGURES].[].[ZDHISORDERST]","","ST HIST Ordered Qty","","000") -> ST HIST Ordered Qty | B2: =_xll.EPMOlapMemberO("[DNREGPRODBRANDDESC].[].[BADOIT FLAVOURED]","","BADOIT FLAVOURED","","000") -> BADOIT FLAVOURED | C2: 1042.75 | D2: 14 | F2: 302.8 | G2: 299.43 | H2: 274.72 | I2: 144.24 | J2: 24.32 | K2: 9.32 | L2: 1.92
A3: =_xll.EPMOlapMemberO("[KEY_FIGURES].[].[ZDHISORDERST]","","ST HIST Ordered Qty","","000") -> ST HIST Ordered Qty | B3: =_xll.EPMOlapMemberO("[DNREGPRODBRANDDESC].[].[BADOIT SPARKLING]","","BADOIT SPARKLING","","000") -> BADOIT SPARKLING | C3: 19393.002 | D3: 1448.6892 | E3: 192.96 | F3: 4592.3328 | G3: 5217.8388 | H3: 5292.2232 | I3: 3479.8644 | J3: 1080.336 | K3: 375.4224 | L3: 242.0736 | M3: 249.6 | N3: 312 | O3: 192.96
A4: =_xll.EPMOlapMemberO("[KEY_FIGURES].[].[ZDHISORDERST]","","ST HIST Ordered Qty","","000") -> ST HIST Ordered Qty | B4: =_xll.EPMOlapMemberO("[DNREGPRODBRANDDESC].[].[BULLES & THE BY BADOIT]","","BULLES & THE BY BADOIT","","000") -> BULLES & THE BY BADOIT | C4: 323.87448 | D4: 1.8 | F4: 16.3296 | G4: 8.3592 | H4: 186.4752 | I4: 109.7016 | J4: 3.00888 | K4: 1.8
A5: =_xll.EPMOlapMemberO("[KEY_FIGURES].[].[ZDHISORDERST]","","ST HIST Ordered Qty","","000") -> ST HIST Ordered Qty | B5: =_xll.EPMOlapMemberO("[DNREGPRODBRANDDESC].[].[BULLES DE FRUITS]","","BULLES DE FRUITS","","000") -> BULLES DE FRUITS | C5: 2236.7136 | D5: 28.176 | F5: 464.604 | G5: 934.57248 | H5: 523.1712 | I5: 272.724 | J5: 46.14192 | K5: 17.5632 | L5: 6.1128
A6: =_xll.EPMOlapMemberO("[KEY_FIGURES].[].[ZDHISORDERST]","","ST HIST Ordered Qty","","000") -> ST HIST Ordered Qty | B6: =_xll.EPMOlapMemberO("[DNREGPRODBRANDDESC].[].[EVIAN]","","EVIAN","","000") -> EVIAN | C6: 43738.229 | D6: 5960.6785 | E6: 214.848 | F6: 9689.6488 | G6: 11017.118 | H6: 10397.314 | I6: 10061.706 | J6: 4047.2414 | K6: 1976.3827 | L6: 1497.1049 | M6: 680.3328 | N6: 332.0592 | O6: 123.6096
A7: =_xll.EPMOlapMemberO("[KEY_FIGURES].[].[ZDHISORDERST]","","ST HIST Ordered Qty","","000") -> ST HIST Ordered Qty | B7: =_xll.EPMOlapMemberO("[DNREGPRODBRANDDESC].[].[EVIAN SPARKLING FLAVOURED]","","EVIAN SPARKLING FLAVOURED","","000") -> EVIAN SPARKLING FLAVOURED
A8: =_xll.EPMOlapMemberO("[KEY_FIGURES].[].[ZDHISORDERST]","","ST HIST Ordered Qty","","000") -> ST HIST Ordered Qty | B8: =_xll.EPMOlapMemberO("[DNREGPRODBRANDDESC].[].[EVIAN TEA]","","EVIAN TEA","","000") -> EVIAN TEA
A9: =_xll.EPMOlapMemberO("[KEY_FIGURES].[].[ZDHISORDERST]","","ST HIST Ordered Qty","","000") -> ST HIST Ordered Qty | B9: =_xll.EPMOlapMemberO("[DNREGPRODBRANDDESC].[].[FERRARELLE]","","FERRARELLE","","000") -> FERRARELLE | C9: 10.89 | F9: 5.445 | G9: 5.445
A10: =_xll.EPMOlapMemberO("[KEY_FIGURES].[].[ZDHISORDERST]","","ST HIST Ordered Qty","","000") -> ST HIST Ordered Qty | B10: =_xll.EPMOlapMemberO("[DNREGPRODBRANDDESC].[].[OTHERS]","","OTHERS","","000") -> OTHERS
A11: =_xll.EPMOlapMemberO("[KEY_FIGURES].[].[ZDHISORDERST]","","ST HIST Ordered Qty","","000") -> ST HIST Ordered Qty | B11: =_xll.EPMOlapMemberO("[DNREGPRODBRANDDESC].[].[SALVETAT FLAVOURED]","","SALVETAT FLAVOURED","","000") -> SALVETAT FLAVOURED | C11: 1305.121 | D11: 131.184 | F11: 229.132 | G11: 673.8435 | H11: 282.2055 | I11: 109.962 | J11: 15.498 | K11: 35.254 | L11: 30.654 | M11: 58.192 | N11: 1.564
A12: =_xll.EPMOlapMemberO("[KEY_FIGURES].[].[ZDHISORDERST]","","ST HIST Ordered Qty","","000") -> ST HIST Ordered Qty | B12: =_xll.EPMOlapMemberO("[DNREGPRODBRANDDESC].[].[SALVETAT SPARKLING]","","SALVETAT SPARKLING","","000") -> SALVETAT SPARKLING | C12: 19455.65 | D12: 2220.4944 | E12: 158.976 | F12: 5292.7692 | G12: 5370.456 | H12: 5179.3668 | I12: 2979.8508 | J12: 729.5328 | K12: 216.912 | L12: 664.8672 | M12: 850.47 | N12: 391.92 | O12: 132.48
A13: =_xll.EPMOlapMemberO("[KEY_FIGURES].[].[ZDHISORDERST]","","ST HIST Ordered Qty","","000") -> ST HIST Ordered Qty | B13: =_xll.EPMOlapMemberO("[DNREGPRODBRANDDESC].[].[TRA GOODS SAEME]","","TRA GOODS SAEME","","000") -> TRA GOODS SAEME | C13: 0.064 | G13: 0.064
A14: =_xll.EPMOlapMemberO("[KEY_FIGURES].[].[ZDHISORDERST]","","ST HIST Ordered Qty","","000") -> ST HIST Ordered Qty | B14: =_xll.EPMOlapMemberO("[DNREGPRODBRANDDESC].[].[TRA GOODS SEV]","","TRA GOODS SEV","","000") -> TRA GOODS SEV | C14: 0 | F14: 0
A15: =_xll.EPMOlapMemberO("[KEY_FIGURES].[].[ZDHISORDERST]","","ST HIST Ordered Qty","","000") -> ST HIST Ordered Qty | B15: =_xll.EPMOlapMemberO("[DNREGPRODBRANDDESC].[].[VOLVIC FLAVOURED]","","VOLVIC FLAVOURED","","000") -> VOLVIC FLAVOURED | C15: 2879.0494 | D15: 140.38416 | F15: 673.56432 | G15: 846.09072 | H15: 807.26616 | I15: 434.96016 | J15: 167.88 | K15: 65.02416 | L15: 24.648
A16: =_xll.EPMOlapMemberO("[KEY_FIGURES].[].[ZDHISORDERST]","","ST HIST Ordered Qty","","000") -> ST HIST Ordered Qty | B16: =_xll.EPMOlapMemberO("[DNREGPRODBRANDDESC].[].[VOLVIC FLAVOURED ORGANIC]","","VOLVIC FLAVOURED ORGANIC","","000") -> VOLVIC FLAVOURED ORGANIC | C16: 231.9255 | D16: 18.135 | F16: 53.523 | G16: 73.191 | H16: 48.75 | I16: 38.115 | J16: 19.134 | K16: 10.7775 | L16: 6.57
A17: =_xll.EPMOlapMemberO("[KEY_FIGURES].[].[ZDHISORDERST]","","ST HIST Ordered Qty","","000") -> ST HIST Ordered Qty | B17: =_xll.EPMOlapMemberO("[DNREGPRODBRANDDESC].[].[VOLVIC JUICE]","","VOLVIC JUICE","","000") -> VOLVIC JUICE | C17: 3900.8623 | D17: 228.87 | F17: 949.092 | G17: 984.83425 | H17: 914.212 | I17: 853.56 | J17: 264.324 | K17: 110.838 | L17: 52.872
A18: =_xll.EPMOlapMemberO("[KEY_FIGURES].[].[ZDHISORDERST]","","ST HIST Ordered Qty","","000") -> ST HIST Ordered Qty | B18: =_xll.EPMOlapMemberO("[DNREGPRODBRANDDESC].[].[VOLVIC JUICE ORGANIC]","","VOLVIC JUICE ORGANIC","","000") -> VOLVIC JUICE ORGANIC
A19: =_xll.EPMOlapMemberO("[KEY_FIGURES].[].[ZDHISORDERST]","","ST HIST Ordered Qty","","000") -> ST HIST Ordered Qty | B19: =_xll.EPMOlapMemberO("[DNREGPRODBRANDDESC].[].[VOLVIC STILL]","","VOLVIC STILL","","000") -> VOLVIC STILL | C19: 52277.908 | D19: 6170.88 | E19: 324 | F19: 13031.073 | G19: 13285.949 | H19: 12010.19 | I19: 9587.316 | J19: 5591.4843 | K19: 1625.28 | L19: 1255.944 | M19: 976.464 | N19: 1085.088 | O19: 324
A20: =_xll.EPMOlapMemberO("[KEY_FIGURES].[].[ZDHISORDERST]","","ST HIST Ordered Qty","","000") -> ST HIST Ordered Qty | B20: =_xll.EPMOlapMemberO("[DNREGPRODBRANDDESC].[].[VOLVIC TEA]","","VOLVIC TEA","","000") -> VOLVIC TEA
A21: =_xll.EPMOlapMemberO("[KEY_FIGURES].[].[ZDHISORDERST]","","ST HIST Ordered Qty","","000") -> ST HIST Ordered Qty | B21: =_xll.EPMOlapMemberO("[DNREGPRODBRANDDESC].[].[VOLVIC TEA ORGANIC]","","VOLVIC TEA ORGANIC","","000") -> VOLVIC TEA ORGANIC | C21: 294.957 | D21: 38.268 | F21: 74.724 | G21: 93.477 | H21: 43.533 | I21: 66.24 | J21: 20.7675 | K21: 21.132 | L21: 13.3515
A24: Brand | B24: BADOIT FLAVOURED | C24: BADOIT SPARKLING | D24: BULLES DE FRUITS | E24: BULLES ET THE | F24: EVIAN | G24: FERRARELLE | H24: SALVETAT FLAVOURED | I24: SALVETAT SPARKLING | J24: VOLVIC FLAVOURED | K24: VOLVIC JUICE | L24: VOLVIC STILL | M24: VOLVIC TEA
A25: W31 2022 | B25: =SUMIFS(t_Base[[W31 2022]:[W31 2022]],t_Base[[Local Product brand]:[Local Product brand]],B$24) -> 302.8 | C25: =SUMIFS(t_Base[[W31 2022]:[W31 2022]],t_Base[[Local Product brand]:[Local Product brand]],C24) -> 4592.3328 | D25: =SUMIFS(t_Base[[W31 2022]:[W31 2022]],t_Base[[Local Product brand]:[Local Product brand]],D24) -> 464.604 | E25: =SUMIFS(t_Base[[W31 2022]:[W31 2022]],t_Base[[Local Product brand]:[Local Product brand]],E24) -> 0 | F25: =SUMIFS(t_Base[[W31 2022]:[W31 2022]],t_Base[[Local Product brand]:[Local Product brand]],F24) -> 9689.6488 | G25: =SUMIFS(t_Base[[W31 2022]:[W31 2022]],t_Base[[Local Product brand]:[Local Product brand]],G24) -> 5.445 | H25: =SUMIFS(t_Base[[W31 2022]:[W31 2022]],t_Base[[Local Product brand]:[Local Product brand]],H24) -> 229.132 | I25: =SUMIFS(t_Base[[W31 2022]:[W31 2022]],t_Base[[Local Product brand]:[Local Product brand]],I24) -> 5292.7692 | J25: =SUMIFS(t_Base[[W31 2022]:[W31 2022]],t_Base[[Local Product brand]:[Local Product brand]],J24) -> 673.56432 | ... M25: =SUMIFS(t_Base[[W31 2022]:[W31 2022]],t_Base[[Local Product brand]:[Local Product brand]],M24) -> 0
A26: W32 2022 | B26: =SUMIFS(t_Base[[W32 2022]:[W32 2022]],t_Base[[Local Product brand]:[Local Product brand]],B$24) -> 299.43 | C26: =SUMIFS(t_Base[[W32 2022]:[W32 2022]],t_Base[[Local Product brand]:[Local Product brand]],C$24) -> 5217.8388 | D26: =SUMIFS(t_Base[[W32 2022]:[W32 2022]],t_Base[[Local Product brand]:[Local Product brand]],D$24) -> 934.57248 | E26: =SUMIFS(t_Base[[W32 2022]:[W32 2022]],t_Base[[Local Product brand]:[Local Product brand]],E$24) -> 0 | F26: =SUMIFS(t_Base[[W32 2022]:[W32 2022]],t_Base[[Local Product brand]:[Local Product brand]],F$24) -> 11017.118 | G26: =SUMIFS(t_Base[[W32 2022]:[W32 2022]],t_Base[[Local Product brand]:[Local Product brand]],G$24) -> 5.445 | H26: =SUMIFS(t_Base[[W32 2022]:[W32 2022]],t_Base[[Local Product brand]:[Local Product brand]],H$24) -> 673.8435 | I26: =SUMIFS(t_Base[[W32 2022]:[W32 2022]],t_Base[[Local Product brand]:[Local Product brand]],I$24) -> 5370.456 | ... M26: =SUMIFS(t_Base[[W32 2022]:[W32 2022]],t_Base[[Local Product brand]:[Local Product brand]],M$24) -> 0
A27: W33 2022 | B27: =SUMIFS(t_Base[[W33 2022]:[W33 2022]],t_Base[[Local Product brand]:[Local Product brand]],B$24) -> 274.72 | C27: =SUMIFS(t_Base[[W33 2022]:[W33 2022]],t_Base[[Local Product brand]:[Local Product brand]],C$24) -> 5292.2232 | D27: =SUMIFS(t_Base[[W33 2022]:[W33 2022]],t_Base[[Local Product brand]:[Local Product brand]],D$24) -> 523.1712 | E27: =SUMIFS(t_Base[[W33 2022]:[W33 2022]],t_Base[[Local Product brand]:[Local Product brand]],E$24) -> 0 | F27: =SUMIFS(t_Base[[W33 2022]:[W33 2022]],t_Base[[Local Product brand]:[Local Product brand]],F$24) -> 10397.314 | G27: =SUMIFS(t_Base[[W33 2022]:[W33 2022]],t_Base[[Local Product brand]:[Local Product brand]],G$24) -> 0 | H27: =SUMIFS(t_Base[[W33 2022]:[W33 2022]],t_Base[[Local Product brand]:[Local Product brand]],H$24) -> 282.2055 | I27: =SUMIFS(t_Base[[W33 2022]:[W33 2022]],t_Base[[Local Product brand]:[Local Product brand]],I$24) -> 5179.3668 | ... M27: =SUMIFS(t_Base[[W33 2022]:[W33 2022]],t_Base[[Local Product brand]:[Local Product brand]],M$24) -> 0
A28: W34 2022 | B28: =SUMIFS(t_Base[[W34 2022]:[W34 2022]],t_Base[[Local Product brand]:[Local Product brand]],B$24) -> 144.24 | C28: =SUMIFS(t_Base[[W34 2022]:[W34 2022]],t_Base[[Local Product brand]:[Local Product brand]],C$24) -> 3479.8644 | D28: =SUMIFS(t_Base[[W34 2022]:[W34 2022]],t_Base[[Local Product brand]:[Local Product brand]],D$24) -> 272.724 | E28: =SUMIFS(t_Base[[W34 2022]:[W34 2022]],t_Base[[Local Product brand]:[Local Product brand]],E$24) -> 0 | F28: =SUMIFS(t_Base[[W34 2022]:[W34 2022]],t_Base[[Local Product brand]:[Local Product brand]],F$24) -> 10061.706 | G28: =SUMIFS(t_Base[[W34 2022]:[W34 2022]],t_Base[[Local Product brand]:[Local Product brand]],G$24) -> 0 | H28: =SUMIFS(t_Base[[W34 2022]:[W34 2022]],t_Base[[Local Product brand]:[Local Product brand]],H$24) -> 109.962 | I28: =SUMIFS(t_Base[[W34 2022]:[W34 2022]],t_Base[[Local Product brand]:[Local Product brand]],I$24) -> 2979.8508 | ... M28: =SUMIFS(t_Base[[W34 2022]:[W34 2022]],t_Base[[Local Product brand]:[Local Product brand]],M$24) -> 0
A29: W35 2022 | B29: =SUMIFS(t_Base[[W35 2022]:[W35 2022]],t_Base[[Local Product brand]:[Local Product brand]],B$24) -> 24.32 | C29: =SUMIFS(t_Base[[W35 2022]:[W35 2022]],t_Base[[Local Product brand]:[Local Product brand]],C$24) -> 1080.336 | D29: =SUMIFS(t_Base[[W35 2022]:[W35 2022]],t_Base[[Local Product brand]:[Local Product brand]],D$24) -> 46.14192 | E29: =SUMIFS(t_Base[[W35 2022]:[W35 2022]],t_Base[[Local Product brand]:[Local Product brand]],E$24) -> 0 | F29: =SUMIFS(t_Base[[W35 2022]:[W35 2022]],t_Base[[Local Product brand]:[Local Product brand]],F$24) -> 4047.2414 | G29: =SUMIFS(t_Base[[W35 2022]:[W35 2022]],t_Base[[Local Product brand]:[Local Product brand]],G$24) -> 0 | H29: =SUMIFS(t_Base[[W35 2022]:[W35 2022]],t_Base[[Local Product brand]:[Local Product brand]],H$24) -> 15.498 | I29: =SUMIFS(t_Base[[W35 2022]:[W35 2022]],t_Base[[Local Product brand]:[Local Product brand]],I$24) -> 729.5328 | ... M29: =SUMIFS(t_Base[[W35 2022]:[W35 2022]],t_Base[[Local Product brand]:[Local Product brand]],M$24) -> 0
A30: W36 2022 | B30: =SUMIFS(t_Base[[W36 2022]:[W36 2022]],t_Base[[Local Product brand]:[Local Product brand]],B$24) -> 9.32 | C30: =SUMIFS(t_Base[[W36 2022]:[W36 2022]],t_Base[[Local Product brand]:[Local Product brand]],C$24) -> 375.4224 | D30: =SUMIFS(t_Base[[W36 2022]:[W36 2022]],t_Base[[Local Product brand]:[Local Product brand]],D$24) -> 17.5632 | E30: =SUMIFS(t_Base[[W36 2022]:[W36 2022]],t_Base[[Local Product brand]:[Local Product brand]],E$24) -> 0 | F30: =SUMIFS(t_Base[[W36 2022]:[W36 2022]],t_Base[[Local Product brand]:[Local Product brand]],F$24) -> 1976.3827 | G30: =SUMIFS(t_Base[[W36 2022]:[W36 2022]],t_Base[[Local Product brand]:[Local Product brand]],G$24) -> 0 | H30: =SUMIFS(t_Base[[W36 2022]:[W36 2022]],t_Base[[Local Product brand]:[Local Product brand]],H$24) -> 35.254 | I30: =SUMIFS(t_Base[[W36 2022]:[W36 2022]],t_Base[[Local Product brand]:[Local Product brand]],I$24) -> 216.912 | ... M30: =SUMIFS(t_Base[[W36 2022]:[W36 2022]],t_Base[[Local Product brand]:[Local Product brand]],M$24) -> 0
A31: W37 2022 | B31: =SUMIFS(t_Base[[W37 2022]:[W37 2022]],t_Base[[Local Product brand]:[Local Product brand]],B$24) -> 1.92 | C31: =SUMIFS(t_Base[[W37 2022]:[W37 2022]],t_Base[[Local Product brand]:[Local Product brand]],C$24) -> 242.0736 | D31: =SUMIFS(t_Base[[W37 2022]:[W37 2022]],t_Base[[Local Product brand]:[Local Product brand]],D$24) -> 6.1128 | E31: =SUMIFS(t_Base[[W37 2022]:[W37 2022]],t_Base[[Local Product brand]:[Local Product brand]],E$24) -> 0 | F31: =SUMIFS(t_Base[[W37 2022]:[W37 2022]],t_Base[[Local Product brand]:[Local Product brand]],F$24) -> 1497.1049 | G31: =SUMIFS(t_Base[[W37 2022]:[W37 2022]],t_Base[[Local Product brand]:[Local Product brand]],G$24) -> 0 | H31: =SUMIFS(t_Base[[W37 2022]:[W37 2022]],t_Base[[Local Product brand]:[Local Product brand]],H$24) -> 30.654 | I31: =SUMIFS(t_Base[[W37 2022]:[W37 2022]],t_Base[[Local Product brand]:[Local Product brand]],I$24) -> 664.8672 | ... M31: =SUMIFS(t_Base[[W37 2022]:[W37 2022]],t_Base[[Local Product brand]:[Local Product brand]],M$24) -> 0
A32: W38 2022 | B32: =SUMIFS(t_Base[[W38 2022]:[W38 2022]],t_Base[[Local Product brand]:[Local Product brand]],B$24) -> 0 | C32: =SUMIFS(t_Base[[W38 2022]:[W38 2022]],t_Base[[Local Product brand]:[Local Product brand]],C$24) -> 249.6 | D32: =SUMIFS(t_Base[[W38 2022]:[W38 2022]],t_Base[[Local Product brand]:[Local Product brand]],D$24) -> 0 | E32: =SUMIFS(t_Base[[W38 2022]:[W38 2022]],t_Base[[Local Product brand]:[Local Product brand]],E$24) -> 0 | F32: =SUMIFS(t_Base[[W38 2022]:[W38 2022]],t_Base[[Local Product brand]:[Local Product brand]],F$24) -> 680.3328 | G32: =SUMIFS(t_Base[[W38 2022]:[W38 2022]],t_Base[[Local Product brand]:[Local Product brand]],G$24) -> 0 | H32: =SUMIFS(t_Base[[W38 2022]:[W38 2022]],t_Base[[Local Product brand]:[Local Product brand]],H$24) -> 58.192 | I32: =SUMIFS(t_Base[[W38 2022]:[W38 2022]],t_Base[[Local Product brand]:[Local Product brand]],I$24) -> 850.47 | ... M32: =SUMIFS(t_Base[[W38 2022]:[W38 2022]],t_Base[[Local Product brand]:[Local Product brand]],M$24) -> 0
A33: W39 2022 | B33: =SUMIFS(t_Base[[W39 2022]:[W39 2022]],t_Base[[Local Product brand]:[Local Product brand]],B$24) -> 0 | C33: =SUMIFS(t_Base[[W39 2022]:[W39 2022]],t_Base[[Local Product brand]:[Local Product brand]],C$24) -> 312 | D33: =SUMIFS(t_Base[[W39 2022]:[W39 2022]],t_Base[[Local Product brand]:[Local Product brand]],D$24) -> 0 | E33: =SUMIFS(t_Base[[W39 2022]:[W39 2022]],t_Base[[Local Product brand]:[Local Product brand]],E$24) -> 0 | F33: =SUMIFS(t_Base[[W39 2022]:[W39 2022]],t_Base[[Local Product brand]:[Local Product brand]],F$24) -> 332.0592 | G33: =SUMIFS(t_Base[[W39 2022]:[W39 2022]],t_Base[[Local Product brand]:[Local Product brand]],G$24) -> 0 | H33: =SUMIFS(t_Base[[W39 2022]:[W39 2022]],t_Base[[Local Product brand]:[Local Product brand]],H$24) -> 1.564 | I33: =SUMIFS(t_Base[[W39 2022]:[W39 2022]],t_Base[[Local Product brand]:[Local Product brand]],I$24) -> 391.92 | ... M33: =SUMIFS(t_Base[[W39 2022]:[W39 2022]],t_Base[[Local Product brand]:[Local Product brand]],M$24) -> 0
A35: Brand | B35: BADOIT FLAVOURED | C35: BADOIT SPARKLING | D35: BULLES DE FRUITS | E35: BULLES ET THE | F35: EVIAN | G35: FERRARELLE | H35: SALVETAT FLAVOURED | I35: SALVETAT SPARKLING | J35: VOLVIC FLAVOURED | K35: VOLVIC JUICE | L35: VOLVIC STILL | M35: VOLVIC TEA
A36: W31 2022 | B36: =INDEX(t_Base[[W31 2022]:[W40 2022]],MATCH(B$24,t_Base[Local Product brand],0),MATCH($A36,t_Base[[#Headers],[W31 2022]:[W40 2022]],0)) -> 302.8 | C36: =INDEX(t_Base[[W31 2022]:[W40 2022]],MATCH(C$24,t_Base[Local Product brand],0),MATCH($A36,t_Base[[#Headers],[W31 2022]:[W40 2022]],0)) -> 4592.3328 | D36: =INDEX(t_Base[[W31 2022]:[W40 2022]],MATCH(D$24,t_Base[Local Product brand],0),MATCH($A36,t_Base[[#Headers],[W31 2022]:[W40 2022]],0)) -> 464.604 | E36: =INDEX(t_Base[[W31 2022]:[W40 2022]],MATCH(E$24,t_Base[Local Product brand],0),MATCH($A36,t_Base[[#Headers],[W31 2022]:[W40 2022]],0)) -> #N/A | F36: =INDEX(t_Base[[W31 2022]:[W40 2022]],MATCH(F$24,t_Base[Local Product brand],0),MATCH($A36,t_Base[[#Headers],[W31 2022]:[W40 2022]],0)) -> 9689.6488 | G36: =INDEX(t_Base[[W31 2022]:[W40 2022]],MATCH(G$24,t_Base[Local Product brand],0),MATCH($A36,t_Base[[#Headers],[W31 2022]:[W40 2022]],0)) -> 5.445 | H36: =INDEX(t_Base[[W31 2022]:[W40 2022]],MATCH(H$24,t_Base[Local Product brand],0),MATCH($A36,t_Base[[#Headers],[W31 2022]:[W40 2022]],0)) -> 229.132 | I36: =INDEX(t_Base[[W31 2022]:[W40 2022]],MATCH(I$24,t_Base[Local Product brand],0),MATCH($A36,t_Base[[#Headers],[W31 2022]:[W40 2022]],0)) -> 5292.7692 | ... M36: =INDEX(t_Base[[W31 2022]:[W40 2022]],MATCH(M$24,t_Base[Local Product brand],0),MATCH($A36,t_Base[[#Headers],[W31 2022]:[W40 2022]],0)) -> 0
A37: W32 2022 | B37: =INDEX(t_Base[[W31 2022]:[W40 2022]],MATCH(B$24,t_Base[Local Product brand],0),MATCH($A37,t_Base[[#Headers],[W31 2022]:[W40 2022]],0)) -> 299.43 | C37: =INDEX(t_Base[[W31 2022]:[W40 2022]],MATCH(C$24,t_Base[Local Product brand],0),MATCH($A37,t_Base[[#Headers],[W31 2022]:[W40 2022]],0)) -> 5217.8388 | D37: =INDEX(t_Base[[W31 2022]:[W40 2022]],MATCH(D$24,t_Base[Local Product brand],0),MATCH($A37,t_Base[[#Headers],[W31 2022]:[W40 2022]],0)) -> 934.57248 | E37: =INDEX(t_Base[[W31 2022]:[W40 2022]],MATCH(E$24,t_Base[Local Product brand],0),MATCH($A37,t_Base[[#Headers],[W31 2022]:[W40 2022]],0)) -> #N/A | F37: =INDEX(t_Base[[W31 2022]:[W40 2022]],MATCH(F$24,t_Base[Local Product brand],0),MATCH($A37,t_Base[[#Headers],[W31 2022]:[W40 2022]],0)) -> 11017.118 | G37: =INDEX(t_Base[[W31 2022]:[W40 2022]],MATCH(G$24,t_Base[Local Product brand],0),MATCH($A37,t_Base[[#Headers],[W31 2022]:[W40 2022]],0)) -> 5.445 | H37: =INDEX(t_Base[[W31 2022]:[W40 2022]],MATCH(H$24,t_Base[Local Product brand],0),MATCH($A37,t_Base[[#Headers],[W31 2022]:[W40 2022]],0)) -> 673.8435 | I37: =INDEX(t_Base[[W31 2022]:[W40 2022]],MATCH(I$24,t_Base[Local Product brand],0),MATCH($A37,t_Base[[#Headers],[W31 2022]:[W40 2022]],0)) -> 5370.456 | ... M37: =INDEX(t_Base[[W31 2022]:[W40 2022]],MATCH(M$24,t_Base[Local Product brand],0),MATCH($A37,t_Base[[#Headers],[W31 2022]:[W40 2022]],0)) -> 0
A38: W33 2022 | B38: =INDEX(t_Base[[W31 2022]:[W40 2022]],MATCH(B$24,t_Base[Local Product brand],0),MATCH($A38,t_Base[[#Headers],[W31 2022]:[W40 2022]],0)) -> 274.72 | C38: =INDEX(t_Base[[W31 2022]:[W40 2022]],MATCH(C$24,t_Base[Local Product brand],0),MATCH($A38,t_Base[[#Headers],[W31 2022]:[W40 2022]],0)) -> 5292.2232 | D38: =INDEX(t_Base[[W31 2022]:[W40 2022]],MATCH(D$24,t_Base[Local Product brand],0),MATCH($A38,t_Base[[#Headers],[W31 2022]:[W40 2022]],0)) -> 523.1712 | E38: =INDEX(t_Base[[W31 2022]:[W40 2022]],MATCH(E$24,t_Base[Local Product brand],0),MATCH($A38,t_Base[[#Headers],[W31 2022]:[W40 2022]],0)) -> #N/A | F38: =INDEX(t_Base[[W31 2022]:[W40 2022]],MATCH(F$24,t_Base[Local Product brand],0),MATCH($A38,t_Base[[#Headers],[W31 2022]:[W40 2022]],0)) -> 10397.314 | G38: =INDEX(t_Base[[W31 2022]:[W40 2022]],MATCH(G$24,t_Base[Local Product brand],0),MATCH($A38,t_Base[[#Headers],[W31 2022]:[W40 2022]],0)) -> 0 | H38: =INDEX(t_Base[[W31 2022]:[W40 2022]],MATCH(H$24,t_Base[Local Product brand],0),MATCH($A38,t_Base[[#Headers],[W31 2022]:[W40 2022]],0)) -> 282.2055 | I38: =INDEX(t_Base[[W31 2022]:[W40 2022]],MATCH(I$24,t_Base[Local Product brand],0),MATCH($A38,t_Base[[#Headers],[W31 2022]:[W40 2022]],0)) -> 5179.3668 | ... M38: =INDEX(t_Base[[W31 2022]:[W40 2022]],MATCH(M$24,t_Base[Local Product brand],0),MATCH($A38,t_Base[[#Headers],[W31 2022]:[W40 2022]],0)) -> 0
A39: W34 2022 | B39: =INDEX(t_Base[[W31 2022]:[W40 2022]],MATCH(B$24,t_Base[Local Product brand],0),MATCH($A39,t_Base[[#Headers],[W31 2022]:[W40 2022]],0)) -> 144.24 | C39: =INDEX(t_Base[[W31 2022]:[W40 2022]],MATCH(C$24,t_Base[Local Product brand],0),MATCH($A39,t_Base[[#Headers],[W31 2022]:[W40 2022]],0)) -> 3479.8644 | D39: =INDEX(t_Base[[W31 2022]:[W40 2022]],MATCH(D$24,t_Base[Local Product brand],0),MATCH($A39,t_Base[[#Headers],[W31 2022]:[W40 2022]],0)) -> 272.724 | E39: =INDEX(t_Base[[W31 2022]:[W40 2022]],MATCH(E$24,t_Base[Local Product brand],0),MATCH($A39,t_Base[[#Headers],[W31 2022]:[W40 2022]],0)) -> #N/A | F39: =INDEX(t_Base[[W31 2022]:[W40 2022]],MATCH(F$24,t_Base[Local Product brand],0),MATCH($A39,t_Base[[#Headers],[W31 2022]:[W40 2022]],0)) -> 10061.706 | G39: =INDEX(t_Base[[W31 2022]:[W40 2022]],MATCH(G$24,t_Base[Local Product brand],0),MATCH($A39,t_Base[[#Headers],[W31 2022]:[W40 2022]],0)) -> 0 | H39: =INDEX(t_Base[[W31 2022]:[W40 2022]],MATCH(H$24,t_Base[Local Product brand],0),MATCH($A39,t_Base[[#Headers],[W31 2022]:[W40 2022]],0)) -> 109.962 | I39: =INDEX(t_Base[[W31 2022]:[W40 2022]],MATCH(I$24,t_Base[Local Product brand],0),MATCH($A39,t_Base[[#Headers],[W31 2022]:[W40 2022]],0)) -> 2979.8508 | ... M39: =INDEX(t_Base[[W31 2022]:[W40 2022]],MATCH(M$24,t_Base[Local Product brand],0),MATCH($A39,t_Base[[#Headers],[W31 2022]:[W40 2022]],0)) -> 0
A40: W35 2022 | B40: =INDEX(t_Base[[W31 2022]:[W40 2022]],MATCH(B$24,t_Base[Local Product brand],0),MATCH($A40,t_Base[[#Headers],[W31 2022]:[W40 2022]],0)) -> 24.32 | C40: =INDEX(t_Base[[W31 2022]:[W40 2022]],MATCH(C$24,t_Base[Local Product brand],0),MATCH($A40,t_Base[[#Headers],[W31 2022]:[W40 2022]],0)) -> 1080.336 | D40: =INDEX(t_Base[[W31 2022]:[W40 2022]],MATCH(D$24,t_Base[Local Product brand],0),MATCH($A40,t_Base[[#Headers],[W31 2022]:[W40 2022]],0)) -> 46.14192 | E40: =INDEX(t_Base[[W31 2022]:[W40 2022]],MATCH(E$24,t_Base[Local Product brand],0),MATCH($A40,t_Base[[#Headers],[W31 2022]:[W40 2022]],0)) -> #N/A | F40: =INDEX(t_Base[[W31 2022]:[W40 2022]],MATCH(F$24,t_Base[Local Product brand],0),MATCH($A40,t_Base[[#Headers],[W31 2022]:[W40 2022]],0)) -> 4047.2414 | G40: =INDEX(t_Base[[W31 2022]:[W40 2022]],MATCH(G$24,t_Base[Local Product brand],0),MATCH($A40,t_Base[[#Headers],[W31 2022]:[W40 2022]],0)) -> 0 | H40: =INDEX(t_Base[[W31 2022]:[W40 2022]],MATCH(H$24,t_Base[Local Product brand],0),MATCH($A40,t_Base[[#Headers],[W31 2022]:[W40 2022]],0)) -> 15.498 | I40: =INDEX(t_Base[[W31 2022]:[W40 2022]],MATCH(I$24,t_Base[Local Product brand],0),MATCH($A40,t_Base[[#Headers],[W31 2022]:[W40 2022]],0)) -> 729.5328 | ... M40: =INDEX(t_Base[[W31 2022]:[W40 2022]],MATCH(M$24,t_Base[Local Product brand],0),MATCH($A40,t_Base[[#Headers],[W31 2022]:[W40 2022]],0)) -> 0
A41: W36 2022 | B41: =INDEX(t_Base[[W31 2022]:[W40 2022]],MATCH(B$24,t_Base[Local Product brand],0),MATCH($A41,t_Base[[#Headers],[W31 2022]:[W40 2022]],0)) -> 9.32 | C41: =INDEX(t_Base[[W31 2022]:[W40 2022]],MATCH(C$24,t_Base[Local Product brand],0),MATCH($A41,t_Base[[#Headers],[W31 2022]:[W40 2022]],0)) -> 375.4224 | D41: =INDEX(t_Base[[W31 2022]:[W40 2022]],MATCH(D$24,t_Base[Local Product brand],0),MATCH($A41,t_Base[[#Headers],[W31 2022]:[W40 2022]],0)) -> 17.5632 | E41: =INDEX(t_Base[[W31 2022]:[W40 2022]],MATCH(E$24,t_Base[Local Product brand],0),MATCH($A41,t_Base[[#Headers],[W31 2022]:[W40 2022]],0)) -> #N/A | F41: =INDEX(t_Base[[W31 2022]:[W40 2022]],MATCH(F$24,t_Base[Local Product brand],0),MATCH($A41,t_Base[[#Headers],[W31 2022]:[W40 2022]],0)) -> 1976.3827 | G41: =INDEX(t_Base[[W31 2022]:[W40 2022]],MATCH(G$24,t_Base[Local Product brand],0),MATCH($A41,t_Base[[#Headers],[W31 2022]:[W40 2022]],0)) -> 0 | H41: =INDEX(t_Base[[W31 2022]:[W40 2022]],MATCH(H$24,t_Base[Local Product brand],0),MATCH($A41,t_Base[[#Headers],[W31 2022]:[W40 2022]],0)) -> 35.254 | I41: =INDEX(t_Base[[W31 2022]:[W40 2022]],MATCH(I$24,t_Base[Local Product brand],0),MATCH($A41,t_Base[[#Headers],[W31 2022]:[W40 2022]],0)) -> 216.912 | ... M41: =INDEX(t_Base[[W31 2022]:[W40 2022]],MATCH(M$24,t_Base[Local Product brand],0),MATCH($A41,t_Base[[#Headers],[W31 2022]:[W40 2022]],0)) -> 0
A42: W37 2022 | B42: =INDEX(t_Base[[W31 2022]:[W40 2022]],MATCH(B$24,t_Base[Local Product brand],0),MATCH($A42,t_Base[[#Headers],[W31 2022]:[W40 2022]],0)) -> 1.92 | C42: =INDEX(t_Base[[W31 2022]:[W40 2022]],MATCH(C$24,t_Base[Local Product brand],0),MATCH($A42,t_Base[[#Headers],[W31 2022]:[W40 2022]],0)) -> 242.0736 | D42: =INDEX(t_Base[[W31 2022]:[W40 2022]],MATCH(D$24,t_Base[Local Product brand],0),MATCH($A42,t_Base[[#Headers],[W31 2022]:[W40 2022]],0)) -> 6.1128 | E42: =INDEX(t_Base[[W31 2022]:[W40 2022]],MATCH(E$24,t_Base[Local Product brand],0),MATCH($A42,t_Base[[#Headers],[W31 2022]:[W40 2022]],0)) -> #N/A | F42: =INDEX(t_Base[[W31 2022]:[W40 2022]],MATCH(F$24,t_Base[Local Product brand],0),MATCH($A42,t_Base[[#Headers],[W31 2022]:[W40 2022]],0)) -> 1497.1049 | G42: =INDEX(t_Base[[W31 2022]:[W40 2022]],MATCH(G$24,t_Base[Local Product brand],0),MATCH($A42,t_Base[[#Headers],[W31 2022]:[W40 2022]],0)) -> 0 | H42: =INDEX(t_Base[[W31 2022]:[W40 2022]],MATCH(H$24,t_Base[Local Product brand],0),MATCH($A42,t_Base[[#Headers],[W31 2022]:[W40 2022]],0)) -> 30.654 | I42: =INDEX(t_Base[[W31 2022]:[W40 2022]],MATCH(I$24,t_Base[Local Product brand],0),MATCH($A42,t_Base[[#Headers],[W31 2022]:[W40 2022]],0)) -> 664.8672 | ... M42: =INDEX(t_Base[[W31 2022]:[W40 2022]],MATCH(M$24,t_Base[Local Product brand],0),MATCH($A42,t_Base[[#Headers],[W31 2022]:[W40 2022]],0)) -> 0
A43: W38 2022 | B43: =INDEX(t_Base[[W31 2022]:[W40 2022]],MATCH(B$24,t_Base[Local Product brand],0),MATCH($A43,t_Base[[#Headers],[W31 2022]:[W40 2022]],0)) -> 0 | C43: =INDEX(t_Base[[W31 2022]:[W40 2022]],MATCH(C$24,t_Base[Local Product brand],0),MATCH($A43,t_Base[[#Headers],[W31 2022]:[W40 2022]],0)) -> 249.6 | D43: =INDEX(t_Base[[W31 2022]:[W40 2022]],MATCH(D$24,t_Base[Local Product brand],0),MATCH($A43,t_Base[[#Headers],[W31 2022]:[W40 2022]],0)) -> 0 | E43: =INDEX(t_Base[[W31 2022]:[W40 2022]],MATCH(E$24,t_Base[Local Product brand],0),MATCH($A43,t_Base[[#Headers],[W31 2022]:[W40 2022]],0)) -> #N/A | F43: =INDEX(t_Base[[W31 2022]:[W40 2022]],MATCH(F$24,t_Base[Local Product brand],0),MATCH($A43,t_Base[[#Headers],[W31 2022]:[W40 2022]],0)) -> 680.3328 | G43: =INDEX(t_Base[[W31 2022]:[W40 2022]],MATCH(G$24,t_Base[Local Product brand],0),MATCH($A43,t_Base[[#Headers],[W31 2022]:[W40 2022]],0)) -> 0 | H43: =INDEX(t_Base[[W31 2022]:[W40 2022]],MATCH(H$24,t_Base[Local Product brand],0),MATCH($A43,t_Base[[#Headers],[W31 2022]:[W40 2022]],0)) -> 58.192 | I43: =INDEX(t_Base[[W31 2022]:[W40 2022]],MATCH(I$24,t_Base[Local Product brand],0),MATCH($A43,t_Base[[#Headers],[W31 2022]:[W40 2022]],0)) -> 850.47 | ... M43: =INDEX(t_Base[[W31 2022]:[W40 2022]],MATCH(M$24,t_Base[Local Product brand],0),MATCH($A43,t_Base[[#Headers],[W31 2022]:[W40 2022]],0)) -> 0
A44: W39 2022 | B44: =INDEX(t_Base[[W31 2022]:[W40 2022]],MATCH(B$24,t_Base[Local Product brand],0),MATCH($A44,t_Base[[#Headers],[W31 2022]:[W40 2022]],0)) -> 0 | C44: =INDEX(t_Base[[W31 2022]:[W40 2022]],MATCH(C$24,t_Base[Local Product brand],0),MATCH($A44,t_Base[[#Headers],[W31 2022]:[W40 2022]],0)) -> 312 | D44: =INDEX(t_Base[[W31 2022]:[W40 2022]],MATCH(D$24,t_Base[Local Product brand],0),MATCH($A44,t_Base[[#Headers],[W31 2022]:[W40 2022]],0)) -> 0 | E44: =INDEX(t_Base[[W31 2022]:[W40 2022]],MATCH(E$24,t_Base[Local Product brand],0),MATCH($A44,t_Base[[#Headers],[W31 2022]:[W40 2022]],0)) -> #N/A | F44: =INDEX(t_Base[[W31 2022]:[W40 2022]],MATCH(F$24,t_Base[Local Product brand],0),MATCH($A44,t_Base[[#Headers],[W31 2022]:[W40 2022]],0)) -> 332.0592 | G44: =INDEX(t_Base[[W31 2022]:[W40 2022]],MATCH(G$24,t_Base[Local Product brand],0),MATCH($A44,t_Base[[#Headers],[W31 2022]:[W40 2022]],0)) -> 0 | H44: =INDEX(t_Base[[W31 2022]:[W40 2022]],MATCH(H$24,t_Base[Local Product brand],0),MATCH($A44,t_Base[[#Headers],[W31 2022]:[W40 2022]],0)) -> 1.564 | I44: =INDEX(t_Base[[W31 2022]:[W40 2022]],MATCH(I$24,t_Base[Local Product brand],0),MATCH($A44,t_Base[[#Headers],[W31 2022]:[W40 2022]],0)) -> 391.92 | ... M44: =INDEX(t_Base[[W31 2022]:[W40 2022]],MATCH(M$24,t_Base[Local Product brand],0),MATCH($A44,t_Base[[#Headers],[W31 2022]:[W40 2022]],0)) -> 0

Sheet somme.si
A1: Brand | B1: =DATA!F1 -> W31 2022 | C1: =DATA!G1 -> W32 2022 | D1: =DATA!H1 -> W33 2022 | E1: =DATA!I1 -> W34 2022 | F1: =DATA!J1 -> W35 2022 | G1: =DATA!K1 -> W36 2022 | H1: =DATA!L1 -> W37 2022 | I1: =DATA!M1 -> W38 2022 | J1: =DATA!N1 -> W39 2022
A2: BADOIT FLAVOURED | B2: =SUMIFS(DATA!F:F,DATA!$B:$B,somme.si!$A2) -> 302.8 | C2: =SUMIFS(DATA!G:G,DATA!$B:$B,somme.si!$A2) -> 299.43 | D2: =SUMIFS(DATA!H:H,DATA!$B:$B,somme.si!$A2) -> 274.72 | E2: =SUMIFS(DATA!I:I,DATA!$B:$B,somme.si!$A2) -> 144.24 | F2: =SUMIFS(DATA!J:J,DATA!$B:$B,somme.si!$A2) -> 24.32 | G2: =SUMIFS(DATA!K:K,DATA!$B:$B,somme.si!$A2) -> 9.32 | H2: =SUMIFS(DATA!L:L,DATA!$B:$B,somme.si!$A2) -> 1.92 | I2: =SUMIFS(DATA!M:M,DATA!$B:$B,somme.si!$A2) -> 0 | J2: =SUMIFS(DATA!N:N,DATA!$B:$B,somme.si!$A2) -> 0
A3: BADOIT SPARKLING | B3: =SUMIFS(DATA!F:F,DATA!$B:$B,somme.si!$A3) -> 4592.3328 | C3: =SUMIFS(DATA!G:G,DATA!$B:$B,somme.si!$A3) -> 5217.8388 | D3: =SUMIFS(DATA!H:H,DATA!$B:$B,somme.si!$A3) -> 5292.2232 | E3: =SUMIFS(DATA!I:I,DATA!$B:$B,somme.si!$A3) -> 3479.8644 | F3: =SUMIFS(DATA!J:J,DATA!$B:$B,somme.si!$A3) -> 1080.336 | G3: =SUMIFS(DATA!K:K,DATA!$B:$B,somme.si!$A3) -> 375.4224 | H3: =SUMIFS(DATA!L:L,DATA!$B:$B,somme.si!$A3) -> 242.0736 | I3: =SUMIFS(DATA!M:M,DATA!$B:$B,somme.si!$A3) -> 249.6 | J3: =SUMIFS(DATA!N:N,DATA!$B:$B,somme.si!$A3) -> 312
A4: BULLES DE FRUITS | B4: =SUMIFS(DATA!F:F,DATA!$B:$B,somme.si!$A4) -> 464.604 | C4: =SUMIFS(DATA!G:G,DATA!$B:$B,somme.si!$A4) -> 934.57248 | D4: =SUMIFS(DATA!H:H,DATA!$B:$B,somme.si!$A4) -> 523.1712 | E4: =SUMIFS(DATA!I:I,DATA!$B:$B,somme.si!$A4) -> 272.724 | F4: =SUMIFS(DATA!J:J,DATA!$B:$B,somme.si!$A4) -> 46.14192 | G4: =SUMIFS(DATA!K:K,DATA!$B:$B,somme.si!$A4) -> 17.5632 | H4: =SUMIFS(DATA!L:L,DATA!$B:$B,somme.si!$A4) -> 6.1128 | I4: =SUMIFS(DATA!M:M,DATA!$B:$B,somme.si!$A4) -> 0 | J4: =SUMIFS(DATA!N:N,DATA!$B:$B,somme.si!$A4) -> 0
A5: BULLES ET THE | B5: =SUMIFS(DATA!F:F,DATA!$B:$B,somme.si!$A5) -> 0 | C5: =SUMIFS(DATA!G:G,DATA!$B:$B,somme.si!$A5) -> 0 | D5: =SUMIFS(DATA!H:H,DATA!$B:$B,somme.si!$A5) -> 0 | E5: =SUMIFS(DATA!I:I,DATA!$B:$B,somme.si!$A5) -> 0 | F5: =SUMIFS(DATA!J:J,DATA!$B:$B,somme.si!$A5) -> 0 | G5: =SUMIFS(DATA!K:K,DATA!$B:$B,somme.si!$A5) -> 0 | H5: =SUMIFS(DATA!L:L,DATA!$B:$B,somme.si!$A5) -> 0 | I5: =SUMIFS(DATA!M:M,DATA!$B:$B,somme.si!$A5) -> 0 | J5: =SUMIFS(DATA!N:N,DATA!$B:$B,somme.si!$A5) -> 0
A6: EVIAN | B6: =SUMIFS(DATA!F:F,DATA!$B:$B,somme.si!$A6) -> 9689.6488 | C6: =SUMIFS(DATA!G:G,DATA!$B:$B,somme.si!$A6) -> 11017.118 | D6: =SUMIFS(DATA!H:H,DATA!$B:$B,somme.si!$A6) -> 10397.314 | E6: =SUMIFS(DATA!I:I,DATA!$B:$B,somme.si!$A6) -> 10061.706 | F6: =SUMIFS(DATA!J:J,DATA!$B:$B,somme.si!$A6) -> 4047.2414 | G6: =SUMIFS(DATA!K:K,DATA!$B:$B,somme.si!$A6) -> 1976.3827 | H6: =SUMIFS(DATA!L:L,DATA!$B:$B,somme.si!$A6) -> 1497.1049 | I6: =SUMIFS(DATA!M:M,DATA!$B:$B,somme.si!$A6) -> 680.3328 | J6: =SUMIFS(DATA!N:N,DATA!$B:$B,somme.si!$A6) -> 332.0592
A7: FERRARELLE | B7: =SUMIFS(DATA!F:F,DATA!$B:$B,somme.si!$A7) -> 5.445 | C7: =SUMIFS(DATA!G:G,DATA!$B:$B,somme.si!$A7) -> 5.445 | D7: =SUMIFS(DATA!H:H,DATA!$B:$B,somme.si!$A7) -> 0 | E7: =SUMIFS(DATA!I:I,DATA!$B:$B,somme.si!$A7) -> 0 | F7: =SUMIFS(DATA!J:J,DATA!$B:$B,somme.si!$A7) -> 0 | G7: =SUMIFS(DATA!K:K,DATA!$B:$B,somme.si!$A7) -> 0 | H7: =SUMIFS(DATA!L:L,DATA!$B:$B,somme.si!$A7) -> 0 | I7: =SUMIFS(DATA!M:M,DATA!$B:$B,somme.si!$A7) -> 0 | J7: =SUMIFS(DATA!N:N,DATA!$B:$B,somme.si!$A7) -> 0
A8: SALVETAT FLAVOURED | B8: =SUMIFS(DATA!F:F,DATA!$B:$B,somme.si!$A8) -> 229.132 | C8: =SUMIFS(DATA!G:G,DATA!$B:$B,somme.si!$A8) -> 673.8435 | D8: =SUMIFS(DATA!H:H,DATA!$B:$B,somme.si!$A8) -> 282.2055 | E8: =SUMIFS(DATA!I:I,DATA!$B:$B,somme.si!$A8) -> 109.962 | F8: =SUMIFS(DATA!J:J,DATA!$B:$B,somme.si!$A8) -> 15.498 | G8: =SUMIFS(DATA!K:K,DATA!$B:$B,somme.si!$A8) -> 35.254 | H8: =SUMIFS(DATA!L:L,DATA!$B:$B,somme.si!$A8) -> 30.654 | I8: =SUMIFS(DATA!M:M,DATA!$B:$B,somme.si!$A8) -> 58.192 | J8: =SUMIFS(DATA!N:N,DATA!$B:$B,somme.si!$A8) -> 1.564
A9: SALVETAT SPARKLING | B9: =SUMIFS(DATA!F:F,DATA!$B:$B,somme.si!$A9) -> 5292.7692 | C9: =SUMIFS(DATA!G:G,DATA!$B:$B,somme.si!$A9) -> 5370.456 | D9: =SUMIFS(DATA!H:H,DATA!$B:$B,somme.si!$A9) -> 5179.3668 | E9: =SUMIFS(DATA!I:I,DATA!$B:$B,somme.si!$A9) -> 2979.8508 | F9: =SUMIFS(DATA!J:J,DATA!$B:$B,somme.si!$A9) -> 729.5328 | G9: =SUMIFS(DATA!K:K,DATA!$B:$B,somme.si!$A9) -> 216.912 | H9: =SUMIFS(DATA!L:L,DATA!$B:$B,somme.si!$A9) -> 664.8672 | I9: =SUMIFS(DATA!M:M,DATA!$B:$B,somme.si!$A9) -> 850.47 | J9: =SUMIFS(DATA!N:N,DATA!$B:$B,somme.si!$A9) -> 391.92
A10: VOLVIC FLAVOURED | B10: =SUMIFS(DATA!F:F,DATA!$B:$B,somme.si!$A10) -> 673.56432 | C10: =SUMIFS(DATA!G:G,DATA!$B:$B,somme.si!$A10) -> 846.09072 | D10: =SUMIFS(DATA!H:H,DATA!$B:$B,somme.si!$A10) -> 807.26616 | E10: =SUMIFS(DATA!I:I,DATA!$B:$B,somme.si!$A10) -> 434.96016 | F10: =SUMIFS(DATA!J:J,DATA!$B:$B,somme.si!$A10) -> 167.88 | G10: =SUMIFS(DATA!K:K,DATA!$B:$B,somme.si!$A10) -> 65.02416 | H10: =SUMIFS(DATA!L:L,DATA!$B:$B,somme.si!$A10) -> 24.648 | I10: =SUMIFS(DATA!M:M,DATA!$B:$B,somme.si!$A10) -> 0 | J10: =SUMIFS(DATA!N:N,DATA!$B:$B,somme.si!$A10) -> 0
A11: VOLVIC JUICE | B11: =SUMIFS(DATA!F:F,DATA!$B:$B,somme.si!$A11) -> 949.092 | C11: =SUMIFS(DATA!G:G,DATA!$B:$B,somme.si!$A11) -> 984.83425 | D11: =SUMIFS(DATA!H:H,DATA!$B:$B,somme.si!$A11) -> 914.212 | E11: =SUMIFS(DATA!I:I,DATA!$B:$B,somme.si!$A11) -> 853.56 | F11: =SUMIFS(DATA!J:J,DATA!$B:$B,somme.si!$A11) -> 264.324 | G11: =SUMIFS(DATA!K:K,DATA!$B:$B,somme.si!$A11) -> 110.838 | H11: =SUMIFS(DATA!L:L,DATA!$B:$B,somme.si!$A11) -> 52.872 | I11: =SUMIFS(DATA!M:M,DATA!$B:$B,somme.si!$A11) -> 0 | J11: =SUMIFS(DATA!N:N,DATA!$B:$B,somme.si!$A11) -> 0
A12: VOLVIC STILL | B12: =SUMIFS(DATA!F:F,DATA!$B:$B,somme.si!$A12) -> 13031.073 | C12: =SUMIFS(DATA!G:G,DATA!$B:$B,somme.si!$A12) -> 13285.949 | D12: =SUMIFS(DATA!H:H,DATA!$B:$B,somme.si!$A12) -> 12010.19 | E12: =SUMIFS(DATA!I:I,DATA!$B:$B,somme.si!$A12) -> 9587.316 | F12: =SUMIFS(DATA!J:J,DATA!$B:$B,somme.si!$A12) -> 5591.4843 | G12: =SUMIFS(DATA!K:K,DATA!$B:$B,somme.si!$A12) -> 1625.28 | H12: =SUMIFS(DATA!L:L,DATA!$B:$B,somme.si!$A12) -> 1255.944 | I12: =SUMIFS(DATA!M:M,DATA!$B:$B,somme.si!$A12) -> 976.464 | J12: =SUMIFS(DATA!N:N,DATA!$B:$B,somme.si!$A12) -> 1085.088
A13: VOLVIC TEA | B13: =SUMIFS(DATA!F:F,DATA!$B:$B,somme.si!$A13) -> 0 | C13: =SUMIFS(DATA!G:G,DATA!$B:$B,somme.si!$A13) -> 0 | D13: =SUMIFS(DATA!H:H,DATA!$B:$B,somme.si!$A13) -> 0 | E13: =SUMIFS(DATA!I:I,DATA!$B:$B,somme.si!$A13) -> 0 | F13: =SUMIFS(DATA!J:J,DATA!$B:$B,somme.si!$A13) -> 0 | G13: =SUMIFS(DATA!K:K,DATA!$B:$B,somme.si!$A13) -> 0 | H13: =SUMIFS(DATA!L:L,DATA!$B:$B,somme.si!$A13) -> 0 | I13: =SUMIFS(DATA!M:M,DATA!$B:$B,somme.si!$A13) -> 0 | J13: =SUMIFS(DATA!N:N,DATA!$B:$B,somme.si!$A13) -> 0
A24: Badoit | B24: Total
A25: W31 2022 | B25: =SUMIFS(DATA!F:F,DATA!$B:$B,somme.si!$A2) -> 302.8
A26: W32 2022 | B26: =SUMIFS(DATA!F:F,DATA!$B:$B,somme.si!$A3) -> 4592.3328
A27: W33 2022 | B27: 274.72
A28: W34 2022 | B28: 144.24
A29: W35 2022 | B29: 24.32
A30: W36 2022 | B30: 9.32
A31: W37 2022 | B31: 1.92
A32: W38 2022 | B32: 0
A33: W39 2022 | B33: 0
