Workbook
Name Segment_Machine: #N/A

Sheet JANV
B2: Date | C2: machine | D2: durée en Hrs | E2: détail
B3: 44206 | C3: Segepar | D3: 0.5 | E3: perte étiquette sabot, voir BT28562
B4: 44214 | C4: Bema LS | D4: 1 | E4: vis cassé sur pince prise housse
B5: 44508 | C5: Etiqueteuse 34 | D5: 0.5 | E5: vfzv
B6: 24 | C6: Bema LS | D6: 1
B7: 44214 | C7: Etiqueteuse 34 | D7: 1 | E7: g
E34: compteur decembre n-1 = | F34: 1200
E35: COMPTEUR SOUFFLEUSES ( PRIS LE DERNIER JOUR DU MOIS) = | F35: 1682
E36: TOTAL OUVERTURE LIGNE EN HEURES = | F36: =SUM(F35-F34) -> 482
E37: MTBF fevrier = | F37: =IFERROR(SUM(F36/COUNTA(Janv[durée en Hrs])),0) -> 96.4 | G37: c'est moyenne de temps entre 2 pannes
E38: MTTR fevrier = | F38: =IFERROR((SUM(Janv[durée en Hrs])/(COUNTA(Janv[durée en Hrs]))),0) -> 0.8 | G38: c'est le temps moyen de dépannage d'une machine
E39: DISPONIBILITE = | F39: =IFERROR(SUM((F37/(F38+F37))*100),100) -> 99.176955 | G39: % de chance que la ligne soit disponible a un intant T

Sheet FEV
B2: Date | C2: machine | D2: durée en Hrs | E2: détail
B3: 44593 | C3: Conv BTES | D3: 1
C4: Segepar | D4: 1 | I4: ="Sur 100% des pannes de "&TEXT(B3,"mmmm") -> Sur 100% des pannes de février
C5: Conv BTES | D5: 1
I6: Étiquettes de lignes | J6: Somme de durée en Hrs
I7: Conv BTES | J7: 2
I8: Segepar | J8: 1
I9: Total général | J9: 3
F35: COMPTEUR SOUFFLEUSES ( PRIS LE DERNIER JOUR DU MOIS) = | G35: 1800
F36: TOTAL OUVERTURE LIGNE EN HEURES = | G36: =SUM(G35-JANV!F35) -> 118
F37: MTBF fevrier = | G37: =IFERROR(SUM(G36/COUNTA(FEV[durée en Hrs])),0) -> 39.333333 | H37: c'est moyenne de temps entre 2 pannes
F38: MTTR fevrier = | G38: =IFERROR((SUM(FEV[durée en Hrs])/(COUNTA(FEV[durée en Hrs]))),0) -> 1 | H38: c'est le temps moyen de dépannage d'une machine
F39: DISPONIBILITE = | G39: =IFERROR(SUM((G37/(G38+G37))*100),100) -> 97.520661 | H39: % de chance que la ligne soit disponible a un intant T

Sheet MARS
B2: Date | C2: machine | D2: durée en Hrs | E2: détail
F35: COMPTEUR SOUFFLEUSES ( PRIS LE DERNIER JOUR DU MOIS) = | G35: 1900
F36: TOTAL OUVERTURE LIGNE EN HEURES = | G36: =SUM(G35-FEV!G35) -> 100
F37: MTBF MARS = | G37: =IFERROR(SUM(G36/COUNTA(Mars[durée en Hrs])),0) -> 0 | H37: c'est moyenne de temps entre 2 pannes
F38: MTTR MARS = | G38: =IFERROR((SUM(Mars[durée en Hrs])/(COUNTA(Mars[durée en Hrs]))),0) -> 0 | H38: c'est le temps moyen de dépannage d'une machine
F39: DISPONIBILITE = | G39: =IFERROR(SUM((G37/(G38+G37))*100),100) -> 100 | H39: % de chance que la ligne soit disponible a un intant T

Sheet AVRIL
B2: Date | C2: machine | D2: durée en Hrs | E2: détail
F35: COMPTEUR SOUFFLEUSES ( PRIS LE DERNIER JOUR DU MOIS) = | G35: 1910
F36: TOTAL OUVERTURE LIGNE EN HEURES = | G36: =SUM(G35-MARS!G35) -> 10
F37: MTBF AVRIL = | G37: =IFERROR(SUM(G36/COUNTA(AVRIL[durée en Hrs])),0) -> 0 | H37: c'est moyenne de temps entre 2 pannes
F38: MTTR AVRIL = | G38: =IFERROR((SUM(AVRIL[durée en Hrs])/(COUNTA(AVRIL[durée en Hrs]))),0) -> 0 | H38: c'est le temps moyen de dépannage d'une machine
F39: DISPONIBILITE = | G39: =IFERROR(SUM((G37/(G38+G37))*100),100) -> 100 | H39: % de chance que la ligne soit disponible a un intant T

Sheet MAI
B2: Date | C2: machine | D2: durée en Hrs | E2: détail
G35: COMPTEUR SOUFFLEUSES ( PRIS LE DERNIER JOUR DU MOIS) = | H35: 1930
G36: TOTAL OUVERTURE LIGNE EN HEURES = | H36: =SUM(H35-AVRIL!G35) -> 20
G37: MTBF MAI = | H37: =IFERROR(SUM(H36/COUNTA(MAI[durée en Hrs])),0) -> 0 | I37: c'est moyenne de temps entre 2 pannes
G38: MTTR MAI = | H38: =IFERROR((SUM(MAI[durée en Hrs])/(COUNTA(MAI[durée en Hrs]))),0) -> 0 | I38: c'est le temps moyen de dépannage d'une machine
G39: DISPONIBILITE = | H39: =IFERROR(SUM((H37/(H38+H37))*100),100) -> 100 | I39: % de chance que la ligne soit disponible a un intant T

Sheet JUIN
B2: Date | C2: machine | D2: durée en Hrs | E2: détail
F35: COMPTEUR SOUFFLEUSES ( PRIS LE DERNIER JOUR DU MOIS) = | G35: 1950
F36: TOTAL OUVERTURE LIGNE EN HEURES = | G36: =SUM(G35-MAI!H35) -> 20
F37: MTBF JUIN = | G37: =IFERROR(SUM(G36/COUNTA(Juin[durée en Hrs])),0) -> 0 | H37: c'est moyenne de temps entre 2 pannes
F38: MTTR JUIN = | G38: =IFERROR((SUM(Juin[durée en Hrs])/(COUNTA(Juin[durée en Hrs]))),0) -> 0 | H38: c'est le temps moyen de dépannage d'une machine
F39: DISPONIBILITE = | G39: =IFERROR(SUM((G37/(G38+G37))*100),100) -> 100 | H39: % de chance que la ligne soit disponible a un intant T

Sheet JUILLET
B2: Date | C2: machine | D2: durée en Hrs | E2: détail
G35: COMPTEUR SOUFFLEUSES ( PRIS LE DERNIER JOUR DU MOIS) = | H35: 1955
G36: TOTAL OUVERTURE LIGNE EN HEURES = | H36: =SUM(H35-JUIN!G35) -> 5
G37: MTBF JUILLET = | H37: =IFERROR(SUM(H36/COUNTA(JUILLIET[durée en Hrs])),0) -> 0 | I37: c'est moyenne de temps entre 2 pannes
G38: MTTR JUILLET = | H38: =IFERROR((SUM(JUILLIET[durée en Hrs])/(COUNTA(JUILLIET[durée en Hrs]))),0) -> 0 | I38: c'est le temps moyen de dépannage d'une machine
G39: DISPONIBILITE = | H39: =IFERROR(SUM((H37/(H38+H37))*100),100) -> 100 | I39: % de chance que la ligne soit disponible a un intant T

Sheet AOUT
B2: Date | C2: machine | D2: durée en Hrs | E2: détail
F35: COMPTEUR SOUFFLEUSES ( PRIS LE DERNIER JOUR DU MOIS) = | G35: 1970
F36: TOTAL OUVERTURE LIGNE EN HEURES = | G36: =SUM(G35-JUILLET!H35) -> 15
F37: MTBF AOUT = | G37: =IFERROR(SUM(G36/COUNTA(AOUT[durée en Hrs])),0) -> 0 | H37: c'est moyenne de temps entre 2 pannes
F38: MTTR AOUT = | G38: =IFERROR((SUM(AOUT[durée en Hrs])/(COUNTA(AOUT[durée en Hrs]))),0) -> 0 | H38: c'est le temps moyen de dépannage d'une machine
F39: DISPONIBILITE = | G39: =IFERROR(SUM((G37/(G38+G37))*100),100) -> 100 | H39: % de chance que la ligne soit disponible a un intant T

Sheet SEPTEMBRE
B2: Date | C2: machine | D2: durée en Hrs | E2: détail
F35: COMPTEUR SOUFFLEUSES ( PRIS LE DERNIER JOUR DU MOIS) = | G35: 1980
F36: TOTAL OUVERTURE LIGNE EN HEURES = | G36: =SUM(G35-AOUT!G35) -> 10
F37: MTBF SEPTEMBRE = | G37: =IFERROR(SUM(G36/COUNTA(SEPTEMBRE[durée en Hrs])),0) -> 0 | H37: c'est moyenne de temps entre 2 pannes
F38: MTTR SEPTEMBRE = | G38: =IFERROR((SUM(SEPTEMBRE[durée en Hrs])/(COUNTA(SEPTEMBRE[durée en Hrs]))),0) -> 0 | H38: c'est le temps moyen de dépannage d'une machine
F39: DISPONIBILITE = | G39: =IFERROR(SUM((G37/(G38+G37))*100),100) -> 100 | H39: % de chance que la ligne soit disponible a un intant T

Sheet OCTOBRE
B2: Date | C2: machine | D2: durée en Hrs | E2: détail
F35: COMPTEUR SOUFFLEUSES ( PRIS LE DERNIER JOUR DU MOIS) = | G35: 2000
F36: TOTAL OUVERTURE LIGNE EN HEURES = | G36: =SUM(G35-SEPTEMBRE!G35) -> 20
F37: MTBF OCTOBRE = | G37: =IFERROR(SUM(G36/COUNTA(OCTOBRE[durée en Hrs])),0) -> 0 | H37: c'est moyenne de temps entre 2 pannes
F38: MTTR OCTOBRE = | G38: =IFERROR((SUM(OCTOBRE[durée en Hrs])/(COUNTA(OCTOBRE[durée en Hrs]))),0) -> 0 | H38: c'est le temps moyen de dépannage d'une machine
F39: DISPONIBILITE = | G39: =IFERROR(SUM((G37/(G38+G37))*100),100) -> 100 | H39: % de chance que la ligne soit disponible a un intant T

Sheet NOVEMBRE
B2: Date | C2: machine | D2: durée en Hrs | E2: détail
F35: COMPTEUR SOUFFLEUSES ( PRIS LE DERNIER JOUR DU MOIS) = | G35: 2030
F36: TOTAL OUVERTURE LIGNE EN HEURES = | G36: =SUM(G35-OCTOBRE!G35) -> 30
F37: MTBF NOVEMBRE = | G37: =IFERROR(SUM(G36/COUNTA(NOVEMBRE[durée en Hrs])),0) -> 0 | H37: c'est moyenne de temps entre 2 pannes
F38: MTTR NOVEMBRE = | G38: =IFERROR((SUM(NOVEMBRE[durée en Hrs])/(COUNTA(NOVEMBRE[durée en Hrs]))),0) -> 0 | H38: c'est le temps moyen de dépannage d'une machine
F39: DISPONIBILITE = | G39: =IFERROR(SUM((G37/(G38+G37))*100),100) -> 100 | H39: % de chance que la ligne soit disponible a un intant T

Sheet DECEMBRE
B2: Date | C2: machine | D2: durée en Hrs | E2: détail
F35: COMPTEUR SOUFFLEUSES ( PRIS LE DERNIER JOUR DU MOIS) = | G35: 2050
F36: TOTAL OUVERTURE LIGNE EN HEURES = | G36: =SUM(G35-NOVEMBRE!G35) -> 20
F37: MTBF DECEMBRE = | G37: =IFERROR(SUM(G36/COUNTA(DECEMBRE[durée en Hrs])),0) -> 0 | H37: c'est moyenne de temps entre 2 pannes
F38: MTTR DECEMBRE = | G38: =IFERROR((SUM(DECEMBRE[durée en Hrs])/(COUNTA(DECEMBRE[durée en Hrs]))),0) -> 0 | H38: c'est le temps moyen de dépannage d'une machine
F39: DISPONIBILITE = | G39: =IFERROR(SUM((G37/(G38+G37))*100),100) -> 100 | H39: % de chance que la ligne soit disponible a un intant T

Sheet DATA
A3: compteur combi : | B3: =SUM(JANV!F35) -> 1682 | C3: =SUM(FEV!G35) -> 1800 | D3: =SUM(MARS!G35) -> 1900 | E3: =SUM(AVRIL!G35) -> 1910 | F3: =SUM(MAI!H35) -> 1930 | G3: =SUM(JUIN!G35) -> 1950 | H3: =SUM(JUILLET!H35) -> 1955 | I3: =SUM(AOUT!G35) -> 1970 | J3: =SUM(SEPTEMBRE!G35) -> 1980 | K3: =SUM(OCTOBRE!G35) -> 2000 | L3: =SUM(NOVEMBRE!G35) -> 2030 | M3: =SUM(DECEMBRE!G35) -> 2050
B5: Nombre d'heure de panne mensuel
A6: Machine | B6: janv | C6: fev | D6: mars | E6: avril | F6: mai | G6: juin | H6: juilliet | I6: aout | J6: septembre | K6: octobre | L6: novembre | M6: decembre | N6: total année
A7: Salle des eaux | B7: =SUMIFS(INDIRECT(B$6&"[[durée en Hrs]:[durée en Hrs]]"),INDIRECT(B$6&"[[machine]:[machine]]"),Data[[Machine]:[Machine]]) -> 0 | C7: =SUMIFS(INDIRECT(C$6&"[[durée en Hrs]:[durée en Hrs]]"),INDIRECT(C$6&"[[machine]:[machine]]"),Data[[Machine]:[Machine]]) -> 0 | D7: =SUMIFS(INDIRECT(D$6&"[[durée en Hrs]:[durée en Hrs]]"),INDIRECT(D$6&"[[machine]:[machine]]"),Data[[Machine]:[Machine]]) -> 0 | E7: =SUMIFS(INDIRECT(E$6&"[[durée en Hrs]:[durée en Hrs]]"),INDIRECT(E$6&"[[machine]:[machine]]"),Data[[Machine]:[Machine]]) -> 0 | F7: =SUMIFS(INDIRECT(F$6&"[[durée en Hrs]:[durée en Hrs]]"),INDIRECT(F$6&"[[machine]:[machine]]"),Data[[Machine]:[Machine]]) -> 0 | G7: =SUMIFS(INDIRECT(G$6&"[[durée en Hrs]:[durée en Hrs]]"),INDIRECT(G$6&"[[machine]:[machine]]"),Data[[Machine]:[Machine]]) -> 0 | H7: =SUMIFS(INDIRECT(H$6&"[[durée en Hrs]:[durée en Hrs]]"),INDIRECT(H$6&"[[machine]:[machine]]"),Data[[Machine]:[Machine]]) -> 0 | I7: =SUMIFS(INDIRECT(I$6&"[[durée en Hrs]:[durée en Hrs]]"),INDIRECT(I$6&"[[machine]:[machine]]"),Data[[Machine]:[Machine]]) -> 0 | ... M7: =SUMIFS(INDIRECT(M$6&"[[durée en Hrs]:[durée en Hrs]]"),INDIRECT(M$6&"[[machine]:[machine]]"),Data[[Machine]:[Machine]]) -> 0 | N7: =SUM(Data[[#This Row],[janv]:[decembre]]) -> 0
A8: Imeca | B8: =SUMIFS(INDIRECT(B$6&"[[durée en Hrs]:[durée en Hrs]]"),INDIRECT(B$6&"[[machine]:[machine]]"),Data[[Machine]:[Machine]]) -> 0 | C8: =SUMIFS(INDIRECT(C$6&"[[durée en Hrs]:[durée en Hrs]]"),INDIRECT(C$6&"[[machine]:[machine]]"),Data[[Machine]:[Machine]]) -> 0 | D8: =SUMIFS(INDIRECT(D$6&"[[durée en Hrs]:[durée en Hrs]]"),INDIRECT(D$6&"[[machine]:[machine]]"),Data[[Machine]:[Machine]]) -> 0 | E8: =SUMIFS(INDIRECT(E$6&"[[durée en Hrs]:[durée en Hrs]]"),INDIRECT(E$6&"[[machine]:[machine]]"),Data[[Machine]:[Machine]]) -> 0 | F8: =SUMIFS(INDIRECT(F$6&"[[durée en Hrs]:[durée en Hrs]]"),INDIRECT(F$6&"[[machine]:[machine]]"),Data[[Machine]:[Machine]]) -> 0 | G8: =SUMIFS(INDIRECT(G$6&"[[durée en Hrs]:[durée en Hrs]]"),INDIRECT(G$6&"[[machine]:[machine]]"),Data[[Machine]:[Machine]]) -> 0 | H8: =SUMIFS(INDIRECT(H$6&"[[durée en Hrs]:[durée en Hrs]]"),INDIRECT(H$6&"[[machine]:[machine]]"),Data[[Machine]:[Machine]]) -> 0 | I8: =SUMIFS(INDIRECT(I$6&"[[durée en Hrs]:[durée en Hrs]]"),INDIRECT(I$6&"[[machine]:[machine]]"),Data[[Machine]:[Machine]]) -> 0 | ... M8: =SUMIFS(INDIRECT(M$6&"[[durée en Hrs]:[durée en Hrs]]"),INDIRECT(M$6&"[[machine]:[machine]]"),Data[[Machine]:[Machine]]) -> 0 | N8: =SUM(Data[[#This Row],[janv]:[decembre]]) -> 0
A9: Combi | B9: =SUMIFS(INDIRECT(B$6&"[[durée en Hrs]:[durée en Hrs]]"),INDIRECT(B$6&"[[machine]:[machine]]"),Data[[Machine]:[Machine]]) -> 0 | C9: =SUMIFS(INDIRECT(C$6&"[[durée en Hrs]:[durée en Hrs]]"),INDIRECT(C$6&"[[machine]:[machine]]"),Data[[Machine]:[Machine]]) -> 0 | D9: =SUMIFS(INDIRECT(D$6&"[[durée en Hrs]:[durée en Hrs]]"),INDIRECT(D$6&"[[machine]:[machine]]"),Data[[Machine]:[Machine]]) -> 0 | E9: =SUMIFS(INDIRECT(E$6&"[[durée en Hrs]:[durée en Hrs]]"),INDIRECT(E$6&"[[machine]:[machine]]"),Data[[Machine]:[Machine]]) -> 0 | F9: =SUMIFS(INDIRECT(F$6&"[[durée en Hrs]:[durée en Hrs]]"),INDIRECT(F$6&"[[machine]:[machine]]"),Data[[Machine]:[Machine]]) -> 0 | G9: =SUMIFS(INDIRECT(G$6&"[[durée en Hrs]:[durée en Hrs]]"),INDIRECT(G$6&"[[machine]:[machine]]"),Data[[Machine]:[Machine]]) -> 0 | H9: =SUMIFS(INDIRECT(H$6&"[[durée en Hrs]:[durée en Hrs]]"),INDIRECT(H$6&"[[machine]:[machine]]"),Data[[Machine]:[Machine]]) -> 0 | I9: =SUMIFS(INDIRECT(I$6&"[[durée en Hrs]:[durée en Hrs]]"),INDIRECT(I$6&"[[machine]:[machine]]"),Data[[Machine]:[Machine]]) -> 0 | ... M9: =SUMIFS(INDIRECT(M$6&"[[durée en Hrs]:[durée en Hrs]]"),INDIRECT(M$6&"[[machine]:[machine]]"),Data[[Machine]:[Machine]]) -> 0 | N9: =SUM(Data[[#This Row],[janv]:[decembre]]) -> 0
A10: Laser | B10: =SUMIFS(INDIRECT(B$6&"[[durée en Hrs]:[durée en Hrs]]"),INDIRECT(B$6&"[[machine]:[machine]]"),Data[[Machine]:[Machine]]) -> 0 | C10: =SUMIFS(INDIRECT(C$6&"[[durée en Hrs]:[durée en Hrs]]"),INDIRECT(C$6&"[[machine]:[machine]]"),Data[[Machine]:[Machine]]) -> 0 | D10: =SUMIFS(INDIRECT(D$6&"[[durée en Hrs]:[durée en Hrs]]"),INDIRECT(D$6&"[[machine]:[machine]]"),Data[[Machine]:[Machine]]) -> 0 | E10: =SUMIFS(INDIRECT(E$6&"[[durée en Hrs]:[durée en Hrs]]"),INDIRECT(E$6&"[[machine]:[machine]]"),Data[[Machine]:[Machine]]) -> 0 | F10: =SUMIFS(INDIRECT(F$6&"[[durée en Hrs]:[durée en Hrs]]"),INDIRECT(F$6&"[[machine]:[machine]]"),Data[[Machine]:[Machine]]) -> 0 | G10: =SUMIFS(INDIRECT(G$6&"[[durée en Hrs]:[durée en Hrs]]"),INDIRECT(G$6&"[[machine]:[machine]]"),Data[[Machine]:[Machine]]) -> 0 | H10: =SUMIFS(INDIRECT(H$6&"[[durée en Hrs]:[durée en Hrs]]"),INDIRECT(H$6&"[[machine]:[machine]]"),Data[[Machine]:[Machine]]) -> 0 | I10: =SUMIFS(INDIRECT(I$6&"[[durée en Hrs]:[durée en Hrs]]"),INDIRECT(I$6&"[[machine]:[machine]]"),Data[[Machine]:[Machine]]) -> 0 | ... M10: =SUMIFS(INDIRECT(M$6&"[[durée en Hrs]:[durée en Hrs]]"),INDIRECT(M$6&"[[machine]:[machine]]"),Data[[Machine]:[Machine]]) -> 0 | N10: =SUM(Data[[#This Row],[janv]:[decembre]]) -> 0
A11: Checkmat | B11: =SUMIFS(INDIRECT(B$6&"[[durée en Hrs]:[durée en Hrs]]"),INDIRECT(B$6&"[[machine]:[machine]]"),Data[[Machine]:[Machine]]) -> 0 | C11: =SUMIFS(INDIRECT(C$6&"[[durée en Hrs]:[durée en Hrs]]"),INDIRECT(C$6&"[[machine]:[machine]]"),Data[[Machine]:[Machine]]) -> 0 | D11: =SUMIFS(INDIRECT(D$6&"[[durée en Hrs]:[durée en Hrs]]"),INDIRECT(D$6&"[[machine]:[machine]]"),Data[[Machine]:[Machine]]) -> 0 | E11: =SUMIFS(INDIRECT(E$6&"[[durée en Hrs]:[durée en Hrs]]"),INDIRECT(E$6&"[[machine]:[machine]]"),Data[[Machine]:[Machine]]) -> 0 | F11: =SUMIFS(INDIRECT(F$6&"[[durée en Hrs]:[durée en Hrs]]"),INDIRECT(F$6&"[[machine]:[machine]]"),Data[[Machine]:[Machine]]) -> 0 | G11: =SUMIFS(INDIRECT(G$6&"[[durée en Hrs]:[durée en Hrs]]"),INDIRECT(G$6&"[[machine]:[machine]]"),Data[[Machine]:[Machine]]) -> 0 | H11: =SUMIFS(INDIRECT(H$6&"[[durée en Hrs]:[durée en Hrs]]"),INDIRECT(H$6&"[[machine]:[machine]]"),Data[[Machine]:[Machine]]) -> 0 | I11: =SUMIFS(INDIRECT(I$6&"[[durée en Hrs]:[durée en Hrs]]"),INDIRECT(I$6&"[[machine]:[machine]]"),Data[[Machine]:[Machine]]) -> 0 | ... M11: =SUMIFS(INDIRECT(M$6&"[[durée en Hrs]:[durée en Hrs]]"),INDIRECT(M$6&"[[machine]:[machine]]"),Data[[Machine]:[Machine]]) -> 0 | N11: =SUM(Data[[#This Row],[janv]:[decembre]]) -> 0
A12: Etiqueteuse 34 | B12: =SUMIFS(INDIRECT(B$6&"[[durée en Hrs]:[durée en Hrs]]"),INDIRECT(B$6&"[[machine]:[machine]]"),Data[[Machine]:[Machine]]) -> 1.5 | C12: =SUMIFS(INDIRECT(C$6&"[[durée en Hrs]:[durée en Hrs]]"),INDIRECT(C$6&"[[machine]:[machine]]"),Data[[Machine]:[Machine]]) -> 0 | D12: =SUMIFS(INDIRECT(D$6&"[[durée en Hrs]:[durée en Hrs]]"),INDIRECT(D$6&"[[machine]:[machine]]"),Data[[Machine]:[Machine]]) -> 0 | E12: =SUMIFS(INDIRECT(E$6&"[[durée en Hrs]:[durée en Hrs]]"),INDIRECT(E$6&"[[machine]:[machine]]"),Data[[Machine]:[Machine]]) -> 0 | F12: =SUMIFS(INDIRECT(F$6&"[[durée en Hrs]:[durée en Hrs]]"),INDIRECT(F$6&"[[machine]:[machine]]"),Data[[Machine]:[Machine]]) -> 0 | G12: =SUMIFS(INDIRECT(G$6&"[[durée en Hrs]:[durée en Hrs]]"),INDIRECT(G$6&"[[machine]:[machine]]"),Data[[Machine]:[Machine]]) -> 0 | H12: =SUMIFS(INDIRECT(H$6&"[[durée en Hrs]:[durée en Hrs]]"),INDIRECT(H$6&"[[machine]:[machine]]"),Data[[Machine]:[Machine]]) -> 0 | I12: =SUMIFS(INDIRECT(I$6&"[[durée en Hrs]:[durée en Hrs]]"),INDIRECT(I$6&"[[machine]:[machine]]"),Data[[Machine]:[Machine]]) -> 0 | ... M12: =SUMIFS(INDIRECT(M$6&"[[durée en Hrs]:[durée en Hrs]]"),INDIRECT(M$6&"[[machine]:[machine]]"),Data[[Machine]:[Machine]]) -> 0 | N12: =SUM(Data[[#This Row],[janv]:[decembre]]) -> 1.5
A13: Etiqueteuse 35 | B13: =SUMIFS(INDIRECT(B$6&"[[durée en Hrs]:[durée en Hrs]]"),INDIRECT(B$6&"[[machine]:[machine]]"),Data[[Machine]:[Machine]]) -> 0 | C13: =SUMIFS(INDIRECT(C$6&"[[durée en Hrs]:[durée en Hrs]]"),INDIRECT(C$6&"[[machine]:[machine]]"),Data[[Machine]:[Machine]]) -> 0 | D13: =SUMIFS(INDIRECT(D$6&"[[durée en Hrs]:[durée en Hrs]]"),INDIRECT(D$6&"[[machine]:[machine]]"),Data[[Machine]:[Machine]]) -> 0 | E13: =SUMIFS(INDIRECT(E$6&"[[durée en Hrs]:[durée en Hrs]]"),INDIRECT(E$6&"[[machine]:[machine]]"),Data[[Machine]:[Machine]]) -> 0 | F13: =SUMIFS(INDIRECT(F$6&"[[durée en Hrs]:[durée en Hrs]]"),INDIRECT(F$6&"[[machine]:[machine]]"),Data[[Machine]:[Machine]]) -> 0 | G13: =SUMIFS(INDIRECT(G$6&"[[durée en Hrs]:[durée en Hrs]]"),INDIRECT(G$6&"[[machine]:[machine]]"),Data[[Machine]:[Machine]]) -> 0 | H13: =SUMIFS(INDIRECT(H$6&"[[durée en Hrs]:[durée en Hrs]]"),INDIRECT(H$6&"[[machine]:[machine]]"),Data[[Machine]:[Machine]]) -> 0 | I13: =SUMIFS(INDIRECT(I$6&"[[durée en Hrs]:[durée en Hrs]]"),INDIRECT(I$6&"[[machine]:[machine]]"),Data[[Machine]:[Machine]]) -> 0 | ... M13: =SUMIFS(INDIRECT(M$6&"[[durée en Hrs]:[durée en Hrs]]"),INDIRECT(M$6&"[[machine]:[machine]]"),Data[[Machine]:[Machine]]) -> 0 | N13: =SUM(Data[[#This Row],[janv]:[decembre]]) -> 0
A14: Fardeleuse | B14: =SUMIFS(INDIRECT(B$6&"[[durée en Hrs]:[durée en Hrs]]"),INDIRECT(B$6&"[[machine]:[machine]]"),Data[[Machine]:[Machine]]) -> 0 | C14: =SUMIFS(INDIRECT(C$6&"[[durée en Hrs]:[durée en Hrs]]"),INDIRECT(C$6&"[[machine]:[machine]]"),Data[[Machine]:[Machine]]) -> 0 | D14: =SUMIFS(INDIRECT(D$6&"[[durée en Hrs]:[durée en Hrs]]"),INDIRECT(D$6&"[[machine]:[machine]]"),Data[[Machine]:[Machine]]) -> 0 | E14: =SUMIFS(INDIRECT(E$6&"[[durée en Hrs]:[durée en Hrs]]"),INDIRECT(E$6&"[[machine]:[machine]]"),Data[[Machine]:[Machine]]) -> 0 | F14: =SUMIFS(INDIRECT(F$6&"[[durée en Hrs]:[durée en Hrs]]"),INDIRECT(F$6&"[[machine]:[machine]]"),Data[[Machine]:[Machine]]) -> 0 | G14: =SUMIFS(INDIRECT(G$6&"[[durée en Hrs]:[durée en Hrs]]"),INDIRECT(G$6&"[[machine]:[machine]]"),Data[[Machine]:[Machine]]) -> 0 | H14: =SUMIFS(INDIRECT(H$6&"[[durée en Hrs]:[durée en Hrs]]"),INDIRECT(H$6&"[[machine]:[machine]]"),Data[[Machine]:[Machine]]) -> 0 | I14: =SUMIFS(INDIRECT(I$6&"[[durée en Hrs]:[durée en Hrs]]"),INDIRECT(I$6&"[[machine]:[machine]]"),Data[[Machine]:[Machine]]) -> 0 | ... M14: =SUMIFS(INDIRECT(M$6&"[[durée en Hrs]:[durée en Hrs]]"),INDIRECT(M$6&"[[machine]:[machine]]"),Data[[Machine]:[Machine]]) -> 0 | N14: =SUM(Data[[#This Row],[janv]:[decembre]]) -> 0
A15: Surfilmeuse | B15: =SUMIFS(INDIRECT(B$6&"[[durée en Hrs]:[durée en Hrs]]"),INDIRECT(B$6&"[[machine]:[machine]]"),Data[[Machine]:[Machine]]) -> 0 | C15: =SUMIFS(INDIRECT(C$6&"[[durée en Hrs]:[durée en Hrs]]"),INDIRECT(C$6&"[[machine]:[machine]]"),Data[[Machine]:[Machine]]) -> 0 | D15: =SUMIFS(INDIRECT(D$6&"[[durée en Hrs]:[durée en Hrs]]"),INDIRECT(D$6&"[[machine]:[machine]]"),Data[[Machine]:[Machine]]) -> 0 | E15: =SUMIFS(INDIRECT(E$6&"[[durée en Hrs]:[durée en Hrs]]"),INDIRECT(E$6&"[[machine]:[machine]]"),Data[[Machine]:[Machine]]) -> 0 | F15: =SUMIFS(INDIRECT(F$6&"[[durée en Hrs]:[durée en Hrs]]"),INDIRECT(F$6&"[[machine]:[machine]]"),Data[[Machine]:[Machine]]) -> 0 | G15: =SUMIFS(INDIRECT(G$6&"[[durée en Hrs]:[durée en Hrs]]"),INDIRECT(G$6&"[[machine]:[machine]]"),Data[[Machine]:[Machine]]) -> 0 | H15: =SUMIFS(INDIRECT(H$6&"[[durée en Hrs]:[durée en Hrs]]"),INDIRECT(H$6&"[[machine]:[machine]]"),Data[[Machine]:[Machine]]) -> 0 | I15: =SUMIFS(INDIRECT(I$6&"[[durée en Hrs]:[durée en Hrs]]"),INDIRECT(I$6&"[[machine]:[machine]]"),Data[[Machine]:[Machine]]) -> 0 | ... M15: =SUMIFS(INDIRECT(M$6&"[[durée en Hrs]:[durée en Hrs]]"),INDIRECT(M$6&"[[machine]:[machine]]"),Data[[Machine]:[Machine]]) -> 0 | N15: =SUM(Data[[#This Row],[janv]:[decembre]]) -> 0
A16: Poigneteuse | B16: =SUMIFS(INDIRECT(B$6&"[[durée en Hrs]:[durée en Hrs]]"),INDIRECT(B$6&"[[machine]:[machine]]"),Data[[Machine]:[Machine]]) -> 0 | C16: =SUMIFS(INDIRECT(C$6&"[[durée en Hrs]:[durée en Hrs]]"),INDIRECT(C$6&"[[machine]:[machine]]"),Data[[Machine]:[Machine]]) -> 0 | D16: =SUMIFS(INDIRECT(D$6&"[[durée en Hrs]:[durée en Hrs]]"),INDIRECT(D$6&"[[machine]:[machine]]"),Data[[Machine]:[Machine]]) -> 0 | E16: =SUMIFS(INDIRECT(E$6&"[[durée en Hrs]:[durée en Hrs]]"),INDIRECT(E$6&"[[machine]:[machine]]"),Data[[Machine]:[Machine]]) -> 0 | F16: =SUMIFS(INDIRECT(F$6&"[[durée en Hrs]:[durée en Hrs]]"),INDIRECT(F$6&"[[machine]:[machine]]"),Data[[Machine]:[Machine]]) -> 0 | G16: =SUMIFS(INDIRECT(G$6&"[[durée en Hrs]:[durée en Hrs]]"),INDIRECT(G$6&"[[machine]:[machine]]"),Data[[Machine]:[Machine]]) -> 0 | H16: =SUMIFS(INDIRECT(H$6&"[[durée en Hrs]:[durée en Hrs]]"),INDIRECT(H$6&"[[machine]:[machine]]"),Data[[Machine]:[Machine]]) -> 0 | I16: =SUMIFS(INDIRECT(I$6&"[[durée en Hrs]:[durée en Hrs]]"),INDIRECT(I$6&"[[machine]:[machine]]"),Data[[Machine]:[Machine]]) -> 0 | ... M16: =SUMIFS(INDIRECT(M$6&"[[durée en Hrs]:[durée en Hrs]]"),INDIRECT(M$6&"[[machine]:[machine]]"),Data[[Machine]:[Machine]]) -> 0 | N16: =SUM(Data[[#This Row],[janv]:[decembre]]) -> 0
A17: Palettiseur | B17: =SUMIFS(INDIRECT(B$6&"[[durée en Hrs]:[durée en Hrs]]"),INDIRECT(B$6&"[[machine]:[machine]]"),Data[[Machine]:[Machine]]) -> 0 | C17: =SUMIFS(INDIRECT(C$6&"[[durée en Hrs]:[durée en Hrs]]"),INDIRECT(C$6&"[[machine]:[machine]]"),Data[[Machine]:[Machine]]) -> 0 | D17: =SUMIFS(INDIRECT(D$6&"[[durée en Hrs]:[durée en Hrs]]"),INDIRECT(D$6&"[[machine]:[machine]]"),Data[[Machine]:[Machine]]) -> 0 | E17: =SUMIFS(INDIRECT(E$6&"[[durée en Hrs]:[durée en Hrs]]"),INDIRECT(E$6&"[[machine]:[machine]]"),Data[[Machine]:[Machine]]) -> 0 | F17: =SUMIFS(INDIRECT(F$6&"[[durée en Hrs]:[durée en Hrs]]"),INDIRECT(F$6&"[[machine]:[machine]]"),Data[[Machine]:[Machine]]) -> 0 | G17: =SUMIFS(INDIRECT(G$6&"[[durée en Hrs]:[durée en Hrs]]"),INDIRECT(G$6&"[[machine]:[machine]]"),Data[[Machine]:[Machine]]) -> 0 | H17: =SUMIFS(INDIRECT(H$6&"[[durée en Hrs]:[durée en Hrs]]"),INDIRECT(H$6&"[[machine]:[machine]]"),Data[[Machine]:[Machine]]) -> 0 | I17: =SUMIFS(INDIRECT(I$6&"[[durée en Hrs]:[durée en Hrs]]"),INDIRECT(I$6&"[[machine]:[machine]]"),Data[[Machine]:[Machine]]) -> 0 | ... M17: =SUMIFS(INDIRECT(M$6&"[[durée en Hrs]:[durée en Hrs]]"),INDIRECT(M$6&"[[machine]:[machine]]"),Data[[Machine]:[Machine]]) -> 0 | N17: =SUM(Data[[#This Row],[janv]:[decembre]]) -> 0
A18: Bema TU | B18: =SUMIFS(INDIRECT(B$6&"[[durée en Hrs]:[durée en Hrs]]"),INDIRECT(B$6&"[[machine]:[machine]]"),Data[[Machine]:[Machine]]) -> 0 | C18: =SUMIFS(INDIRECT(C$6&"[[durée en Hrs]:[durée en Hrs]]"),INDIRECT(C$6&"[[machine]:[machine]]"),Data[[Machine]:[Machine]]) -> 0 | D18: =SUMIFS(INDIRECT(D$6&"[[durée en Hrs]:[durée en Hrs]]"),INDIRECT(D$6&"[[machine]:[machine]]"),Data[[Machine]:[Machine]]) -> 0 | E18: =SUMIFS(INDIRECT(E$6&"[[durée en Hrs]:[durée en Hrs]]"),INDIRECT(E$6&"[[machine]:[machine]]"),Data[[Machine]:[Machine]]) -> 0 | F18: =SUMIFS(INDIRECT(F$6&"[[durée en Hrs]:[durée en Hrs]]"),INDIRECT(F$6&"[[machine]:[machine]]"),Data[[Machine]:[Machine]]) -> 0 | G18: =SUMIFS(INDIRECT(G$6&"[[durée en Hrs]:[durée en Hrs]]"),INDIRECT(G$6&"[[machine]:[machine]]"),Data[[Machine]:[Machine]]) -> 0 | H18: =SUMIFS(INDIRECT(H$6&"[[durée en Hrs]:[durée en Hrs]]"),INDIRECT(H$6&"[[machine]:[machine]]"),Data[[Machine]:[Machine]]) -> 0 | I18: =SUMIFS(INDIRECT(I$6&"[[durée en Hrs]:[durée en Hrs]]"),INDIRECT(I$6&"[[machine]:[machine]]"),Data[[Machine]:[Machine]]) -> 0 | ... M18: =SUMIFS(INDIRECT(M$6&"[[durée en Hrs]:[durée en Hrs]]"),INDIRECT(M$6&"[[machine]:[machine]]"),Data[[Machine]:[Machine]]) -> 0 | N18: =SUM(Data[[#This Row],[janv]:[decembre]]) -> 0
... A22: Conv Pack | B22: =SUMIFS(INDIRECT(B$6&"[[durée en Hrs]:[durée en Hrs]]"),INDIRECT(B$6&"[[machine]:[machine]]"),Data[[Machine]:[Machine]]) -> 0 | C22: =SUMIFS(INDIRECT(C$6&"[[durée en Hrs]:[durée en Hrs]]"),INDIRECT(C$6&"[[machine]:[machine]]"),Data[[Machine]:[Machine]]) -> 0 | D22: =SUMIFS(INDIRECT(D$6&"[[durée en Hrs]:[durée en Hrs]]"),INDIRECT(D$6&"[[machine]:[machine]]"),Data[[Machine]:[Machine]]) -> 0 | E22: =SUMIFS(INDIRECT(E$6&"[[durée en Hrs]:[durée en Hrs]]"),INDIRECT(E$6&"[[machine]:[machine]]"),Data[[Machine]:[Machine]]) -> 0 | F22: =SUMIFS(INDIRECT(F$6&"[[durée en Hrs]:[durée en Hrs]]"),INDIRECT(F$6&"[[machine]:[machine]]"),Data[[Machine]:[Machine]]) -> 0 | G22: =SUMIFS(INDIRECT(G$6&"[[durée en Hrs]:[durée en Hrs]]"),INDIRECT(G$6&"[[machine]:[machine]]"),Data[[Machine]:[Machine]]) -> 0 | H22: =SUMIFS(INDIRECT(H$6&"[[durée en Hrs]:[durée en Hrs]]"),INDIRECT(H$6&"[[machine]:[machine]]"),Data[[Machine]:[Machine]]) -> 0 | I22: =SUMIFS(INDIRECT(I$6&"[[durée en Hrs]:[durée en Hrs]]"),INDIRECT(I$6&"[[machine]:[machine]]"),Data[[Machine]:[Machine]]) -> 0 | ... M22: =SUMIFS(INDIRECT(M$6&"[[durée en Hrs]:[durée en Hrs]]"),INDIRECT(M$6&"[[machine]:[machine]]"),Data[[Machine]:[Machine]]) -> 0 | N22: =SUM(Data[[#This Row],[janv]:[decembre]]) -> 0
A30: disponibilité | B30: =SUM(JANV!F39) -> 99.176955 | C30: =SUM(FEV!G39) -> 97.520661 | D30: =SUM(MARS!G39) -> 100 | E30: =SUM(AVRIL!G39) -> 100 | F30: =SUM(MAI!H39) -> 100 | G30: =SUM(JUIN!G39) -> 100 | H30: =SUM(JUILLET!H39) -> 100 | I30: =SUM(AOUT!G39) -> 100 | J30: =SUM(SEPTEMBRE!G39) -> 100 | K30: =SUM(OCTOBRE!G39) -> 100 | L30: =SUM(NOVEMBRE!G39) -> 100 | M30: =SUM(DECEMBRE!G39) -> 100
A34: MDP dévérouillage | C34: 1234

Sheet Synthese
F75: NOMBRE D'HEURES DE PANNE SUR MACHINE(S) SUR UN AN
