Workbook
Name Coll: OFFSET(Paramètres!$B$3,0,0,COUNTIF(Paramètres!$B:$B,"><")-1)

Sheet rdv
A1: Index | B1: # item | C1: DATE | D1: hr debut rdv | E1: coll | F1: cli | G1: info | H1: # PRESTA
A2: =rdv!$E2&COUNTIF($E$2:E2,E2) -> Laure1 | B2: 1 | C2: 44304 | D2: 0.54166667 | E2: Laure | F2: Mme OMGBA Simone | G2: 1111111 | H2: 13
A3: =rdv!$E3&COUNTIF($E$2:E3,E3) -> Laure2 | B3: 1 | C3: 44304 | D3: 0.75 | E3: Laure | F3: Mme MEBA | G3: 1111111 | H3: 13
A4: =rdv!$E4&COUNTIF($E$2:E4,E4) -> Philip1 | B4: 1 | C4: 44305 | D4: 0.66666667 | E4: Philip | F4: Mme TATCHOU Carine | G4: 1111111 | H4: 13
A5: =rdv!$E5&COUNTIF($E$2:E5,E5) -> Clovis1 | B5: 2 | C5: 44305 | D5: 0.66666667 | E5: Clovis | F5: Mme TATCHOU Carine | G5: 1111111 | H5: 12
A6: =rdv!$E6&COUNTIF($E$2:E6,E6) -> Audrey1 | B6: 1 | C6: 44306 | D6: 0.66666667 | E6: Audrey | F6: Mme CHOUKER Yasmine | G6: 1111111 | H6: 13
A7: =rdv!$E7&COUNTIF($E$2:E7,E7) -> Philip2 | B7: 1 | C7: 44307 | D7: 0.375 | E7: Philip | F7: Mme KPODAR | G7: 1111111 | H7: 13
A8: =rdv!$E8&COUNTIF($E$2:E8,E8) -> Carolle1 | B8: 2 | C8: 44307 | D8: 0.375 | E8: Carolle | F8: Mme KPODAR | G8: 1111111 | H8: 20
A9: =rdv!$E9&COUNTIF($E$2:E9,E9) -> Philip3 | B9: 1 | C9: 44307 | D9: 0.45833333 | E9: Philip | F9: Mme LUMA | G9: 1111111 | H9: 13
A10: =rdv!$E10&COUNTIF($E$2:E10,E10) -> Olivier1 | B10: 2 | C10: 44307 | D10: 0.45833333 | E10: Olivier | F10: Mme LUMA | G10: 1111111 | H10: 23
A11: =rdv!$E11&COUNTIF($E$2:E11,E11) -> Philip4 | B11: 1 | C11: 44307 | D11: 0.66666667 | E11: Philip | F11: Mme EKANGA Julie | G11: 1111111 | H11: 13
A12: =rdv!$E12&COUNTIF($E$2:E12,E12) -> Philip5 | B12: 1 | C12: 44308 | D12: 0.375 | E12: Philip | F12: Mme NGOMA Yasmine | G12: 1111111 | H12: 13
A13: =rdv!$E13&COUNTIF($E$2:E13,E13) -> Olivier2 | B13: 2 | C13: 44308 | D13: 0.375 | E13: Olivier | F13: Mme NGOMA Yasmine | G13: 1111111 | H13: 12
... A28: =rdv!$E28&COUNTIF($E$2:E28,E28) -> Philip10 | B28: 1 | C28: 44312 | D28: 0.45833333 | E28: Philip | F28: Mme MVOM Ornella | G28: 1111111 | H28: 13

Sheet Philip
B1: coll
B2: Philip
B4: # item | C4: DATE | D4: hr debut rdv | E4: cli | F4: info | G4: # PRESTA
B5: =IFERROR(INDEX(INDIRECT("TRDV['"&B$4&"]"),MATCH($B$2&ROW($A1),TRDV[Index],0)),"") -> 1 | C5: =IFERROR(INDEX(INDIRECT("TRDV['"&C$4&"]"),MATCH($B$2&ROW($A1),TRDV[Index],0)),"") -> 44305 | D5: =IFERROR(INDEX(INDIRECT("TRDV['"&D$4&"]"),MATCH($B$2&ROW($A1),TRDV[Index],0)),"") -> 0.66666667 | E5: =IFERROR(INDEX(INDIRECT("TRDV['"&E$4&"]"),MATCH($B$2&ROW($A1),TRDV[Index],0)),"") -> Mme TATCHOU Carine | F5: =IFERROR(INDEX(INDIRECT("TRDV['"&F$4&"]"),MATCH($B$2&ROW($A1),TRDV[Index],0)),"") -> 1111111 | G5: =IFERROR(INDEX(INDIRECT("TRDV['"&G$4&"]"),MATCH($B$2&ROW($A1),TRDV[Index],0)),"") -> 13
B6: =IFERROR(INDEX(INDIRECT("TRDV['"&$B$4&"]"),MATCH($B$2&ROW($A2),TRDV[Index],0)),"") -> 1 | C6: =IFERROR(INDEX(INDIRECT("TRDV['"&C$4&"]"),MATCH($B$2&ROW($A2),TRDV[Index],0)),"") -> 44307 | D6: =IFERROR(INDEX(INDIRECT("TRDV['"&D$4&"]"),MATCH($B$2&ROW($A2),TRDV[Index],0)),"") -> 0.375 | E6: =IFERROR(INDEX(INDIRECT("TRDV['"&E$4&"]"),MATCH($B$2&ROW($A2),TRDV[Index],0)),"") -> Mme KPODAR | F6: =IFERROR(INDEX(INDIRECT("TRDV['"&F$4&"]"),MATCH($B$2&ROW($A2),TRDV[Index],0)),"") -> 1111111 | G6: =IFERROR(INDEX(INDIRECT("TRDV['"&G$4&"]"),MATCH($B$2&ROW($A2),TRDV[Index],0)),"") -> 13
B7: =IFERROR(INDEX(INDIRECT("TRDV['"&$B$4&"]"),MATCH($B$2&ROW($A3),TRDV[Index],0)),"") -> 1 | C7: =IFERROR(INDEX(INDIRECT("TRDV['"&C$4&"]"),MATCH($B$2&ROW($A3),TRDV[Index],0)),"") -> 44307 | D7: =IFERROR(INDEX(INDIRECT("TRDV['"&D$4&"]"),MATCH($B$2&ROW($A3),TRDV[Index],0)),"") -> 0.45833333 | E7: =IFERROR(INDEX(INDIRECT("TRDV['"&E$4&"]"),MATCH($B$2&ROW($A3),TRDV[Index],0)),"") -> Mme LUMA | F7: =IFERROR(INDEX(INDIRECT("TRDV['"&F$4&"]"),MATCH($B$2&ROW($A3),TRDV[Index],0)),"") -> 1111111 | G7: =IFERROR(INDEX(INDIRECT("TRDV['"&G$4&"]"),MATCH($B$2&ROW($A3),TRDV[Index],0)),"") -> 13
B8: =IFERROR(INDEX(INDIRECT("TRDV['"&$B$4&"]"),MATCH($B$2&ROW($A4),TRDV[Index],0)),"") -> 1 | C8: =IFERROR(INDEX(INDIRECT("TRDV['"&C$4&"]"),MATCH($B$2&ROW($A4),TRDV[Index],0)),"") -> 44307 | D8: =IFERROR(INDEX(INDIRECT("TRDV['"&D$4&"]"),MATCH($B$2&ROW($A4),TRDV[Index],0)),"") -> 0.66666667 | E8: =IFERROR(INDEX(INDIRECT("TRDV['"&E$4&"]"),MATCH($B$2&ROW($A4),TRDV[Index],0)),"") -> Mme EKANGA Julie | F8: =IFERROR(INDEX(INDIRECT("TRDV['"&F$4&"]"),MATCH($B$2&ROW($A4),TRDV[Index],0)),"") -> 1111111 | G8: =IFERROR(INDEX(INDIRECT("TRDV['"&G$4&"]"),MATCH($B$2&ROW($A4),TRDV[Index],0)),"") -> 13
B9: =IFERROR(INDEX(INDIRECT("TRDV['"&$B$4&"]"),MATCH($B$2&ROW($A5),TRDV[Index],0)),"") -> 1 | C9: =IFERROR(INDEX(INDIRECT("TRDV['"&C$4&"]"),MATCH($B$2&ROW($A5),TRDV[Index],0)),"") -> 44308 | D9: =IFERROR(INDEX(INDIRECT("TRDV['"&D$4&"]"),MATCH($B$2&ROW($A5),TRDV[Index],0)),"") -> 0.375 | E9: =IFERROR(INDEX(INDIRECT("TRDV['"&E$4&"]"),MATCH($B$2&ROW($A5),TRDV[Index],0)),"") -> Mme NGOMA Yasmine | F9: =IFERROR(INDEX(INDIRECT("TRDV['"&F$4&"]"),MATCH($B$2&ROW($A5),TRDV[Index],0)),"") -> 1111111 | G9: =IFERROR(INDEX(INDIRECT("TRDV['"&G$4&"]"),MATCH($B$2&ROW($A5),TRDV[Index],0)),"") -> 13
B10: =IFERROR(INDEX(INDIRECT("TRDV['"&$B$4&"]"),MATCH($B$2&ROW($A6),TRDV[Index],0)),"") -> 1 | C10: =IFERROR(INDEX(INDIRECT("TRDV['"&C$4&"]"),MATCH($B$2&ROW($A6),TRDV[Index],0)),"") -> 44308 | D10: =IFERROR(INDEX(INDIRECT("TRDV['"&D$4&"]"),MATCH($B$2&ROW($A6),TRDV[Index],0)),"") -> 0.54166667 | E10: =IFERROR(INDEX(INDIRECT("TRDV['"&E$4&"]"),MATCH($B$2&ROW($A6),TRDV[Index],0)),"") -> Mme CALISTA | F10: =IFERROR(INDEX(INDIRECT("TRDV['"&F$4&"]"),MATCH($B$2&ROW($A6),TRDV[Index],0)),"") -> 1111111 | G10: =IFERROR(INDEX(INDIRECT("TRDV['"&G$4&"]"),MATCH($B$2&ROW($A6),TRDV[Index],0)),"") -> 13
B11: =IFERROR(INDEX(INDIRECT("TRDV['"&$B$4&"]"),MATCH($B$2&ROW($A7),TRDV[Index],0)),"") -> 1 | C11: =IFERROR(INDEX(INDIRECT("TRDV['"&C$4&"]"),MATCH($B$2&ROW($A7),TRDV[Index],0)),"") -> 44309 | D11: =IFERROR(INDEX(INDIRECT("TRDV['"&D$4&"]"),MATCH($B$2&ROW($A7),TRDV[Index],0)),"") -> 0.3125 | E11: =IFERROR(INDEX(INDIRECT("TRDV['"&E$4&"]"),MATCH($B$2&ROW($A7),TRDV[Index],0)),"") -> Mme TEKOUTOU | F11: =IFERROR(INDEX(INDIRECT("TRDV['"&F$4&"]"),MATCH($B$2&ROW($A7),TRDV[Index],0)),"") -> 1111111 | G11: =IFERROR(INDEX(INDIRECT("TRDV['"&G$4&"]"),MATCH($B$2&ROW($A7),TRDV[Index],0)),"") -> 13
B12: =IFERROR(INDEX(INDIRECT("TRDV['"&$B$4&"]"),MATCH($B$2&ROW($A8),TRDV[Index],0)),"") -> 1 | C12: =IFERROR(INDEX(INDIRECT("TRDV['"&C$4&"]"),MATCH($B$2&ROW($A8),TRDV[Index],0)),"") -> 44309 | D12: =IFERROR(INDEX(INDIRECT("TRDV['"&D$4&"]"),MATCH($B$2&ROW($A8),TRDV[Index],0)),"") -> 0.75 | E12: =IFERROR(INDEX(INDIRECT("TRDV['"&E$4&"]"),MATCH($B$2&ROW($A8),TRDV[Index],0)),"") -> Mme AMA MUNA | F12: =IFERROR(INDEX(INDIRECT("TRDV['"&F$4&"]"),MATCH($B$2&ROW($A8),TRDV[Index],0)),"") -> 1111111 | G12: =IFERROR(INDEX(INDIRECT("TRDV['"&G$4&"]"),MATCH($B$2&ROW($A8),TRDV[Index],0)),"") -> 13
B13: =IFERROR(INDEX(INDIRECT("TRDV['"&$B$4&"]"),MATCH($B$2&ROW($A9),TRDV[Index],0)),"") -> 1 | C13: =IFERROR(INDEX(INDIRECT("TRDV['"&C$4&"]"),MATCH($B$2&ROW($A9),TRDV[Index],0)),"") -> 44310 | D13: =IFERROR(INDEX(INDIRECT("TRDV['"&D$4&"]"),MATCH($B$2&ROW($A9),TRDV[Index],0)),"") -> 0.66666667 | E13: =IFERROR(INDEX(INDIRECT("TRDV['"&E$4&"]"),MATCH($B$2&ROW($A9),TRDV[Index],0)),"") -> Mme GAELLE | F13: =IFERROR(INDEX(INDIRECT("TRDV['"&F$4&"]"),MATCH($B$2&ROW($A9),TRDV[Index],0)),"") -> 1111111 | G13: =IFERROR(INDEX(INDIRECT("TRDV['"&G$4&"]"),MATCH($B$2&ROW($A9),TRDV[Index],0)),"") -> 13
B14: =IFERROR(INDEX(INDIRECT("TRDV['"&$B$4&"]"),MATCH($B$2&ROW($A10),TRDV[Index],0)),"") -> 1 | C14: =IFERROR(INDEX(INDIRECT("TRDV['"&C$4&"]"),MATCH($B$2&ROW($A10),TRDV[Index],0)),"") -> 44312 | D14: =IFERROR(INDEX(INDIRECT("TRDV['"&D$4&"]"),MATCH($B$2&ROW($A10),TRDV[Index],0)),"") -> 0.45833333 | E14: =IFERROR(INDEX(INDIRECT("TRDV['"&E$4&"]"),MATCH($B$2&ROW($A10),TRDV[Index],0)),"") -> Mme MVOM Ornella | F14: =IFERROR(INDEX(INDIRECT("TRDV['"&F$4&"]"),MATCH($B$2&ROW($A10),TRDV[Index],0)),"") -> 1111111 | G14: =IFERROR(INDEX(INDIRECT("TRDV['"&G$4&"]"),MATCH($B$2&ROW($A10),TRDV[Index],0)),"") -> 13
B15: =IFERROR(INDEX(INDIRECT("TRDV['"&$B$4&"]"),MATCH($B$2&ROW($A11),TRDV[Index],0)),"") | C15: =IFERROR(INDEX(INDIRECT("TRDV['"&C$4&"]"),MATCH($B$2&ROW($A11),TRDV[Index],0)),"") | D15: =IFERROR(INDEX(INDIRECT("TRDV['"&D$4&"]"),MATCH($B$2&ROW($A11),TRDV[Index],0)),"") | E15: =IFERROR(INDEX(INDIRECT("TRDV['"&E$4&"]"),MATCH($B$2&ROW($A11),TRDV[Index],0)),"") | F15: =IFERROR(INDEX(INDIRECT("TRDV['"&F$4&"]"),MATCH($B$2&ROW($A11),TRDV[Index],0)),"") | G15: =IFERROR(INDEX(INDIRECT("TRDV['"&G$4&"]"),MATCH($B$2&ROW($A11),TRDV[Index],0)),"")
B16: =IFERROR(INDEX(INDIRECT("TRDV['"&$B$4&"]"),MATCH($B$2&ROW($A12),TRDV[Index],0)),"") | C16: =IFERROR(INDEX(INDIRECT("TRDV['"&C$4&"]"),MATCH($B$2&ROW($A12),TRDV[Index],0)),"") | D16: =IFERROR(INDEX(INDIRECT("TRDV['"&D$4&"]"),MATCH($B$2&ROW($A12),TRDV[Index],0)),"") | E16: =IFERROR(INDEX(INDIRECT("TRDV['"&E$4&"]"),MATCH($B$2&ROW($A12),TRDV[Index],0)),"") | F16: =IFERROR(INDEX(INDIRECT("TRDV['"&F$4&"]"),MATCH($B$2&ROW($A12),TRDV[Index],0)),"") | G16: =IFERROR(INDEX(INDIRECT("TRDV['"&G$4&"]"),MATCH($B$2&ROW($A12),TRDV[Index],0)),"")
B17: =IFERROR(INDEX(INDIRECT("TRDV['"&$B$4&"]"),MATCH($B$2&ROW($A13),TRDV[Index],0)),"") | C17: =IFERROR(INDEX(INDIRECT("TRDV['"&C$4&"]"),MATCH($B$2&ROW($A13),TRDV[Index],0)),"") | D17: =IFERROR(INDEX(INDIRECT("TRDV['"&D$4&"]"),MATCH($B$2&ROW($A13),TRDV[Index],0)),"") | E17: =IFERROR(INDEX(INDIRECT("TRDV['"&E$4&"]"),MATCH($B$2&ROW($A13),TRDV[Index],0)),"") | F17: =IFERROR(INDEX(INDIRECT("TRDV['"&F$4&"]"),MATCH($B$2&ROW($A13),TRDV[Index],0)),"") | G17: =IFERROR(INDEX(INDIRECT("TRDV['"&G$4&"]"),MATCH($B$2&ROW($A13),TRDV[Index],0)),"")
... B22: =IFERROR(INDEX(INDIRECT("TRDV['"&$B$4&"]"),MATCH($B$2&ROW($A18),TRDV[Index],0)),"") | C22: =IFERROR(INDEX(INDIRECT("TRDV['"&C$4&"]"),MATCH($B$2&ROW($A18),TRDV[Index],0)),"") | D22: =IFERROR(INDEX(INDIRECT("TRDV['"&D$4&"]"),MATCH($B$2&ROW($A18),TRDV[Index],0)),"") | E22: =IFERROR(INDEX(INDIRECT("TRDV['"&E$4&"]"),MATCH($B$2&ROW($A18),TRDV[Index],0)),"") | F22: =IFERROR(INDEX(INDIRECT("TRDV['"&F$4&"]"),MATCH($B$2&ROW($A18),TRDV[Index],0)),"") | G22: =IFERROR(INDEX(INDIRECT("TRDV['"&G$4&"]"),MATCH($B$2&ROW($A18),TRDV[Index],0)),"")

Sheet Audrey
B1: coll
B2: Audrey
B4: # item | C4: DATE | D4: hr debut rdv | E4: cli | F4: info | G4: # PRESTA
B5: =IFERROR(INDEX(INDIRECT("TRDV['"&B$4&"]"),MATCH($B$2&ROW($A1),TRDV[Index],0)),"") -> 1 | C5: =IFERROR(INDEX(INDIRECT("TRDV['"&C$4&"]"),MATCH($B$2&ROW($A1),TRDV[Index],0)),"") -> 44306 | D5: =IFERROR(INDEX(INDIRECT("TRDV['"&D$4&"]"),MATCH($B$2&ROW($A1),TRDV[Index],0)),"") -> 0.66666667 | E5: =IFERROR(INDEX(INDIRECT("TRDV['"&E$4&"]"),MATCH($B$2&ROW($A1),TRDV[Index],0)),"") -> Mme CHOUKER Yasmine | F5: =IFERROR(INDEX(INDIRECT("TRDV['"&F$4&"]"),MATCH($B$2&ROW($A1),TRDV[Index],0)),"") -> 1111111 | G5: =IFERROR(INDEX(INDIRECT("TRDV['"&G$4&"]"),MATCH($B$2&ROW($A1),TRDV[Index],0)),"") -> 13
B6: =IFERROR(INDEX(INDIRECT("TRDV['"&$B$4&"]"),MATCH($B$2&ROW($A2),TRDV[Index],0)),"") -> 1 | C6: =IFERROR(INDEX(INDIRECT("TRDV['"&C$4&"]"),MATCH($B$2&ROW($A2),TRDV[Index],0)),"") -> 44309 | D6: =IFERROR(INDEX(INDIRECT("TRDV['"&D$4&"]"),MATCH($B$2&ROW($A2),TRDV[Index],0)),"") -> 0.54166667 | E6: =IFERROR(INDEX(INDIRECT("TRDV['"&E$4&"]"),MATCH($B$2&ROW($A2),TRDV[Index],0)),"") -> Mme PEREM Patricia | F6: =IFERROR(INDEX(INDIRECT("TRDV['"&F$4&"]"),MATCH($B$2&ROW($A2),TRDV[Index],0)),"") -> 1111111 | G6: =IFERROR(INDEX(INDIRECT("TRDV['"&G$4&"]"),MATCH($B$2&ROW($A2),TRDV[Index],0)),"") -> 13
B7: =IFERROR(INDEX(INDIRECT("TRDV['"&$B$4&"]"),MATCH($B$2&ROW($A3),TRDV[Index],0)),"") -> 1 | C7: =IFERROR(INDEX(INDIRECT("TRDV['"&C$4&"]"),MATCH($B$2&ROW($A3),TRDV[Index],0)),"") -> 44309 | D7: =IFERROR(INDEX(INDIRECT("TRDV['"&D$4&"]"),MATCH($B$2&ROW($A3),TRDV[Index],0)),"") -> 0.6875 | E7: =IFERROR(INDEX(INDIRECT("TRDV['"&E$4&"]"),MATCH($B$2&ROW($A3),TRDV[Index],0)),"") -> Mme SITCHEPING Ariane | F7: =IFERROR(INDEX(INDIRECT("TRDV['"&F$4&"]"),MATCH($B$2&ROW($A3),TRDV[Index],0)),"") -> 1111111 | G7: =IFERROR(INDEX(INDIRECT("TRDV['"&G$4&"]"),MATCH($B$2&ROW($A3),TRDV[Index],0)),"") -> 92
B8: =IFERROR(INDEX(INDIRECT("TRDV['"&$B$4&"]"),MATCH($B$2&ROW($A4),TRDV[Index],0)),"") | C8: =IFERROR(INDEX(INDIRECT("TRDV['"&C$4&"]"),MATCH($B$2&ROW($A4),TRDV[Index],0)),"") | D8: =IFERROR(INDEX(INDIRECT("TRDV['"&D$4&"]"),MATCH($B$2&ROW($A4),TRDV[Index],0)),"") | E8: =IFERROR(INDEX(INDIRECT("TRDV['"&E$4&"]"),MATCH($B$2&ROW($A4),TRDV[Index],0)),"") | F8: =IFERROR(INDEX(INDIRECT("TRDV['"&F$4&"]"),MATCH($B$2&ROW($A4),TRDV[Index],0)),"") | G8: =IFERROR(INDEX(INDIRECT("TRDV['"&G$4&"]"),MATCH($B$2&ROW($A4),TRDV[Index],0)),"")
B9: =IFERROR(INDEX(INDIRECT("TRDV['"&$B$4&"]"),MATCH($B$2&ROW($A5),TRDV[Index],0)),"") | C9: =IFERROR(INDEX(INDIRECT("TRDV['"&C$4&"]"),MATCH($B$2&ROW($A5),TRDV[Index],0)),"") | D9: =IFERROR(INDEX(INDIRECT("TRDV['"&D$4&"]"),MATCH($B$2&ROW($A5),TRDV[Index],0)),"") | E9: =IFERROR(INDEX(INDIRECT("TRDV['"&E$4&"]"),MATCH($B$2&ROW($A5),TRDV[Index],0)),"") | F9: =IFERROR(INDEX(INDIRECT("TRDV['"&F$4&"]"),MATCH($B$2&ROW($A5),TRDV[Index],0)),"") | G9: =IFERROR(INDEX(INDIRECT("TRDV['"&G$4&"]"),MATCH($B$2&ROW($A5),TRDV[Index],0)),"")
B10: =IFERROR(INDEX(INDIRECT("TRDV['"&$B$4&"]"),MATCH($B$2&ROW($A6),TRDV[Index],0)),"") | C10: =IFERROR(INDEX(INDIRECT("TRDV['"&C$4&"]"),MATCH($B$2&ROW($A6),TRDV[Index],0)),"") | D10: =IFERROR(INDEX(INDIRECT("TRDV['"&D$4&"]"),MATCH($B$2&ROW($A6),TRDV[Index],0)),"") | E10: =IFERROR(INDEX(INDIRECT("TRDV['"&E$4&"]"),MATCH($B$2&ROW($A6),TRDV[Index],0)),"") | F10: =IFERROR(INDEX(INDIRECT("TRDV['"&F$4&"]"),MATCH($B$2&ROW($A6),TRDV[Index],0)),"") | G10: =IFERROR(INDEX(INDIRECT("TRDV['"&G$4&"]"),MATCH($B$2&ROW($A6),TRDV[Index],0)),"")
B11: =IFERROR(INDEX(INDIRECT("TRDV['"&$B$4&"]"),MATCH($B$2&ROW($A7),TRDV[Index],0)),"") | C11: =IFERROR(INDEX(INDIRECT("TRDV['"&C$4&"]"),MATCH($B$2&ROW($A7),TRDV[Index],0)),"") | D11: =IFERROR(INDEX(INDIRECT("TRDV['"&D$4&"]"),MATCH($B$2&ROW($A7),TRDV[Index],0)),"") | E11: =IFERROR(INDEX(INDIRECT("TRDV['"&E$4&"]"),MATCH($B$2&ROW($A7),TRDV[Index],0)),"") | F11: =IFERROR(INDEX(INDIRECT("TRDV['"&F$4&"]"),MATCH($B$2&ROW($A7),TRDV[Index],0)),"") | G11: =IFERROR(INDEX(INDIRECT("TRDV['"&G$4&"]"),MATCH($B$2&ROW($A7),TRDV[Index],0)),"")
B12: =IFERROR(INDEX(INDIRECT("TRDV['"&$B$4&"]"),MATCH($B$2&ROW($A8),TRDV[Index],0)),"") | C12: =IFERROR(INDEX(INDIRECT("TRDV['"&C$4&"]"),MATCH($B$2&ROW($A8),TRDV[Index],0)),"") | D12: =IFERROR(INDEX(INDIRECT("TRDV['"&D$4&"]"),MATCH($B$2&ROW($A8),TRDV[Index],0)),"") | E12: =IFERROR(INDEX(INDIRECT("TRDV['"&E$4&"]"),MATCH($B$2&ROW($A8),TRDV[Index],0)),"") | F12: =IFERROR(INDEX(INDIRECT("TRDV['"&F$4&"]"),MATCH($B$2&ROW($A8),TRDV[Index],0)),"") | G12: =IFERROR(INDEX(INDIRECT("TRDV['"&G$4&"]"),MATCH($B$2&ROW($A8),TRDV[Index],0)),"")
B13: =IFERROR(INDEX(INDIRECT("TRDV['"&$B$4&"]"),MATCH($B$2&ROW($A9),TRDV[Index],0)),"") | C13: =IFERROR(INDEX(INDIRECT("TRDV['"&C$4&"]"),MATCH($B$2&ROW($A9),TRDV[Index],0)),"") | D13: =IFERROR(INDEX(INDIRECT("TRDV['"&D$4&"]"),MATCH($B$2&ROW($A9),TRDV[Index],0)),"") | E13: =IFERROR(INDEX(INDIRECT("TRDV['"&E$4&"]"),MATCH($B$2&ROW($A9),TRDV[Index],0)),"") | F13: =IFERROR(INDEX(INDIRECT("TRDV['"&F$4&"]"),MATCH($B$2&ROW($A9),TRDV[Index],0)),"") | G13: =IFERROR(INDEX(INDIRECT("TRDV['"&G$4&"]"),MATCH($B$2&ROW($A9),TRDV[Index],0)),"")
B14: =IFERROR(INDEX(INDIRECT("TRDV['"&$B$4&"]"),MATCH($B$2&ROW($A10),TRDV[Index],0)),"") | C14: =IFERROR(INDEX(INDIRECT("TRDV['"&C$4&"]"),MATCH($B$2&ROW($A10),TRDV[Index],0)),"") | D14: =IFERROR(INDEX(INDIRECT("TRDV['"&D$4&"]"),MATCH($B$2&ROW($A10),TRDV[Index],0)),"") | E14: =IFERROR(INDEX(INDIRECT("TRDV['"&E$4&"]"),MATCH($B$2&ROW($A10),TRDV[Index],0)),"") | F14: =IFERROR(INDEX(INDIRECT("TRDV['"&F$4&"]"),MATCH($B$2&ROW($A10),TRDV[Index],0)),"") | G14: =IFERROR(INDEX(INDIRECT("TRDV['"&G$4&"]"),MATCH($B$2&ROW($A10),TRDV[Index],0)),"")
B15: =IFERROR(INDEX(INDIRECT("TRDV['"&$B$4&"]"),MATCH($B$2&ROW($A11),TRDV[Index],0)),"") | C15: =IFERROR(INDEX(INDIRECT("TRDV['"&C$4&"]"),MATCH($B$2&ROW($A11),TRDV[Index],0)),"") | D15: =IFERROR(INDEX(INDIRECT("TRDV['"&D$4&"]"),MATCH($B$2&ROW($A11),TRDV[Index],0)),"") | E15: =IFERROR(INDEX(INDIRECT("TRDV['"&E$4&"]"),MATCH($B$2&ROW($A11),TRDV[Index],0)),"") | F15: =IFERROR(INDEX(INDIRECT("TRDV['"&F$4&"]"),MATCH($B$2&ROW($A11),TRDV[Index],0)),"") | G15: =IFERROR(INDEX(INDIRECT("TRDV['"&G$4&"]"),MATCH($B$2&ROW($A11),TRDV[Index],0)),"")
B16: =IFERROR(INDEX(INDIRECT("TRDV['"&$B$4&"]"),MATCH($B$2&ROW($A12),TRDV[Index],0)),"") | C16: =IFERROR(INDEX(INDIRECT("TRDV['"&C$4&"]"),MATCH($B$2&ROW($A12),TRDV[Index],0)),"") | D16: =IFERROR(INDEX(INDIRECT("TRDV['"&D$4&"]"),MATCH($B$2&ROW($A12),TRDV[Index],0)),"") | E16: =IFERROR(INDEX(INDIRECT("TRDV['"&E$4&"]"),MATCH($B$2&ROW($A12),TRDV[Index],0)),"") | F16: =IFERROR(INDEX(INDIRECT("TRDV['"&F$4&"]"),MATCH($B$2&ROW($A12),TRDV[Index],0)),"") | G16: =IFERROR(INDEX(INDIRECT("TRDV['"&G$4&"]"),MATCH($B$2&ROW($A12),TRDV[Index],0)),"")
B17: =IFERROR(INDEX(INDIRECT("TRDV['"&$B$4&"]"),MATCH($B$2&ROW($A13),TRDV[Index],0)),"") | C17: =IFERROR(INDEX(INDIRECT("TRDV['"&C$4&"]"),MATCH($B$2&ROW($A13),TRDV[Index],0)),"") | D17: =IFERROR(INDEX(INDIRECT("TRDV['"&D$4&"]"),MATCH($B$2&ROW($A13),TRDV[Index],0)),"") | E17: =IFERROR(INDEX(INDIRECT("TRDV['"&E$4&"]"),MATCH($B$2&ROW($A13),TRDV[Index],0)),"") | F17: =IFERROR(INDEX(INDIRECT("TRDV['"&F$4&"]"),MATCH($B$2&ROW($A13),TRDV[Index],0)),"") | G17: =IFERROR(INDEX(INDIRECT("TRDV['"&G$4&"]"),MATCH($B$2&ROW($A13),TRDV[Index],0)),"")
... B22: =IFERROR(INDEX(INDIRECT("TRDV['"&$B$4&"]"),MATCH($B$2&ROW($A18),TRDV[Index],0)),"") | C22: =IFERROR(INDEX(INDIRECT("TRDV['"&C$4&"]"),MATCH($B$2&ROW($A18),TRDV[Index],0)),"") | D22: =IFERROR(INDEX(INDIRECT("TRDV['"&D$4&"]"),MATCH($B$2&ROW($A18),TRDV[Index],0)),"") | E22: =IFERROR(INDEX(INDIRECT("TRDV['"&E$4&"]"),MATCH($B$2&ROW($A18),TRDV[Index],0)),"") | F22: =IFERROR(INDEX(INDIRECT("TRDV['"&F$4&"]"),MATCH($B$2&ROW($A18),TRDV[Index],0)),"") | G22: =IFERROR(INDEX(INDIRECT("TRDV['"&G$4&"]"),MATCH($B$2&ROW($A18),TRDV[Index],0)),"")

Sheet Carolle
B1: coll
B2: Carolle
B4: # item | C4: DATE | D4: hr debut rdv | E4: cli | F4: info | G4: # PRESTA
B5: =IFERROR(INDEX(INDIRECT("TRDV['"&B$4&"]"),MATCH($B$2&ROW($A1),TRDV[Index],0)),"") -> 2 | C5: =IFERROR(INDEX(INDIRECT("TRDV['"&C$4&"]"),MATCH($B$2&ROW($A1),TRDV[Index],0)),"") -> 44307 | D5: =IFERROR(INDEX(INDIRECT("TRDV['"&D$4&"]"),MATCH($B$2&ROW($A1),TRDV[Index],0)),"") -> 0.375 | E5: =IFERROR(INDEX(INDIRECT("TRDV['"&E$4&"]"),MATCH($B$2&ROW($A1),TRDV[Index],0)),"") -> Mme KPODAR | F5: =IFERROR(INDEX(INDIRECT("TRDV['"&F$4&"]"),MATCH($B$2&ROW($A1),TRDV[Index],0)),"") -> 1111111 | G5: =IFERROR(INDEX(INDIRECT("TRDV['"&G$4&"]"),MATCH($B$2&ROW($A1),TRDV[Index],0)),"") -> 20
B6: =IFERROR(INDEX(INDIRECT("TRDV['"&$B$4&"]"),MATCH($B$2&ROW($A2),TRDV[Index],0)),"") | C6: =IFERROR(INDEX(INDIRECT("TRDV['"&C$4&"]"),MATCH($B$2&ROW($A2),TRDV[Index],0)),"") | D6: =IFERROR(INDEX(INDIRECT("TRDV['"&D$4&"]"),MATCH($B$2&ROW($A2),TRDV[Index],0)),"") | E6: =IFERROR(INDEX(INDIRECT("TRDV['"&E$4&"]"),MATCH($B$2&ROW($A2),TRDV[Index],0)),"") | F6: =IFERROR(INDEX(INDIRECT("TRDV['"&F$4&"]"),MATCH($B$2&ROW($A2),TRDV[Index],0)),"") | G6: =IFERROR(INDEX(INDIRECT("TRDV['"&G$4&"]"),MATCH($B$2&ROW($A2),TRDV[Index],0)),"")
B7: =IFERROR(INDEX(INDIRECT("TRDV['"&$B$4&"]"),MATCH($B$2&ROW($A3),TRDV[Index],0)),"") | C7: =IFERROR(INDEX(INDIRECT("TRDV['"&C$4&"]"),MATCH($B$2&ROW($A3),TRDV[Index],0)),"") | D7: =IFERROR(INDEX(INDIRECT("TRDV['"&D$4&"]"),MATCH($B$2&ROW($A3),TRDV[Index],0)),"") | E7: =IFERROR(INDEX(INDIRECT("TRDV['"&E$4&"]"),MATCH($B$2&ROW($A3),TRDV[Index],0)),"") | F7: =IFERROR(INDEX(INDIRECT("TRDV['"&F$4&"]"),MATCH($B$2&ROW($A3),TRDV[Index],0)),"") | G7: =IFERROR(INDEX(INDIRECT("TRDV['"&G$4&"]"),MATCH($B$2&ROW($A3),TRDV[Index],0)),"")
B8: =IFERROR(INDEX(INDIRECT("TRDV['"&$B$4&"]"),MATCH($B$2&ROW($A4),TRDV[Index],0)),"") | C8: =IFERROR(INDEX(INDIRECT("TRDV['"&C$4&"]"),MATCH($B$2&ROW($A4),TRDV[Index],0)),"") | D8: =IFERROR(INDEX(INDIRECT("TRDV['"&D$4&"]"),MATCH($B$2&ROW($A4),TRDV[Index],0)),"") | E8: =IFERROR(INDEX(INDIRECT("TRDV['"&E$4&"]"),MATCH($B$2&ROW($A4),TRDV[Index],0)),"") | F8: =IFERROR(INDEX(INDIRECT("TRDV['"&F$4&"]"),MATCH($B$2&ROW($A4),TRDV[Index],0)),"") | G8: =IFERROR(INDEX(INDIRECT("TRDV['"&G$4&"]"),MATCH($B$2&ROW($A4),TRDV[Index],0)),"")
B9: =IFERROR(INDEX(INDIRECT("TRDV['"&$B$4&"]"),MATCH($B$2&ROW($A5),TRDV[Index],0)),"") | C9: =IFERROR(INDEX(INDIRECT("TRDV['"&C$4&"]"),MATCH($B$2&ROW($A5),TRDV[Index],0)),"") | D9: =IFERROR(INDEX(INDIRECT("TRDV['"&D$4&"]"),MATCH($B$2&ROW($A5),TRDV[Index],0)),"") | E9: =IFERROR(INDEX(INDIRECT("TRDV['"&E$4&"]"),MATCH($B$2&ROW($A5),TRDV[Index],0)),"") | F9: =IFERROR(INDEX(INDIRECT("TRDV['"&F$4&"]"),MATCH($B$2&ROW($A5),TRDV[Index],0)),"") | G9: =IFERROR(INDEX(INDIRECT("TRDV['"&G$4&"]"),MATCH($B$2&ROW($A5),TRDV[Index],0)),"")
B10: =IFERROR(INDEX(INDIRECT("TRDV['"&$B$4&"]"),MATCH($B$2&ROW($A6),TRDV[Index],0)),"") | C10: =IFERROR(INDEX(INDIRECT("TRDV['"&C$4&"]"),MATCH($B$2&ROW($A6),TRDV[Index],0)),"") | D10: =IFERROR(INDEX(INDIRECT("TRDV['"&D$4&"]"),MATCH($B$2&ROW($A6),TRDV[Index],0)),"") | E10: =IFERROR(INDEX(INDIRECT("TRDV['"&E$4&"]"),MATCH($B$2&ROW($A6),TRDV[Index],0)),"") | F10: =IFERROR(INDEX(INDIRECT("TRDV['"&F$4&"]"),MATCH($B$2&ROW($A6),TRDV[Index],0)),"") | G10: =IFERROR(INDEX(INDIRECT("TRDV['"&G$4&"]"),MATCH($B$2&ROW($A6),TRDV[Index],0)),"")
B11: =IFERROR(INDEX(INDIRECT("TRDV['"&$B$4&"]"),MATCH($B$2&ROW($A7),TRDV[Index],0)),"") | C11: =IFERROR(INDEX(INDIRECT("TRDV['"&C$4&"]"),MATCH($B$2&ROW($A7),TRDV[Index],0)),"") | D11: =IFERROR(INDEX(INDIRECT("TRDV['"&D$4&"]"),MATCH($B$2&ROW($A7),TRDV[Index],0)),"") | E11: =IFERROR(INDEX(INDIRECT("TRDV['"&E$4&"]"),MATCH($B$2&ROW($A7),TRDV[Index],0)),"") | F11: =IFERROR(INDEX(INDIRECT("TRDV['"&F$4&"]"),MATCH($B$2&ROW($A7),TRDV[Index],0)),"") | G11: =IFERROR(INDEX(INDIRECT("TRDV['"&G$4&"]"),MATCH($B$2&ROW($A7),TRDV[Index],0)),"")
B12: =IFERROR(INDEX(INDIRECT("TRDV['"&$B$4&"]"),MATCH($B$2&ROW($A8),TRDV[Index],0)),"") | C12: =IFERROR(INDEX(INDIRECT("TRDV['"&C$4&"]"),MATCH($B$2&ROW($A8),TRDV[Index],0)),"") | D12: =IFERROR(INDEX(INDIRECT("TRDV['"&D$4&"]"),MATCH($B$2&ROW($A8),TRDV[Index],0)),"") | E12: =IFERROR(INDEX(INDIRECT("TRDV['"&E$4&"]"),MATCH($B$2&ROW($A8),TRDV[Index],0)),"") | F12: =IFERROR(INDEX(INDIRECT("TRDV['"&F$4&"]"),MATCH($B$2&ROW($A8),TRDV[Index],0)),"") | G12: =IFERROR(INDEX(INDIRECT("TRDV['"&G$4&"]"),MATCH($B$2&ROW($A8),TRDV[Index],0)),"")
B13: =IFERROR(INDEX(INDIRECT("TRDV['"&$B$4&"]"),MATCH($B$2&ROW($A9),TRDV[Index],0)),"") | C13: =IFERROR(INDEX(INDIRECT("TRDV['"&C$4&"]"),MATCH($B$2&ROW($A9),TRDV[Index],0)),"") | D13: =IFERROR(INDEX(INDIRECT("TRDV['"&D$4&"]"),MATCH($B$2&ROW($A9),TRDV[Index],0)),"") | E13: =IFERROR(INDEX(INDIRECT("TRDV['"&E$4&"]"),MATCH($B$2&ROW($A9),TRDV[Index],0)),"") | F13: =IFERROR(INDEX(INDIRECT("TRDV['"&F$4&"]"),MATCH($B$2&ROW($A9),TRDV[Index],0)),"") | G13: =IFERROR(INDEX(INDIRECT("TRDV['"&G$4&"]"),MATCH($B$2&ROW($A9),TRDV[Index],0)),"")
B14: =IFERROR(INDEX(INDIRECT("TRDV['"&$B$4&"]"),MATCH($B$2&ROW($A10),TRDV[Index],0)),"") | C14: =IFERROR(INDEX(INDIRECT("TRDV['"&C$4&"]"),MATCH($B$2&ROW($A10),TRDV[Index],0)),"") | D14: =IFERROR(INDEX(INDIRECT("TRDV['"&D$4&"]"),MATCH($B$2&ROW($A10),TRDV[Index],0)),"") | E14: =IFERROR(INDEX(INDIRECT("TRDV['"&E$4&"]"),MATCH($B$2&ROW($A10),TRDV[Index],0)),"") | F14: =IFERROR(INDEX(INDIRECT("TRDV['"&F$4&"]"),MATCH($B$2&ROW($A10),TRDV[Index],0)),"") | G14: =IFERROR(INDEX(INDIRECT("TRDV['"&G$4&"]"),MATCH($B$2&ROW($A10),TRDV[Index],0)),"")
B15: =IFERROR(INDEX(INDIRECT("TRDV['"&$B$4&"]"),MATCH($B$2&ROW($A11),TRDV[Index],0)),"") | C15: =IFERROR(INDEX(INDIRECT("TRDV['"&C$4&"]"),MATCH($B$2&ROW($A11),TRDV[Index],0)),"") | D15: =IFERROR(INDEX(INDIRECT("TRDV['"&D$4&"]"),MATCH($B$2&ROW($A11),TRDV[Index],0)),"") | E15: =IFERROR(INDEX(INDIRECT("TRDV['"&E$4&"]"),MATCH($B$2&ROW($A11),TRDV[Index],0)),"") | F15: =IFERROR(INDEX(INDIRECT("TRDV['"&F$4&"]"),MATCH($B$2&ROW($A11),TRDV[Index],0)),"") | G15: =IFERROR(INDEX(INDIRECT("TRDV['"&G$4&"]"),MATCH($B$2&ROW($A11),TRDV[Index],0)),"")
B16: =IFERROR(INDEX(INDIRECT("TRDV['"&$B$4&"]"),MATCH($B$2&ROW($A12),TRDV[Index],0)),"") | C16: =IFERROR(INDEX(INDIRECT("TRDV['"&C$4&"]"),MATCH($B$2&ROW($A12),TRDV[Index],0)),"") | D16: =IFERROR(INDEX(INDIRECT("TRDV['"&D$4&"]"),MATCH($B$2&ROW($A12),TRDV[Index],0)),"") | E16: =IFERROR(INDEX(INDIRECT("TRDV['"&E$4&"]"),MATCH($B$2&ROW($A12),TRDV[Index],0)),"") | F16: =IFERROR(INDEX(INDIRECT("TRDV['"&F$4&"]"),MATCH($B$2&ROW($A12),TRDV[Index],0)),"") | G16: =IFERROR(INDEX(INDIRECT("TRDV['"&G$4&"]"),MATCH($B$2&ROW($A12),TRDV[Index],0)),"")
B17: =IFERROR(INDEX(INDIRECT("TRDV['"&$B$4&"]"),MATCH($B$2&ROW($A13),TRDV[Index],0)),"") | C17: =IFERROR(INDEX(INDIRECT("TRDV['"&C$4&"]"),MATCH($B$2&ROW($A13),TRDV[Index],0)),"") | D17: =IFERROR(INDEX(INDIRECT("TRDV['"&D$4&"]"),MATCH($B$2&ROW($A13),TRDV[Index],0)),"") | E17: =IFERROR(INDEX(INDIRECT("TRDV['"&E$4&"]"),MATCH($B$2&ROW($A13),TRDV[Index],0)),"") | F17: =IFERROR(INDEX(INDIRECT("TRDV['"&F$4&"]"),MATCH($B$2&ROW($A13),TRDV[Index],0)),"") | G17: =IFERROR(INDEX(INDIRECT("TRDV['"&G$4&"]"),MATCH($B$2&ROW($A13),TRDV[Index],0)),"")
... B22: =IFERROR(INDEX(INDIRECT("TRDV['"&$B$4&"]"),MATCH($B$2&ROW($A18),TRDV[Index],0)),"") | C22: =IFERROR(INDEX(INDIRECT("TRDV['"&C$4&"]"),MATCH($B$2&ROW($A18),TRDV[Index],0)),"") | D22: =IFERROR(INDEX(INDIRECT("TRDV['"&D$4&"]"),MATCH($B$2&ROW($A18),TRDV[Index],0)),"") | E22: =IFERROR(INDEX(INDIRECT("TRDV['"&E$4&"]"),MATCH($B$2&ROW($A18),TRDV[Index],0)),"") | F22: =IFERROR(INDEX(INDIRECT("TRDV['"&F$4&"]"),MATCH($B$2&ROW($A18),TRDV[Index],0)),"") | G22: =IFERROR(INDEX(INDIRECT("TRDV['"&G$4&"]"),MATCH($B$2&ROW($A18),TRDV[Index],0)),"")

Sheet Olivier
B1: coll
B2: Olivier
B4: # item | C4: DATE | D4: hr debut rdv | E4: cli | F4: info | G4: # PRESTA
B5: =IFERROR(INDEX(INDIRECT("TRDV['"&B$4&"]"),MATCH($B$2&ROW($A1),TRDV[Index],0)),"") -> 2 | C5: =IFERROR(INDEX(INDIRECT("TRDV['"&C$4&"]"),MATCH($B$2&ROW($A1),TRDV[Index],0)),"") -> 44307 | D5: =IFERROR(INDEX(INDIRECT("TRDV['"&D$4&"]"),MATCH($B$2&ROW($A1),TRDV[Index],0)),"") -> 0.45833333 | E5: =IFERROR(INDEX(INDIRECT("TRDV['"&E$4&"]"),MATCH($B$2&ROW($A1),TRDV[Index],0)),"") -> Mme LUMA | F5: =IFERROR(INDEX(INDIRECT("TRDV['"&F$4&"]"),MATCH($B$2&ROW($A1),TRDV[Index],0)),"") -> 1111111 | G5: =IFERROR(INDEX(INDIRECT("TRDV['"&G$4&"]"),MATCH($B$2&ROW($A1),TRDV[Index],0)),"") -> 23
B6: =IFERROR(INDEX(INDIRECT("TRDV['"&$B$4&"]"),MATCH($B$2&ROW($A2),TRDV[Index],0)),"") -> 2 | C6: =IFERROR(INDEX(INDIRECT("TRDV['"&C$4&"]"),MATCH($B$2&ROW($A2),TRDV[Index],0)),"") -> 44308 | D6: =IFERROR(INDEX(INDIRECT("TRDV['"&D$4&"]"),MATCH($B$2&ROW($A2),TRDV[Index],0)),"") -> 0.375 | E6: =IFERROR(INDEX(INDIRECT("TRDV['"&E$4&"]"),MATCH($B$2&ROW($A2),TRDV[Index],0)),"") -> Mme NGOMA Yasmine | F6: =IFERROR(INDEX(INDIRECT("TRDV['"&F$4&"]"),MATCH($B$2&ROW($A2),TRDV[Index],0)),"") -> 1111111 | G6: =IFERROR(INDEX(INDIRECT("TRDV['"&G$4&"]"),MATCH($B$2&ROW($A2),TRDV[Index],0)),"") -> 12
B7: =IFERROR(INDEX(INDIRECT("TRDV['"&$B$4&"]"),MATCH($B$2&ROW($A3),TRDV[Index],0)),"") -> 2 | C7: =IFERROR(INDEX(INDIRECT("TRDV['"&C$4&"]"),MATCH($B$2&ROW($A3),TRDV[Index],0)),"") -> 44309 | D7: =IFERROR(INDEX(INDIRECT("TRDV['"&D$4&"]"),MATCH($B$2&ROW($A3),TRDV[Index],0)),"") -> 0.75 | E7: =IFERROR(INDEX(INDIRECT("TRDV['"&E$4&"]"),MATCH($B$2&ROW($A3),TRDV[Index],0)),"") -> Mme AMA MUNA | F7: =IFERROR(INDEX(INDIRECT("TRDV['"&F$4&"]"),MATCH($B$2&ROW($A3),TRDV[Index],0)),"") -> 1111111 | G7: =IFERROR(INDEX(INDIRECT("TRDV['"&G$4&"]"),MATCH($B$2&ROW($A3),TRDV[Index],0)),"") -> 12
B8: =IFERROR(INDEX(INDIRECT("TRDV['"&$B$4&"]"),MATCH($B$2&ROW($A4),TRDV[Index],0)),"") -> 2 | C8: =IFERROR(INDEX(INDIRECT("TRDV['"&C$4&"]"),MATCH($B$2&ROW($A4),TRDV[Index],0)),"") -> 44310 | D8: =IFERROR(INDEX(INDIRECT("TRDV['"&D$4&"]"),MATCH($B$2&ROW($A4),TRDV[Index],0)),"") -> 0.66666667 | E8: =IFERROR(INDEX(INDIRECT("TRDV['"&E$4&"]"),MATCH($B$2&ROW($A4),TRDV[Index],0)),"") -> Mme GAELLE | F8: =IFERROR(INDEX(INDIRECT("TRDV['"&F$4&"]"),MATCH($B$2&ROW($A4),TRDV[Index],0)),"") -> 1111111 | G8: =IFERROR(INDEX(INDIRECT("TRDV['"&G$4&"]"),MATCH($B$2&ROW($A4),TRDV[Index],0)),"") -> 12
B9: =IFERROR(INDEX(INDIRECT("TRDV['"&$B$4&"]"),MATCH($B$2&ROW($A5),TRDV[Index],0)),"") | C9: =IFERROR(INDEX(INDIRECT("TRDV['"&C$4&"]"),MATCH($B$2&ROW($A5),TRDV[Index],0)),"") | D9: =IFERROR(INDEX(INDIRECT("TRDV['"&D$4&"]"),MATCH($B$2&ROW($A5),TRDV[Index],0)),"") | E9: =IFERROR(INDEX(INDIRECT("TRDV['"&E$4&"]"),MATCH($B$2&ROW($A5),TRDV[Index],0)),"") | F9: =IFERROR(INDEX(INDIRECT("TRDV['"&F$4&"]"),MATCH($B$2&ROW($A5),TRDV[Index],0)),"") | G9: =IFERROR(INDEX(INDIRECT("TRDV['"&G$4&"]"),MATCH($B$2&ROW($A5),TRDV[Index],0)),"")
B10: =IFERROR(INDEX(INDIRECT("TRDV['"&$B$4&"]"),MATCH($B$2&ROW($A6),TRDV[Index],0)),"") | C10: =IFERROR(INDEX(INDIRECT("TRDV['"&C$4&"]"),MATCH($B$2&ROW($A6),TRDV[Index],0)),"") | D10: =IFERROR(INDEX(INDIRECT("TRDV['"&D$4&"]"),MATCH($B$2&ROW($A6),TRDV[Index],0)),"") | E10: =IFERROR(INDEX(INDIRECT("TRDV['"&E$4&"]"),MATCH($B$2&ROW($A6),TRDV[Index],0)),"") | F10: =IFERROR(INDEX(INDIRECT("TRDV['"&F$4&"]"),MATCH($B$2&ROW($A6),TRDV[Index],0)),"") | G10: =IFERROR(INDEX(INDIRECT("TRDV['"&G$4&"]"),MATCH($B$2&ROW($A6),TRDV[Index],0)),"")
B11: =IFERROR(INDEX(INDIRECT("TRDV['"&$B$4&"]"),MATCH($B$2&ROW($A7),TRDV[Index],0)),"") | C11: =IFERROR(INDEX(INDIRECT("TRDV['"&C$4&"]"),MATCH($B$2&ROW($A7),TRDV[Index],0)),"") | D11: =IFERROR(INDEX(INDIRECT("TRDV['"&D$4&"]"),MATCH($B$2&ROW($A7),TRDV[Index],0)),"") | E11: =IFERROR(INDEX(INDIRECT("TRDV['"&E$4&"]"),MATCH($B$2&ROW($A7),TRDV[Index],0)),"") | F11: =IFERROR(INDEX(INDIRECT("TRDV['"&F$4&"]"),MATCH($B$2&ROW($A7),TRDV[Index],0)),"") | G11: =IFERROR(INDEX(INDIRECT("TRDV['"&G$4&"]"),MATCH($B$2&ROW($A7),TRDV[Index],0)),"")
B12: =IFERROR(INDEX(INDIRECT("TRDV['"&$B$4&"]"),MATCH($B$2&ROW($A8),TRDV[Index],0)),"") | C12: =IFERROR(INDEX(INDIRECT("TRDV['"&C$4&"]"),MATCH($B$2&ROW($A8),TRDV[Index],0)),"") | D12: =IFERROR(INDEX(INDIRECT("TRDV['"&D$4&"]"),MATCH($B$2&ROW($A8),TRDV[Index],0)),"") | E12: =IFERROR(INDEX(INDIRECT("TRDV['"&E$4&"]"),MATCH($B$2&ROW($A8),TRDV[Index],0)),"") | F12: =IFERROR(INDEX(INDIRECT("TRDV['"&F$4&"]"),MATCH($B$2&ROW($A8),TRDV[Index],0)),"") | G12: =IFERROR(INDEX(INDIRECT("TRDV['"&G$4&"]"),MATCH($B$2&ROW($A8),TRDV[Index],0)),"")
B13: =IFERROR(INDEX(INDIRECT("TRDV['"&$B$4&"]"),MATCH($B$2&ROW($A9),TRDV[Index],0)),"") | C13: =IFERROR(INDEX(INDIRECT("TRDV['"&C$4&"]"),MATCH($B$2&ROW($A9),TRDV[Index],0)),"") | D13: =IFERROR(INDEX(INDIRECT("TRDV['"&D$4&"]"),MATCH($B$2&ROW($A9),TRDV[Index],0)),"") | E13: =IFERROR(INDEX(INDIRECT("TRDV['"&E$4&"]"),MATCH($B$2&ROW($A9),TRDV[Index],0)),"") | F13: =IFERROR(INDEX(INDIRECT("TRDV['"&F$4&"]"),MATCH($B$2&ROW($A9),TRDV[Index],0)),"") | G13: =IFERROR(INDEX(INDIRECT("TRDV['"&G$4&"]"),MATCH($B$2&ROW($A9),TRDV[Index],0)),"")
B14: =IFERROR(INDEX(INDIRECT("TRDV['"&$B$4&"]"),MATCH($B$2&ROW($A10),TRDV[Index],0)),"") | C14: =IFERROR(INDEX(INDIRECT("TRDV['"&C$4&"]"),MATCH($B$2&ROW($A10),TRDV[Index],0)),"") | D14: =IFERROR(INDEX(INDIRECT("TRDV['"&D$4&"]"),MATCH($B$2&ROW($A10),TRDV[Index],0)),"") | E14: =IFERROR(INDEX(INDIRECT("TRDV['"&E$4&"]"),MATCH($B$2&ROW($A10),TRDV[Index],0)),"") | F14: =IFERROR(INDEX(INDIRECT("TRDV['"&F$4&"]"),MATCH($B$2&ROW($A10),TRDV[Index],0)),"") | G14: =IFERROR(INDEX(INDIRECT("TRDV['"&G$4&"]"),MATCH($B$2&ROW($A10),TRDV[Index],0)),"")
B15: =IFERROR(INDEX(INDIRECT("TRDV['"&$B$4&"]"),MATCH($B$2&ROW($A11),TRDV[Index],0)),"") | C15: =IFERROR(INDEX(INDIRECT("TRDV['"&C$4&"]"),MATCH($B$2&ROW($A11),TRDV[Index],0)),"") | D15: =IFERROR(INDEX(INDIRECT("TRDV['"&D$4&"]"),MATCH($B$2&ROW($A11),TRDV[Index],0)),"") | E15: =IFERROR(INDEX(INDIRECT("TRDV['"&E$4&"]"),MATCH($B$2&ROW($A11),TRDV[Index],0)),"") | F15: =IFERROR(INDEX(INDIRECT("TRDV['"&F$4&"]"),MATCH($B$2&ROW($A11),TRDV[Index],0)),"") | G15: =IFERROR(INDEX(INDIRECT("TRDV['"&G$4&"]"),MATCH($B$2&ROW($A11),TRDV[Index],0)),"")
B16: =IFERROR(INDEX(INDIRECT("TRDV['"&$B$4&"]"),MATCH($B$2&ROW($A12),TRDV[Index],0)),"") | C16: =IFERROR(INDEX(INDIRECT("TRDV['"&C$4&"]"),MATCH($B$2&ROW($A12),TRDV[Index],0)),"") | D16: =IFERROR(INDEX(INDIRECT("TRDV['"&D$4&"]"),MATCH($B$2&ROW($A12),TRDV[Index],0)),"") | E16: =IFERROR(INDEX(INDIRECT("TRDV['"&E$4&"]"),MATCH($B$2&ROW($A12),TRDV[Index],0)),"") | F16: =IFERROR(INDEX(INDIRECT("TRDV['"&F$4&"]"),MATCH($B$2&ROW($A12),TRDV[Index],0)),"") | G16: =IFERROR(INDEX(INDIRECT("TRDV['"&G$4&"]"),MATCH($B$2&ROW($A12),TRDV[Index],0)),"")
B17: =IFERROR(INDEX(INDIRECT("TRDV['"&$B$4&"]"),MATCH($B$2&ROW($A13),TRDV[Index],0)),"") | C17: =IFERROR(INDEX(INDIRECT("TRDV['"&C$4&"]"),MATCH($B$2&ROW($A13),TRDV[Index],0)),"") | D17: =IFERROR(INDEX(INDIRECT("TRDV['"&D$4&"]"),MATCH($B$2&ROW($A13),TRDV[Index],0)),"") | E17: =IFERROR(INDEX(INDIRECT("TRDV['"&E$4&"]"),MATCH($B$2&ROW($A13),TRDV[Index],0)),"") | F17: =IFERROR(INDEX(INDIRECT("TRDV['"&F$4&"]"),MATCH($B$2&ROW($A13),TRDV[Index],0)),"") | G17: =IFERROR(INDEX(INDIRECT("TRDV['"&G$4&"]"),MATCH($B$2&ROW($A13),TRDV[Index],0)),"")
... B22: =IFERROR(INDEX(INDIRECT("TRDV['"&$B$4&"]"),MATCH($B$2&ROW($A18),TRDV[Index],0)),"") | C22: =IFERROR(INDEX(INDIRECT("TRDV['"&C$4&"]"),MATCH($B$2&ROW($A18),TRDV[Index],0)),"") | D22: =IFERROR(INDEX(INDIRECT("TRDV['"&D$4&"]"),MATCH($B$2&ROW($A18),TRDV[Index],0)),"") | E22: =IFERROR(INDEX(INDIRECT("TRDV['"&E$4&"]"),MATCH($B$2&ROW($A18),TRDV[Index],0)),"") | F22: =IFERROR(INDEX(INDIRECT("TRDV['"&F$4&"]"),MATCH($B$2&ROW($A18),TRDV[Index],0)),"") | G22: =IFERROR(INDEX(INDIRECT("TRDV['"&G$4&"]"),MATCH($B$2&ROW($A18),TRDV[Index],0)),"")

Sheet Laure
B1: coll
B2: Laure
B4: # item | C4: DATE | D4: hr debut rdv | E4: cli | F4: info | G4: # PRESTA
B5: =IFERROR(INDEX(INDIRECT("TRDV['"&B$4&"]"),MATCH($B$2&ROW($A1),TRDV[Index],0)),"") -> 1 | C5: =IFERROR(INDEX(INDIRECT("TRDV['"&C$4&"]"),MATCH($B$2&ROW($A1),TRDV[Index],0)),"") -> 44304 | D5: =IFERROR(INDEX(INDIRECT("TRDV['"&D$4&"]"),MATCH($B$2&ROW($A1),TRDV[Index],0)),"") -> 0.54166667 | E5: =IFERROR(INDEX(INDIRECT("TRDV['"&E$4&"]"),MATCH($B$2&ROW($A1),TRDV[Index],0)),"") -> Mme OMGBA Simone | F5: =IFERROR(INDEX(INDIRECT("TRDV['"&F$4&"]"),MATCH($B$2&ROW($A1),TRDV[Index],0)),"") -> 1111111 | G5: =IFERROR(INDEX(INDIRECT("TRDV['"&G$4&"]"),MATCH($B$2&ROW($A1),TRDV[Index],0)),"") -> 13
B6: =IFERROR(INDEX(INDIRECT("TRDV['"&$B$4&"]"),MATCH($B$2&ROW($A2),TRDV[Index],0)),"") -> 1 | C6: =IFERROR(INDEX(INDIRECT("TRDV['"&C$4&"]"),MATCH($B$2&ROW($A2),TRDV[Index],0)),"") -> 44304 | D6: =IFERROR(INDEX(INDIRECT("TRDV['"&D$4&"]"),MATCH($B$2&ROW($A2),TRDV[Index],0)),"") -> 0.75 | E6: =IFERROR(INDEX(INDIRECT("TRDV['"&E$4&"]"),MATCH($B$2&ROW($A2),TRDV[Index],0)),"") -> Mme MEBA | F6: =IFERROR(INDEX(INDIRECT("TRDV['"&F$4&"]"),MATCH($B$2&ROW($A2),TRDV[Index],0)),"") -> 1111111 | G6: =IFERROR(INDEX(INDIRECT("TRDV['"&G$4&"]"),MATCH($B$2&ROW($A2),TRDV[Index],0)),"") -> 13
B7: =IFERROR(INDEX(INDIRECT("TRDV['"&$B$4&"]"),MATCH($B$2&ROW($A3),TRDV[Index],0)),"") -> 1 | C7: =IFERROR(INDEX(INDIRECT("TRDV['"&C$4&"]"),MATCH($B$2&ROW($A3),TRDV[Index],0)),"") -> 44309 | D7: =IFERROR(INDEX(INDIRECT("TRDV['"&D$4&"]"),MATCH($B$2&ROW($A3),TRDV[Index],0)),"") -> 0.375 | E7: =IFERROR(INDEX(INDIRECT("TRDV['"&E$4&"]"),MATCH($B$2&ROW($A3),TRDV[Index],0)),"") -> Mme BEMBE | F7: =IFERROR(INDEX(INDIRECT("TRDV['"&F$4&"]"),MATCH($B$2&ROW($A3),TRDV[Index],0)),"") -> 1111111 | G7: =IFERROR(INDEX(INDIRECT("TRDV['"&G$4&"]"),MATCH($B$2&ROW($A3),TRDV[Index],0)),"") -> 13
B8: =IFERROR(INDEX(INDIRECT("TRDV['"&$B$4&"]"),MATCH($B$2&ROW($A4),TRDV[Index],0)),"") -> 1 | C8: =IFERROR(INDEX(INDIRECT("TRDV['"&C$4&"]"),MATCH($B$2&ROW($A4),TRDV[Index],0)),"") -> 44310 | D8: =IFERROR(INDEX(INDIRECT("TRDV['"&D$4&"]"),MATCH($B$2&ROW($A4),TRDV[Index],0)),"") -> 0.375 | E8: =IFERROR(INDEX(INDIRECT("TRDV['"&E$4&"]"),MATCH($B$2&ROW($A4),TRDV[Index],0)),"") -> Mme FANG Lucy | F8: =IFERROR(INDEX(INDIRECT("TRDV['"&F$4&"]"),MATCH($B$2&ROW($A4),TRDV[Index],0)),"") -> 1111111 | G8: =IFERROR(INDEX(INDIRECT("TRDV['"&G$4&"]"),MATCH($B$2&ROW($A4),TRDV[Index],0)),"") -> 13
B9: =IFERROR(INDEX(INDIRECT("TRDV['"&$B$4&"]"),MATCH($B$2&ROW($A5),TRDV[Index],0)),"") | C9: =IFERROR(INDEX(INDIRECT("TRDV['"&C$4&"]"),MATCH($B$2&ROW($A5),TRDV[Index],0)),"") | D9: =IFERROR(INDEX(INDIRECT("TRDV['"&D$4&"]"),MATCH($B$2&ROW($A5),TRDV[Index],0)),"") | E9: =IFERROR(INDEX(INDIRECT("TRDV['"&E$4&"]"),MATCH($B$2&ROW($A5),TRDV[Index],0)),"") | F9: =IFERROR(INDEX(INDIRECT("TRDV['"&F$4&"]"),MATCH($B$2&ROW($A5),TRDV[Index],0)),"") | G9: =IFERROR(INDEX(INDIRECT("TRDV['"&G$4&"]"),MATCH($B$2&ROW($A5),TRDV[Index],0)),"")
B10: =IFERROR(INDEX(INDIRECT("TRDV['"&$B$4&"]"),MATCH($B$2&ROW($A6),TRDV[Index],0)),"") | C10: =IFERROR(INDEX(INDIRECT("TRDV['"&C$4&"]"),MATCH($B$2&ROW($A6),TRDV[Index],0)),"") | D10: =IFERROR(INDEX(INDIRECT("TRDV['"&D$4&"]"),MATCH($B$2&ROW($A6),TRDV[Index],0)),"") | E10: =IFERROR(INDEX(INDIRECT("TRDV['"&E$4&"]"),MATCH($B$2&ROW($A6),TRDV[Index],0)),"") | F10: =IFERROR(INDEX(INDIRECT("TRDV['"&F$4&"]"),MATCH($B$2&ROW($A6),TRDV[Index],0)),"") | G10: =IFERROR(INDEX(INDIRECT("TRDV['"&G$4&"]"),MATCH($B$2&ROW($A6),TRDV[Index],0)),"")
B11: =IFERROR(INDEX(INDIRECT("TRDV['"&$B$4&"]"),MATCH($B$2&ROW($A7),TRDV[Index],0)),"") | C11: =IFERROR(INDEX(INDIRECT("TRDV['"&C$4&"]"),MATCH($B$2&ROW($A7),TRDV[Index],0)),"") | D11: =IFERROR(INDEX(INDIRECT("TRDV['"&D$4&"]"),MATCH($B$2&ROW($A7),TRDV[Index],0)),"") | E11: =IFERROR(INDEX(INDIRECT("TRDV['"&E$4&"]"),MATCH($B$2&ROW($A7),TRDV[Index],0)),"") | F11: =IFERROR(INDEX(INDIRECT("TRDV['"&F$4&"]"),MATCH($B$2&ROW($A7),TRDV[Index],0)),"") | G11: =IFERROR(INDEX(INDIRECT("TRDV['"&G$4&"]"),MATCH($B$2&ROW($A7),TRDV[Index],0)),"")
B12: =IFERROR(INDEX(INDIRECT("TRDV['"&$B$4&"]"),MATCH($B$2&ROW($A8),TRDV[Index],0)),"") | C12: =IFERROR(INDEX(INDIRECT("TRDV['"&C$4&"]"),MATCH($B$2&ROW($A8),TRDV[Index],0)),"") | D12: =IFERROR(INDEX(INDIRECT("TRDV['"&D$4&"]"),MATCH($B$2&ROW($A8),TRDV[Index],0)),"") | E12: =IFERROR(INDEX(INDIRECT("TRDV['"&E$4&"]"),MATCH($B$2&ROW($A8),TRDV[Index],0)),"") | F12: =IFERROR(INDEX(INDIRECT("TRDV['"&F$4&"]"),MATCH($B$2&ROW($A8),TRDV[Index],0)),"") | G12: =IFERROR(INDEX(INDIRECT("TRDV['"&G$4&"]"),MATCH($B$2&ROW($A8),TRDV[Index],0)),"")
B13: =IFERROR(INDEX(INDIRECT("TRDV['"&$B$4&"]"),MATCH($B$2&ROW($A9),TRDV[Index],0)),"") | C13: =IFERROR(INDEX(INDIRECT("TRDV['"&C$4&"]"),MATCH($B$2&ROW($A9),TRDV[Index],0)),"") | D13: =IFERROR(INDEX(INDIRECT("TRDV['"&D$4&"]"),MATCH($B$2&ROW($A9),TRDV[Index],0)),"") | E13: =IFERROR(INDEX(INDIRECT("TRDV['"&E$4&"]"),MATCH($B$2&ROW($A9),TRDV[Index],0)),"") | F13: =IFERROR(INDEX(INDIRECT("TRDV['"&F$4&"]"),MATCH($B$2&ROW($A9),TRDV[Index],0)),"") | G13: =IFERROR(INDEX(INDIRECT("TRDV['"&G$4&"]"),MATCH($B$2&ROW($A9),TRDV[Index],0)),"")
B14: =IFERROR(INDEX(INDIRECT("TRDV['"&$B$4&"]"),MATCH($B$2&ROW($A10),TRDV[Index],0)),"") | C14: =IFERROR(INDEX(INDIRECT("TRDV['"&C$4&"]"),MATCH($B$2&ROW($A10),TRDV[Index],0)),"") | D14: =IFERROR(INDEX(INDIRECT("TRDV['"&D$4&"]"),MATCH($B$2&ROW($A10),TRDV[Index],0)),"") | E14: =IFERROR(INDEX(INDIRECT("TRDV['"&E$4&"]"),MATCH($B$2&ROW($A10),TRDV[Index],0)),"") | F14: =IFERROR(INDEX(INDIRECT("TRDV['"&F$4&"]"),MATCH($B$2&ROW($A10),TRDV[Index],0)),"") | G14: =IFERROR(INDEX(INDIRECT("TRDV['"&G$4&"]"),MATCH($B$2&ROW($A10),TRDV[Index],0)),"")
B15: =IFERROR(INDEX(INDIRECT("TRDV['"&$B$4&"]"),MATCH($B$2&ROW($A11),TRDV[Index],0)),"") | C15: =IFERROR(INDEX(INDIRECT("TRDV['"&C$4&"]"),MATCH($B$2&ROW($A11),TRDV[Index],0)),"") | D15: =IFERROR(INDEX(INDIRECT("TRDV['"&D$4&"]"),MATCH($B$2&ROW($A11),TRDV[Index],0)),"") | E15: =IFERROR(INDEX(INDIRECT("TRDV['"&E$4&"]"),MATCH($B$2&ROW($A11),TRDV[Index],0)),"") | F15: =IFERROR(INDEX(INDIRECT("TRDV['"&F$4&"]"),MATCH($B$2&ROW($A11),TRDV[Index],0)),"") | G15: =IFERROR(INDEX(INDIRECT("TRDV['"&G$4&"]"),MATCH($B$2&ROW($A11),TRDV[Index],0)),"")
B16: =IFERROR(INDEX(INDIRECT("TRDV['"&$B$4&"]"),MATCH($B$2&ROW($A12),TRDV[Index],0)),"") | C16: =IFERROR(INDEX(INDIRECT("TRDV['"&C$4&"]"),MATCH($B$2&ROW($A12),TRDV[Index],0)),"") | D16: =IFERROR(INDEX(INDIRECT("TRDV['"&D$4&"]"),MATCH($B$2&ROW($A12),TRDV[Index],0)),"") | E16: =IFERROR(INDEX(INDIRECT("TRDV['"&E$4&"]"),MATCH($B$2&ROW($A12),TRDV[Index],0)),"") | F16: =IFERROR(INDEX(INDIRECT("TRDV['"&F$4&"]"),MATCH($B$2&ROW($A12),TRDV[Index],0)),"") | G16: =IFERROR(INDEX(INDIRECT("TRDV['"&G$4&"]"),MATCH($B$2&ROW($A12),TRDV[Index],0)),"")
B17: =IFERROR(INDEX(INDIRECT("TRDV['"&$B$4&"]"),MATCH($B$2&ROW($A13),TRDV[Index],0)),"") | C17: =IFERROR(INDEX(INDIRECT("TRDV['"&C$4&"]"),MATCH($B$2&ROW($A13),TRDV[Index],0)),"") | D17: =IFERROR(INDEX(INDIRECT("TRDV['"&D$4&"]"),MATCH($B$2&ROW($A13),TRDV[Index],0)),"") | E17: =IFERROR(INDEX(INDIRECT("TRDV['"&E$4&"]"),MATCH($B$2&ROW($A13),TRDV[Index],0)),"") | F17: =IFERROR(INDEX(INDIRECT("TRDV['"&F$4&"]"),MATCH($B$2&ROW($A13),TRDV[Index],0)),"") | G17: =IFERROR(INDEX(INDIRECT("TRDV['"&G$4&"]"),MATCH($B$2&ROW($A13),TRDV[Index],0)),"")
... B22: =IFERROR(INDEX(INDIRECT("TRDV['"&$B$4&"]"),MATCH($B$2&ROW($A18),TRDV[Index],0)),"") | C22: =IFERROR(INDEX(INDIRECT("TRDV['"&C$4&"]"),MATCH($B$2&ROW($A18),TRDV[Index],0)),"") | D22: =IFERROR(INDEX(INDIRECT("TRDV['"&D$4&"]"),MATCH($B$2&ROW($A18),TRDV[Index],0)),"") | E22: =IFERROR(INDEX(INDIRECT("TRDV['"&E$4&"]"),MATCH($B$2&ROW($A18),TRDV[Index],0)),"") | F22: =IFERROR(INDEX(INDIRECT("TRDV['"&F$4&"]"),MATCH($B$2&ROW($A18),TRDV[Index],0)),"") | G22: =IFERROR(INDEX(INDIRECT("TRDV['"&G$4&"]"),MATCH($B$2&ROW($A18),TRDV[Index],0)),"")

Sheet Paramètres
B2: Coll
B3: {=IFERROR(INDEX(rdv!$E$2:$E$28,MATCH(0,COUNTIF(rdv!$E$2:$E$28,"<"&rdv!$E$2:$E$28)-SUM(COUNTIF($B$2:B2,rdv!$E$2:$E$28)),0)),"")} -> Audrey
B4: {=IFERROR(INDEX(rdv!$E$2:$E$28,MATCH(0,COUNTIF(rdv!$E$2:$E$28,"<"&rdv!$E$2:$E$28)-SUM(COUNTIF($B$2:B3,rdv!$E$2:$E$28)),0)),"")} -> Carolle
B5: {=IFERROR(INDEX(rdv!$E$2:$E$28,MATCH(0,COUNTIF(rdv!$E$2:$E$28,"<"&rdv!$E$2:$E$28)-SUM(COUNTIF($B$2:B4,rdv!$E$2:$E$28)),0)),"")} -> Clovis
B6: {=IFERROR(INDEX(rdv!$E$2:$E$28,MATCH(0,COUNTIF(rdv!$E$2:$E$28,"<"&rdv!$E$2:$E$28)-SUM(COUNTIF($B$2:B5,rdv!$E$2:$E$28)),0)),"")} -> Edith
B7: {=IFERROR(INDEX(rdv!$E$2:$E$28,MATCH(0,COUNTIF(rdv!$E$2:$E$28,"<"&rdv!$E$2:$E$28)-SUM(COUNTIF($B$2:B6,rdv!$E$2:$E$28)),0)),"")} -> Laure
B8: {=IFERROR(INDEX(rdv!$E$2:$E$28,MATCH(0,COUNTIF(rdv!$E$2:$E$28,"<"&rdv!$E$2:$E$28)-SUM(COUNTIF($B$2:B7,rdv!$E$2:$E$28)),0)),"")} -> Natasha
B9: {=IFERROR(INDEX(rdv!$E$2:$E$28,MATCH(0,COUNTIF(rdv!$E$2:$E$28,"<"&rdv!$E$2:$E$28)-SUM(COUNTIF($B$2:B8,rdv!$E$2:$E$28)),0)),"")} -> Olivier
B10: {=IFERROR(INDEX(rdv!$E$2:$E$28,MATCH(0,COUNTIF(rdv!$E$2:$E$28,"<"&rdv!$E$2:$E$28)-SUM(COUNTIF($B$2:B9,rdv!$E$2:$E$28)),0)),"")} -> Philip
B11: {=IFERROR(INDEX(rdv!$E$2:$E$28,MATCH(0,COUNTIF(rdv!$E$2:$E$28,"<"&rdv!$E$2:$E$28)-SUM(COUNTIF($B$2:B10,rdv!$E$2:$E$28)),0)),"")}
B12: {=IFERROR(INDEX(rdv!$E$2:$E$28,MATCH(0,COUNTIF(rdv!$E$2:$E$28,"<"&rdv!$E$2:$E$28)-SUM(COUNTIF($B$2:B11,rdv!$E$2:$E$28)),0)),"")}
B13: {=IFERROR(INDEX(rdv!$E$2:$E$28,MATCH(0,COUNTIF(rdv!$E$2:$E$28,"<"&rdv!$E$2:$E$28)-SUM(COUNTIF($B$2:B12,rdv!$E$2:$E$28)),0)),"")}
B14: {=IFERROR(INDEX(rdv!$E$2:$E$28,MATCH(0,COUNTIF(rdv!$E$2:$E$28,"<"&rdv!$E$2:$E$28)-SUM(COUNTIF($B$2:B13,rdv!$E$2:$E$28)),0)),"")}
... B21: {=IFERROR(INDEX(rdv!$E$2:$E$28,MATCH(0,COUNTIF(rdv!$E$2:$E$28,"<"&rdv!$E$2:$E$28)-SUM(COUNTIF($B$2:B20,rdv!$E$2:$E$28)),0)),"")}
