Workbook

Sheet Facturation labo client ext
A1: CLIENT | B1: N° BL / N° Commande / N° Avis | C1: Type / Référence | D1: N° Marquage / N° série / N° individuel | E1: Désignation | F1: Retrait / Arrivée | G1: Date Arrivée | H1: Observation liée à la Réception | I1: Délais | J1: N° commande CA | K1: N° de BL | L1: N° de Certificat | M1: SOLDE | N1: Réparation / Suivi | O1: Observation liée à l'envoi | Q1: Désignation | R1: Quantité | S1: Pu H.T. | T1: Assistance en H | U1: Pt H.T. | V1: Observation | W1: Prix auto en S
Q2: 177965480 | R2: 1 | S2: =IFERROR(INDEX(TRecap[Pu H.T.],MATCH(Q2,TRecap[Désignation],0)),0) -> 70 | T2: 0 | U2: =($R2*$S2)+($T2*63) -> 70
Q3: 8816694000 | R3: 1 | S3: =IFERROR(INDEX(TRecap[Pu H.T.],MATCH(Q3,TRecap[Désignation],0)),0) -> 139 | T3: 0 | U3: =($R3*$S3)+($T3*63) -> 139 | W3: Bonsoir, Je souhaite que lorsque que je remplit une désignation en colonne Q qui est une liste déroulante par rapport à la colonne B dans la feuille récap le prix correspondant en colonne D se mettent automatiquement en colonne S dans facturation. Exemple en Q2 j'ai la désignation 177965480. Dans la base de donée dans le classeur récap cette désignation se trouve en B4, le prix est de 70 qui est en D4 se met auto en S2. Actuellement j'ai fait une formule avec si condition mais je suis bloqueé je peux pas continuer car il y à trop de ligne de désigantion. Du coup je souhaiterais si possible une formule et si ce n'est pas possible alors une macro. Merci d'avance
Q4: Autre | R4: 1 | S4: =IFERROR(INDEX(TRecap[Pu H.T.],MATCH(Q4,TRecap[Désignation],0)),0) -> 0 | T4: 0 | U4: =($R4*$S4)+($T4*63) -> 0
Q5: 8810000421 | R5: 1 | S5: =IFERROR(INDEX(TRecap[Pu H.T.],MATCH(Q5,TRecap[Désignation],0)),0) -> 84 | T5: 0 | U5: =($R5*$S5)+($T5*63) -> 84
Q6: 8817549000 | R6: 1 | S6: =IFERROR(INDEX(TRecap[Pu H.T.],MATCH(Q6,TRecap[Désignation],0)),0) -> 161 | T6: 0 | U6: =($R6*$S6)+($T6*63) -> 161
Q7: Autre | R7: 1 | S7: =IFERROR(INDEX(TRecap[Pu H.T.],MATCH(Q7,TRecap[Désignation],0)),0) -> 0 | T7: 0 | U7: =($R7*$S7)+($T7*63) -> 0
Q8: Autre | R8: 1 | S8: =IFERROR(INDEX(TRecap[Pu H.T.],MATCH(Q8,TRecap[Désignation],0)),0) -> 0 | T8: 0 | U8: =($R8*$S8)+($T8*63) -> 0
Q9: Autre | R9: 1 | S9: =IFERROR(INDEX(TRecap[Pu H.T.],MATCH(Q9,TRecap[Désignation],0)),0) -> 0 | T9: 0 | U9: =($R9*$S9)+($T9*63) -> 0
Q10: Autre | R10: 1 | S10: =IFERROR(INDEX(TRecap[Pu H.T.],MATCH(Q10,TRecap[Désignation],0)),0) -> 0 | T10: 0 | U10: =($R10*$S10)+($T10*63) -> 0
Q11: Autre | R11: 1 | S11: =IFERROR(INDEX(TRecap[Pu H.T.],MATCH(Q11,TRecap[Désignation],0)),0) -> 0 | T11: 0 | U11: =($R11*$S11)+($T11*63) -> 0
Q12: Autre | R12: 1 | S12: =IFERROR(INDEX(TRecap[Pu H.T.],MATCH(Q12,TRecap[Désignation],0)),0) -> 0 | T12: 0 | U12: =($R12*$S12)+($T12*63) -> 0
Q13: Autre | R13: 1 | S13: =IFERROR(INDEX(TRecap[Pu H.T.],MATCH(Q13,TRecap[Désignation],0)),0) -> 0 | T13: 0 | U13: =($R13*$S13)+($T13*63) -> 0
Q14: Autre | R14: 1 | S14: =IFERROR(INDEX(TRecap[Pu H.T.],MATCH(Q14,TRecap[Désignation],0)),0) -> 0 | T14: 0 | U14: =($R14*$S14)+($T14*63) -> 0
Q15: Autre | R15: 1 | S15: =IFERROR(INDEX(TRecap[Pu H.T.],MATCH(Q15,TRecap[Désignation],0)),0) -> 0 | T15: 0 | U15: =($R15*$S15)+($T15*63) -> 0
Q16: Autre | R16: 1 | S16: =IFERROR(INDEX(TRecap[Pu H.T.],MATCH(Q16,TRecap[Désignation],0)),0) -> 0 | T16: 0 | U16: =($R16*$S16)+($T16*63) -> 0
Q17: Autre | R17: 1 | S17: =IFERROR(INDEX(TRecap[Pu H.T.],MATCH(Q17,TRecap[Désignation],0)),0) -> 0 | T17: 0 | U17: =($R17*$S17)+($T17*63) -> 0
Q18: Autre | R18: 1 | S18: =IFERROR(INDEX(TRecap[Pu H.T.],MATCH(Q18,TRecap[Désignation],0)),0) -> 0 | T18: 0 | U18: =($R18*$S18)+($T18*63) -> 0
... Q48: Autre | R48: 1 | S48: =IFERROR(INDEX(TRecap[Pu H.T.],MATCH(Q48,TRecap[Désignation],0)),0) -> 0 | T48: 0 | U48: =($R48*$S48)+($T48*63) -> 0

Sheet Récap Facture labo client ext
B2: =#REF! -> #REF!
B3: Désignation | C3: Quantité | D3: Pu H.T. | E3: Pt H.T. | F3: Déplacements
B4: 177965480 | C4: =COUNTIF('Facturation labo client ext'!$Q$2:$Q$498,B4) -> 1 | D4: 70 | E4: =C4*D4 -> 70
B5: 8211527000 | C5: =COUNTIF('Facturation labo client ext'!$Q$2:$Q$498,B5) -> 0 | D5: 70 | E5: =C5*D5 -> 0
B6: 8213229100 | C6: =COUNTIF('Facturation labo client ext'!$Q$2:$Q$498,B6) -> 0 | D6: 262 | E6: =C6*D6 -> 0
B7: 8504361000 | C7: =COUNTIF('Facturation labo client ext'!$Q$2:$Q$498,B7) -> 0 | D7: 494 | E7: =C7*D7 -> 0
B8: 8810000421 | C8: =COUNTIF('Facturation labo client ext'!$Q$2:$Q$498,B8) -> 1 | D8: 84 | E8: =C8*D8 -> 84
B9: 881142500 | C9: =COUNTIF('Facturation labo client ext'!$Q$2:$Q$498,B9) -> 0 | D9: 357 | E9: =C9*D9 -> 0
B10: 8812344000 | C10: =COUNTIF('Facturation labo client ext'!$Q$2:$Q$498,B10) -> 0 | D10: 551 | E10: =C10*D10 -> 0
B11: 8813569000 | C11: =COUNTIF('Facturation labo client ext'!$Q$2:$Q$498,B11) -> 0 | D11: 225 | E11: =C11*D11 -> 0
B12: 8813735000 | C12: =COUNTIF('Facturation labo client ext'!$Q$2:$Q$498,B12) -> 0 | D12: 138 | E12: =C12*D12 -> 0
B13: 8813974000 | C13: =COUNTIF('Facturation labo client ext'!$Q$2:$Q$498,B13) -> 0 | D13: 1720 | E13: =C13*D13 -> 0
B14: 8813975000 | C14: =COUNTIF('Facturation labo client ext'!$Q$2:$Q$498,B14) -> 0 | D14: 1720 | E14: =C14*D14 -> 0
B15: 8813996000 | C15: =COUNTIF('Facturation labo client ext'!$Q$2:$Q$498,B15) -> 0 | D15: 98 | E15: =C15*D15 -> 0
... B70: 9610020490 | C70: =COUNTIF('Facturation labo client ext'!$Q$2:$Q$498,B70) -> 0 | D70: 113 | E70: =C70*D70 -> 0
B71: 9610040490-C | C71: =COUNTIF('Facturation labo client ext'!$Q$2:$Q$498,B71) -> 0 | D71: 224 | E71: =C71*D71 -> 0
B72: 9610040500 | C72: =COUNTIF('Facturation labo client ext'!$Q$2:$Q$498,B72) -> 0 | D72: 113 | E72: =C72*D72 -> 0
B73: 9610044430 | C73: =COUNTIF('Facturation labo client ext'!$Q$2:$Q$498,B73) -> 0 | D73: 98 | E73: =C73*D73 -> 0
B74: 9610046360 | C74: =COUNTIF('Facturation labo client ext'!$Q$2:$Q$498,B74) -> 0 | D74: 138 | E74: =C74*D74 -> 0
B75: 9610052640 | C75: =COUNTIF('Facturation labo client ext'!$Q$2:$Q$498,B75) -> 0 | D75: 113 | E75: =C75*D75 -> 0
B76: 9610053740 | C76: =COUNTIF('Facturation labo client ext'!$Q$2:$Q$498,B76) -> 0 | D76: 160 | E76: =C76*D76 -> 0
B77: 9610057200 | C77: =COUNTIF('Facturation labo client ext'!$Q$2:$Q$498,B77) -> 0 | D77: 113 | E77: =C77*D77 -> 0
B78: 9610057630 | C78: =COUNTIF('Facturation labo client ext'!$Q$2:$Q$498,B78) -> 0 | D78: 113 | E78: =C78*D78 -> 0
B79: 9610080740 | C79: =COUNTIF('Facturation labo client ext'!$Q$2:$Q$498,B79) -> 0 | D79: 113 | E79: =C79*D79 -> 0
B80: 9610087570 | C80: =COUNTIF('Facturation labo client ext'!$Q$2:$Q$498,B80) -> 0 | D80: 262 | E80: =C80*D80 -> 0
B81: 9610088380 | C81: =COUNTIF('Facturation labo client ext'!$Q$2:$Q$498,B81) -> 0 | D81: 113 | E81: =C81*D81 -> 0
B82: 9610088390 | C82: =COUNTIF('Facturation labo client ext'!$Q$2:$Q$498,B82) -> 0 | D82: 113 | E82: =C82*D82 -> 0
B83: 9610088410 | C83: =COUNTIF('Facturation labo client ext'!$Q$2:$Q$498,B83) -> 0 | D83: 160 | E83: =C83*D83 -> 0
... B99: 9610089590 | C99: =COUNTIF('Facturation labo client ext'!$Q$2:$Q$498,B99) -> 0 | D99: 160 | E99: =C99*D99 -> 0
B100: 1724-2B20B | C100: =COUNTIF('Facturation labo client ext'!$Q$2:$Q$498,B100) -> 0 | D100: 72 | E100: =C100*D100 -> 0
B101: 1724-3 | C101: =COUNTIF('Facturation labo client ext'!$Q$2:$Q$498,B101) -> 0 | D101: 72 | E101: =C101*D101 -> 0
B102: 1724-3A | C102: =COUNTIF('Facturation labo client ext'!$Q$2:$Q$498,B102) -> 0 | D102: 72 | E102: =C102*D102 -> 0
B103: 3057-3-135 | C103: =COUNTIF('Facturation labo client ext'!$Q$2:$Q$498,B103) -> 0 | D103: 72 | E103: =C103*D103 -> 0
B104: 8213229000F | C104: =COUNTIF('Facturation labo client ext'!$Q$2:$Q$498,B104) -> 0 | D104: 160 | E104: =C104*D104 -> 0
B105: 8814473000B | C105: =COUNTIF('Facturation labo client ext'!$Q$2:$Q$498,B105) -> 0 | D105: 527 | E105: =C105*D105 -> 0
B106: 8816557000L | C106: =COUNTIF('Facturation labo client ext'!$Q$2:$Q$498,B106) -> 0 | D106: 161 | E106: =C106*D106 -> 0
B107: 8816694101B | C107: =COUNTIF('Facturation labo client ext'!$Q$2:$Q$498,B107) -> 0 | D107: 72 | E107: =C107*D107 -> 0
B108: 8818457000IndC | C108: =COUNTIF('Facturation labo client ext'!$Q$2:$Q$498,B108) -> 0 | D108: 160 | E108: =C108*D108 -> 0
B109: 8819728000A | C109: =COUNTIF('Facturation labo client ext'!$Q$2:$Q$498,B109) -> 0 | D109: 137 | E109: =C109*D109 -> 0
B110: 8819728000F | C110: =COUNTIF('Facturation labo client ext'!$Q$2:$Q$498,B110) -> 0 | D110: 137 | E110: =C110*D110 -> 0
...
