Workbook

Sheet Feuille-Total
A1: NOM | B1: Nombre | C1: NOM | D1: Nombre
A2: =Feuille_01!A2 -> Q | B2: =Feuille_01!B2 -> 1 | C2: =Feuille_02!A2 -> Q | D2: =Feuille_02!B2 -> 26
A3: =Feuille_01!A3 -> W | B3: =Feuille_01!B3 -> 2 | C3: =Feuille_02!A3 -> W | D3: =Feuille_02!B3 -> 25
A4: =Feuille_01!A4 -> E | B4: =Feuille_01!B4 -> 3 | C4: =Feuille_02!A4 -> E | D4: =Feuille_02!B4 -> 24
A5: =Feuille_01!A5 -> R | B5: =Feuille_01!B5 -> 4 | C5: =Feuille_02!A5 -> R | D5: =Feuille_02!B5 -> 23
A6: =Feuille_01!A6 -> T | B6: =Feuille_01!B6 -> 5 | C6: =Feuille_02!A6 -> T | D6: =Feuille_02!B6 -> 22
A7: =Feuille_01!A7 -> Z | B7: =Feuille_01!B7 -> 6 | C7: =Feuille_02!A7 -> Z | D7: =Feuille_02!B7 -> 21
A8: =Feuille_01!A8 -> U | B8: =Feuille_01!B8 -> 7 | C8: =Feuille_02!A8 -> U | D8: =Feuille_02!B8 -> 20
A9: =Feuille_01!A9 -> I | B9: =Feuille_01!B9 -> 8 | C9: =Feuille_02!A9 -> I | D9: =Feuille_02!B9 -> 19
A10: =Feuille_01!A10 -> O | B10: =Feuille_01!B10 -> 9 | C10: =Feuille_02!A10 -> O | D10: =Feuille_02!B10 -> 18
A11: =Feuille_01!A11 -> P | B11: =Feuille_01!B11 -> 10 | C11: =Feuille_02!A11 -> P | D11: =Feuille_02!B11 -> 17
A12: =Feuille_01!A12 -> A | B12: =Feuille_01!B12 -> 11 | C12: =Feuille_02!A12 -> A | D12: =Feuille_02!B12 -> 16
A13: =Feuille_01!A13 -> D | B13: =Feuille_01!B13 -> 12 | C13: =Feuille_02!A13 -> S | D13: =Feuille_02!B13 -> 15
... A20: =Feuille_01!A20 -> M | B20: =Feuille_01!B20 -> 19 | C20: =Feuille_02!A20 -> L | D20: =Feuille_02!B20 -> 8
C21: =Feuille_02!A21 -> Y | D21: =Feuille_02!B21 -> 7
C22: =Feuille_02!A22 -> X | D22: =Feuille_02!B22 -> 6
C23: =Feuille_02!A23 -> C | D23: =Feuille_02!B23 -> 5
C24: =Feuille_02!A24 -> V | D24: =Feuille_02!B24 -> 4
C25: =Feuille_02!A25 -> B | D25: =Feuille_02!B25 -> 3
C26: =Feuille_02!A26 -> N | D26: =Feuille_02!B26 -> 2
C27: =Feuille_02!A27 -> M | D27: =Feuille_02!B27 -> 1

Sheet Feuille_01
A1: NOM | B1: Nombre
A2: Q | B2: 1
A3: W | B3: 2
A4: E | B4: 3
A5: R | B5: 4
A6: T | B6: 5
A7: Z | B7: 6
A8: U | B8: 7
A9: I | B9: 8
A10: O | B10: 9
A11: P | B11: 10
A12: A | B12: 11
A13: D | B13: 12
... A20: M | B20: 19

Sheet Feuille_02
A1: NOM | B1: Nombre
A2: Q | B2: 26
A3: W | B3: 25
A4: E | B4: 24
A5: R | B5: 23
A6: T | B6: 22
A7: Z | B7: 21
A8: U | B8: 20
A9: I | B9: 19
A10: O | B10: 18
A11: P | B11: 17
A12: A | B12: 16
A13: S | B13: 15
... A27: M | B27: 1
