Workbook
Name mrc: 'Exposition 1'!#REF!

Sheet Sommaire
A1: Compilation des visiteurs Programmation 2019/2020
A2: DATE | B2: ACTIVITÉ | C2: NOMBRE | D2: Notes
A3: EXPOSITIONS - PROGRAMMATION RÉGULIÈRE
A4: 30.05.19 | B4: Vernissage de l'exposition L'impatience du géranium | C4: ='Exposition 1'!E12 -> 28 | D4: Inclus dans total de l'exposition
A5: 30.05.19 au 06.07.19 | B5: Exposition de Nicolas Ranellucci | C5: ='Exposition 1'!B19 -> 109
A6: 05.09.19 | B6: Vernissage de l'exposition | C6: ='Exposition 2'!E12 -> 0 | D6: Inclus dans total de l'exposition
A7: 05.09.19 au 12.10.19 | B7: Exposition de Guillaume Adjutor Provost | C7: ='Exposition 2'!B19 -> 0
A8: 21.12.19 | B8: Rentrée culturelle | C8: ='Exposition 3'!W12 -> 0 | D8: Inclus dans total de l'exposition
A9: 04.11.19 au 14.12.19 | B9: Résidence de création et exposition de Paolo Almario | C9: ='Exposition 3'!B19 -> 0
A10: 23.01.20 | B10: Vernissage de l'exposition | C10: ='Exposition 4'!E12 -> 0 | D10: Inclus dans total de l'exposition
A11: 23.01.20 au 29.02.20 | B11: Exposition de Carol-Ann Belzil-Normand | C11: ='Exposition 4'!B19 -> 0
A12: 02.04.20 | B12: Vernissage de l'exposition | C12: ='Exposition 5'!E12 -> 0 | D12: Inclus dans total de l'exposition
A13: 02.04.20 au 09.05.20 | B13: Exposition de Sarah-Jeanne Landry et Fanny Basque | C13: ='Exposition 5'!B19 -> 0
A14: TOTAL | C14: =C5+C7+C9+C11 -> 109
A15: PROJETS SPÉCIAUX - RÉSIDENCE DE CRÉATION
A16: 13.08.19 au 05.09.19 | B16: Murale de Cyndie Belhumeur et Ilana Pichon | C16: =Murale!B19 -> 0 | D16: Hors les murs
A17: TOTAL | C17: =SUM(C16:C16) -> 0
A18: INITIATIVES PARTICULIÈRES
A22: TOTAL | C22: =SUM(C19:C21) -> 0
A23: ÉDUCATION À L'ART CONTEMPORAIN ET MÉDIATION CULTURELLE
A37: TOTAL | C37: =SUM(C24:C36) -> 0
A38: SERVICES AUX MEMBRES
A39: En tout temps | B39: Station des membres
A40: En tout temps | B40: Salle libre
A41: TOTAL | C41: =SUM(C39:C40) -> 0
A42: TOTAL FRÉQUENTATION | C42: =C14+C17+C19+C20+C21+C39+C40 -> 109

Sheet Exposition 1
A1: Compilations des visiteurs Expositions / Station des membres / Salle libre | J1: Compilations des visiteurs Expositions / Station des membres / Salle libre | S1: Compilations des visiteurs Expositions / Station des membres / Salle libre | AB1: Compilations des visiteurs Expositions / Station des membres / Salle libre | AK1: Compilations des visiteurs Expositions / Station des membres / Salle libre | AT1: Compilations des visiteurs Expositions / Station des membres / Salle libre
A2: Titre | B2: L'impatience du géranium | F2: de l'artiste | G2: Nicolas Ranellucci | J2: Titre | K2: L'impatience du géranium | O2: de l'artiste | P2: Nicolas Ranellucci | S2: Titre | T2: L'impatience du géranium | X2: de l'artiste | Y2: Nicolas Ranellucci | AB2: Titre | AC2: L'impatience du géranium | AG2: de l'artiste | AH2: Nicolas Ranellucci | AK2: Titre | AL2: L'impatience du géranium | AP2: de l'artiste | AQ2: Nicolas Ranellucci | AT2: Titre | AU2: L'impatience du géranium | AY2: de l'artiste | AZ2: Nicolas Ranellucci
A3: Date | B3: du | C3: 30/05/2019 | E3: au | F3: 06/07/2019 | J3: Date | K3: du | L3: 30/05/2019 | N3: au | O3: 06/07/2019 | S3: Date | T3: du | U3: 30/05/2019 | W3: au | X3: 06/07/2019 | AB3: Date | AC3: du | AD3: 30/05/2019 | AF3: au | AG3: 06/07/2019 | AK3: Date | AL3: du | AM3: 30/05/2019 | AO3: au | AP3: 06/07/2019 | AT3: Date | AU3: du | AV3: 30/05/2019 | AX3: au | AY3: 06/07/2019
A5: Semaine de compilation | B5: du | C5: 43611 | E5: au | F5: 1er juin 2019 | J5: Semaine de compilation | K5: du | L5: 43618 | N5: au | O5: 43624 | S5: Semaine de compilation | T5: du | U5: 43625 | W5: au | X5: 43631 | AB5: Semaine de compilation | AC5: du | AD5: 43632 | AF5: au | AG5: 43638 | AK5: Semaine de compilation | AL5: du | AM5: 43639 | AO5: au | AP5: 43645 | AT5: Semaine de compilation | AU5: du | AV5: 43646 | AX5: au | AY5: 43652
A7: Jour | B7: Adultes | C7: Enfants | D7: Aînés (65 ans et +) | E7: Total | F7: Station des membres | G7: Salle libre | H7: Activités et observations | J7: Jour | K7: Adultes | L7: Enfants | M7: Aînés (65 ans et +) | N7: Total | O7: Station des membres | P7: Salle libre | Q7: Activités et observations | S7: Jour | T7: Adultes | U7: Enfants | V7: Aînés (65 ans et +) | W7: Total | X7: Station des membres | Y7: Salle libre | Z7: Activités et observations | AB7: Jour | AC7: Adultes | AD7: Enfants | AE7: Aînés (65 ans et +) | AF7: Total | AG7: Station des membres | AH7: Salle libre | AI7: Activités et observations | AK7: Jour | AL7: Adultes | AM7: Enfants | AN7: Aînés (65 ans et +) | AO7: Total | AP7: Station des membres | AQ7: Salle libre | AR7: Activités et observations | AT7: Jour | AU7: Adultes | AV7: Enfants | AW7: Aînés (65 ans et +) | AX7: Total | AY7: Station des membres | AZ7: Salle libre | BA7: Activités et observations
A8: Dimanche | E8: =SUM(B8+C8+D8+F8) -> 0 | J8: Dimanche | N8: =SUM(K8+L8+M8+O8) -> 0 | S8: Dimanche | W8: =SUM(T8+U8+V8+X8) -> 0 | AB8: Dimanche | AF8: =SUM(AC8+AD8+AE8+AG8) -> 0 | AK8: Dimanche | AO8: =SUM(AL8+AM8+AN8+AP8) -> 0 | AT8: Dimanche | AX8: =SUM(AU8+AV8+AW8+AY8) -> 0
A9: Lundi | E9: =SUM(B9+C9+D9+F9) -> 0 | J9: Lundi | N9: =SUM(K9+L9+M9+O9) -> 0 | S9: Lundi | T9: 1 | W9: =SUM(T9+U9+V9+X9) -> 1 | AB9: Lundi | AF9: =SUM(AC9+AD9+AE9+AG9) -> 0 | AK9: Lundi | AO9: =SUM(AL9+AM9+AN9+AP9) -> 0 | AT9: Lundi | AX9: =SUM(AU9+AV9+AW9+AY9) -> 0
A10: Mardi | B10: 1 | E10: =SUM(B10+C10+D10+F10) -> 1 | H10: Entrevue Nadia Ross (Radio-Canada) | J10: Mardi | K10: 2 | N10: =SUM(K10+L10+M10+O10) -> 2 | S10: Mardi | T10: 4 | W10: =SUM(T10+U10+V10+X10) -> 4 | AB10: Mardi | AC10: 2 | AD10: 2 | AF10: =SUM(AC10+AD10+AE10+AG10) -> 4 | AK10: Mardi | AL10: 1 | AO10: =SUM(AL10+AM10+AN10+AP10) -> 1 | AT10: Mardi | AU10: 6 | AX10: =SUM(AU10+AV10+AW10+AY10) -> 6
A11: Mercredi | B11: 1 | E11: =SUM(B11+C11+D11+F11) -> 1 | H11: Entrevue Éric Barette (Radio-Canada) | J11: Mercredi | M11: 2 | N11: =SUM(K11+L11+M11+O11) -> 2 | S11: Mercredi | W11: =SUM(T11+U11+V11+X11) -> 0 | AB11: Mercredi | AE11: 1 | AF11: =SUM(AC11+AD11+AE11+AG11) -> 1 | AK11: Mercredi | AL11: 3 | AO11: =SUM(AL11+AM11+AN11+AP11) -> 3 | AT11: Mercredi | AU11: 1 | AV11: 3 | AX11: =SUM(AU11+AV11+AW11+AY11) -> 4
A12: Jeudi | B12: 28 | E12: =SUM(B12+C12+D12+F12) -> 28 | H12: Vernissage | J12: Jeudi | K12: 13 | N12: =SUM(K12+L12+M12+O12) -> 13 | Q12: AGA 2019 | S12: Jeudi | T12: 2 | W12: =SUM(T12+U12+V12+X12) -> 2 | AB12: Jeudi | AC12: 3 | AF12: =SUM(AC12+AD12+AE12+AG12) -> 3 | AK12: Jeudi | AL12: 2 | AO12: =SUM(AL12+AM12+AN12+AP12) -> 2 | AT12: Jeudi | AU12: 3 | AX12: =SUM(AU12+AV12+AW12+AY12) -> 3
A13: Vendredi | E13: =SUM(B13+C13+D13+F13) -> 0 | J13: Vendredi | N13: =SUM(K13+L13+M13+O13) -> 0 | S13: Vendredi | T13: 6 | V13: 1 | W13: =SUM(T13+U13+V13+X13) -> 7 | AB13: Vendredi | AF13: =SUM(AC13+AD13+AE13+AG13) -> 0 | AI13: Fermé Fête nationale | AK13: Vendredi | AO13: =SUM(AL13+AM13+AN13+AP13) -> 0 | AT13: Vendredi | AX13: =SUM(AU13+AV13+AW13+AY13) -> 0
A14: Samedi | E14: =SUM(B14+C14+D14+F14) -> 0 | J14: Samedi | K14: 6 | N14: =SUM(K14+L14+M14+O14) -> 6 | S14: Samedi | W14: =SUM(T14+U14+V14+X14) -> 0 | AB14: Samedi | AF14: =SUM(AC14+AD14+AE14+AG14) -> 0 | AK14: Samedi | AL14: 2 | AO14: =SUM(AL14+AM14+AN14+AP14) -> 2 | AT14: Samedi | AX14: =SUM(AU14+AV14+AW14+AY14) -> 0
A15: Total | B15: =SUM(B8:B14) -> 30 | C15: =SUM(C8:C14) -> 0 | D15: =SUM(D8:D14) -> 0 | E15: =SUM(B15+C15+D15+F15) -> 30 | F15: =SUM(F8:F14) -> 0 | G15: =SUM(G8:G14) -> 0 | J15: Total | K15: =SUM(K8:K14) -> 21 | L15: =SUM(L8:L14) -> 0 | M15: =SUM(M8:M14) -> 2 | N15: =SUM(K15+L15+M15+O15) -> 23 | O15: =SUM(O8:O14) -> 0 | P15: =SUM(P8:P14) -> 0 | S15: Total | T15: =SUM(T8:T14) -> 13 | U15: =SUM(U8:U14) -> 0 | V15: =SUM(V8:V14) -> 1 | W15: =SUM(T15+U15+V15+X15) -> 14 | X15: =SUM(X8:X14) -> 0 | Y15: =SUM(Y8:Y14) -> 0 | AB15: Total | AC15: =SUM(AC8:AC14) -> 5 | AD15: =SUM(AD8:AD14) -> 2 | AE15: =SUM(AE8:AE14) -> 1 | AF15: =SUM(AC15+AD15+AE15+AG15) -> 8 | AG15: =SUM(AG8:AG14) -> 0 | AH15: =SUM(AH8:AH14) -> 0 | AK15: Total | AL15: =SUM(AL8:AL14) -> 8 | AM15: =SUM(AM8:AM14) -> 0 | AN15: =SUM(AN8:AN14) -> 0 | AO15: =SUM(AL15+AM15+AN15+AP15) -> 8 | AP15: =SUM(AP8:AP14) -> 0 | AQ15: =SUM(AQ8:AQ14) -> 0 | AT15: Total | AU15: =SUM(AU8:AU14) -> 10 | AV15: =SUM(AV8:AV14) -> 3 | AW15: =SUM(AW8:AW14) -> 0 | AX15: =SUM(AU15+AV15+AW15+AY15) -> 13 | AY15: =SUM(AY8:AY14) -> 0 | AZ15: =SUM(AZ8:AZ14) -> 0
B17: Adultes | C17: Enfants | D17: Aînés (65 ans et +) | E17: Station des membres | F17: Salle libre
A18: Sous total | B18: =SUM(B15+K15+T15+AC15+AL15+AU15) -> 87 | C18: =SUM(C15+L15+U15+AD15+AM15+AV15) -> 5 | D18: =SUM(D15+M15+V15+AE15+AN15+AW15) -> 4 | E18: =SUM(F15+O15+X15+AG15+AP15+AX15) -> 13 | F18: =SUM(G15+P15+Y15+AH15+AQ15+AY15) -> 0
A19: TOTAL | B19: =SUM(B18:E18) -> 109
H23: Ajout diversité culturelle et personnes à mobilité réduite

Sheet Exposition 2
A1: Compilations des visiteurs Expositions / Station des membres / Salle libre | J1: Compilations des visiteurs Expositions / Station des membres / Salle libre | S1: Compilations des visiteurs Expositions / Station des membres / Salle libre | AB1: Compilations des visiteurs Expositions / Station des membres / Salle libre | AK1: Compilations des visiteurs Expositions / Station des membres / Salle libre | AT1: Compilations des visiteurs Expositions / Station des membres / Salle libre
A2: Titre | F2: de l'artiste | J2: Titre | O2: de l'artiste | S2: Titre | X2: de l'artiste | AB2: Titre | AG2: de l'artiste | AK2: Titre | AP2: de l'artiste | AT2: Titre | AY2: de l'artiste
A3: Date | B3: du | E3: au | J3: Date | K3: du | N3: au | S3: Date | T3: du | W3: au | AB3: Date | AC3: du | AF3: au | AK3: Date | AL3: du | AO3: au | AT3: Date | AU3: du | AX3: au
A5: Semaine de compilation | B5: du | E5: au | J5: Semaine de compilation | K5: du | N5: au | S5: Semaine de compilation | T5: du | W5: au | AB5: Semaine de compilation | AC5: du | AF5: au | AK5: Semaine de compilation | AL5: du | AO5: au | AT5: Semaine de compilation | AU5: du | AX5: au
A7: Jour | B7: Adultes | C7: Enfants | D7: Aînés (65 ans et +) | E7: Total | F7: Station des membres | G7: Salle libre | H7: Activités et observations | J7: Jour | K7: Adultes | L7: Enfants | M7: Aînés (65 ans et +) | N7: Total | O7: Station des membres | P7: Salle libre | Q7: Activités et observations | S7: Jour | T7: Adultes | U7: Enfants | V7: Aînés (65 ans et +) | W7: Total | X7: Station des membres | Y7: Salle libre | Z7: Activités et observations | AB7: Jour | AC7: Adultes | AD7: Enfants | AE7: Aînés (65 ans et +) | AF7: Total | AG7: Station des membres | AH7: Salle libre | AI7: Activités et observations | AK7: Jour | AL7: Adultes | AM7: Enfants | AN7: Aînés (65 ans et +) | AO7: Total | AP7: Station des membres | AQ7: Salle libre | AR7: Activités et observations | AT7: Jour | AU7: Adultes | AV7: Enfants | AW7: Aînés (65 ans et +) | AX7: Total | AY7: Station des membres | AZ7: Salle libre | BA7: Activités et observations
A8: Dimanche | E8: =SUM(B8+C8+D8+F8) -> 0 | J8: Dimanche | N8: =SUM(K8+L8+M8+O8) -> 0 | S8: Dimanche | W8: =SUM(T8+U8+V8+X8) -> 0 | AB8: Dimanche | AF8: =SUM(AC8+AD8+AE8+AG8) -> 0 | AK8: Dimanche | AO8: =SUM(AL8+AM8+AN8+AP8) -> 0 | AT8: Dimanche | AX8: =SUM(AU8+AV8+AW8+AY8) -> 0
A9: Lundi | E9: =SUM(B9+C9+D9+F9) -> 0 | J9: Lundi | N9: =SUM(K9+L9+M9+O9) -> 0 | S9: Lundi | W9: =SUM(T9+U9+V9+X9) -> 0 | AB9: Lundi | AF9: =SUM(AC9+AD9+AE9+AG9) -> 0 | AK9: Lundi | AO9: =SUM(AL9+AM9+AN9+AP9) -> 0 | AT9: Lundi | AX9: =SUM(AU9+AV9+AW9+AY9) -> 0
A10: Mardi | E10: =SUM(B10+C10+D10+F10) -> 0 | J10: Mardi | N10: =SUM(K10+L10+M10+O10) -> 0 | S10: Mardi | W10: =SUM(T10+U10+V10+X10) -> 0 | AB10: Mardi | AF10: =SUM(AC10+AD10+AE10+AG10) -> 0 | AK10: Mardi | AO10: =SUM(AL10+AM10+AN10+AP10) -> 0 | AT10: Mardi | AX10: =SUM(AU10+AV10+AW10+AY10) -> 0
A11: Mercredi | E11: =SUM(B11+C11+D11+F11) -> 0 | J11: Mercredi | N11: =SUM(K11+L11+M11+O11) -> 0 | S11: Mercredi | W11: =SUM(T11+U11+V11+X11) -> 0 | AB11: Mercredi | AF11: =SUM(AC11+AD11+AE11+AG11) -> 0 | AK11: Mercredi | AO11: =SUM(AL11+AM11+AN11+AP11) -> 0 | AT11: Mercredi | AX11: =SUM(AU11+AV11+AW11+AY11) -> 0
A12: Jeudi | E12: =SUM(B12+C12+D12+F12) -> 0 | H12: Rentrée culturelle | J12: Jeudi | N12: =SUM(K12+L12+M12+O12) -> 0 | S12: Jeudi | W12: =SUM(T12+U12+V12+X12) -> 0 | AB12: Jeudi | AF12: =SUM(AC12+AD12+AE12+AG12) -> 0 | AK12: Jeudi | AO12: =SUM(AL12+AM12+AN12+AP12) -> 0 | AT12: Jeudi | AX12: =SUM(AU12+AV12+AW12+AY12) -> 0
A13: Vendredi | E13: =SUM(B13+C13+D13+F13) -> 0 | J13: Vendredi | N13: =SUM(K13+L13+M13+O13) -> 0 | S13: Vendredi | W13: =SUM(T13+U13+V13+X13) -> 0 | AB13: Vendredi | AF13: =SUM(AC13+AD13+AE13+AG13) -> 0 | AK13: Vendredi | AO13: =SUM(AL13+AM13+AN13+AP13) -> 0 | AT13: Vendredi | AX13: =SUM(AU13+AV13+AW13+AY13) -> 0
A14: Samedi | E14: =SUM(B14+C14+D14+F14) -> 0 | J14: Samedi | N14: =SUM(K14+L14+M14+O14) -> 0 | S14: Samedi | W14: =SUM(T14+U14+V14+X14) -> 0 | AB14: Samedi | AF14: =SUM(AC14+AD14+AE14+AG14) -> 0 | AK14: Samedi | AO14: =SUM(AL14+AM14+AN14+AP14) -> 0 | AT14: Samedi | AX14: =SUM(AU14+AV14+AW14+AY14) -> 0
A15: Total | B15: =SUM(B8:B14) -> 0 | C15: =SUM(C8:C14) -> 0 | D15: =SUM(D8:D14) -> 0 | E15: =SUM(B15+C15+D15+F15) -> 0 | F15: =SUM(F8:F14) -> 0 | G15: =SUM(G8:G14) -> 0 | J15: Total | K15: =SUM(K8:K14) -> 0 | L15: =SUM(L8:L14) -> 0 | M15: =SUM(M8:M14) -> 0 | N15: =SUM(K15+L15+M15+O15) -> 0 | O15: =SUM(O8:O14) -> 0 | P15: =SUM(P8:P14) -> 0 | S15: Total | T15: =SUM(T8:T14) -> 0 | U15: =SUM(U8:U14) -> 0 | V15: =SUM(V8:V14) -> 0 | W15: =SUM(T15+U15+V15+X15) -> 0 | X15: =SUM(X8:X14) -> 0 | Y15: =SUM(Y8:Y14) -> 0 | AB15: Total | AC15: =SUM(AC8:AC14) -> 0 | AD15: =SUM(AD8:AD14) -> 0 | AE15: =SUM(AE8:AE14) -> 0 | AF15: =SUM(AC15+AD15+AE15+AG15) -> 0 | AG15: =SUM(AG8:AG14) -> 0 | AH15: =SUM(AH8:AH14) -> 0 | AK15: Total | AL15: =SUM(AL8:AL14) -> 0 | AM15: =SUM(AM8:AM14) -> 0 | AN15: =SUM(AN8:AN14) -> 0 | AO15: =SUM(AL15+AM15+AN15+AP15) -> 0 | AP15: =SUM(AP8:AP14) -> 0 | AQ15: =SUM(AQ8:AQ14) -> 0 | AT15: Total | AU15: =SUM(AU8:AU14) -> 0 | AV15: =SUM(AV8:AV14) -> 0 | AW15: =SUM(AW8:AW14) -> 0 | AX15: =SUM(AU15+AV15+AW15+AY15) -> 0 | AY15: =SUM(AY8:AY14) -> 0 | AZ15: =SUM(AZ8:AZ14) -> 0
B17: Adultes | C17: Enfants | D17: Aînés (65 ans et +) | E17: Station des membres | F17: Salle libre
A18: Sous total | B18: =SUM(B15+K15+T15+AC15+AL15+AU15) -> 0 | C18: =SUM(C15+L15+U15+AD15+AM15+AV15) -> 0 | D18: =SUM(D15+M15+V15+AE15+AN15+AW15) -> 0 | E18: =SUM(F15+O15+X15+AG15+AP15+AX15) -> 0 | F18: =SUM(G15+P15+Y15+AH15+AQ15+AY15) -> 0
A19: TOTAL | B19: =SUM(B18:E18) -> 0

Sheet Exposition 3
A1: Compilations des visiteurs Expositions / Station des membres / Salle libre | J1: Compilations des visiteurs Expositions / Station des membres / Salle libre | S1: Compilations des visiteurs Expositions / Station des membres / Salle libre | AB1: Compilations des visiteurs Expositions / Station des membres / Salle libre | AK1: Compilations des visiteurs Expositions / Station des membres / Salle libre | AT1: Compilations des visiteurs Expositions / Station des membres / Salle libre
A2: Titre | F2: de l'artiste | J2: Titre | O2: de l'artiste | S2: Titre | X2: de l'artiste | AB2: Titre | AG2: de l'artiste | AK2: Titre | AP2: de l'artiste | AT2: Titre | AY2: de l'artiste
A3: Date | B3: du | E3: au | J3: Date | K3: du | N3: au | S3: Date | T3: du | W3: au | AB3: Date | AC3: du | AF3: au | AK3: Date | AL3: du | AO3: au | AT3: Date | AU3: du | AX3: au
A5: Semaine de compilation | B5: du | E5: au | J5: Semaine de compilation | K5: du | N5: au | S5: Semaine de compilation | T5: du | W5: au | AB5: Semaine de compilation | AC5: du | AF5: au | AK5: Semaine de compilation | AL5: du | AO5: au | AT5: Semaine de compilation | AU5: du | AX5: au
A7: Jour | B7: Adultes | C7: Enfants | D7: Aînés (65 ans et +) | E7: Total | F7: Station des membres | G7: Salle libre | H7: Activités et observations | J7: Jour | K7: Adultes | L7: Enfants | M7: Aînés (65 ans et +) | N7: Total | O7: Station des membres | P7: Salle libre | Q7: Activités et observations | S7: Jour | T7: Adultes | U7: Enfants | V7: Aînés (65 ans et +) | W7: Total | X7: Station des membres | Y7: Salle libre | Z7: Activités et observations | AB7: Jour | AC7: Adultes | AD7: Enfants | AE7: Aînés (65 ans et +) | AF7: Total | AG7: Station des membres | AH7: Salle libre | AI7: Activités et observations | AK7: Jour | AL7: Adultes | AM7: Enfants | AN7: Aînés (65 ans et +) | AO7: Total | AP7: Station des membres | AQ7: Salle libre | AR7: Activités et observations | AT7: Jour | AU7: Adultes | AV7: Enfants | AW7: Aînés (65 ans et +) | AX7: Total | AY7: Station des membres | AZ7: Salle libre | BA7: Activités et observations
A8: Dimanche | E8: =SUM(B8+C8+D8+F8) -> 0 | J8: Dimanche | N8: =SUM(K8+L8+M8+O8) -> 0 | S8: Dimanche | W8: =SUM(T8+U8+V8+X8) -> 0 | AB8: Dimanche | AF8: =SUM(AC8+AD8+AE8+AG8) -> 0 | AK8: Dimanche | AO8: =SUM(AL8+AM8+AN8+AP8) -> 0 | AT8: Dimanche | AX8: =SUM(AU8+AV8+AW8+AY8) -> 0
A9: Lundi | E9: =SUM(B9+C9+D9+F9) -> 0 | J9: Lundi | N9: =SUM(K9+L9+M9+O9) -> 0 | S9: Lundi | W9: =SUM(T9+U9+V9+X9) -> 0 | AB9: Lundi | AF9: =SUM(AC9+AD9+AE9+AG9) -> 0 | AK9: Lundi | AO9: =SUM(AL9+AM9+AN9+AP9) -> 0 | AT9: Lundi | AX9: =SUM(AU9+AV9+AW9+AY9) -> 0
A10: Mardi | E10: =SUM(B10+C10+D10+F10) -> 0 | H10: Résidence semaine 1 | J10: Mardi | N10: =SUM(K10+L10+M10+O10) -> 0 | Q10: Résidence semaine 2 | S10: Mardi | W10: =SUM(T10+U10+V10+X10) -> 0 | Z10: Résidence semaine 3 | AB10: Mardi | AF10: =SUM(AC10+AD10+AE10+AG10) -> 0 | AK10: Mardi | AO10: =SUM(AL10+AM10+AN10+AP10) -> 0 | AT10: Mardi | AX10: =SUM(AU10+AV10+AW10+AY10) -> 0
A11: Mercredi | E11: =SUM(B11+C11+D11+F11) -> 0 | J11: Mercredi | N11: =SUM(K11+L11+M11+O11) -> 0 | S11: Mercredi | W11: =SUM(T11+U11+V11+X11) -> 0 | AB11: Mercredi | AF11: =SUM(AC11+AD11+AE11+AG11) -> 0 | AK11: Mercredi | AO11: =SUM(AL11+AM11+AN11+AP11) -> 0 | AT11: Mercredi | AX11: =SUM(AU11+AV11+AW11+AY11) -> 0
A12: Jeudi | E12: =SUM(B12+C12+D12+F12) -> 0 | J12: Jeudi | N12: =SUM(K12+L12+M12+O12) -> 0 | S12: Jeudi | W12: =SUM(T12+U12+V12+X12) -> 0 | Z12: Vernissage | AB12: Jeudi | AF12: =SUM(AC12+AD12+AE12+AG12) -> 0 | AK12: Jeudi | AO12: =SUM(AL12+AM12+AN12+AP12) -> 0 | AT12: Jeudi | AX12: =SUM(AU12+AV12+AW12+AY12) -> 0
A13: Vendredi | E13: =SUM(B13+C13+D13+F13) -> 0 | J13: Vendredi | N13: =SUM(K13+L13+M13+O13) -> 0 | S13: Vendredi | W13: =SUM(T13+U13+V13+X13) -> 0 | AB13: Vendredi | AF13: =SUM(AC13+AD13+AE13+AG13) -> 0 | AK13: Vendredi | AO13: =SUM(AL13+AM13+AN13+AP13) -> 0 | AT13: Vendredi | AX13: =SUM(AU13+AV13+AW13+AY13) -> 0
A14: Samedi | E14: =SUM(B14+C14+D14+F14) -> 0 | J14: Samedi | N14: =SUM(K14+L14+M14+O14) -> 0 | S14: Samedi | W14: =SUM(T14+U14+V14+X14) -> 0 | AB14: Samedi | AF14: =SUM(AC14+AD14+AE14+AG14) -> 0 | AK14: Samedi | AO14: =SUM(AL14+AM14+AN14+AP14) -> 0 | AT14: Samedi | AX14: =SUM(AU14+AV14+AW14+AY14) -> 0
A15: Total | B15: =SUM(B8:B14) -> 0 | C15: =SUM(C8:C14) -> 0 | D15: =SUM(D8:D14) -> 0 | E15: =SUM(B15+C15+D15+F15) -> 0 | F15: =SUM(F8:F14) -> 0 | G15: =SUM(G8:G14) -> 0 | J15: Total | K15: =SUM(K8:K14) -> 0 | L15: =SUM(L8:L14) -> 0 | M15: =SUM(M8:M14) -> 0 | N15: =SUM(K15+L15+M15+O15) -> 0 | O15: =SUM(O8:O14) -> 0 | P15: =SUM(P8:P14) -> 0 | S15: Total | T15: =SUM(T8:T14) -> 0 | U15: =SUM(U8:U14) -> 0 | V15: =SUM(V8:V14) -> 0 | W15: =SUM(T15+U15+V15+X15) -> 0 | X15: =SUM(X8:X14) -> 0 | Y15: =SUM(Y8:Y14) -> 0 | AB15: Total | AC15: =SUM(AC8:AC14) -> 0 | AD15: =SUM(AD8:AD14) -> 0 | AE15: =SUM(AE8:AE14) -> 0 | AF15: =SUM(AC15+AD15+AE15+AG15) -> 0 | AG15: =SUM(AG8:AG14) -> 0 | AH15: =SUM(AH8:AH14) -> 0 | AK15: Total | AL15: =SUM(AL8:AL14) -> 0 | AM15: =SUM(AM8:AM14) -> 0 | AN15: =SUM(AN8:AN14) -> 0 | AO15: =SUM(AL15+AM15+AN15+AP15) -> 0 | AP15: =SUM(AP8:AP14) -> 0 | AQ15: =SUM(AQ8:AQ14) -> 0 | AT15: Total | AU15: =SUM(AU8:AU14) -> 0 | AV15: =SUM(AV8:AV14) -> 0 | AW15: =SUM(AW8:AW14) -> 0 | AX15: =SUM(AU15+AV15+AW15+AY15) -> 0 | AY15: =SUM(AY8:AY14) -> 0 | AZ15: =SUM(AZ8:AZ14) -> 0
B17: Adultes | C17: Enfants | D17: Aînés (65 ans et +) | E17: Station des membres | F17: Salle libre
A18: Sous total | B18: =SUM(B15+K15+T15+AC15+AL15+AU15) -> 0 | C18: =SUM(C15+L15+U15+AD15+AM15+AV15) -> 0 | D18: =SUM(D15+M15+V15+AE15+AN15+AW15) -> 0 | E18: =SUM(F15+O15+X15+AG15+AP15+AX15) -> 0 | F18: =SUM(G15+P15+Y15+AH15+AQ15+AY15) -> 0
A19: TOTAL | B19: =SUM(B18:E18) -> 0

Sheet Exposition 4
A1: Compilations des visiteurs Expositions / Station des membres / Salle libre | J1: Compilations des visiteurs Expositions / Station des membres / Salle libre | S1: Compilations des visiteurs Expositions / Station des membres / Salle libre | AB1: Compilations des visiteurs Expositions / Station des membres / Salle libre | AK1: Compilations des visiteurs Expositions / Station des membres / Salle libre | AT1: Compilations des visiteurs Expositions / Station des membres / Salle libre
A2: Titre | F2: de l'artiste | J2: Titre | O2: de l'artiste | S2: Titre | X2: de l'artiste | AB2: Titre | AG2: de l'artiste | AK2: Titre | AP2: de l'artiste | AT2: Titre | AY2: de l'artiste
A3: Date | B3: du | E3: au | J3: Date | K3: du | N3: au | S3: Date | T3: du | W3: au | AB3: Date | AC3: du | AF3: au | AK3: Date | AL3: du | AO3: au | AT3: Date | AU3: du | AX3: au
A5: Semaine de compilation | B5: du | E5: au | J5: Semaine de compilation | K5: du | N5: au | S5: Semaine de compilation | T5: du | W5: au | AB5: Semaine de compilation | AC5: du | AF5: au | AK5: Semaine de compilation | AL5: du | AO5: au | AT5: Semaine de compilation | AU5: du | AX5: au
A7: Jour | B7: Adultes | C7: Enfants | D7: Aînés (65 ans et +) | E7: Total | F7: Station des membres | G7: Salle libre | H7: Activités et observations | J7: Jour | K7: Adultes | L7: Enfants | M7: Aînés (65 ans et +) | N7: Total | O7: Station des membres | P7: Salle libre | Q7: Activités et observations | S7: Jour | T7: Adultes | U7: Enfants | V7: Aînés (65 ans et +) | W7: Total | X7: Station des membres | Y7: Salle libre | Z7: Activités et observations | AB7: Jour | AC7: Adultes | AD7: Enfants | AE7: Aînés (65 ans et +) | AF7: Total | AG7: Station des membres | AH7: Salle libre | AI7: Activités et observations | AK7: Jour | AL7: Adultes | AM7: Enfants | AN7: Aînés (65 ans et +) | AO7: Total | AP7: Station des membres | AQ7: Salle libre | AR7: Activités et observations | AT7: Jour | AU7: Adultes | AV7: Enfants | AW7: Aînés (65 ans et +) | AX7: Total | AY7: Station des membres | AZ7: Salle libre | BA7: Activités et observations
A8: Dimanche | E8: =SUM(B8+C8+D8+F8) -> 0 | J8: Dimanche | N8: =SUM(K8+L8+M8+O8) -> 0 | S8: Dimanche | W8: =SUM(T8+U8+V8+X8) -> 0 | AB8: Dimanche | AF8: =SUM(AC8+AD8+AE8+AG8) -> 0 | AK8: Dimanche | AO8: =SUM(AL8+AM8+AN8+AP8) -> 0 | AT8: Dimanche | AX8: =SUM(AU8+AV8+AW8+AY8) -> 0
A9: Lundi | E9: =SUM(B9+C9+D9+F9) -> 0 | J9: Lundi | N9: =SUM(K9+L9+M9+O9) -> 0 | S9: Lundi | W9: =SUM(T9+U9+V9+X9) -> 0 | AB9: Lundi | AF9: =SUM(AC9+AD9+AE9+AG9) -> 0 | AK9: Lundi | AO9: =SUM(AL9+AM9+AN9+AP9) -> 0 | AT9: Lundi | AX9: =SUM(AU9+AV9+AW9+AY9) -> 0
A10: Mardi | E10: =SUM(B10+C10+D10+F10) -> 0 | J10: Mardi | N10: =SUM(K10+L10+M10+O10) -> 0 | S10: Mardi | W10: =SUM(T10+U10+V10+X10) -> 0 | AB10: Mardi | AF10: =SUM(AC10+AD10+AE10+AG10) -> 0 | AK10: Mardi | AO10: =SUM(AL10+AM10+AN10+AP10) -> 0 | AT10: Mardi | AX10: =SUM(AU10+AV10+AW10+AY10) -> 0
A11: Mercredi | E11: =SUM(B11+C11+D11+F11) -> 0 | J11: Mercredi | N11: =SUM(K11+L11+M11+O11) -> 0 | S11: Mercredi | W11: =SUM(T11+U11+V11+X11) -> 0 | AB11: Mercredi | AF11: =SUM(AC11+AD11+AE11+AG11) -> 0 | AK11: Mercredi | AO11: =SUM(AL11+AM11+AN11+AP11) -> 0 | AT11: Mercredi | AX11: =SUM(AU11+AV11+AW11+AY11) -> 0
A12: Jeudi | E12: =SUM(B12+C12+D12+F12) -> 0 | H12: Vernissage | J12: Jeudi | N12: =SUM(K12+L12+M12+O12) -> 0 | S12: Jeudi | W12: =SUM(T12+U12+V12+X12) -> 0 | AB12: Jeudi | AF12: =SUM(AC12+AD12+AE12+AG12) -> 0 | AK12: Jeudi | AO12: =SUM(AL12+AM12+AN12+AP12) -> 0 | AT12: Jeudi | AX12: =SUM(AU12+AV12+AW12+AY12) -> 0
A13: Vendredi | E13: =SUM(B13+C13+D13+F13) -> 0 | J13: Vendredi | N13: =SUM(K13+L13+M13+O13) -> 0 | S13: Vendredi | W13: =SUM(T13+U13+V13+X13) -> 0 | AB13: Vendredi | AF13: =SUM(AC13+AD13+AE13+AG13) -> 0 | AK13: Vendredi | AO13: =SUM(AL13+AM13+AN13+AP13) -> 0 | AT13: Vendredi | AX13: =SUM(AU13+AV13+AW13+AY13) -> 0
A14: Samedi | E14: =SUM(B14+C14+D14+F14) -> 0 | J14: Samedi | N14: =SUM(K14+L14+M14+O14) -> 0 | S14: Samedi | W14: =SUM(T14+U14+V14+X14) -> 0 | AB14: Samedi | AF14: =SUM(AC14+AD14+AE14+AG14) -> 0 | AK14: Samedi | AO14: =SUM(AL14+AM14+AN14+AP14) -> 0 | AT14: Samedi | AX14: =SUM(AU14+AV14+AW14+AY14) -> 0
A15: Total | B15: =SUM(B8:B14) -> 0 | C15: =SUM(C8:C14) -> 0 | D15: =SUM(D8:D14) -> 0 | E15: =SUM(B15+C15+D15+F15) -> 0 | F15: =SUM(F8:F14) -> 0 | G15: =SUM(G8:G14) -> 0 | J15: Total | K15: =SUM(K8:K14) -> 0 | L15: =SUM(L8:L14) -> 0 | M15: =SUM(M8:M14) -> 0 | N15: =SUM(K15+L15+M15+O15) -> 0 | O15: =SUM(O8:O14) -> 0 | P15: =SUM(P8:P14) -> 0 | S15: Total | T15: =SUM(T8:T14) -> 0 | U15: =SUM(U8:U14) -> 0 | V15: =SUM(V8:V14) -> 0 | W15: =SUM(T15+U15+V15+X15) -> 0 | X15: =SUM(X8:X14) -> 0 | Y15: =SUM(Y8:Y14) -> 0 | AB15: Total | AC15: =SUM(AC8:AC14) -> 0 | AD15: =SUM(AD8:AD14) -> 0 | AE15: =SUM(AE8:AE14) -> 0 | AF15: =SUM(AC15+AD15+AE15+AG15) -> 0 | AG15: =SUM(AG8:AG14) -> 0 | AH15: =SUM(AH8:AH14) -> 0 | AK15: Total | AL15: =SUM(AL8:AL14) -> 0 | AM15: =SUM(AM8:AM14) -> 0 | AN15: =SUM(AN8:AN14) -> 0 | AO15: =SUM(AL15+AM15+AN15+AP15) -> 0 | AP15: =SUM(AP8:AP14) -> 0 | AQ15: =SUM(AQ8:AQ14) -> 0 | AT15: Total | AU15: =SUM(AU8:AU14) -> 0 | AV15: =SUM(AV8:AV14) -> 0 | AW15: =SUM(AW8:AW14) -> 0 | AX15: =SUM(AU15+AV15+AW15+AY15) -> 0 | AY15: =SUM(AY8:AY14) -> 0 | AZ15: =SUM(AZ8:AZ14) -> 0
B17: Adultes | C17: Enfants | D17: Aînés (65 ans et +) | E17: Station des membres | F17: Salle libre
A18: Sous total | B18: =SUM(B15+K15+T15+AC15+AL15+AU15) -> 0 | C18: =SUM(C15+L15+U15+AD15+AM15+AV15) -> 0 | D18: =SUM(D15+M15+V15+AE15+AN15+AW15) -> 0 | E18: =SUM(F15+O15+X15+AG15+AP15+AX15) -> 0 | F18: =SUM(G15+P15+Y15+AH15+AQ15+AY15) -> 0
A19: TOTAL | B19: =SUM(B18:E18) -> 0

Sheet Exposition 5
A1: Compilations des visiteurs Expositions / Station des membres / Salle libre | J1: Compilations des visiteurs Expositions / Station des membres / Salle libre | S1: Compilations des visiteurs Expositions / Station des membres / Salle libre | AB1: Compilations des visiteurs Expositions / Station des membres / Salle libre | AK1: Compilations des visiteurs Expositions / Station des membres / Salle libre | AT1: Compilations des visiteurs Expositions / Station des membres / Salle libre
A2: Titre | F2: de l'artiste | J2: Titre | O2: de l'artiste | S2: Titre | X2: de l'artiste | AB2: Titre | AG2: de l'artiste | AK2: Titre | AP2: de l'artiste | AT2: Titre | AY2: de l'artiste
A3: Date | B3: du | E3: au | J3: Date | K3: du | N3: au | S3: Date | T3: du | W3: au | AB3: Date | AC3: du | AF3: au | AK3: Date | AL3: du | AO3: au | AT3: Date | AU3: du | AX3: au
A5: Semaine de compilation | B5: du | E5: au | J5: Semaine de compilation | K5: du | N5: au | S5: Semaine de compilation | T5: du | W5: au | AB5: Semaine de compilation | AC5: du | AF5: au | AK5: Semaine de compilation | AL5: du | AO5: au | AT5: Semaine de compilation | AU5: du | AX5: au
A7: Jour | B7: Adultes | C7: Enfants | D7: Aînés (65 ans et +) | E7: Total | F7: Station des membres | G7: Salle libre | H7: Activités et observations | J7: Jour | K7: Adultes | L7: Enfants | M7: Aînés (65 ans et +) | N7: Total | O7: Station des membres | P7: Salle libre | Q7: Activités et observations | S7: Jour | T7: Adultes | U7: Enfants | V7: Aînés (65 ans et +) | W7: Total | X7: Station des membres | Y7: Salle libre | Z7: Activités et observations | AB7: Jour | AC7: Adultes | AD7: Enfants | AE7: Aînés (65 ans et +) | AF7: Total | AG7: Station des membres | AH7: Salle libre | AI7: Activités et observations | AK7: Jour | AL7: Adultes | AM7: Enfants | AN7: Aînés (65 ans et +) | AO7: Total | AP7: Station des membres | AQ7: Salle libre | AR7: Activités et observations | AT7: Jour | AU7: Adultes | AV7: Enfants | AW7: Aînés (65 ans et +) | AX7: Total | AY7: Station des membres | AZ7: Salle libre | BA7: Activités et observations
A8: Dimanche | E8: =SUM(B8+C8+D8+F8) -> 0 | J8: Dimanche | N8: =SUM(K8+L8+M8+O8) -> 0 | S8: Dimanche | W8: =SUM(T8+U8+V8+X8) -> 0 | AB8: Dimanche | AF8: =SUM(AC8+AD8+AE8+AG8) -> 0 | AK8: Dimanche | AO8: =SUM(AL8+AM8+AN8+AP8) -> 0 | AT8: Dimanche | AX8: =SUM(AU8+AV8+AW8+AY8) -> 0
A9: Lundi | E9: =SUM(B9+C9+D9+F9) -> 0 | J9: Lundi | N9: =SUM(K9+L9+M9+O9) -> 0 | S9: Lundi | W9: =SUM(T9+U9+V9+X9) -> 0 | AB9: Lundi | AF9: =SUM(AC9+AD9+AE9+AG9) -> 0 | AK9: Lundi | AO9: =SUM(AL9+AM9+AN9+AP9) -> 0 | AT9: Lundi | AX9: =SUM(AU9+AV9+AW9+AY9) -> 0
A10: Mardi | E10: =SUM(B10+C10+D10+F10) -> 0 | J10: Mardi | N10: =SUM(K10+L10+M10+O10) -> 0 | S10: Mardi | W10: =SUM(T10+U10+V10+X10) -> 0 | AB10: Mardi | AF10: =SUM(AC10+AD10+AE10+AG10) -> 0 | AK10: Mardi | AO10: =SUM(AL10+AM10+AN10+AP10) -> 0 | AT10: Mardi | AX10: =SUM(AU10+AV10+AW10+AY10) -> 0
A11: Mercredi | E11: =SUM(B11+C11+D11+F11) -> 0 | J11: Mercredi | N11: =SUM(K11+L11+M11+O11) -> 0 | S11: Mercredi | W11: =SUM(T11+U11+V11+X11) -> 0 | AB11: Mercredi | AF11: =SUM(AC11+AD11+AE11+AG11) -> 0 | AK11: Mercredi | AO11: =SUM(AL11+AM11+AN11+AP11) -> 0 | AT11: Mercredi | AX11: =SUM(AU11+AV11+AW11+AY11) -> 0
A12: Jeudi | E12: =SUM(B12+C12+D12+F12) -> 0 | H12: Vernissage | J12: Jeudi | N12: =SUM(K12+L12+M12+O12) -> 0 | S12: Jeudi | W12: =SUM(T12+U12+V12+X12) -> 0 | AB12: Jeudi | AF12: =SUM(AC12+AD12+AE12+AG12) -> 0 | AK12: Jeudi | AO12: =SUM(AL12+AM12+AN12+AP12) -> 0 | AT12: Jeudi | AX12: =SUM(AU12+AV12+AW12+AY12) -> 0
A13: Vendredi | E13: =SUM(B13+C13+D13+F13) -> 0 | J13: Vendredi | N13: =SUM(K13+L13+M13+O13) -> 0 | S13: Vendredi | W13: =SUM(T13+U13+V13+X13) -> 0 | AB13: Vendredi | AF13: =SUM(AC13+AD13+AE13+AG13) -> 0 | AK13: Vendredi | AO13: =SUM(AL13+AM13+AN13+AP13) -> 0 | AT13: Vendredi | AX13: =SUM(AU13+AV13+AW13+AY13) -> 0
A14: Samedi | E14: =SUM(B14+C14+D14+F14) -> 0 | J14: Samedi | N14: =SUM(K14+L14+M14+O14) -> 0 | S14: Samedi | W14: =SUM(T14+U14+V14+X14) -> 0 | AB14: Samedi | AF14: =SUM(AC14+AD14+AE14+AG14) -> 0 | AK14: Samedi | AO14: =SUM(AL14+AM14+AN14+AP14) -> 0 | AT14: Samedi | AX14: =SUM(AU14+AV14+AW14+AY14) -> 0
A15: Total | B15: =SUM(B8:B14) -> 0 | C15: =SUM(C8:C14) -> 0 | D15: =SUM(D8:D14) -> 0 | E15: =SUM(B15+C15+D15+F15) -> 0 | F15: =SUM(F8:F14) -> 0 | G15: =SUM(G8:G14) -> 0 | J15: Total | K15: =SUM(K8:K14) -> 0 | L15: =SUM(L8:L14) -> 0 | M15: =SUM(M8:M14) -> 0 | N15: =SUM(K15+L15+M15+O15) -> 0 | O15: =SUM(O8:O14) -> 0 | P15: =SUM(P8:P14) -> 0 | S15: Total | T15: =SUM(T8:T14) -> 0 | U15: =SUM(U8:U14) -> 0 | V15: =SUM(V8:V14) -> 0 | W15: =SUM(T15+U15+V15+X15) -> 0 | X15: =SUM(X8:X14) -> 0 | Y15: =SUM(Y8:Y14) -> 0 | AB15: Total | AC15: =SUM(AC8:AC14) -> 0 | AD15: =SUM(AD8:AD14) -> 0 | AE15: =SUM(AE8:AE14) -> 0 | AF15: =SUM(AC15+AD15+AE15+AG15) -> 0 | AG15: =SUM(AG8:AG14) -> 0 | AH15: =SUM(AH8:AH14) -> 0 | AK15: Total | AL15: =SUM(AL8:AL14) -> 0 | AM15: =SUM(AM8:AM14) -> 0 | AN15: =SUM(AN8:AN14) -> 0 | AO15: =SUM(AL15+AM15+AN15+AP15) -> 0 | AP15: =SUM(AP8:AP14) -> 0 | AQ15: =SUM(AQ8:AQ14) -> 0 | AT15: Total | AU15: =SUM(AU8:AU14) -> 0 | AV15: =SUM(AV8:AV14) -> 0 | AW15: =SUM(AW8:AW14) -> 0 | AX15: =SUM(AU15+AV15+AW15+AY15) -> 0 | AY15: =SUM(AY8:AY14) -> 0 | AZ15: =SUM(AZ8:AZ14) -> 0
B17: Adultes | C17: Enfants | D17: Aînés (65 ans et +) | E17: Station des membres | F17: Salle libre
A18: Sous total | B18: =SUM(B15+K15+T15+AC15+AL15+AU15) -> 0 | C18: =SUM(C15+L15+U15+AD15+AM15+AV15) -> 0 | D18: =SUM(D15+M15+V15+AE15+AN15+AW15) -> 0 | E18: =SUM(F15+O15+X15+AG15+AP15+AX15) -> 0 | F18: =SUM(G15+P15+Y15+AH15+AQ15+AY15) -> 0
A19: TOTAL | B19: =SUM(B18:E18) -> 0

Sheet Murale
A1: Compilations des visiteurs Murale | J1: Compilations des visiteurs Murale | S1: Compilations des visiteurs Murale | AB1: Compilations des visiteurs Murale
A2: Titre | B2: Intersections | F2: des artistes | G2: Cyndie Belhumeur et Ilana Pichon | J2: Titre | K2: Intersections | O2: des artistes | P2: Cyndie Belhumeur et Ilana Pichon | S2: Titre | T2: Intersections | X2: des artistes | Y2: Cyndie Belhumeur et Ilana Pichon | AB2: Titre | AC2: Intersections | AG2: des artistes | AH2: Cyndie Belhumeur et Ilana Pichon
A3: Date | B3: du | C3: 13 août 2019 | E3: au | F3: 5 septembre 2019 | J3: Date | K3: du | L3: 13 août 2019 | N3: au | O3: 5 septembre 2019 | S3: Date | T3: du | U3: 13 août 2019 | W3: au | X3: 5 septembre 2019 | AB3: Date | AC3: du | AD3: 13 août 2019 | AF3: au | AG3: 5 septembre 2019
A5: Semaine de compilation | B5: du | C5: 43688 | E5: au | F5: 43694 | J5: Semaine de compilation | K5: du | L5: 18 août 2019 | N5: au | O5: 43701 | S5: Semaine de compilation | T5: du | U5: 25 août 2019 | W5: au | X5: 43708 | AB5: Semaine de compilation | AC5: du | AD5: 1 sept 2019 | AF5: au | AG5: 43715
A7: Jour | B7: Adultes | C7: Enfants | D7: Aînés (65 ans et +) | E7: Total | F7: Station des membres | G7: Salle libre | H7: Activités et observations | J7: Jour | K7: Adultes | L7: Enfants | M7: Aînés (65 ans et +) | N7: Total | O7: Station des membres | P7: Salle libre | Q7: Activités et observations | S7: Jour | T7: Adultes | U7: Enfants | V7: Aînés (65 ans et +) | W7: Total | X7: Station des membres | Y7: Salle libre | Z7: Activités et observations | AB7: Jour | AC7: Adultes | AD7: Enfants | AE7: Aînés (65 ans et +) | AF7: Total | AG7: Station des membres | AH7: Salle libre | AI7: Activités et observations
A8: Dimanche | E8: =SUM(B8+C8+D8+F8) -> 0 | J8: Dimanche | N8: =SUM(K8+L8+M8+O8) -> 0 | S8: Dimanche | W8: =SUM(T8+U8+V8+X8) -> 0 | AB8: Dimanche | AF8: =SUM(AC8+AD8+AE8+AG8) -> 0
A9: Lundi | E9: =SUM(B9+C9+D9+F9) -> 0 | J9: Lundi | N9: =SUM(K9+L9+M9+O9) -> 0 | S9: Lundi | W9: =SUM(T9+U9+V9+X9) -> 0 | AB9: Lundi | AF9: =SUM(AC9+AD9+AE9+AG9) -> 0
A10: Mardi | E10: =SUM(B10+C10+D10+F10) -> 0 | J10: Mardi | N10: =SUM(K10+L10+M10+O10) -> 0 | S10: Mardi | W10: =SUM(T10+U10+V10+X10) -> 0 | AB10: Mardi | AF10: =SUM(AC10+AD10+AE10+AG10) -> 0
A11: Mercredi | E11: =SUM(B11+C11+D11+F11) -> 0 | J11: Mercredi | N11: =SUM(K11+L11+M11+O11) -> 0 | S11: Mercredi | W11: =SUM(T11+U11+V11+X11) -> 0 | AB11: Mercredi | AF11: =SUM(AC11+AD11+AE11+AG11) -> 0
A12: Jeudi | E12: =SUM(B12+C12+D12+F12) -> 0 | J12: Jeudi | N12: =SUM(K12+L12+M12+O12) -> 0 | S12: Jeudi | W12: =SUM(T12+U12+V12+X12) -> 0 | AB12: Jeudi | AF12: =SUM(AC12+AD12+AE12+AG12) -> 0 | AI12: Vernissage et lancement
A13: Vendredi | E13: =SUM(B13+C13+D13+F13) -> 0 | J13: Vendredi | N13: =SUM(K13+L13+M13+O13) -> 0 | S13: Vendredi | W13: =SUM(T13+U13+V13+X13) -> 0 | AB13: Vendredi | AF13: =SUM(AC13+AD13+AE13+AG13) -> 0
A14: Samedi | E14: =SUM(B14+C14+D14+F14) -> 0 | J14: Samedi | N14: =SUM(K14+L14+M14+O14) -> 0 | S14: Samedi | W14: =SUM(T14+U14+V14+X14) -> 0 | AB14: Samedi | AF14: =SUM(AC14+AD14+AE14+AG14) -> 0
A15: Total | B15: =SUM(B8:B14) -> 0 | C15: =SUM(C8:C14) -> 0 | D15: =SUM(D8:D14) -> 0 | E15: =SUM(B15+C15+D15+F15) -> 0 | F15: =SUM(F8:F14) -> 0 | G15: =SUM(G8:G14) -> 0 | J15: Total | K15: =SUM(K8:K14) -> 0 | L15: =SUM(L8:L14) -> 0 | M15: =SUM(M8:M14) -> 0 | N15: =SUM(K15+L15+M15+O15) -> 0 | O15: =SUM(O8:O14) -> 0 | P15: =SUM(P8:P14) -> 0 | S15: Total | T15: =SUM(T8:T14) -> 0 | U15: =SUM(U8:U14) -> 0 | V15: =SUM(V8:V14) -> 0 | W15: =SUM(T15+U15+V15+X15) -> 0 | X15: =SUM(X8:X14) -> 0 | Y15: =SUM(Y8:Y14) -> 0 | AB15: Total | AC15: =SUM(AC8:AC14) -> 0 | AD15: =SUM(AD8:AD14) -> 0 | AE15: =SUM(AE8:AE14) -> 0 | AF15: =SUM(AC15+AD15+AE15+AG15) -> 0 | AG15: =SUM(AG8:AG14) -> 0 | AH15: =SUM(AH8:AH14) -> 0
B17: Adultes | C17: Enfants | D17: Aînés (65 ans et +)
A18: Sous total | B18: =SUM(B15+K15+T15+AC15) -> 0 | C18: =SUM(C15+L15+U15+AD15) -> 0 | D18: =SUM(D15+M15+V15+AE15) -> 0
A19: TOTAL | B19: =SUM(B18:E18) -> 0

Sheet Provenance des visiteurs
A1: Provenance des visiteurs
A2: Région | C2: Exposition 1 | D2: Exposition 2 | E2: Exposition 3 | F2: Exposition 4 | G2: Exposition 5 | H2: Total visiteurs / région | I2: Code Postal | J2: Activités et observations
A3: Bas-Saint-Laurent | H3: =SUM(H4+H5+H6) -> 0
A4: Rimouski‒Neigette | H4: =SUM(C4:G4) -> 0
A5: Kamouraska‒Rivière-du-loup‒Témiscouata‒Les Basques | H5: =SUM(C5:G5) -> 0
A6: Mitis‒Matane‒Matapédia | H6: =SUM(C6:G6) -> 0
A7: Gaspésie‒Îles-de-la-Madeleine | H7: =SUM(C7:G7) -> 0
A8: Chaudière-Appalaches | H8: =SUM(C8:G8) -> 0
A9: Québec | H9: =SUM(C9:G9) -> 0
A10: Saguenay‒Lac-St-Jean | H10: =SUM(C10:G10) -> 0
A11: Côte-Nord | H11: =SUM(C11:G11) -> 0
A12: Mauricie | H12: =SUM(C12:G12) -> 0
A13: Lanaudière | H13: =SUM(C13:G13) -> 0
A14: Laurentides | H14: =SUM(C14:G14) -> 0
A15: Montérégie | H15: =SUM(C15:G15) -> 0
... A19: Abitibi-Témiscamingue | H19: =SUM(C19:G19) -> 0
