Workbook

Sheet Synthèse
A1: Synthèse des cessations de travail
A4: UOP | B4: Nom | C4: Prénom | D4: Nombre de Nombre de personnes en cessation
A5: BHR NP | D5: 2
A6: BHR PRG | D6: 1
A7: DIRECTION DES ETUDES | D7: 2
A8: DMD AGENCE PROJET GARES & ACCESSIBILITE | D8: 2
A9: DMD AGENCE PROJET TRAM TRAIN APPUI | D9: 1
A10: DMD Agence Projets | D10: 5
A11: DMD AGENCE PROJETS CCU & SYSTEMES SIG | D11: 1
A12: DMD AGENCE PROJETS GRAND PARIS | D12: 1
A13: DMD Appui Projet | D13: 1
A14: DMD Pole Adéquation des Moyens | D14: 2
A15: Etudes ES NP | D15: 2
A16: Etudes ES SP | D16: 5
... A25: Etudes TL NP | D25: 2
A26: DPZ Expert Signalisation Electrique | B26: SIMON | C26: Philippe | D26: 1
A27: Total DPZ Expert Signalisation Electrique | D27: 1
A28: Total général | D28: 41

Sheet Tableau suivi Cessation Global
A1: Tableau des Cessations de fonctions
A5: Légende : Veillez à bien renseigner le mot clé comme indiqué dans la légende | D5: " Réforme "
D6: " Licenciement
D7: " Démission "
D8: " DEMISS "
D9: " LICENS "
D10: " REFOR "
A12: Nom | B12: Prénom | C12: Matricule | D12: Date de sortie physique | E12: Date de notification de départ | F12: Date de sortie administrative | G12: Témoin ré-entrée envisagée | H12: Code-Statut résultant de la sortie | I12: Statut résultant de la sortie | J12: Code-Motif de situation après sortie | K12: Motif de situation après sortie | L12: Date de début du préavis | M12: Date de fin du préavis | N12: Date de début du préavis2 | O12: Date de fin du préavis2 | P12: Date de début du préavis3 | Q12: Date de fin du préavis3 | R12: Date engagement de procédure licenc. | S12: Témoin de suivi | T12: Type de la déclaration | U12: Numéro d'ordre de la déclaration | V12: Num. d'ordre déclaration substituée | W12: Utilisateur | X12: Date de sortie pour la paie | Y12: Date de signature de la rupture conventionelle | Z12: UOP | AA12: Qualif | AB12: Mois de Sortie | AC12: Année de sortie
A13: =VLOOKUP('Tableau Démi - Licenci - Reform'!A7,'Tableau Démi - Licenci - Reform'!A7:AH32,1,FALSE) -> Test 1 | AB13: =Tableau2[[#This Row],[Date de sortie physique]] -> 0 | AC13: =Tableau2[[#This Row],[Date de sortie physique]] -> 0
A14: =VLOOKUP('Tableau Démi - Licenci - Reform'!A8,'Tableau Démi - Licenci - Reform'!A8:AH33,1,FALSE) -> Test 2 | AB14: =Tableau2[[#This Row],[Date de sortie physique]] -> 0 | AC14: =Tableau2[[#This Row],[Date de sortie physique]] -> 0
A15: =VLOOKUP('Tableau Démi - Licenci - Reform'!A9,'Tableau Démi - Licenci - Reform'!A9:AH34,1,FALSE) -> Test 3 | AB15: =Tableau2[[#This Row],[Date de sortie physique]] -> 0 | AC15: =Tableau2[[#This Row],[Date de sortie physique]] -> 0
A16: =VLOOKUP('Tableau Démi - Licenci - Reform'!A10,'Tableau Démi - Licenci - Reform'!A10:AH35,1,FALSE) -> Test 4 | AB16: =Tableau2[[#This Row],[Date de sortie physique]] -> 0 | AC16: =Tableau2[[#This Row],[Date de sortie physique]] -> 0
A17: =VLOOKUP('Tableau Démi - Licenci - Reform'!A11,'Tableau Démi - Licenci - Reform'!A11:AH36,1,FALSE) -> Test 5 | AB17: =Tableau2[[#This Row],[Date de sortie physique]] -> 0 | AC17: =Tableau2[[#This Row],[Date de sortie physique]] -> 0
A18: =VLOOKUP('Tableau Démi - Licenci - Reform'!A12,'Tableau Démi - Licenci - Reform'!A12:AH37,1,FALSE) -> Test 6 | AB18: =Tableau2[[#This Row],[Date de sortie physique]] -> 0 | AC18: =Tableau2[[#This Row],[Date de sortie physique]] -> 0
A19: =VLOOKUP('Tableau Démi - Licenci - Reform'!A13,'Tableau Démi - Licenci - Reform'!A13:AH38,1,FALSE) -> Test 7 | AB19: =Tableau2[[#This Row],[Date de sortie physique]] -> 0 | AC19: =Tableau2[[#This Row],[Date de sortie physique]] -> 0
A20: =VLOOKUP('Tableau Démi - Licenci - Reform'!A14,'Tableau Démi - Licenci - Reform'!A14:AH39,1,FALSE) -> Test 8 | AB20: =Tableau2[[#This Row],[Date de sortie physique]] -> 0 | AC20: =Tableau2[[#This Row],[Date de sortie physique]] -> 0
A21: =VLOOKUP('Tableau Démi - Licenci - Reform'!A15,'Tableau Démi - Licenci - Reform'!A15:AH40,1,FALSE) -> Test 9 | AB21: =Tableau2[[#This Row],[Date de sortie physique]] -> 0 | AC21: =Tableau2[[#This Row],[Date de sortie physique]] -> 0
A22: =VLOOKUP('Tableau Démi - Licenci - Reform'!A16,'Tableau Démi - Licenci - Reform'!A16:AH41,1,FALSE) -> Test 10 | AB22: =Tableau2[[#This Row],[Date de sortie physique]] -> 0 | AC22: =Tableau2[[#This Row],[Date de sortie physique]] -> 0
A23: =VLOOKUP('Tableau Démi - Licenci - Reform'!A17,'Tableau Démi - Licenci - Reform'!A17:AH42,1,FALSE) -> Test 11 | AB23: =Tableau2[[#This Row],[Date de sortie physique]] -> 0 | AC23: =Tableau2[[#This Row],[Date de sortie physique]] -> 0
A24: =VLOOKUP('Tableau Démi - Licenci - Reform'!A18,'Tableau Démi - Licenci - Reform'!A18:AH43,1,FALSE) -> Test 12 | AB24: =Tableau2[[#This Row],[Date de sortie physique]] -> 0 | AC24: =Tableau2[[#This Row],[Date de sortie physique]] -> 0
... A45: =VLOOKUP('Tableau Démi - Licenci - Reform'!A39,'Tableau Démi - Licenci - Reform'!A39:AH64,1,FALSE) -> 0 | AB45: =Tableau2[[#This Row],[Date de sortie physique]] -> 0 | AC45: =Tableau2[[#This Row],[Date de sortie physique]] -> 0
AB46: =Tableau2[[#This Row],[Date de sortie physique]] -> 0 | AC46: =Tableau2[[#This Row],[Date de sortie physique]] -> 0
AB47: =Tableau2[[#This Row],[Date de sortie physique]] -> 0 | AC47: =Tableau2[[#This Row],[Date de sortie physique]] -> 0
AB48: =Tableau2[[#This Row],[Date de sortie physique]] -> 0 | AC48: =Tableau2[[#This Row],[Date de sortie physique]] -> 0
AB49: =Tableau2[[#This Row],[Date de sortie physique]] -> 0 | AC49: =Tableau2[[#This Row],[Date de sortie physique]] -> 0
AB50: =Tableau2[[#This Row],[Date de sortie physique]] -> 0 | AC50: =Tableau2[[#This Row],[Date de sortie physique]] -> 0
AB51: =Tableau2[[#This Row],[Date de sortie physique]] -> 0 | AC51: =Tableau2[[#This Row],[Date de sortie physique]] -> 0
AB52: =Tableau2[[#This Row],[Date de sortie physique]] -> 0 | AC52: =Tableau2[[#This Row],[Date de sortie physique]] -> 0
AB53: =Tableau2[[#This Row],[Date de sortie physique]] -> 0 | AC53: =Tableau2[[#This Row],[Date de sortie physique]] -> 0
A54: Total | AC54: =SUBTOTAL(103,Tableau2[Année de sortie]) -> 41

Sheet NB Cessation par entité - 2020
A1: Nombre de UOP
A2: Année de sortie | B2: UOP | C2: Total
A3: 2020 | B3: Etudes PR SP | C3: 1
B4: DPZ Expert Signalisation Electrique | C4: 1
A5: Total général | C5: 2

Sheet NB Cessation par entité - 2019
A1: Nombre de UOP
A2: Année de sortie | B2: UOP | C2: Total
A3: 2019 | B3: BHR NP | C3: 2
B4: BHR PRG | C4: 1
B5: DIRECTION DES ETUDES | C5: 2
B6: DMD AGENCE PROJET GARES & ACCESSIBILITE | C6: 2
B7: DMD AGENCE PROJET TRAM TRAIN APPUI | C7: 1
B8: DMD Agence Projets | C8: 5
B9: DMD AGENCE PROJETS CCU & SYSTEMES SIG | C9: 1
B10: DMD AGENCE PROJETS GRAND PARIS | C10: 1
B11: DMD Appui Projet | C11: 1
B12: DMD Pole Adéquation des Moyens | C12: 2
B13: Etudes ES NP | C13: 2
B14: Etudes ES SP | C14: 5
B15: Etudes Essais NP | C15: 2
... B23: Etudes TL NP | C23: 2
A24: Total général | C24: 39

Sheet Motif départ par Entité - Année
A1: Nombre de UOP
A2: Année de sortie | B2: Statut résultant de la sortie | C2: UOP | D2: Total
A3: 2019 | B3: Démission | C3: DMD AGENCE PROJET GARES & ACCESSIBILITE | D3: 1
C4: DMD AGENCE PROJET TRAM TRAIN APPUI | D4: 1
C5: DMD AGENCE PROJETS CCU & SYSTEMES SIG | D5: 1
C6: DMD AGENCE PROJETS GRAND PARIS | D6: 1
C7: DMD Pole Adéquation des Moyens | D7: 1
C8: Etudes ES NP | D8: 1
C9: Etudes ES SP | D9: 3
C10: Etudes Essais NP | D10: 1
C11: ETUDES GENERALES NP | D11: 2
C12: Etudes PR NP | D12: 1
B13: Total Démission | D13: 13
B14: Licenciement | C14: DIRECTION DES ETUDES | D14: 1
C15: DMD AGENCE PROJET GARES & ACCESSIBILITE | D15: 1
B16: Total Licenciement | D16: 2
B17: Retraite | C17: BHR NP | D17: 2
C18: BHR PRG | D18: 1
C19: DIRECTION DES ETUDES | D19: 1
C20: DMD Agence Projets | D20: 5
C21: DMD Appui Projet | D21: 1
C22: DMD Pole Adéquation des Moyens | D22: 1
C23: Etudes ES NP | D23: 1
C24: Etudes ES SP | D24: 2
C25: Etudes Essais NP | D25: 1
C26: Etudes OA NP | D26: 1
C27: Etudes Pôle Etudes NP | D27: 1
C28: Etudes PR NP | D28: 2
C29: Etudes PR SP | D29: 1
... C32: Etudes TL NP | D32: 2
B33: Total Retraite | D33: 24
A34: 2020 | B34: Retraite | C34: Etudes PR SP | D34: 1
C35: DPZ Expert Signalisation Electrique | D35: 1
B36: Total Retraite | D36: 2
A37: Total général | D37: 41

Sheet Motif départ par entité - Mois
A2: Nombre de UOP
A3: Statut résultant de la sortie | B3: Années | C3: Mois de Sortie | D3: UOP | E3: Total
A4: Démission | B4: 2019 | C4: janv | D4: DMD AGENCE PROJETS CCU & SYSTEMES SIG | E4: 1
D5: DMD Pole Adéquation des Moyens | E5: 1
D6: Etudes ES SP | E6: 1
D7: Etudes Essais NP | E7: 1
C8: févr | D8: DMD AGENCE PROJETS GRAND PARIS | E8: 1
D9: Etudes PR NP | E9: 1
C10: mars | D10: Etudes ES SP | E10: 1
C11: mai | D11: DMD AGENCE PROJET GARES & ACCESSIBILITE | E11: 1
D12: DMD AGENCE PROJET TRAM TRAIN APPUI | E12: 1
D13: Etudes ES NP | E13: 1
D14: Etudes ES SP | E14: 1
D15: ETUDES GENERALES NP | E15: 1
C16: sept | D16: ETUDES GENERALES NP | E16: 1
A17: Total Démission | E17: 13
A18: Licenciement | B18: 2019 | C18: avr | D18: DIRECTION DES ETUDES | E18: 1
C19: mai | D19: DMD AGENCE PROJET GARES & ACCESSIBILITE | E19: 1
A20: Total Licenciement | E20: 2
A21: Retraite | B21: 2019 | C21: janv | D21: DMD Agence Projets | E21: 1
D22: Etudes ES NP | E22: 1
D23: Etudes OA NP | E23: 1
D24: Etudes TL NP | E24: 1
C25: févr | D25: Etudes TE NP | E25: 1
C26: avr | D26: BHR PRG | E26: 1
D27: Etudes PR SP | E27: 1
C28: juin | D28: DMD Appui Projet | E28: 1
C29: juil | D29: DMD Agence Projets | E29: 1
D30: Etudes TE SP | E30: 1
C31: août | D31: BHR NP | E31: 1
D32: DIRECTION DES ETUDES | E32: 1
C33: sept | D33: BHR NP | E33: 1
D34: Etudes ES SP | E34: 1
C35: oct | D35: DMD Agence Projets | E35: 3
D36: DMD Pole Adéquation des Moyens | E36: 1
D37: Etudes Pôle Etudes NP | E37: 1
D38: Etudes PR NP | E38: 2
C39: nov | D39: Etudes ES SP | E39: 1
C40: déc | D40: Etudes Essais NP | E40: 1
D41: Etudes TL NP | E41: 1
B42: 2020 | C42: mai | D42: DPZ Expert Signalisation Electrique | E42: 1
C43: juil | D43: Etudes PR SP | E43: 1
A44: Total Retraite | E44: 26
A45: Total général | E45: 41

Sheet Total Cessation par ans
A2: Année de sortie | B2: Nombre de Nombre de personnes en cessation
A3: 2019 | B3: 39
A4: 2020 | B4: 2
A5: Total général | B5: 41

Sheet Total Cessation - ans - motif
A3: Année de sortie | B3: Nombre de personnes en cessation | C3: Nombre de Nombre de personnes en cessation
A4: 2019 | B4: Démission | C4: 13
B5: Licenciement | C5: 2
B6: Retraite | C6: 24
A7: 2020 | B7: Retraite | C7: 2
A8: Total général | C8: 41

Sheet Tableau Démi - Licenci - Reform
A1: {=[1]!'!2019 (2)!L1C1:L120C41'} -> NP | B1: SP | C1: 0 | D1: 0 | E1: 0 | F1: 0 | G1: 0 | H1: 0 | I1: 0 | J1: 0 | K1: 0 | L1: 0 | M1: 0 | N1: 0 | O1: 0 | P1: 0 | Q1: 0 | R1: 0 | S1: 0 | T1: 0 | U1: 0 | V1: 0 | W1: 0 | X1: 0 | Y1: 0 | Z1: 0 | AA1: 0 | AB1: 0 | AC1: 0 | AD1: 0 | AE1: 0 | AF1: 0 | AG1: 0 | AH1: 0
A2: DMD | B2: DPU | C2: 0 | D2: 0 | E2: 0 | F2: MaJ | G2: 0 | H2: 0 | I2: 0 | J2: 0 | K2: 0 | L2: 0 | M2: 0 | N2: 0 | O2: 0 | P2: 0 | Q2: 0 | R2: 0 | S2: 0 | T2: 0 | U2: 0 | V2: 0 | W2: 0 | X2: 0 | Y2: 0 | Z2: 0 | AA2: 0 | AB2: 0 | AC2: 0 | AD2: 0 | AE2: 0 | AF2: 0 | AG2: 0 | AH2: 0
A3: DG IDF | B3: 0 | C3: 0 | D3: 0 | E3: 0 | F3: 43658 | G3: 0 | H3: 0 | I3: 0 | J3: 0 | K3: 0 | L3: 0 | M3: 0 | N3: 0 | O3: 0 | P3: 0 | Q3: 0 | R3: 0 | S3: 0 | T3: 0 | U3: 0 | V3: 0 | W3: 0 | X3: 0 | Y3: 0 | Z3: 0 | AA3: 0 | AB3: 0 | AC3: 0 | AD3: 0 | AE3: 0 | AF3: 0 | AG3: 0 | AH3: 0
A4: 0 | B4: 0 | C4: 0 | D4: 0 | E4: 0 | F4: 0 | G4: 0 | H4: 0 | I4: 0 | J4: 0 | K4: 0 | L4: 0 | M4: 0 | N4: 0 | O4: 0 | P4: 0 | Q4: 0 | R4: 0 | S4: 0 | T4: 0 | U4: 0 | V4: 0 | W4: 0 | X4: 0 | Y4: 0 | Z4: 0 | AA4: 0 | AB4: 0 | AC4: 0 | AD4: 0 | AE4: 0 | AF4: 0 | AG4: 0 | AH4: 0
A5: DEMISSION 2019 | B5: 0 | C5: 0 | D5: 0 | E5: 0 | F5: 0 | G5: 0 | H5: 0 | I5: 0 | J5: 0 | K5: 0 | L5: 0 | M5: 0 | N5: 0 | O5: 0 | P5: 0 | Q5: 0 | R5: 0 | S5: 0 | T5: 0 | U5: 0 | V5: 0 | W5: 0 | X5: 0 | Y5: 0 | Z5: 0 | AA5: 0 | AB5: 0 | AC5: 0 | AD5: 0 | AE5: 0 | AF5: 0 | AG5: 0 | AH5: 0
A6: Nom | B6: Prénom | C6: Matricule | D6: Date de sortie physique | E6: Commentaires | F6: Age | G6: Date de notification de départ | H6: Date de sortie administrative | I6: Témoin ré-entrée envisagée | J6: Code-Statut résultant de la sortie | K6: Statut résultant de la sortie | L6: Code-Motif de situation après sortie | M6: Motif de situation après sortie | N6: Date de début du préavis | O6: Date de fin du préavis | P6: Date de début du préavis2 | Q6: Date de fin du préavis2 | R6: Date de début du préavis3 | S6: Date de fin du préavis3 | T6: Date engagement de procédure licenc. | U6: Témoin de suivi | V6: Type de la déclaration | W6: Numéro d'ordre de la déclaration | X6: Num. d'ordre déclaration substituée | Y6: Utilisateur | Z6: Date de sortie pour la paie | AA6: Date de signature de la rupture conventionelle | AB6: DPT | AC6: UOP | AD6: Qualif | AE6: Motif | AF6: Poste | AG6: Mois de Sortie | AH6: Année de sortie
A7: Test 1 | B7: Suite Test 1 | C7: 0 | D7: 43485 | E7: 0 | F7: 0 | G7: 0 | H7: 0 | I7: 0 | J7: DEMIS | K7: Demission | L7: 0 | M7: Demission | N7: 0 | O7: 0 | P7: 0 | Q7: 0 | R7: 0 | S7: 0 | T7: 0 | U7: 0 | V7: 0 | W7: 0 | X7: 0 | Y7: 0 | Z7: 0 | AA7: 0 | AB7: 0 | AC7: 0 | AD7: 0 | AE7: Personnel | AF7: 0 | AG7: 0 | AH7: 0
A8: Test 2 | B8: Suite Test 2 | C8: 0 | D8: 43482 | E8: 0 | F8: 0 | G8: 0 | H8: 0 | I8: 0 | J8: DEMIS | K8: Demission | L8: 0 | M8: Demission | N8: 0 | O8: 0 | P8: 0 | Q8: 0 | R8: 0 | S8: 0 | T8: 0 | U8: 0 | V8: 0 | W8: 0 | X8: 0 | Y8: 0 | Z8: 0 | AA8: 0 | AB8: 0 | AC8: 0 | AD8: 0 | AE8: Personnel | AF8: 0 | AG8: 0 | AH8: 0
A9: Test 3 | B9: Suite Test 3 | C9: 0 | D9: 43486 | E9: 0 | F9: 0 | G9: 0 | H9: 0 | I9: 0 | J9: DEMIS | K9: Demission | L9: 0 | M9: Demission | N9: 0 | O9: 0 | P9: 0 | Q9: 0 | R9: 0 | S9: 0 | T9: 0 | U9: 0 | V9: 0 | W9: 0 | X9: 0 | Y9: 0 | Z9: 0 | AA9: 0 | AB9: 0 | AC9: 0 | AD9: 0 | AE9: 0 | AF9: 0 | AG9: 0 | AH9: 0
A10: Test 4 | B10: Suite Test 4 | C10: 0 | D10: 43507 | E10: 0 | F10: 0 | G10: 0 | H10: 0 | I10: 0 | J10: DEMIS | K10: Demission | L10: 0 | M10: Demission | N10: 0 | O10: 0 | P10: 0 | Q10: 0 | R10: 0 | S10: 0 | T10: 0 | U10: 0 | V10: 0 | W10: 0 | X10: 0 | Y10: 0 | Z10: 0 | AA10: 0 | AB10: 0 | AC10: 0 | AD10: 0 | AE10: - | AF10: 0 | AG10: 0 | AH10: 0
A11: Test 5 | B11: Suite Test 5 | C11: 0 | D11: 43517 | E11: 0 | F11: 0 | G11: 0 | H11: 0 | I11: 0 | J11: DEMIS | K11: Demission | L11: 0 | M11: Demission | N11: 0 | O11: 0 | P11: 0 | Q11: 0 | R11: 0 | S11: 0 | T11: 0 | U11: 0 | V11: 0 | W11: 0 | X11: 0 | Y11: 0 | Z11: 0 | AA11: 0 | AB11: 0 | AC11: 0 | AD11: 0 | AE11: 0 | AF11: 0 | AG11: 0 | AH11: 0
A12: Test 6 | B12: Suite Test 6 | C12: 0 | D12: 43524 | E12: 0 | F12: 0 | G12: 0 | H12: 0 | I12: 0 | J12: DEMIS | K12: Demission | L12: 0 | M12: Demission | N12: 0 | O12: 0 | P12: 0 | Q12: 0 | R12: 0 | S12: 0 | T12: 0 | U12: 0 | V12: 0 | W12: 0 | X12: 0 | Y12: 0 | Z12: 0 | AA12: 0 | AB12: 0 | AC12: 0 | AD12: 0 | AE12: - | AF12: 0 | AG12: 0 | AH12: 0
A13: Test 7 | B13: Suite Test 7 | C13: 0 | D13: 43525 | E13: 0 | F13: 0 | G13: 0 | H13: 0 | I13: 0 | J13: DEMIS | K13: Demission | L13: 0 | M13: Demission | N13: 0 | O13: 0 | P13: 0 | Q13: 0 | R13: 0 | S13: 0 | T13: 0 | U13: 0 | V13: 0 | W13: 0 | X13: 0 | Y13: 0 | Z13: 0 | AA13: 0 | AB13: 0 | AC13: 0 | AD13: 0 | AE13: 0 | AF13: 0 | AG13: 0 | AH13: 0
A14: Test 8 | B14: Suite Test 8 | C14: 0 | D14: 43594 | E14: 0 | F14: 0 | G14: 0 | H14: 0 | I14: 0 | J14: DEMIS | K14: Demission | L14: 0 | M14: Demission | N14: 0 | O14: 0 | P14: 0 | Q14: 0 | R14: 0 | S14: 0 | T14: 0 | U14: 0 | V14: 0 | W14: 0 | X14: 0 | Y14: 0 | Z14: 0 | AA14: 0 | AB14: 0 | AC14: 0 | AD14: 0 | AE14: 0 | AF14: 0 | AG14: 0 | AH14: 0
A15: Test 9 | B15: Suite Test 9 | C15: 0 | D15: 43597 | E15: 0 | F15: 0 | G15: 0 | H15: 0 | I15: 0 | J15: DEMIS | K15: Demission | L15: 0 | M15: Demission | N15: 0 | O15: 0 | P15: 0 | Q15: 0 | R15: 0 | S15: 0 | T15: 0 | U15: 0 | V15: 0 | W15: 0 | X15: 0 | Y15: 0 | Z15: 0 | AA15: 0 | AB15: 0 | AC15: 0 | AD15: 0 | AE15: 0 | AF15: 0 | AG15: 0 | AH15: 0
A16: Test 10 | B16: Suite Test 10 | C16: 0 | D16: 43599 | E16: 0 | F16: 0 | G16: 0 | H16: 0 | I16: 0 | J16: DEMIS | K16: Demission | L16: 0 | M16: Demission | N16: 0 | O16: 0 | P16: 0 | Q16: 0 | R16: 0 | S16: 0 | T16: 0 | U16: 0 | V16: 0 | W16: 0 | X16: 0 | Y16: 0 | Z16: 0 | AA16: 0 | AB16: 0 | AC16: 0 | AD16: 0 | AE16: - | AF16: 0 | AG16: 0 | AH16: 0
A17: Test 11 | B17: Suite Test 11 | C17: 0 | D17: 43609 | E17: 0 | F17: 0 | G17: 0 | H17: 0 | I17: 0 | J17: DEMIS | K17: Demission | L17: 0 | M17: Demission | N17: 0 | O17: 0 | P17: 0 | Q17: 0 | R17: 0 | S17: 0 | T17: 0 | U17: 0 | V17: 0 | W17: 0 | X17: 0 | Y17: 0 | Z17: 0 | AA17: 0 | AB17: 0 | AC17: 0 | AD17: 0 | AE17: 0 | AF17: 0 | AG17: 0 | AH17: 0
A18: Test 12 | B18: Suite Test 12 | C18: 0 | D18: 43616 | E18: 0 | F18: 0 | G18: 0 | H18: 0 | I18: 0 | J18: DEMIS | K18: Demission | L18: 0 | M18: Demission | N18: 0 | O18: 0 | P18: 0 | Q18: 0 | R18: 0 | S18: 0 | T18: 0 | U18: 0 | V18: 0 | W18: 0 | X18: 0 | Y18: 0 | Z18: 0 | AA18: 0 | AB18: 0 | AC18: 0 | AD18: 0 | AE18: 0 | AF18: 0 | AG18: 0 | AH18: 0
A19: Test 13 | B19: Suite Test 13 | C19: 0 | D19: 43738 | E19: 0 | F19: 0 | G19: 0 | H19: 0 | I19: 0 | J19: DEMIS | K19: Demission | L19: 0 | M19: Demission | N19: 0 | O19: 0 | P19: 0 | Q19: 0 | R19: 0 | S19: 0 | T19: 0 | U19: 0 | V19: 0 | W19: 0 | X19: 0 | Y19: 0 | Z19: 0 | AA19: 0 | AB19: 0 | AC19: 0 | AD19: 0 | AE19: 0 | AF19: 0 | AG19: 0 | AH19: 0
A20: Test 14 | B20: Suite Test 14 | C20: 0 | D20: 43831 | E20: 0 | F20: 0 | G20: 0 | H20: 0 | I20: 0 | J20: DEMIS | K20: Demission | L20: 0 | M20: Demission | N20: 0 | O20: 0 | P20: 0 | Q20: 0 | R20: 0 | S20: 0 | T20: 0 | U20: 0 | V20: 0 | W20: 0 | X20: 0 | Y20: 0 | Z20: 0 | AA20: 0 | AB20: 0 | AC20: 0 | AD20: 0 | AE20: 0 | AF20: 0 | AG20: 0 | AH20: 0
A21: Test 15 | B21: Suite Test 15 | C21: 0 | D21: 0 | E21: 0 | F21: 0 | G21: 0 | H21: 0 | I21: 0 | J21: DEMIS | K21: Demission | L21: 0 | M21: Demission | N21: 0 | O21: 0 | P21: 0 | Q21: 0 | R21: 0 | S21: 0 | T21: 0 | U21: 0 | V21: 0 | W21: 0 | X21: 0 | Y21: 0 | Z21: 0 | AA21: 0 | AB21: 0 | AC21: 0 | AD21: 0 | AE21: 0 | AF21: 0 | AG21: 0 | AH21: 0
A22: Test 16 | B22: Suite Test 16 | C22: 0 | D22: 0 | E22: 0 | F22: 0 | G22: 0 | H22: 0 | I22: 0 | J22: DEMIS | K22: Demission | L22: 0 | M22: Demission | N22: 0 | O22: 0 | P22: 0 | Q22: 0 | R22: 0 | S22: 0 | T22: 0 | U22: 0 | V22: 0 | W22: 0 | X22: 0 | Y22: 0 | Z22: 0 | AA22: 0 | AB22: 0 | AC22: 0 | AD22: 0 | AE22: 0 | AF22: 0 | AG22: 0 | AH22: 0
A23: 0 | B23: 0 | C23: 0 | D23: 0 | E23: 0 | F23: 0 | G23: 0 | H23: 0 | I23: 0 | J23: 0 | K23: 0 | L23: 0 | M23: 0 | N23: 0 | O23: 0 | P23: 0 | Q23: 0 | R23: 0 | S23: 0 | T23: 0 | U23: 0 | V23: 0 | W23: 0 | X23: 0 | Y23: 0 | Z23: 0 | AA23: 0 | AB23: 0 | AC23: 0 | AD23: 0 | AE23: 0 | AF23: 0 | AG23: 0 | AH23: 0
A24: 0 | B24: 0 | C24: 0 | D24: 0 | E24: 0 | F24: 0 | G24: 0 | H24: 0 | I24: 0 | J24: 0 | K24: 0 | L24: 0 | M24: 0 | N24: 0 | O24: 0 | P24: 0 | Q24: 0 | R24: 0 | S24: 0 | T24: 0 | U24: 0 | V24: 0 | W24: 0 | X24: 0 | Y24: 0 | Z24: 0 | AA24: 0 | AB24: 0 | AC24: 0 | AD24: 0 | AE24: 0 | AF24: 0 | AG24: 0 | AH24: 0
A25: 0 | B25: 0 | C25: 0 | D25: 0 | E25: 0 | F25: 0 | G25: 0 | H25: 0 | I25: 0 | J25: 0 | K25: 0 | L25: 0 | M25: 0 | N25: 0 | O25: 0 | P25: 0 | Q25: 0 | R25: 0 | S25: 0 | T25: 0 | U25: 0 | V25: 0 | W25: 0 | X25: 0 | Y25: 0 | Z25: 0 | AA25: 0 | AB25: 0 | AC25: 0 | AD25: 0 | AE25: 0 | AF25: 0 | AG25: 0 | AH25: 0
A26: 0 | B26: 0 | C26: 0 | D26: 0 | E26: 0 | F26: 0 | G26: 0 | H26: 0 | I26: 0 | J26: 0 | K26: 0 | L26: 0 | M26: 0 | N26: 0 | O26: 0 | P26: 0 | Q26: 0 | R26: 0 | S26: 0 | T26: 0 | U26: 0 | V26: 0 | W26: 0 | X26: 0 | Y26: 0 | Z26: 0 | AA26: 0 | AB26: 0 | AC26: 0 | AD26: 0 | AE26: 0 | AF26: 0 | AG26: 0 | AH26: 0
A27: 0 | B27: 0 | C27: 0 | D27: 0 | E27: 0 | F27: 0 | G27: 0 | H27: 0 | I27: 0 | J27: 0 | K27: 0 | L27: 0 | M27: 0 | N27: 0 | O27: 0 | P27: 0 | Q27: 0 | R27: 0 | S27: 0 | T27: 0 | U27: 0 | V27: 0 | W27: 0 | X27: 0 | Y27: 0 | Z27: 0 | AA27: 0 | AB27: 0 | AC27: 0 | AD27: 0 | AE27: 0 | AF27: 0 | AG27: 0 | AH27: 0
A28: 0 | B28: 0 | C28: 0 | D28: 0 | E28: 0 | F28: 0 | G28: 0 | H28: 0 | I28: 0 | J28: 0 | K28: 0 | L28: 0 | M28: 0 | N28: 0 | O28: 0 | P28: 0 | Q28: 0 | R28: 0 | S28: 0 | T28: 0 | U28: 0 | V28: 0 | W28: 0 | X28: 0 | Y28: 0 | Z28: 0 | AA28: 0 | AB28: 0 | AC28: 0 | AD28: 0 | AE28: 0 | AF28: 0 | AG28: 0 | AH28: 0
A29: 0 | B29: 0 | C29: 0 | D29: 0 | E29: 0 | F29: 0 | G29: 0 | H29: 0 | I29: 0 | J29: 0 | K29: 0 | L29: 0 | M29: 0 | N29: 0 | O29: 0 | P29: 0 | Q29: 0 | R29: 0 | S29: 0 | T29: 0 | U29: 0 | V29: 0 | W29: 0 | X29: 0 | Y29: 0 | Z29: 0 | AA29: 0 | AB29: 0 | AC29: 0 | AD29: 0 | AE29: 0 | AF29: 0 | AG29: 0 | AH29: 0
A30: 0 | B30: 0 | C30: 0 | D30: 0 | E30: 0 | F30: 0 | G30: 0 | H30: 0 | I30: 0 | J30: 0 | K30: 0 | L30: 0 | M30: 0 | N30: 0 | O30: 0 | P30: 0 | Q30: 0 | R30: 0 | S30: 0 | T30: 0 | U30: 0 | V30: 0 | W30: 0 | X30: 0 | Y30: 0 | Z30: 0 | AA30: 0 | AB30: 0 | AC30: 0 | AD30: 0 | AE30: 0 | AF30: 0 | AG30: 0 | AH30: 0
A31: 0 | B31: 0 | C31: 0 | D31: 0 | E31: 0 | F31: 0 | G31: 0 | H31: 0 | I31: 0 | J31: 0 | K31: 0 | L31: 0 | M31: 0 | N31: 0 | O31: 0 | P31: 0 | Q31: 0 | R31: 0 | S31: 0 | T31: 0 | U31: 0 | V31: 0 | W31: 0 | X31: 0 | Y31: 0 | Z31: 0 | AA31: 0 | AB31: 0 | AC31: 0 | AD31: 0 | AE31: 0 | AF31: 0 | AG31: 0 | AH31: 0
A32: 0 | B32: 0 | C32: 0 | D32: 0 | E32: 0 | F32: 0 | G32: 0 | H32: 0 | I32: 0 | J32: 0 | K32: 0 | L32: 0 | M32: 0 | N32: 0 | O32: 0 | P32: 0 | Q32: 0 | R32: 0 | S32: 0 | T32: 0 | U32: 0 | V32: 0 | W32: 0 | X32: 0 | Y32: 0 | Z32: 0 | AA32: 0 | AB32: 0 | AC32: 0 | AD32: 0 | AE32: 0 | AF32: 0 | AG32: 0 | AH32: 0
A33: 0 | B33: 0 | C33: 0 | D33: 0 | E33: 0 | F33: 0 | G33: 0 | H33: 0 | I33: 0 | J33: 0 | K33: 0 | L33: 0 | M33: 0 | N33: 0 | O33: 0 | P33: 0 | Q33: 0 | R33: 0 | S33: 0 | T33: 0 | U33: 0 | V33: 0 | W33: 0 | X33: 0 | Y33: 0 | Z33: 0 | AA33: 0 | AB33: 0 | AC33: 0 | AD33: 0 | AE33: 0 | AF33: 0 | AG33: 0 | AH33: 0
A34: LICENCIEMENTS 2019 | B34: 0 | C34: 0 | D34: 0 | E34: 0 | F34: 0 | G34: 0 | H34: 0 | I34: 0 | J34: 0 | K34: 0 | L34: 0 | M34: 0 | N34: 0 | O34: 0 | P34: 0 | Q34: 0 | R34: 0 | S34: 0 | T34: 0 | U34: 0 | V34: 0 | W34: 0 | X34: 0 | Y34: 0 | Z34: 0 | AA34: 0 | AB34: 0 | AC34: 0 | AD34: 0 | AE34: 0 | AF34: 0 | AG34: 0 | AH34: 0
A35: Nom | B35: Prénom | C35: Matricule | D35: Date de sortie physique | E35: Commentaires | F35: Age | G35: Date de notification de départ | H35: Date de sortie administrative | I35: Témoin ré-entrée envisagée | J35: Code-Statut résultant de la sortie | K35: Statut résultant de la sortie | L35: Code-Motif de situation après sortie | M35: Motif de situation après sortie | N35: Date de début du préavis | O35: Date de fin du préavis | P35: Date de début du préavis2 | Q35: Date de fin du préavis2 | R35: Date de début du préavis3 | S35: Date de fin du préavis3 | T35: Date engagement de procédure licenc. | U35: Témoin de suivi | V35: Type de la déclaration | W35: Numéro d'ordre de la déclaration | X35: Num. d'ordre déclaration substituée | Y35: Utilisateur | Z35: Date de sortie pour la paie | AA35: Date de signature de la rupture conventionelle | AB35: DPT | AC35: UOP | AD35: Qualif | AE35: Motif | AF35: Poste | AG35: Mois de Sortie | AH35: Année de sortie
A36: Test 50 | B36: Suite Test 50 | C36: 0 | D36: 43570 | E36: 0 | F36: 0 | G36: 0 | H36: 0 | I36: 0 | J36: LICENS | K36: Licenciement | L36: 0 | M36: Licenciement | N36: 0 | O36: 0 | P36: 0 | Q36: 0 | R36: 0 | S36: 0 | T36: 0 | U36: 0 | V36: 0 | W36: 0 | X36: 0 | Y36: 0 | Z36: 0 | AA36: 0 | AB36: 0 | AC36: 0 | AD36: 0 | AE36: 0 | AF36: 0 | AG36: 0 | AH36: 0
A37: Test 51 | B37: Suite Test 51 | C37: 0 | D37: 43588 | E37: 0 | F37: 0 | G37: 0 | H37: 0 | I37: 0 | J37: LICENS | K37: Licenciement | L37: 0 | M37: Licenciement | N37: 0 | O37: 0 | P37: 0 | Q37: 0 | R37: 0 | S37: 0 | T37: 0 | U37: 0 | V37: 0 | W37: 0 | X37: 0 | Y37: 0 | Z37: 0 | AA37: 0 | AB37: 0 | AC37: 0 | AD37: 0 | AE37: 0 | AF37: 0 | AG37: 0 | AH37: 0
A38: 0 | B38: 0 | C38: 0 | D38: 0 | E38: 0 | F38: 0 | G38: 0 | H38: 0 | I38: 0 | J38: 0 | K38: 0 | L38: 0 | M38: 0 | N38: 0 | O38: 0 | P38: 0 | Q38: 0 | R38: 0 | S38: 0 | T38: 0 | U38: 0 | V38: 0 | W38: 0 | X38: 0 | Y38: 0 | Z38: 0 | AA38: 0 | AB38: 0 | AC38: 0 | AD38: 0 | AE38: 0 | AF38: 0 | AG38: 0 | AH38: 0
A39: 0 | B39: 0 | C39: 0 | D39: 0 | E39: 0 | F39: 0 | G39: 0 | H39: 0 | I39: 0 | J39: 0 | K39: 0 | L39: 0 | M39: 0 | N39: 0 | O39: 0 | P39: 0 | Q39: 0 | R39: 0 | S39: 0 | T39: 0 | U39: 0 | V39: 0 | W39: 0 | X39: 0 | Y39: 0 | Z39: 0 | AA39: 0 | AB39: 0 | AC39: 0 | AD39: 0 | AE39: 0 | AF39: 0 | AG39: 0 | AH39: 0
A40: 0 | B40: 0 | C40: 0 | D40: 0 | E40: 0 | F40: 0 | G40: 0 | H40: 0 | I40: 0 | J40: 0 | K40: 0 | L40: 0 | M40: 0 | N40: 0 | O40: 0 | P40: 0 | Q40: 0 | R40: 0 | S40: 0 | T40: 0 | U40: 0 | V40: 0 | W40: 0 | X40: 0 | Y40: 0 | Z40: 0 | AA40: 0 | AB40: 0 | AC40: 0 | AD40: 0 | AE40: 0 | AF40: 0 | AG40: 0 | AH40: 0
A41: 0 | B41: 0 | C41: 0 | D41: 0 | E41: 0 | F41: 0 | G41: 0 | H41: 0 | I41: 0 | J41: 0 | K41: 0 | L41: 0 | M41: 0 | N41: 0 | O41: 0 | P41: 0 | Q41: 0 | R41: 0 | S41: 0 | T41: 0 | U41: 0 | V41: 0 | W41: 0 | X41: 0 | Y41: 0 | Z41: 0 | AA41: 0 | AB41: 0 | AC41: 0 | AD41: 0 | AE41: 0 | AF41: 0 | AG41: 0 | AH41: 0
A42: REFORMES 2019 | B42: 0 | C42: 0 | D42: 0 | E42: 0 | F42: 0 | G42: 0 | H42: 0 | I42: 0 | J42: 0 | K42: 0 | L42: 0 | M42: 0 | N42: 0 | O42: 0 | P42: 0 | Q42: 0 | R42: 0 | S42: 0 | T42: 0 | U42: 0 | V42: 0 | W42: 0 | X42: 0 | Y42: 0 | Z42: 0 | AA42: 0 | AB42: 0 | AC42: 0 | AD42: 0 | AE42: 0 | AF42: 0 | AG42: 0 | AH42: 0
A43: Nom | B43: Prénom | C43: Matricule | D43: Date de sortie physique | E43: Commentaires | F43: Age | G43: Date de notification de départ | H43: Date de sortie administrative | I43: Témoin ré-entrée envisagée | J43: Code-Statut résultant de la sortie | K43: Statut résultant de la sortie | L43: Code-Motif de situation après sortie | M43: Motif de situation après sortie | N43: Date de début du préavis | O43: Date de fin du préavis | P43: Date de début du préavis2 | Q43: Date de fin du préavis2 | R43: Date de début du préavis3 | S43: Date de fin du préavis3 | T43: Date engagement de procédure licenc. | U43: Témoin de suivi | V43: Type de la déclaration | W43: Numéro d'ordre de la déclaration | X43: Num. d'ordre déclaration substituée | Y43: Utilisateur | Z43: Date de sortie pour la paie | AA43: Date de signature de la rupture conventionelle | AB43: DPT | AC43: UOP | AD43: Qualif | AE43: Motif | AF43: Poste | AG43: Mois de Sortie | AH43: Année de sortie
A44: 0 | B44: 0 | C44: 0 | D44: 0 | E44: 0 | F44: 0 | G44: 0 | H44: 0 | I44: 0 | J44: 0 | K44: 0 | L44: 0 | M44: 0 | N44: 0 | O44: 0 | P44: 0 | Q44: 0 | R44: 0 | S44: 0 | T44: 0 | U44: 0 | V44: 0 | W44: 0 | X44: 0 | Y44: 0 | Z44: 0 | AA44: 0 | AB44: 0 | AC44: 0 | AD44: 0 | AE44: 0 | AF44: 0 | AG44: 0 | AH44: 0
A45: 0 | B45: 0 | C45: 0 | D45: 0 | E45: 0 | F45: 0 | G45: 0 | H45: 0 | I45: 0 | J45: 0 | K45: 0 | L45: 0 | M45: 0 | N45: 0 | O45: 0 | P45: 0 | Q45: 0 | R45: 0 | S45: 0 | T45: 0 | U45: 0 | V45: 0 | W45: 0 | X45: 0 | Y45: 0 | Z45: 0 | AA45: 0 | AB45: 0 | AC45: 0 | AD45: 0 | AE45: 0 | AF45: 0 | AG45: 0 | AH45: 0
A46: 0 | B46: 0 | C46: 0 | D46: 0 | E46: 0 | F46: 0 | G46: 0 | H46: 0 | I46: 0 | J46: 0 | K46: 0 | L46: 0 | M46: 0 | N46: 0 | O46: 0 | P46: 0 | Q46: 0 | R46: 0 | S46: 0 | T46: 0 | U46: 0 | V46: 0 | W46: 0 | X46: 0 | Y46: 0 | Z46: 0 | AA46: 0 | AB46: 0 | AC46: 0 | AD46: 0 | AE46: 0 | AF46: 0 | AG46: 0 | AH46: 0
A47: 0 | B47: 0 | C47: 0 | D47: 0 | E47: 0 | F47: 0 | G47: 0 | H47: 0 | I47: 0 | J47: 0 | K47: 0 | L47: 0 | M47: 0 | N47: 0 | O47: 0 | P47: 0 | Q47: 0 | R47: 0 | S47: 0 | T47: 0 | U47: 0 | V47: 0 | W47: 0 | X47: 0 | Y47: 0 | Z47: 0 | AA47: 0 | AB47: 0 | AC47: 0 | AD47: 0 | AE47: 0 | AF47: 0 | AG47: 0 | AH47: 0
A48: 0 | B48: 0 | C48: 0 | D48: 0 | E48: 0 | F48: 0 | G48: 0 | H48: 0 | I48: 0 | J48: 0 | K48: 0 | L48: 0 | M48: 0 | N48: 0 | O48: 0 | P48: 0 | Q48: 0 | R48: 0 | S48: 0 | T48: 0 | U48: 0 | V48: 0 | W48: 0 | X48: 0 | Y48: 0 | Z48: 0 | AA48: 0 | AB48: 0 | AC48: 0 | AD48: 0 | AE48: 0 | AF48: 0 | AG48: 0 | AH48: 0
A49: 0 | B49: 0 | C49: 0 | D49: 0 | E49: 0 | F49: 0 | G49: 0 | H49: 0 | I49: 0 | J49: 0 | K49: 0 | L49: 0 | M49: 0 | N49: 0 | O49: 0 | P49: 0 | Q49: 0 | R49: 0 | S49: 0 | T49: 0 | U49: 0 | V49: 0 | W49: 0 | X49: 0 | Y49: 0 | Z49: 0 | AA49: 0 | AB49: 0 | AC49: 0 | AD49: 0 | AE49: 0 | AF49: 0 | AG49: 0 | AH49: 0
A50: 0 | B50: 0 | C50: 0 | D50: 0 | E50: 0 | F50: 0 | G50: 0 | H50: 0 | I50: 0 | J50: 0 | K50: 0 | L50: 0 | M50: 0 | N50: 0 | O50: 0 | P50: 0 | Q50: 0 | R50: 0 | S50: 0 | T50: 0 | U50: 0 | V50: 0 | W50: 0 | X50: 0 | Y50: 0 | Z50: 0 | AA50: 0 | AB50: 0 | AC50: 0 | AD50: 0 | AE50: 0 | AF50: 0 | AG50: 0 | AH50: 0
