Workbook

Sheet Feuil1
A1: NUMERO | D1: NOM | E1: PRENOM | H1: ADRESSE EMAIL
A2: =IF(O2="","",INDEX(Liste!A$1:A$5952,MATCH(O2,Liste!D$1:D$5952,0))) | F2: . | G2: . | I2: . | J2: . | K2: . | O2: =D2&E2
A3: =IF(O3="","",INDEX(Liste!A$1:A$5952,MATCH(O3,Liste!D$1:D$5952,0))) -> 104 | D3: GIANNI | E3: MAES | N3: =IF(AND(COUNTA(D3:E3)=2,SUMPRODUCT(($D$3:$D$6=D3)*($E$3:$E$6=E3))>1),"Doublon","") | O3: =D3&E3 -> GIANNIMAES
A4: =IF(O4="","",INDEX(Liste!A$1:A$5952,MATCH(O4,Liste!D$1:D$5952,0))) | N4: =IF(AND(COUNTA(D4:E4)=2,SUMPRODUCT(($D$3:$D$6=D4)*($E$3:$E$6=E4))>1),"Doublon","") | O4: =D4&E4
A5: =IF(O5="","",INDEX(Liste!A$1:A$5952,MATCH(O5,Liste!D$1:D$5952,0))) | N5: =IF(AND(COUNTA(D5:E5)=2,SUMPRODUCT(($D$3:$D$6=D5)*($E$3:$E$6=E5))>1),"Doublon","") | O5: =D5&E5
A6: =IF(O6="","",INDEX(Liste!A$1:A$5952,MATCH(O6,Liste!D$1:D$5952,0))) | N6: =IF(AND(COUNTA(D6:E6)=2,SUMPRODUCT(($D$3:$D$6=D6)*($E$3:$E$6=E6))>1),"Doublon","") | O6: =D6&E6
A7: =IF(O7="","",INDEX(Liste!A$1:A$5952,MATCH(O7,Liste!D$1:D$5952,0))) | F7: . | G7: . | I7: . | N7: =IF(COUNTIF($D$3:D7,D7)>1,"Doublon","") | O7: =D7&E7
A8: =IF(O8="","",INDEX(Liste!A$1:A$5952,MATCH(O8,Liste!D$1:D$5952,0))) | O8: =D8&E8
A9: =IF(O9="","",INDEX(Liste!A$1:A$5952,MATCH(O9,Liste!D$1:D$5952,0))) | O9: =D9&E9
A10: =IF(O10="","",INDEX(Liste!A$1:A$5952,MATCH(O10,Liste!D$1:D$5952,0))) | O10: =D10&E10
A11: =IF(O11="","",INDEX(Liste!A$1:A$5952,MATCH(O11,Liste!D$1:D$5952,0))) | O11: =D11&E11
A12: =IF(O12="","",INDEX(Liste!A$1:A$5952,MATCH(O12,Liste!D$1:D$5952,0))) | O12: =D12&E12
A13: =IF(O13="","",INDEX(Liste!A$1:A$5952,MATCH(O13,Liste!D$1:D$5952,0))) | O13: =D13&E13
A14: =IF(O14="","",INDEX(Liste!A$1:A$5952,MATCH(O14,Liste!D$1:D$5952,0))) | O14: =D14&E14
A15: =IF(O15="","",INDEX(Liste!A$1:A$5952,MATCH(O15,Liste!D$1:D$5952,0))) | O15: =D15&E15
A16: =IF(O16="","",INDEX(Liste!A$1:A$5952,MATCH(O16,Liste!D$1:D$5952,0))) | O16: =D16&E16
B19: Bonjour,
B20: Vous avez deux feuilles, Feuil1 et Liste.
B21: Dans liste, il y a des données
B22: dans Feuil1, voici ce qui est demandé :
B24: Lorsque l'on inscrit dans les cellules D et E d'une même ligne le nom et prénom,
B25: que le numéro (colonne A) et l'adresse Email (colonne H) s'y inscrive automatiquement
B27: Ca fonctionne pour le numéro mais pas pour l'email… il manque donc la formule dans la colonne H
B29: Grand merci pour votre aide

Sheet Liste
A1: 100 | B1: MANUEL | C1: DUPONT | D1: =B1&C1 -> MANUELDUPONT | E1: MANUELDUPONT @gmail.com
A2: 101 | B2: JEAN-LUC | C2: DURANT | D2: =B2&C2 -> JEAN-LUCDURANT | E2: JEAN-LUCDURANT @gmail.com
A3: 102 | B3: FILIP | C3: LEBRUN | D3: =B3&C3 -> FILIPLEBRUN | E3: FILIPLEBRUN @gmail.com
A4: 103 | B4: ERIC | C4: LEDUC | D4: =B4&C4 -> ERICLEDUC | E4: ERICLEDUC @gmail.com
A5: 104 | B5: GIANNI | C5: MAES | D5: =B5&C5 -> GIANNIMAES | E5: GIANNIMAES @gmail.com
A6: 105 | B6: FERNAND | C6: ROUSSEAU | D6: =B6&C6 -> FERNANDROUSSEAU | E6: FERNANDROUSSEAU @gmail.com
A7: 106 | B7: GENEVIEVE | C7: LEBEAU | D7: =B7&C7 -> GENEVIEVELEBEAU | E7: GENEVIEVELEBEAU @gmail.com
A8: 107 | B8: CHRISTIAN | C8: DEGREEF | D8: =B8&C8 -> CHRISTIANDEGREEF | E8: CHRISTIANDEGREEF @gmail.com
A9: 108 | B9: ERIK | C9: VANESTE | D9: =B9&C9 -> ERIKVANESTE | E9: ERIKVANESTE @gmail.com
A10: 109 | B10: STEFAN | C10: SIMON | D10: =B10&C10 -> STEFANSIMON | E10: STEFANSIMON @gmail.com
A11: 110 | B11: JEAN-PIERRE | C11: STAES | D11: =B11&C11 -> JEAN-PIERRESTAES | E11: JEAN-PIERRESTAES @gmail.com
A12: 111 | B12: RONNY | C12: GILLON | D12: =B12&C12 -> RONNYGILLON | E12: RONNYGILLON @gmail.com
... A15: 114 | B15: SANDRA | C15: ARMANI | D15: =B15&C15 -> SANDRAARMANI | E15: SANDRAARMANI @gmail.com

Sheet Feuil3
