Workbook
Name ADRESSE: OFFSET(DONNEES!$C$2,0,0,COUNTA(DONNEES!$C:$C))
Name AnneeValeur: #REF!
Name calendrier_cases: '2019-06'!$C$6:$I$32
Name calendrier_cases: '2019-07'!$C$6:$I$26
Name calendrier_cases: '2019-08'!$C$6:$I$30
Name calendrier_cases: '2019-09'!$C$6:$I$37
Name calendrier_cases: '2019-10'!$C$6:$I$34
Name calendrier_cases: '2019-11'!$C$6:$I$34
Name calendrier_cases: '2019-12'!$C$6:$I$37
Name calendrier_cases: #REF!
Name calendrier_complet: '2019-06'!$C$2:$I$30
Name calendrier_complet: '2019-07'!$C$2:$I$21
Name calendrier_complet: '2019-08'!$C$2:$I$28
Name calendrier_complet: '2019-09'!$C$2:$I$35
Name calendrier_complet: '2019-10'!$C$2:$I$32
Name calendrier_complet: '2019-11'!$C$2:$I$32
Name calendrier_complet: '2019-12'!$C$2:$I$35
Name calendrier_complet: #REF!
Name calendrier_fond: '2019-06'!$B$1:$J$5,'2019-06'!$B$6:$B$31,'2019-06'!$C$31:$J$31,'2019-06'!$J$6:$J$30
Name calendrier_fond: '2019-07'!$B$1:$J$5,'2019-07'!$B$6:$B$21,'2019-07'!$C$18:$J$18,'2019-07'!$J$6:$J$17
Name calendrier_fond: '2019-08'!$B$1:$J$5,'2019-08'!$B$6:$B$18,'2019-08'!#REF!,'2019-08'!$J$6:$J$18
Name calendrier_fond: '2019-09'!$B$1:$J$5,'2019-09'!$B$6:$B$36,'2019-09'!$C$36:$J$36,'2019-09'!$J$6:$J$35
Name calendrier_fond: '2019-10'!$B$1:$J$5,'2019-10'!$B$6:$B$33,'2019-10'!$C$33:$J$33,'2019-10'!$J$6:$J$32
Name calendrier_fond: '2019-11'!$B$1:$J$5,'2019-11'!$B$6:$B$33,'2019-11'!$C$33:$J$33,'2019-11'!$J$6:$J$32
Name calendrier_fond: '2019-12'!$B$1:$J$5,'2019-12'!$B$6:$B$36,'2019-12'!$C$36:$J$36,'2019-12'!$J$6:$J$35
Name calendrier_fond: #REF!,#REF!,#REF!,#REF!
Name color_background: #REF!
Name color_hol_case: #REF!
Name color_hol_day: #REF!
Name color_sat_case: #REF!
Name color_sat_day: #REF!
Name color_sun_case: #REF!
Name color_sun_day: #REF!
Name color_w_case: #REF!
Name color_w_day: #REF!
Name dates_possibles: '2019-06'!$C$6:$I$6,'2019-06'!$C$11:$I$11,'2019-06'!$C$16:$I$16,'2019-06'!#REF!,'2019-06'!$C$26:$I$26,'2019-06'!$C$29:$I$29
Name dates_possibles: '2019-07'!$C$6:$I$6,'2019-07'!$C$11:$I$11,'2019-07'!$C$13:$I$13,'2019-07'!$C$14:$I$14,'2019-07'!#REF!,'2019-07'!#REF!
Name dates_possibles: '2019-08'!$C$6:$I$6,'2019-08'!$C$11:$I$11,'2019-08'!$C$16:$I$16,'2019-08'!$C$21:$I$21,'2019-08'!$C$26:$I$26,'2019-08'!$C$28:$I$28
Name dates_possibles: '2019-09'!$C$6:$I$6,'2019-09'!$C$11:$I$11,'2019-09'!$C$16:$I$16,'2019-09'!$C$21:$I$21,'2019-09'!$C$26:$I$26,'2019-09'!$C$31:$I$31
Name dates_possibles: '2019-10'!$C$6:$I$6,'2019-10'!$C$11:$I$11,'2019-10'!$C$16:$I$16,'2019-10'!$C$21:$I$21,'2019-10'!$C$26:$I$26,'2019-10'!$C$31:$I$31
Name dates_possibles: '2019-11'!$C$6:$I$6,'2019-11'!$C$11:$I$11,'2019-11'!$C$16:$I$16,'2019-11'!$C$21:$I$21,'2019-11'!$C$26:$I$26,'2019-11'!$C$31:$I$31
Name dates_possibles: '2019-12'!$C$6:$I$6,'2019-12'!$C$11:$I$11,'2019-12'!$C$16:$I$16,'2019-12'!$C$21:$I$21,'2019-12'!$C$26:$I$26,'2019-12'!$C$31:$I$31
Name dates_possibles: #REF!,#REF!,#REF!,#REF!,#REF!,#REF!
Name dimanches_cases: '2019-06'!$I$10,'2019-06'!$I$15,'2019-06'!$I$17,'2019-06'!#REF!,'2019-06'!#REF!,'2019-06'!$I$30
Name dimanches_cases: '2019-07'!$I$10,'2019-07'!#REF!,'2019-07'!#REF!,'2019-07'!#REF!,'2019-07'!$I$27,'2019-07'!#REF!
Name dimanches_cases: '2019-08'!$I$10,'2019-08'!$I$15,'2019-08'!#REF!,'2019-08'!#REF!,'2019-08'!$I$27,'2019-08'!#REF!
Name dimanches_cases: '2019-09'!$I$10,'2019-09'!$I$15,'2019-09'!$I$20,'2019-09'!$I$25,'2019-09'!$I$30,'2019-09'!$I$35
Name dimanches_cases: '2019-10'!$I$10,'2019-10'!$I$15,'2019-10'!$I$20,'2019-10'!$I$25,'2019-10'!$I$30,'2019-10'!$I$32
Name dimanches_cases: '2019-11'!$I$10,'2019-11'!$I$15,'2019-11'!$I$20,'2019-11'!$I$25,'2019-11'!$I$30,'2019-11'!$I$32
Name dimanches_cases: '2019-12'!$I$10,'2019-12'!$I$15,'2019-12'!$I$20,'2019-12'!$I$25,'2019-12'!$I$30,'2019-12'!$I$35
Name dimanches_cases: #REF!,#REF!,#REF!,#REF!,#REF!,#REF!
Name dimanches_dates: '2019-06'!$I$6,'2019-06'!$I$11,'2019-06'!$I$16,'2019-06'!#REF!,'2019-06'!$I$26,'2019-06'!$I$29
Name dimanches_dates: '2019-07'!$I$6,'2019-07'!$I$11,'2019-07'!$I$16,'2019-07'!$I$21,'2019-07'!$I$26,'2019-07'!$I$28
Name dimanches_dates: '2019-08'!$I$6,'2019-08'!$I$11,'2019-08'!$I$16,'2019-08'!$I$21,'2019-08'!$I$26,'2019-08'!$I$28
Name dimanches_dates: '2019-09'!$I$6,'2019-09'!$I$11,'2019-09'!$I$16,'2019-09'!$I$21,'2019-09'!$I$26,'2019-09'!$I$31
Name dimanches_dates: '2019-10'!$I$6,'2019-10'!$I$11,'2019-10'!$I$16,'2019-10'!$I$21,'2019-10'!$I$26,'2019-10'!$I$31
Name dimanches_dates: '2019-11'!$I$6,'2019-11'!$I$11,'2019-11'!$I$16,'2019-11'!$I$21,'2019-11'!$I$26,'2019-11'!$I$31
Name dimanches_dates: '2019-12'!$I$6,'2019-12'!$I$11,'2019-12'!$I$16,'2019-12'!$I$21,'2019-12'!$I$26,'2019-12'!$I$31
Name dimanches_dates: #REF!,#REF!,#REF!,#REF!,#REF!,#REF!
Name DUREE1: OFFSET(DONNEES!$G$2,0,0,COUNTA(DONNEES!$G:$G))

Sheet 2019-06
C2: Juin | D2: 2019
C4: Lundi | D4: Mardi | E4: Mercredi | F4: Jeudi | G4: Vendredi | H4: Samedi | I4: Dimanche
H6: 43617 | I6: 43618
C11: 43619 | D11: 43620 | E11: 43621 | F11: 43622 | G11: 43623 | H11: 43624 | I11: 43625
C16: 43626 | D16: 43627 | E16: 43628 | F16: 43629 | G16: 43630 | H16: 43631 | I16: 43632
C21: 43633 | D21: 43634 | E21: 43635 | F21: 43636 | G21: 43637 | H21: 43638 | I21: 43639
F22: =IFERROR(INDEX(Planning!$B$2:$B$7,MATCH($F$21,Planning!$A$2:$A$197,0)),"-") -> 0.83333333 | G22: =IFERROR(INDEX(Planning!$B$2:$B$7,MATCH($G$21,Planning!$A$2:$A$197,0)),"-") -> 0.83333333
F23: =IFERROR(INDEX(Planning!$C$2:$C$7,MATCH($F$21,Planning!$A$2:$A$197,0)),"-") -> 0.29166667 | G23: =IFERROR(INDEX(Planning!$C$2:$C$7,MATCH($G$21,Planning!$A$2:$A$197,0)),"-") -> 0.29166667
F24: =IFERROR(INDEX(Planning!$E$2:$E$7,MATCH($F$21,Planning!$A$2:$A$197,0)),"-") -> Wolué | G24: =IFERROR(INDEX(Planning!$E$2:$E$7,MATCH($G$21,Planning!$A$2:$A$197,0)),"-") -> Wolué
F25: =IFERROR(INDEX(Planning!$F$2:$F$7,MATCH($F$21,Planning!$A$2:$A$197,0)),"-") -> MC | G25: =IFERROR(INDEX(Planning!$F$2:$F$7,MATCH($G$21,Planning!$A$2:$A$197,0)),"-") -> MC
C26: 43640 | D26: 43641 | E26: 43642 | F26: 43643 | G26: 43644 | H26: 43645 | I26: 43646
C27: =IFERROR(INDEX(Planning!$B$2:$B$7,MATCH($C$26,Planning!$A$2:$A$197,0)),"-") -> 0.83333333 | D27: =IFERROR(INDEX(Planning!$B$2:$B$7,MATCH($D$26,Planning!$A$2:$A$197,0)),"-") -> 0.83333333 | E27: =IFERROR(INDEX(Planning!$B$2:$B$7,MATCH($E$26,Planning!$A$2:$A$197,0)),"-") -> 0.91666667 | F27: =IFERROR(INDEX(Planning!$B$2:$B$7,MATCH($F$26,Planning!$A$2:$A$197,0)),"-") -> 0.83333333
C28: =IFERROR(INDEX(Planning!$C$2:$C$7,MATCH($C$26,Planning!$A$2:$A$197,0)),"-") -> 0.29166667 | D28: =IFERROR(INDEX(Planning!$C$2:$C$7,MATCH($D$26,Planning!$A$2:$A$197,0)),"-") -> 0.29166667 | E28: =IFERROR(INDEX(Planning!$C$2:$C$7,MATCH($E$26,Planning!$A$2:$A$197,0)),"-") -> 0.25 | F28: =IFERROR(INDEX(Planning!$C$2:$C$7,MATCH($F$26,Planning!$A$2:$A$197,0)),"-") -> 0.29166667
C29: =IFERROR(INDEX(Planning!$E$2:$E$7,MATCH($C$26,Planning!$A$2:$A$197,0)),"-") -> Wolué | D29: =IFERROR(INDEX(Planning!$E$2:$E$7,MATCH($D$26,Planning!$A$2:$A$197,0)),"-") -> Wolué | E29: =IFERROR(INDEX(Planning!$E$2:$E$7,MATCH($E$26,Planning!$A$2:$A$197,0)),"-") -> Brel | F29: =IFERROR(INDEX(Planning!$E$2:$E$7,MATCH($F$26,Planning!$A$2:$A$197,0)),"-") -> Wolué
C30: =IFERROR(INDEX(Planning!$F$2:$F$7,MATCH($C$26,Planning!$A$2:$A$197,0)),"-") -> MC | D30: =IFERROR(INDEX(Planning!$F$2:$F$7,MATCH($D$26,Planning!$A$2:$A$197,0)),"-") -> MC | E30: =IFERROR(INDEX(Planning!$F$2:$F$7,MATCH($E$26,Planning!$A$2:$A$197,0)),"-") -> MC | F30: =IFERROR(INDEX(Planning!$F$2:$F$7,MATCH($F$26,Planning!$A$2:$A$197,0)),"-") -> MC

Sheet 2019-07
C2: Juillet | D2: 2019
C4: Lundi | D4: Mardi | E4: Mercredi | F4: Jeudi | G4: Vendredi | H4: Samedi | I4: Dimanche
C6: 43647 | D6: 43648 | E6: 43649 | F6: 43650 | G6: 43651 | H6: 43652 | I6: 43653
C7: =IFERROR(INDEX(Planning!$B$2:$B$197,MATCH($C$6,Planning!$A$2:$A$197,0)),"-") -> 0.91666667 | E7: =IFERROR(INDEX(Planning!$B$2:$B$197,MATCH($E$6,Planning!$A$2:$A$197,0)),"-") -> 0.29166667 | F7: =IFERROR(INDEX(Planning!$B$2:$B$197,MATCH($F$6,Planning!$A$2:$A$197,0)),"-") -> 0.33333333 | G7: =IFERROR(INDEX(Planning!$B$2:$B$197,MATCH($G$6,Planning!$A$2:$A$197,0)),"-") -> 0.33333333
C8: =IFERROR(INDEX(Planning!$C$2:$C$197,MATCH($C$6,Planning!$A$2:$A$197,0)),"-") -> 0.25 | E8: =IFERROR(INDEX(Planning!$C$2:$C$197,MATCH($E$6,Planning!$A$2:$A$197,0)),"-") -> 0.625 | F8: =IFERROR(INDEX(Planning!$C$2:$C$197,MATCH($F$6,Planning!$A$2:$A$197,0)),"-") -> 0.66666667 | G8: =IFERROR(INDEX(Planning!$C$2:$C$197,MATCH($G$6,Planning!$A$2:$A$197,0)),"-") -> 0.5
C9: =IFERROR(INDEX(Planning!$E$2:$E$197,MATCH($C$6,Planning!$A$2:$A$197,0)),"-") -> Haren | E9: =IFERROR(INDEX(Planning!$E$2:$E$197,MATCH($E$6,Planning!$A$2:$A$197,0)),"-") -> Asse | F9: =IFERROR(INDEX(Planning!$E$2:$E$197,MATCH($F$6,Planning!$A$2:$A$197,0)),"-") -> Merchtem | G9: =IFERROR(INDEX(Planning!$E$2:$E$197,MATCH($G$6,Planning!$A$2:$A$197,0)),"-") -> Merchtem
C10: =IFERROR(INDEX(Planning!$F$2:$F$197,MATCH($C$6,Planning!$A$2:$A$197,0)),"-") -> MC | E10: =IFERROR(INDEX(Planning!$F$2:$F$197,MATCH($E$6,Planning!$A$2:$A$197,0)),"-") -> T | F10: =IFERROR(INDEX(Planning!$F$2:$F$197,MATCH($F$6,Planning!$A$2:$A$197,0)),"-") -> T | G10: =IFERROR(INDEX(Planning!$F$2:$F$197,MATCH($G$6,Planning!$A$2:$A$197,0)),"-") -> T
C11: 43654 | D11: 43655 | E11: 43656 | F11: 43657 | G11: 43658 | H11: 43659 | I11: 43660
C12: =IFERROR(INDEX(Planning!$B$2:$B$197,MATCH($C$11,Planning!$A$2:$A$197,0)),"-") -> 0.29166667 | D12: =IFERROR(INDEX(Planning!$B$2:$B$197,MATCH($D$11,Planning!$A$2:$A$197,0)),"-") -> 0.33333333 | F12: =IFERROR(INDEX(Planning!$B$2:$B$197,MATCH($F$11,Planning!$A$2:$A$197,0)),"-") -> 0.33333333 | G12: =IFERROR(INDEX(Planning!$B$2:$B$197,MATCH($G$11,Planning!$A$2:$A$197,0)),"-") -> 0.375
C13: =IFERROR(INDEX(Planning!$C$2:$C$197,MATCH($C$11,Planning!$A$2:$A$197,0)),"-") -> 0.625 | D13: =IFERROR(INDEX(Planning!$C$2:$C$197,MATCH($D$11,Planning!$A$2:$A$197,0)),"-") -> 0.66666667 | F13: =IFERROR(INDEX(Planning!$C$2:$C$197,MATCH($F$11,Planning!$A$2:$A$197,0)),"-") -> 0.66666667 | G13: =IFERROR(INDEX(Planning!$C$2:$C$197,MATCH($G$11,Planning!$A$2:$A$197,0)),"-") -> 0.41666667
C14: =IFERROR(INDEX(Planning!$E$2:$E$197,MATCH($C$11,Planning!$A$2:$A$197,0)),"-") -> Asse | D14: =IFERROR(INDEX(Planning!$E$2:$E$197,MATCH($D$11,Planning!$A$2:$A$197,0)),"-") -> Merchtem | F14: =IFERROR(INDEX(Planning!$E$2:$E$197,MATCH($F$11,Planning!$A$2:$A$197,0)),"-") -> Merchtem | G14: =IFERROR(INDEX(Planning!$E$2:$E$197,MATCH($G$11,Planning!$A$2:$A$197,0)),"-") -> Asse
C15: =IFERROR(INDEX(Planning!$F$2:$F$197,MATCH($C$11,Planning!$A$2:$A$197,0)),"-") -> T | D15: =IFERROR(INDEX(Planning!$F$2:$F$197,MATCH($D$11,Planning!$A$2:$A$197,0)),"-") -> T | F15: =IFERROR(INDEX(Planning!$F$2:$F$197,MATCH($F$11,Planning!$A$2:$A$197,0)),"-") -> T | G15: =IFERROR(INDEX(Planning!$F$2:$F$197,MATCH($G$11,Planning!$A$2:$A$197,0)),"-") -> T
C16: 43661 | D16: 43662 | E16: 43663 | F16: 43664 | G16: 43665 | H16: 43666 | I16: 43667
C17: =IFERROR(INDEX(Planning!$B$2:$B$197,MATCH(C16,Planning!$A$2:$A$197,0)),"-") -> 0.91666667 | D17: =IFERROR(INDEX(Planning!$B$2:$B$197,MATCH($D$16,Planning!$A$2:$A$197,0)),"-") -> 0.91666667 | E17: =IFERROR(INDEX(Planning!$B$2:$B$197,MATCH($E$16,Planning!$A$2:$A$197,0)),"-") -> 0.91666667 | F17: =IFERROR(INDEX(Planning!$B$2:$B$197,MATCH($F$16,Planning!$A$2:$A$197,0)),"-") -> 0.91666667 | G17: =IFERROR(INDEX(Planning!$B$2:$B$197,MATCH($G$16,Planning!$A$2:$A$197,0)),"-") -> 0.91666667
C18: =IFERROR(INDEX(Planning!$C$2:$C$197,MATCH(C16,Planning!$A$2:$A$197,0)),"-") -> 0.25 | D18: =IFERROR(INDEX(Planning!$C$2:$C$197,MATCH($D$16,Planning!$A$2:$A$197,0)),"-") -> 0.25 | E18: =IFERROR(INDEX(Planning!$C$2:$C$197,MATCH($E$16,Planning!$A$2:$A$197,0)),"-") -> 0.25 | F18: =IFERROR(INDEX(Planning!$C$2:$C$197,MATCH($F$16,Planning!$A$2:$A$197,0)),"-") -> 0.25 | G18: =IFERROR(INDEX(Planning!$C$2:$C$197,MATCH($G$16,Planning!$A$2:$A$197,0)),"-") -> 0.25
C19: =IFERROR(INDEX(Planning!$E$2:$E$197,MATCH(C16,Planning!$A$2:$A$197,0)),"-") -> Delta | D19: =IFERROR(INDEX(Planning!$E$2:$E$197,MATCH($D$16,Planning!$A$2:$A$197,0)),"-") -> Delta | E19: =IFERROR(INDEX(Planning!$E$2:$E$197,MATCH($E$16,Planning!$A$2:$A$197,0)),"-") -> Delta | F19: =IFERROR(INDEX(Planning!$E$2:$E$197,MATCH($F$16,Planning!$A$2:$A$197,0)),"-") -> Delta | G19: =IFERROR(INDEX(Planning!$E$2:$E$197,MATCH($G$16,Planning!$A$2:$A$197,0)),"-") -> Delta
C20: =IFERROR(INDEX(Planning!$F$2:$F$197,MATCH(C16,Planning!$A$2:$A$197,0)),"-") -> MC | D20: =IFERROR(INDEX(Planning!$F$2:$F$197,MATCH($D$16,Planning!$A$2:$A$197,0)),"-") -> MC | E20: =IFERROR(INDEX(Planning!$F$2:$F$197,MATCH($E$16,Planning!$A$2:$A$197,0)),"-") -> MC | F20: =IFERROR(INDEX(Planning!$F$2:$F$197,MATCH($F$16,Planning!$A$2:$A$197,0)),"-") -> MC | G20: =IFERROR(INDEX(Planning!$F$2:$F$197,MATCH($G$16,Planning!$A$2:$A$197,0)),"-") -> MC
C21: 43668 | D21: 43669 | E21: 43670 | F21: 43671 | G21: 43672 | H21: 43673 | I21: 43674
C22: =IFERROR(INDEX(Planning!$B$2:$B$197,MATCH(C21,Planning!$A$2:$A$197,0)),"-") -> 0.91666667 | D22: =IFERROR(INDEX(Planning!$B$2:$B$197,MATCH(D21,Planning!$A$2:$A$197,0)),"-") -> 0.91666667 | E22: =IFERROR(INDEX(Planning!$B$2:$B$197,MATCH(E21,Planning!$A$2:$A$197,0)),"-") -> 0.91666667 | F22: =IFERROR(INDEX(Planning!$B$2:$B$197,MATCH(F21,Planning!$A$2:$A$197,0)),"-") -> 0.91666667 | G22: =IFERROR(INDEX(Planning!$B$2:$B$197,MATCH(G21,Planning!$A$2:$A$197,0)),"-") -> 0.91666667
C23: =IFERROR(INDEX(Planning!$C$2:$C$197,MATCH(C21,Planning!$A$2:$A$197,0)),"-") -> 0.25 | D23: =IFERROR(INDEX(Planning!$C$2:$C$197,MATCH(D21,Planning!$A$2:$A$197,0)),"-") -> 0.25 | E23: =IFERROR(INDEX(Planning!$C$2:$C$197,MATCH(E21,Planning!$A$2:$A$197,0)),"-") -> 0.25 | F23: =IFERROR(INDEX(Planning!$C$2:$C$197,MATCH(F21,Planning!$A$2:$A$197,0)),"-") -> 0.25 | G23: =IFERROR(INDEX(Planning!$C$2:$C$197,MATCH(G21,Planning!$A$2:$A$197,0)),"-") -> 0.25
C24: =IFERROR(INDEX(Planning!$E$2:$E$197,MATCH(C21,Planning!$A$2:$A$197,0)),"-") -> Haren | D24: =IFERROR(INDEX(Planning!$E$2:$E$197,MATCH(D21,Planning!$A$2:$A$197,0)),"-") -> Haren | E24: =IFERROR(INDEX(Planning!$E$2:$E$197,MATCH(E21,Planning!$A$2:$A$197,0)),"-") -> Delta | F24: =IFERROR(INDEX(Planning!$E$2:$E$197,MATCH(F21,Planning!$A$2:$A$197,0)),"-") -> Delta | G24: =IFERROR(INDEX(Planning!$E$2:$E$197,MATCH(G21,Planning!$A$2:$A$197,0)),"-") -> Delta
C25: =IFERROR(INDEX(Planning!$F$2:$F$197,MATCH(C21,Planning!$A$2:$A$197,0)),"-") -> MC | D25: =IFERROR(INDEX(Planning!$F$2:$F$197,MATCH(D21,Planning!$A$2:$A$197,0)),"-") -> MC | E25: =IFERROR(INDEX(Planning!$F$2:$F$197,MATCH(E21,Planning!$A$2:$A$197,0)),"-") -> MC | F25: =IFERROR(INDEX(Planning!$F$2:$F$197,MATCH(F21,Planning!$A$2:$A$197,0)),"-") -> MC | G25: =IFERROR(INDEX(Planning!$F$2:$F$197,MATCH(G21,Planning!$A$2:$A$197,0)),"-") -> MC
C26: 43675 | D26: 43676 | E26: 43677
C27: =IFERROR(INDEX(Planning!$B$2:$B$197,MATCH(C26,Planning!$A$2:$A$197,0)),"-") -> 0.91666667 | D27: =IFERROR(INDEX(Planning!$B$2:$B$197,MATCH(D26,Planning!$A$2:$A$197,0)),"-") -> 0.91666667 | E27: =IFERROR(INDEX(Planning!$B$2:$B$197,MATCH(E26,Planning!$A$2:$A$197,0)),"-") -> 0.91666667
C28: =IFERROR(INDEX(Planning!$C$2:$C$197,MATCH(C26,Planning!$A$2:$A$197,0)),"-") -> 0.25 | D28: =IFERROR(INDEX(Planning!$C$2:$C$197,MATCH(D26,Planning!$A$2:$A$197,0)),"-") -> 0.25 | E28: =IFERROR(INDEX(Planning!$C$2:$C$197,MATCH(E26,Planning!$A$2:$A$197,0)),"-") -> 0.25
C29: =IFERROR(INDEX(Planning!$E$2:$E$197,MATCH(C26,Planning!$A$2:$A$197,0)),"-") -> Delta | D29: =IFERROR(INDEX(Planning!$E$2:$E$197,MATCH(D26,Planning!$A$2:$A$197,0)),"-") -> Delta | E29: =IFERROR(INDEX(Planning!$E$2:$E$197,MATCH(E26,Planning!$A$2:$A$197,0)),"-") -> Delta
C30: =IFERROR(INDEX(Planning!$F$2:$F$197,MATCH(C26,Planning!$A$2:$A$197,0)),"-") -> MC | D30: =IFERROR(INDEX(Planning!$F$2:$F$197,MATCH(D26,Planning!$A$2:$A$197,0)),"-") -> MC | E30: =IFERROR(INDEX(Planning!$F$2:$F$197,MATCH(E26,Planning!$A$2:$A$197,0)),"-") -> MC

Sheet 2019-08
C2: Août | D2: 2019
C4: Lundi | D4: Mardi | E4: Mercredi | F4: Jeudi | G4: Vendredi | H4: Samedi | I4: Dimanche
F6: 43678 | G6: 43679 | H6: 43680 | I6: 43681
F7: =IFERROR(INDEX(Planning!$B$2:$B$197,MATCH(F6,Planning!$A$2:$A$197,0)),"-") -> 0 | G7: =IFERROR(INDEX(Planning!$B$2:$B$197,MATCH(G6,Planning!$A$2:$A$197,0)),"-") -> 0 | H7: =IFERROR(INDEX(Planning!$B$2:$B$197,MATCH(H6,Planning!$A$2:$A$197,0)),"-") -> 0 | I7: =IFERROR(INDEX(Planning!$B$2:$B$197,MATCH(I6,Planning!$A$2:$A$197,0)),"-") -> 0
F8: =IFERROR(INDEX(Planning!$C$2:$C$197,MATCH(F6,Planning!$A$2:$A$197,0)),"-") -> 0 | G8: =IFERROR(INDEX(Planning!$C$2:$C$197,MATCH(G6,Planning!$A$2:$A$197,0)),"-") -> 0 | H8: =IFERROR(INDEX(Planning!$C$2:$C$197,MATCH(H6,Planning!$A$2:$A$197,0)),"-") -> 0 | I8: =IFERROR(INDEX(Planning!$C$2:$C$197,MATCH(I6,Planning!$A$2:$A$197,0)),"-") -> 0
F9: =IFERROR(INDEX(Planning!$E$2:$E$197,MATCH(F6,Planning!$A$2:$A$197,0)),"-") -> 0 | G9: =IFERROR(INDEX(Planning!$E$2:$E$197,MATCH(G6,Planning!$A$2:$A$197,0)),"-") -> 0 | H9: =IFERROR(INDEX(Planning!$E$2:$E$197,MATCH(H6,Planning!$A$2:$A$197,0)),"-") -> 0 | I9: =IFERROR(INDEX(Planning!$E$2:$E$197,MATCH(I6,Planning!$A$2:$A$197,0)),"-") -> 0
F10: =IFERROR(INDEX(Planning!$F$2:$F$197,MATCH(F6,Planning!$A$2:$A$197,0)),"-") -> 0 | G10: =IFERROR(INDEX(Planning!$F$2:$F$197,MATCH(G6,Planning!$A$2:$A$197,0)),"-") -> 0 | H10: =IFERROR(INDEX(Planning!$F$2:$F$197,MATCH(H6,Planning!$A$2:$A$197,0)),"-") -> 0 | I10: =IFERROR(INDEX(Planning!$F$2:$F$197,MATCH(I6,Planning!$A$2:$A$197,0)),"-") -> 0
C11: 43682 | D11: 43683 | E11: 43684 | F11: 43685 | G11: 43686 | H11: 43687 | I11: 43688
C12: =IFERROR(INDEX(Planning!$B$2:$B$197,MATCH(C11,Planning!$A$2:$A$197,0)),"-") -> 0 | D12: =IFERROR(INDEX(Planning!$B$2:$B$197,MATCH(D11,Planning!$A$2:$A$197,0)),"-") -> 0 | E12: =IFERROR(INDEX(Planning!$B$2:$B$197,MATCH(E11,Planning!$A$2:$A$197,0)),"-") -> 0 | F12: =IFERROR(INDEX(Planning!$B$2:$B$197,MATCH(F11,Planning!$A$2:$A$197,0)),"-") -> 0 | G12: =IFERROR(INDEX(Planning!$B$2:$B$197,MATCH(G11,Planning!$A$2:$A$197,0)),"-") -> 0 | H12: =IFERROR(INDEX(Planning!$B$2:$B$197,MATCH(H11,Planning!$A$2:$A$197,0)),"-") -> 0 | I12: =IFERROR(INDEX(Planning!$B$2:$B$197,MATCH(I11,Planning!$A$2:$A$197,0)),"-") -> 0
C13: =IFERROR(INDEX(Planning!$C$2:$C$197,MATCH(C11,Planning!$A$2:$A$197,0)),"-") -> 0 | D13: =IFERROR(INDEX(Planning!$C$2:$C$197,MATCH(D11,Planning!$A$2:$A$197,0)),"-") -> 0 | E13: =IFERROR(INDEX(Planning!$C$2:$C$197,MATCH(E11,Planning!$A$2:$A$197,0)),"-") -> 0 | F13: =IFERROR(INDEX(Planning!$C$2:$C$197,MATCH(F11,Planning!$A$2:$A$197,0)),"-") -> 0 | G13: =IFERROR(INDEX(Planning!$C$2:$C$197,MATCH(G11,Planning!$A$2:$A$197,0)),"-") -> 0 | H13: =IFERROR(INDEX(Planning!$C$2:$C$197,MATCH(H11,Planning!$A$2:$A$197,0)),"-") -> 0 | I13: =IFERROR(INDEX(Planning!$C$2:$C$197,MATCH(I11,Planning!$A$2:$A$197,0)),"-") -> 0
C14: =IFERROR(INDEX(Planning!$E$2:$E$197,MATCH(C11,Planning!$A$2:$A$197,0)),"-") -> 0 | D14: =IFERROR(INDEX(Planning!$E$2:$E$197,MATCH(D11,Planning!$A$2:$A$197,0)),"-") -> 0 | E14: =IFERROR(INDEX(Planning!$E$2:$E$197,MATCH(E11,Planning!$A$2:$A$197,0)),"-") -> 0 | F14: =IFERROR(INDEX(Planning!$E$2:$E$197,MATCH(F11,Planning!$A$2:$A$197,0)),"-") -> 0 | G14: =IFERROR(INDEX(Planning!$E$2:$E$197,MATCH(G11,Planning!$A$2:$A$197,0)),"-") -> 0 | H14: =IFERROR(INDEX(Planning!$E$2:$E$197,MATCH(H11,Planning!$A$2:$A$197,0)),"-") -> 0 | I14: =IFERROR(INDEX(Planning!$E$2:$E$197,MATCH(I11,Planning!$A$2:$A$197,0)),"-") -> 0
C15: =IFERROR(INDEX(Planning!$F$2:$F$197,MATCH(C11,Planning!$A$2:$A$197,0)),"-") -> 0 | D15: =IFERROR(INDEX(Planning!$F$2:$F$197,MATCH(D11,Planning!$A$2:$A$197,0)),"-") -> 0 | E15: =IFERROR(INDEX(Planning!$F$2:$F$197,MATCH(E11,Planning!$A$2:$A$197,0)),"-") -> 0 | F15: =IFERROR(INDEX(Planning!$F$2:$F$197,MATCH(F11,Planning!$A$2:$A$197,0)),"-") -> 0 | G15: =IFERROR(INDEX(Planning!$F$2:$F$197,MATCH(G11,Planning!$A$2:$A$197,0)),"-") -> 0 | H15: =IFERROR(INDEX(Planning!$F$2:$F$197,MATCH(H11,Planning!$A$2:$A$197,0)),"-") -> 0 | I15: =IFERROR(INDEX(Planning!$F$2:$F$197,MATCH(I11,Planning!$A$2:$A$197,0)),"-") -> 0
C16: 43689 | D16: 43690 | E16: 43691 | F16: 43692 | G16: 43693 | H16: 43694 | I16: 43695
C17: =IFERROR(INDEX(Planning!$B$2:$B$197,MATCH(C16,Planning!$A$2:$A$197,0)),"-") -> 0 | D17: =IFERROR(INDEX(Planning!$B$2:$B$197,MATCH(D16,Planning!$A$2:$A$197,0)),"-") -> 0 | E17: =IFERROR(INDEX(Planning!$B$2:$B$197,MATCH(E16,Planning!$A$2:$A$197,0)),"-") -> 0 | F17: =IFERROR(INDEX(Planning!$B$2:$B$197,MATCH(F16,Planning!$A$2:$A$197,0)),"-") -> 0 | G17: =IFERROR(INDEX(Planning!$B$2:$B$197,MATCH(G16,Planning!$A$2:$A$197,0)),"-") -> 0
C18: =IFERROR(INDEX(Planning!$C$2:$C$197,MATCH(C16,Planning!$A$2:$A$197,0)),"-") -> 0 | D18: =IFERROR(INDEX(Planning!$C$2:$C$197,MATCH(D16,Planning!$A$2:$A$197,0)),"-") -> 0 | E18: =IFERROR(INDEX(Planning!$C$2:$C$197,MATCH(E16,Planning!$A$2:$A$197,0)),"-") -> 0 | F18: =IFERROR(INDEX(Planning!$C$2:$C$197,MATCH(F16,Planning!$A$2:$A$197,0)),"-") -> 0 | G18: =IFERROR(INDEX(Planning!$C$2:$C$197,MATCH(G16,Planning!$A$2:$A$197,0)),"-") -> 0
C19: =IFERROR(INDEX(Planning!$E$2:$E$197,MATCH(C16,Planning!$A$2:$A$197,0)),"-") -> 0 | D19: =IFERROR(INDEX(Planning!$E$2:$E$197,MATCH(D16,Planning!$A$2:$A$197,0)),"-") -> 0 | E19: =IFERROR(INDEX(Planning!$E$2:$E$197,MATCH(E16,Planning!$A$2:$A$197,0)),"-") -> 0 | F19: =IFERROR(INDEX(Planning!$E$2:$E$197,MATCH(F16,Planning!$A$2:$A$197,0)),"-") -> 0 | G19: =IFERROR(INDEX(Planning!$E$2:$E$197,MATCH(G16,Planning!$A$2:$A$197,0)),"-") -> 0
C20: =IFERROR(INDEX(Planning!$F$2:$F$197,MATCH(C16,Planning!$A$2:$A$197,0)),"-") -> 0 | D20: =IFERROR(INDEX(Planning!$F$2:$F$197,MATCH(D16,Planning!$A$2:$A$197,0)),"-") -> 0 | E20: =IFERROR(INDEX(Planning!$F$2:$F$197,MATCH(E16,Planning!$A$2:$A$197,0)),"-") -> 0 | F20: =IFERROR(INDEX(Planning!$F$2:$F$197,MATCH(F16,Planning!$A$2:$A$197,0)),"-") -> 0 | G20: =IFERROR(INDEX(Planning!$F$2:$F$197,MATCH(G16,Planning!$A$2:$A$197,0)),"-") -> 0
C21: 43696 | D21: 43697 | E21: 43698 | F21: 43699 | G21: 43700 | H21: 43701 | I21: 43702
C22: =IFERROR(INDEX(Planning!$B$2:$B$197,MATCH(C21,Planning!$A$2:$A$197,0)),"-") -> 0 | D22: =IFERROR(INDEX(Planning!$B$2:$B$197,MATCH(D21,Planning!$A$2:$A$197,0)),"-") -> 0 | E22: =IFERROR(INDEX(Planning!$B$2:$B$197,MATCH(E21,Planning!$A$2:$A$197,0)),"-") -> 0 | F22: =IFERROR(INDEX(Planning!$B$2:$B$197,MATCH(F21,Planning!$A$2:$A$197,0)),"-") -> 0 | G22: =IFERROR(INDEX(Planning!$B$2:$B$197,MATCH(G21,Planning!$A$2:$A$197,0)),"-") -> 0 | H22: =IFERROR(INDEX(Planning!$B$2:$B$197,MATCH(H21,Planning!$A$2:$A$197,0)),"-") -> 0 | I22: =IFERROR(INDEX(Planning!$B$2:$B$197,MATCH(I21,Planning!$A$2:$A$197,0)),"-") -> 0
C23: =IFERROR(INDEX(Planning!$C$2:$C$197,MATCH(C21,Planning!$A$2:$A$197,0)),"-") -> 0 | D23: =IFERROR(INDEX(Planning!$C$2:$C$197,MATCH(D21,Planning!$A$2:$A$197,0)),"-") -> 0 | E23: =IFERROR(INDEX(Planning!$C$2:$C$197,MATCH(E21,Planning!$A$2:$A$197,0)),"-") -> 0 | F23: =IFERROR(INDEX(Planning!$C$2:$C$197,MATCH(F21,Planning!$A$2:$A$197,0)),"-") -> 0 | G23: =IFERROR(INDEX(Planning!$C$2:$C$197,MATCH(G21,Planning!$A$2:$A$197,0)),"-") -> 0 | H23: =IFERROR(INDEX(Planning!$C$2:$C$197,MATCH(H21,Planning!$A$2:$A$197,0)),"-") -> 0 | I23: =IFERROR(INDEX(Planning!$C$2:$C$197,MATCH(I21,Planning!$A$2:$A$197,0)),"-") -> 0
C24: =IFERROR(INDEX(Planning!$E$2:$E$197,MATCH(C21,Planning!$A$2:$A$197,0)),"-") -> 0 | D24: =IFERROR(INDEX(Planning!$E$2:$E$197,MATCH(D21,Planning!$A$2:$A$197,0)),"-") -> 0 | E24: =IFERROR(INDEX(Planning!$E$2:$E$197,MATCH(E21,Planning!$A$2:$A$197,0)),"-") -> 0 | F24: =IFERROR(INDEX(Planning!$E$2:$E$197,MATCH(F21,Planning!$A$2:$A$197,0)),"-") -> 0 | G24: =IFERROR(INDEX(Planning!$E$2:$E$197,MATCH(G21,Planning!$A$2:$A$197,0)),"-") -> 0 | H24: =IFERROR(INDEX(Planning!$E$2:$E$197,MATCH(H21,Planning!$A$2:$A$197,0)),"-") -> 0 | I24: =IFERROR(INDEX(Planning!$E$2:$E$197,MATCH(I21,Planning!$A$2:$A$197,0)),"-") -> 0
C25: =IFERROR(INDEX(Planning!$F$2:$F$197,MATCH(C21,Planning!$A$2:$A$197,0)),"-") -> 0 | D25: =IFERROR(INDEX(Planning!$F$2:$F$197,MATCH(D21,Planning!$A$2:$A$197,0)),"-") -> 0 | E25: =IFERROR(INDEX(Planning!$F$2:$F$197,MATCH(E21,Planning!$A$2:$A$197,0)),"-") -> 0 | F25: =IFERROR(INDEX(Planning!$F$2:$F$197,MATCH(F21,Planning!$A$2:$A$197,0)),"-") -> 0 | G25: =IFERROR(INDEX(Planning!$F$2:$F$197,MATCH(G21,Planning!$A$2:$A$197,0)),"-") -> 0 | H25: =IFERROR(INDEX(Planning!$F$2:$F$197,MATCH(H21,Planning!$A$2:$A$197,0)),"-") -> 0 | I25: =IFERROR(INDEX(Planning!$F$2:$F$197,MATCH(I21,Planning!$A$2:$A$197,0)),"-") -> 0
C26: 43703 | D26: 43704 | E26: 43705 | F26: 43706 | G26: 43707 | H26: 43708
C27: =IFERROR(INDEX(Planning!$B$2:$B$197,MATCH(C26,Planning!$A$2:$A$197,0)),"-") -> 0 | D27: =IFERROR(INDEX(Planning!$B$2:$B$197,MATCH(D26,Planning!$A$2:$A$197,0)),"-") -> 0 | E27: =IFERROR(INDEX(Planning!$B$2:$B$197,MATCH(E26,Planning!$A$2:$A$197,0)),"-") -> 0 | F27: =IFERROR(INDEX(Planning!$B$2:$B$197,MATCH(F26,Planning!$A$2:$A$197,0)),"-") -> 0 | G27: =IFERROR(INDEX(Planning!$B$2:$B$197,MATCH(G26,Planning!$A$2:$A$197,0)),"-") -> 0 | H27: =IFERROR(INDEX(Planning!$B$2:$B$197,MATCH(H26,Planning!$A$2:$A$197,0)),"-") -> 0
C28: =IFERROR(INDEX(Planning!$C$2:$C$197,MATCH(C26,Planning!$A$2:$A$197,0)),"-") -> 0 | D28: =IFERROR(INDEX(Planning!$C$2:$C$197,MATCH(D26,Planning!$A$2:$A$197,0)),"-") -> 0 | E28: =IFERROR(INDEX(Planning!$C$2:$C$197,MATCH(E26,Planning!$A$2:$A$197,0)),"-") -> 0 | F28: =IFERROR(INDEX(Planning!$C$2:$C$197,MATCH(F26,Planning!$A$2:$A$197,0)),"-") -> 0 | G28: =IFERROR(INDEX(Planning!$C$2:$C$197,MATCH(G26,Planning!$A$2:$A$197,0)),"-") -> 0 | H28: =IFERROR(INDEX(Planning!$C$2:$C$197,MATCH(H26,Planning!$A$2:$A$197,0)),"-") -> 0
C29: =IFERROR(INDEX(Planning!$E$2:$E$197,MATCH(C26,Planning!$A$2:$A$197,0)),"-") -> 0 | D29: =IFERROR(INDEX(Planning!$E$2:$E$197,MATCH(D26,Planning!$A$2:$A$197,0)),"-") -> 0 | E29: =IFERROR(INDEX(Planning!$E$2:$E$197,MATCH(E26,Planning!$A$2:$A$197,0)),"-") -> 0 | F29: =IFERROR(INDEX(Planning!$E$2:$E$197,MATCH(F26,Planning!$A$2:$A$197,0)),"-") -> 0 | G29: =IFERROR(INDEX(Planning!$E$2:$E$197,MATCH(G26,Planning!$A$2:$A$197,0)),"-") -> 0 | H29: =IFERROR(INDEX(Planning!$E$2:$E$197,MATCH(H26,Planning!$A$2:$A$197,0)),"-") -> 0
C30: =IFERROR(INDEX(Planning!$F$2:$F$197,MATCH(C26,Planning!$A$2:$A$197,0)),"-") -> 0 | D30: =IFERROR(INDEX(Planning!$F$2:$F$197,MATCH(D26,Planning!$A$2:$A$197,0)),"-") -> 0 | E30: =IFERROR(INDEX(Planning!$F$2:$F$197,MATCH(E26,Planning!$A$2:$A$197,0)),"-") -> 0 | F30: =IFERROR(INDEX(Planning!$F$2:$F$197,MATCH(F26,Planning!$A$2:$A$197,0)),"-") -> 0 | G30: =IFERROR(INDEX(Planning!$F$2:$F$197,MATCH(G26,Planning!$A$2:$A$197,0)),"-") -> 0 | H30: =IFERROR(INDEX(Planning!$F$2:$F$197,MATCH(H26,Planning!$A$2:$A$197,0)),"-") -> 0

Sheet 2019-09
C2: Septembre | D2: 2019
C4: Lundi | D4: Mardi | E4: Mercredi | F4: Jeudi | G4: Vendredi | H4: Samedi | I4: Dimanche
I6: 43709
I7: =IFERROR(INDEX(Planning!$B$2:$B$197,MATCH(I6,Planning!$A$2:$A$197,0)),"-") -> 0
I8: =IFERROR(INDEX(Planning!$C$2:$C$197,MATCH(I6,Planning!$A$2:$A$197,0)),"-") -> 0
I9: =IFERROR(INDEX(Planning!$E$2:$E$197,MATCH(I6,Planning!$A$2:$A$197,0)),"-") -> 0
I10: =IFERROR(INDEX(Planning!$F$2:$F$197,MATCH(I6,Planning!$A$2:$A$197,0)),"-") -> 0
C11: 43710 | D11: 43711 | E11: 43712 | F11: 43713 | G11: 43714 | H11: 43715 | I11: 43716
C12: =IFERROR(INDEX(Planning!$B$2:$B$197,MATCH(C11,Planning!$A$2:$A$197,0)),"-") -> 0 | D12: =IFERROR(INDEX(Planning!$B$2:$B$197,MATCH(D11,Planning!$A$2:$A$197,0)),"-") -> 0 | E12: =IFERROR(INDEX(Planning!$B$2:$B$197,MATCH(E11,Planning!$A$2:$A$197,0)),"-") -> 0 | F12: =IFERROR(INDEX(Planning!$B$2:$B$197,MATCH(F11,Planning!$A$2:$A$197,0)),"-") -> 0 | G12: =IFERROR(INDEX(Planning!$B$2:$B$197,MATCH(G11,Planning!$A$2:$A$197,0)),"-") -> 0 | H12: =IFERROR(INDEX(Planning!$B$2:$B$197,MATCH(H11,Planning!$A$2:$A$197,0)),"-") -> 0 | I12: =IFERROR(INDEX(Planning!$B$2:$B$197,MATCH(I11,Planning!$A$2:$A$197,0)),"-") -> 0
C13: =IFERROR(INDEX(Planning!$C$2:$C$197,MATCH(C11,Planning!$A$2:$A$197,0)),"-") -> 0 | D13: =IFERROR(INDEX(Planning!$C$2:$C$197,MATCH(D11,Planning!$A$2:$A$197,0)),"-") -> 0 | E13: =IFERROR(INDEX(Planning!$C$2:$C$197,MATCH(E11,Planning!$A$2:$A$197,0)),"-") -> 0 | F13: =IFERROR(INDEX(Planning!$C$2:$C$197,MATCH(F11,Planning!$A$2:$A$197,0)),"-") -> 0 | G13: =IFERROR(INDEX(Planning!$C$2:$C$197,MATCH(G11,Planning!$A$2:$A$197,0)),"-") -> 0 | H13: =IFERROR(INDEX(Planning!$C$2:$C$197,MATCH(H11,Planning!$A$2:$A$197,0)),"-") -> 0 | I13: =IFERROR(INDEX(Planning!$C$2:$C$197,MATCH(I11,Planning!$A$2:$A$197,0)),"-") -> 0
C14: =IFERROR(INDEX(Planning!$E$2:$E$197,MATCH(C11,Planning!$A$2:$A$197,0)),"-") -> 0 | D14: =IFERROR(INDEX(Planning!$E$2:$E$197,MATCH(D11,Planning!$A$2:$A$197,0)),"-") -> 0 | E14: =IFERROR(INDEX(Planning!$E$2:$E$197,MATCH(E11,Planning!$A$2:$A$197,0)),"-") -> 0 | F14: =IFERROR(INDEX(Planning!$E$2:$E$197,MATCH(F11,Planning!$A$2:$A$197,0)),"-") -> 0 | G14: =IFERROR(INDEX(Planning!$E$2:$E$197,MATCH(G11,Planning!$A$2:$A$197,0)),"-") -> 0 | H14: =IFERROR(INDEX(Planning!$E$2:$E$197,MATCH(H11,Planning!$A$2:$A$197,0)),"-") -> 0 | I14: =IFERROR(INDEX(Planning!$E$2:$E$197,MATCH(I11,Planning!$A$2:$A$197,0)),"-") -> 0
C15: =IFERROR(INDEX(Planning!$F$2:$F$197,MATCH(C11,Planning!$A$2:$A$197,0)),"-") -> 0 | D15: =IFERROR(INDEX(Planning!$F$2:$F$197,MATCH(D11,Planning!$A$2:$A$197,0)),"-") -> 0 | E15: =IFERROR(INDEX(Planning!$F$2:$F$197,MATCH(E11,Planning!$A$2:$A$197,0)),"-") -> 0 | F15: =IFERROR(INDEX(Planning!$F$2:$F$197,MATCH(F11,Planning!$A$2:$A$197,0)),"-") -> 0 | G15: =IFERROR(INDEX(Planning!$F$2:$F$197,MATCH(G11,Planning!$A$2:$A$197,0)),"-") -> 0 | H15: =IFERROR(INDEX(Planning!$F$2:$F$197,MATCH(H11,Planning!$A$2:$A$197,0)),"-") -> 0 | I15: =IFERROR(INDEX(Planning!$F$2:$F$197,MATCH(I11,Planning!$A$2:$A$197,0)),"-") -> 0
C16: 43717 | D16: 43718 | E16: 43719 | F16: 43720 | G16: 43721 | H16: 43722 | I16: 43723
C17: =IFERROR(INDEX(Planning!$B$2:$B$197,MATCH(C16,Planning!$A$2:$A$197,0)),"-") -> 0 | D17: =IFERROR(INDEX(Planning!$B$2:$B$197,MATCH(D16,Planning!$A$2:$A$197,0)),"-") -> 0 | E17: =IFERROR(INDEX(Planning!$B$2:$B$197,MATCH(E16,Planning!$A$2:$A$197,0)),"-") -> 0 | F17: =IFERROR(INDEX(Planning!$B$2:$B$197,MATCH(F16,Planning!$A$2:$A$197,0)),"-") -> 0 | G17: =IFERROR(INDEX(Planning!$B$2:$B$197,MATCH(G16,Planning!$A$2:$A$197,0)),"-") -> 0 | H17: =IFERROR(INDEX(Planning!$B$2:$B$197,MATCH(H16,Planning!$A$2:$A$197,0)),"-") -> 0 | I17: =IFERROR(INDEX(Planning!$B$2:$B$197,MATCH(I16,Planning!$A$2:$A$197,0)),"-") -> 0
C18: =IFERROR(INDEX(Planning!$C$2:$C$197,MATCH(C16,Planning!$A$2:$A$197,0)),"-") -> 0 | D18: =IFERROR(INDEX(Planning!$C$2:$C$197,MATCH(D16,Planning!$A$2:$A$197,0)),"-") -> 0 | E18: =IFERROR(INDEX(Planning!$C$2:$C$197,MATCH(E16,Planning!$A$2:$A$197,0)),"-") -> 0 | F18: =IFERROR(INDEX(Planning!$C$2:$C$197,MATCH(F16,Planning!$A$2:$A$197,0)),"-") -> 0 | G18: =IFERROR(INDEX(Planning!$C$2:$C$197,MATCH(G16,Planning!$A$2:$A$197,0)),"-") -> 0 | H18: =IFERROR(INDEX(Planning!$C$2:$C$197,MATCH(H16,Planning!$A$2:$A$197,0)),"-") -> 0 | I18: =IFERROR(INDEX(Planning!$C$2:$C$197,MATCH(I16,Planning!$A$2:$A$197,0)),"-") -> 0
C19: =IFERROR(INDEX(Planning!$E$2:$E$197,MATCH(C16,Planning!$A$2:$A$197,0)),"-") -> 0 | D19: =IFERROR(INDEX(Planning!$E$2:$E$197,MATCH(D16,Planning!$A$2:$A$197,0)),"-") -> 0 | E19: =IFERROR(INDEX(Planning!$E$2:$E$197,MATCH(E16,Planning!$A$2:$A$197,0)),"-") -> 0 | F19: =IFERROR(INDEX(Planning!$E$2:$E$197,MATCH(F16,Planning!$A$2:$A$197,0)),"-") -> 0 | G19: =IFERROR(INDEX(Planning!$E$2:$E$197,MATCH(G16,Planning!$A$2:$A$197,0)),"-") -> 0 | H19: =IFERROR(INDEX(Planning!$E$2:$E$197,MATCH(H16,Planning!$A$2:$A$197,0)),"-") -> 0 | I19: =IFERROR(INDEX(Planning!$E$2:$E$197,MATCH(I16,Planning!$A$2:$A$197,0)),"-") -> 0
C20: =IFERROR(INDEX(Planning!$F$2:$F$197,MATCH(C16,Planning!$A$2:$A$197,0)),"-") -> 0 | D20: =IFERROR(INDEX(Planning!$F$2:$F$197,MATCH(D16,Planning!$A$2:$A$197,0)),"-") -> 0 | E20: =IFERROR(INDEX(Planning!$F$2:$F$197,MATCH(E16,Planning!$A$2:$A$197,0)),"-") -> 0 | F20: =IFERROR(INDEX(Planning!$F$2:$F$197,MATCH(F16,Planning!$A$2:$A$197,0)),"-") -> 0 | G20: =IFERROR(INDEX(Planning!$F$2:$F$197,MATCH(G16,Planning!$A$2:$A$197,0)),"-") -> 0 | H20: =IFERROR(INDEX(Planning!$F$2:$F$197,MATCH(H16,Planning!$A$2:$A$197,0)),"-") -> 0 | I20: =IFERROR(INDEX(Planning!$F$2:$F$197,MATCH(I16,Planning!$A$2:$A$197,0)),"-") -> 0
C21: 43724 | D21: 43725 | E21: 43726 | F21: 43727 | G21: 43728 | H21: 43729 | I21: 43730
C22: =IFERROR(INDEX(Planning!$B$2:$B$197,MATCH(C21,Planning!$A$2:$A$197,0)),"-") -> 0 | D22: =IFERROR(INDEX(Planning!$B$2:$B$197,MATCH(D21,Planning!$A$2:$A$197,0)),"-") -> 0 | E22: =IFERROR(INDEX(Planning!$B$2:$B$197,MATCH(E21,Planning!$A$2:$A$197,0)),"-") -> 0 | F22: =IFERROR(INDEX(Planning!$B$2:$B$197,MATCH(F21,Planning!$A$2:$A$197,0)),"-") -> 0 | G22: =IFERROR(INDEX(Planning!$B$2:$B$197,MATCH(G21,Planning!$A$2:$A$197,0)),"-") -> 0 | H22: =IFERROR(INDEX(Planning!$B$2:$B$197,MATCH(H21,Planning!$A$2:$A$197,0)),"-") -> 0 | I22: =IFERROR(INDEX(Planning!$B$2:$B$197,MATCH(I21,Planning!$A$2:$A$197,0)),"-") -> 0
C23: =IFERROR(INDEX(Planning!$C$2:$C$197,MATCH(C21,Planning!$A$2:$A$197,0)),"-") -> 0 | D23: =IFERROR(INDEX(Planning!$C$2:$C$197,MATCH(D21,Planning!$A$2:$A$197,0)),"-") -> 0 | E23: =IFERROR(INDEX(Planning!$C$2:$C$197,MATCH(E21,Planning!$A$2:$A$197,0)),"-") -> 0 | F23: =IFERROR(INDEX(Planning!$C$2:$C$197,MATCH(F21,Planning!$A$2:$A$197,0)),"-") -> 0 | G23: =IFERROR(INDEX(Planning!$C$2:$C$197,MATCH(G21,Planning!$A$2:$A$197,0)),"-") -> 0 | H23: =IFERROR(INDEX(Planning!$C$2:$C$197,MATCH(H21,Planning!$A$2:$A$197,0)),"-") -> 0 | I23: =IFERROR(INDEX(Planning!$C$2:$C$197,MATCH(I21,Planning!$A$2:$A$197,0)),"-") -> 0
C24: =IFERROR(INDEX(Planning!$E$2:$E$197,MATCH(C21,Planning!$A$2:$A$197,0)),"-") -> 0 | D24: =IFERROR(INDEX(Planning!$E$2:$E$197,MATCH(D21,Planning!$A$2:$A$197,0)),"-") -> 0 | E24: =IFERROR(INDEX(Planning!$E$2:$E$197,MATCH(E21,Planning!$A$2:$A$197,0)),"-") -> 0 | F24: =IFERROR(INDEX(Planning!$E$2:$E$197,MATCH(F21,Planning!$A$2:$A$197,0)),"-") -> 0 | G24: =IFERROR(INDEX(Planning!$E$2:$E$197,MATCH(G21,Planning!$A$2:$A$197,0)),"-") -> 0 | H24: =IFERROR(INDEX(Planning!$E$2:$E$197,MATCH(H21,Planning!$A$2:$A$197,0)),"-") -> 0 | I24: =IFERROR(INDEX(Planning!$E$2:$E$197,MATCH(I21,Planning!$A$2:$A$197,0)),"-") -> 0
C25: =IFERROR(INDEX(Planning!$F$2:$F$197,MATCH(C21,Planning!$A$2:$A$197,0)),"-") -> 0 | D25: =IFERROR(INDEX(Planning!$F$2:$F$197,MATCH(D21,Planning!$A$2:$A$197,0)),"-") -> 0 | E25: =IFERROR(INDEX(Planning!$F$2:$F$197,MATCH(E21,Planning!$A$2:$A$197,0)),"-") -> 0 | F25: =IFERROR(INDEX(Planning!$F$2:$F$197,MATCH(F21,Planning!$A$2:$A$197,0)),"-") -> 0 | G25: =IFERROR(INDEX(Planning!$F$2:$F$197,MATCH(G21,Planning!$A$2:$A$197,0)),"-") -> 0 | H25: =IFERROR(INDEX(Planning!$F$2:$F$197,MATCH(H21,Planning!$A$2:$A$197,0)),"-") -> 0 | I25: =IFERROR(INDEX(Planning!$F$2:$F$197,MATCH(I21,Planning!$A$2:$A$197,0)),"-") -> 0
C26: 43731 | D26: 43732 | E26: 43733 | F26: 43734 | G26: 43735 | H26: 43736 | I26: 43737
C27: =IFERROR(INDEX(Planning!$B$2:$B$197,MATCH(C26,Planning!$A$2:$A$197,0)),"-") -> 0 | D27: =IFERROR(INDEX(Planning!$B$2:$B$197,MATCH(D26,Planning!$A$2:$A$197,0)),"-") -> 0 | E27: =IFERROR(INDEX(Planning!$B$2:$B$197,MATCH(E26,Planning!$A$2:$A$197,0)),"-") -> 0 | F27: =IFERROR(INDEX(Planning!$B$2:$B$197,MATCH(F26,Planning!$A$2:$A$197,0)),"-") -> 0 | G27: =IFERROR(INDEX(Planning!$B$2:$B$197,MATCH(G26,Planning!$A$2:$A$197,0)),"-") -> 0 | H27: =IFERROR(INDEX(Planning!$B$2:$B$197,MATCH(H26,Planning!$A$2:$A$197,0)),"-") -> 0 | I27: =IFERROR(INDEX(Planning!$B$2:$B$197,MATCH(I26,Planning!$A$2:$A$197,0)),"-") -> 0
C28: =IFERROR(INDEX(Planning!$C$2:$C$197,MATCH(C26,Planning!$A$2:$A$197,0)),"-") -> 0 | D28: =IFERROR(INDEX(Planning!$C$2:$C$197,MATCH(D26,Planning!$A$2:$A$197,0)),"-") -> 0 | E28: =IFERROR(INDEX(Planning!$C$2:$C$197,MATCH(E26,Planning!$A$2:$A$197,0)),"-") -> 0 | F28: =IFERROR(INDEX(Planning!$C$2:$C$197,MATCH(F26,Planning!$A$2:$A$197,0)),"-") -> 0 | G28: =IFERROR(INDEX(Planning!$C$2:$C$197,MATCH(G26,Planning!$A$2:$A$197,0)),"-") -> 0 | H28: =IFERROR(INDEX(Planning!$C$2:$C$197,MATCH(H26,Planning!$A$2:$A$197,0)),"-") -> 0 | I28: =IFERROR(INDEX(Planning!$C$2:$C$197,MATCH(I26,Planning!$A$2:$A$197,0)),"-") -> 0
C29: =IFERROR(INDEX(Planning!$E$2:$E$197,MATCH(C26,Planning!$A$2:$A$197,0)),"-") -> 0 | D29: =IFERROR(INDEX(Planning!$E$2:$E$197,MATCH(D26,Planning!$A$2:$A$197,0)),"-") -> 0 | E29: =IFERROR(INDEX(Planning!$E$2:$E$197,MATCH(E26,Planning!$A$2:$A$197,0)),"-") -> 0 | F29: =IFERROR(INDEX(Planning!$E$2:$E$197,MATCH(F26,Planning!$A$2:$A$197,0)),"-") -> 0 | G29: =IFERROR(INDEX(Planning!$E$2:$E$197,MATCH(G26,Planning!$A$2:$A$197,0)),"-") -> 0 | H29: =IFERROR(INDEX(Planning!$E$2:$E$197,MATCH(H26,Planning!$A$2:$A$197,0)),"-") -> 0 | I29: =IFERROR(INDEX(Planning!$E$2:$E$197,MATCH(I26,Planning!$A$2:$A$197,0)),"-") -> 0
C30: =IFERROR(INDEX(Planning!$F$2:$F$197,MATCH(C26,Planning!$A$2:$A$197,0)),"-") -> 0 | D30: =IFERROR(INDEX(Planning!$F$2:$F$197,MATCH(D26,Planning!$A$2:$A$197,0)),"-") -> 0 | E30: =IFERROR(INDEX(Planning!$F$2:$F$197,MATCH(E26,Planning!$A$2:$A$197,0)),"-") -> 0 | F30: =IFERROR(INDEX(Planning!$F$2:$F$197,MATCH(F26,Planning!$A$2:$A$197,0)),"-") -> 0 | G30: =IFERROR(INDEX(Planning!$F$2:$F$197,MATCH(G26,Planning!$A$2:$A$197,0)),"-") -> 0 | H30: =IFERROR(INDEX(Planning!$F$2:$F$197,MATCH(H26,Planning!$A$2:$A$197,0)),"-") -> 0 | I30: =IFERROR(INDEX(Planning!$F$2:$F$197,MATCH(I26,Planning!$A$2:$A$197,0)),"-") -> 0
C31: 43738
C32: =IFERROR(INDEX(Planning!$B$2:$B$197,MATCH(C31,Planning!$A$2:$A$197,0)),"-") -> 0
C33: =IFERROR(INDEX(Planning!$C$2:$C$197,MATCH(C31,Planning!$A$2:$A$197,0)),"-") -> 0
C34: =IFERROR(INDEX(Planning!$E$2:$E$197,MATCH(C31,Planning!$A$2:$A$197,0)),"-") -> 0
C35: =IFERROR(INDEX(Planning!$F$2:$F$197,MATCH(C31,Planning!$A$2:$A$197,0)),"-") -> 0

Sheet 2019-10
C2: Octobre | D2: 2019
C4: Lundi | D4: Mardi | E4: Mercredi | F4: Jeudi | G4: Vendredi | H4: Samedi | I4: Dimanche
D6: 43739 | E6: 43740 | F6: 43741 | G6: 43742 | H6: 43743 | I6: 43744
D7: =IFERROR(INDEX(Planning!$B$2:$B$197,MATCH(D6,Planning!$A$2:$A$197,0)),"-") -> 0 | E7: =IFERROR(INDEX(Planning!$B$2:$B$197,MATCH(E6,Planning!$A$2:$A$197,0)),"-") -> 0 | F7: =IFERROR(INDEX(Planning!$B$2:$B$197,MATCH(F6,Planning!$A$2:$A$197,0)),"-") -> 0 | G7: =IFERROR(INDEX(Planning!$B$2:$B$197,MATCH(G6,Planning!$A$2:$A$197,0)),"-") -> 0
D8: =IFERROR(INDEX(Planning!$C$2:$C$197,MATCH(D6,Planning!$A$2:$A$197,0)),"-") -> 0 | E8: =IFERROR(INDEX(Planning!$C$2:$C$197,MATCH(E6,Planning!$A$2:$A$197,0)),"-") -> 0 | F8: =IFERROR(INDEX(Planning!$C$2:$C$197,MATCH(F6,Planning!$A$2:$A$197,0)),"-") -> 0 | G8: =IFERROR(INDEX(Planning!$C$2:$C$197,MATCH(G6,Planning!$A$2:$A$197,0)),"-") -> 0
D9: =IFERROR(INDEX(Planning!$E$2:$E$197,MATCH(D6,Planning!$A$2:$A$197,0)),"-") -> 0 | E9: =IFERROR(INDEX(Planning!$E$2:$E$197,MATCH(E6,Planning!$A$2:$A$197,0)),"-") -> 0 | F9: =IFERROR(INDEX(Planning!$E$2:$E$197,MATCH(F6,Planning!$A$2:$A$197,0)),"-") -> 0 | G9: =IFERROR(INDEX(Planning!$E$2:$E$197,MATCH(G6,Planning!$A$2:$A$197,0)),"-") -> 0
D10: =IFERROR(INDEX(Planning!$F$2:$F$197,MATCH(D6,Planning!$A$2:$A$197,0)),"-") -> 0 | E10: =IFERROR(INDEX(Planning!$F$2:$F$197,MATCH(E6,Planning!$A$2:$A$197,0)),"-") -> 0 | F10: =IFERROR(INDEX(Planning!$F$2:$F$197,MATCH(F6,Planning!$A$2:$A$197,0)),"-") -> 0 | G10: =IFERROR(INDEX(Planning!$F$2:$F$197,MATCH(G6,Planning!$A$2:$A$197,0)),"-") -> 0
C11: 43710 | D11: 43711 | E11: 43712 | F11: 43713 | G11: 43714 | H11: 43715 | I11: 43751
C12: =IFERROR(INDEX(Planning!$B$2:$B$197,MATCH(C11,Planning!$A$2:$A$197,0)),"-") -> 0 | D12: =IFERROR(INDEX(Planning!$B$2:$B$197,MATCH(D11,Planning!$A$2:$A$197,0)),"-") -> 0 | E12: =IFERROR(INDEX(Planning!$B$2:$B$197,MATCH(E11,Planning!$A$2:$A$197,0)),"-") -> 0 | F12: =IFERROR(INDEX(Planning!$B$2:$B$197,MATCH(F11,Planning!$A$2:$A$197,0)),"-") -> 0 | G12: =IFERROR(INDEX(Planning!$B$2:$B$197,MATCH(G11,Planning!$A$2:$A$197,0)),"-") -> 0 | H12: =IFERROR(INDEX(Planning!$B$2:$B$197,MATCH(H11,Planning!$A$2:$A$197,0)),"-") -> 0 | I12: =IFERROR(INDEX(Planning!$B$2:$B$197,MATCH(I11,Planning!$A$2:$A$197,0)),"-") -> 0
C13: =IFERROR(INDEX(Planning!$C$2:$C$197,MATCH(C11,Planning!$A$2:$A$197,0)),"-") -> 0 | D13: =IFERROR(INDEX(Planning!$C$2:$C$197,MATCH(D11,Planning!$A$2:$A$197,0)),"-") -> 0 | E13: =IFERROR(INDEX(Planning!$C$2:$C$197,MATCH(E11,Planning!$A$2:$A$197,0)),"-") -> 0 | F13: =IFERROR(INDEX(Planning!$C$2:$C$197,MATCH(F11,Planning!$A$2:$A$197,0)),"-") -> 0 | G13: =IFERROR(INDEX(Planning!$C$2:$C$197,MATCH(G11,Planning!$A$2:$A$197,0)),"-") -> 0 | H13: =IFERROR(INDEX(Planning!$C$2:$C$197,MATCH(H11,Planning!$A$2:$A$197,0)),"-") -> 0 | I13: =IFERROR(INDEX(Planning!$C$2:$C$197,MATCH(I11,Planning!$A$2:$A$197,0)),"-") -> 0
C14: =IFERROR(INDEX(Planning!$E$2:$E$197,MATCH(C11,Planning!$A$2:$A$197,0)),"-") -> 0 | D14: =IFERROR(INDEX(Planning!$E$2:$E$197,MATCH(D11,Planning!$A$2:$A$197,0)),"-") -> 0 | E14: =IFERROR(INDEX(Planning!$E$2:$E$197,MATCH(E11,Planning!$A$2:$A$197,0)),"-") -> 0 | F14: =IFERROR(INDEX(Planning!$E$2:$E$197,MATCH(F11,Planning!$A$2:$A$197,0)),"-") -> 0 | G14: =IFERROR(INDEX(Planning!$E$2:$E$197,MATCH(G11,Planning!$A$2:$A$197,0)),"-") -> 0 | H14: =IFERROR(INDEX(Planning!$E$2:$E$197,MATCH(H11,Planning!$A$2:$A$197,0)),"-") -> 0 | I14: =IFERROR(INDEX(Planning!$E$2:$E$197,MATCH(I11,Planning!$A$2:$A$197,0)),"-") -> 0
C15: =IFERROR(INDEX(Planning!$F$2:$F$197,MATCH(C11,Planning!$A$2:$A$197,0)),"-") -> 0 | D15: =IFERROR(INDEX(Planning!$F$2:$F$197,MATCH(D11,Planning!$A$2:$A$197,0)),"-") -> 0 | E15: =IFERROR(INDEX(Planning!$F$2:$F$197,MATCH(E11,Planning!$A$2:$A$197,0)),"-") -> 0 | F15: =IFERROR(INDEX(Planning!$F$2:$F$197,MATCH(F11,Planning!$A$2:$A$197,0)),"-") -> 0 | G15: =IFERROR(INDEX(Planning!$F$2:$F$197,MATCH(G11,Planning!$A$2:$A$197,0)),"-") -> 0 | H15: =IFERROR(INDEX(Planning!$F$2:$F$197,MATCH(H11,Planning!$A$2:$A$197,0)),"-") -> 0 | I15: =IFERROR(INDEX(Planning!$F$2:$F$197,MATCH(I11,Planning!$A$2:$A$197,0)),"-") -> 0
C16: 43717 | D16: 43718 | E16: 43719 | F16: 43720 | G16: 43721 | H16: 43722 | I16: 43758
C17: =IFERROR(INDEX(Planning!$B$2:$B$197,MATCH(C16,Planning!$A$2:$A$197,0)),"-") -> 0 | D17: =IFERROR(INDEX(Planning!$B$2:$B$197,MATCH(D16,Planning!$A$2:$A$197,0)),"-") -> 0 | E17: =IFERROR(INDEX(Planning!$B$2:$B$197,MATCH(E16,Planning!$A$2:$A$197,0)),"-") -> 0 | F17: =IFERROR(INDEX(Planning!$B$2:$B$197,MATCH(F16,Planning!$A$2:$A$197,0)),"-") -> 0 | G17: =IFERROR(INDEX(Planning!$B$2:$B$197,MATCH(G16,Planning!$A$2:$A$197,0)),"-") -> 0 | H17: =IFERROR(INDEX(Planning!$B$2:$B$197,MATCH(H16,Planning!$A$2:$A$197,0)),"-") -> 0 | I17: =IFERROR(INDEX(Planning!$B$2:$B$197,MATCH(I16,Planning!$A$2:$A$197,0)),"-") -> 0
C18: =IFERROR(INDEX(Planning!$C$2:$C$197,MATCH(C16,Planning!$A$2:$A$197,0)),"-") -> 0 | D18: =IFERROR(INDEX(Planning!$C$2:$C$197,MATCH(D16,Planning!$A$2:$A$197,0)),"-") -> 0 | E18: =IFERROR(INDEX(Planning!$C$2:$C$197,MATCH(E16,Planning!$A$2:$A$197,0)),"-") -> 0 | F18: =IFERROR(INDEX(Planning!$C$2:$C$197,MATCH(F16,Planning!$A$2:$A$197,0)),"-") -> 0 | G18: =IFERROR(INDEX(Planning!$C$2:$C$197,MATCH(G16,Planning!$A$2:$A$197,0)),"-") -> 0 | H18: =IFERROR(INDEX(Planning!$C$2:$C$197,MATCH(H16,Planning!$A$2:$A$197,0)),"-") -> 0 | I18: =IFERROR(INDEX(Planning!$C$2:$C$197,MATCH(I16,Planning!$A$2:$A$197,0)),"-") -> 0
C19: =IFERROR(INDEX(Planning!$E$2:$E$197,MATCH(C16,Planning!$A$2:$A$197,0)),"-") -> 0 | D19: =IFERROR(INDEX(Planning!$E$2:$E$197,MATCH(D16,Planning!$A$2:$A$197,0)),"-") -> 0 | E19: =IFERROR(INDEX(Planning!$E$2:$E$197,MATCH(E16,Planning!$A$2:$A$197,0)),"-") -> 0 | F19: =IFERROR(INDEX(Planning!$E$2:$E$197,MATCH(F16,Planning!$A$2:$A$197,0)),"-") -> 0 | G19: =IFERROR(INDEX(Planning!$E$2:$E$197,MATCH(G16,Planning!$A$2:$A$197,0)),"-") -> 0 | H19: =IFERROR(INDEX(Planning!$E$2:$E$197,MATCH(H16,Planning!$A$2:$A$197,0)),"-") -> 0 | I19: =IFERROR(INDEX(Planning!$E$2:$E$197,MATCH(I16,Planning!$A$2:$A$197,0)),"-") -> 0
C20: =IFERROR(INDEX(Planning!$F$2:$F$197,MATCH(C16,Planning!$A$2:$A$197,0)),"-") -> 0 | D20: =IFERROR(INDEX(Planning!$F$2:$F$197,MATCH(D16,Planning!$A$2:$A$197,0)),"-") -> 0 | E20: =IFERROR(INDEX(Planning!$F$2:$F$197,MATCH(E16,Planning!$A$2:$A$197,0)),"-") -> 0 | F20: =IFERROR(INDEX(Planning!$F$2:$F$197,MATCH(F16,Planning!$A$2:$A$197,0)),"-") -> 0 | G20: =IFERROR(INDEX(Planning!$F$2:$F$197,MATCH(G16,Planning!$A$2:$A$197,0)),"-") -> 0 | H20: =IFERROR(INDEX(Planning!$F$2:$F$197,MATCH(H16,Planning!$A$2:$A$197,0)),"-") -> 0 | I20: =IFERROR(INDEX(Planning!$F$2:$F$197,MATCH(I16,Planning!$A$2:$A$197,0)),"-") -> 0
C21: 43724 | D21: 43725 | E21: 43726 | F21: 43727 | G21: 43728 | H21: 43729 | I21: 43765
C22: =IFERROR(INDEX(Planning!$B$2:$B$197,MATCH(C21,Planning!$A$2:$A$197,0)),"-") -> 0 | D22: =IFERROR(INDEX(Planning!$B$2:$B$197,MATCH(D21,Planning!$A$2:$A$197,0)),"-") -> 0 | E22: =IFERROR(INDEX(Planning!$B$2:$B$197,MATCH(E21,Planning!$A$2:$A$197,0)),"-") -> 0 | F22: =IFERROR(INDEX(Planning!$B$2:$B$197,MATCH(F21,Planning!$A$2:$A$197,0)),"-") -> 0 | G22: =IFERROR(INDEX(Planning!$B$2:$B$197,MATCH(G21,Planning!$A$2:$A$197,0)),"-") -> 0 | H22: =IFERROR(INDEX(Planning!$B$2:$B$197,MATCH(H21,Planning!$A$2:$A$197,0)),"-") -> 0 | I22: =IFERROR(INDEX(Planning!$B$2:$B$197,MATCH(I21,Planning!$A$2:$A$197,0)),"-") -> 0
C23: =IFERROR(INDEX(Planning!$C$2:$C$197,MATCH(C21,Planning!$A$2:$A$197,0)),"-") -> 0 | D23: =IFERROR(INDEX(Planning!$C$2:$C$197,MATCH(D21,Planning!$A$2:$A$197,0)),"-") -> 0 | E23: =IFERROR(INDEX(Planning!$C$2:$C$197,MATCH(E21,Planning!$A$2:$A$197,0)),"-") -> 0 | F23: =IFERROR(INDEX(Planning!$C$2:$C$197,MATCH(F21,Planning!$A$2:$A$197,0)),"-") -> 0 | G23: =IFERROR(INDEX(Planning!$C$2:$C$197,MATCH(G21,Planning!$A$2:$A$197,0)),"-") -> 0 | H23: =IFERROR(INDEX(Planning!$C$2:$C$197,MATCH(H21,Planning!$A$2:$A$197,0)),"-") -> 0 | I23: =IFERROR(INDEX(Planning!$C$2:$C$197,MATCH(I21,Planning!$A$2:$A$197,0)),"-") -> 0
C24: =IFERROR(INDEX(Planning!$E$2:$E$197,MATCH(C21,Planning!$A$2:$A$197,0)),"-") -> 0 | D24: =IFERROR(INDEX(Planning!$E$2:$E$197,MATCH(D21,Planning!$A$2:$A$197,0)),"-") -> 0 | E24: =IFERROR(INDEX(Planning!$E$2:$E$197,MATCH(E21,Planning!$A$2:$A$197,0)),"-") -> 0 | F24: =IFERROR(INDEX(Planning!$E$2:$E$197,MATCH(F21,Planning!$A$2:$A$197,0)),"-") -> 0 | G24: =IFERROR(INDEX(Planning!$E$2:$E$197,MATCH(G21,Planning!$A$2:$A$197,0)),"-") -> 0 | H24: =IFERROR(INDEX(Planning!$E$2:$E$197,MATCH(H21,Planning!$A$2:$A$197,0)),"-") -> 0 | I24: =IFERROR(INDEX(Planning!$E$2:$E$197,MATCH(I21,Planning!$A$2:$A$197,0)),"-") -> 0
C25: =IFERROR(INDEX(Planning!$F$2:$F$197,MATCH(C21,Planning!$A$2:$A$197,0)),"-") -> 0 | D25: =IFERROR(INDEX(Planning!$F$2:$F$197,MATCH(D21,Planning!$A$2:$A$197,0)),"-") -> 0 | E25: =IFERROR(INDEX(Planning!$F$2:$F$197,MATCH(E21,Planning!$A$2:$A$197,0)),"-") -> 0 | F25: =IFERROR(INDEX(Planning!$F$2:$F$197,MATCH(F21,Planning!$A$2:$A$197,0)),"-") -> 0 | G25: =IFERROR(INDEX(Planning!$F$2:$F$197,MATCH(G21,Planning!$A$2:$A$197,0)),"-") -> 0 | H25: =IFERROR(INDEX(Planning!$F$2:$F$197,MATCH(H21,Planning!$A$2:$A$197,0)),"-") -> 0 | I25: =IFERROR(INDEX(Planning!$F$2:$F$197,MATCH(I21,Planning!$A$2:$A$197,0)),"-") -> 0
C26: 43766 | D26: 43767 | E26: 43768 | F26: 43769
C27: =IFERROR(INDEX(Planning!$B$2:$B$197,MATCH(C26,Planning!$A$2:$A$197,0)),"-") -> 0 | D27: =IFERROR(INDEX(Planning!$B$2:$B$197,MATCH(D26,Planning!$A$2:$A$197,0)),"-") -> 0 | E27: =IFERROR(INDEX(Planning!$B$2:$B$197,MATCH(E26,Planning!$A$2:$A$197,0)),"-") -> 0 | F27: =IFERROR(INDEX(Planning!$B$2:$B$197,MATCH(F26,Planning!$A$2:$A$197,0)),"-") -> 0
C28: =IFERROR(INDEX(Planning!$C$2:$C$197,MATCH(C26,Planning!$A$2:$A$197,0)),"-") -> 0 | D28: =IFERROR(INDEX(Planning!$C$2:$C$197,MATCH(D26,Planning!$A$2:$A$197,0)),"-") -> 0 | E28: =IFERROR(INDEX(Planning!$C$2:$C$197,MATCH(E26,Planning!$A$2:$A$197,0)),"-") -> 0 | F28: =IFERROR(INDEX(Planning!$C$2:$C$197,MATCH(F26,Planning!$A$2:$A$197,0)),"-") -> 0
C29: =IFERROR(INDEX(Planning!$E$2:$E$197,MATCH(C26,Planning!$A$2:$A$197,0)),"-") -> 0 | D29: =IFERROR(INDEX(Planning!$E$2:$E$197,MATCH(D26,Planning!$A$2:$A$197,0)),"-") -> 0 | E29: =IFERROR(INDEX(Planning!$E$2:$E$197,MATCH(E26,Planning!$A$2:$A$197,0)),"-") -> 0 | F29: =IFERROR(INDEX(Planning!$E$2:$E$197,MATCH(F26,Planning!$A$2:$A$197,0)),"-") -> 0
C30: =IFERROR(INDEX(Planning!$F$2:$F$197,MATCH(C26,Planning!$A$2:$A$197,0)),"-") -> 0 | D30: =IFERROR(INDEX(Planning!$F$2:$F$197,MATCH(D26,Planning!$A$2:$A$197,0)),"-") -> 0 | E30: =IFERROR(INDEX(Planning!$F$2:$F$197,MATCH(E26,Planning!$A$2:$A$197,0)),"-") -> 0 | F30: =IFERROR(INDEX(Planning!$F$2:$F$197,MATCH(F26,Planning!$A$2:$A$197,0)),"-") -> 0

Sheet 2019-11
C2: Novembre | D2: 2019
C4: Lundi | D4: Mardi | E4: Mercredi | F4: Jeudi | G4: Vendredi | H4: Samedi | I4: Dimanche
G6: 43770 | H6: 43771 | I6: 43772
G7: =IFERROR(INDEX(Planning!$B$2:$B$197,MATCH(G6,Planning!$A$2:$A$197,0)),"-") -> 0 | H7: =IFERROR(INDEX(Planning!$B$2:$B$197,MATCH(H6,Planning!$A$2:$A$197,0)),"-") -> 0 | I7: =IFERROR(INDEX(Planning!$B$2:$B$197,MATCH(I6,Planning!$A$2:$A$197,0)),"-") -> 0
G8: =IFERROR(INDEX(Planning!$C$2:$C$197,MATCH(G6,Planning!$A$2:$A$197,0)),"-") -> 0 | H8: =IFERROR(INDEX(Planning!$C$2:$C$197,MATCH(H6,Planning!$A$2:$A$197,0)),"-") -> 0 | I8: =IFERROR(INDEX(Planning!$C$2:$C$197,MATCH(I6,Planning!$A$2:$A$197,0)),"-") -> 0
G9: =IFERROR(INDEX(Planning!$E$2:$E$197,MATCH(G6,Planning!$A$2:$A$197,0)),"-") -> 0 | H9: =IFERROR(INDEX(Planning!$E$2:$E$197,MATCH(H6,Planning!$A$2:$A$197,0)),"-") -> 0 | I9: =IFERROR(INDEX(Planning!$E$2:$E$197,MATCH(I6,Planning!$A$2:$A$197,0)),"-") -> 0
G10: =IFERROR(INDEX(Planning!$F$2:$F$197,MATCH(G6,Planning!$A$2:$A$197,0)),"-") -> 0 | H10: =IFERROR(INDEX(Planning!$F$2:$F$197,MATCH(H6,Planning!$A$2:$A$197,0)),"-") -> 0 | I10: =IFERROR(INDEX(Planning!$F$2:$F$197,MATCH(I6,Planning!$A$2:$A$197,0)),"-") -> 0
C11: 43773 | D11: 43774 | E11: 43775 | F11: 43776 | G11: 43777 | H11: 43778 | I11: 43779
C12: =IFERROR(INDEX(Planning!$B$2:$B$197,MATCH(C11,Planning!$A$2:$A$197,0)),"-") -> 0 | D12: =IFERROR(INDEX(Planning!$B$2:$B$197,MATCH(D11,Planning!$A$2:$A$197,0)),"-") -> 0 | E12: =IFERROR(INDEX(Planning!$B$2:$B$197,MATCH(E11,Planning!$A$2:$A$197,0)),"-") -> 0 | F12: =IFERROR(INDEX(Planning!$B$2:$B$197,MATCH(F11,Planning!$A$2:$A$197,0)),"-") -> 0 | G12: =IFERROR(INDEX(Planning!$B$2:$B$197,MATCH(G11,Planning!$A$2:$A$197,0)),"-") -> 0 | H12: =IFERROR(INDEX(Planning!$B$2:$B$197,MATCH(H11,Planning!$A$2:$A$197,0)),"-") -> 0 | I12: =IFERROR(INDEX(Planning!$B$2:$B$197,MATCH(I11,Planning!$A$2:$A$197,0)),"-") -> 0
C13: =IFERROR(INDEX(Planning!$C$2:$C$197,MATCH(C11,Planning!$A$2:$A$197,0)),"-") -> 0 | D13: =IFERROR(INDEX(Planning!$C$2:$C$197,MATCH(D11,Planning!$A$2:$A$197,0)),"-") -> 0 | E13: =IFERROR(INDEX(Planning!$C$2:$C$197,MATCH(E11,Planning!$A$2:$A$197,0)),"-") -> 0 | F13: =IFERROR(INDEX(Planning!$C$2:$C$197,MATCH(F11,Planning!$A$2:$A$197,0)),"-") -> 0 | G13: =IFERROR(INDEX(Planning!$C$2:$C$197,MATCH(G11,Planning!$A$2:$A$197,0)),"-") -> 0 | H13: =IFERROR(INDEX(Planning!$C$2:$C$197,MATCH(H11,Planning!$A$2:$A$197,0)),"-") -> 0 | I13: =IFERROR(INDEX(Planning!$C$2:$C$197,MATCH(I11,Planning!$A$2:$A$197,0)),"-") -> 0
C14: =IFERROR(INDEX(Planning!$E$2:$E$197,MATCH(C11,Planning!$A$2:$A$197,0)),"-") -> 0 | D14: =IFERROR(INDEX(Planning!$E$2:$E$197,MATCH(D11,Planning!$A$2:$A$197,0)),"-") -> 0 | E14: =IFERROR(INDEX(Planning!$E$2:$E$197,MATCH(E11,Planning!$A$2:$A$197,0)),"-") -> 0 | F14: =IFERROR(INDEX(Planning!$E$2:$E$197,MATCH(F11,Planning!$A$2:$A$197,0)),"-") -> 0 | G14: =IFERROR(INDEX(Planning!$E$2:$E$197,MATCH(G11,Planning!$A$2:$A$197,0)),"-") -> 0 | H14: =IFERROR(INDEX(Planning!$E$2:$E$197,MATCH(H11,Planning!$A$2:$A$197,0)),"-") -> 0 | I14: =IFERROR(INDEX(Planning!$E$2:$E$197,MATCH(I11,Planning!$A$2:$A$197,0)),"-") -> 0
C15: =IFERROR(INDEX(Planning!$F$2:$F$197,MATCH(C11,Planning!$A$2:$A$197,0)),"-") -> 0 | D15: =IFERROR(INDEX(Planning!$F$2:$F$197,MATCH(D11,Planning!$A$2:$A$197,0)),"-") -> 0 | E15: =IFERROR(INDEX(Planning!$F$2:$F$197,MATCH(E11,Planning!$A$2:$A$197,0)),"-") -> 0 | F15: =IFERROR(INDEX(Planning!$F$2:$F$197,MATCH(F11,Planning!$A$2:$A$197,0)),"-") -> 0 | G15: =IFERROR(INDEX(Planning!$F$2:$F$197,MATCH(G11,Planning!$A$2:$A$197,0)),"-") -> 0 | H15: =IFERROR(INDEX(Planning!$F$2:$F$197,MATCH(H11,Planning!$A$2:$A$197,0)),"-") -> 0 | I15: =IFERROR(INDEX(Planning!$F$2:$F$197,MATCH(I11,Planning!$A$2:$A$197,0)),"-") -> 0
C16: 43780 | D16: 43781 | E16: 43782 | F16: 43783 | G16: 43784 | H16: 43785 | I16: 43786
C17: =IFERROR(INDEX(Planning!$B$2:$B$197,MATCH(C16,Planning!$A$2:$A$197,0)),"-") -> 0 | D17: =IFERROR(INDEX(Planning!$B$2:$B$197,MATCH(D16,Planning!$A$2:$A$197,0)),"-") -> 0 | E17: =IFERROR(INDEX(Planning!$B$2:$B$197,MATCH(E16,Planning!$A$2:$A$197,0)),"-") -> 0 | F17: =IFERROR(INDEX(Planning!$B$2:$B$197,MATCH(F16,Planning!$A$2:$A$197,0)),"-") -> 0 | G17: =IFERROR(INDEX(Planning!$B$2:$B$197,MATCH(G16,Planning!$A$2:$A$197,0)),"-") -> 0 | H17: =IFERROR(INDEX(Planning!$B$2:$B$197,MATCH(H16,Planning!$A$2:$A$197,0)),"-") -> 0 | I17: =IFERROR(INDEX(Planning!$B$2:$B$197,MATCH(I16,Planning!$A$2:$A$197,0)),"-") -> 0
C18: =IFERROR(INDEX(Planning!$C$2:$C$197,MATCH(C16,Planning!$A$2:$A$197,0)),"-") -> 0 | D18: =IFERROR(INDEX(Planning!$C$2:$C$197,MATCH(D16,Planning!$A$2:$A$197,0)),"-") -> 0 | E18: =IFERROR(INDEX(Planning!$C$2:$C$197,MATCH(E16,Planning!$A$2:$A$197,0)),"-") -> 0 | F18: =IFERROR(INDEX(Planning!$C$2:$C$197,MATCH(F16,Planning!$A$2:$A$197,0)),"-") -> 0 | G18: =IFERROR(INDEX(Planning!$C$2:$C$197,MATCH(G16,Planning!$A$2:$A$197,0)),"-") -> 0 | H18: =IFERROR(INDEX(Planning!$C$2:$C$197,MATCH(H16,Planning!$A$2:$A$197,0)),"-") -> 0 | I18: =IFERROR(INDEX(Planning!$C$2:$C$197,MATCH(I16,Planning!$A$2:$A$197,0)),"-") -> 0
C19: =IFERROR(INDEX(Planning!$E$2:$E$197,MATCH(C16,Planning!$A$2:$A$197,0)),"-") -> 0 | D19: =IFERROR(INDEX(Planning!$E$2:$E$197,MATCH(D16,Planning!$A$2:$A$197,0)),"-") -> 0 | E19: =IFERROR(INDEX(Planning!$E$2:$E$197,MATCH(E16,Planning!$A$2:$A$197,0)),"-") -> 0 | F19: =IFERROR(INDEX(Planning!$E$2:$E$197,MATCH(F16,Planning!$A$2:$A$197,0)),"-") -> 0 | G19: =IFERROR(INDEX(Planning!$E$2:$E$197,MATCH(G16,Planning!$A$2:$A$197,0)),"-") -> 0 | H19: =IFERROR(INDEX(Planning!$E$2:$E$197,MATCH(H16,Planning!$A$2:$A$197,0)),"-") -> 0 | I19: =IFERROR(INDEX(Planning!$E$2:$E$197,MATCH(I16,Planning!$A$2:$A$197,0)),"-") -> 0
C20: =IFERROR(INDEX(Planning!$F$2:$F$197,MATCH(C16,Planning!$A$2:$A$197,0)),"-") -> 0 | D20: =IFERROR(INDEX(Planning!$F$2:$F$197,MATCH(D16,Planning!$A$2:$A$197,0)),"-") -> 0 | E20: =IFERROR(INDEX(Planning!$F$2:$F$197,MATCH(E16,Planning!$A$2:$A$197,0)),"-") -> 0 | F20: =IFERROR(INDEX(Planning!$F$2:$F$197,MATCH(F16,Planning!$A$2:$A$197,0)),"-") -> 0 | G20: =IFERROR(INDEX(Planning!$F$2:$F$197,MATCH(G16,Planning!$A$2:$A$197,0)),"-") -> 0 | H20: =IFERROR(INDEX(Planning!$F$2:$F$197,MATCH(H16,Planning!$A$2:$A$197,0)),"-") -> 0 | I20: =IFERROR(INDEX(Planning!$F$2:$F$197,MATCH(I16,Planning!$A$2:$A$197,0)),"-") -> 0
C21: 43787 | D21: 43788 | E21: 43789 | F21: 43790 | G21: 43791 | H21: 43792 | I21: 43793
C22: =IFERROR(INDEX(Planning!$B$2:$B$197,MATCH(C21,Planning!$A$2:$A$197,0)),"-") -> 0 | D22: =IFERROR(INDEX(Planning!$B$2:$B$197,MATCH(D21,Planning!$A$2:$A$197,0)),"-") -> 0 | E22: =IFERROR(INDEX(Planning!$B$2:$B$197,MATCH(E21,Planning!$A$2:$A$197,0)),"-") -> 0 | F22: =IFERROR(INDEX(Planning!$B$2:$B$197,MATCH(F21,Planning!$A$2:$A$197,0)),"-") -> 0 | G22: =IFERROR(INDEX(Planning!$B$2:$B$197,MATCH(G21,Planning!$A$2:$A$197,0)),"-") -> 0 | H22: =IFERROR(INDEX(Planning!$B$2:$B$197,MATCH(H21,Planning!$A$2:$A$197,0)),"-") -> 0 | I22: =IFERROR(INDEX(Planning!$B$2:$B$197,MATCH(I21,Planning!$A$2:$A$197,0)),"-") -> 0
C23: =IFERROR(INDEX(Planning!$C$2:$C$197,MATCH(C21,Planning!$A$2:$A$197,0)),"-") -> 0 | D23: =IFERROR(INDEX(Planning!$C$2:$C$197,MATCH(D21,Planning!$A$2:$A$197,0)),"-") -> 0 | E23: =IFERROR(INDEX(Planning!$C$2:$C$197,MATCH(E21,Planning!$A$2:$A$197,0)),"-") -> 0 | F23: =IFERROR(INDEX(Planning!$C$2:$C$197,MATCH(F21,Planning!$A$2:$A$197,0)),"-") -> 0 | G23: =IFERROR(INDEX(Planning!$C$2:$C$197,MATCH(G21,Planning!$A$2:$A$197,0)),"-") -> 0 | H23: =IFERROR(INDEX(Planning!$C$2:$C$197,MATCH(H21,Planning!$A$2:$A$197,0)),"-") -> 0 | I23: =IFERROR(INDEX(Planning!$C$2:$C$197,MATCH(I21,Planning!$A$2:$A$197,0)),"-") -> 0
C24: =IFERROR(INDEX(Planning!$E$2:$E$197,MATCH(C21,Planning!$A$2:$A$197,0)),"-") -> 0 | D24: =IFERROR(INDEX(Planning!$E$2:$E$197,MATCH(D21,Planning!$A$2:$A$197,0)),"-") -> 0 | E24: =IFERROR(INDEX(Planning!$E$2:$E$197,MATCH(E21,Planning!$A$2:$A$197,0)),"-") -> 0 | F24: =IFERROR(INDEX(Planning!$E$2:$E$197,MATCH(F21,Planning!$A$2:$A$197,0)),"-") -> 0 | G24: =IFERROR(INDEX(Planning!$E$2:$E$197,MATCH(G21,Planning!$A$2:$A$197,0)),"-") -> 0 | H24: =IFERROR(INDEX(Planning!$E$2:$E$197,MATCH(H21,Planning!$A$2:$A$197,0)),"-") -> 0 | I24: =IFERROR(INDEX(Planning!$E$2:$E$197,MATCH(I21,Planning!$A$2:$A$197,0)),"-") -> 0
C25: =IFERROR(INDEX(Planning!$F$2:$F$197,MATCH(C21,Planning!$A$2:$A$197,0)),"-") -> 0 | D25: =IFERROR(INDEX(Planning!$F$2:$F$197,MATCH(D21,Planning!$A$2:$A$197,0)),"-") -> 0 | E25: =IFERROR(INDEX(Planning!$F$2:$F$197,MATCH(E21,Planning!$A$2:$A$197,0)),"-") -> 0 | F25: =IFERROR(INDEX(Planning!$F$2:$F$197,MATCH(F21,Planning!$A$2:$A$197,0)),"-") -> 0 | G25: =IFERROR(INDEX(Planning!$F$2:$F$197,MATCH(G21,Planning!$A$2:$A$197,0)),"-") -> 0 | H25: =IFERROR(INDEX(Planning!$F$2:$F$197,MATCH(H21,Planning!$A$2:$A$197,0)),"-") -> 0 | I25: =IFERROR(INDEX(Planning!$F$2:$F$197,MATCH(I21,Planning!$A$2:$A$197,0)),"-") -> 0
C26: 43794 | D26: 43795 | E26: 43796 | F26: 43797 | G26: 43798 | H26: 43799
C27: =IFERROR(INDEX(Planning!$B$2:$B$197,MATCH(C26,Planning!$A$2:$A$197,0)),"-") -> 0 | D27: =IFERROR(INDEX(Planning!$B$2:$B$197,MATCH(D26,Planning!$A$2:$A$197,0)),"-") -> 0 | E27: =IFERROR(INDEX(Planning!$B$2:$B$197,MATCH(E26,Planning!$A$2:$A$197,0)),"-") -> 0 | F27: =IFERROR(INDEX(Planning!$B$2:$B$197,MATCH(F26,Planning!$A$2:$A$197,0)),"-") -> 0 | G27: =IFERROR(INDEX(Planning!$B$2:$B$197,MATCH(G26,Planning!$A$2:$A$197,0)),"-") -> 0 | H27: =IFERROR(INDEX(Planning!$B$2:$B$197,MATCH(H26,Planning!$A$2:$A$197,0)),"-") -> 0
C28: =IFERROR(INDEX(Planning!$C$2:$C$197,MATCH(C26,Planning!$A$2:$A$197,0)),"-") -> 0 | D28: =IFERROR(INDEX(Planning!$C$2:$C$197,MATCH(D26,Planning!$A$2:$A$197,0)),"-") -> 0 | E28: =IFERROR(INDEX(Planning!$C$2:$C$197,MATCH(E26,Planning!$A$2:$A$197,0)),"-") -> 0 | F28: =IFERROR(INDEX(Planning!$C$2:$C$197,MATCH(F26,Planning!$A$2:$A$197,0)),"-") -> 0 | G28: =IFERROR(INDEX(Planning!$C$2:$C$197,MATCH(G26,Planning!$A$2:$A$197,0)),"-") -> 0 | H28: =IFERROR(INDEX(Planning!$C$2:$C$197,MATCH(H26,Planning!$A$2:$A$197,0)),"-") -> 0
C29: =IFERROR(INDEX(Planning!$E$2:$E$197,MATCH(C26,Planning!$A$2:$A$197,0)),"-") -> 0 | D29: =IFERROR(INDEX(Planning!$E$2:$E$197,MATCH(D26,Planning!$A$2:$A$197,0)),"-") -> 0 | E29: =IFERROR(INDEX(Planning!$E$2:$E$197,MATCH(E26,Planning!$A$2:$A$197,0)),"-") -> 0 | F29: =IFERROR(INDEX(Planning!$E$2:$E$197,MATCH(F26,Planning!$A$2:$A$197,0)),"-") -> 0 | G29: =IFERROR(INDEX(Planning!$E$2:$E$197,MATCH(G26,Planning!$A$2:$A$197,0)),"-") -> 0 | H29: =IFERROR(INDEX(Planning!$E$2:$E$197,MATCH(H26,Planning!$A$2:$A$197,0)),"-") -> 0
C30: =IFERROR(INDEX(Planning!$F$2:$F$197,MATCH(C26,Planning!$A$2:$A$197,0)),"-") -> 0 | D30: =IFERROR(INDEX(Planning!$F$2:$F$197,MATCH(D26,Planning!$A$2:$A$197,0)),"-") -> 0 | E30: =IFERROR(INDEX(Planning!$F$2:$F$197,MATCH(E26,Planning!$A$2:$A$197,0)),"-") -> 0 | F30: =IFERROR(INDEX(Planning!$F$2:$F$197,MATCH(F26,Planning!$A$2:$A$197,0)),"-") -> 0 | G30: =IFERROR(INDEX(Planning!$F$2:$F$197,MATCH(G26,Planning!$A$2:$A$197,0)),"-") -> 0 | H30: =IFERROR(INDEX(Planning!$F$2:$F$197,MATCH(H26,Planning!$A$2:$A$197,0)),"-") -> 0

Sheet 2019-12
C2: Décembre | D2: 2019
C4: Lundi | D4: Mardi | E4: Mercredi | F4: Jeudi | G4: Vendredi | H4: Samedi | I4: Dimanche
I6: 43800
I7: =IFERROR(INDEX(Planning!$B$2:$B$197,MATCH(I6,Planning!$A$2:$A$197,0)),"-") -> 0
I8: =IFERROR(INDEX(Planning!$C$2:$C$197,MATCH(I6,Planning!$A$2:$A$197,0)),"-") -> 0
I9: =IFERROR(INDEX(Planning!$E$2:$E$197,MATCH(I6,Planning!$A$2:$A$197,0)),"-") -> 0
I10: =IFERROR(INDEX(Planning!$F$2:$F$197,MATCH(I6,Planning!$A$2:$A$197,0)),"-") -> 0
C11: 43801 | D11: 43802 | E11: 43803 | F11: 43804 | G11: 43805 | H11: 43806 | I11: 43807
