Workbook
Name ADRESSE: OFFSET(DONNEES!$C$2,0,0,COUNTA(DONNEES!$C:$C))
Name AnneeValeur: #REF!
Name calendrier_cases: '2019-06'!$C$6:$I$32
Name calendrier_cases: '2019-07'!$C$6:$I$26
Name calendrier_cases: '2019-08'!$C$6:$I$30
Name calendrier_cases: '2019-09'!$C$6:$I$37
Name calendrier_cases: '2019-10'!$C$6:$I$34
Name calendrier_cases: '2019-11'!$C$6:$I$34
Name calendrier_cases: '2019-12'!$C$6:$I$37
Name calendrier_cases: #REF!
Name calendrier_complet: '2019-06'!$C$2:$I$30
Name calendrier_complet: '2019-07'!$C$2:$I$21
Name calendrier_complet: '2019-08'!$C$2:$I$28
Name calendrier_complet: '2019-09'!$C$2:$I$35
Name calendrier_complet: '2019-10'!$C$2:$I$32
Name calendrier_complet: '2019-11'!$C$2:$I$32
Name calendrier_complet: '2019-12'!$C$2:$I$35
Name calendrier_complet: #REF!
Name calendrier_fond: '2019-06'!$B$1:$J$5,'2019-06'!$B$6:$B$31,'2019-06'!$C$31:$J$31,'2019-06'!$J$6:$J$30
Name calendrier_fond: '2019-07'!$B$1:$J$5,'2019-07'!$B$6:$B$21,'2019-07'!$C$18:$J$18,'2019-07'!$J$6:$J$17
Name calendrier_fond: '2019-08'!$B$1:$J$5,'2019-08'!$B$6:$B$18,'2019-08'!#REF!,'2019-08'!$J$6:$J$18
Name calendrier_fond: '2019-09'!$B$1:$J$5,'2019-09'!$B$6:$B$36,'2019-09'!$C$36:$J$36,'2019-09'!$J$6:$J$35
Name calendrier_fond: '2019-10'!$B$1:$J$5,'2019-10'!$B$6:$B$33,'2019-10'!$C$33:$J$33,'2019-10'!$J$6:$J$32
Name calendrier_fond: '2019-11'!$B$1:$J$5,'2019-11'!$B$6:$B$33,'2019-11'!$C$33:$J$33,'2019-11'!$J$6:$J$32
Name calendrier_fond: '2019-12'!$B$1:$J$5,'2019-12'!$B$6:$B$36,'2019-12'!$C$36:$J$36,'2019-12'!$J$6:$J$35
Name calendrier_fond: #REF!,#REF!,#REF!,#REF!
Name color_background: #REF!
Name color_hol_case: #REF!
Name color_hol_day: #REF!
Name color_sat_case: #REF!
Name color_sat_day: #REF!
Name color_sun_case: #REF!
Name color_sun_day: #REF!
Name color_w_case: #REF!
Name color_w_day: #REF!
Name dates_possibles: '2019-06'!$C$6:$I$6,'2019-06'!$C$11:$I$11,'2019-06'!$C$16:$I$16,'2019-06'!#REF!,'2019-06'!$C$26:$I$26,'2019-06'!$C$29:$I$29
Name dates_possibles: '2019-07'!$C$6:$I$6,'2019-07'!$C$11:$I$11,'2019-07'!$C$13:$I$13,'2019-07'!$C$14:$I$14,'2019-07'!#REF!,'2019-07'!#REF!
Name dates_possibles: '2019-08'!$C$6:$I$6,'2019-08'!$C$11:$I$11,'2019-08'!$C$16:$I$16,'2019-08'!$C$21:$I$21,'2019-08'!$C$26:$I$26,'2019-08'!$C$28:$I$28
Name dates_possibles: '2019-09'!$C$6:$I$6,'2019-09'!$C$11:$I$11,'2019-09'!$C$16:$I$16,'2019-09'!$C$21:$I$21,'2019-09'!$C$26:$I$26,'2019-09'!$C$31:$I$31
Name dates_possibles: '2019-10'!$C$6:$I$6,'2019-10'!$C$11:$I$11,'2019-10'!$C$16:$I$16,'2019-10'!$C$21:$I$21,'2019-10'!$C$26:$I$26,'2019-10'!$C$31:$I$31
Name dates_possibles: '2019-11'!$C$6:$I$6,'2019-11'!$C$11:$I$11,'2019-11'!$C$16:$I$16,'2019-11'!$C$21:$I$21,'2019-11'!$C$26:$I$26,'2019-11'!$C$31:$I$31
Name dates_possibles: '2019-12'!$C$6:$I$6,'2019-12'!$C$11:$I$11,'2019-12'!$C$16:$I$16,'2019-12'!$C$21:$I$21,'2019-12'!$C$26:$I$26,'2019-12'!$C$31:$I$31
Name dates_possibles: #REF!,#REF!,#REF!,#REF!,#REF!,#REF!
Name dimanches_cases: '2019-06'!$I$10,'2019-06'!$I$15,'2019-06'!$I$17,'2019-06'!#REF!,'2019-06'!#REF!,'2019-06'!$I$30
Name dimanches_cases: '2019-07'!$I$10,'2019-07'!#REF!,'2019-07'!#REF!,'2019-07'!#REF!,'2019-07'!$I$27,'2019-07'!#REF!
Name dimanches_cases: '2019-08'!$I$10,'2019-08'!$I$15,'2019-08'!#REF!,'2019-08'!#REF!,'2019-08'!$I$27,'2019-08'!#REF!
Name dimanches_cases: '2019-09'!$I$10,'2019-09'!$I$15,'2019-09'!$I$20,'2019-09'!$I$25,'2019-09'!$I$30,'2019-09'!$I$35
Name dimanches_cases: '2019-10'!$I$10,'2019-10'!$I$15,'2019-10'!$I$20,'2019-10'!$I$25,'2019-10'!$I$30,'2019-10'!$I$32
Name dimanches_cases: '2019-11'!$I$10,'2019-11'!$I$15,'2019-11'!$I$20,'2019-11'!$I$25,'2019-11'!$I$30,'2019-11'!$I$32
Name dimanches_cases: '2019-12'!$I$10,'2019-12'!$I$15,'2019-12'!$I$20,'2019-12'!$I$25,'2019-12'!$I$30,'2019-12'!$I$35
Name dimanches_cases: #REF!,#REF!,#REF!,#REF!,#REF!,#REF!
Name dimanches_dates: '2019-06'!$I$6,'2019-06'!$I$11,'2019-06'!$I$16,'2019-06'!#REF!,'2019-06'!$I$26,'2019-06'!$I$29
Name dimanches_dates: '2019-07'!$I$6,'2019-07'!$I$11,'2019-07'!$I$16,'2019-07'!$I$21,'2019-07'!$I$26,'2019-07'!$I$28
Name dimanches_dates: '2019-08'!$I$6,'2019-08'!$I$11,'2019-08'!$I$16,'2019-08'!$I$21,'2019-08'!$I$26,'2019-08'!$I$28
Name dimanches_dates: '2019-09'!$I$6,'2019-09'!$I$11,'2019-09'!$I$16,'2019-09'!$I$21,'2019-09'!$I$26,'2019-09'!$I$31
Name dimanches_dates: '2019-10'!$I$6,'2019-10'!$I$11,'2019-10'!$I$16,'2019-10'!$I$21,'2019-10'!$I$26,'2019-10'!$I$31
Name dimanches_dates: '2019-11'!$I$6,'2019-11'!$I$11,'2019-11'!$I$16,'2019-11'!$I$21,'2019-11'!$I$26,'2019-11'!$I$31
Name dimanches_dates: '2019-12'!$I$6,'2019-12'!$I$11,'2019-12'!$I$16,'2019-12'!$I$21,'2019-12'!$I$26,'2019-12'!$I$31
Name dimanches_dates: #REF!,#REF!,#REF!,#REF!,#REF!,#REF!
Name DUREE1: OFFSET(DONNEES!$G$2,0,0,COUNTA(DONNEES!$G:$G))

Sheet 2019-06
C2: Juin | D2: 2019
C4: Lundi | D4: Mardi | E4: Mercredi | F4: Jeudi | G4: Vendredi | H4: Samedi | I4: Dimanche
H6: 43617 | I6: 43618
C11: 43619 | D11: 43620 | E11: 43621 | F11: 43622 | G11: 43623 | H11: 43624 | I11: 43625
C16: 43626 | D16: 43627 | E16: 43628 | F16: 43629 | G16: 43630 | H16: 43631 | I16: 43632
C21: 43633 | D21: 43634 | E21: 43635 | F21: 43636 | G21: 43637 | H21: 43638 | I21: 43639
F22: =IFERROR(INDEX(Planning!$B$2:$B$7,MATCH($F$21,Planning!$A$2:$A$197,0)),"-") -> 0.83333333 | G22: =IFERROR(INDEX(Planning!$B$2:$B$7,MATCH($G$21,Planning!$A$2:$A$197,0)),"-") -> 0.83333333
F23: =IFERROR(INDEX(Planning!$C$2:$C$7,MATCH($F$21,Planning!$A$2:$A$197,0)),"-") -> 0.29166667 | G23: =IFERROR(INDEX(Planning!$C$2:$C$7,MATCH($G$21,Planning!$A$2:$A$197,0)),"-") -> 0.29166667
F24: =IFERROR(INDEX(Planning!$E$2:$E$7,MATCH($F$21,Planning!$A$2:$A$197,0)),"-") -> Wolué | G24: =IFERROR(INDEX(Planning!$E$2:$E$7,MATCH($G$21,Planning!$A$2:$A$197,0)),"-") -> Wolué
F25: =IFERROR(INDEX(Planning!$F$2:$F$7,MATCH($F$21,Planning!$A$2:$A$197,0)),"-") -> MC | G25: =IFERROR(INDEX(Planning!$F$2:$F$7,MATCH($G$21,Planning!$A$2:$A$197,0)),"-") -> MC
C26: 43640 | D26: 43641 | E26: 43642 | F26: 43643 | G26: 43644 | H26: 43645 | I26: 43646
C27: =IFERROR(INDEX(Planning!$B$2:$B$7,MATCH($C$26,Planning!$A$2:$A$197,0)),"-") -> 0.83333333 | D27: =IFERROR(INDEX(Planning!$B$2:$B$7,MATCH($D$26,Planning!$A$2:$A$197,0)),"-") -> 0.83333333 | E27: =IFERROR(INDEX(Planning!$B$2:$B$7,MATCH($E$26,Planning!$A$2:$A$197,0)),"-") -> 0.91666667 | F27: =IFERROR(INDEX(Planning!$B$2:$B$7,MATCH($F$26,Planning!$A$2:$A$197,0)),"-") -> 0.83333333
C28: =IFERROR(INDEX(Planning!$C$2:$C$7,MATCH($C$26,Planning!$A$2:$A$197,0)),"-") -> 0.29166667 | D28: =IFERROR(INDEX(Planning!$C$2:$C$7,MATCH($D$26,Planning!$A$2:$A$197,0)),"-") -> 0.29166667 | E28: =IFERROR(INDEX(Planning!$C$2:$C$7,MATCH($E$26,Planning!$A$2:$A$197,0)),"-") -> 0.25 | F28: =IFERROR(INDEX(Planning!$C$2:$C$7,MATCH($F$26,Planning!$A$2:$A$197,0)),"-") -> 0.29166667
C29: =IFERROR(INDEX(Planning!$E$2:$E$7,MATCH($C$26,Planning!$A$2:$A$197,0)),"-") -> Wolué | D29: =IFERROR(INDEX(Planning!$E$2:$E$7,MATCH($D$26,Planning!$A$2:$A$197,0)),"-") -> Wolué | E29: =IFERROR(INDEX(Planning!$E$2:$E$7,MATCH($E$26,Planning!$A$2:$A$197,0)),"-") -> Brel | F29: =IFERROR(INDEX(Planning!$E$2:$E$7,MATCH($F$26,Planning!$A$2:$A$197,0)),"-") -> Wolué
C30: =IFERROR(INDEX(Planning!$F$2:$F$7,MATCH($C$26,Planning!$A$2:$A$197,0)),"-") -> MC | D30: =IFERROR(INDEX(Planning!$F$2:$F$7,MATCH($D$26,Planning!$A$2:$A$197,0)),"-") -> MC | E30: =IFERROR(INDEX(Planning!$F$2:$F$7,MATCH($E$26,Planning!$A$2:$A$197,0)),"-") -> MC | F30: =IFERROR(INDEX(Planning!$F$2:$F$7,MATCH($F$26,Planning!$A$2:$A$197,0)),"-") -> MC

Sheet 2019-07
C2: Juillet | D2: 2019
C4: Lundi | D4: Mardi | E4: Mercredi | F4: Jeudi | G4: Vendredi | H4: Samedi | I4: Dimanche
C6: 43647 | D6: 43648 | E6: 43649 | F6: 43650 | G6: 43651 | H6: 43652 | I6: 43653
C7: =IFERROR(INDEX(Planning!$B$2:$B$197,MATCH($C$6,Planning!$A$2:$A$197,0)),"-") -> 0.91666667 | E7: =IFERROR(INDEX(Planning!$B$2:$B$197,MATCH($E$6,Planning!$A$2:$A$197,0)),"-") -> 0.29166667 | F7: =IFERROR(INDEX(Planning!$B$2:$B$197,MATCH($F$6,Planning!$A$2:$A$197,0)),"-") -> 0.33333333 | G7: =IFERROR(INDEX(Planning!$B$2:$B$197,MATCH($G$6,Planning!$A$2:$A$197,0)),"-") -> 0.33333333
C8: =IFERROR(INDEX(Planning!$C$2:$C$197,MATCH($C$6,Planning!$A$2:$A$197,0)),"-") -> 0.25 | E8: =IFERROR(INDEX(Planning!$C$2:$C$197,MATCH($E$6,Planning!$A$2:$A$197,0)),"-") -> 0.625 | F8: =IFERROR(INDEX(Planning!$C$2:$C$197,MATCH($F$6,Planning!$A$2:$A$197,0)),"-") -> 0.66666667 | G8: =IFERROR(INDEX(Planning!$C$2:$C$197,MATCH($G$6,Planning!$A$2:$A$197,0)),"-") -> 0.5
C9: =IFERROR(INDEX(Planning!$E$2:$E$197,MATCH($C$6,Planning!$A$2:$A$197,0)),"-") -> Haren | E9: =IFERROR(INDEX(Planning!$E$2:$E$197,MATCH($E$6,Planning!$A$2:$A$197,0)),"-") -> Asse | F9: =IFERROR(INDEX(Planning!$E$2:$E$197,MATCH($F$6,Planning!$A$2:$A$197,0)),"-") -> Merchtem | G9: =IFERROR(INDEX(Planning!$E$2:$E$197,MATCH($G$6,Planning!$A$2:$A$197,0)),"-") -> Merchtem
C10: =IFERROR(INDEX(Planning!$F$2:$F$197,MATCH($C$6,Planning!$A$2:$A$197,0)),"-") -> MC | E10: =IFERROR(INDEX(Planning!$F$2:$F$197,MATCH($E$6,Planning!$A$2:$A$197,0)),"-") -> T | F10: =IFERROR(INDEX(Planning!$F$2:$F$197,MATCH($F$6,Planning!$A$2:$A$197,0)),"-") -> T | G10: =IFERROR(INDEX(Planning!$F$2:$F$197,MATCH($G$6,Planning!$A$2:$A$197,0)),"-") -> T
C11: 43654 | D11: 43655 | E11: 43656 | F11: 43657 | G11: 43658 | H11: 43659 | I11: 43660
C12: =IFERROR(INDEX(Planning!$B$2:$B$197,MATCH($C$11,Planning!$A$2:$A$197,0)),"-") -> 0.29166667 | D12: =IFERROR(INDEX(Planning!$B$2:$B$197,MATCH($D$11,Planning!$A$2:$A$197,0)),"-") -> 0.33333333 | F12: =IFERROR(INDEX(Planning!$B$2:$B$197,MATCH($F$11,Planning!$A$2:$A$197,0)),"-") -> 0.33333333 | G12: =IFERROR(INDEX(Planning!$B$2:$B$197,MATCH($G$11,Planning!$A$2:$A$197,0)),"-") -> 0.375
C13: =IFERROR(INDEX(Planning!$C$2:$C$197,MATCH($C$11,Planning!$A$2:$A$197,0)),"-") -> 0.625 | D13: =IFERROR(INDEX(Planning!$C$2:$C$197,MATCH($D$11,Planning!$A$2:$A$197,0)),"-") -> 0.66666667 | F13: =IFERROR(INDEX(Planning!$C$2:$C$197,MATCH($F$11,Planning!$A$2:$A$197,0)),"-") -> 0.66666667 | G13: =IFERROR(INDEX(Planning!$C$2:$C$197,MATCH($G$11,Planning!$A$2:$A$197,0)),"-") -> 0.41666667
C14: =IFERROR(INDEX(Planning!$E$2:$E$197,MATCH($C$11,Planning!$A$2:$A$197,0)),"-") -> Asse | D14: =IFERROR(INDEX(Planning!$E$2:$E$197,MATCH($D$11,Planning!$A$2:$A$197,0)),"-") -> Merchtem | F14: =IFERROR(INDEX(Planning!$E$2:$E$197,MATCH($F$11,Planning!$A$2:$A$197,0)),"-") -> Merchtem | G14: =IFERROR(INDEX(Planning!$E$2:$E$197,MATCH($G$11,Planning!$A$2:$A$197,0)),"-") -> Asse
C15: =IFERROR(INDEX(Planning!$F$2:$F$197,MATCH($C$11,Planning!$A$2:$A$197,0)),"-") -> T | D15: =IFERROR(INDEX(Planning!$F$2:$F$197,MATCH($D$11,Planning!$A$2:$A$197,0)),"-") -> T | F15: =IFERROR(INDEX(Planning!$F$2:$F$197,MATCH($F$11,Planning!$A$2:$A$197,0)),"-") -> T | G15: =IFERROR(INDEX(Planning!$F$2:$F$197,MATCH($G$11,Planning!$A$2:$A$197,0)),"-") -> T
C16: 43661 | D16: 43662 | E16: 43663 | F16: 43664 | G16: 43665 | H16: 43666 | I16: 43667
C17: =IFERROR(INDEX(Planning!$B$2:$B$197,MATCH(C16,Planning!$A$2:$A$197,0)),"-") -> 0.91666667 | D17: =IFERROR(INDEX(Planning!$B$2:$B$197,MATCH($D$16,Planning!$A$2:$A$197,0)),"-") -> 0.91666667 | E17: =IFERROR(INDEX(Planning!$B$2:$B$197,MATCH($E$16,Planning!$A$2:$A$197,0)),"-") -> 0.91666667 | F17: =IFERROR(INDEX(Planning!$B$2:$B$197,MATCH($F$16,Planning!$A$2:$A$197,0)),"-") -> 0.91666667 | G17: =IFERROR(INDEX(Planning!$B$2:$B$197,MATCH($G$16,Planning!$A$2:$A$197,0)),"-") -> 0.91666667
C18: =IFERROR(INDEX(Planning!$C$2:$C$197,MATCH(C16,Planning!$A$2:$A$197,0)),"-") -> 0.25 | D18: =IFERROR(INDEX(Planning!$C$2:$C$197,MATCH($D$16,Planning!$A$2:$A$197,0)),"-") -> 0.25 | E18: =IFERROR(INDEX(Planning!$C$2:$C$197,MATCH($E$16,Planning!$A$2:$A$197,0)),"-") -> 0.25 | F18: =IFERROR(INDEX(Planning!$C$2:$C$197,MATCH($F$16,Planning!$A$2:$A$197,0)),"-") -> 0.25 | G18: =IFERROR(INDEX(Planning!$C$2:$C$197,MATCH($G$16,Planning!$A$2:$A$197,0)),"-") -> 0.25
C19: =IFERROR(INDEX(Planning!$E$2:$E$197,MATCH(C16,Planning!$A$2:$A$197,0)),"-") -> Delta | D19: =IFERROR(INDEX(Planning!$E$2:$E$197,MATCH($D$16,Planning!$A$2:$A$197,0)),"-") -> Delta | E19: =IFERROR(INDEX(Planning!$E$2:$E$197,MATCH($E$16,Planning!$A$2:$A$197,0)),"-") -> Delta | F19: =IFERROR(INDEX(Planning!$E$2:$E$197,MATCH($F$16,Planning!$A$2:$A$197,0)),"-") -> Delta | G19: =IFERROR(INDEX(Planning!$E$2:$E$197,MATCH($G$16,Planning!$A$2:$A$197,0)),"-") -> Delta
C20: =IFERROR(INDEX(Planning!$F$2:$F$197,MATCH(C16,Planning!$A$2:$A$197,0)),"-") -> MC | D20: =IFERROR(INDEX(Planning!$F$2:$F$197,MATCH($D$16,Planning!$A$2:$A$197,0)),"-") -> MC | E20: =IFERROR(INDEX(Planning!$F$2:$F$197,MATCH($E$16,Planning!$A$2:$A$197,0)),"-") -> MC | F20: =IFERROR(INDEX(Planning!$F$2:$F$197,MATCH($F$16,Planning!$A$2:$A$197,0)),"-") -> MC | G20: =IFERROR(INDEX(Planning!$F$2:$F$197,MATCH($G$16,Planning!$A$2:$A$197,0)),"-") -> MC
C21: 43668 | D21: 43669 | E21: 43670 | F21: 43671 | G21: 43672 | H21: 43673 | I21: 43674
C22: =IFERROR(INDEX(Planning!$B$2:$B$197,MATCH(C21,Planning!$A$2:$A$197,0)),"-") -> 0.91666667 | D22: =IFERROR(INDEX(Planning!$B$2:$B$197,MATCH(D21,Planning!$A$2:$A$197,0)),"-") -> 0.91666667 | E22: =IFERROR(INDEX(Planning!$B$2:$B$197,MATCH(E21,Planning!$A$2:$A$197,0)),"-") -> 0.91666667 | F22: =IFERROR(INDEX(Planning!$B$2:$B$197,MATCH(F21,Planning!$A$2:$A$197,0)),"-") -> 0.91666667 | G22: =IFERROR(INDEX(Planning!$B$2:$B$197,MATCH(G21,Planning!$A$2:$A$197,0)),"-") -> 0.91666667
C23: =IFERROR(INDEX(Planning!$C$2:$C$197,MATCH(C21,Planning!$A$2:$A$197,0)),"-") -> 0.25 | D23: =IFERROR(INDEX(Planning!$C$2:$C$197,MATCH(D21,Planning!$A$2:$A$197,0)),"-") -> 0.25 | E23: =IFERROR(INDEX(Planning!$C$2:$C$197,MATCH(E21,Planning!$A$2:$A$197,0)),"-") -> 0.25 | F23: =IFERROR(INDEX(Planning!$C$2:$C$197,MATCH(F21,Planning!$A$2:$A$197,0)),"-") -> 0.25 | G23: =IFERROR(INDEX(Planning!$C$2:$C$197,MATCH(G21,Planning!$A$2:$A$197,0)),"-") -> 0.25
C24: =IFERROR(INDEX(Planning!$E$2:$E$197,MATCH(C21,Planning!$A$2:$A$197,0)),"-") -> Haren | D24: =IFERROR(INDEX(Planning!$E$2:$E$197,MATCH(D21,Planning!$A$2:$A$197,0)),"-") -> Haren | E24: =IFERROR(INDEX(Planning!$E$2:$E$197,MATCH(E21,Planning!$A$2:$A$197,0)),"-") -> Delta | F24: =IFERROR(INDEX(Planning!$E$2:$E$197,MATCH(F21,Planning!$A$2:$A$197,0)),"-") -> Delta | G24: =IFERROR(INDEX(Planning!$E$2:$E$197,MATCH(G21,Planning!$A$2:$A$197,0)),"-") -> Delta
C25: =IFERROR(INDEX(Planning!$F$2:$F$197,MATCH(C21,Planning!$A$2:$A$197,0)),"-") -> MC | D25: =IFERROR(INDEX(Planning!$F$2:$F$197,MATCH(D21,Planning!$A$2:$A$197,0)),"-") -> MC | E25: =IFERROR(INDEX(Planning!$F$2:$F$197,MATCH(E21,Planning!$A$2:$A$197,0)),"-") -> MC | F25: =IFERROR(INDEX(Planning!$F$2:$F$197,MATCH(F21,Planning!$A$2:$A$197,0)),"-") -> MC | G25: =IFERROR(INDEX(Planning!$F$2:$F$197,MATCH(G21,Planning!$A$2:$A$197,0)),"-") -> MC
C26: 43675 | D26: 43676 | E26: 43677
C27: =IFERROR(INDEX(Planning!$B$2:$B$197,MATCH(C26,Planning!$A$2:$A$197,0)),"-") -> 0.91666667 | D27: =IFERROR(INDEX(Planning!$B$2:$B$197,MATCH(D26,Planning!$A$2:$A$197,0)),"-") -> 0.91666667 | E27: =IFERROR(INDEX(Planning!$B$2:$B$197,MATCH(E26,Planning!$A$2:$A$197,0)),"-") -> 0.91666667
C28: =IFERROR(INDEX(Planning!$C$2:$C$197,MATCH(C26,Planning!$A$2:$A$197,0)),"-") -> 0.25 | D28: =IFERROR(INDEX(Planning!$C$2:$C$197,MATCH(D26,Planning!$A$2:$A$197,0)),"-") -> 0.25 | E28: =IFERROR(INDEX(Planning!$C$2:$C$197,MATCH(E26,Planning!$A$2:$A$197,0)),"-") -> 0.25
C29: =IFERROR(INDEX(Planning!$E$2:$E$197,MATCH(C26,Planning!$A$2:$A$197,0)),"-") -> Delta | D29: =IFERROR(INDEX(Planning!$E$2:$E$197,MATCH(D26,Planning!$A$2:$A$197,0)),"-") -> Delta | E29: =IFERROR(INDEX(Planning!$E$2:$E$197,MATCH(E26,Planning!$A$2:$A$197,0)),"-") -> Delta
C30: =IFERROR(INDEX(Planning!$F$2:$F$197,MATCH(C26,Planning!$A$2:$A$197,0)),"-") -> MC | D30: =IFERROR(INDEX(Planning!$F$2:$F$197,MATCH(D26,Planning!$A$2:$A$197,0)),"-") -> MC | E30: =IFERROR(INDEX(Planning!$F$2:$F$197,MATCH(E26,Planning!$A$2:$A$197,0)),"-") -> MC

Sheet 2019-08
C2: Août | D2: 2019
C4: Lundi | D4: Mardi | E4: Mercredi | F4: Jeudi | G4: Vendredi | H4: Samedi | I4: Dimanche
F6: 43678 | G6: 43679 | H6: 43680 | I6: 43681
F7: =IFERROR(INDEX(Planning!$B$2:$B$197,MATCH(F6,Planning!$A$2:$A$197,0)),"-") -> 0 | G7: =IFERROR(INDEX(Planning!$B$2:$B$197,MATCH(G6,Planning!$A$2:$A$197,0)),"-") -> 0 | H7: =IFERROR(INDEX(Planning!$B$2:$B$197,MATCH(H6,Planning!$A$2:$A$197,0)),"-") -> 0 | I7: =IFERROR(INDEX(Planning!$B$2:$B$197,MATCH(I6,Planning!$A$2:$A$197,0)),"-") -> 0
F8: =IFERROR(INDEX(Planning!$C$2:$C$197,MATCH(F6,Planning!$A$2:$A$197,0)),"-") -> 0 | G8: =IFERROR(INDEX(Planning!$C$2:$C$197,MATCH(G6,Planning!$A$2:$A$197,0)),"-") -> 0 | H8: =IFERROR(INDEX(Planning!$C$2:$C$197,MATCH(H6,Planning!$A$2:$A$197,0)),"-") -> 0 | I8: =IFERROR(INDEX(Planning!$C$2:$C$197,MATCH(I6,Planning!$A$2:$A$197,0)),"-") -> 0
F9: =IFERROR(INDEX(Planning!$E$2:$E$197,MATCH(F6,Planning!$A$2:$A$197,0)),"-") -> 0 | G9: =IFERROR(INDEX(Planning!$E$2:$E$197,MATCH(G6,Planning!$A$2:$A$197,0)),"-") -> 0 | H9: =IFERROR(INDEX(Planning!$E$2:$E$197,MATCH(H6,Planning!$A$2:$A$197,0)),"-") -> 0 | I9: =IFERROR(INDEX(Planning!$E$2:$E$197,MATCH(I6,Planning!$A$2:$A$197,0)),"-") -> 0
F10: =IFERROR(INDEX(Planning!$F$2:$F$197,MATCH(F6,Planning!$A$2:$A$197,0)),"-") -> 0 | G10: =IFERROR(INDEX(Planning!$F$2:$F$197,MATCH(G6,Planning!$A$2:$A$197,0)),"-") -> 0 | H10: =IFERROR(INDEX(Planning!$F$2:$F$197,MATCH(H6,Planning!$A$2:$A$197,0)),"-") -> 0 | I10: =IFERROR(INDEX(Planning!$F$2:$F$197,MATCH(I6,Planning!$A$2:$A$197,0)),"-") -> 0
C11: 43682 | D11: 43683 | E11: 43684 | F11: 43685 | G11: 43686 | H11: 43687 | I11: 43688
C12: =IFERROR(INDEX(Planning!$B$2:$B$197,MATCH(C11,Planning!$A$2:$A$197,0)),"-") -> 0 | D12: =IFERROR(INDEX(Planning!$B$2:$B$197,MATCH(D11,Planning!$A$2:$A$197,0)),"-") -> 0 | E12: =IFERROR(INDEX(Planning!$B$2:$B$197,MATCH(E11,Planning!$A$2:$A$197,0)),"-") -> 0 | F12: =IFERROR(INDEX(Planning!$B$2:$B$197,MATCH(F11,Planning!$A$2:$A$197,0)),"-") -> 0 | G12: =IFERROR(INDEX(Planning!$B$2:$B$197,MATCH(G11,Planning!$A$2:$A$197,0)),"-") -> 0 | H12: =IFERROR(INDEX(Planning!$B$2:$B$197,MATCH(H11,Planning!$A$2:$A$197,0)),"-") -> 0 | I12: =IFERROR(INDEX(Planning!$B$2:$B$197,MATCH(I11,Planning!$A$2:$A$197,0)),"-") -> 0
C13: =IFERROR(INDEX(Planning!$C$2:$C$197,MATCH(C11,Planning!$A$2:$A$197,0)),"-") -> 0 | D13: =IFERROR(INDEX(Planning!$C$2:$C$197,MATCH(D11,Planning!$A$2:$A$197,0)),"-") -> 0 | E13: =IFERROR(INDEX(Planning!$C$2:$C$197,MATCH(E11,Planning!$A$2:$A$197,0)),"-") -> 0 | F13: =IFERROR(INDEX(Planning!$C$2:$C$197,MATCH(F11,Planning!$A$2:$A$197,0)),"-") -> 0 | G13: =IFERROR(INDEX(Planning!$C$2:$C$197,MATCH(G11,Planning!$A$2:$A$197,0)),"-") -> 0 | H13: =IFERROR(INDEX(Planning!$C$2:$C$197,MATCH(H11,Planning!$A$2:$A$197,0)),"-") -> 0 | I13: =IFERROR(INDEX(Planning!$C$2:$C$197,MATCH(I11,Planning!$A$2:$A$197,0)),"-") -> 0
C14: =IFERROR(INDEX(Planning!$E$2:$E$197,MATCH(C11,Planning!$A$2:$A$197,0)),"-") -> 0 | D14: =IFERROR(INDEX(Planning!$E$2:$E$197,MATCH(D11,Planning!$A$2:$A$197,0)),"-") -> 0 | E14: =IFERROR(INDEX(Planning!$E$2:$E$197,MATCH(E11,Planning!$A$2:$A$197,0)),"-") -> 0 | F14: =IFERROR(INDEX(Planning!$E$2:$E$197,MATCH(F11,Planning!$A$2:$A$197,0)),"-") -> 0 | G14: =IFERROR(INDEX(Planning!$E$2:$E$197,MATCH(G11,Planning!$A$2:$A$197,0)),"-") -> 0 | H14: =IFERROR(INDEX(Planning!$E$2:$E$197,MATCH(H11,Planning!$A$2:$A$197,0)),"-") -> 0 | I14: =IFERROR(INDEX(Planning!$E$2:$E$197,MATCH(I11,Planning!$A$2:$A$197,0)),"-") -> 0
C15: =IFERROR(INDEX(Planning!$F$2:$F$197,MATCH(C11,Planning!$A$2:$A$197,0)),"-") -> 0 | D15: =IFERROR(INDEX(Planning!$F$2:$F$197,MATCH(D11,Planning!$A$2:$A$197,0)),"-") -> 0 | E15: =IFERROR(INDEX(Planning!$F$2:$F$197,MATCH(E11,Planning!$A$2:$A$197,0)),"-") -> 0 | F15: =IFERROR(INDEX(Planning!$F$2:$F$197,MATCH(F11,Planning!$A$2:$A$197,0)),"-") -> 0 | G15: =IFERROR(INDEX(Planning!$F$2:$F$197,MATCH(G11,Planning!$A$2:$A$197,0)),"-") -> 0 | H15: =IFERROR(INDEX(Planning!$F$2:$F$197,MATCH(H11,Planning!$A$2:$A$197,0)),"-") -> 0 | I15: =IFERROR(INDEX(Planning!$F$2:$F$197,MATCH(I11,Planning!$A$2:$A$197,0)),"-") -> 0
C16: 43689 | D16: 43690 | E16: 43691 | F16: 43692 | G16: 43693 | H16: 43694 | I16: 43695
C17: =IFERROR(INDEX(Planning!$B$2:$B$197,MATCH(C16,Planning!$A$2:$A$197,0)),"-") -> 0 | D17: =IFERROR(INDEX(Planning!$B$2:$B$197,MATCH(D16,Planning!$A$2:$A$197,0)),"-") -> 0 | E17: =IFERROR(INDEX(Planning!$B$2:$B$197,MATCH(E16,Planning!$A$2:$A$197,0)),"-") -> 0 | F17: =IFERROR(INDEX(Planning!$B$2:$B$197,MATCH(F16,Planning!$A$2:$A$197,0)),"-") -> 0 | G17: =IFERROR(INDEX(Planning!$B$2:$B$197,MATCH(G16,Planning!$A$2:$A$197,0)),"-") -> 0
C18: =IFERROR(INDEX(Planning!$C$2:$C$197,MATCH(C16,Planning!$A$2:$A$197,0)),"-") -> 0 | D18: =IFERROR(INDEX(Planning!$C$2:$C$197,MATCH(D16,Planning!$A$2:$A$197,0)),"-") -> 0 | E18: =IFERROR(INDEX(Planning!$C$2:$C$197,MATCH(E16,Planning!$A$2:$A$197,0)),"-") -> 0 | F18: =IFERROR(INDEX(Planning!$C$2:$C$197,MATCH(F16,Planning!$A$2:$A$197,0)),"-") -> 0 | G18: =IFERROR(INDEX(Planning!$C$2:$C$197,MATCH(G16,Planning!$A$2:$A$197,0)),"-") -> 0
C19: =IFERROR(INDEX(Planning!$E$2:$E$197,MATCH(C16,Planning!$A$2:$A$197,0)),"-") -> 0 | D19: =IFERROR(INDEX(Planning!$E$2:$E$197,MATCH(D16,Planning!$A$2:$A$197,0)),"-") -> 0 | E19: =IFERROR(INDEX(Planning!$E$2:$E$197,MATCH(E16,Planning!$A$2:$A$197,0)),"-") -> 0 | F19: =IFERROR(INDEX(Planning!$E$2:$E$197,MATCH(F16,Planning!$A$2:$A$197,0)),"-") -> 0 | G19: =IFERROR(INDEX(Planning!$E$2:$E$197,MATCH(G16,Planning!$A$2:$A$197,0)),"-") -> 0
C20: =IFERROR(INDEX(Planning!$F$2:$F$197,MATCH(C16,Planning!$A$2:$A$197,0)),"-") -> 0 | D20: =IFERROR(INDEX(Planning!$F$2:$F$197,MATCH(D16,Planning!$A$2:$A$197,0)),"-") -> 0 | E20: =IFERROR(INDEX(Planning!$F$2:$F$197,MATCH(E16,Planning!$A$2:$A$197,0)),"-") -> 0 | F20: =IFERROR(INDEX(Planning!$F$2:$F$197,MATCH(F16,Planning!$A$2:$A$197,0)),"-") -> 0 | G20: =IFERROR(INDEX(Planning!$F$2:$F$197,MATCH(G16,Planning!$A$2:$A$197,0)),"-") -> 0
C21: 43696 | D21: 43697 | E21: 43698 | F21: 43699 | G21: 43700 | H21: 43701 | I21: 43702
C22: =IFERROR(INDEX(Planning!$B$2:$B$197,MATCH(C21,Planning!$A$2:$A$197,0)),"-") -> 0 | D22: =IFERROR(INDEX(Planning!$B$2:$B$197,MATCH(D21,Planning!$A$2:$A$197,0)),"-") -> 0 | E22: =IFERROR(INDEX(Planning!$B$2:$B$197,MATCH(E21,Planning!$A$2:$A$197,0)),"-") -> 0 | F22: =IFERROR(INDEX(Planning!$B$2:$B$197,MATCH(F21,Planning!$A$2:$A$197,0)),"-") -> 0 | G22: =IFERROR(INDEX(Planning!$B$2:$B$197,MATCH(G21,Planning!$A$2:$A$197,0)),"-") -> 0 | H22: =IFERROR(INDEX(Planning!$B$2:$B$197,MATCH(H21,Planning!$A$2:$A$197,0)),"-") -> 0 | I22: =IFERROR(INDEX(Planning!$B$2:$B$197,MATCH(I21,Planning!$A$2:$A$197,0)),"-") -> 0
C23: =IFERROR(INDEX(Planning!$C$2:$C$197,MATCH(C21,Planning!$A$2:$A$197,0)),"-") -> 0 | D23: =IFERROR(INDEX(Planning!$C$2:$C$197,MATCH(D21,Planning!$A$2:$A$197,0)),"-") -> 0 | E23: =IFERROR(INDEX(Planning!$C$2:$C$197,MATCH(E21,Planning!$A$2:$A$197,0)),"-") -> 0 | F23: =IFERROR(INDEX(Planning!$C$2:$C$197,MATCH(F21,Planning!$A$2:$A$197,0)),"-") -> 0 | G23: =IFERROR(INDEX(Planning!$C$2:$C$197,MATCH(G21,Planning!$A$2:$A$197,0)),"-") -> 0 | H23: =IFERROR(INDEX(Planning!$C$2:$C$197,MATCH(H21,Planning!$A$2:$A$197,0)),"-") -> 0 | I23: =IFERROR(INDEX(Planning!$C$2:$C$197,MATCH(I21,Planning!$A$2:$A$197,0)),"-") -> 0
C24: =IFERROR(INDEX(Planning!$E$2:$E$197,MATCH(C21,Planning!$A$2:$A$197,0)),"-") -> 0 | D24: =IFERROR(INDEX(Planning!$E$2:$E$197,MATCH(D21,Planning!$A$2:$A$197,0)),"-") -> 0 | E24: =IFERROR(INDEX(Planning!$E$2:$E$197,MATCH(E21,Planning!$A$2:$A$197,0)),"-") -> 0 | F24: =IFERROR(INDEX(Planning!$E$2:$E$197,MATCH(F21,Planning!$A$2:$A$197,0)),"-") -> 0 | G24: =IFERROR(INDEX(Planning!$E$2:$E$197,MATCH(G21,Planning!$A$2:$A$197,0)),"-") -> 0 | H24: =IFERROR(INDEX(Planning!$E$2:$E$197,MATCH(H21,Planning!$A$2:$A$197,0)),"-") -> 0 | I24: =IFERROR(INDEX(Planning!$E$2:$E$197,MATCH(I21,Planning!$A$2:$A$197,0)),"-") -> 0
C25: =IFERROR(INDEX(Planning!$F$2:$F$197,MATCH(C21,Planning!$A$2:$A$197,0)),"-") -> 0 | D25: =IFERROR(INDEX(Planning!$F$2:$F$197,MATCH(D21,Planning!$A$2:$A$197,0)),"-") -> 0 | E25: =IFERROR(INDEX(Planning!$F$2:$F$197,MATCH(E21,Planning!$A$2:$A$197,0)),"-") -> 0 | F25: =IFERROR(INDEX(Planning!$F$2:$F$197,MATCH(F21,Planning!$A$2:$A$197,0)),"-") -> 0 | G25: =IFERROR(INDEX(Planning!$F$2:$F$197,MATCH(G21,Planning!$A$2:$A$197,0)),"-") -> 0 | H25: =IFERROR(INDEX(Planning!$F$2:$F$197,MATCH(H21,Planning!$A$2:$A$197,0)),"-") -> 0 | I25: =IFERROR(INDEX(Planning!$F$2:$F$197,MATCH(I21,Planning!$A$2:$A$197,0)),"-") -> 0
C26: 43703 | D26: 43704 | E26: 43705 | F26: 43706 | G26: 43707 | H26: 43708
C27: =IFERROR(INDEX(Planning!$B$2:$B$197,MATCH(C26,Planning!$A$2:$A$197,0)),"-") -> 0 | D27: =IFERROR(INDEX(Planning!$B$2:$B$197,MATCH(D26,Planning!$A$2:$A$197,0)),"-") -> 0 | E27: =IFERROR(INDEX(Planning!$B$2:$B$197,MATCH(E26,Planning!$A$2:$A$197,0)),"-") -> 0 | F27: =IFERROR(INDEX(Planning!$B$2:$B$197,MATCH(F26,Planning!$A$2:$A$197,0)),"-") -> 0 | G27: =IFERROR(INDEX(Planning!$B$2:$B$197,MATCH(G26,Planning!$A$2:$A$197,0)),"-") -> 0 | H27: =IFERROR(INDEX(Planning!$B$2:$B$197,MATCH(H26,Planning!$A$2:$A$197,0)),"-") -> 0
C28: =IFERROR(INDEX(Planning!$C$2:$C$197,MATCH(C26,Planning!$A$2:$A$197,0)),"-") -> 0 | D28: =IFERROR(INDEX(Planning!$C$2:$C$197,MATCH(D26,Planning!$A$2:$A$197,0)),"-") -> 0 | E28: =IFERROR(INDEX(Planning!$C$2:$C$197,MATCH(E26,Planning!$A$2:$A$197,0)),"-") -> 0 | F28: =IFERROR(INDEX(Planning!$C$2:$C$197,MATCH(F26,Planning!$A$2:$A$197,0)),"-") -> 0 | G28: =IFERROR(INDEX(Planning!$C$2:$C$197,MATCH(G26,Planning!$A$2:$A$197,0)),"-") -> 0 | H28: =IFERROR(INDEX(Planning!$C$2:$C$197,MATCH(H26,Planning!$A$2:$A$197,0)),"-") -> 0
C29: =IFERROR(INDEX(Planning!$E$2:$E$197,MATCH(C26,Planning!$A$2:$A$197,0)),"-") -> 0 | D29: =IFERROR(INDEX(Planning!$E$2:$E$197,MATCH(D26,Planning!$A$2:$A$197,0)),"-") -> 0 | E29: =IFERROR(INDEX(Planning!$E$2:$E$197,MATCH(E26,Planning!$A$2:$A$197,0)),"-") -> 0 | F29: =IFERROR(INDEX(Planning!$E$2:$E$197,MATCH(F26,Planning!$A$2:$A$197,0)),"-") -> 0 | G29: =IFERROR(INDEX(Planning!$E$2:$E$197,MATCH(G26,Planning!$A$2:$A$197,0)),"-") -> 0 | H29: =IFERROR(INDEX(Planning!$E$2:$E$197,MATCH(H26,Planning!$A$2:$A$197,0)),"-") -> 0
C30: =IFERROR(INDEX(Planning!$F$2:$F$197,MATCH(C26,Planning!$A$2:$A$197,0)),"-") -> 0 | D30: =IFERROR(INDEX(Planning!$F$2:$F$197,MATCH(D26,Planning!$A$2:$A$197,0)),"-") -> 0 | E30: =IFERROR(INDEX(Planning!$F$2:$F$197,MATCH(E26,Planning!$A$2:$A$197,0)),"-") -> 0 | F30: =IFERROR(INDEX(Planning!$F$2:$F$197,MATCH(F26,Planning!$A$2:$A$197,0)),"-") -> 0 | G30: =IFERROR(INDEX(Planning!$F$2:$F$197,MATCH(G26,Planning!$A$2:$A$197,0)),"-") -> 0 | H30: =IFERROR(INDEX(Planning!$F$2:$F$197,MATCH(H26,Planning!$A$2:$A$197,0)),"-") -> 0

Sheet 2019-09
C2: Septembre | D2: 2019
C4: Lundi | D4: Mardi | E4: Mercredi | F4: Jeudi | G4: Vendredi | H4: Samedi | I4: Dimanche
I6: 43709
I7: =IFERROR(INDEX(Planning!$B$2:$B$197,MATCH(I6,Planning!$A$2:$A$197,0)),"-") -> 0
I8: =IFERROR(INDEX(Planning!$C$2:$C$197,MATCH(I6,Planning!$A$2:$A$197,0)),"-") -> 0
I9: =IFERROR(INDEX(Planning!$E$2:$E$197,MATCH(I6,Planning!$A$2:$A$197,0)),"-") -> 0
I10: =IFERROR(INDEX(Planning!$F$2:$F$197,MATCH(I6,Planning!$A$2:$A$197,0)),"-") -> 0
C11: 43710 | D11: 43711 | E11: 43712 | F11: 43713 | G11: 43714 | H11: 43715 | I11: 43716
C12: =IFERROR(INDEX(Planning!$B$2:$B$197,MATCH(C11,Planning!$A$2:$A$197,0)),"-") -> 0 | D12: =IFERROR(INDEX(Planning!$B$2:$B$197,MATCH(D11,Planning!$A$2:$A$197,0)),"-") -> 0 | E12: =IFERROR(INDEX(Planning!$B$2:$B$197,MATCH(E11,Planning!$A$2:$A$197,0)),"-") -> 0 | F12: =IFERROR(INDEX(Planning!$B$2:$B$197,MATCH(F11,Planning!$A$2:$A$197,0)),"-") -> 0 | G12: =IFERROR(INDEX(Planning!$B$2:$B$197,MATCH(G11,Planning!$A$2:$A$197,0)),"-") -> 0 | H12: =IFERROR(INDEX(Planning!$B$2:$B$197,MATCH(H11,Planning!$A$2:$A$197,0)),"-") -> 0 | I12: =IFERROR(INDEX(Planning!$B$2:$B$197,MATCH(I11,Planning!$A$2:$A$197,0)),"-") -> 0
C13: =IFERROR(INDEX(Planning!$C$2:$C$197,MATCH(C11,Planning!$A$2:$A$197,0)),"-") -> 0 | D13: =IFERROR(INDEX(Planning!$C$2:$C$197,MATCH(D11,Planning!$A$2:$A$197,0)),"-") -> 0 | E13: =IFERROR(INDEX(Planning!$C$2:$C$197,MATCH(E11,Planning!$A$2:$A$197,0)),"-") -> 0 | F13: =IFERROR(INDEX(Planning!$C$2:$C$197,MATCH(F11,Planning!$A$2:$A$197,0)),"-") -> 0 | G13: =IFERROR(INDEX(Planning!$C$2:$C$197,MATCH(G11,Planning!$A$2:$A$197,0)),"-") -> 0 | H13: =IFERROR(INDEX(Planning!$C$2:$C$197,MATCH(H11,Planning!$A$2:$A$197,0)),"-") -> 0 | I13: =IFERROR(INDEX(Planning!$C$2:$C$197,MATCH(I11,Planning!$A$2:$A$197,0)),"-") -> 0
C14: =IFERROR(INDEX(Planning!$E$2:$E$197,MATCH(C11,Planning!$A$2:$A$197,0)),"-") -> 0 | D14: =IFERROR(INDEX(Planning!$E$2:$E$197,MATCH(D11,Planning!$A$2:$A$197,0)),"-") -> 0 | E14: =IFERROR(INDEX(Planning!$E$2:$E$197,MATCH(E11,Planning!$A$2:$A$197,0)),"-") -> 0 | F14: =IFERROR(INDEX(Planning!$E$2:$E$197,MATCH(F11,Planning!$A$2:$A$197,0)),"-") -> 0 | G14: =IFERROR(INDEX(Planning!$E$2:$E$197,MATCH(G11,Planning!$A$2:$A$197,0)),"-") -> 0 | H14: =IFERROR(INDEX(Planning!$E$2:$E$197,MATCH(H11,Planning!$A$2:$A$197,0)),"-") -> 0 | I14: =IFERROR(INDEX(Planning!$E$2:$E$197,MATCH(I11,Planning!$A$2:$A$197,0)),"-") -> 0
C15: =IFERROR(INDEX(Planning!$F$2:$F$197,MATCH(C11,Planning!$A$2:$A$197,0)),"-") -> 0 | D15: =IFERROR(INDEX(Planning!$F$2:$F$197,MATCH(D11,Planning!$A$2:$A$197,0)),"-") -> 0 | E15: =IFERROR(INDEX(Planning!$F$2:$F$197,MATCH(E11,Planning!$A$2:$A$197,0)),"-") -> 0 | F15: =IFERROR(INDEX(Planning!$F$2:$F$197,MATCH(F11,Planning!$A$2:$A$197,0)),"-") -> 0 | G15: =IFERROR(INDEX(Planning!$F$2:$F$197,MATCH(G11,Planning!$A$2:$A$197,0)),"-") -> 0 | H15: =IFERROR(INDEX(Planning!$F$2:$F$197,MATCH(H11,Planning!$A$2:$A$197,0)),"-") -> 0 | I15: =IFERROR(INDEX(Planning!$F$2:$F$197,MATCH(I11,Planning!$A$2:$A$197,0)),"-") -> 0
C16: 43717 | D16: 43718 | E16: 43719 | F16: 43720 | G16: 43721 | H16: 43722 | I16: 43723
C17: =IFERROR(INDEX(Planning!$B$2:$B$197,MATCH(C16,Planning!$A$2:$A$197,0)),"-") -> 0 | D17: =IFERROR(INDEX(Planning!$B$2:$B$197,MATCH(D16,Planning!$A$2:$A$197,0)),"-") -> 0 | E17: =IFERROR(INDEX(Planning!$B$2:$B$197,MATCH(E16,Planning!$A$2:$A$197,0)),"-") -> 0 | F17: =IFERROR(INDEX(Planning!$B$2:$B$197,MATCH(F16,Planning!$A$2:$A$197,0)),"-") -> 0 | G17: =IFERROR(INDEX(Planning!$B$2:$B$197,MATCH(G16,Planning!$A$2:$A$197,0)),"-") -> 0 | H17: =IFERROR(INDEX(Planning!$B$2:$B$197,MATCH(H16,Planning!$A$2:$A$197,0)),"-") -> 0 | I17: =IFERROR(INDEX(Planning!$B$2:$B$197,MATCH(I16,Planning!$A$2:$A$197,0)),"-") -> 0
C18: =IFERROR(INDEX(Planning!$C$2:$C$197,MATCH(C16,Planning!$A$2:$A$197,0)),"-") -> 0 | D18: =IFERROR(INDEX(Planning!$C$2:$C$197,MATCH(D16,Planning!$A$2:$A$197,0)),"-") -> 0 | E18: =IFERROR(INDEX(Planning!$C$2:$C$197,MATCH(E16,Planning!$A$2:$A$197,0)),"-") -> 0 | F18: =IFERROR(INDEX(Planning!$C$2:$C$197,MATCH(F16,Planning!$A$2:$A$197,0)),"-") -> 0 | G18: =IFERROR(INDEX(Planning!$C$2:$C$197,MATCH(G16,Planning!$A$2:$A$197,0)),"-") -> 0 | H18: =IFERROR(INDEX(Planning!$C$2:$C$197,MATCH(H16,Planning!$A$2:$A$197,0)),"-") -> 0 | I18: =IFERROR(INDEX(Planning!$C$2:$C$197,MATCH(I16,Planning!$A$2:$A$197,0)),"-") -> 0
C19: =IFERROR(INDEX(Planning!$E$2:$E$197,MATCH(C16,Planning!$A$2:$A$197,0)),"-") -> 0 | D19: =IFERROR(INDEX(Planning!$E$2:$E$197,MATCH(D16,Planning!$A$2:$A$197,0)),"-") -> 0 | E19: =IFERROR(INDEX(Planning!$E$2:$E$197,MATCH(E16,Planning!$A$2:$A$197,0)),"-") -> 0 | F19: =IFERROR(INDEX(Planning!$E$2:$E$197,MATCH(F16,Planning!$A$2:$A$197,0)),"-") -> 0 | G19: =IFERROR(INDEX(Planning!$E$2:$E$197,MATCH(G16,Planning!$A$2:$A$197,0)),"-") -> 0 | H19: =IFERROR(INDEX(Planning!$E$2:$E$197,MATCH(H16,Planning!$A$2:$A$197,0)),"-") -> 0 | I19: =IFERROR(INDEX(Planning!$E$2:$E$197,MATCH(I16,Planning!$A$2:$A$197,0)),"-") -> 0
C20: =IFERROR(INDEX(Planning!$F$2:$F$197,MATCH(C16,Planning!$A$2:$A$197,0)),"-") -> 0 | D20: =IFERROR(INDEX(Planning!$F$2:$F$197,MATCH(D16,Planning!$A$2:$A$197,0)),"-") -> 0 | E20: =IFERROR(INDEX(Planning!$F$2:$F$197,MATCH(E16,Planning!$A$2:$A$197,0)),"-") -> 0 | F20: =IFERROR(INDEX(Planning!$F$2:$F$197,MATCH(F16,Planning!$A$2:$A$197,0)),"-") -> 0 | G20: =IFERROR(INDEX(Planning!$F$2:$F$197,MATCH(G16,Planning!$A$2:$A$197,0)),"-") -> 0 | H20: =IFERROR(INDEX(Planning!$F$2:$F$197,MATCH(H16,Planning!$A$2:$A$197,0)),"-") -> 0 | I20: =IFERROR(INDEX(Planning!$F$2:$F$197,MATCH(I16,Planning!$A$2:$A$197,0)),"-") -> 0
C21: 43724 | D21: 43725 | E21: 43726 | F21: 43727 | G21: 43728 | H21: 43729 | I21: 43730
C22: =IFERROR(INDEX(Planning!$B$2:$B$197,MATCH(C21,Planning!$A$2:$A$197,0)),"-") -> 0 | D22: =IFERROR(INDEX(Planning!$B$2:$B$197,MATCH(D21,Planning!$A$2:$A$197,0)),"-") -> 0 | E22: =IFERROR(INDEX(Planning!$B$2:$B$197,MATCH(E21,Planning!$A$2:$A$197,0)),"-") -> 0 | F22: =IFERROR(INDEX(Planning!$B$2:$B$197,MATCH(F21,Planning!$A$2:$A$197,0)),"-") -> 0 | G22: =IFERROR(INDEX(Planning!$B$2:$B$197,MATCH(G21,Planning!$A$2:$A$197,0)),"-") -> 0 | H22: =IFERROR(INDEX(Planning!$B$2:$B$197,MATCH(H21,Planning!$A$2:$A$197,0)),"-") -> 0 | I22: =IFERROR(INDEX(Planning!$B$2:$B$197,MATCH(I21,Planning!$A$2:$A$197,0)),"-") -> 0
C23: =IFERROR(INDEX(Planning!$C$2:$C$197,MATCH(C21,Planning!$A$2:$A$197,0)),"-") -> 0 | D23: =IFERROR(INDEX(Planning!$C$2:$C$197,MATCH(D21,Planning!$A$2:$A$197,0)),"-") -> 0 | E23: =IFERROR(INDEX(Planning!$C$2:$C$197,MATCH(E21,Planning!$A$2:$A$197,0)),"-") -> 0 | F23: =IFERROR(INDEX(Planning!$C$2:$C$197,MATCH(F21,Planning!$A$2:$A$197,0)),"-") -> 0 | G23: =IFERROR(INDEX(Planning!$C$2:$C$197,MATCH(G21,Planning!$A$2:$A$197,0)),"-") -> 0 | H23: =IFERROR(INDEX(Planning!$C$2:$C$197,MATCH(H21,Planning!$A$2:$A$197,0)),"-") -> 0 | I23: =IFERROR(INDEX(Planning!$C$2:$C$197,MATCH(I21,Planning!$A$2:$A$197,0)),"-") -> 0
C24: =IFERROR(INDEX(Planning!$E$2:$E$197,MATCH(C21,Planning!$A$2:$A$197,0)),"-") -> 0 | D24: =IFERROR(INDEX(Planning!$E$2:$E$197,MATCH(D21,Planning!$A$2:$A$197,0)),"-") -> 0 | E24: =IFERROR(INDEX(Planning!$E$2:$E$197,MATCH(E21,Planning!$A$2:$A$197,0)),"-") -> 0 | F24: =IFERROR(INDEX(Planning!$E$2:$E$197,MATCH(F21,Planning!$A$2:$A$197,0)),"-") -> 0 | G24: =IFERROR(INDEX(Planning!$E$2:$E$197,MATCH(G21,Planning!$A$2:$A$197,0)),"-") -> 0 | H24: =IFERROR(INDEX(Planning!$E$2:$E$197,MATCH(H21,Planning!$A$2:$A$197,0)),"-") -> 0 | I24: =IFERROR(INDEX(Planning!$E$2:$E$197,MATCH(I21,Planning!$A$2:$A$197,0)),"-") -> 0
C25: =IFERROR(INDEX(Planning!$F$2:$F$197,MATCH(C21,Planning!$A$2:$A$197,0)),"-") -> 0 | D25: =IFERROR(INDEX(Planning!$F$2:$F$197,MATCH(D21,Planning!$A$2:$A$197,0)),"-") -> 0 | E25: =IFERROR(INDEX(Planning!$F$2:$F$197,MATCH(E21,Planning!$A$2:$A$197,0)),"-") -> 0 | F25: =IFERROR(INDEX(Planning!$F$2:$F$197,MATCH(F21,Planning!$A$2:$A$197,0)),"-") -> 0 | G25: =IFERROR(INDEX(Planning!$F$2:$F$197,MATCH(G21,Planning!$A$2:$A$197,0)),"-") -> 0 | H25: =IFERROR(INDEX(Planning!$F$2:$F$197,MATCH(H21,Planning!$A$2:$A$197,0)),"-") -> 0 | I25: =IFERROR(INDEX(Planning!$F$2:$F$197,MATCH(I21,Planning!$A$2:$A$197,0)),"-") -> 0
C26: 43731 | D26: 43732 | E26: 43733 | F26: 43734 | G26: 43735 | H26: 43736 | I26: 43737
C27: =IFERROR(INDEX(Planning!$B$2:$B$197,MATCH(C26,Planning!$A$2:$A$197,0)),"-") -> 0 | D27: =IFERROR(INDEX(Planning!$B$2:$B$197,MATCH(D26,Planning!$A$2:$A$197,0)),"-") -> 0 | E27: =IFERROR(INDEX(Planning!$B$2:$B$197,MATCH(E26,Planning!$A$2:$A$197,0)),"-") -> 0 | F27: =IFERROR(INDEX(Planning!$B$2:$B$197,MATCH(F26,Planning!$A$2:$A$197,0)),"-") -> 0 | G27: =IFERROR(INDEX(Planning!$B$2:$B$197,MATCH(G26,Planning!$A$2:$A$197,0)),"-") -> 0 | H27: =IFERROR(INDEX(Planning!$B$2:$B$197,MATCH(H26,Planning!$A$2:$A$197,0)),"-") -> 0 | I27: =IFERROR(INDEX(Planning!$B$2:$B$197,MATCH(I26,Planning!$A$2:$A$197,0)),"-") -> 0
C28: =IFERROR(INDEX(Planning!$C$2:$C$197,MATCH(C26,Planning!$A$2:$A$197,0)),"-") -> 0 | D28: =IFERROR(INDEX(Planning!$C$2:$C$197,MATCH(D26,Planning!$A$2:$A$197,0)),"-") -> 0 | E28: =IFERROR(INDEX(Planning!$C$2:$C$197,MATCH(E26,Planning!$A$2:$A$197,0)),"-") -> 0 | F28: =IFERROR(INDEX(Planning!$C$2:$C$197,MATCH(F26,Planning!$A$2:$A$197,0)),"-") -> 0 | G28: =IFERROR(INDEX(Planning!$C$2:$C$197,MATCH(G26,Planning!$A$2:$A$197,0)),"-") -> 0 | H28: =IFERROR(INDEX(Planning!$C$2:$C$197,MATCH(H26,Planning!$A$2:$A$197,0)),"-") -> 0 | I28: =IFERROR(INDEX(Planning!$C$2:$C$197,MATCH(I26,Planning!$A$2:$A$197,0)),"-") -> 0
C29: =IFERROR(INDEX(Planning!$E$2:$E$197,MATCH(C26,Planning!$A$2:$A$197,0)),"-") -> 0 | D29: =IFERROR(INDEX(Planning!$E$2:$E$197,MATCH(D26,Planning!$A$2:$A$197,0)),"-") -> 0 | E29: =IFERROR(INDEX(Planning!$E$2:$E$197,MATCH(E26,Planning!$A$2:$A$197,0)),"-") -> 0 | F29: =IFERROR(INDEX(Planning!$E$2:$E$197,MATCH(F26,Planning!$A$2:$A$197,0)),"-") -> 0 | G29: =IFERROR(INDEX(Planning!$E$2:$E$197,MATCH(G26,Planning!$A$2:$A$197,0)),"-") -> 0 | H29: =IFERROR(INDEX(Planning!$E$2:$E$197,MATCH(H26,Planning!$A$2:$A$197,0)),"-") -> 0 | I29: =IFERROR(INDEX(Planning!$E$2:$E$197,MATCH(I26,Planning!$A$2:$A$197,0)),"-") -> 0
C30: =IFERROR(INDEX(Planning!$F$2:$F$197,MATCH(C26,Planning!$A$2:$A$197,0)),"-") -> 0 | D30: =IFERROR(INDEX(Planning!$F$2:$F$197,MATCH(D26,Planning!$A$2:$A$197,0)),"-") -> 0 | E30: =IFERROR(INDEX(Planning!$F$2:$F$197,MATCH(E26,Planning!$A$2:$A$197,0)),"-") -> 0 | F30: =IFERROR(INDEX(Planning!$F$2:$F$197,MATCH(F26,Planning!$A$2:$A$197,0)),"-") -> 0 | G30: =IFERROR(INDEX(Planning!$F$2:$F$197,MATCH(G26,Planning!$A$2:$A$197,0)),"-") -> 0 | H30: =IFERROR(INDEX(Planning!$F$2:$F$197,MATCH(H26,Planning!$A$2:$A$197,0)),"-") -> 0 | I30: =IFERROR(INDEX(Planning!$F$2:$F$197,MATCH(I26,Planning!$A$2:$A$197,0)),"-") -> 0
C31: 43738
C32: =IFERROR(INDEX(Planning!$B$2:$B$197,MATCH(C31,Planning!$A$2:$A$197,0)),"-") -> 0
C33: =IFERROR(INDEX(Planning!$C$2:$C$197,MATCH(C31,Planning!$A$2:$A$197,0)),"-") -> 0
C34: =IFERROR(INDEX(Planning!$E$2:$E$197,MATCH(C31,Planning!$A$2:$A$197,0)),"-") -> 0
C35: =IFERROR(INDEX(Planning!$F$2:$F$197,MATCH(C31,Planning!$A$2:$A$197,0)),"-") -> 0

Sheet 2019-10
C2: Octobre | D2: 2019
C4: Lundi | D4: Mardi | E4: Mercredi | F4: Jeudi | G4: Vendredi | H4: Samedi | I4: Dimanche
D6: 43739 | E6: 43740 | F6: 43741 | G6: 43742 | H6: 43743 | I6: 43744
D7: =IFERROR(INDEX(Planning!$B$2:$B$197,MATCH(D6,Planning!$A$2:$A$197,0)),"-") -> 0 | E7: =IFERROR(INDEX(Planning!$B$2:$B$197,MATCH(E6,Planning!$A$2:$A$197,0)),"-") -> 0 | F7: =IFERROR(INDEX(Planning!$B$2:$B$197,MATCH(F6,Planning!$A$2:$A$197,0)),"-") -> 0 | G7: =IFERROR(INDEX(Planning!$B$2:$B$197,MATCH(G6,Planning!$A$2:$A$197,0)),"-") -> 0
D8: =IFERROR(INDEX(Planning!$C$2:$C$197,MATCH(D6,Planning!$A$2:$A$197,0)),"-") -> 0 | E8: =IFERROR(INDEX(Planning!$C$2:$C$197,MATCH(E6,Planning!$A$2:$A$197,0)),"-") -> 0 | F8: =IFERROR(INDEX(Planning!$C$2:$C$197,MATCH(F6,Planning!$A$2:$A$197,0)),"-") -> 0 | G8: =IFERROR(INDEX(Planning!$C$2:$C$197,MATCH(G6,Planning!$A$2:$A$197,0)),"-") -> 0
D9: =IFERROR(INDEX(Planning!$E$2:$E$197,MATCH(D6,Planning!$A$2:$A$197,0)),"-") -> 0 | E9: =IFERROR(INDEX(Planning!$E$2:$E$197,MATCH(E6,Planning!$A$2:$A$197,0)),"-") -> 0 | F9: =IFERROR(INDEX(Planning!$E$2:$E$197,MATCH(F6,Planning!$A$2:$A$197,0)),"-") -> 0 | G9: =IFERROR(INDEX(Planning!$E$2:$E$197,MATCH(G6,Planning!$A$2:$A$197,0)),"-") -> 0
D10: =IFERROR(INDEX(Planning!$F$2:$F$197,MATCH(D6,Planning!$A$2:$A$197,0)),"-") -> 0 | E10: =IFERROR(INDEX(Planning!$F$2:$F$197,MATCH(E6,Planning!$A$2:$A$197,0)),"-") -> 0 | F10: =IFERROR(INDEX(Planning!$F$2:$F$197,MATCH(F6,Planning!$A$2:$A$197,0)),"-") -> 0 | G10: =IFERROR(INDEX(Planning!$F$2:$F$197,MATCH(G6,Planning!$A$2:$A$197,0)),"-") -> 0
C11: 43710 | D11: 43711 | E11: 43712 | F11: 43713 | G11: 43714 | H11: 43715 | I11: 43751
C12: =IFERROR(INDEX(Planning!$B$2:$B$197,MATCH(C11,Planning!$A$2:$A$197,0)),"-") -> 0 | D12: =IFERROR(INDEX(Planning!$B$2:$B$197,MATCH(D11,Planning!$A$2:$A$197,0)),"-") -> 0 | E12: =IFERROR(INDEX(Planning!$B$2:$B$197,MATCH(E11,Planning!$A$2:$A$197,0)),"-") -> 0 | F12: =IFERROR(INDEX(Planning!$B$2:$B$197,MATCH(F11,Planning!$A$2:$A$197,0)),"-") -> 0 | G12: =IFERROR(INDEX(Planning!$B$2:$B$197,MATCH(G11,Planning!$A$2:$A$197,0)),"-") -> 0 | H12: =IFERROR(INDEX(Planning!$B$2:$B$197,MATCH(H11,Planning!$A$2:$A$197,0)),"-") -> 0 | I12: =IFERROR(INDEX(Planning!$B$2:$B$197,MATCH(I11,Planning!$A$2:$A$197,0)),"-") -> 0
C13: =IFERROR(INDEX(Planning!$C$2:$C$197,MATCH(C11,Planning!$A$2:$A$197,0)),"-") -> 0 | D13: =IFERROR(INDEX(Planning!$C$2:$C$197,MATCH(D11,Planning!$A$2:$A$197,0)),"-") -> 0 | E13: =IFERROR(INDEX(Planning!$C$2:$C$197,MATCH(E11,Planning!$A$2:$A$197,0)),"-") -> 0 | F13: =IFERROR(INDEX(Planning!$C$2:$C$197,MATCH(F11,Planning!$A$2:$A$197,0)),"-") -> 0 | G13: =IFERROR(INDEX(Planning!$C$2:$C$197,MATCH(G11,Planning!$A$2:$A$197,0)),"-") -> 0 | H13: =IFERROR(INDEX(Planning!$C$2:$C$197,MATCH(H11,Planning!$A$2:$A$197,0)),"-") -> 0 | I13: =IFERROR(INDEX(Planning!$C$2:$C$197,MATCH(I11,Planning!$A$2:$A$197,0)),"-") -> 0
C14: =IFERROR(INDEX(Planning!$E$2:$E$197,MATCH(C11,Planning!$A$2:$A$197,0)),"-") -> 0 | D14: =IFERROR(INDEX(Planning!$E$2:$E$197,MATCH(D11,Planning!$A$2:$A$197,0)),"-") -> 0 | E14: =IFERROR(INDEX(Planning!$E$2:$E$197,MATCH(E11,Planning!$A$2:$A$197,0)),"-") -> 0 | F14: =IFERROR(INDEX(Planning!$E$2:$E$197,MATCH(F11,Planning!$A$2:$A$197,0)),"-") -> 0 | G14: =IFERROR(INDEX(Planning!$E$2:$E$197,MATCH(G11,Planning!$A$2:$A$197,0)),"-") -> 0 | H14: =IFERROR(INDEX(Planning!$E$2:$E$197,MATCH(H11,Planning!$A$2:$A$197,0)),"-") -> 0 | I14: =IFERROR(INDEX(Planning!$E$2:$E$197,MATCH(I11,Planning!$A$2:$A$197,0)),"-") -> 0
C15: =IFERROR(INDEX(Planning!$F$2:$F$197,MATCH(C11,Planning!$A$2:$A$197,0)),"-") -> 0 | D15: =IFERROR(INDEX(Planning!$F$2:$F$197,MATCH(D11,Planning!$A$2:$A$197,0)),"-") -> 0 | E15: =IFERROR(INDEX(Planning!$F$2:$F$197,MATCH(E11,Planning!$A$2:$A$197,0)),"-") -> 0 | F15: =IFERROR(INDEX(Planning!$F$2:$F$197,MATCH(F11,Planning!$A$2:$A$197,0)),"-") -> 0 | G15: =IFERROR(INDEX(Planning!$F$2:$F$197,MATCH(G11,Planning!$A$2:$A$197,0)),"-") -> 0 | H15: =IFERROR(INDEX(Planning!$F$2:$F$197,MATCH(H11,Planning!$A$2:$A$197,0)),"-") -> 0 | I15: =IFERROR(INDEX(Planning!$F$2:$F$197,MATCH(I11,Planning!$A$2:$A$197,0)),"-") -> 0
C16: 43717 | D16: 43718 | E16: 43719 | F16: 43720 | G16: 43721 | H16: 43722 | I16: 43758
C17: =IFERROR(INDEX(Planning!$B$2:$B$197,MATCH(C16,Planning!$A$2:$A$197,0)),"-") -> 0 | D17: =IFERROR(INDEX(Planning!$B$2:$B$197,MATCH(D16,Planning!$A$2:$A$197,0)),"-") -> 0 | E17: =IFERROR(INDEX(Planning!$B$2:$B$197,MATCH(E16,Planning!$A$2:$A$197,0)),"-") -> 0 | F17: =IFERROR(INDEX(Planning!$B$2:$B$197,MATCH(F16,Planning!$A$2:$A$197,0)),"-") -> 0 | G17: =IFERROR(INDEX(Planning!$B$2:$B$197,MATCH(G16,Planning!$A$2:$A$197,0)),"-") -> 0 | H17: =IFERROR(INDEX(Planning!$B$2:$B$197,MATCH(H16,Planning!$A$2:$A$197,0)),"-") -> 0 | I17: =IFERROR(INDEX(Planning!$B$2:$B$197,MATCH(I16,Planning!$A$2:$A$197,0)),"-") -> 0
C18: =IFERROR(INDEX(Planning!$C$2:$C$197,MATCH(C16,Planning!$A$2:$A$197,0)),"-") -> 0 | D18: =IFERROR(INDEX(Planning!$C$2:$C$197,MATCH(D16,Planning!$A$2:$A$197,0)),"-") -> 0 | E18: =IFERROR(INDEX(Planning!$C$2:$C$197,MATCH(E16,Planning!$A$2:$A$197,0)),"-") -> 0 | F18: =IFERROR(INDEX(Planning!$C$2:$C$197,MATCH(F16,Planning!$A$2:$A$197,0)),"-") -> 0 | G18: =IFERROR(INDEX(Planning!$C$2:$C$197,MATCH(G16,Planning!$A$2:$A$197,0)),"-") -> 0 | H18: =IFERROR(INDEX(Planning!$C$2:$C$197,MATCH(H16,Planning!$A$2:$A$197,0)),"-") -> 0 | I18: =IFERROR(INDEX(Planning!$C$2:$C$197,MATCH(I16,Planning!$A$2:$A$197,0)),"-") -> 0
C19: =IFERROR(INDEX(Planning!$E$2:$E$197,MATCH(C16,Planning!$A$2:$A$197,0)),"-") -> 0 | D19: =IFERROR(INDEX(Planning!$E$2:$E$197,MATCH(D16,Planning!$A$2:$A$197,0)),"-") -> 0 | E19: =IFERROR(INDEX(Planning!$E$2:$E$197,MATCH(E16,Planning!$A$2:$A$197,0)),"-") -> 0 | F19: =IFERROR(INDEX(Planning!$E$2:$E$197,MATCH(F16,Planning!$A$2:$A$197,0)),"-") -> 0 | G19: =IFERROR(INDEX(Planning!$E$2:$E$197,MATCH(G16,Planning!$A$2:$A$197,0)),"-") -> 0 | H19: =IFERROR(INDEX(Planning!$E$2:$E$197,MATCH(H16,Planning!$A$2:$A$197,0)),"-") -> 0 | I19: =IFERROR(INDEX(Planning!$E$2:$E$197,MATCH(I16,Planning!$A$2:$A$197,0)),"-") -> 0
C20: =IFERROR(INDEX(Planning!$F$2:$F$197,MATCH(C16,Planning!$A$2:$A$197,0)),"-") -> 0 | D20: =IFERROR(INDEX(Planning!$F$2:$F$197,MATCH(D16,Planning!$A$2:$A$197,0)),"-") -> 0 | E20: =IFERROR(INDEX(Planning!$F$2:$F$197,MATCH(E16,Planning!$A$2:$A$197,0)),"-") -> 0 | F20: =IFERROR(INDEX(Planning!$F$2:$F$197,MATCH(F16,Planning!$A$2:$A$197,0)),"-") -> 0 | G20: =IFERROR(INDEX(Planning!$F$2:$F$197,MATCH(G16,Planning!$A$2:$A$197,0)),"-") -> 0 | H20: =IFERROR(INDEX(Planning!$F$2:$F$197,MATCH(H16,Planning!$A$2:$A$197,0)),"-") -> 0 | I20: =IFERROR(INDEX(Planning!$F$2:$F$197,MATCH(I16,Planning!$A$2:$A$197,0)),"-") -> 0
C21: 43724 | D21: 43725 | E21: 43726 | F21: 43727 | G21: 43728 | H21: 43729 | I21: 43765
C22: =IFERROR(INDEX(Planning!$B$2:$B$197,MATCH(C21,Planning!$A$2:$A$197,0)),"-") -> 0 | D22: =IFERROR(INDEX(Planning!$B$2:$B$197,MATCH(D21,Planning!$A$2:$A$197,0)),"-") -> 0 | E22: =IFERROR(INDEX(Planning!$B$2:$B$197,MATCH(E21,Planning!$A$2:$A$197,0)),"-") -> 0 | F22: =IFERROR(INDEX(Planning!$B$2:$B$197,MATCH(F21,Planning!$A$2:$A$197,0)),"-") -> 0 | G22: =IFERROR(INDEX(Planning!$B$2:$B$197,MATCH(G21,Planning!$A$2:$A$197,0)),"-") -> 0 | H22: =IFERROR(INDEX(Planning!$B$2:$B$197,MATCH(H21,Planning!$A$2:$A$197,0)),"-") -> 0 | I22: =IFERROR(INDEX(Planning!$B$2:$B$197,MATCH(I21,Planning!$A$2:$A$197,0)),"-") -> 0
C23: =IFERROR(INDEX(Planning!$C$2:$C$197,MATCH(C21,Planning!$A$2:$A$197,0)),"-") -> 0 | D23: =IFERROR(INDEX(Planning!$C$2:$C$197,MATCH(D21,Planning!$A$2:$A$197,0)),"-") -> 0 | E23: =IFERROR(INDEX(Planning!$C$2:$C$197,MATCH(E21,Planning!$A$2:$A$197,0)),"-") -> 0 | F23: =IFERROR(INDEX(Planning!$C$2:$C$197,MATCH(F21,Planning!$A$2:$A$197,0)),"-") -> 0 | G23: =IFERROR(INDEX(Planning!$C$2:$C$197,MATCH(G21,Planning!$A$2:$A$197,0)),"-") -> 0 | H23: =IFERROR(INDEX(Planning!$C$2:$C$197,MATCH(H21,Planning!$A$2:$A$197,0)),"-") -> 0 | I23: =IFERROR(INDEX(Planning!$C$2:$C$197,MATCH(I21,Planning!$A$2:$A$197,0)),"-") -> 0
C24: =IFERROR(INDEX(Planning!$E$2:$E$197,MATCH(C21,Planning!$A$2:$A$197,0)),"-") -> 0 | D24: =IFERROR(INDEX(Planning!$E$2:$E$197,MATCH(D21,Planning!$A$2:$A$197,0)),"-") -> 0 | E24: =IFERROR(INDEX(Planning!$E$2:$E$197,MATCH(E21,Planning!$A$2:$A$197,0)),"-") -> 0 | F24: =IFERROR(INDEX(Planning!$E$2:$E$197,MATCH(F21,Planning!$A$2:$A$197,0)),"-") -> 0 | G24: =IFERROR(INDEX(Planning!$E$2:$E$197,MATCH(G21,Planning!$A$2:$A$197,0)),"-") -> 0 | H24: =IFERROR(INDEX(Planning!$E$2:$E$197,MATCH(H21,Planning!$A$2:$A$197,0)),"-") -> 0 | I24: =IFERROR(INDEX(Planning!$E$2:$E$197,MATCH(I21,Planning!$A$2:$A$197,0)),"-") -> 0
C25: =IFERROR(INDEX(Planning!$F$2:$F$197,MATCH(C21,Planning!$A$2:$A$197,0)),"-") -> 0 | D25: =IFERROR(INDEX(Planning!$F$2:$F$197,MATCH(D21,Planning!$A$2:$A$197,0)),"-") -> 0 | E25: =IFERROR(INDEX(Planning!$F$2:$F$197,MATCH(E21,Planning!$A$2:$A$197,0)),"-") -> 0 | F25: =IFERROR(INDEX(Planning!$F$2:$F$197,MATCH(F21,Planning!$A$2:$A$197,0)),"-") -> 0 | G25: =IFERROR(INDEX(Planning!$F$2:$F$197,MATCH(G21,Planning!$A$2:$A$197,0)),"-") -> 0 | H25: =IFERROR(INDEX(Planning!$F$2:$F$197,MATCH(H21,Planning!$A$2:$A$197,0)),"-") -> 0 | I25: =IFERROR(INDEX(Planning!$F$2:$F$197,MATCH(I21,Planning!$A$2:$A$197,0)),"-") -> 0
C26: 43766 | D26: 43767 | E26: 43768 | F26: 43769
C27: =IFERROR(INDEX(Planning!$B$2:$B$197,MATCH(C26,Planning!$A$2:$A$197,0)),"-") -> 0 | D27: =IFERROR(INDEX(Planning!$B$2:$B$197,MATCH(D26,Planning!$A$2:$A$197,0)),"-") -> 0 | E27: =IFERROR(INDEX(Planning!$B$2:$B$197,MATCH(E26,Planning!$A$2:$A$197,0)),"-") -> 0 | F27: =IFERROR(INDEX(Planning!$B$2:$B$197,MATCH(F26,Planning!$A$2:$A$197,0)),"-") -> 0
C28: =IFERROR(INDEX(Planning!$C$2:$C$197,MATCH(C26,Planning!$A$2:$A$197,0)),"-") -> 0 | D28: =IFERROR(INDEX(Planning!$C$2:$C$197,MATCH(D26,Planning!$A$2:$A$197,0)),"-") -> 0 | E28: =IFERROR(INDEX(Planning!$C$2:$C$197,MATCH(E26,Planning!$A$2:$A$197,0)),"-") -> 0 | F28: =IFERROR(INDEX(Planning!$C$2:$C$197,MATCH(F26,Planning!$A$2:$A$197,0)),"-") -> 0
C29: =IFERROR(INDEX(Planning!$E$2:$E$197,MATCH(C26,Planning!$A$2:$A$197,0)),"-") -> 0 | D29: =IFERROR(INDEX(Planning!$E$2:$E$197,MATCH(D26,Planning!$A$2:$A$197,0)),"-") -> 0 | E29: =IFERROR(INDEX(Planning!$E$2:$E$197,MATCH(E26,Planning!$A$2:$A$197,0)),"-") -> 0 | F29: =IFERROR(INDEX(Planning!$E$2:$E$197,MATCH(F26,Planning!$A$2:$A$197,0)),"-") -> 0
C30: =IFERROR(INDEX(Planning!$F$2:$F$197,MATCH(C26,Planning!$A$2:$A$197,0)),"-") -> 0 | D30: =IFERROR(INDEX(Planning!$F$2:$F$197,MATCH(D26,Planning!$A$2:$A$197,0)),"-") -> 0 | E30: =IFERROR(INDEX(Planning!$F$2:$F$197,MATCH(E26,Planning!$A$2:$A$197,0)),"-") -> 0 | F30: =IFERROR(INDEX(Planning!$F$2:$F$197,MATCH(F26,Planning!$A$2:$A$197,0)),"-") -> 0

Sheet 2019-11
C2: Novembre | D2: 2019
C4: Lundi | D4: Mardi | E4: Mercredi | F4: Jeudi | G4: Vendredi | H4: Samedi | I4: Dimanche
G6: 43770 | H6: 43771 | I6: 43772
G7: =IFERROR(INDEX(Planning!$B$2:$B$197,MATCH(G6,Planning!$A$2:$A$197,0)),"-") -> 0 | H7: =IFERROR(INDEX(Planning!$B$2:$B$197,MATCH(H6,Planning!$A$2:$A$197,0)),"-") -> 0 | I7: =IFERROR(INDEX(Planning!$B$2:$B$197,MATCH(I6,Planning!$A$2:$A$197,0)),"-") -> 0
G8: =IFERROR(INDEX(Planning!$C$2:$C$197,MATCH(G6,Planning!$A$2:$A$197,0)),"-") -> 0 | H8: =IFERROR(INDEX(Planning!$C$2:$C$197,MATCH(H6,Planning!$A$2:$A$197,0)),"-") -> 0 | I8: =IFERROR(INDEX(Planning!$C$2:$C$197,MATCH(I6,Planning!$A$2:$A$197,0)),"-") -> 0
G9: =IFERROR(INDEX(Planning!$E$2:$E$197,MATCH(G6,Planning!$A$2:$A$197,0)),"-") -> 0 | H9: =IFERROR(INDEX(Planning!$E$2:$E$197,MATCH(H6,Planning!$A$2:$A$197,0)),"-") -> 0 | I9: =IFERROR(INDEX(Planning!$E$2:$E$197,MATCH(I6,Planning!$A$2:$A$197,0)),"-") -> 0
G10: =IFERROR(INDEX(Planning!$F$2:$F$197,MATCH(G6,Planning!$A$2:$A$197,0)),"-") -> 0 | H10: =IFERROR(INDEX(Planning!$F$2:$F$197,MATCH(H6,Planning!$A$2:$A$197,0)),"-") -> 0 | I10: =IFERROR(INDEX(Planning!$F$2:$F$197,MATCH(I6,Planning!$A$2:$A$197,0)),"-") -> 0
C11: 43773 | D11: 43774 | E11: 43775 | F11: 43776 | G11: 43777 | H11: 43778 | I11: 43779
C12: =IFERROR(INDEX(Planning!$B$2:$B$197,MATCH(C11,Planning!$A$2:$A$197,0)),"-") -> 0 | D12: =IFERROR(INDEX(Planning!$B$2:$B$197,MATCH(D11,Planning!$A$2:$A$197,0)),"-") -> 0 | E12: =IFERROR(INDEX(Planning!$B$2:$B$197,MATCH(E11,Planning!$A$2:$A$197,0)),"-") -> 0 | F12: =IFERROR(INDEX(Planning!$B$2:$B$197,MATCH(F11,Planning!$A$2:$A$197,0)),"-") -> 0 | G12: =IFERROR(INDEX(Planning!$B$2:$B$197,MATCH(G11,Planning!$A$2:$A$197,0)),"-") -> 0 | H12: =IFERROR(INDEX(Planning!$B$2:$B$197,MATCH(H11,Planning!$A$2:$A$197,0)),"-") -> 0 | I12: =IFERROR(INDEX(Planning!$B$2:$B$197,MATCH(I11,Planning!$A$2:$A$197,0)),"-") -> 0
C13: =IFERROR(INDEX(Planning!$C$2:$C$197,MATCH(C11,Planning!$A$2:$A$197,0)),"-") -> 0 | D13: =IFERROR(INDEX(Planning!$C$2:$C$197,MATCH(D11,Planning!$A$2:$A$197,0)),"-") -> 0 | E13: =IFERROR(INDEX(Planning!$C$2:$C$197,MATCH(E11,Planning!$A$2:$A$197,0)),"-") -> 0 | F13: =IFERROR(INDEX(Planning!$C$2:$C$197,MATCH(F11,Planning!$A$2:$A$197,0)),"-") -> 0 | G13: =IFERROR(INDEX(Planning!$C$2:$C$197,MATCH(G11,Planning!$A$2:$A$197,0)),"-") -> 0 | H13: =IFERROR(INDEX(Planning!$C$2:$C$197,MATCH(H11,Planning!$A$2:$A$197,0)),"-") -> 0 | I13: =IFERROR(INDEX(Planning!$C$2:$C$197,MATCH(I11,Planning!$A$2:$A$197,0)),"-") -> 0
C14: =IFERROR(INDEX(Planning!$E$2:$E$197,MATCH(C11,Planning!$A$2:$A$197,0)),"-") -> 0 | D14: =IFERROR(INDEX(Planning!$E$2:$E$197,MATCH(D11,Planning!$A$2:$A$197,0)),"-") -> 0 | E14: =IFERROR(INDEX(Planning!$E$2:$E$197,MATCH(E11,Planning!$A$2:$A$197,0)),"-") -> 0 | F14: =IFERROR(INDEX(Planning!$E$2:$E$197,MATCH(F11,Planning!$A$2:$A$197,0)),"-") -> 0 | G14: =IFERROR(INDEX(Planning!$E$2:$E$197,MATCH(G11,Planning!$A$2:$A$197,0)),"-") -> 0 | H14: =IFERROR(INDEX(Planning!$E$2:$E$197,MATCH(H11,Planning!$A$2:$A$197,0)),"-") -> 0 | I14: =IFERROR(INDEX(Planning!$E$2:$E$197,MATCH(I11,Planning!$A$2:$A$197,0)),"-") -> 0
C15: =IFERROR(INDEX(Planning!$F$2:$F$197,MATCH(C11,Planning!$A$2:$A$197,0)),"-") -> 0 | D15: =IFERROR(INDEX(Planning!$F$2:$F$197,MATCH(D11,Planning!$A$2:$A$197,0)),"-") -> 0 | E15: =IFERROR(INDEX(Planning!$F$2:$F$197,MATCH(E11,Planning!$A$2:$A$197,0)),"-") -> 0 | F15: =IFERROR(INDEX(Planning!$F$2:$F$197,MATCH(F11,Planning!$A$2:$A$197,0)),"-") -> 0 | G15: =IFERROR(INDEX(Planning!$F$2:$F$197,MATCH(G11,Planning!$A$2:$A$197,0)),"-") -> 0 | H15: =IFERROR(INDEX(Planning!$F$2:$F$197,MATCH(H11,Planning!$A$2:$A$197,0)),"-") -> 0 | I15: =IFERROR(INDEX(Planning!$F$2:$F$197,MATCH(I11,Planning!$A$2:$A$197,0)),"-") -> 0
C16: 43780 | D16: 43781 | E16: 43782 | F16: 43783 | G16: 43784 | H16: 43785 | I16: 43786
C17: =IFERROR(INDEX(Planning!$B$2:$B$197,MATCH(C16,Planning!$A$2:$A$197,0)),"-") -> 0 | D17: =IFERROR(INDEX(Planning!$B$2:$B$197,MATCH(D16,Planning!$A$2:$A$197,0)),"-") -> 0 | E17: =IFERROR(INDEX(Planning!$B$2:$B$197,MATCH(E16,Planning!$A$2:$A$197,0)),"-") -> 0 | F17: =IFERROR(INDEX(Planning!$B$2:$B$197,MATCH(F16,Planning!$A$2:$A$197,0)),"-") -> 0 | G17: =IFERROR(INDEX(Planning!$B$2:$B$197,MATCH(G16,Planning!$A$2:$A$197,0)),"-") -> 0 | H17: =IFERROR(INDEX(Planning!$B$2:$B$197,MATCH(H16,Planning!$A$2:$A$197,0)),"-") -> 0 | I17: =IFERROR(INDEX(Planning!$B$2:$B$197,MATCH(I16,Planning!$A$2:$A$197,0)),"-") -> 0
C18: =IFERROR(INDEX(Planning!$C$2:$C$197,MATCH(C16,Planning!$A$2:$A$197,0)),"-") -> 0 | D18: =IFERROR(INDEX(Planning!$C$2:$C$197,MATCH(D16,Planning!$A$2:$A$197,0)),"-") -> 0 | E18: =IFERROR(INDEX(Planning!$C$2:$C$197,MATCH(E16,Planning!$A$2:$A$197,0)),"-") -> 0 | F18: =IFERROR(INDEX(Planning!$C$2:$C$197,MATCH(F16,Planning!$A$2:$A$197,0)),"-") -> 0 | G18: =IFERROR(INDEX(Planning!$C$2:$C$197,MATCH(G16,Planning!$A$2:$A$197,0)),"-") -> 0 | H18: =IFERROR(INDEX(Planning!$C$2:$C$197,MATCH(H16,Planning!$A$2:$A$197,0)),"-") -> 0 | I18: =IFERROR(INDEX(Planning!$C$2:$C$197,MATCH(I16,Planning!$A$2:$A$197,0)),"-") -> 0
C19: =IFERROR(INDEX(Planning!$E$2:$E$197,MATCH(C16,Planning!$A$2:$A$197,0)),"-") -> 0 | D19: =IFERROR(INDEX(Planning!$E$2:$E$197,MATCH(D16,Planning!$A$2:$A$197,0)),"-") -> 0 | E19: =IFERROR(INDEX(Planning!$E$2:$E$197,MATCH(E16,Planning!$A$2:$A$197,0)),"-") -> 0 | F19: =IFERROR(INDEX(Planning!$E$2:$E$197,MATCH(F16,Planning!$A$2:$A$197,0)),"-") -> 0 | G19: =IFERROR(INDEX(Planning!$E$2:$E$197,MATCH(G16,Planning!$A$2:$A$197,0)),"-") -> 0 | H19: =IFERROR(INDEX(Planning!$E$2:$E$197,MATCH(H16,Planning!$A$2:$A$197,0)),"-") -> 0 | I19: =IFERROR(INDEX(Planning!$E$2:$E$197,MATCH(I16,Planning!$A$2:$A$197,0)),"-") -> 0
C20: =IFERROR(INDEX(Planning!$F$2:$F$197,MATCH(C16,Planning!$A$2:$A$197,0)),"-") -> 0 | D20: =IFERROR(INDEX(Planning!$F$2:$F$197,MATCH(D16,Planning!$A$2:$A$197,0)),"-") -> 0 | E20: =IFERROR(INDEX(Planning!$F$2:$F$197,MATCH(E16,Planning!$A$2:$A$197,0)),"-") -> 0 | F20: =IFERROR(INDEX(Planning!$F$2:$F$197,MATCH(F16,Planning!$A$2:$A$197,0)),"-") -> 0 | G20: =IFERROR(INDEX(Planning!$F$2:$F$197,MATCH(G16,Planning!$A$2:$A$197,0)),"-") -> 0 | H20: =IFERROR(INDEX(Planning!$F$2:$F$197,MATCH(H16,Planning!$A$2:$A$197,0)),"-") -> 0 | I20: =IFERROR(INDEX(Planning!$F$2:$F$197,MATCH(I16,Planning!$A$2:$A$197,0)),"-") -> 0
C21: 43787 | D21: 43788 | E21: 43789 | F21: 43790 | G21: 43791 | H21: 43792 | I21: 43793
C22: =IFERROR(INDEX(Planning!$B$2:$B$197,MATCH(C21,Planning!$A$2:$A$197,0)),"-") -> 0 | D22: =IFERROR(INDEX(Planning!$B$2:$B$197,MATCH(D21,Planning!$A$2:$A$197,0)),"-") -> 0 | E22: =IFERROR(INDEX(Planning!$B$2:$B$197,MATCH(E21,Planning!$A$2:$A$197,0)),"-") -> 0 | F22: =IFERROR(INDEX(Planning!$B$2:$B$197,MATCH(F21,Planning!$A$2:$A$197,0)),"-") -> 0 | G22: =IFERROR(INDEX(Planning!$B$2:$B$197,MATCH(G21,Planning!$A$2:$A$197,0)),"-") -> 0 | H22: =IFERROR(INDEX(Planning!$B$2:$B$197,MATCH(H21,Planning!$A$2:$A$197,0)),"-") -> 0 | I22: =IFERROR(INDEX(Planning!$B$2:$B$197,MATCH(I21,Planning!$A$2:$A$197,0)),"-") -> 0
C23: =IFERROR(INDEX(Planning!$C$2:$C$197,MATCH(C21,Planning!$A$2:$A$197,0)),"-") -> 0 | D23: =IFERROR(INDEX(Planning!$C$2:$C$197,MATCH(D21,Planning!$A$2:$A$197,0)),"-") -> 0 | E23: =IFERROR(INDEX(Planning!$C$2:$C$197,MATCH(E21,Planning!$A$2:$A$197,0)),"-") -> 0 | F23: =IFERROR(INDEX(Planning!$C$2:$C$197,MATCH(F21,Planning!$A$2:$A$197,0)),"-") -> 0 | G23: =IFERROR(INDEX(Planning!$C$2:$C$197,MATCH(G21,Planning!$A$2:$A$197,0)),"-") -> 0 | H23: =IFERROR(INDEX(Planning!$C$2:$C$197,MATCH(H21,Planning!$A$2:$A$197,0)),"-") -> 0 | I23: =IFERROR(INDEX(Planning!$C$2:$C$197,MATCH(I21,Planning!$A$2:$A$197,0)),"-") -> 0
C24: =IFERROR(INDEX(Planning!$E$2:$E$197,MATCH(C21,Planning!$A$2:$A$197,0)),"-") -> 0 | D24: =IFERROR(INDEX(Planning!$E$2:$E$197,MATCH(D21,Planning!$A$2:$A$197,0)),"-") -> 0 | E24: =IFERROR(INDEX(Planning!$E$2:$E$197,MATCH(E21,Planning!$A$2:$A$197,0)),"-") -> 0 | F24: =IFERROR(INDEX(Planning!$E$2:$E$197,MATCH(F21,Planning!$A$2:$A$197,0)),"-") -> 0 | G24: =IFERROR(INDEX(Planning!$E$2:$E$197,MATCH(G21,Planning!$A$2:$A$197,0)),"-") -> 0 | H24: =IFERROR(INDEX(Planning!$E$2:$E$197,MATCH(H21,Planning!$A$2:$A$197,0)),"-") -> 0 | I24: =IFERROR(INDEX(Planning!$E$2:$E$197,MATCH(I21,Planning!$A$2:$A$197,0)),"-") -> 0
C25: =IFERROR(INDEX(Planning!$F$2:$F$197,MATCH(C21,Planning!$A$2:$A$197,0)),"-") -> 0 | D25: =IFERROR(INDEX(Planning!$F$2:$F$197,MATCH(D21,Planning!$A$2:$A$197,0)),"-") -> 0 | E25: =IFERROR(INDEX(Planning!$F$2:$F$197,MATCH(E21,Planning!$A$2:$A$197,0)),"-") -> 0 | F25: =IFERROR(INDEX(Planning!$F$2:$F$197,MATCH(F21,Planning!$A$2:$A$197,0)),"-") -> 0 | G25: =IFERROR(INDEX(Planning!$F$2:$F$197,MATCH(G21,Planning!$A$2:$A$197,0)),"-") -> 0 | H25: =IFERROR(INDEX(Planning!$F$2:$F$197,MATCH(H21,Planning!$A$2:$A$197,0)),"-") -> 0 | I25: =IFERROR(INDEX(Planning!$F$2:$F$197,MATCH(I21,Planning!$A$2:$A$197,0)),"-") -> 0
C26: 43794 | D26: 43795 | E26: 43796 | F26: 43797 | G26: 43798 | H26: 43799
C27: =IFERROR(INDEX(Planning!$B$2:$B$197,MATCH(C26,Planning!$A$2:$A$197,0)),"-") -> 0 | D27: =IFERROR(INDEX(Planning!$B$2:$B$197,MATCH(D26,Planning!$A$2:$A$197,0)),"-") -> 0 | E27: =IFERROR(INDEX(Planning!$B$2:$B$197,MATCH(E26,Planning!$A$2:$A$197,0)),"-") -> 0 | F27: =IFERROR(INDEX(Planning!$B$2:$B$197,MATCH(F26,Planning!$A$2:$A$197,0)),"-") -> 0 | G27: =IFERROR(INDEX(Planning!$B$2:$B$197,MATCH(G26,Planning!$A$2:$A$197,0)),"-") -> 0 | H27: =IFERROR(INDEX(Planning!$B$2:$B$197,MATCH(H26,Planning!$A$2:$A$197,0)),"-") -> 0
C28: =IFERROR(INDEX(Planning!$C$2:$C$197,MATCH(C26,Planning!$A$2:$A$197,0)),"-") -> 0 | D28: =IFERROR(INDEX(Planning!$C$2:$C$197,MATCH(D26,Planning!$A$2:$A$197,0)),"-") -> 0 | E28: =IFERROR(INDEX(Planning!$C$2:$C$197,MATCH(E26,Planning!$A$2:$A$197,0)),"-") -> 0 | F28: =IFERROR(INDEX(Planning!$C$2:$C$197,MATCH(F26,Planning!$A$2:$A$197,0)),"-") -> 0 | G28: =IFERROR(INDEX(Planning!$C$2:$C$197,MATCH(G26,Planning!$A$2:$A$197,0)),"-") -> 0 | H28: =IFERROR(INDEX(Planning!$C$2:$C$197,MATCH(H26,Planning!$A$2:$A$197,0)),"-") -> 0
C29: =IFERROR(INDEX(Planning!$E$2:$E$197,MATCH(C26,Planning!$A$2:$A$197,0)),"-") -> 0 | D29: =IFERROR(INDEX(Planning!$E$2:$E$197,MATCH(D26,Planning!$A$2:$A$197,0)),"-") -> 0 | E29: =IFERROR(INDEX(Planning!$E$2:$E$197,MATCH(E26,Planning!$A$2:$A$197,0)),"-") -> 0 | F29: =IFERROR(INDEX(Planning!$E$2:$E$197,MATCH(F26,Planning!$A$2:$A$197,0)),"-") -> 0 | G29: =IFERROR(INDEX(Planning!$E$2:$E$197,MATCH(G26,Planning!$A$2:$A$197,0)),"-") -> 0 | H29: =IFERROR(INDEX(Planning!$E$2:$E$197,MATCH(H26,Planning!$A$2:$A$197,0)),"-") -> 0
C30: =IFERROR(INDEX(Planning!$F$2:$F$197,MATCH(C26,Planning!$A$2:$A$197,0)),"-") -> 0 | D30: =IFERROR(INDEX(Planning!$F$2:$F$197,MATCH(D26,Planning!$A$2:$A$197,0)),"-") -> 0 | E30: =IFERROR(INDEX(Planning!$F$2:$F$197,MATCH(E26,Planning!$A$2:$A$197,0)),"-") -> 0 | F30: =IFERROR(INDEX(Planning!$F$2:$F$197,MATCH(F26,Planning!$A$2:$A$197,0)),"-") -> 0 | G30: =IFERROR(INDEX(Planning!$F$2:$F$197,MATCH(G26,Planning!$A$2:$A$197,0)),"-") -> 0 | H30: =IFERROR(INDEX(Planning!$F$2:$F$197,MATCH(H26,Planning!$A$2:$A$197,0)),"-") -> 0

Sheet 2019-12
C2: Décembre | D2: 2019
C4: Lundi | D4: Mardi | E4: Mercredi | F4: Jeudi | G4: Vendredi | H4: Samedi | I4: Dimanche
I6: 43800
I7: =IFERROR(INDEX(Planning!$B$2:$B$197,MATCH(I6,Planning!$A$2:$A$197,0)),"-") -> 0
I8: =IFERROR(INDEX(Planning!$C$2:$C$197,MATCH(I6,Planning!$A$2:$A$197,0)),"-") -> 0
I9: =IFERROR(INDEX(Planning!$E$2:$E$197,MATCH(I6,Planning!$A$2:$A$197,0)),"-") -> 0
I10: =IFERROR(INDEX(Planning!$F$2:$F$197,MATCH(I6,Planning!$A$2:$A$197,0)),"-") -> 0
C11: 43801 | D11: 43802 | E11: 43803 | F11: 43804 | G11: 43805 | H11: 43806 | I11: 43807
C12: =IFERROR(INDEX(Planning!$B$2:$B$197,MATCH(C11,Planning!$A$2:$A$197,0)),"-") -> 0 | D12: =IFERROR(INDEX(Planning!$B$2:$B$197,MATCH(D11,Planning!$A$2:$A$197,0)),"-") -> 0 | E12: =IFERROR(INDEX(Planning!$B$2:$B$197,MATCH(E11,Planning!$A$2:$A$197,0)),"-") -> 0 | F12: =IFERROR(INDEX(Planning!$B$2:$B$197,MATCH(F11,Planning!$A$2:$A$197,0)),"-") -> 0 | G12: =IFERROR(INDEX(Planning!$B$2:$B$197,MATCH(G11,Planning!$A$2:$A$197,0)),"-") -> 0 | H12: =IFERROR(INDEX(Planning!$B$2:$B$197,MATCH(H11,Planning!$A$2:$A$197,0)),"-") -> 0 | I12: =IFERROR(INDEX(Planning!$B$2:$B$197,MATCH(I11,Planning!$A$2:$A$197,0)),"-") -> 0
C13: =IFERROR(INDEX(Planning!$C$2:$C$197,MATCH(C11,Planning!$A$2:$A$197,0)),"-") -> 0 | D13: =IFERROR(INDEX(Planning!$C$2:$C$197,MATCH(D11,Planning!$A$2:$A$197,0)),"-") -> 0 | E13: =IFERROR(INDEX(Planning!$C$2:$C$197,MATCH(E11,Planning!$A$2:$A$197,0)),"-") -> 0 | F13: =IFERROR(INDEX(Planning!$C$2:$C$197,MATCH(F11,Planning!$A$2:$A$197,0)),"-") -> 0 | G13: =IFERROR(INDEX(Planning!$C$2:$C$197,MATCH(G11,Planning!$A$2:$A$197,0)),"-") -> 0 | H13: =IFERROR(INDEX(Planning!$C$2:$C$197,MATCH(H11,Planning!$A$2:$A$197,0)),"-") -> 0 | I13: =IFERROR(INDEX(Planning!$C$2:$C$197,MATCH(I11,Planning!$A$2:$A$197,0)),"-") -> 0
C14: =IFERROR(INDEX(Planning!$E$2:$E$197,MATCH(C11,Planning!$A$2:$A$197,0)),"-") -> 0 | D14: =IFERROR(INDEX(Planning!$E$2:$E$197,MATCH(D11,Planning!$A$2:$A$197,0)),"-") -> 0 | E14: =IFERROR(INDEX(Planning!$E$2:$E$197,MATCH(E11,Planning!$A$2:$A$197,0)),"-") -> 0 | F14: =IFERROR(INDEX(Planning!$E$2:$E$197,MATCH(F11,Planning!$A$2:$A$197,0)),"-") -> 0 | G14: =IFERROR(INDEX(Planning!$E$2:$E$197,MATCH(G11,Planning!$A$2:$A$197,0)),"-") -> 0 | H14: =IFERROR(INDEX(Planning!$E$2:$E$197,MATCH(H11,Planning!$A$2:$A$197,0)),"-") -> 0 | I14: =IFERROR(INDEX(Planning!$E$2:$E$197,MATCH(I11,Planning!$A$2:$A$197,0)),"-") -> 0
C15: =IFERROR(INDEX(Planning!$F$2:$F$197,MATCH(C11,Planning!$A$2:$A$197,0)),"-") -> 0 | D15: =IFERROR(INDEX(Planning!$F$2:$F$197,MATCH(D11,Planning!$A$2:$A$197,0)),"-") -> 0 | E15: =IFERROR(INDEX(Planning!$F$2:$F$197,MATCH(E11,Planning!$A$2:$A$197,0)),"-") -> 0 | F15: =IFERROR(INDEX(Planning!$F$2:$F$197,MATCH(F11,Planning!$A$2:$A$197,0)),"-") -> 0 | G15: =IFERROR(INDEX(Planning!$F$2:$F$197,MATCH(G11,Planning!$A$2:$A$197,0)),"-") -> 0 | H15: =IFERROR(INDEX(Planning!$F$2:$F$197,MATCH(H11,Planning!$A$2:$A$197,0)),"-") -> 0 | I15: =IFERROR(INDEX(Planning!$F$2:$F$197,MATCH(I11,Planning!$A$2:$A$197,0)),"-") -> 0
C16: 43808 | D16: 43809 | E16: 43810 | F16: 43811 | G16: 43812 | H16: 43813 | I16: 43814
C17: =IFERROR(INDEX(Planning!$B$2:$B$197,MATCH(C16,Planning!$A$2:$A$197,0)),"-") -> 0 | D17: =IFERROR(INDEX(Planning!$B$2:$B$197,MATCH(D16,Planning!$A$2:$A$197,0)),"-") -> 0 | E17: =IFERROR(INDEX(Planning!$B$2:$B$197,MATCH(E16,Planning!$A$2:$A$197,0)),"-") -> 0 | F17: =IFERROR(INDEX(Planning!$B$2:$B$197,MATCH(F16,Planning!$A$2:$A$197,0)),"-") -> 0 | G17: =IFERROR(INDEX(Planning!$B$2:$B$197,MATCH(G16,Planning!$A$2:$A$197,0)),"-") -> 0 | H17: =IFERROR(INDEX(Planning!$B$2:$B$197,MATCH(H16,Planning!$A$2:$A$197,0)),"-") -> 0 | I17: =IFERROR(INDEX(Planning!$B$2:$B$197,MATCH(I16,Planning!$A$2:$A$197,0)),"-") -> 0
C18: =IFERROR(INDEX(Planning!$C$2:$C$197,MATCH(C16,Planning!$A$2:$A$197,0)),"-") -> 0 | D18: =IFERROR(INDEX(Planning!$C$2:$C$197,MATCH(D16,Planning!$A$2:$A$197,0)),"-") -> 0 | E18: =IFERROR(INDEX(Planning!$C$2:$C$197,MATCH(E16,Planning!$A$2:$A$197,0)),"-") -> 0 | F18: =IFERROR(INDEX(Planning!$C$2:$C$197,MATCH(F16,Planning!$A$2:$A$197,0)),"-") -> 0 | G18: =IFERROR(INDEX(Planning!$C$2:$C$197,MATCH(G16,Planning!$A$2:$A$197,0)),"-") -> 0 | H18: =IFERROR(INDEX(Planning!$C$2:$C$197,MATCH(H16,Planning!$A$2:$A$197,0)),"-") -> 0 | I18: =IFERROR(INDEX(Planning!$C$2:$C$197,MATCH(I16,Planning!$A$2:$A$197,0)),"-") -> 0
C19: =IFERROR(INDEX(Planning!$E$2:$E$197,MATCH(C16,Planning!$A$2:$A$197,0)),"-") -> 0 | D19: =IFERROR(INDEX(Planning!$E$2:$E$197,MATCH(D16,Planning!$A$2:$A$197,0)),"-") -> 0 | E19: =IFERROR(INDEX(Planning!$E$2:$E$197,MATCH(E16,Planning!$A$2:$A$197,0)),"-") -> 0 | F19: =IFERROR(INDEX(Planning!$E$2:$E$197,MATCH(F16,Planning!$A$2:$A$197,0)),"-") -> 0 | G19: =IFERROR(INDEX(Planning!$E$2:$E$197,MATCH(G16,Planning!$A$2:$A$197,0)),"-") -> 0 | H19: =IFERROR(INDEX(Planning!$E$2:$E$197,MATCH(H16,Planning!$A$2:$A$197,0)),"-") -> 0 | I19: =IFERROR(INDEX(Planning!$E$2:$E$197,MATCH(I16,Planning!$A$2:$A$197,0)),"-") -> 0
C20: =IFERROR(INDEX(Planning!$F$2:$F$197,MATCH(C16,Planning!$A$2:$A$197,0)),"-") -> 0 | D20: =IFERROR(INDEX(Planning!$F$2:$F$197,MATCH(D16,Planning!$A$2:$A$197,0)),"-") -> 0 | E20: =IFERROR(INDEX(Planning!$F$2:$F$197,MATCH(E16,Planning!$A$2:$A$197,0)),"-") -> 0 | F20: =IFERROR(INDEX(Planning!$F$2:$F$197,MATCH(F16,Planning!$A$2:$A$197,0)),"-") -> 0 | G20: =IFERROR(INDEX(Planning!$F$2:$F$197,MATCH(G16,Planning!$A$2:$A$197,0)),"-") -> 0 | H20: =IFERROR(INDEX(Planning!$F$2:$F$197,MATCH(H16,Planning!$A$2:$A$197,0)),"-") -> 0 | I20: =IFERROR(INDEX(Planning!$F$2:$F$197,MATCH(I16,Planning!$A$2:$A$197,0)),"-") -> 0
C21: 43815 | D21: 43816 | E21: 43817 | F21: 43818 | G21: 43819 | H21: 43820 | I21: 43821
C22: =IFERROR(INDEX(Planning!$B$2:$B$197,MATCH(C21,Planning!$A$2:$A$197,0)),"-") -> 0 | D22: =IFERROR(INDEX(Planning!$B$2:$B$197,MATCH(D21,Planning!$A$2:$A$197,0)),"-") -> 0 | E22: =IFERROR(INDEX(Planning!$B$2:$B$197,MATCH(E21,Planning!$A$2:$A$197,0)),"-") -> 0 | F22: =IFERROR(INDEX(Planning!$B$2:$B$197,MATCH(F21,Planning!$A$2:$A$197,0)),"-") -> 0 | G22: =IFERROR(INDEX(Planning!$B$2:$B$197,MATCH(G21,Planning!$A$2:$A$197,0)),"-") -> 0 | H22: =IFERROR(INDEX(Planning!$B$2:$B$197,MATCH(H21,Planning!$A$2:$A$197,0)),"-") -> 0 | I22: =IFERROR(INDEX(Planning!$B$2:$B$197,MATCH(I21,Planning!$A$2:$A$197,0)),"-") -> 0
C23: =IFERROR(INDEX(Planning!$C$2:$C$197,MATCH(C21,Planning!$A$2:$A$197,0)),"-") -> 0 | D23: =IFERROR(INDEX(Planning!$C$2:$C$197,MATCH(D21,Planning!$A$2:$A$197,0)),"-") -> 0 | E23: =IFERROR(INDEX(Planning!$C$2:$C$197,MATCH(E21,Planning!$A$2:$A$197,0)),"-") -> 0 | F23: =IFERROR(INDEX(Planning!$C$2:$C$197,MATCH(F21,Planning!$A$2:$A$197,0)),"-") -> 0 | G23: =IFERROR(INDEX(Planning!$C$2:$C$197,MATCH(G21,Planning!$A$2:$A$197,0)),"-") -> 0 | H23: =IFERROR(INDEX(Planning!$C$2:$C$197,MATCH(H21,Planning!$A$2:$A$197,0)),"-") -> 0 | I23: =IFERROR(INDEX(Planning!$C$2:$C$197,MATCH(I21,Planning!$A$2:$A$197,0)),"-") -> 0
C24: =IFERROR(INDEX(Planning!$E$2:$E$197,MATCH(C21,Planning!$A$2:$A$197,0)),"-") -> 0 | D24: =IFERROR(INDEX(Planning!$E$2:$E$197,MATCH(D21,Planning!$A$2:$A$197,0)),"-") -> 0 | E24: =IFERROR(INDEX(Planning!$E$2:$E$197,MATCH(E21,Planning!$A$2:$A$197,0)),"-") -> 0 | F24: =IFERROR(INDEX(Planning!$E$2:$E$197,MATCH(F21,Planning!$A$2:$A$197,0)),"-") -> 0 | G24: =IFERROR(INDEX(Planning!$E$2:$E$197,MATCH(G21,Planning!$A$2:$A$197,0)),"-") -> 0 | H24: =IFERROR(INDEX(Planning!$E$2:$E$197,MATCH(H21,Planning!$A$2:$A$197,0)),"-") -> 0 | I24: =IFERROR(INDEX(Planning!$E$2:$E$197,MATCH(I21,Planning!$A$2:$A$197,0)),"-") -> 0
C25: =IFERROR(INDEX(Planning!$F$2:$F$197,MATCH(C21,Planning!$A$2:$A$197,0)),"-") -> 0 | D25: =IFERROR(INDEX(Planning!$F$2:$F$197,MATCH(D21,Planning!$A$2:$A$197,0)),"-") -> 0 | E25: =IFERROR(INDEX(Planning!$F$2:$F$197,MATCH(E21,Planning!$A$2:$A$197,0)),"-") -> 0 | F25: =IFERROR(INDEX(Planning!$F$2:$F$197,MATCH(F21,Planning!$A$2:$A$197,0)),"-") -> 0 | G25: =IFERROR(INDEX(Planning!$F$2:$F$197,MATCH(G21,Planning!$A$2:$A$197,0)),"-") -> 0 | H25: =IFERROR(INDEX(Planning!$F$2:$F$197,MATCH(H21,Planning!$A$2:$A$197,0)),"-") -> 0 | I25: =IFERROR(INDEX(Planning!$F$2:$F$197,MATCH(I21,Planning!$A$2:$A$197,0)),"-") -> 0
C26: 43822 | D26: 43823 | E26: 43824 | F26: 43825 | G26: 43826 | H26: 43827 | I26: 43828
C27: =IFERROR(INDEX(Planning!$B$2:$B$197,MATCH(C26,Planning!$A$2:$A$197,0)),"-") -> 0 | D27: =IFERROR(INDEX(Planning!$B$2:$B$197,MATCH(D26,Planning!$A$2:$A$197,0)),"-") -> 0 | E27: =IFERROR(INDEX(Planning!$B$2:$B$197,MATCH(E26,Planning!$A$2:$A$197,0)),"-") -> 0 | F27: =IFERROR(INDEX(Planning!$B$2:$B$197,MATCH(F26,Planning!$A$2:$A$197,0)),"-") -> 0 | G27: =IFERROR(INDEX(Planning!$B$2:$B$197,MATCH(G26,Planning!$A$2:$A$197,0)),"-") -> 0 | H27: =IFERROR(INDEX(Planning!$B$2:$B$197,MATCH(H26,Planning!$A$2:$A$197,0)),"-") -> 0 | I27: =IFERROR(INDEX(Planning!$B$2:$B$197,MATCH(I26,Planning!$A$2:$A$197,0)),"-") -> 0
C28: =IFERROR(INDEX(Planning!$C$2:$C$197,MATCH(C26,Planning!$A$2:$A$197,0)),"-") -> 0 | D28: =IFERROR(INDEX(Planning!$C$2:$C$197,MATCH(D26,Planning!$A$2:$A$197,0)),"-") -> 0 | E28: =IFERROR(INDEX(Planning!$C$2:$C$197,MATCH(E26,Planning!$A$2:$A$197,0)),"-") -> 0 | F28: =IFERROR(INDEX(Planning!$C$2:$C$197,MATCH(F26,Planning!$A$2:$A$197,0)),"-") -> 0 | G28: =IFERROR(INDEX(Planning!$C$2:$C$197,MATCH(G26,Planning!$A$2:$A$197,0)),"-") -> 0 | H28: =IFERROR(INDEX(Planning!$C$2:$C$197,MATCH(H26,Planning!$A$2:$A$197,0)),"-") -> 0 | I28: =IFERROR(INDEX(Planning!$C$2:$C$197,MATCH(I26,Planning!$A$2:$A$197,0)),"-") -> 0
C29: =IFERROR(INDEX(Planning!$E$2:$E$197,MATCH(C26,Planning!$A$2:$A$197,0)),"-") -> 0 | D29: =IFERROR(INDEX(Planning!$E$2:$E$197,MATCH(D26,Planning!$A$2:$A$197,0)),"-") -> 0 | E29: =IFERROR(INDEX(Planning!$E$2:$E$197,MATCH(E26,Planning!$A$2:$A$197,0)),"-") -> 0 | F29: =IFERROR(INDEX(Planning!$E$2:$E$197,MATCH(F26,Planning!$A$2:$A$197,0)),"-") -> 0 | G29: =IFERROR(INDEX(Planning!$E$2:$E$197,MATCH(G26,Planning!$A$2:$A$197,0)),"-") -> 0 | H29: =IFERROR(INDEX(Planning!$E$2:$E$197,MATCH(H26,Planning!$A$2:$A$197,0)),"-") -> 0 | I29: =IFERROR(INDEX(Planning!$E$2:$E$197,MATCH(I26,Planning!$A$2:$A$197,0)),"-") -> 0
C30: =IFERROR(INDEX(Planning!$F$2:$F$197,MATCH(C26,Planning!$A$2:$A$197,0)),"-") -> 0 | D30: =IFERROR(INDEX(Planning!$F$2:$F$197,MATCH(D26,Planning!$A$2:$A$197,0)),"-") -> 0 | E30: =IFERROR(INDEX(Planning!$F$2:$F$197,MATCH(E26,Planning!$A$2:$A$197,0)),"-") -> 0 | F30: =IFERROR(INDEX(Planning!$F$2:$F$197,MATCH(F26,Planning!$A$2:$A$197,0)),"-") -> 0 | G30: =IFERROR(INDEX(Planning!$F$2:$F$197,MATCH(G26,Planning!$A$2:$A$197,0)),"-") -> 0 | H30: =IFERROR(INDEX(Planning!$F$2:$F$197,MATCH(H26,Planning!$A$2:$A$197,0)),"-") -> 0 | I30: =IFERROR(INDEX(Planning!$F$2:$F$197,MATCH(I26,Planning!$A$2:$A$197,0)),"-") -> 0
C31: 43829 | D31: 43830
C32: =IFERROR(INDEX(Planning!$B$2:$B$197,MATCH(C31,Planning!$A$2:$A$197,0)),"-") -> 0 | D32: =IFERROR(INDEX(Planning!$B$2:$B$197,MATCH(D31,Planning!$A$2:$A$197,0)),"-") -> 0
C33: =IFERROR(INDEX(Planning!$C$2:$C$197,MATCH(C31,Planning!$A$2:$A$197,0)),"-") -> 0 | D33: =IFERROR(INDEX(Planning!$C$2:$C$197,MATCH(D31,Planning!$A$2:$A$197,0)),"-") -> 0
C34: =IFERROR(INDEX(Planning!$E$2:$E$197,MATCH(C31,Planning!$A$2:$A$197,0)),"-") -> 0 | D34: =IFERROR(INDEX(Planning!$E$2:$E$197,MATCH(D31,Planning!$A$2:$A$197,0)),"-") -> 0
C35: =IFERROR(INDEX(Planning!$F$2:$F$197,MATCH(C31,Planning!$A$2:$A$197,0)),"-") -> 0 | D35: =IFERROR(INDEX(Planning!$F$2:$F$197,MATCH(D31,Planning!$A$2:$A$197,0)),"-") -> 0

Sheet Planning
A1: Dates | B1: Start | C1: End | D1: Durée | E1: Postes | F1: Fonction | G1: Clients | H1: Adresses | I1: Remarques | J1: Km
A2: 43636 | B2: 0.83333333 | C2: 0.29166667 | D2: =IF(OR(B2="",C2=""),"",MOD(C2-B2,1)) -> 0.45833333 | E2: Wolué | F2: MC | G2: =IFERROR(VLOOKUP(E:E,DONNEES!A2:C30,2,FALSE),"") -> Stib | H2: =IFERROR(VLOOKUP(E:E,DONNEES!A2:C30,3,FALSE),"") -> Avenue Edmond Galopin 1150, Woluwé St-Pierre | I2: Trainning | J2: 102
A3: 43637 | B3: 0.83333333 | C3: 0.29166667 | D3: =IF(OR(B3="",C3=""),"",MOD(C3-B3,1)) -> 0.45833333 | E3: Wolué | F3: MC | G3: =IFERROR(VLOOKUP(E:E,DONNEES!A2:C30,2,FALSE),"") -> Stib | H3: =IFERROR(VLOOKUP(E:E,DONNEES!A2:C30,3,FALSE),"") -> Avenue Edmond Galopin 1150, Woluwé St-Pierre | I3: Trainning | J3: =IFERROR(VLOOKUP(E:E,DONNEES!A2:I22,4,FALSE),"") -> 102
A4: 43640 | B4: 0.83333333 | C4: 0.29166667 | D4: =IF(OR(B4="",C4=""),"",MOD(C4-B4,1)) -> 0.45833333 | E4: Wolué | F4: MC | G4: =IFERROR(VLOOKUP(E:E,DONNEES!A2:C22,2,FALSE),"") -> Stib | H4: =IFERROR(VLOOKUP(E:E,DONNEES!A2:C30,3,FALSE),"") -> Avenue Edmond Galopin 1150, Woluwé St-Pierre | J4: =IFERROR(VLOOKUP(E:E,DONNEES!A2:I22,4,FALSE),"") -> 102
A5: 43641 | B5: 0.83333333 | C5: 0.29166667 | D5: =IF(OR(B5="",C5=""),"",MOD(C5-B5,1)) -> 0.45833333 | E5: Wolué | F5: MC | G5: =IFERROR(VLOOKUP(E:E,DONNEES!A2:C22,2,FALSE),"") -> Stib | H5: =IFERROR(VLOOKUP(E:E,DONNEES!A2:C30,3,FALSE),"") -> Avenue Edmond Galopin 1150, Woluwé St-Pierre | J5: =IFERROR(VLOOKUP(E:E,DONNEES!A2:I22,4,FALSE),"") -> 102
A6: 43642 | B6: 0.91666667 | C6: 0.25 | D6: =IF(OR(B6="",C6=""),"",MOD(C6-B6,1)) -> 0.33333333 | E6: Brel | F6: MC | G6: =IFERROR(VLOOKUP(E:E,DONNEES!A2:C22,2,FALSE),"") -> Stib | H6: =IFERROR(VLOOKUP(E:E,DONNEES!A2:C30,3,FALSE),"") -> Rue Nicolas Doyen 1, 1070 Anderlecht | J6: =IFERROR(VLOOKUP(E:E,DONNEES!A2:I22,4,FALSE),"") -> 130
A7: 43643 | B7: 0.83333333 | C7: 0.29166667 | D7: =IF(OR(B7="",C7=""),"",MOD(C7-B7,1)) -> 0.45833333 | E7: Wolué | F7: MC | G7: =IFERROR(VLOOKUP(E:E,DONNEES!A2:C22,2,FALSE),"") -> Stib | H7: =IFERROR(VLOOKUP(E:E,DONNEES!A2:C30,3,FALSE),"") -> Avenue Edmond Galopin 1150, Woluwé St-Pierre | J7: =IFERROR(VLOOKUP(E:E,DONNEES!A2:I22,4,FALSE),"") -> 102
A8: Total Km Juin: | D8: =SUM(D2:D7) -> 2.625 | J8: =SUM(J2:J7) -> 640
A9: 43647 | B9: 0.91666667 | C9: 0.25 | D9: =IF(OR(B9="",C9=""),"",MOD(C9-B9,1)) -> 0.33333333 | E9: Haren | F9: MC | G9: =IFERROR(VLOOKUP(E:E,DONNEES!A1:C21,2,FALSE),"") -> Stib | H9: =IFERROR(VLOOKUP(E:E,DONNEES!A1:C29,3,FALSE),"") -> Houtweg 99 1130 Bruxelles | I9: Form shot | J9: =IFERROR(VLOOKUP(E:E,DONNEES!A1:I21,4,FALSE),"") -> 113
A10: 43648 | D10: =IF(OR(B10="",C10=""),"",MOD(C10-B10,1)) | H10: =IFERROR(VLOOKUP(E:E,DONNEES!A1:C29,3,FALSE),"")
A11: 43649 | B11: 0.29166667 | C11: 0.625 | D11: =IF(OR(B11="",C11=""),"",MOD(C11-B11,1)) -> 0.33333333 | E11: Asse | F11: T | G11: =IFERROR(VLOOKUP(E:E,DONNEES!A2:C22,2,FALSE),"") -> G4S | H11: =IFERROR(VLOOKUP(E:E,DONNEES!A1:C29,3,FALSE),"") -> Poverstraat 75/B44 , 1731 ASSE | I11: Form shot | J11: =IFERROR(VLOOKUP(E:E,DONNEES!A2:I22,4,FALSE),"") -> 124
A12: 43650 | B12: 0.33333333 | C12: 0.66666667 | D12: =IF(OR(B12="",C12=""),"",MOD(C12-B12,1)) -> 0.33333333 | E12: Merchtem | F12: T | G12: =IFERROR(VLOOKUP(E:E,DONNEES!A2:C22,2,FALSE),"") -> G4S | H12: =IFERROR(VLOOKUP(E:E,DONNEES!A1:C29,3,FALSE),"") -> Bogaerdstraat 13 , 1785 MERCHTEM | I12: Form shot | J12: =IFERROR(VLOOKUP(E:E,DONNEES!A2:I22,4,FALSE),"") -> 129
A13: 43651 | B13: 0.33333333 | C13: 0.5 | D13: =IF(OR(B13="",C13=""),"",MOD(C13-B13,1)) -> 0.16666667 | E13: Merchtem | F13: T | G13: =IFERROR(VLOOKUP(E:E,DONNEES!A2:C22,2,FALSE),"") -> G4S | H13: =IFERROR(VLOOKUP(E:E,DONNEES!A1:C29,3,FALSE),"") -> Bogaerdstraat 13 , 1785 MERCHTEM | I13: Form shot | J13: =IFERROR(VLOOKUP(E:E,DONNEES!A2:I22,4,FALSE),"") -> 129
A14: 43652 | D14: =IF(OR(B14="",C14=""),"",MOD(C14-B14,1)) | H14: =IFERROR(VLOOKUP(E:E,DONNEES!A1:C29,3,FALSE),"")
A15: 43653 | D15: =IF(OR(B15="",C15=""),"",MOD(C15-B15,1)) | H15: =IFERROR(VLOOKUP(E:E,DONNEES!A1:C29,3,FALSE),"")
A16: 43654 | B16: 0.29166667 | C16: 0.625 | D16: =IF(OR(B16="",C16=""),"",MOD(C16-B16,1)) -> 0.33333333 | E16: Asse | F16: T | G16: =IFERROR(VLOOKUP(E:E,DONNEES!A2:C22,2,FALSE),"") -> G4S | H16: =IFERROR(VLOOKUP(E:E,DONNEES!A1:C29,3,FALSE),"") -> Poverstraat 75/B44 , 1731 ASSE | I16: Form shot | J16: =IFERROR(VLOOKUP(E:E,DONNEES!A2:I22,4,FALSE),"") -> 124
A17: 43655 | B17: 0.33333333 | C17: 0.66666667 | D17: =IF(OR(B17="",C17=""),"",MOD(C17-B17,1)) -> 0.33333333 | E17: Merchtem | F17: T | G17: =IFERROR(VLOOKUP(E:E,DONNEES!A2:C22,2,FALSE),"") -> G4S | H17: =IFERROR(VLOOKUP(E:E,DONNEES!A1:C29,3,FALSE),"") -> Bogaerdstraat 13 , 1785 MERCHTEM | I17: Form shot | J17: =IFERROR(VLOOKUP(E:E,DONNEES!A2:I22,4,FALSE),"") -> 129
A18: 43656 | D18: =IF(OR(B18="",C18=""),"",MOD(C18-B18,1)) | H18: =IFERROR(VLOOKUP(E:E,DONNEES!A1:C29,3,FALSE),"")
A19: 43657 | B19: 0.33333333 | C19: 0.66666667 | D19: =IF(OR(B19="",C19=""),"",MOD(C19-B19,1)) -> 0.33333333 | E19: Merchtem | F19: T | G19: =IFERROR(VLOOKUP(E:E,DONNEES!A2:C22,2,FALSE),"") -> G4S | H19: =IFERROR(VLOOKUP(E:E,DONNEES!A1:C29,3,FALSE),"") -> Bogaerdstraat 13 , 1785 MERCHTEM | I19: Form shot | J19: =IFERROR(VLOOKUP(E:E,DONNEES!A2:I22,4,FALSE),"") -> 129
A20: 43658 | B20: 0.375 | C20: 0.41666667 | D20: =IF(OR(B20="",C20=""),"",MOD(C20-B20,1)) -> 0.041666667 | E20: Asse | F20: T | G20: =IFERROR(VLOOKUP(E:E,DONNEES!A2:C22,2,FALSE),"") -> G4S | H20: =IFERROR(VLOOKUP(E:E,DONNEES!A1:C29,3,FALSE),"") -> Poverstraat 75/B44 , 1731 ASSE | I20: Form shot | J20: =IFERROR(VLOOKUP(E:E,DONNEES!A2:I22,4,FALSE),"") -> 124
A21: 43659 | D21: =IF(OR(B21="",C21=""),"",MOD(C21-B21,1)) | H21: =IFERROR(VLOOKUP(E:E,DONNEES!A1:C29,3,FALSE),"")
A22: 43660 | D22: =IF(OR(B22="",C22=""),"",MOD(C22-B22,1)) | H22: =IFERROR(VLOOKUP(E:E,DONNEES!A1:C29,3,FALSE),"")
A23: 43661 | B23: 0.91666667 | C23: 0.25 | D23: =IF(OR(B23="",C23=""),"",MOD(C23-B23,1)) -> 0.33333333 | E23: Delta | F23: MC | G23: =IFERROR(VLOOKUP(E:E,DONNEES!A2:C22,2,FALSE),"") -> Stib | H23: =IFERROR(VLOOKUP(E:E,DONNEES!A2:C30,3,FALSE),"") -> Rue Jules Cockx 1, 1160 Bruxelles | J23: =IFERROR(VLOOKUP(E:E,DONNEES!A2:I22,4,FALSE),"") -> 102
A24: 43662 | B24: 0.91666667 | C24: 0.25 | D24: =IF(OR(B24="",C24=""),"",MOD(C24-B24,1)) -> 0.33333333 | E24: Delta | F24: MC | G24: =IFERROR(VLOOKUP(E:E,DONNEES!A2:C22,2,FALSE),"") -> Stib | H24: =IFERROR(VLOOKUP(E:E,DONNEES!A2:C30,3,FALSE),"") -> Rue Jules Cockx 1, 1160 Bruxelles | J24: =IFERROR(VLOOKUP(E:E,DONNEES!A2:I22,4,FALSE),"") -> 102
A25: 43663 | B25: 0.91666667 | C25: 0.25 | D25: =IF(OR(B25="",C25=""),"",MOD(C25-B25,1)) -> 0.33333333 | E25: Delta | F25: MC | G25: =IFERROR(VLOOKUP(E:E,DONNEES!A2:C22,2,FALSE),"") -> Stib | H25: =IFERROR(VLOOKUP(E:E,DONNEES!A2:C30,3,FALSE),"") -> Rue Jules Cockx 1, 1160 Bruxelles | J25: =IFERROR(VLOOKUP(E:E,DONNEES!A2:I22,4,FALSE),"") -> 102
A26: 43664 | B26: 0.91666667 | C26: 0.25 | D26: =IF(OR(B26="",C26=""),"",MOD(C26-B26,1)) -> 0.33333333 | E26: Delta | F26: MC | G26: =IFERROR(VLOOKUP(E:E,DONNEES!A2:C22,2,FALSE),"") -> Stib | H26: =IFERROR(VLOOKUP(E:E,DONNEES!A2:C30,3,FALSE),"") -> Rue Jules Cockx 1, 1160 Bruxelles | J26: =IFERROR(VLOOKUP(E:E,DONNEES!A2:I22,4,FALSE),"") -> 102
A27: 43665 | B27: 0.91666667 | C27: 0.25 | D27: =IF(OR(B27="",C27=""),"",MOD(C27-B27,1)) -> 0.33333333 | E27: Delta | F27: MC | G27: =IFERROR(VLOOKUP(E:E,DONNEES!A2:C22,2,FALSE),"") -> Stib | H27: =IFERROR(VLOOKUP(E:E,DONNEES!A2:C30,3,FALSE),"") -> Rue Jules Cockx 1, 1160 Bruxelles | J27: =IFERROR(VLOOKUP(E:E,DONNEES!A2:I22,4,FALSE),"") -> 102
A28: 43666 | D28: =IF(OR(B28="",C28=""),"",MOD(C28-B28,1))
A29: 43667 | D29: =IF(OR(B29="",C29=""),"",MOD(C29-B29,1))
A30: 43668 | B30: 0.91666667 | C30: 0.25 | D30: =IF(OR(B30="",C30=""),"",MOD(C30-B30,1)) -> 0.33333333 | E30: Haren | F30: MC | G30: =IFERROR(VLOOKUP(E:E,DONNEES!A2:C22,2,FALSE),"") -> Stib | H30: =IFERROR(VLOOKUP(E:E,DONNEES!A2:C30,3,FALSE),"") -> Houtweg 99 1130 Bruxelles | J30: =IFERROR(VLOOKUP(E:E,DONNEES!A2:I22,4,FALSE),"") -> 113
A31: 43669 | B31: 0.91666667 | C31: 0.25 | D31: =IF(OR(B31="",C31=""),"",MOD(C31-B31,1)) -> 0.33333333 | E31: Haren | F31: MC | G31: =IFERROR(VLOOKUP(E:E,DONNEES!A2:C22,2,FALSE),"") -> Stib | H31: =IFERROR(VLOOKUP(E:E,DONNEES!A2:C30,3,FALSE),"") -> Houtweg 99 1130 Bruxelles | J31: =IFERROR(VLOOKUP(E:E,DONNEES!A2:I22,4,FALSE),"") -> 113
A32: 43670 | B32: 0.91666667 | C32: 0.25 | D32: =IF(OR(B32="",C32=""),"",MOD(C32-B32,1)) -> 0.33333333 | E32: Delta | F32: MC | G32: =IFERROR(VLOOKUP(E:E,DONNEES!A2:C22,2,FALSE),"") -> Stib | H32: =IFERROR(VLOOKUP(E:E,DONNEES!A2:C30,3,FALSE),"") -> Rue Jules Cockx 1, 1160 Bruxelles | J32: =IFERROR(VLOOKUP(E:E,DONNEES!A2:I22,4,FALSE),"") -> 102
A33: 43671 | B33: 0.91666667 | C33: 0.25 | D33: =IF(OR(B33="",C33=""),"",MOD(C33-B33,1)) -> 0.33333333 | E33: Delta | F33: MC | G33: =IFERROR(VLOOKUP(E:E,DONNEES!A2:C22,2,FALSE),"") -> Stib | H33: =IFERROR(VLOOKUP(E:E,DONNEES!A2:C30,3,FALSE),"") -> Rue Jules Cockx 1, 1160 Bruxelles | J33: =IFERROR(VLOOKUP(E:E,DONNEES!A2:I22,4,FALSE),"") -> 102
A34: 43672 | B34: 0.91666667 | C34: 0.25 | D34: =IF(OR(B34="",C34=""),"",MOD(C34-B34,1)) -> 0.33333333 | E34: Delta | F34: MC | G34: =IFERROR(VLOOKUP(E:E,DONNEES!A2:C22,2,FALSE),"") -> Stib | H34: =IFERROR(VLOOKUP(E:E,DONNEES!A2:C30,3,FALSE),"") -> Rue Jules Cockx 1, 1160 Bruxelles | J34: =IFERROR(VLOOKUP(E:E,DONNEES!A2:I22,4,FALSE),"") -> 102
A35: 43673 | D35: =IF(OR(B35="",C35=""),"",MOD(C35-B35,1))
A36: 43674 | D36: =IF(OR(B36="",C36=""),"",MOD(C36-B36,1))
A37: 43675 | B37: 0.91666667 | C37: 0.25 | D37: =IF(OR(B37="",C37=""),"",MOD(C37-B37,1)) -> 0.33333333 | E37: Delta | F37: MC | G37: =IFERROR(VLOOKUP(E:E,DONNEES!A2:C22,2,FALSE),"") -> Stib | H37: =IFERROR(VLOOKUP(E:E,DONNEES!A2:C30,3,FALSE),"") -> Rue Jules Cockx 1, 1160 Bruxelles | J37: =IFERROR(VLOOKUP(E:E,DONNEES!A2:I22,4,FALSE),"") -> 102
A38: 43676 | B38: 0.91666667 | C38: 0.25 | D38: =IF(OR(B38="",C38=""),"",MOD(C38-B38,1)) -> 0.33333333 | E38: Delta | F38: MC | G38: =IFERROR(VLOOKUP(E:E,DONNEES!A2:C22,2,FALSE),"") -> Stib | H38: =IFERROR(VLOOKUP(E:E,DONNEES!A2:C30,3,FALSE),"") -> Rue Jules Cockx 1, 1160 Bruxelles | J38: =IFERROR(VLOOKUP(E:E,DONNEES!A2:I22,4,FALSE),"") -> 102
A39: 43677 | B39: 0.91666667 | C39: 0.25 | D39: =IF(OR(B39="",C39=""),"",MOD(C39-B39,1)) -> 0.33333333 | E39: Delta | F39: MC | G39: =IFERROR(VLOOKUP(E:E,DONNEES!A2:C22,2,FALSE),"") -> Stib | H39: =IFERROR(VLOOKUP(E:E,DONNEES!A2:C22,3,FALSE),"") -> Rue Jules Cockx 1, 1160 Bruxelles | J39: =IFERROR(VLOOKUP(E:E,DONNEES!A2:I22,4,FALSE),"") -> 102
A40: Total Km Juin: | D40: =SUM(D9:D39) -> 6.5416667 | J40: =SUM(J9:J39) -> 2349
A41: 43678 | D41: =IF(OR(B41="",C41=""),"",MOD(C41-B41,1)) | G41: =IFERROR(VLOOKUP(E:E,DONNEES!A2:C22,2,FALSE),"") | H41: =IFERROR(VLOOKUP(E:E,DONNEES!A2:C22,3,FALSE),"") | J41: =IFERROR(VLOOKUP(E:E,DONNEES!A2:I22,4,FALSE),"")
A42: 43679 | D42: =IF(OR(B42="",C42=""),"",MOD(C42-B42,1)) | G42: =IFERROR(VLOOKUP(E:E,DONNEES!A2:C22,2,FALSE),"") | H42: =IFERROR(VLOOKUP(E:E,DONNEES!A2:C22,3,FALSE),"") | J42: =IFERROR(VLOOKUP(E:E,DONNEES!A2:I22,4,FALSE),"")
A43: 43680 | D43: =IF(OR(B43="",C43=""),"",MOD(C43-B43,1)) | G43: =IFERROR(VLOOKUP(E:E,DONNEES!A2:C22,2,FALSE),"") | H43: =IFERROR(VLOOKUP(E:E,DONNEES!A2:C22,3,FALSE),"") | J43: =IFERROR(VLOOKUP(E:E,DONNEES!A2:I22,4,FALSE),"")
A44: 43681 | D44: =IF(OR(B44="",C44=""),"",MOD(C44-B44,1)) | G44: =IFERROR(VLOOKUP(E:E,DONNEES!A2:C22,2,FALSE),"") | H44: =IFERROR(VLOOKUP(E:E,DONNEES!A2:C22,3,FALSE),"") | J44: =IFERROR(VLOOKUP(E:E,DONNEES!A2:C22,4,FALSE),"")
A45: 43682 | D45: =IF(OR(B45="",C45=""),"",MOD(C45-B45,1)) | G45: =IFERROR(VLOOKUP(E:E,DONNEES!A6:C26,2,FALSE),"") | H45: =IFERROR(VLOOKUP(E:E,DONNEES!A6:C26,3,FALSE),"") | J45: =IFERROR(VLOOKUP(E:E,DONNEES!A6:I26,4,FALSE),"")
A46: 43683 | D46: =IF(OR(B46="",C46=""),"",MOD(C46-B46,1)) | G46: =IFERROR(VLOOKUP(E:E,DONNEES!A6:C26,2,FALSE),"") | H46: =IFERROR(VLOOKUP(E:E,DONNEES!A6:C26,3,FALSE),"") | J46: =IFERROR(VLOOKUP(E:E,DONNEES!A6:I26,4,FALSE),"")
A47: 43684 | D47: =IF(OR(B47="",C47=""),"",MOD(C47-B47,1)) | G47: =IFERROR(VLOOKUP(E:E,DONNEES!A6:C26,2,FALSE),"") | H47: =IFERROR(VLOOKUP(E:E,DONNEES!A6:C26,3,FALSE),"") | J47: =IFERROR(VLOOKUP(E:E,DONNEES!A6:I26,4,FALSE),"")
A48: 43685 | D48: =IF(OR(B48="",C48=""),"",MOD(C48-B48,1)) | G48: =IFERROR(VLOOKUP(E:E,DONNEES!A6:C26,2,FALSE),"") | H48: =IFERROR(VLOOKUP(E:E,DONNEES!A6:C26,3,FALSE),"") | J48: =IFERROR(VLOOKUP(E:E,DONNEES!A6:C26,4,FALSE),"")
A49: 43686 | D49: =IF(OR(B49="",C49=""),"",MOD(C49-B49,1)) | G49: =IFERROR(VLOOKUP(E:E,DONNEES!A10:C30,2,FALSE),"") | H49: =IFERROR(VLOOKUP(E:E,DONNEES!A10:C30,3,FALSE),"") | J49: =IFERROR(VLOOKUP(E:E,DONNEES!A10:I30,4,FALSE),"")
A50: 43687 | D50: =IF(OR(B50="",C50=""),"",MOD(C50-B50,1)) | G50: =IFERROR(VLOOKUP(E:E,DONNEES!A10:C30,2,FALSE),"") | H50: =IFERROR(VLOOKUP(E:E,DONNEES!A10:C30,3,FALSE),"") | J50: =IFERROR(VLOOKUP(E:E,DONNEES!A10:I30,4,FALSE),"")
A51: 43688 | D51: =IF(OR(B51="",C51=""),"",MOD(C51-B51,1)) | G51: =IFERROR(VLOOKUP(E:E,DONNEES!A10:C30,2,FALSE),"") | H51: =IFERROR(VLOOKUP(E:E,DONNEES!A10:C30,3,FALSE),"") | J51: =IFERROR(VLOOKUP(E:E,DONNEES!A10:I30,4,FALSE),"")
A52: 43689 | D52: =IF(OR(B52="",C52=""),"",MOD(C52-B52,1)) | G52: =IFERROR(VLOOKUP(E:E,DONNEES!A10:C30,2,FALSE),"") | H52: =IFERROR(VLOOKUP(E:E,DONNEES!A10:C30,3,FALSE),"") | J52: =IFERROR(VLOOKUP(E:E,DONNEES!A10:C30,4,FALSE),"")
A53: 43690 | D53: =IF(OR(B53="",C53=""),"",MOD(C53-B53,1)) | G53: =IFERROR(VLOOKUP(E:E,DONNEES!A14:C34,2,FALSE),"") | H53: =IFERROR(VLOOKUP(E:E,DONNEES!A14:C34,3,FALSE),"") | J53: =IFERROR(VLOOKUP(E:E,DONNEES!A14:I34,4,FALSE),"")
A54: 43691 | D54: =IF(OR(B54="",C54=""),"",MOD(C54-B54,1)) | G54: =IFERROR(VLOOKUP(E:E,DONNEES!A14:C34,2,FALSE),"") | H54: =IFERROR(VLOOKUP(E:E,DONNEES!A14:C34,3,FALSE),"") | J54: =IFERROR(VLOOKUP(E:E,DONNEES!A14:I34,4,FALSE),"")
A55: 43692 | D55: =IF(OR(B55="",C55=""),"",MOD(C55-B55,1)) | G55: =IFERROR(VLOOKUP(E:E,DONNEES!A14:C34,2,FALSE),"") | H55: =IFERROR(VLOOKUP(E:E,DONNEES!A14:C34,3,FALSE),"") | J55: =IFERROR(VLOOKUP(E:E,DONNEES!A14:I34,4,FALSE),"")
A56: 43693 | D56: =IF(OR(B56="",C56=""),"",MOD(C56-B56,1)) | G56: =IFERROR(VLOOKUP(E:E,DONNEES!A14:C34,2,FALSE),"") | H56: =IFERROR(VLOOKUP(E:E,DONNEES!A14:C34,3,FALSE),"") | J56: =IFERROR(VLOOKUP(E:E,DONNEES!A14:C34,4,FALSE),"")
A57: 43694 | D57: =IF(OR(B57="",C57=""),"",MOD(C57-B57,1)) | G57: =IFERROR(VLOOKUP(E:E,DONNEES!A18:C38,2,FALSE),"") | H57: =IFERROR(VLOOKUP(E:E,DONNEES!A18:C38,3,FALSE),"") | J57: =IFERROR(VLOOKUP(E:E,DONNEES!A18:I38,4,FALSE),"")
A58: 43695 | D58: =IF(OR(B58="",C58=""),"",MOD(C58-B58,1)) | G58: =IFERROR(VLOOKUP(E:E,DONNEES!A18:C38,2,FALSE),"") | H58: =IFERROR(VLOOKUP(E:E,DONNEES!A18:C38,3,FALSE),"") | J58: =IFERROR(VLOOKUP(E:E,DONNEES!A18:I38,4,FALSE),"")
A59: 43696 | D59: =IF(OR(B59="",C59=""),"",MOD(C59-B59,1)) | G59: =IFERROR(VLOOKUP(E:E,DONNEES!A18:C38,2,FALSE),"") | H59: =IFERROR(VLOOKUP(E:E,DONNEES!A18:C38,3,FALSE),"") | J59: =IFERROR(VLOOKUP(E:E,DONNEES!A18:I38,4,FALSE),"")
A60: 43697 | D60: =IF(OR(B60="",C60=""),"",MOD(C60-B60,1)) | G60: =IFERROR(VLOOKUP(E:E,DONNEES!A18:C38,2,FALSE),"") | H60: =IFERROR(VLOOKUP(E:E,DONNEES!A18:C38,3,FALSE),"") | J60: =IFERROR(VLOOKUP(E:E,DONNEES!A18:C38,4,FALSE),"")
A61: 43698 | D61: =IF(OR(B61="",C61=""),"",MOD(C61-B61,1)) | G61: =IFERROR(VLOOKUP(E:E,DONNEES!A22:C42,2,FALSE),"") | H61: =IFERROR(VLOOKUP(E:E,DONNEES!A22:C42,3,FALSE),"") | J61: =IFERROR(VLOOKUP(E:E,DONNEES!A22:I42,4,FALSE),"")
A62: 43699 | D62: =IF(OR(B62="",C62=""),"",MOD(C62-B62,1)) | G62: =IFERROR(VLOOKUP(E:E,DONNEES!A22:C42,2,FALSE),"") | H62: =IFERROR(VLOOKUP(E:E,DONNEES!A22:C42,3,FALSE),"") | J62: =IFERROR(VLOOKUP(E:E,DONNEES!A22:I42,4,FALSE),"")
A63: 43700 | D63: =IF(OR(B63="",C63=""),"",MOD(C63-B63,1)) | G63: =IFERROR(VLOOKUP(E:E,DONNEES!A22:C42,2,FALSE),"") | H63: =IFERROR(VLOOKUP(E:E,DONNEES!A22:C42,3,FALSE),"") | J63: =IFERROR(VLOOKUP(E:E,DONNEES!A22:I42,4,FALSE),"")
A64: 43701 | D64: =IF(OR(B64="",C64=""),"",MOD(C64-B64,1)) | G64: =IFERROR(VLOOKUP(E:E,DONNEES!A22:C42,2,FALSE),"") | H64: =IFERROR(VLOOKUP(E:E,DONNEES!A22:C42,3,FALSE),"") | J64: =IFERROR(VLOOKUP(E:E,DONNEES!A22:C42,4,FALSE),"")
A65: 43702 | D65: =IF(OR(B65="",C65=""),"",MOD(C65-B65,1)) | G65: =IFERROR(VLOOKUP(E:E,DONNEES!A26:C46,2,FALSE),"") | H65: =IFERROR(VLOOKUP(E:E,DONNEES!A26:C46,3,FALSE),"") | J65: =IFERROR(VLOOKUP(E:E,DONNEES!A26:I46,4,FALSE),"")
A66: 43703 | D66: =IF(OR(B66="",C66=""),"",MOD(C66-B66,1)) | G66: =IFERROR(VLOOKUP(E:E,DONNEES!A26:C46,2,FALSE),"") | H66: =IFERROR(VLOOKUP(E:E,DONNEES!A26:C46,3,FALSE),"") | J66: =IFERROR(VLOOKUP(E:E,DONNEES!A26:I46,4,FALSE),"")
A67: 43704 | D67: =IF(OR(B67="",C67=""),"",MOD(C67-B67,1)) | G67: =IFERROR(VLOOKUP(E:E,DONNEES!A26:C46,2,FALSE),"") | H67: =IFERROR(VLOOKUP(E:E,DONNEES!A26:C46,3,FALSE),"") | J67: =IFERROR(VLOOKUP(E:E,DONNEES!A26:I46,4,FALSE),"")
A68: 43705 | D68: =IF(OR(B68="",C68=""),"",MOD(C68-B68,1)) | G68: =IFERROR(VLOOKUP(E:E,DONNEES!A26:C46,2,FALSE),"") | H68: =IFERROR(VLOOKUP(E:E,DONNEES!A26:C46,3,FALSE),"") | J68: =IFERROR(VLOOKUP(E:E,DONNEES!A26:C46,4,FALSE),"")
A69: 43706 | D69: =IF(OR(B69="",C69=""),"",MOD(C69-B69,1)) | G69: =IFERROR(VLOOKUP(E:E,DONNEES!A30:C50,2,FALSE),"") | H69: =IFERROR(VLOOKUP(E:E,DONNEES!A30:C50,3,FALSE),"") | J69: =IFERROR(VLOOKUP(E:E,DONNEES!A30:I50,4,FALSE),"")
A70: 43707 | D70: =IF(OR(B70="",C70=""),"",MOD(C70-B70,1)) | G70: =IFERROR(VLOOKUP(E:E,DONNEES!A30:C50,2,FALSE),"") | H70: =IFERROR(VLOOKUP(E:E,DONNEES!A30:C50,3,FALSE),"") | J70: =IFERROR(VLOOKUP(E:E,DONNEES!A30:I50,4,FALSE),"")
A71: 43708 | D71: =IF(OR(B71="",C71=""),"",MOD(C71-B71,1)) | G71: =IFERROR(VLOOKUP(E:E,DONNEES!A30:C50,2,FALSE),"") | H71: =IFERROR(VLOOKUP(E:E,DONNEES!A30:C50,3,FALSE),"") | J71: =IFERROR(VLOOKUP(E:E,DONNEES!A30:I50,4,FALSE),"")
A72: Total Km Juin: | D72: =SUM(D41:D71) -> 0 | J72: =SUM(J41:J71) -> 0
A73: 43709 | D73: =IF(OR(B73="",C73=""),"",MOD(C73-B73,1)) | G73: =IFERROR(VLOOKUP(E:E,DONNEES!A34:C54,2,FALSE),"") | H73: =IFERROR(VLOOKUP(E:E,DONNEES!A34:C54,3,FALSE),"") | J73: =IFERROR(VLOOKUP(E:E,DONNEES!A34:I54,4,FALSE),"")
A74: 43710 | D74: =IF(OR(B74="",C74=""),"",MOD(C74-B74,1)) | G74: =IFERROR(VLOOKUP(E:E,DONNEES!A34:C54,2,FALSE),"") | H74: =IFERROR(VLOOKUP(E:E,DONNEES!A34:C54,3,FALSE),"") | J74: =IFERROR(VLOOKUP(E:E,DONNEES!A34:I54,4,FALSE),"")
A75: 43711 | D75: =IF(OR(B75="",C75=""),"",MOD(C75-B75,1)) | G75: =IFERROR(VLOOKUP(E:E,DONNEES!A34:C54,2,FALSE),"") | H75: =IFERROR(VLOOKUP(E:E,DONNEES!A34:C54,3,FALSE),"") | J75: =IFERROR(VLOOKUP(E:E,DONNEES!A34:I54,4,FALSE),"")
A76: 43712 | D76: =IF(OR(B76="",C76=""),"",MOD(C76-B76,1)) | G76: =IFERROR(VLOOKUP(E:E,DONNEES!A34:C54,2,FALSE),"") | H76: =IFERROR(VLOOKUP(E:E,DONNEES!A34:C54,3,FALSE),"") | J76: =IFERROR(VLOOKUP(E:E,DONNEES!A34:C54,4,FALSE),"")
A77: 43713 | D77: =IF(OR(B77="",C77=""),"",MOD(C77-B77,1)) | G77: =IFERROR(VLOOKUP(E:E,DONNEES!A38:C58,2,FALSE),"") | H77: =IFERROR(VLOOKUP(E:E,DONNEES!A38:C58,3,FALSE),"") | J77: =IFERROR(VLOOKUP(E:E,DONNEES!A38:I58,4,FALSE),"")
A78: 43714 | D78: =IF(OR(B78="",C78=""),"",MOD(C78-B78,1)) | G78: =IFERROR(VLOOKUP(E:E,DONNEES!A38:C58,2,FALSE),"") | H78: =IFERROR(VLOOKUP(E:E,DONNEES!A38:C58,3,FALSE),"") | J78: =IFERROR(VLOOKUP(E:E,DONNEES!A38:I58,4,FALSE),"")
A79: 43715 | D79: =IF(OR(B79="",C79=""),"",MOD(C79-B79,1)) | G79: =IFERROR(VLOOKUP(E:E,DONNEES!A38:C58,2,FALSE),"") | H79: =IFERROR(VLOOKUP(E:E,DONNEES!A38:C58,3,FALSE),"") | J79: =IFERROR(VLOOKUP(E:E,DONNEES!A38:I58,4,FALSE),"")
A80: 43716 | D80: =IF(OR(B80="",C80=""),"",MOD(C80-B80,1)) | G80: =IFERROR(VLOOKUP(E:E,DONNEES!A38:C58,2,FALSE),"") | H80: =IFERROR(VLOOKUP(E:E,DONNEES!A38:C58,3,FALSE),"") | J80: =IFERROR(VLOOKUP(E:E,DONNEES!A38:C58,4,FALSE),"")
A81: 43717 | D81: =IF(OR(B81="",C81=""),"",MOD(C81-B81,1)) | G81: =IFERROR(VLOOKUP(E:E,DONNEES!A42:C62,2,FALSE),"") | H81: =IFERROR(VLOOKUP(E:E,DONNEES!A42:C62,3,FALSE),"") | J81: =IFERROR(VLOOKUP(E:E,DONNEES!A42:I62,4,FALSE),"")
A82: 43718 | D82: =IF(OR(B82="",C82=""),"",MOD(C82-B82,1)) | G82: =IFERROR(VLOOKUP(E:E,DONNEES!A42:C62,2,FALSE),"") | H82: =IFERROR(VLOOKUP(E:E,DONNEES!A42:C62,3,FALSE),"") | J82: =IFERROR(VLOOKUP(E:E,DONNEES!A42:I62,4,FALSE),"")
A83: 43719 | D83: =IF(OR(B83="",C83=""),"",MOD(C83-B83,1)) | G83: =IFERROR(VLOOKUP(E:E,DONNEES!A42:C62,2,FALSE),"") | H83: =IFERROR(VLOOKUP(E:E,DONNEES!A42:C62,3,FALSE),"") | J83: =IFERROR(VLOOKUP(E:E,DONNEES!A42:I62,4,FALSE),"")
A84: 43720 | D84: =IF(OR(B84="",C84=""),"",MOD(C84-B84,1)) | G84: =IFERROR(VLOOKUP(E:E,DONNEES!A42:C62,2,FALSE),"") | H84: =IFERROR(VLOOKUP(E:E,DONNEES!A42:C62,3,FALSE),"") | J84: =IFERROR(VLOOKUP(E:E,DONNEES!A42:C62,4,FALSE),"")
A85: 43721 | D85: =IF(OR(B85="",C85=""),"",MOD(C85-B85,1)) | G85: =IFERROR(VLOOKUP(E:E,DONNEES!A46:C66,2,FALSE),"") | H85: =IFERROR(VLOOKUP(E:E,DONNEES!A46:C66,3,FALSE),"") | J85: =IFERROR(VLOOKUP(E:E,DONNEES!A46:I66,4,FALSE),"")
A86: 43722 | D86: =IF(OR(B86="",C86=""),"",MOD(C86-B86,1)) | G86: =IFERROR(VLOOKUP(E:E,DONNEES!A46:C66,2,FALSE),"") | H86: =IFERROR(VLOOKUP(E:E,DONNEES!A46:C66,3,FALSE),"") | J86: =IFERROR(VLOOKUP(E:E,DONNEES!A46:I66,4,FALSE),"")
A87: 43723 | D87: =IF(OR(B87="",C87=""),"",MOD(C87-B87,1)) | G87: =IFERROR(VLOOKUP(E:E,DONNEES!A46:C66,2,FALSE),"") | H87: =IFERROR(VLOOKUP(E:E,DONNEES!A46:C66,3,FALSE),"") | J87: =IFERROR(VLOOKUP(E:E,DONNEES!A46:I66,4,FALSE),"")
A88: 43724 | D88: =IF(OR(B88="",C88=""),"",MOD(C88-B88,1)) | G88: =IFERROR(VLOOKUP(E:E,DONNEES!A46:C66,2,FALSE),"") | H88: =IFERROR(VLOOKUP(E:E,DONNEES!A46:C66,3,FALSE),"") | J88: =IFERROR(VLOOKUP(E:E,DONNEES!A46:C66,4,FALSE),"")
A89: 43725 | D89: =IF(OR(B89="",C89=""),"",MOD(C89-B89,1)) | G89: =IFERROR(VLOOKUP(E:E,DONNEES!A50:C70,2,FALSE),"") | H89: =IFERROR(VLOOKUP(E:E,DONNEES!A50:C70,3,FALSE),"") | J89: =IFERROR(VLOOKUP(E:E,DONNEES!A50:I70,4,FALSE),"")
A90: 43726 | D90: =IF(OR(B90="",C90=""),"",MOD(C90-B90,1)) | G90: =IFERROR(VLOOKUP(E:E,DONNEES!A50:C70,2,FALSE),"") | H90: =IFERROR(VLOOKUP(E:E,DONNEES!A50:C70,3,FALSE),"") | J90: =IFERROR(VLOOKUP(E:E,DONNEES!A50:I70,4,FALSE),"")
A91: 43727 | D91: =IF(OR(B91="",C91=""),"",MOD(C91-B91,1)) | G91: =IFERROR(VLOOKUP(E:E,DONNEES!A50:C70,2,FALSE),"") | H91: =IFERROR(VLOOKUP(E:E,DONNEES!A50:C70,3,FALSE),"") | J91: =IFERROR(VLOOKUP(E:E,DONNEES!A50:I70,4,FALSE),"")
A92: 43728 | D92: =IF(OR(B92="",C92=""),"",MOD(C92-B92,1)) | G92: =IFERROR(VLOOKUP(E:E,DONNEES!A50:C70,2,FALSE),"") | H92: =IFERROR(VLOOKUP(E:E,DONNEES!A50:C70,3,FALSE),"") | J92: =IFERROR(VLOOKUP(E:E,DONNEES!A50:C70,4,FALSE),"")
A93: 43729 | D93: =IF(OR(B93="",C93=""),"",MOD(C93-B93,1)) | G93: =IFERROR(VLOOKUP(E:E,DONNEES!A54:C74,2,FALSE),"") | H93: =IFERROR(VLOOKUP(E:E,DONNEES!A54:C74,3,FALSE),"") | J93: =IFERROR(VLOOKUP(E:E,DONNEES!A54:I74,4,FALSE),"")
A94: 43730 | D94: =IF(OR(B94="",C94=""),"",MOD(C94-B94,1)) | G94: =IFERROR(VLOOKUP(E:E,DONNEES!A54:C74,2,FALSE),"") | H94: =IFERROR(VLOOKUP(E:E,DONNEES!A54:C74,3,FALSE),"") | J94: =IFERROR(VLOOKUP(E:E,DONNEES!A54:I74,4,FALSE),"")
A95: 43731 | D95: =IF(OR(B95="",C95=""),"",MOD(C95-B95,1)) | G95: =IFERROR(VLOOKUP(E:E,DONNEES!A54:C74,2,FALSE),"") | H95: =IFERROR(VLOOKUP(E:E,DONNEES!A54:C74,3,FALSE),"") | J95: =IFERROR(VLOOKUP(E:E,DONNEES!A54:I74,4,FALSE),"")
A96: 43732 | D96: =IF(OR(B96="",C96=""),"",MOD(C96-B96,1)) | G96: =IFERROR(VLOOKUP(E:E,DONNEES!A54:C74,2,FALSE),"") | H96: =IFERROR(VLOOKUP(E:E,DONNEES!A54:C74,3,FALSE),"") | J96: =IFERROR(VLOOKUP(E:E,DONNEES!A54:C74,4,FALSE),"")
A97: 43733 | D97: =IF(OR(B97="",C97=""),"",MOD(C97-B97,1)) | G97: =IFERROR(VLOOKUP(E:E,DONNEES!A58:C78,2,FALSE),"") | H97: =IFERROR(VLOOKUP(E:E,DONNEES!A58:C78,3,FALSE),"") | J97: =IFERROR(VLOOKUP(E:E,DONNEES!A58:I78,4,FALSE),"")
A98: 43734 | D98: =IF(OR(B98="",C98=""),"",MOD(C98-B98,1)) | G98: =IFERROR(VLOOKUP(E:E,DONNEES!A58:C78,2,FALSE),"") | H98: =IFERROR(VLOOKUP(E:E,DONNEES!A58:C78,3,FALSE),"") | J98: =IFERROR(VLOOKUP(E:E,DONNEES!A58:I78,4,FALSE),"")
A99: 43735 | D99: =IF(OR(B99="",C99=""),"",MOD(C99-B99,1)) | G99: =IFERROR(VLOOKUP(E:E,DONNEES!A58:C78,2,FALSE),"") | H99: =IFERROR(VLOOKUP(E:E,DONNEES!A58:C78,3,FALSE),"") | J99: =IFERROR(VLOOKUP(E:E,DONNEES!A58:I78,4,FALSE),"")
A100: 43736 | D100: =IF(OR(B100="",C100=""),"",MOD(C100-B100,1)) | G100: =IFERROR(VLOOKUP(E:E,DONNEES!A58:C78,2,FALSE),"") | H100: =IFERROR(VLOOKUP(E:E,DONNEES!A58:C78,3,FALSE),"") | J100: =IFERROR(VLOOKUP(E:E,DONNEES!A58:C78,4,FALSE),"")
...

Sheet DONNEES
A1: Poste | B1: Client | C1: Adresse | G1: Durée | H1: HEUREF | I1: Km | J1: Fonction | K1: HEURE1 | L1: HEURE2 | M1: FiBo/112358132134
A2: Brel | B2: Stib | C2: Rue Nicolas Doyen 1, 1070 Anderlecht | D2: 130 | G2: 1 | H2: 0.25 | J2: ST | K2: 0.25 | L2: 0.25
A3: Delta | B3: Stib | C3: Rue Jules Cockx 1, 1160 Bruxelles | D3: 102 | G3: 3 | H3: 0.29166667 | J3: BM | K3: 0.29166667 | L3: 0.29166667
A4: Asse | B4: G4S | C4: Poverstraat 75/B44 , 1731 ASSE | D4: 124 | G4: 4 | H4: 0.33333333 | J4: MC | K4: 0.33333333 | L4: 0.33333333
A5: Merchtem | B5: G4S | C5: Bogaerdstraat 13 , 1785 MERCHTEM | D5: 129 | G5: 8 | H5: 0.375 | J5: T | K5: 0.41666667 | L5: 0.41666667
A6: Wolué | B6: Stib | C6: Avenue Edmond Galopin 1150, Woluwé St-Pierre | D6: 102 | G6: 9 | H6: 0.41666667 | K6: 0.64583333 | L6: 0.64583333
A7: Haren | B7: Stib | C7: Houtweg 99 1130 Bruxelles | D7: 113 | G7: 10 | H7: 0.5 | K7: 0.6875 | L7: 0.6875
G8: 11 | H8: 0.625 | K8: 0.91666667 | L8: 0.91666667
G9: 12 | H9: 0.66666667
H10: 0.91666667
H11: 0.83333333
C21: #SI(OU(B9="";C9="");"";MOD(C9-B9;1)) | D21: Formule pour le calcule des heures
C22: #SIERREUR(INDEX(Planning!$F$2:$F$197;EQUIV(D31;Planning!$A$2:$A$197;0));"-") | G22: Formule pour remplir le calendrier
