Workbook

Sheet Feuil1
A1: N° Bon de Livraison | B1: BL00331 | C1: BL00332 | D1: BL00333 | E1: BL00334 | F1: BL00335
A2: Nom client | B2: SOCIETE CAROLIN | C2: SOCIETE PATRONUS | D2: SOCIETE ALAIRLIBR | E2: SOCIETE MARSDONTATTACK | F2: SOCIETE MUSIKDESW
A3: Nom demandeur | B3: Jean Duchemin | C3: Clark Kent | D3: Hector Village | E3: Blaise Pascal | F3: Madame Bovary
A4: Date de Livraison | B4: 43668 | C4: 43670 | D4: 43673 | E4: 43675 | F4: 43676
A5: Date de commande | B5: 43658 | C5: 43664 | D5: 43666 | E5: 43667 | F5: 43668
A6: Code Plaisir | B6: CH15655-0032811 | C6: CH15655-0032812 | D6: DR00197-0033090 | E6: DR00197-0033044 | F6: DR00197-0033134
A7: N° Commande | B7: PO0084919001305 | C7: PO0084919001333 | D7: PO0084919001334 | E7: PO0084919001356 | F7: PO0084919001322
A8: Lieu de Livraison | B8: CAROLIN FC | C8: PATRONUS CED | D8: ALTAIRMETRO | E8: GRANDESASA | F8: ELLEMAOUBLIE

Sheet Feuil2
A1: Entité | B1: Code PLAISIR | C1: Nom EVENEMENT | D1: Date commande | E1: N° commande | F1: Date de livraison : | G1: N° bon BL | H1: N° Bon BL2
A2: =IF($H$2=Feuil1!$B$1,Feuil1!B2,"") -> SOCIETE CAROLIN | B2: =IF($H$2=Feuil1!$B$1,Feuil1!B6,"") -> CH15655-0032811 | C2: =IF(VLOOKUP(B2,Feuil3!$A$1:$B$70,2,0)=0,"",VLOOKUP(B2,Feuil3!$A$1:$B$70,2,0)) -> SUPERNOOB7 | D2: =IF($H$2=Feuil1!$B$1,Feuil1!B5,"") -> 43658 | E2: =IF($H$2=Feuil1!$B$1,Feuil1!B6,"") -> CH15655-0032811 | F2: =IF($H$2=Feuil1!$B$1,Feuil1!B4,"") -> 43668 | G2: 331 | H2: =REPLACE(G2,1,0,"BL00") -> BL00331
A3: =IF($H$2=Feuil1!$B$1,Feuil1!B3,"") -> Jean Duchemin | B3: =IF($H$2=Feuil1!$B$1,Feuil1!B7,"") -> PO0084919001305 | C3: =IF(VLOOKUP(B3,Feuil3!$A$1:$B$70,2,0)=0,"",VLOOKUP(B3,Feuil3!$A$1:$B$70,2,0)) -> #N/A | D3: =IF($H$2=Feuil1!$B$1,Feuil1!B6,"") -> CH15655-0032811 | E3: =IF($H$2=Feuil1!$B$1,Feuil1!B7,"") -> PO0084919001305 | F3: =IF($H$2=Feuil1!$B$1,Feuil1!B5,"") -> 43658 | G3: 332 | H3: =REPLACE(G3,1,0,"BL00") -> BL00332
A4: =IF($H$2=Feuil1!$B$1,Feuil1!B4,"") -> 43668 | B4: =IF($H$2=Feuil1!$B$1,Feuil1!B8,"") -> CAROLIN FC | C4: =IF(VLOOKUP(B4,Feuil3!$A$1:$B$70,2,0)=0,"",VLOOKUP(B4,Feuil3!$A$1:$B$70,2,0)) -> #N/A | D4: =IF($H$2=Feuil1!$B$1,Feuil1!B7,"") -> PO0084919001305 | E4: =IF($H$2=Feuil1!$B$1,Feuil1!B8,"") -> CAROLIN FC | F4: =IF($H$2=Feuil1!$B$1,Feuil1!B6,"") -> CH15655-0032811 | G4: 333 | H4: =REPLACE(G4,1,0,"BL00") -> BL00333
G5: 334 | H5: =REPLACE(G5,1,0,"BL00") -> BL00334
G6: 335 | H6: =REPLACE(G6,1,0,"BL00") -> BL00335
G7: 336 | H7: =REPLACE(G7,1,0,"BL00") -> BL00336
G8: 337 | H8: =REPLACE(G8,1,0,"BL00") -> BL00337
G9: 338 | H9: =REPLACE(G9,1,0,"BL00") -> BL00338

Sheet Feuil3
A1: CP00436-0032449 | B1: SUPERNOOB1
A2: CH15696-0032697 | B2: SUPERNOOB2
A3: MA00188-0032859 | B3: SUPERNOOB3
A4: CH15495-0032375 | B4: SUPERNOOB4
A5: CH15655-0032812 | B5: SUPERNOOB5
A6: CH15655-0032810 | B6: SUPERNOOB6
A7: CH15655-0032811 | B7: SUPERNOOB7
A8: CH15697-0032700 | B8: SUPERNOOB8
A9: CH15655-0032815 | B9: SUPERNOOB9
A10: CH21085-0044836 | B10: SUPERNOOB10
A11: CP00447-0033290 | B11: SUPERNOOB11
A12: CH15673-0032665 | B12: SUPERNOOB12
... A61: Frais généraux | B61: Frais généraux
