Workbook
Name CHA: [1]Feuil1!$G$7
Name COR: [1]Feuil1!$B$7
Name ESP: [1]Feuil1!$E$7
Name HAB: [1]Feuil1!$C$7
Name PER: [1]Feuil1!$D$7
Name POU: [1]Feuil1!$F$7

Sheet Feuil3
B1: G | C1: B | D1: C | E1: D | F1: E | G1: F | H1: Somme | I1: A dépenser | K1: Total
A2: 1 | B2: =$I2*debug!B2/SUM(debug!$B2:'debug'!$G2) -> 7.6170404 | C2: =$I2*debug!C2/SUM(debug!$B2:'debug'!$G2) -> 7.2160309 | D2: =$I2*debug!D2/SUM(debug!$B2:'debug'!$G2) -> 3.9512147 | E2: =$I2*debug!E2/SUM(debug!$B2:'debug'!$G2) -> 10.934821 | F2: =$I2*debug!F2/SUM(debug!$B2:'debug'!$G2) -> 4.8788822 | G2: =$I2*debug!G2/SUM(debug!$B2:'debug'!$G2) -> 8.4020104 | H2: =SUM(B2:G2) -> 43 | I2: =$K$2 -> 43 | J2: Montant | K2: =debug!L12+15 -> 43
A3: 2 | B3: =$I3*debug!B3/SUM(debug!$B3:'debug'!$G3) -> 0.92866564 | C3: =$I3*debug!C3/SUM(debug!$B3:'debug'!$G3) -> 14.396732 | D3: =$I3*debug!D3/SUM(debug!$B3:'debug'!$G3) -> 3.8993842 | E3: =$I3*debug!E3/SUM(debug!$B3:'debug'!$G3) -> 2.3862222 | F3: =$I3*debug!F3/SUM(debug!$B3:'debug'!$G3) -> 12.376586 | G3: =$I3*debug!G3/SUM(debug!$B3:'debug'!$G3) -> 7.0124101 | H3: =SUM(B3:G3) -> 41 | I3: =$K$2-2 -> 41
A4: 3 | B4: =$I4*debug!B4/SUM(debug!$B4:'debug'!$G4) -> 3.9617281 | C4: =$I4*debug!C4/SUM(debug!$B4:'debug'!$G4) -> 2.6830028 | D4: =$I4*debug!D4/SUM(debug!$B4:'debug'!$G4) -> 8.4039539 | E4: =$I4*debug!E4/SUM(debug!$B4:'debug'!$G4) -> 8.8857364 | F4: =$I4*debug!F4/SUM(debug!$B4:'debug'!$G4) -> 10.037952 | G4: =$I4*debug!G4/SUM(debug!$B4:'debug'!$G4) -> 7.0276269 | H4: =SUM(B4:G4) -> 41 | I4: =$K$2-2 -> 41
A5: 4 | B5: =$I5*debug!B5/SUM(debug!$B5:'debug'!$G5) -> 13.479865 | C5: =$I5*debug!C5/SUM(debug!$B5:'debug'!$G5) -> 2.1595813 | D5: =$I5*debug!D5/SUM(debug!$B5:'debug'!$G5) -> 6.5790526 | E5: =$I5*debug!E5/SUM(debug!$B5:'debug'!$G5) -> 0.80967464 | F5: =$I5*debug!F5/SUM(debug!$B5:'debug'!$G5) -> 10.488865 | G5: =$I5*debug!G5/SUM(debug!$B5:'debug'!$G5) -> 7.482962 | H5: =SUM(B5:G5) -> 41 | I5: =$K$2-2 -> 41
A6: 5 | B6: =$I6*debug!B6/SUM(debug!$B6:'debug'!$G6) -> 18.853864 | C6: =$I6*debug!C6/SUM(debug!$B6:'debug'!$G6) -> 7.9248349 | D6: =$I6*debug!D6/SUM(debug!$B6:'debug'!$G6) -> 6.4059283 | E6: =$I6*debug!E6/SUM(debug!$B6:'debug'!$G6) -> 4.0111238 | F6: =$I6*debug!F6/SUM(debug!$B6:'debug'!$G6) -> 1.65303 | G6: =$I6*debug!G6/SUM(debug!$B6:'debug'!$G6) -> 2.1512185 | H6: =SUM(B6:G6) -> 41 | I6: =$K$2-2 -> 41
A7: 6 | B7: =$I7*debug!B7/SUM(debug!$B7:'debug'!$G7) -> 4.4421407 | C7: =$I7*debug!C7/SUM(debug!$B7:'debug'!$G7) -> 7.11405 | D7: =$I7*debug!D7/SUM(debug!$B7:'debug'!$G7) -> 4.346322 | E7: =$I7*debug!E7/SUM(debug!$B7:'debug'!$G7) -> 19.978668 | F7: =$I7*debug!F7/SUM(debug!$B7:'debug'!$G7) -> 2.7818452 | G7: =$I7*debug!G7/SUM(debug!$B7:'debug'!$G7) -> 2.3369744 | H7: =SUM(B7:G7) -> 41 | I7: =$K$2-2 -> 41
A8: 7 | B8: =$I8*debug!B8/SUM(debug!$B8:'debug'!$G8) -> 14.089651 | C8: =$I8*debug!C8/SUM(debug!$B8:'debug'!$G8) -> 1.3086423 | D8: =$I8*debug!D8/SUM(debug!$B8:'debug'!$G8) -> 4.5063311 | E8: =$I8*debug!E8/SUM(debug!$B8:'debug'!$G8) -> 10.664876 | F8: =$I8*debug!F8/SUM(debug!$B8:'debug'!$G8) -> 4.1822115 | G8: =$I8*debug!G8/SUM(debug!$B8:'debug'!$G8) -> 6.2482885 | H8: =SUM(B8:G8) -> 41 | I8: =$K$2-2 -> 41
A9: 8 | B9: =$I9*debug!B9/SUM(debug!$B9:'debug'!$G9) -> 2.3329375 | C9: =$I9*debug!C9/SUM(debug!$B9:'debug'!$G9) -> 8.7702526 | D9: =$I9*debug!D9/SUM(debug!$B9:'debug'!$G9) -> 11.294821 | E9: =$I9*debug!E9/SUM(debug!$B9:'debug'!$G9) -> 5.2926011 | F9: =$I9*debug!F9/SUM(debug!$B9:'debug'!$G9) -> 2.148145 | G9: =$I9*debug!G9/SUM(debug!$B9:'debug'!$G9) -> 11.161242 | H9: =SUM(B9:G9) -> 41 | I9: =$K$2-2 -> 41
A10: 9 | B10: =$I10*debug!B10/SUM(debug!$B10:'debug'!$G10) -> 4.3178903 | C10: =$I10*debug!C10/SUM(debug!$B10:'debug'!$G10) -> 14.678969 | D10: =$I10*debug!D10/SUM(debug!$B10:'debug'!$G10) -> 2.589344 | E10: =$I10*debug!E10/SUM(debug!$B10:'debug'!$G10) -> 3.5180423 | F10: =$I10*debug!F10/SUM(debug!$B10:'debug'!$G10) -> 0.37218929 | G10: =$I10*debug!G10/SUM(debug!$B10:'debug'!$G10) -> 15.523565 | H10: =SUM(B10:G10) -> 41 | I10: =$K$2-2 -> 41
A11: 10 | B11: =$I11*debug!B11/SUM(debug!$B11:'debug'!$G11) -> 0.1669878 | C11: =$I11*debug!C11/SUM(debug!$B11:'debug'!$G11) -> 11.887148 | D11: =$I11*debug!D11/SUM(debug!$B11:'debug'!$G11) -> 7.8520813 | E11: =$I11*debug!E11/SUM(debug!$B11:'debug'!$G11) -> 3.911417 | F11: =$I11*debug!F11/SUM(debug!$B11:'debug'!$G11) -> 10.429072 | G11: =$I11*debug!G11/SUM(debug!$B11:'debug'!$G11) -> 6.753294 | H11: =SUM(B11:G11) -> 41 | I11: =$K$2-2 -> 41
A12: 11 | B12: =$I12*debug!B12/SUM(debug!$B12:'debug'!$G12) -> 13.307535 | C12: =$I12*debug!C12/SUM(debug!$B12:'debug'!$G12) -> 14.907427 | D12: =$I12*debug!D12/SUM(debug!$B12:'debug'!$G12) -> 3.9820355 | E12: =$I12*debug!E12/SUM(debug!$B12:'debug'!$G12) -> 2.1422143 | F12: =$I12*debug!F12/SUM(debug!$B12:'debug'!$G12) -> 4.5313331 | G12: =$I12*debug!G12/SUM(debug!$B12:'debug'!$G12) -> 2.1294559 | H12: =SUM(B12:G12) -> 41 | I12: =$K$2-2 -> 41
A13: 12 | B13: =$I13*debug!B13/SUM(debug!$B13:'debug'!$G13) -> 3.5706319 | C13: =$I13*debug!C13/SUM(debug!$B13:'debug'!$G13) -> 9.2135008 | D13: =$I13*debug!D13/SUM(debug!$B13:'debug'!$G13) -> 6.9411281 | E13: =$I13*debug!E13/SUM(debug!$B13:'debug'!$G13) -> 1.6600684 | F13: =$I13*debug!F13/SUM(debug!$B13:'debug'!$G13) -> 2.5705256 | G13: =$I13*debug!G13/SUM(debug!$B13:'debug'!$G13) -> 17.044145 | H13: =SUM(B13:G13) -> 41 | I13: =$K$2-2 -> 41
A14: 13 | B14: =$I14*debug!B14/SUM(debug!$B14:'debug'!$G14) -> 4.9231773 | C14: =$I14*debug!C14/SUM(debug!$B14:'debug'!$G14) -> 10.454735 | D14: =$I14*debug!D14/SUM(debug!$B14:'debug'!$G14) -> 8.8573169 | E14: =$I14*debug!E14/SUM(debug!$B14:'debug'!$G14) -> 0.90774959 | F14: =$I14*debug!F14/SUM(debug!$B14:'debug'!$G14) -> 10.552789 | G14: =$I14*debug!G14/SUM(debug!$B14:'debug'!$G14) -> 5.3042322 | H14: =SUM(B14:G14) -> 41 | I14: =$K$2-2 -> 41
... A34: 33 | B34: =$I34*debug!B34/SUM(debug!$B34:'debug'!$G34) -> 2.2938474 | C34: =$I34*debug!C34/SUM(debug!$B34:'debug'!$G34) -> 1.0501104 | D34: =$I34*debug!D34/SUM(debug!$B34:'debug'!$G34) -> 0.73400629 | E34: =$I34*debug!E34/SUM(debug!$B34:'debug'!$G34) -> 16.088107 | F34: =$I34*debug!F34/SUM(debug!$B34:'debug'!$G34) -> 10.134943 | G34: =$I34*debug!G34/SUM(debug!$B34:'debug'!$G34) -> 10.698985 | H34: =SUM(B34:G34) -> 41 | I34: =$K$2-2 -> 41

Sheet debug
A2: 1 | B2: =RAND() -> 0.64144963 | C2: =RAND() -> 0.60767963 | D2: =RAND() -> 0.33274147 | E2: =RAND() -> 0.92084809 | F2: =RAND() -> 0.41086262 | G2: =RAND() -> 0.70755387 | K2: =RANDBETWEEN(1,10) -> 7 | M2: =SMALL(K$2:K$7,2) -> 3
A3: 2 | B3: =RAND() -> 0.052911778 | C3: =RAND() -> 0.82027015 | D3: =RAND() -> 0.22217184 | E3: =RAND() -> 0.13595772 | F3: =RAND() -> 0.70517 | G3: =RAND() -> 0.39954002 | K3: =RANDBETWEEN(1,10) -> 3 | M3: =SMALL(K$2:K$7,1) -> 2
A4: 3 | B4: =RAND() -> 0.23902078 | C4: =RAND() -> 0.16187215 | D4: =RAND() -> 0.50703117 | E4: =RAND() -> 0.53609829 | F4: =RAND() -> 0.60561428 | G4: =RAND() -> 0.42399398 | K4: =RANDBETWEEN(1,10) -> 7
A5: 4 | B5: =RAND() -> 0.9038618 | C5: =RAND() -> 0.14480583 | D5: =RAND() -> 0.44114347 | E5: =RAND() -> 0.054290899 | F5: =RAND() -> 0.70330706 | G5: =RAND() -> 0.50175307 | K5: =RANDBETWEEN(1,10) -> 9
A6: 5 | B6: =RAND() -> 0.78410031 | C6: =RAND() -> 0.32958047 | D6: =RAND() -> 0.26641171 | E6: =RAND() -> 0.16681585 | F6: =RAND() -> 0.068746719 | G6: =RAND() -> 0.089465538 | K6: =RANDBETWEEN(1,10) -> 2
A7: 6 | B7: =RAND() -> 0.18519306 | C7: =RAND() -> 0.29658509 | D7: =RAND() -> 0.18119838 | E7: =RAND() -> 0.83291163 | F7: =RAND() -> 0.11597526 | G7: =RAND() -> 0.097428578 | K7: =RANDBETWEEN(1,10) -> 5
A8: 7 | B8: =RAND() -> 0.54903791 | C8: =RAND() -> 0.050994469 | D8: =RAND() -> 0.17560028 | E8: =RAND() -> 0.41558314 | F8: =RAND() -> 0.16297016 | G8: =RAND() -> 0.24347994 | K8: =SUM(K2:K7) -> 33 | M8: =SUM(M2:M3) -> 5
A9: 8 | B9: =RAND() -> 0.11508984 | C9: =RAND() -> 0.43265925 | D9: =RAND() -> 0.55720275 | E9: =RAND() -> 0.2610977 | F9: =RAND() -> 0.10597355 | G9: =RAND() -> 0.55061296
A10: 9 | B10: =RAND() -> 0.26316204 | C10: =RAND() -> 0.89463768 | D10: =RAND() -> 0.1578125 | E10: =RAND() -> 0.21441378 | F10: =RAND() -> 0.022683784 | G10: =RAND() -> 0.94611321
A11: 10 | B11: =RAND() -> 0.011442162 | C11: =RAND() -> 0.81451863 | D11: =RAND() -> 0.53803204 | E11: =RAND() -> 0.268014 | F11: =RAND() -> 0.71460988 | G11: =RAND() -> 0.46274209
A12: 11 | B12: =RAND() -> 0.67219137 | C12: =RAND() -> 0.75300526 | D12: =RAND() -> 0.20114093 | E12: =RAND() -> 0.10820772 | F12: =RAND() -> 0.2288871 | G12: =RAND() -> 0.10756327 | L12: =K8-M8 -> 28
A13: 12 | B13: =RAND() -> 0.20238736 | C13: =RAND() -> 0.52223139 | D13: =RAND() -> 0.3934308 | E13: =RAND() -> 0.09409451 | F13: =RAND() -> 0.14570023 | G13: =RAND() -> 0.96608096
A14: 13 | B14: =RAND() -> 0.4527023 | C14: =RAND() -> 0.96134721 | D14: =RAND() -> 0.81445933 | E14: =RAND() -> 0.083470552 | F14: =RAND() -> 0.97036352 | G14: =RAND() -> 0.48774154
A15: 14 | B15: =RAND() -> 0.23176429 | C15: =RAND() -> 0.318358 | D15: =RAND() -> 0.94140671 | E15: =RAND() -> 0.83840339 | F15: =RAND() -> 0.81726802 | G15: =RAND() -> 0.19618608
A16: 15 | B16: =RAND() -> 0.24748872 | C16: =RAND() -> 0.85689707 | D16: =RAND() -> 0.60353956 | E16: =RAND() -> 0.025476924 | F16: =RAND() -> 0.41792701 | G16: =RAND() -> 0.45288645
A17: 16 | B17: =RAND() -> 0.73973915 | C17: =RAND() -> 0.29625549 | D17: =RAND() -> 0.32091076 | E17: =RAND() -> 0.61339244 | F17: =RAND() -> 0.88928945 | G17: =RAND() -> 0.60880832
A18: 17 | B18: =RAND() -> 0.79389546 | C18: =RAND() -> 0.032344546 | D18: =RAND() -> 0.73385738 | E18: =RAND() -> 0.15219754 | F18: =RAND() -> 0.91589922 | G18: =RAND() -> 0.29563662
A19: 18 | B19: =RAND() -> 0.019397923 | C19: =RAND() -> 0.29710618 | D19: =RAND() -> 0.022884074 | E19: =RAND() -> 0.87900761 | F19: =RAND() -> 0.55966873 | G19: =RAND() -> 0.52794841
A20: 19 | B20: =RAND() -> 0.11216645 | C20: =RAND() -> 0.73477092 | D20: =RAND() -> 0.90258108 | E20: =RAND() -> 0.38167762 | F20: =RAND() -> 0.77541933 | G20: =RAND() -> 0.37617223
A21: 20 | B21: =RAND() -> 0.6363359 | C21: =RAND() -> 0.92407842 | D21: =RAND() -> 0.011566546 | E21: =RAND() -> 0.98624067 | F21: =RAND() -> 0.80465062 | G21: =RAND() -> 0.93528891
A22: 21 | B22: =RAND() -> 0.95887923 | C22: =RAND() -> 0.29068764 | D22: =RAND() -> 0.13895779 | E22: =RAND() -> 0.57715761 | F22: =RAND() -> 0.60545373 | G22: =RAND() -> 0.038149252
A23: 22 | B23: =RAND() -> 0.67977713 | C23: =RAND() -> 0.30465072 | D23: =RAND() -> 0.90904012 | E23: =RAND() -> 0.98056097 | F23: =RAND() -> 0.11514701 | G23: =RAND() -> 0.37108595
A24: 23 | B24: =RAND() -> 0.26165987 | C24: =RAND() -> 0.39300755 | D24: =RAND() -> 0.31532189 | E24: =RAND() -> 0.67159926 | F24: =RAND() -> 0.85184829 | G24: =RAND() -> 0.36152502
... A34: 33 | B34: =RAND() -> 0.11521303 | C34: =RAND() -> 0.052743876 | D34: =RAND() -> 0.03686692 | E34: =RAND() -> 0.80805706 | F34: =RAND() -> 0.50904762 | G34: =RAND() -> 0.53737773
