Workbook
Name Evaluation: Diagnostique!$D$2:$D$146
Name Resultat: [1]Liste!$A$1:$A$5
Name Tableau1: Diagnostique!$A$2:$F$146

Sheet Diagnostique
A1: Chapitre | B1: Article | C1: Questions | D1: Evaluation | E1: Observations | F1: Note
A2: Chap. 4 Contexte de l'organisme | B2: 4.1 Compréhension de l'organisme et de son contexte | C2: Les enjeux internes et externes relatifs à l'entreprise sont-ils identifiés ? | D2: Non-conforme | F2: =IFERROR(VLOOKUP(D2,Liste!$A$1:$B$5,2,FALSE),"A compléter") -> 0
B3: 4.1 Compréhension de l'organisme et de son contexte | C3: Les informations relatives à ces enjeux internes et externes sont-ils surveillés ? | F3: =IFERROR(VLOOKUP(D3,Liste!$A$1:$B$5,2,FALSE),"A compléter") -> A compléter
B4: 4.1 Compréhension de l'organisme et de son contexte | C4: Ces enjeux sont-ils pris en compte dans le système qualité ? | F4: =IFERROR(VLOOKUP(D4,Liste!$A$1:$B$5,2,FALSE),"A compléter") -> A compléter
B5: 4.2 Compréhension des besoins et attentes des parties intéressées | C5: Les parties intéressées pertinentes sont-elles identifiées ? | F5: =IFERROR(VLOOKUP(D5,Liste!$A$1:$B$5,2,FALSE),"A compléter") -> A compléter
B6: 4.2 Compréhension des besoins et attentes des parties intéressées | C6: Les exigences des parties intéressées sont-elles identifiées ? | F6: =IFERROR(VLOOKUP(D6,Liste!$A$1:$B$5,2,FALSE),"A compléter") -> A compléter
B7: 4.2 Compréhension des besoins et attentes des parties intéressées | C7: Les exigences des parties intéressées sont-elles surveillées et revues ? | F7: =IFERROR(VLOOKUP(D7,Liste!$A$1:$B$5,2,FALSE),"A compléter") -> A compléter
B8: 4.3 Détermination du domaine d'application du système de management de la qualité | C8: Le domaine d'application du SMQ est-il déterminé ? | F8: =IFERROR(VLOOKUP(D8,Liste!$A$1:$B$5,2,FALSE),"A compléter") -> A compléter
B9: 4.3 Détermination du domaine d'application du système de management de la qualité | C9: Le domaine d'application est-il disponible sous une forme documentée ? | F9: =IFERROR(VLOOKUP(D9,Liste!$A$1:$B$5,2,FALSE),"A compléter") -> A compléter
B10: 4.4 SMQ et ses processus | C10: Les processus ont-ils été identifiés ? | F10: =IFERROR(VLOOKUP(D10,Liste!$A$1:$B$5,2,FALSE),"A compléter") -> A compléter
B11: 4.4 SMQ et ses processus | C11: Les données d'entrées et de sorties de ces processus ont-elles été identifiées ? | F11: =IFERROR(VLOOKUP(D11,Liste!$A$1:$B$5,2,FALSE),"A compléter") -> A compléter
B12: 4.4 SMQ et ses processus | C12: Les séquences et les interactions de ces processus ont-elles été identifiées ? | F12: =IFERROR(VLOOKUP(D12,Liste!$A$1:$B$5,2,FALSE),"A compléter") -> A compléter
B13: 4.4 SMQ et ses processus | C13: Les critères et les méthodes pour assurer l'efficacité de ces processus ont-ils été déterminé ? | F13: =IFERROR(VLOOKUP(D13,Liste!$A$1:$B$5,2,FALSE),"A compléter") -> A compléter
B14: 4.4 SMQ et ses processus | C14: Les ressources nécessaires à ces processus sont-elles identifiées et à disposition ? | F14: =IFERROR(VLOOKUP(D14,Liste!$A$1:$B$5,2,FALSE),"A compléter") -> A compléter
... B19: 4.4 SMQ et ses processus | C19: Les informations relatives à ces processus sont documentées? | F19: =IFERROR(VLOOKUP(D19,Liste!$A$1:$B$5,2,FALSE),"A compléter") -> A compléter
A20: Chap. 5 Leadership | B20: 5.1 Leadership et engagement | C20: La direction assume et démontre sa responsabilité et son engagement dans l'efficacité du SMQ ? | F20: =IFERROR(VLOOKUP(D20,Liste!$A$1:$B$5,2,FALSE),"A compléter") -> A compléter
B21: 5.1 Leadership et engagement | C21: La politique et les objectifs qualité sont-ils établis et formalisés ? | F21: =IFERROR(VLOOKUP(D21,Liste!$A$1:$B$5,2,FALSE),"A compléter") -> A compléter
B22: 5.1 Leadership et engagement | C22: La direction promouvoit-elle l'approche processus et l'approche par les risques ? | F22: =IFERROR(VLOOKUP(D22,Liste!$A$1:$B$5,2,FALSE),"A compléter") -> A compléter
B23: 5.1 Leadership et engagement | C23: La direction s'assure-t-elle de la disponibilité des ressources nécessaires au SMQ? | F23: =IFERROR(VLOOKUP(D23,Liste!$A$1:$B$5,2,FALSE),"A compléter") -> A compléter
B24: 5.1 Leadership et engagement | C24: La direction communique t-elle sur l'importance de disposer un système efficace et de se conformer aux exigences et incite-elle les personnes à contribuer à son efficacité ? | F24: =IFERROR(VLOOKUP(D24,Liste!$A$1:$B$5,2,FALSE),"A compléter") -> A compléter
B25: 5.1 Leadership et engagement | C25: La direction s'assure-t-elle que le SMQ atteint les résultats attendus? | F25: =IFERROR(VLOOKUP(D25,Liste!$A$1:$B$5,2,FALSE),"A compléter") -> A compléter
B26: 5.1 Leadership et engagement | C26: La direction promouvoit-elle l'amélioration ? | F26: =IFERROR(VLOOKUP(D26,Liste!$A$1:$B$5,2,FALSE),"A compléter") -> A compléter
B27: 5.1 Leadership et engagement | C27: La direction soutient-elle les autres personnes ayant un rôle pertinent dans le système, afin de démonter leurs responsabilités ? | F27: =IFERROR(VLOOKUP(D27,Liste!$A$1:$B$5,2,FALSE),"A compléter") -> A compléter
B28: 5.1 Leadership et engagement | C28: La direction démontre t-elle son engagement relatif à l'engagement client ? | F28: =IFERROR(VLOOKUP(D28,Liste!$A$1:$B$5,2,FALSE),"A compléter") -> A compléter
B29: 5.1 Leadership et engagement | C29: Les exigences des clients sont-elles déterminées et respectées ? | F29: =IFERROR(VLOOKUP(D29,Liste!$A$1:$B$5,2,FALSE),"A compléter") -> A compléter
B30: 5.1 Leadership et engagement | C30: Les risques et opportunités ayant une incidence sur la conformité des produits et services sont-ils déterminés et pris en compte ? | F30: =IFERROR(VLOOKUP(D30,Liste!$A$1:$B$5,2,FALSE),"A compléter") -> A compléter
B31: 5.2 Politique | C31: La politique qualité est-elle adaptée à la finalité de l'organisme ? | F31: =IFERROR(VLOOKUP(D31,Liste!$A$1:$B$5,2,FALSE),"A compléter") -> A compléter
B32: 5.2 Politique | C32: La politique est-elle établit, revue et mise à jour régulièrement par la direction ? | F32: =IFERROR(VLOOKUP(D32,Liste!$A$1:$B$5,2,FALSE),"A compléter") -> A compléter
... B41: 5.3 Rôles, responsabilités et autorités au sein de l'organisme | C41: Un responsable a-t-il été nommé par la direction pour assurer suivi du SMQ ? | F41: =IFERROR(VLOOKUP(D41,Liste!$A$1:$B$5,2,FALSE),"A compléter") -> A compléter
A42: Chap. 6 Planification | B42: 6.1 Actions à mettre en œuvre face aux risques et opportunités | C42: Les risques et opportunités pour votre organisme sont-ils déterminés ? | F42: =IFERROR(VLOOKUP(D42,Liste!$A$1:$B$5,2,FALSE),"A compléter") -> A compléter
B43: 6.1 Actions à mettre en œuvre face aux risques et opportunités | C43: La planification du SMQ prend elle en compte les risques et opportunités ? | F43: =IFERROR(VLOOKUP(D43,Liste!$A$1:$B$5,2,FALSE),"A compléter") -> A compléter
B44: 6.1 Actions à mettre en œuvre face aux risques et opportunités | C44: Des actions sont-elles mises en œuvre face aux risques et opportunités ? | F44: =IFERROR(VLOOKUP(D44,Liste!$A$1:$B$5,2,FALSE),"A compléter") -> A compléter
B45: 6.1 Actions à mettre en œuvre face aux risques et opportunités | C45: L'efficacité de ces actions est-elle mesurée ? | F45: =IFERROR(VLOOKUP(D45,Liste!$A$1:$B$5,2,FALSE),"A compléter") -> A compléter
B46: 6.2 Objectifs qualité et planification des actions pour les atteindre | C46: Vos objectifs qualité sont-ils en adéquation permanente avec la politique qualité de l'organisme? | F46: =IFERROR(VLOOKUP(D46,Liste!$A$1:$B$5,2,FALSE),"A compléter") -> A compléter
B47: 6.2 Objectifs qualité et planification des actions pour les atteindre | C47: Vos objectifs qualité sont-ils adaptés à la finalité de l'organisme? | F47: =IFERROR(VLOOKUP(D47,Liste!$A$1:$B$5,2,FALSE),"A compléter") -> A compléter
B48: 6.2 Objectifs qualité et planification des actions pour les atteindre | C48: Vos objectifs qualité sont-ils mesurables ? | F48: =IFERROR(VLOOKUP(D48,Liste!$A$1:$B$5,2,FALSE),"A compléter") -> A compléter
B49: 6.2 Objectifs qualité et planification des actions pour les atteindre | C49: Vos objectifs tiennent-ils compte des exigences applicables ? | F49: =IFERROR(VLOOKUP(D49,Liste!$A$1:$B$5,2,FALSE),"A compléter") -> A compléter
B50: 6.2 Objectifs qualité et planification des actions pour les atteindre | C50: Vos objectifs qualité sont-ils communiqués et tenus à jour autant que nécessaire ? | F50: =IFERROR(VLOOKUP(D50,Liste!$A$1:$B$5,2,FALSE),"A compléter") -> A compléter
B51: 6.2 Objectifs qualité et planification des actions pour les atteindre | C51: Les modalités (pilote, ressources nécessaires, responsable, échéance, évaluation des résultats) pour surveiller l'atteinte des objectifs sont-elles définies ? | F51: =IFERROR(VLOOKUP(D51,Liste!$A$1:$B$5,2,FALSE),"A compléter") -> A compléter
B52: 6.3 Planification des modifications | C52: Les modifications du SMQ sont-elles planifiées ? | F52: =IFERROR(VLOOKUP(D52,Liste!$A$1:$B$5,2,FALSE),"A compléter") -> A compléter
B53: 6.3 Planification des modifications | C53: L'objectif de toute modification est pris en compte ainsi que toutes les conséquences en lien possible ? | F53: =IFERROR(VLOOKUP(D53,Liste!$A$1:$B$5,2,FALSE),"A compléter") -> A compléter
B54: 6.3 Planification des modifications | C54: Les modifications du SMQ prennent-elles en compte les disponibilités des ressources et l'attribution des responsabilités ? | F54: =IFERROR(VLOOKUP(D54,Liste!$A$1:$B$5,2,FALSE),"A compléter") -> A compléter
A55: Chap. 7 Support | B55: 7.1 Ressources | C55: La direction assure-t-elle la disponibilité des ressources nécessaires au SMQ, à son amélioration continue et à l'accroissement de la satisfaction des clients? | F55: =IFERROR(VLOOKUP(D55,Liste!$A$1:$B$5,2,FALSE),"A compléter") -> A compléter
B56: 7.1 Ressources | C56: Les ressources nécessaires prennent-elles en compte les contraintes des ressources internes existantes ? | F56: =IFERROR(VLOOKUP(D56,Liste!$A$1:$B$5,2,FALSE),"A compléter") -> A compléter
B57: 7.1 Ressources | C57: Les ressources à se procurer en externe sont-elles identifiées ? | F57: =IFERROR(VLOOKUP(D57,Liste!$A$1:$B$5,2,FALSE),"A compléter") -> A compléter
B58: 7.1 Ressources | C58: Les ressources humaines nécessaires à la mise en œuvre du SMQ sont-elles dentifiées et mises en œuvre ? | F58: =IFERROR(VLOOKUP(D58,Liste!$A$1:$B$5,2,FALSE),"A compléter") -> A compléter
B59: 7.1 Ressources | C59: La direction a-t-elle déterminée et fourni les infrastructures et services supports nécessaires à l'obtention de la conformité des produits/ services ? | F59: =IFERROR(VLOOKUP(D59,Liste!$A$1:$B$5,2,FALSE),"A compléter") -> A compléter
B60: 7.1 Ressources | C60: La direction entretient-elle ces infrastructures? | F60: =IFERROR(VLOOKUP(D60,Liste!$A$1:$B$5,2,FALSE),"A compléter") -> A compléter
B61: 7.1 Ressources | C61: L'environnement de travail nécessaire pour obtenir la conformité du produit est il géré et surveillé par la Direction ? (conditions physiques, environnementales, ergonomiques, psychologiques…) | F61: =IFERROR(VLOOKUP(D61,Liste!$A$1:$B$5,2,FALSE),"A compléter") -> A compléter
B62: 7.1 Ressources | C62: Les ressources nécessaires sont déterminées et fournies pour assurer des résultats de surveillance et de mesure fiables des produits/ services ? | F62: =IFERROR(VLOOKUP(D62,Liste!$A$1:$B$5,2,FALSE),"A compléter") -> A compléter
B63: 7.1 Ressources | C63: Les informations documentées concernant l'adéquation des ressources pour la surveillance et la mesure sont conservées ? | F63: =IFERROR(VLOOKUP(D63,Liste!$A$1:$B$5,2,FALSE),"A compléter") -> A compléter
B64: 7.1 Ressources | C64: Vos instruments de mesures sont étalonnés, identifiés et protégés ? | F64: =IFERROR(VLOOKUP(D64,Liste!$A$1:$B$5,2,FALSE),"A compléter") -> A compléter
B65: 7.1 Ressources | C65: Lorsque de tels étalons n'existent pas vous conservez sous forme d'information documentée la référence utilisée pour l'étalonnage ou la vérification ? | F65: =IFERROR(VLOOKUP(D65,Liste!$A$1:$B$5,2,FALSE),"A compléter") -> A compléter
B66: 7.1 Ressources | C66: Lorsqu'un instrument s'avère défectueux, vous déterminez si la validité des résultats de mesure antérieurs a été compromise et vous menez l'action corrective appropriée, si nécessaire ? | F66: =IFERROR(VLOOKUP(D66,Liste!$A$1:$B$5,2,FALSE),"A compléter") -> A compléter
B67: 7.1 Ressources | C67: Les connaissances nécessaires à la mise en œuvre des ses processus et à l'obtention de la conformité des produits sont déterminées ? | F67: =IFERROR(VLOOKUP(D67,Liste!$A$1:$B$5,2,FALSE),"A compléter") -> A compléter
... B82: 7.5 Information documentée | C82: Les informations documentées conservées comme preuves de conformité sont-elles protégées de toute altération involontaire ? | F82: =IFERROR(VLOOKUP(D82,Liste!$A$1:$B$5,2,FALSE),"A compléter") -> A compléter
A83: Chap. 8 Réalisation des activités opérationnelles | B83: 8.1 Planification et maîtrise opérationnelles | C83: Les processus nécessaires à la réalisation du produit sont-ils développées et planifiés ? | F83: =IFERROR(VLOOKUP(D83,Liste!$A$1:$B$5,2,FALSE),"A compléter") -> A compléter
B84: 8.1 Planification et maîtrise opérationnelles | C84: La planification et la réalisation des produits prend elle compte les exigences relatives aux produits/ services ? | F84: =IFERROR(VLOOKUP(D84,Liste!$A$1:$B$5,2,FALSE),"A compléter") -> A compléter
B85: 8.1 Planification et maîtrise opérationnelles | C85: Les critères d'acceptation des produits/ services ont-ils définis ? | F85: =IFERROR(VLOOKUP(D85,Liste!$A$1:$B$5,2,FALSE),"A compléter") -> A compléter
B86: 8.1 Planification et maîtrise opérationnelles | C86: Les ressources nécessaires à la réalisation du produit/service ont-elles été planifiées ? | F86: =IFERROR(VLOOKUP(D86,Liste!$A$1:$B$5,2,FALSE),"A compléter") -> A compléter
B87: 8.1 Planification et maîtrise opérationnelles | C87: Les informations documentées sont-elles conservées pour assurer que les processus ont été réalisé comme prévu et pour démontrer la conformité des produits et services aux exigences applicables ? | F87: =IFERROR(VLOOKUP(D87,Liste!$A$1:$B$5,2,FALSE),"A compléter") -> A compléter
B88: 8.1 Planification et maîtrise opérationnelles | C88: Les modifications prévues sont-elles planifiées ? | F88: =IFERROR(VLOOKUP(D88,Liste!$A$1:$B$5,2,FALSE),"A compléter") -> A compléter
B89: 8.1 Planification et maîtrise opérationnelles | C89: Les modifications non prévues sont-elles analysées, des actions sont-elles menées pour limiter tout effet négatif ? | F89: =IFERROR(VLOOKUP(D89,Liste!$A$1:$B$5,2,FALSE),"A compléter") -> A compléter
B90: 8.2 Exigences relatives aux produits et services | C90: Les exigences clients spécifiques relatives aux actions d'urgences ont-elles été déterminées par l'organisme ? | F90: =IFERROR(VLOOKUP(D90,Liste!$A$1:$B$5,2,FALSE),"A compléter") -> A compléter
B91: 8.2 Exigences relatives aux produits et services | C91: Prenez-vous des dispositions pour préserver la conformité du service et de ses composants depuis la réalisation jusqu'à la livraison à la destination prévue? (prendre soin de la propriété du client) | F91: =IFERROR(VLOOKUP(D91,Liste!$A$1:$B$5,2,FALSE),"A compléter") -> A compléter
B92: 8.2 Exigences relatives aux produits et services | C92: Communiquez-vous avec le client sur les retours d'information et les réclamations ? | F92: =IFERROR(VLOOKUP(D92,Liste!$A$1:$B$5,2,FALSE),"A compléter") -> A compléter
B93: 8.2 Exigences relatives aux produits et services | C93: Les exigences client formulées ou non (nécessaires à l'usage), ainsi que les exigences réglementaires et légales ont-elles été déterminées par l'organisme ? | F93: =IFERROR(VLOOKUP(D93,Liste!$A$1:$B$5,2,FALSE),"A compléter") -> A compléter
B94: 8.2 Exigences relatives aux produits et services | C94: Les revues des exigences relatives au produit/ service sont-elles réalisées régulièrement? | F94: =IFERROR(VLOOKUP(D94,Liste!$A$1:$B$5,2,FALSE),"A compléter") -> A compléter
B95: 8.2 Exigences relatives aux produits et services | C95: L'organisme s'assure-t-il que les écarts entre les exigences d'un contrat ou d'une commande et celles précédemment exprimées ont été résolus ? | F95: =IFERROR(VLOOKUP(D95,Liste!$A$1:$B$5,2,FALSE),"A compléter") -> A compléter
... B124: 8.7 Maîtrise des éléments de sortie non conformes | C124: Les informations documentées concernant la non-conformité et les actions menées sont-elles conservées ? | F124: =IFERROR(VLOOKUP(D124,Liste!$A$1:$B$5,2,FALSE),"A compléter") -> A compléter
A125: Chap. 9 Evaluation des performances | B125: 9.1 Surveillance, mesure, analyse et évaluation | C125: Les activités de surveillance sont-elles définies et mises en œuvre ? | F125: =IFERROR(VLOOKUP(D125,Liste!$A$1:$B$5,2,FALSE),"A compléter") -> A compléter
B126: 9.1 Surveillance, mesure, analyse et évaluation | C126: Les résultats de cette surveillance sont-ils analysés et évalués ? | F126: =IFERROR(VLOOKUP(D126,Liste!$A$1:$B$5,2,FALSE),"A compléter") -> A compléter
B127: 9.1 Surveillance, mesure, analyse et évaluation | C127: Des informations documentées sont-elles conservées comme preuve des résultats de surveillance ? | F127: =IFERROR(VLOOKUP(D127,Liste!$A$1:$B$5,2,FALSE),"A compléter") -> A compléter
B128: 9.1 Surveillance, mesure, analyse et évaluation | C128: Surveillez-vous la perception du client sur le niveau de satisfaction de ces exigences ? | F128: =IFERROR(VLOOKUP(D128,Liste!$A$1:$B$5,2,FALSE),"A compléter") -> A compléter
B129: 9.1 Surveillance, mesure, analyse et évaluation | C129: La surveillance de cette perception est-elle planifiée, des méthodes sont-elles définies ? | F129: =IFERROR(VLOOKUP(D129,Liste!$A$1:$B$5,2,FALSE),"A compléter") -> A compléter
B130: 9.2 Audit interne | C130: Des audits sont planifiés à intervalles réguliers ? | F130: =IFERROR(VLOOKUP(D130,Liste!$A$1:$B$5,2,FALSE),"A compléter") -> A compléter
B131: 9.2 Audit interne | C131: Les critères d'audit et le périmètre sont définis ; les auditeurs sélectionnés sont impartiaux et objectif sur le processus audité ? | F131: =IFERROR(VLOOKUP(D131,Liste!$A$1:$B$5,2,FALSE),"A compléter") -> A compléter
B132: 9.2 Audit interne | C132: Les résultats des audits sont communiqués à la direction et des actions sont mises en œuvre ? | F132: =IFERROR(VLOOKUP(D132,Liste!$A$1:$B$5,2,FALSE),"A compléter") -> A compléter
B133: 9.2 Audit interne | C133: Des informations documentées sont-elles conservées comme preuve de la mise en œuvre du programme d'audit et des résultats d'audit ? | F133: =IFERROR(VLOOKUP(D133,Liste!$A$1:$B$5,2,FALSE),"A compléter") -> A compléter
B134: 9.3 Revue de direction | C134: Vos revues de direction sont-elles planifiées et réalisées ? Elle prend en compte tous les éléments listés dans la norme ? | F134: =IFERROR(VLOOKUP(D134,Liste!$A$1:$B$5,2,FALSE),"A compléter") -> A compléter
B135: 9.3 Revue de direction | C135: Vos revues de direction prennent-elles en compte tous les éléments listés dans la norme ? | F135: =IFERROR(VLOOKUP(D135,Liste!$A$1:$B$5,2,FALSE),"A compléter") -> A compléter
B136: 9.3 Revue de direction | C136: Suite à la revue de direction des décisions et actions relatives aux opportunités d'amélioration et aux éventuels changements sont elles prises ? | F136: =IFERROR(VLOOKUP(D136,Liste!$A$1:$B$5,2,FALSE),"A compléter") -> A compléter
B137: 9.3 Revue de direction | C137: Les informations documentées des revues de direction sont-elles conservées ? | F137: =IFERROR(VLOOKUP(D137,Liste!$A$1:$B$5,2,FALSE),"A compléter") -> A compléter
A138: Chap.10 Amélioration | B138: 10.1 Généralités | C138: Des actions sont-elles menées pour satisfaire aux exigences des clients et accroître leurs satisfactions ? | F138: =IFERROR(VLOOKUP(D138,Liste!$A$1:$B$5,2,FALSE),"A compléter") -> A compléter
B139: 10.2 Non-conformité et action corrective | C139: Réagissez-vous suite à l'appariation d'une non-conformité ou réclamation en client ? (maitrise, correction, mesure des conséquences) | F139: =IFERROR(VLOOKUP(D139,Liste!$A$1:$B$5,2,FALSE),"A compléter") -> A compléter
B140: 10.2 Non-conformité et action corrective | C140: Les non-conformités/ réclamations client sont-elles analysées et évaluées ? | F140: =IFERROR(VLOOKUP(D140,Liste!$A$1:$B$5,2,FALSE),"A compléter") -> A compléter
B141: 10.2 Non-conformité et action corrective | C141: Menez-vous des actions correctives pour éliminer les causes des non conformités détectées afin d'éviter qu'elles se reproduisent? | F141: =IFERROR(VLOOKUP(D141,Liste!$A$1:$B$5,2,FALSE),"A compléter") -> A compléter
B142: 10.2 Non-conformité et action corrective | C142: L'efficacité des actions correctives est-elle mesurée ? | F142: =IFERROR(VLOOKUP(D142,Liste!$A$1:$B$5,2,FALSE),"A compléter") -> A compléter
B143: 10.2 Non-conformité et action corrective | C143: Des informations documentées sont conservées comme preuve des non-conformités et des actions menées. | F143: =IFERROR(VLOOKUP(D143,Liste!$A$1:$B$5,2,FALSE),"A compléter") -> A compléter
B144: 10.2 Non-conformité et action corrective | C144: Vous mettrez à jour les risques et opportunités déterminés durant la planification si cela est nécessaire ? | F144: =IFERROR(VLOOKUP(D144,Liste!$A$1:$B$5,2,FALSE),"A compléter") -> A compléter
B145: 10.2 Non-conformité et action corrective | C145: Vous modifiez votre SMQ si cela est nécessaire ? | F145: =IFERROR(VLOOKUP(D145,Liste!$A$1:$B$5,2,FALSE),"A compléter") -> A compléter
B146: 10.3 Amélioration continue | C146: Veillez-vous à l'amélioration continue de l'efficacité de votre SMQ ? | F146: =IFERROR(VLOOKUP(D146,Liste!$A$1:$B$5,2,FALSE),"A compléter") -> A compléter

Sheet Liste
A1: Non-conforme | B1: 0 | C1: Non-conforme
A2: A améliorer | B2: 0.33 | C2: A améliorer
A3: Acceptable | B3: 0.66 | C3: Acceptable
A4: Conforme | B4: 1 | C4: Conforme
A5: Exclus (NA) | B5: NA
