Workbook
Name Evaluation: Diagnostique!$D$2:$D$146
Name Resultat: [1]Liste!$A$1:$A$5
Name Tableau1: Diagnostique!$A$2:$F$146

Sheet Diagnostique
A1: Chapitre | B1: Article | C1: Questions | D1: Evaluation | E1: Observations | F1: Note
A2: Chap. 4 Contexte de l'organisme | B2: 4.1 Compréhension de l'organisme et de son contexte | C2: Les enjeux internes et externes relatifs à l'entreprise sont-ils identifiés ? | D2: Non-conforme | F2: =IFERROR(VLOOKUP(D2,Liste!$A$1:$B$5,2,FALSE),"A compléter") -> 0
B3: 4.1 Compréhension de l'organisme et de son contexte | C3: Les informations relatives à ces enjeux internes et externes sont-ils surveillés ? | F3: =IFERROR(VLOOKUP(D3,Liste!$A$1:$B$5,2,FALSE),"A compléter") -> A compléter
B4: 4.1 Compréhension de l'organisme et de son contexte | C4: Ces enjeux sont-ils pris en compte dans le système qualité ? | F4: =IFERROR(VLOOKUP(D4,Liste!$A$1:$B$5,2,FALSE),"A compléter") -> A compléter
B5: 4.2 Compréhension des besoins et attentes des parties intéressées | C5: Les parties intéressées pertinentes sont-elles identifiées ? | F5: =IFERROR(VLOOKUP(D5,Liste!$A$1:$B$5,2,FALSE),"A compléter") -> A compléter
B6: 4.2 Compréhension des besoins et attentes des parties intéressées | C6: Les exigences des parties intéressées sont-elles identifiées ? | F6: =IFERROR(VLOOKUP(D6,Liste!$A$1:$B$5,2,FALSE),"A compléter") -> A compléter
B7: 4.2 Compréhension des besoins et attentes des parties intéressées | C7: Les exigences des parties intéressées sont-elles surveillées et revues ? | F7: =IFERROR(VLOOKUP(D7,Liste!$A$1:$B$5,2,FALSE),"A compléter") -> A compléter
B8: 4.3 Détermination du domaine d'application du système de management de la qualité | C8: Le domaine d'application du SMQ est-il déterminé ? | F8: =IFERROR(VLOOKUP(D8,Liste!$A$1:$B$5,2,FALSE),"A compléter") -> A compléter
B9: 4.3 Détermination du domaine d'application du système de management de la qualité | C9: Le domaine d'application est-il disponible sous une forme documentée ? | F9: =IFERROR(VLOOKUP(D9,Liste!$A$1:$B$5,2,FALSE),"A compléter") -> A compléter
B10: 4.4 SMQ et ses processus | C10: Les processus ont-ils été identifiés ? | F10: =IFERROR(VLOOKUP(D10,Liste!$A$1:$B$5,2,FALSE),"A compléter") -> A compléter
B11: 4.4 SMQ et ses processus | C11: Les données d'entrées et de sorties de ces processus ont-elles été identifiées ? | F11: =IFERROR(VLOOKUP(D11,Liste!$A$1:$B$5,2,FALSE),"A compléter") -> A compléter
B12: 4.4 SMQ et ses processus | C12: Les séquences et les interactions de ces processus ont-elles été identifiées ? | F12: =IFERROR(VLOOKUP(D12,Liste!$A$1:$B$5,2,FALSE),"A compléter") -> A compléter
B13: 4.4 SMQ et ses processus | C13: Les critères et les méthodes pour assurer l'efficacité de ces processus ont-ils été déterminé ? | F13: =IFERROR(VLOOKUP(D13,Liste!$A$1:$B$5,2,FALSE),"A compléter") -> A compléter
B14: 4.4 SMQ et ses processus | C14: Les ressources nécessaires à ces processus sont-elles identifiées et à disposition ? | F14: =IFERROR(VLOOKUP(D14,Liste!$A$1:$B$5,2,FALSE),"A compléter") -> A compléter
... B19: 4.4 SMQ et ses processus | C19: Les informations relatives à ces processus sont documentées? | F19: =IFERROR(VLOOKUP(D19,Liste!$A$1:$B$5,2,FALSE),"A compléter") -> A compléter
A20: Chap. 5 Leadership | B20: 5.1 Leadership et engagement | C20: La direction assume et démontre sa responsabilité et son engagement dans l'efficacité du SMQ ? | F20: =IFERROR(VLOOKUP(D20,Liste!$A$1:$B$5,2,FALSE),"A compléter") -> A compléter
B21: 5.1 Leadership et engagement | C21: La politique et les objectifs qualité sont-ils établis et formalisés ? | F21: =IFERROR(VLOOKUP(D21,Liste!$A$1:$B$5,2,FALSE),"A compléter") -> A compléter
B22: 5.1 Leadership et engagement | C22: La direction promouvoit-elle l'approche processus et l'approche par les risques ? | F22: =IFERROR(VLOOKUP(D22,Liste!$A$1:$B$5,2,FALSE),"A compléter") -> A compléter
B23: 5.1 Leadership et engagement | C23: La direction s'assure-t-elle de la disponibilité des ressources nécessaires au SMQ? | F23: =IFERROR(VLOOKUP(D23,Liste!$A$1:$B$5,2,FALSE),"A compléter") -> A compléter
B24: 5.1 Leadership et engagement | C24: La direction communique t-elle sur l'importance de disposer un système efficace et de se conformer aux exigences et incite-elle les personnes à contribuer à son efficacité ? | F24: =IFERROR(VLOOKUP(D24,Liste!$A$1:$B$5,2,FALSE),"A compléter") -> A compléter
B25: 5.1 Leadership et engagement | C25: La direction s'assure-t-elle que le SMQ atteint les résultats attendus? | F25: =IFERROR(VLOOKUP(D25,Liste!$A$1:$B$5,2,FALSE),"A compléter") -> A compléter
B26: 5.1 Leadership et engagement | C26: La direction promouvoit-elle l'amélioration ? | F26: =IFERROR(VLOOKUP(D26,Liste!$A$1:$B$5,2,FALSE),"A compléter") -> A compléter
B27: 5.1 Leadership et engagement | C27: La direction soutient-elle les autres personnes ayant un rôle pertinent dans le système, afin de démonter leurs responsabilités ? | F27: =IFERROR(VLOOKUP(D27,Liste!$A$1:$B$5,2,FALSE),"A compléter") -> A compléter
B28: 5.1 Leadership et engagement | C28: La direction démontre t-elle son engagement relatif à l'engagement client ? | F28: =IFERROR(VLOOKUP(D28,Liste!$A$1:$B$5,2,FALSE),"A compléter") -> A compléter
B29: 5.1 Leadership et engagement | C29: Les exigences des clients sont-elles déterminées et respectées ? | F29: =IFERROR(VLOOKUP(D29,Liste!$A$1:$B$5,2,FALSE),"A compléter") -> A compléter
B30: 5.1 Leadership et engagement | C30: Les risques et opportunités ayant une incidence sur la conformité des produits et services sont-ils déterminés et pris en compte ? | F30: =IFERROR(VLOOKUP(D30,Liste!$A$1:$B$5,2,FALSE),"A compléter") -> A compléter
B31: 5.2 Politique | C31: La politique qualité est-elle adaptée à la finalité de l'organisme ? | F31: =IFERROR(VLOOKUP(D31,Liste!$A$1:$B$5,2,FALSE),"A compléter") -> A compléter
B32: 5.2 Politique | C32: La politique est-elle établit, revue et mise à jour régulièrement par la direction ? | F32: =IFERROR(VLOOKUP(D32,Liste!$A$1:$B$5,2,FALSE),"A compléter") -> A compléter
... B41: 5.3 Rôles, responsabilités et autorités au sein de l'organisme | C41: Un responsable a-t-il été nommé par la direction pour assurer suivi du SMQ ? | F41: =IFERROR(VLOOKUP(D41,Liste!$A$1:$B$5,2,FALSE),"A compléter") -> A compléter
A42: Chap. 6 Planification | B42: 6.1 Actions à mettre en œuvre face aux risques et opportunités | C42: Les risques et opportunités pour votre organisme sont-ils déterminés ? | F42: =IFERROR(VLOOKUP(D42,Liste!$A$1:$B$5,2,FALSE),"A compléter") -> A compléter
B43: 6.1 Actions à mettre en œuvre face aux risques et opportunités | C43: La planification du SMQ prend elle en compte les risques et opportunités ? | F43: =IFERROR(VLOOKUP(D43,Liste!$A$1:$B$5,2,FALSE),"A compléter") -> A compléter
B44: 6.1 Actions à mettre en œuvre face aux risques et opportunités | C44: Des actions sont-elles mises en œuvre face aux risques et opportunités ? | F44: =IFERROR(VLOOKUP(D44,Liste!$A$1:$B$5,2,FALSE),"A compléter") -> A compléter
B45: 6.1 Actions à mettre en œuvre face aux risques et opportunités | C45: L'efficacité de ces actions est-elle mesurée ? | F45: =IFERROR(VLOOKUP(D45,Liste!$A$1:$B$5,2,FALSE),"A compléter") -> A compléter
B46: 6.2 Objectifs qualité et planification des actions pour les atteindre | C46: Vos objectifs qualité sont-ils en adéquation permanente avec la politique qualité de l'organisme? | F46: =IFERROR(VLOOKUP(D46,Liste!$A$1:$B$5,2,FALSE),"A compléter") -> A compléter
B47: 6.2 Objectifs qualité et planification des actions pour les atteindre | C47: Vos objectifs qualité sont-ils adaptés à la finalité de l'organisme? | F47: =IFERROR(VLOOKUP(D47,Liste!$A$1:$B$5,2,FALSE),"A compléter") -> A compléter
B48: 6.2 Objectifs qualité et planification des actions pour les atteindre | C48: Vos objectifs qualité sont-ils mesurables ? | F48: =IFERROR(VLOOKUP(D48,Liste!$A$1:$B$5,2,FALSE),"A compléter") -> A compléter
B49: 6.2 Objectifs qualité et planification des actions pour les atteindre | C49: Vos objectifs tiennent-ils compte des exigences applicables ? | F49: =IFERROR(VLOOKUP(D49,Liste!$A$1:$B$5,2,FALSE),"A compléter") -> A compléter
B50: 6.2 Objectifs qualité et planification des actions pour les atteindre | C50: Vos objectifs qualité sont-ils communiqués et tenus à jour autant que nécessaire ? | F50: =IFERROR(VLOOKUP(D50,Liste!$A$1:$B$5,2,FALSE),"A compléter") -> A compléter
B51: 6.2 Objectifs qualité et planification des actions pour les atteindre | C51: Les modalités (pilote, ressources nécessaires, responsable, échéance, évaluation des résultats) pour surveiller l'atteinte des objectifs sont-elles définies ? | F51: =IFERROR(VLOOKUP(D51,Liste!$A$1:$B$5,2,FALSE),"A compléter") -> A compléter
B52: 6.3 Planification des modifications | C52: Les modifications du SMQ sont-elles planifiées ? | F52: =IFERROR(VLOOKUP(D52,Liste!$A$1:$B$5,2,FALSE),"A compléter") -> A compléter
...

Sheet Liste
A1: Non-conforme | B1: 0 | C1: Non-conforme
A2: A améliorer | B2: 0.33 | C2: A améliorer
A3: Acceptable | B3: 0.66 | C3: Acceptable
A4: Conforme | B4: 1 | C4: Conforme
A5: Exclus (NA) | B5: NA
