Workbook

Sheet Equipes
B2: POULE A | G2: POULE B | L2: POULE C | Q2: POULE D
B4: Lyon | G4: Marseile | L4: Lille | Q4: Atton
B7: Angers | G7: Nice | L7: Metz | Q7: Brest
B10: Bordeaux | G10: Amiens | L10: Nancy | Q10: Reims
B13: Caen | G13: Bord | L13: FCD | Q13: Dijon

Sheet Poules
A1: N° Terrain | C1: Heure | E1: FORFAIT | F1: POULE A | R1: FORFAIT | S1: POULE A | U1: CLASSEMENT
F3: Equipe | K3: Buts | L3: Buts | M3: Equipes | U3: Equipes | Z3: Rang | AA3: Pts | AB3: J | AC3: G | AD3: N | AE3: P | AF3: B + | AG3: B - | AH3: Diff | AI3: F | AK3: R | AL3: Equipes | AQ3: Rang | AR3: Pts | AS3: J | AT3: G | AU3: N | AV3: P | AW3: B + | AX3: B - | AY3: Diff | AZ3: F | BA3: % | BB3: % | BC3: P | BD3: P | BE3: Pts | BF3: Pts | BG3: TPts | BH3: TPts | BI3: J | BJ3: J | BK3: G | BL3: G | BM3: N | BN3: N | BO3: P | BP3: P | BQ3: Bts + | BR3: Bts + | BS3: Bts - | BT3: Bts - | BU3: Equipes | BV3: % | BW3: R
F4: =AL5 -> Angers | K4: 0 | L4: 12 | M4: =AL4 -> Lyon | U4: =VLOOKUP(AJ4,AK4:AP7,2,0) -> Lyon | Z4: 1 | AA4: =VLOOKUP(U4,AL4:AZ7,7,0) -> 10 | AB4: =VLOOKUP(U4,AL4:AZ7,8,0) -> 3 | AC4: =VLOOKUP(U4,AL4:AZ7,9,0) -> 2 | AD4: =VLOOKUP(U4,AL4:AZ7,10,0) -> 1 | AE4: =VLOOKUP(U4,AL4:AZ7,11,0) -> 0 | AF4: =VLOOKUP(U4,AL4:AZ7,12,0) -> 16 | AG4: =VLOOKUP(U4,AL4:AZ7,13,0) -> 1 | AH4: =VLOOKUP(U4,AL4:AZ7,14,0) -> 15 | AI4: =VLOOKUP(U4,AL4:AZ7,15,0) -> 0 | AJ4: 1 | AK4: =AQ4 -> 1 | AL4: =Equipes!B4 -> Lyon | AQ4: =RANK(BB4,BB4:BB7) -> 1 | AR4: =SUMPRODUCT((F4:J9=AL4)*(BG4:BG9))+SUMPRODUCT((M4:Q9=AL4)*(BH4:BH9)) -> 10 | AS4: =SUMPRODUCT((F4:J9=AL4)*(BI4:BI9))+SUMPRODUCT((M4:Q9=AL4)*(BJ4:BJ9)) -> 3 | AT4: =SUMPRODUCT((F4:J9=AL4)*(BK4:BK9))+SUMPRODUCT((M4:Q9=AL4)*(BL4:BL9)) -> 2 | AU4: =SUMPRODUCT((F4:J9=AL4)*(BM4:BM9))+SUMPRODUCT((M4:Q9=AL4)*(BN4:BN9)) -> 1 | AV4: =SUMPRODUCT((F4:J9=AL4)*(BO4:BO9))+SUMPRODUCT((M4:Q9=AL4)*(BP4:BP9)) -> 0 | AW4: =SUMPRODUCT((F4:J9=AL4)*(BQ4:BQ9))+SUMPRODUCT((M4:Q9=AL4)*(BR4:BR9)) -> 16 | AX4: =SUMPRODUCT((F4:J9=AL4)*(BS4:BS9))+SUMPRODUCT((M4:Q9=AL4)*(BT4:BT9)) -> 1 | AY4: =AW4-AX4 -> 15 | AZ4: =SUMPRODUCT((F4:J9=AL4)*(BC4:BC9))+SUMPRODUCT((M4:Q9=AL4)*(BD4:BD9)) -> 0 | BA4: =SUM(AR4*1000+(AY4)/10+(AW4)/100+(AT4)/1000) -> 10001.662 | BB4: =BA4+0.000004 -> 10001.662 | BC4: =IF(E4="F",1,0) -> 0 | BD4: =IF(R4="F",1,0) -> 0 | BE4: =IF(K4="",0,IF(K4>L4,4,IF(K4=L4,2,IF(K4<L4,1)))) -> 1 | BF4: =IF(L4="",0,IF(L4>K4,4,IF(L4=K4,2,IF(L4<K4,1)))) -> 4 | BG4: =IF(BC4=1,0,BE4) -> 1 | BH4: =IF(BD4=1,0,BF4) -> 4 | BI4: =IF(K4="",0,1) -> 1 | BJ4: =IF(L4="",0,1) -> 1 | BK4: =IF(K4<>"",IF(K4>L4,1)) -> FALSE | BL4: =IF(L4<>"",IF(L4>K4,1)) -> 1 | BM4: =IF(K4<>"",IF(K4=L4,1)) -> FALSE | BN4: =IF(L4<>"",IF(L4=K4,1)) -> FALSE | BO4: =IF(K4<>"",IF(K4<L4,1)) -> 1 | BP4: =IF(L4<>"",IF(L4<K4,1)) -> FALSE | BQ4: =K4 -> 0 | BR4: =L4 -> 12 | BS4: =L4 -> 12 | BT4: =K4 -> 0 | BU4: =VLOOKUP(AJ4,AK4:AP7,2,0) -> Lyon | BV4: =VLOOKUP(BU4,AL4:BA7,16,0) -> 10001.662 | BW4: =RANK(BV4,BV4:BV7) -> 1
F5: =AL6 -> Bordeaux | K5: 2 | L5: 2 | M5: =AL7 -> Caen | U5: =VLOOKUP(AJ5,AK4:AP7,2,0) -> Bordeaux | Z5: =IF(BV5=BV4,BW4,BW5) -> 2 | AA5: =VLOOKUP(U5,AL4:AZ7,7,0) -> 8 | AB5: =VLOOKUP(U5,AL4:AZ7,8,0) -> 3 | AC5: =VLOOKUP(U5,AL4:AZ7,9,0) -> 1 | AD5: =VLOOKUP(U5,AL4:AZ7,10,0) -> 2 | AE5: =VLOOKUP(U5,AL4:AZ7,11,0) -> 0 | AF5: =VLOOKUP(U5,AL4:AZ7,12,0) -> 4 | AG5: =VLOOKUP(U5,AL4:AZ7,13,0) -> 3 | AH5: =VLOOKUP(U5,AL4:AZ7,14,0) -> 1 | AI5: =VLOOKUP(U5,AL4:AZ7,15,0) -> 0 | AJ5: 2 | AK5: =AQ5 -> 3 | AL5: =Equipes!B7 -> Angers | AQ5: =RANK(BB5,BB4:BB7) -> 3 | AR5: =SUMPRODUCT((F4:J9=AL5)*(BG4:BG9))+SUMPRODUCT((M4:Q9=AL5)*(BH4:BH9)) -> 6 | AS5: =SUMPRODUCT((F4:J9=AL5)*(BI4:BI9))+SUMPRODUCT((M4:Q9=AL5)*(BJ4:BJ9)) -> 3 | AT5: =SUMPRODUCT((F4:J9=AL5)*(BK4:BK9))+SUMPRODUCT((M4:Q9=AL5)*(BL4:BL9)) -> 1 | AU5: =SUMPRODUCT((F4:J9=AL5)*(BM4:BM9))+SUMPRODUCT((M4:Q9=AL5)*(BN4:BN9)) -> 0 | AV5: =SUMPRODUCT((F4:J9=AL5)*(BO4:BO9))+SUMPRODUCT((M4:Q9=AL5)*(BP4:BP9)) -> 2 | AW5: =SUMPRODUCT((F4:J9=AL5)*(BQ4:BQ9))+SUMPRODUCT((M4:Q9=AL5)*(BR4:BR9)) -> 5 | AX5: =SUMPRODUCT((F4:J9=AL5)*(BS4:BS9))+SUMPRODUCT((M4:Q9=AL5)*(BT4:BT9)) -> 15 | AY5: =AW5-AX5 -> -10 | AZ5: =SUMPRODUCT((F4:J9=AL5)*(BC4:BC9))+SUMPRODUCT((M4:Q9=AL5)*(BD4:BD9)) -> 0 | BA5: =SUM(AR5*1000+(AY5)/10+(AW5)/100+(AT5)/1000) -> 5999.051 | BB5: =BA5+0.000003 -> 5999.051 | BC5: =IF(E5="F",1,0) -> 0 | BD5: =IF(R5="F",1,0) -> 0 | BE5: =IF(K5="",0,IF(K5>L5,4,IF(K5=L5,2,IF(K5<L5,1)))) -> 2 | BF5: =IF(L5="",0,IF(L5>K5,4,IF(L5=K5,2,IF(L5<K5,1)))) -> 2 | BG5: =IF(BC5=1,0,BE5) -> 2 | BH5: =IF(BD5=1,0,BF5) -> 2 | BI5: =IF(K5="",0,1) -> 1 | BJ5: =IF(L5="",0,1) -> 1 | BK5: =IF(K5<>"",IF(K5>L5,1)) -> FALSE | BL5: =IF(L5<>"",IF(L5>K5,1)) -> FALSE | BM5: =IF(K5<>"",IF(K5=L5,1)) -> 1 | BN5: =IF(L5<>"",IF(L5=K5,1)) -> 1 | BO5: =IF(K5<>"",IF(K5<L5,1)) -> FALSE | BP5: =IF(L5<>"",IF(L5<K5,1)) -> FALSE | BQ5: =K5 -> 2 | BR5: =L5 -> 2 | BS5: =L5 -> 2 | BT5: =K5 -> 2 | BU5: =VLOOKUP(AJ5,AK4:AP7,2,0) -> Bordeaux | BV5: =VLOOKUP(BU5,AL4:BA7,16,0) -> 8000.141 | BW5: =RANK(BV5,BV4:BV7) -> 2
F6: =AL4 -> Lyon | K6: 1 | L6: 1 | M6: =AL6 -> Bordeaux | U6: =VLOOKUP(AJ6,AK4:AP7,2,0) -> Angers | Z6: =IF(BV6=BV5,BW5,BW6) -> 3 | AA6: =VLOOKUP(U6,AL4:AZ7,7,0) -> 6 | AB6: =VLOOKUP(U6,AL4:AZ7,8,0) -> 3 | AC6: =VLOOKUP(U6,AL4:AZ7,9,0) -> 1 | AD6: =VLOOKUP(U6,AL4:AZ7,10,0) -> 0 | AE6: =VLOOKUP(U6,AL4:AZ7,11,0) -> 2 | AF6: =VLOOKUP(U6,AL4:AZ7,12,0) -> 5 | AG6: =VLOOKUP(U6,AL4:AZ7,13,0) -> 15 | AH6: =VLOOKUP(U6,AL4:AZ7,14,0) -> -10 | AI6: =VLOOKUP(U6,AL4:AZ7,15,0) -> 0 | AJ6: 3 | AK6: =AQ6 -> 2 | AL6: =Equipes!B10 -> Bordeaux | AQ6: =RANK(BB6,BB4:BB7) -> 2 | AR6: =SUMPRODUCT((F4:J9=AL6)*(BG4:BG9))+SUMPRODUCT((M4:Q9=AL6)*(BH4:BH9)) -> 8 | AS6: =SUMPRODUCT((F4:J9=AL6)*(BI4:BI9))+SUMPRODUCT((M4:Q9=AL6)*(BJ4:BJ9)) -> 3 | AT6: =SUMPRODUCT((F4:J9=AL6)*(BK4:BK9))+SUMPRODUCT((M4:Q9=AL6)*(BL4:BL9)) -> 1 | AU6: =SUMPRODUCT((F4:J9=AL6)*(BM4:BM9))+SUMPRODUCT((M4:Q9=AL6)*(BN4:BN9)) -> 2 | AV6: =SUMPRODUCT((F4:J9=AL6)*(BO4:BO9))+SUMPRODUCT((M4:Q9=AL6)*(BP4:BP9)) -> 0 | AW6: =SUMPRODUCT((F4:J9=AL6)*(BQ4:BQ9))+SUMPRODUCT((M4:Q9=AL6)*(BR4:BR9)) -> 4 | AX6: =SUMPRODUCT((F4:J9=AL6)*(BS4:BS9))+SUMPRODUCT((M4:Q9=AL6)*(BT4:BT9)) -> 3 | AY6: =AW6-AX6 -> 1 | AZ6: =SUMPRODUCT((F4:J9=AL6)*(BC4:BC9))+SUMPRODUCT((M4:Q9=AL6)*(BD4:BD9)) -> 0 | BA6: =SUM(AR6*1000+(AY6)/10+(AW6)/100+(AT6)/1000) -> 8000.141 | BB6: =BA6+0.000002 -> 8000.141 | BC6: =IF(E6="F",1,0) -> 0 | BD6: =IF(R6="F",1,0) -> 0 | BE6: =IF(K6="",0,IF(K6>L6,4,IF(K6=L6,2,IF(K6<L6,1)))) -> 2 | BF6: =IF(L6="",0,IF(L6>K6,4,IF(L6=K6,2,IF(L6<K6,1)))) -> 2 | BG6: =IF(BC6=1,0,BE6) -> 2 | BH6: =IF(BD6=1,0,BF6) -> 2 | BI6: =IF(K6="",0,1) -> 1 | BJ6: =IF(L6="",0,1) -> 1 | BK6: =IF(K6<>"",IF(K6>L6,1)) -> FALSE | BL6: =IF(L6<>"",IF(L6>K6,1)) -> FALSE | BM6: =IF(K6<>"",IF(K6=L6,1)) -> 1 | BN6: =IF(L6<>"",IF(L6=K6,1)) -> 1 | BO6: =IF(K6<>"",IF(K6<L6,1)) -> FALSE | BP6: =IF(L6<>"",IF(L6<K6,1)) -> FALSE | BQ6: =K6 -> 1 | BR6: =L6 -> 1 | BS6: =L6 -> 1 | BT6: =K6 -> 1 | BU6: =VLOOKUP(AJ6,AK4:AP7,2,0) -> Angers | BV6: =VLOOKUP(BU6,AL4:BA7,16,0) -> 5999.051 | BW6: =RANK(BV6,BV4:BV7) -> 3
F7: =AL7 -> Caen | K7: 2 | L7: 5 | M7: =AL5 -> Angers | U7: =VLOOKUP(AJ7,AK4:AP7,2,0) -> Caen | Z7: =IF(BV7=BV6,BW6,BW7) -> 4 | AA7: =VLOOKUP(U7,AL4:AZ7,7,0) -> 4 | AB7: =VLOOKUP(U7,AL4:AZ7,8,0) -> 3 | AC7: =VLOOKUP(U7,AL4:AZ7,9,0) -> 0 | AD7: =VLOOKUP(U7,AL4:AZ7,10,0) -> 1 | AE7: =VLOOKUP(U7,AL4:AZ7,11,0) -> 2 | AF7: =VLOOKUP(U7,AL4:AZ7,12,0) -> 4 | AG7: =VLOOKUP(U7,AL4:AZ7,13,0) -> 10 | AH7: =VLOOKUP(U7,AL4:AZ7,14,0) -> -6 | AI7: =VLOOKUP(U7,AL4:AZ7,15,0) -> 0 | AJ7: 4 | AK7: =AQ7 -> 4 | AL7: =Equipes!B13 -> Caen | AQ7: =RANK(BB7,BB4:BB7) -> 4 | AR7: =SUMPRODUCT((F4:J9=AL7)*(BG4:BG9))+SUMPRODUCT((M4:Q9=AL7)*(BH4:BH9)) -> 4 | AS7: =SUMPRODUCT((F4:J9=AL7)*(BI4:BI9))+SUMPRODUCT((M4:Q9=AL7)*(BJ4:BJ9)) -> 3 | AT7: =SUMPRODUCT((F4:J9=AL7)*(BK4:BK9))+SUMPRODUCT((M4:Q9=AL7)*(BL4:BL9)) -> 0 | AU7: =SUMPRODUCT((F4:J9=AL7)*(BM4:BM9))+SUMPRODUCT((M4:Q9=AL7)*(BN4:BN9)) -> 1 | AV7: =SUMPRODUCT((F4:J9=AL7)*(BO4:BO9))+SUMPRODUCT((M4:Q9=AL7)*(BP4:BP9)) -> 2 | AW7: =SUMPRODUCT((F4:J9=AL7)*(BQ4:BQ9))+SUMPRODUCT((M4:Q9=AL7)*(BR4:BR9)) -> 4 | AX7: =SUMPRODUCT((F4:J9=AL7)*(BS4:BS9))+SUMPRODUCT((M4:Q9=AL7)*(BT4:BT9)) -> 10 | AY7: =AW7-AX7 -> -6 | AZ7: =SUMPRODUCT((F4:J9=AL7)*(BC4:BC9))+SUMPRODUCT((M4:Q9=AL7)*(BD4:BD9)) -> 0 | BA7: =SUM(AR7*1000+(AY7)/10+(AW7)/100+(AT7)/1000) -> 3999.44 | BB7: =BA7+0.000001 -> 3999.44 | BC7: =IF(E7="F",1,0) -> 0 | BD7: =IF(R7="F",1,0) -> 0 | BE7: =IF(K7="",0,IF(K7>L7,4,IF(K7=L7,2,IF(K7<L7,1)))) -> 1 | BF7: =IF(L7="",0,IF(L7>K7,4,IF(L7=K7,2,IF(L7<K7,1)))) -> 4 | BG7: =IF(BC7=1,0,BE7) -> 1 | BH7: =IF(BD7=1,0,BF7) -> 4 | BI7: =IF(K7="",0,1) -> 1 | BJ7: =IF(L7="",0,1) -> 1 | BK7: =IF(K7<>"",IF(K7>L7,1)) -> FALSE | BL7: =IF(L7<>"",IF(L7>K7,1)) -> 1 | BM7: =IF(K7<>"",IF(K7=L7,1)) -> FALSE | BN7: =IF(L7<>"",IF(L7=K7,1)) -> FALSE | BO7: =IF(K7<>"",IF(K7<L7,1)) -> 1 | BP7: =IF(L7<>"",IF(L7<K7,1)) -> FALSE | BQ7: =K7 -> 2 | BR7: =L7 -> 5 | BS7: =L7 -> 5 | BT7: =K7 -> 2 | BU7: =VLOOKUP(AJ7,AK4:AP7,2,0) -> Caen | BV7: =VLOOKUP(BU7,AL4:BA7,16,0) -> 3999.44 | BW7: =RANK(BV7,BV4:BV7) -> 4
F8: =AL5 -> Angers | K8: 0 | L8: 1 | M8: =AL6 -> Bordeaux | BC8: =IF(E8="F",1,0) -> 0 | BD8: =IF(R8="F",1,0) -> 0 | BE8: =IF(K8="",0,IF(K8>L8,4,IF(K8=L8,2,IF(K8<L8,1)))) -> 1 | BF8: =IF(L8="",0,IF(L8>K8,4,IF(L8=K8,2,IF(L8<K8,1)))) -> 4 | BG8: =IF(BC8=1,0,BE8) -> 1 | BH8: =IF(BD8=1,0,BF8) -> 4 | BI8: =IF(K8="",0,1) -> 1 | BJ8: =IF(L8="",0,1) -> 1 | BK8: =IF(K8<>"",IF(K8>L8,1)) -> FALSE | BL8: =IF(L8<>"",IF(L8>K8,1)) -> 1 | BM8: =IF(K8<>"",IF(K8=L8,1)) -> FALSE | BN8: =IF(L8<>"",IF(L8=K8,1)) -> FALSE | BO8: =IF(K8<>"",IF(K8<L8,1)) -> 1 | BP8: =IF(L8<>"",IF(L8<K8,1)) -> FALSE | BQ8: =K8 -> 0 | BR8: =L8 -> 1 | BS8: =L8 -> 1 | BT8: =K8 -> 0
F9: =AL7 -> Caen | K9: 0 | L9: 3 | M9: =AL4 -> Lyon | BC9: =IF(E9="F",1,0) -> 0 | BD9: =IF(R9="F",1,0) -> 0 | BE9: =IF(K9="",0,IF(K9>L9,4,IF(K9=L9,2,IF(K9<L9,1)))) -> 1 | BF9: =IF(L9="",0,IF(L9>K9,4,IF(L9=K9,2,IF(L9<K9,1)))) -> 4 | BG9: =IF(BC9=1,0,BE9) -> 1 | BH9: =IF(BD9=1,0,BF9) -> 4 | BI9: =IF(K9="",0,1) -> 1 | BJ9: =IF(L9="",0,1) -> 1 | BK9: =IF(K9<>"",IF(K9>L9,1)) -> FALSE | BL9: =IF(L9<>"",IF(L9>K9,1)) -> 1 | BM9: =IF(K9<>"",IF(K9=L9,1)) -> FALSE | BN9: =IF(L9<>"",IF(L9=K9,1)) -> FALSE | BO9: =IF(K9<>"",IF(K9<L9,1)) -> 1 | BP9: =IF(L9<>"",IF(L9<K9,1)) -> FALSE | BQ9: =K9 -> 0 | BR9: =L9 -> 3 | BS9: =L9 -> 3 | BT9: =K9 -> 0
A10: N° Terrain | C10: Heure | E10: FORFAIT | F10: POULE B | R10: FORFAIT | S10: POULE B | U10: CLASSEMENT
F12: Equipe | K12: Buts | L12: Buts | M12: Equipes | U12: Equipes | Z12: Rang | AA12: Pts | AB12: J | AC12: G | AD12: N | AE12: P | AF12: B + | AG12: B - | AH12: Diff | AI12: F | AK12: R | AL12: Equipes | AQ12: Rang | AR12: Pts | AS12: J | AT12: G | AU12: N | AV12: P | AW12: B + | AX12: B - | AY12: Diff | AZ12: F | BA12: % | BB12: % | BC12: P | BD12: P | BE12: Pts | BF12: Pts | BG12: TPts | BH12: TPts | BI12: J | BJ12: J | BK12: G | BL12: G | BM12: N | BN12: N | BO12: P | BP12: P | BQ12: Bts + | BR12: Bts + | BS12: Bts - | BT12: Bts - | BU12: Equipes | BV12: % | BW12: R
F13: =AL14 -> Nice | K13: 3 | L13: 0 | M13: =AL13 -> Marseile | U13: =VLOOKUP(AJ13,AK13:AP16,2,0) -> Nice | Z13: 1 | AA13: =VLOOKUP(U13,AL13:AZ16,7,0) -> 9 | AB13: =VLOOKUP(U13,AL13:AZ16,8,0) -> 3 | AC13: =VLOOKUP(U13,AL13:AZ16,9,0) -> 2 | AD13: =VLOOKUP(U13,AL13:AZ16,10,0) -> 0 | AE13: =VLOOKUP(U13,AL13:AZ16,11,0) -> 1 | AF13: =VLOOKUP(U13,AL13:AZ16,12,0) -> 7 | AG13: =VLOOKUP(U13,AL13:AZ16,13,0) -> 4 | AH13: =VLOOKUP(U13,AL13:AZ16,14,0) -> 3 | AI13: =VLOOKUP(U13,AL13:AZ16,15,0) -> 0 | AJ13: 1 | AK13: =AQ13 -> 3 | AL13: =Equipes!G4 -> Marseile | AQ13: =RANK(BB13,BB13:BB16) -> 3 | AR13: =SUMPRODUCT((F13:J18=AL13)*(BG13:BG18))+SUMPRODUCT((M13:Q18=AL13)*(BH13:BH18)) -> 9 | AS13: =SUMPRODUCT((F13:J18=AL13)*(BI13:BI18))+SUMPRODUCT((M13:Q18=AL13)*(BJ13:BJ18)) -> 3 | AT13: =SUMPRODUCT((F13:J18=AL13)*(BK13:BK18))+SUMPRODUCT((M13:Q18=AL13)*(BL13:BL18)) -> 2 | AU13: =SUMPRODUCT((F13:J18=AL13)*(BM13:BM18))+SUMPRODUCT((M13:Q18=AL13)*(BN13:BN18)) -> 0 | AV13: =SUMPRODUCT((F13:J18=AL13)*(BO13:BO18))+SUMPRODUCT((M13:Q18=AL13)*(BP13:BP18)) -> 1 | AW13: =SUMPRODUCT((F13:J18=AL13)*(BQ13:BQ18))+SUMPRODUCT((M13:Q18=AL13)*(BR13:BR18)) -> 4 | AX13: =SUMPRODUCT((F13:J18=AL13)*(BS13:BS18))+SUMPRODUCT((M13:Q18=AL13)*(BT13:BT18)) -> 3 | AY13: =AW13-AX13 -> 1 | AZ13: =SUMPRODUCT((F13:J18=AL13)*(BC13:BC18))+SUMPRODUCT((M13:Q18=AL13)*(BD13:BD18)) -> 0 | BA13: =SUM(AR13*1000+(AY13)/10+(AW13)/100+(AT13)/1000) -> 9000.142 | BB13: =BA13+0.000004 -> 9000.142 | BC13: =IF(E13="F",1,0) -> 0 | BD13: =IF(R13="F",1,0) -> 0 | BE13: =IF(K13="",0,IF(K13>L13,4,IF(K13=L13,2,IF(K13<L13,1)))) -> 4 | BF13: =IF(L13="",0,IF(L13>K13,4,IF(L13=K13,2,IF(L13<K13,1)))) -> 1 | BG13: =IF(BC13=1,0,BE13) -> 4 | BH13: =IF(BD13=1,0,BF13) -> 1 | BI13: =IF(K13="",0,1) -> 1 | BJ13: =IF(L13="",0,1) -> 1 | BK13: =IF(K13<>"",IF(K13>L13,1)) -> 1 | BL13: =IF(L13<>"",IF(L13>K13,1)) -> FALSE | BM13: =IF(K13<>"",IF(K13=L13,1)) -> FALSE | BN13: =IF(L13<>"",IF(L13=K13,1)) -> FALSE | BO13: =IF(K13<>"",IF(K13<L13,1)) -> FALSE | BP13: =IF(L13<>"",IF(L13<K13,1)) -> 1 | BQ13: =K13 -> 3 | BR13: =L13 -> 0 | BS13: =L13 -> 0 | BT13: =K13 -> 3 | BU13: =VLOOKUP(AJ13,AK13:AP16,2,0) -> Nice | BV13: =VLOOKUP(BU13,AL13:BA16,16,0) -> 9000.372 | BW13: =RANK(BV13,BV13:BV16) -> 1
F14: =AL15 -> Amiens | K14: 5 | L14: 2 | M14: =AL16 -> Bord | U14: =VLOOKUP(AJ14,AK13:AP16,2,0) -> Amiens | Z14: =IF(BV14=BV13,BW13,BW14) -> 1 | AA14: =VLOOKUP(U14,AL13:AZ16,7,0) -> 9 | AB14: =VLOOKUP(U14,AL13:AZ16,8,0) -> 3 | AC14: =VLOOKUP(U14,AL13:AZ16,9,0) -> 2 | AD14: =VLOOKUP(U14,AL13:AZ16,10,0) -> 0 | AE14: =VLOOKUP(U14,AL13:AZ16,11,0) -> 1 | AF14: =VLOOKUP(U14,AL13:AZ16,12,0) -> 7 | AG14: =VLOOKUP(U14,AL13:AZ16,13,0) -> 4 | AH14: =VLOOKUP(U14,AL13:AZ16,14,0) -> 3 | AI14: =VLOOKUP(U14,AL13:AZ16,15,0) -> 0 | AJ14: 2 | AK14: =AQ14 -> 1 | AL14: =Equipes!G7 -> Nice | AQ14: =RANK(BB14,BB13:BB16) -> 1 | AR14: =SUMPRODUCT((F13:J18=AL14)*(BG13:BG18))+SUMPRODUCT((M13:Q18=AL14)*(BH13:BH18)) -> 9 | AS14: =SUMPRODUCT((F13:J18=AL14)*(BI13:BI18))+SUMPRODUCT((M13:Q18=AL14)*(BJ13:BJ18)) -> 3 | AT14: =SUMPRODUCT((F13:J18=AL14)*(BK13:BK18))+SUMPRODUCT((M13:Q18=AL14)*(BL13:BL18)) -> 2 | AU14: =SUMPRODUCT((F13:J18=AL14)*(BM13:BM18))+SUMPRODUCT((M13:Q18=AL14)*(BN13:BN18)) -> 0 | AV14: =SUMPRODUCT((F13:J18=AL14)*(BO13:BO18))+SUMPRODUCT((M13:Q18=AL14)*(BP13:BP18)) -> 1 | AW14: =SUMPRODUCT((F13:J18=AL14)*(BQ13:BQ18))+SUMPRODUCT((M13:Q18=AL14)*(BR13:BR18)) -> 7 | AX14: =SUMPRODUCT((F13:J18=AL14)*(BS13:BS18))+SUMPRODUCT((M13:Q18=AL14)*(BT13:BT18)) -> 4 | AY14: =AW14-AX14 -> 3 | AZ14: =SUMPRODUCT((F13:J18=AL14)*(BC13:BC18))+SUMPRODUCT((M13:Q18=AL14)*(BD13:BD18)) -> 0 | BA14: =SUM(AR14*1000+(AY14)/10+(AW14)/100+(AT14)/1000) -> 9000.372 | BB14: =BA14+0.000003 -> 9000.372 | BC14: =IF(E14="F",1,0) -> 0 | BD14: =IF(R14="F",1,0) -> 0 | BE14: =IF(K14="",0,IF(K14>L14,4,IF(K14=L14,2,IF(K14<L14,1)))) -> 4 | BF14: =IF(L14="",0,IF(L14>K14,4,IF(L14=K14,2,IF(L14<K14,1)))) -> 1 | BG14: =IF(BC14=1,0,BE14) -> 4 | BH14: =IF(BD14=1,0,BF14) -> 1 | BI14: =IF(K14="",0,1) -> 1 | BJ14: =IF(L14="",0,1) -> 1 | BK14: =IF(K14<>"",IF(K14>L14,1)) -> 1 | BL14: =IF(L14<>"",IF(L14>K14,1)) -> FALSE | BM14: =IF(K14<>"",IF(K14=L14,1)) -> FALSE | BN14: =IF(L14<>"",IF(L14=K14,1)) -> FALSE | BO14: =IF(K14<>"",IF(K14<L14,1)) -> FALSE | BP14: =IF(L14<>"",IF(L14<K14,1)) -> 1 | BQ14: =K14 -> 5 | BR14: =L14 -> 2 | BS14: =L14 -> 2 | BT14: =K14 -> 5 | BU14: =VLOOKUP(AJ14,AK13:AP16,2,0) -> Amiens | BV14: =VLOOKUP(BU14,AL13:BA16,16,0) -> 9000.372 | BW14: =RANK(BV14,BV13:BV16) -> 1
F15: =AL13 -> Marseile | K15: 1 | L15: 0 | M15: =AL15 -> Amiens | U15: =VLOOKUP(AJ15,AK13:AP16,2,0) -> Marseile | Z15: =IF(BV15=BV14,BW14,BW15) -> 3 | AA15: =VLOOKUP(U15,AL13:AZ16,7,0) -> 9 | AB15: =VLOOKUP(U15,AL13:AZ16,8,0) -> 3 | AC15: =VLOOKUP(U15,AL13:AZ16,9,0) -> 2 | AD15: =VLOOKUP(U15,AL13:AZ16,10,0) -> 0 | AE15: =VLOOKUP(U15,AL13:AZ16,11,0) -> 1 | AF15: =VLOOKUP(U15,AL13:AZ16,12,0) -> 4 | AG15: =VLOOKUP(U15,AL13:AZ16,13,0) -> 3 | AH15: =VLOOKUP(U15,AL13:AZ16,14,0) -> 1 | AI15: =VLOOKUP(U15,AL13:AZ16,15,0) -> 0 | AJ15: 3 | AK15: =AQ15 -> 2 | AL15: =Equipes!G10 -> Amiens | AQ15: =RANK(BB15,BB13:BB16) -> 2 | AR15: =SUMPRODUCT((F13:J18=AL15)*(BG13:BG18))+SUMPRODUCT((M13:Q18=AL15)*(BH13:BH18)) -> 9 | AS15: =SUMPRODUCT((F13:J18=AL15)*(BI13:BI18))+SUMPRODUCT((M13:Q18=AL15)*(BJ13:BJ18)) -> 3 | AT15: =SUMPRODUCT((F13:J18=AL15)*(BK13:BK18))+SUMPRODUCT((M13:Q18=AL15)*(BL13:BL18)) -> 2 | AU15: =SUMPRODUCT((F13:J18=AL15)*(BM13:BM18))+SUMPRODUCT((M13:Q18=AL15)*(BN13:BN18)) -> 0 | AV15: =SUMPRODUCT((F13:J18=AL15)*(BO13:BO18))+SUMPRODUCT((M13:Q18=AL15)*(BP13:BP18)) -> 1 | AW15: =SUMPRODUCT((F13:J18=AL15)*(BQ13:BQ18))+SUMPRODUCT((M13:Q18=AL15)*(BR13:BR18)) -> 7 | AX15: =SUMPRODUCT((F13:J18=AL15)*(BS13:BS18))+SUMPRODUCT((M13:Q18=AL15)*(BT13:BT18)) -> 4 | AY15: =AW15-AX15 -> 3 | AZ15: =SUMPRODUCT((F13:J18=AL15)*(BC13:BC18))+SUMPRODUCT((M13:Q18=AL15)*(BD13:BD18)) -> 0 | BA15: =SUM(AR15*1000+(AY15)/10+(AW15)/100+(AT15)/1000) -> 9000.372 | BB15: =BA15+0.000002 -> 9000.372 | BC15: =IF(E15="F",1,0) -> 0 | BD15: =IF(R15="F",1,0) -> 0 | BE15: =IF(K15="",0,IF(K15>L15,4,IF(K15=L15,2,IF(K15<L15,1)))) -> 4 | BF15: =IF(L15="",0,IF(L15>K15,4,IF(L15=K15,2,IF(L15<K15,1)))) -> 1 | BG15: =IF(BC15=1,0,BE15) -> 4 | BH15: =IF(BD15=1,0,BF15) -> 1 | BI15: =IF(K15="",0,1) -> 1 | BJ15: =IF(L15="",0,1) -> 1 | BK15: =IF(K15<>"",IF(K15>L15,1)) -> 1 | BL15: =IF(L15<>"",IF(L15>K15,1)) -> FALSE | BM15: =IF(K15<>"",IF(K15=L15,1)) -> FALSE | BN15: =IF(L15<>"",IF(L15=K15,1)) -> FALSE | BO15: =IF(K15<>"",IF(K15<L15,1)) -> FALSE | BP15: =IF(L15<>"",IF(L15<K15,1)) -> 1 | BQ15: =K15 -> 1 | BR15: =L15 -> 0 | BS15: =L15 -> 0 | BT15: =K15 -> 1 | BU15: =VLOOKUP(AJ15,AK13:AP16,2,0) -> Marseile | BV15: =VLOOKUP(BU15,AL13:BA16,16,0) -> 9000.142 | BW15: =RANK(BV15,BV13:BV16) -> 3
F16: =AL16 -> Bord | K16: 2 | L16: 3 | M16: =AL14 -> Nice | U16: =VLOOKUP(AJ16,AK13:AP16,2,0) -> Bord | Z16: =IF(BV16=BV15,BW15,BW16) -> 4 | AA16: =VLOOKUP(U16,AL13:AZ16,7,0) -> 3 | AB16: =VLOOKUP(U16,AL13:AZ16,8,0) -> 3 | AC16: =VLOOKUP(U16,AL13:AZ16,9,0) -> 0 | AD16: =VLOOKUP(U16,AL13:AZ16,10,0) -> 0 | AE16: =VLOOKUP(U16,AL13:AZ16,11,0) -> 3 | AF16: =VLOOKUP(U16,AL13:AZ16,12,0) -> 4 | AG16: =VLOOKUP(U16,AL13:AZ16,13,0) -> 11 | AH16: =VLOOKUP(U16,AL13:AZ16,14,0) -> -7 | AI16: =VLOOKUP(U16,AL13:AZ16,15,0) -> 0 | AJ16: 4 | AK16: =AQ16 -> 4 | AL16: =Equipes!G13 -> Bord | AQ16: =RANK(BB16,BB13:BB16) -> 4 | AR16: =SUMPRODUCT((F13:J18=AL16)*(BG13:BG18))+SUMPRODUCT((M13:Q18=AL16)*(BH13:BH18)) -> 3 | AS16: =SUMPRODUCT((F13:J18=AL16)*(BI13:BI18))+SUMPRODUCT((M13:Q18=AL16)*(BJ13:BJ18)) -> 3 | AT16: =SUMPRODUCT((F13:J18=AL16)*(BK13:BK18))+SUMPRODUCT((M13:Q18=AL16)*(BL13:BL18)) -> 0 | AU16: =SUMPRODUCT((F13:J18=AL16)*(BM13:BM18))+SUMPRODUCT((M13:Q18=AL16)*(BN13:BN18)) -> 0 | AV16: =SUMPRODUCT((F13:J18=AL16)*(BO13:BO18))+SUMPRODUCT((M13:Q18=AL16)*(BP13:BP18)) -> 3 | AW16: =SUMPRODUCT((F13:J18=AL16)*(BQ13:BQ18))+SUMPRODUCT((M13:Q18=AL16)*(BR13:BR18)) -> 4 | AX16: =SUMPRODUCT((F13:J18=AL16)*(BS13:BS18))+SUMPRODUCT((M13:Q18=AL16)*(BT13:BT18)) -> 11 | AY16: =AW16-AX16 -> -7 | AZ16: =SUMPRODUCT((F13:J18=AL16)*(BC13:BC18))+SUMPRODUCT((M13:Q18=AL16)*(BD13:BD18)) -> 0 | BA16: =SUM(AR16*1000+(AY16)/10+(AW16)/100+(AT16)/1000) -> 2999.34 | BB16: =BA16+0.000001 -> 2999.34 | BC16: =IF(E16="F",1,0) -> 0 | BD16: =IF(R16="F",1,0) -> 0 | BE16: =IF(K16="",0,IF(K16>L16,4,IF(K16=L16,2,IF(K16<L16,1)))) -> 1 | BF16: =IF(L16="",0,IF(L16>K16,4,IF(L16=K16,2,IF(L16<K16,1)))) -> 4 | BG16: =IF(BC16=1,0,BE16) -> 1 | BH16: =IF(BD16=1,0,BF16) -> 4 | BI16: =IF(K16="",0,1) -> 1 | BJ16: =IF(L16="",0,1) -> 1 | BK16: =IF(K16<>"",IF(K16>L16,1)) -> FALSE | BL16: =IF(L16<>"",IF(L16>K16,1)) -> 1 | BM16: =IF(K16<>"",IF(K16=L16,1)) -> FALSE | BN16: =IF(L16<>"",IF(L16=K16,1)) -> FALSE | BO16: =IF(K16<>"",IF(K16<L16,1)) -> 1 | BP16: =IF(L16<>"",IF(L16<K16,1)) -> FALSE | BQ16: =K16 -> 2 | BR16: =L16 -> 3 | BS16: =L16 -> 3 | BT16: =K16 -> 2 | BU16: =VLOOKUP(AJ16,AK13:AP16,2,0) -> Bord | BV16: =VLOOKUP(BU16,AL13:BA16,16,0) -> 2999.34 | BW16: =RANK(BV16,BV13:BV16) -> 4
F17: =AL14 -> Nice | K17: 1 | L17: 2 | M17: =AL15 -> Amiens | BC17: =IF(E17="F",1,0) -> 0 | BD17: =IF(R17="F",1,0) -> 0 | BE17: =IF(K17="",0,IF(K17>L17,4,IF(K17=L17,2,IF(K17<L17,1)))) -> 1 | BF17: =IF(L17="",0,IF(L17>K17,4,IF(L17=K17,2,IF(L17<K17,1)))) -> 4 | BG17: =IF(BC17=1,0,BE17) -> 1 | BH17: =IF(BD17=1,0,BF17) -> 4 | BI17: =IF(K17="",0,1) -> 1 | BJ17: =IF(L17="",0,1) -> 1 | BK17: =IF(K17<>"",IF(K17>L17,1)) -> FALSE | BL17: =IF(L17<>"",IF(L17>K17,1)) -> 1 | BM17: =IF(K17<>"",IF(K17=L17,1)) -> FALSE | BN17: =IF(L17<>"",IF(L17=K17,1)) -> FALSE | BO17: =IF(K17<>"",IF(K17<L17,1)) -> 1 | BP17: =IF(L17<>"",IF(L17<K17,1)) -> FALSE | BQ17: =K17 -> 1 | BR17: =L17 -> 2 | BS17: =L17 -> 2 | BT17: =K17 -> 1
F18: =AL16 -> Bord | K18: 0 | L18: 3 | M18: =AL13 -> Marseile | BC18: =IF(E18="F",1,0) -> 0 | BD18: =IF(R18="F",1,0) -> 0 | BE18: =IF(K18="",0,IF(K18>L18,4,IF(K18=L18,2,IF(K18<L18,1)))) -> 1 | BF18: =IF(L18="",0,IF(L18>K18,4,IF(L18=K18,2,IF(L18<K18,1)))) -> 4 | BG18: =IF(BC18=1,0,BE18) -> 1 | BH18: =IF(BD18=1,0,BF18) -> 4 | BI18: =IF(K18="",0,1) -> 1 | BJ18: =IF(L18="",0,1) -> 1 | BK18: =IF(K18<>"",IF(K18>L18,1)) -> FALSE | BL18: =IF(L18<>"",IF(L18>K18,1)) -> 1 | BM18: =IF(K18<>"",IF(K18=L18,1)) -> FALSE | BN18: =IF(L18<>"",IF(L18=K18,1)) -> FALSE | BO18: =IF(K18<>"",IF(K18<L18,1)) -> 1 | BP18: =IF(L18<>"",IF(L18<K18,1)) -> FALSE | BQ18: =K18 -> 0 | BR18: =L18 -> 3 | BS18: =L18 -> 3 | BT18: =K18 -> 0
A19: N° Terrain | C19: Heure | E19: FORFAIT | F19: POULE C | R19: FORFAIT | S19: POULE C | U19: CLASSEMENT
F21: Equipe | K21: Buts | L21: Buts | M21: Equipes | U21: Equipes | Z21: Rang | AA21: Pts | AB21: J | AC21: G | AD21: N | AE21: P | AF21: B + | AG21: B - | AH21: Diff | AI21: F | AK21: R | AL21: Equipes | AQ21: Rang | AR21: Pts | AS21: J | AT21: G | AU21: N | AV21: P | AW21: B + | AX21: B - | AY21: Diff | AZ21: F | BA21: % | BB21: % | BC21: P | BD21: P | BE21: Pts | BF21: Pts | BG21: TPts | BH21: TPts | BI21: J | BJ21: J | BK21: G | BL21: G | BM21: N | BN21: N | BO21: P | BP21: P | BQ21: Bts + | BR21: Bts + | BS21: Bts - | BT21: Bts - | BU21: Equipes | BV21: % | BW21: R
F22: =AL23 -> Metz | K22: 1 | L22: 2 | M22: =AL22 -> Lille | U22: =VLOOKUP(AJ22,AK22:AP25,2,0) -> Lille | Z22: 1 | AA22: =VLOOKUP(U22,AL22:AZ25,7,0) -> 9 | AB22: =VLOOKUP(U22,AL22:AZ25,8,0) -> 3 | AC22: =VLOOKUP(U22,AL22:AZ25,9,0) -> 2 | AD22: =VLOOKUP(U22,AL22:AZ25,10,0) -> 0 | AE22: =VLOOKUP(U22,AL22:AZ25,11,0) -> 1 | AF22: =VLOOKUP(U22,AL22:AZ25,12,0) -> 6 | AG22: =VLOOKUP(U22,AL22:AZ25,13,0) -> 6 | AH22: =VLOOKUP(U22,AL22:AZ25,14,0) -> 0 | AI22: =VLOOKUP(U22,AL22:AZ25,15,0) -> 0 | AJ22: 1 | AK22: =AQ22 -> 1 | AL22: =Equipes!L4 -> Lille | AQ22: =RANK(BB22,BB22:BB25) -> 1 | AR22: =SUMPRODUCT((F22:J27=AL22)*(BG22:BG27))+SUMPRODUCT((M22:Q27=AL22)*(BH22:BH27)) -> 9 | AS22: =SUMPRODUCT((F22:J27=AL22)*(BI22:BI27))+SUMPRODUCT((M22:Q27=AL22)*(BJ22:BJ27)) -> 3 | AT22: =SUMPRODUCT((F22:J27=AL22)*(BK22:BK27))+SUMPRODUCT((M22:Q27=AL22)*(BL22:BL27)) -> 2 | AU22: =SUMPRODUCT((F22:J27=AL22)*(BM22:BM27))+SUMPRODUCT((M22:Q27=AL22)*(BN22:BN27)) -> 0 | AV22: =SUMPRODUCT((F22:J27=AL22)*(BO22:BO27))+SUMPRODUCT((M22:Q27=AL22)*(BP22:BP27)) -> 1 | AW22: =SUMPRODUCT((F22:J27=AL22)*(BQ22:BQ27))+SUMPRODUCT((M22:Q27=AL22)*(BR22:BR27)) -> 6 | AX22: =SUMPRODUCT((F22:J27=AL22)*(BS22:BS27))+SUMPRODUCT((M22:Q27=AL22)*(BT22:BT27)) -> 6 | AY22: =AW22-AX22 -> 0 | AZ22: =SUMPRODUCT((F22:J27=AL22)*(BC22:BC27))+SUMPRODUCT((M22:Q27=AL22)*(BD22:BD27)) -> 0 | BA22: =SUM(AR22*1000+(AY22)/10+(AW22)/100+(AT22)/1000) -> 9000.062 | BB22: =BA22+0.000004 -> 9000.062 | BC22: =IF(E22="F",1,0) -> 0 | BD22: =IF(R22="F",1,0) -> 0 | BE22: =IF(K22="",0,IF(K22>L22,4,IF(K22=L22,2,IF(K22<L22,1)))) -> 1 | BF22: =IF(L22="",0,IF(L22>K22,4,IF(L22=K22,2,IF(L22<K22,1)))) -> 4 | BG22: =IF(BC22=1,0,BE22) -> 1 | BH22: =IF(BD22=1,0,BF22) -> 4 | BI22: =IF(K22="",0,1) -> 1 | BJ22: =IF(L22="",0,1) -> 1 | BK22: =IF(K22<>"",IF(K22>L22,1)) -> FALSE | BL22: =IF(L22<>"",IF(L22>K22,1)) -> 1 | BM22: =IF(K22<>"",IF(K22=L22,1)) -> FALSE | BN22: =IF(L22<>"",IF(L22=K22,1)) -> FALSE | BO22: =IF(K22<>"",IF(K22<L22,1)) -> 1 | BP22: =IF(L22<>"",IF(L22<K22,1)) -> FALSE | BQ22: =K22 -> 1 | BR22: =L22 -> 2 | BS22: =L22 -> 2 | BT22: =K22 -> 1 | BU22: =VLOOKUP(AJ22,AK22:AP25,2,0) -> Lille | BV22: =VLOOKUP(BU22,AL22:BA25,16,0) -> 9000.062 | BW22: =RANK(BV22,BV22:BV25) -> 1
F23: =AL24 -> Nancy | K23: 1 | L23: 3 | M23: =AL25 -> FCD | U23: =VLOOKUP(AJ23,AK22:AP25,2,0) -> Nancy | Z23: =IF(BV23=BV22,BW22,BW23) -> 2 | AA23: =VLOOKUP(U23,AL22:AZ25,7,0) -> 7 | AB23: =VLOOKUP(U23,AL22:AZ25,8,0) -> 3 | AC23: =VLOOKUP(U23,AL22:AZ25,9,0) -> 1 | AD23: =VLOOKUP(U23,AL22:AZ25,10,0) -> 1 | AE23: =VLOOKUP(U23,AL22:AZ25,11,0) -> 1 | AF23: =VLOOKUP(U23,AL22:AZ25,12,0) -> 6 | AG23: =VLOOKUP(U23,AL22:AZ25,13,0) -> 5 | AH23: =VLOOKUP(U23,AL22:AZ25,14,0) -> 1 | AI23: =VLOOKUP(U23,AL22:AZ25,15,0) -> 0 | AJ23: 2 | AK23: =AQ23 -> 3 | AL23: =Equipes!L7 -> Metz | AQ23: =RANK(BB23,BB22:BB25) -> 3 | AR23: =SUMPRODUCT((F22:J27=AL23)*(BG22:BG27))+SUMPRODUCT((M22:Q27=AL23)*(BH22:BH27)) -> 7 | AS23: =SUMPRODUCT((F22:J27=AL23)*(BI22:BI27))+SUMPRODUCT((M22:Q27=AL23)*(BJ22:BJ27)) -> 3 | AT23: =SUMPRODUCT((F22:J27=AL23)*(BK22:BK27))+SUMPRODUCT((M22:Q27=AL23)*(BL22:BL27)) -> 1 | AU23: =SUMPRODUCT((F22:J27=AL23)*(BM22:BM27))+SUMPRODUCT((M22:Q27=AL23)*(BN22:BN27)) -> 1 | AV23: =SUMPRODUCT((F22:J27=AL23)*(BO22:BO27))+SUMPRODUCT((M22:Q27=AL23)*(BP22:BP27)) -> 1 | AW23: =SUMPRODUCT((F22:J27=AL23)*(BQ22:BQ27))+SUMPRODUCT((M22:Q27=AL23)*(BR22:BR27)) -> 4 | AX23: =SUMPRODUCT((F22:J27=AL23)*(BS22:BS27))+SUMPRODUCT((M22:Q27=AL23)*(BT22:BT27)) -> 4 | AY23: =AW23-AX23 -> 0 | AZ23: =SUMPRODUCT((F22:J27=AL23)*(BC22:BC27))+SUMPRODUCT((M22:Q27=AL23)*(BD22:BD27)) -> 0 | BA23: =SUM(AR23*1000+(AY23)/10+(AW23)/100+(AT23)/1000) -> 7000.041 | BB23: =BA23+0.000003 -> 7000.041 | BC23: =IF(E23="F",1,0) -> 0 | BD23: =IF(R23="F",1,0) -> 0 | BE23: =IF(K23="",0,IF(K23>L23,4,IF(K23=L23,2,IF(K23<L23,1)))) -> 1 | BF23: =IF(L23="",0,IF(L23>K23,4,IF(L23=K23,2,IF(L23<K23,1)))) -> 4 | BG23: =IF(BC23=1,0,BE23) -> 1 | BH23: =IF(BD23=1,0,BF23) -> 4 | BI23: =IF(K23="",0,1) -> 1 | BJ23: =IF(L23="",0,1) -> 1 | BK23: =IF(K23<>"",IF(K23>L23,1)) -> FALSE | BL23: =IF(L23<>"",IF(L23>K23,1)) -> 1 | BM23: =IF(K23<>"",IF(K23=L23,1)) -> FALSE | BN23: =IF(L23<>"",IF(L23=K23,1)) -> FALSE | BO23: =IF(K23<>"",IF(K23<L23,1)) -> 1 | BP23: =IF(L23<>"",IF(L23<K23,1)) -> FALSE | BQ23: =K23 -> 1 | BR23: =L23 -> 3 | BS23: =L23 -> 3 | BT23: =K23 -> 1 | BU23: =VLOOKUP(AJ23,AK22:AP25,2,0) -> Nancy | BV23: =VLOOKUP(BU23,AL22:BA25,16,0) -> 7000.161 | BW23: =RANK(BV23,BV22:BV25) -> 2
F24: =AL22 -> Lille | K24: 2 | L24: 5 | M24: =AL24 -> Nancy | U24: =VLOOKUP(AJ24,AK22:AP25,2,0) -> Metz | Z24: =IF(BV24=BV23,BW23,BW24) -> 3 | AA24: =VLOOKUP(U24,AL22:AZ25,7,0) -> 7 | AB24: =VLOOKUP(U24,AL22:AZ25,8,0) -> 3 | AC24: =VLOOKUP(U24,AL22:AZ25,9,0) -> 1 | AD24: =VLOOKUP(U24,AL22:AZ25,10,0) -> 1 | AE24: =VLOOKUP(U24,AL22:AZ25,11,0) -> 1 | AF24: =VLOOKUP(U24,AL22:AZ25,12,0) -> 4 | AG24: =VLOOKUP(U24,AL22:AZ25,13,0) -> 4 | AH24: =VLOOKUP(U24,AL22:AZ25,14,0) -> 0 | AI24: =VLOOKUP(U24,AL22:AZ25,15,0) -> 0 | AJ24: 3 | AK24: =AQ24 -> 2 | AL24: =Equipes!L10 -> Nancy | AQ24: =RANK(BB24,BB22:BB25) -> 2 | AR24: =SUMPRODUCT((F22:J27=AL24)*(BG22:BG27))+SUMPRODUCT((M22:Q27=AL24)*(BH22:BH27)) -> 7 | AS24: =SUMPRODUCT((F22:J27=AL24)*(BI22:BI27))+SUMPRODUCT((M22:Q27=AL24)*(BJ22:BJ27)) -> 3 | AT24: =SUMPRODUCT((F22:J27=AL24)*(BK22:BK27))+SUMPRODUCT((M22:Q27=AL24)*(BL22:BL27)) -> 1 | AU24: =SUMPRODUCT((F22:J27=AL24)*(BM22:BM27))+SUMPRODUCT((M22:Q27=AL24)*(BN22:BN27)) -> 1 | AV24: =SUMPRODUCT((F22:J27=AL24)*(BO22:BO27))+SUMPRODUCT((M22:Q27=AL24)*(BP22:BP27)) -> 1 | AW24: =SUMPRODUCT((F22:J27=AL24)*(BQ22:BQ27))+SUMPRODUCT((M22:Q27=AL24)*(BR22:BR27)) -> 6 | AX24: =SUMPRODUCT((F22:J27=AL24)*(BS22:BS27))+SUMPRODUCT((M22:Q27=AL24)*(BT22:BT27)) -> 5 | AY24: =AW24-AX24 -> 1 | AZ24: =SUMPRODUCT((F22:J27=AL24)*(BC22:BC27))+SUMPRODUCT((M22:Q27=AL24)*(BD22:BD27)) -> 0 | BA24: =SUM(AR24*1000+(AY24)/10+(AW24)/100+(AT24)/1000) -> 7000.161 | BB24: =BA24+0.000002 -> 7000.161 | BC24: =IF(E24="F",1,0) -> 0 | BD24: =IF(R24="F",1,0) -> 0 | BE24: =IF(K24="",0,IF(K24>L24,4,IF(K24=L24,2,IF(K24<L24,1)))) -> 1 | BF24: =IF(L24="",0,IF(L24>K24,4,IF(L24=K24,2,IF(L24<K24,1)))) -> 4 | BG24: =IF(BC24=1,0,BE24) -> 1 | BH24: =IF(BD24=1,0,BF24) -> 4 | BI24: =IF(K24="",0,1) -> 1 | BJ24: =IF(L24="",0,1) -> 1 | BK24: =IF(K24<>"",IF(K24>L24,1)) -> FALSE | BL24: =IF(L24<>"",IF(L24>K24,1)) -> 1 | BM24: =IF(K24<>"",IF(K24=L24,1)) -> FALSE | BN24: =IF(L24<>"",IF(L24=K24,1)) -> FALSE | BO24: =IF(K24<>"",IF(K24<L24,1)) -> 1 | BP24: =IF(L24<>"",IF(L24<K24,1)) -> FALSE | BQ24: =K24 -> 2 | BR24: =L24 -> 5 | BS24: =L24 -> 5 | BT24: =K24 -> 2 | BU24: =VLOOKUP(AJ24,AK22:AP25,2,0) -> Metz | BV24: =VLOOKUP(BU24,AL22:BA25,16,0) -> 7000.041 | BW24: =RANK(BV24,BV22:BV25) -> 3
F25: =AL25 -> FCD | K25: 2 | L25: 3 | M25: =AL23 -> Metz | U25: =VLOOKUP(AJ25,AK22:AP25,2,0) -> FCD | Z25: =IF(BV25=BV24,BW24,BW25) -> 4 | AA25: =VLOOKUP(U25,AL22:AZ25,7,0) -> 6 | AB25: =VLOOKUP(U25,AL22:AZ25,8,0) -> 3 | AC25: =VLOOKUP(U25,AL22:AZ25,9,0) -> 1 | AD25: =VLOOKUP(U25,AL22:AZ25,10,0) -> 0 | AE25: =VLOOKUP(U25,AL22:AZ25,11,0) -> 2 | AF25: =VLOOKUP(U25,AL22:AZ25,12,0) -> 5 | AG25: =VLOOKUP(U25,AL22:AZ25,13,0) -> 6 | AH25: =VLOOKUP(U25,AL22:AZ25,14,0) -> -1 | AI25: =VLOOKUP(U25,AL22:AZ25,15,0) -> 0 | AJ25: 4 | AK25: =AQ25 -> 4 | AL25: =Equipes!L13 -> FCD | AQ25: =RANK(BB25,BB22:BB25) -> 4 | AR25: =SUMPRODUCT((F22:J27=AL25)*(BG22:BG27))+SUMPRODUCT((M22:Q27=AL25)*(BH22:BH27)) -> 6 | AS25: =SUMPRODUCT((F22:J27=AL25)*(BI22:BI27))+SUMPRODUCT((M22:Q27=AL25)*(BJ22:BJ27)) -> 3 | AT25: =SUMPRODUCT((F22:J27=AL25)*(BK22:BK27))+SUMPRODUCT((M22:Q27=AL25)*(BL22:BL27)) -> 1 | AU25: =SUMPRODUCT((F22:J27=AL25)*(BM22:BM27))+SUMPRODUCT((M22:Q27=AL25)*(BN22:BN27)) -> 0 | AV25: =SUMPRODUCT((F22:J27=AL25)*(BO22:BO27))+SUMPRODUCT((M22:Q27=AL25)*(BP22:BP27)) -> 2 | AW25: =SUMPRODUCT((F22:J27=AL25)*(BQ22:BQ27))+SUMPRODUCT((M22:Q27=AL25)*(BR22:BR27)) -> 5 | AX25: =SUMPRODUCT((F22:J27=AL25)*(BS22:BS27))+SUMPRODUCT((M22:Q27=AL25)*(BT22:BT27)) -> 6 | AY25: =AW25-AX25 -> -1 | AZ25: =SUMPRODUCT((F22:J27=AL25)*(BC22:BC27))+SUMPRODUCT((M22:Q27=AL25)*(BD22:BD27)) -> 0 | BA25: =SUM(AR25*1000+(AY25)/10+(AW25)/100+(AT25)/1000) -> 5999.951 | BB25: =BA25+0.000001 -> 5999.951 | BC25: =IF(E25="F",1,0) -> 0 | BD25: =IF(R25="F",1,0) -> 0 | BE25: =IF(K25="",0,IF(K25>L25,4,IF(K25=L25,2,IF(K25<L25,1)))) -> 1 | BF25: =IF(L25="",0,IF(L25>K25,4,IF(L25=K25,2,IF(L25<K25,1)))) -> 4 | BG25: =IF(BC25=1,0,BE25) -> 1 | BH25: =IF(BD25=1,0,BF25) -> 4 | BI25: =IF(K25="",0,1) -> 1 | BJ25: =IF(L25="",0,1) -> 1 | BK25: =IF(K25<>"",IF(K25>L25,1)) -> FALSE | BL25: =IF(L25<>"",IF(L25>K25,1)) -> 1 | BM25: =IF(K25<>"",IF(K25=L25,1)) -> FALSE | BN25: =IF(L25<>"",IF(L25=K25,1)) -> FALSE | BO25: =IF(K25<>"",IF(K25<L25,1)) -> 1 | BP25: =IF(L25<>"",IF(L25<K25,1)) -> FALSE | BQ25: =K25 -> 2 | BR25: =L25 -> 3 | BS25: =L25 -> 3 | BT25: =K25 -> 2 | BU25: =VLOOKUP(AJ25,AK22:AP25,2,0) -> FCD | BV25: =VLOOKUP(BU25,AL22:BA25,16,0) -> 5999.951 | BW25: =RANK(BV25,BV22:BV25) -> 4
F26: =AL23 -> Metz | K26: 0 | L26: 0 | M26: =AL24 -> Nancy | BC26: =IF(E26="F",1,0) -> 0 | BD26: =IF(R26="F",1,0) -> 0 | BE26: =IF(K26="",0,IF(K26>L26,4,IF(K26=L26,2,IF(K26<L26,1)))) -> 2 | BF26: =IF(L26="",0,IF(L26>K26,4,IF(L26=K26,2,IF(L26<K26,1)))) -> 2 | BG26: =IF(BC26=1,0,BE26) -> 2 | BH26: =IF(BD26=1,0,BF26) -> 2 | BI26: =IF(K26="",0,1) -> 1 | BJ26: =IF(L26="",0,1) -> 1 | BK26: =IF(K26<>"",IF(K26>L26,1)) -> FALSE | BL26: =IF(L26<>"",IF(L26>K26,1)) -> FALSE | BM26: =IF(K26<>"",IF(K26=L26,1)) -> 1 | BN26: =IF(L26<>"",IF(L26=K26,1)) -> 1 | BO26: =IF(K26<>"",IF(K26<L26,1)) -> FALSE | BP26: =IF(L26<>"",IF(L26<K26,1)) -> FALSE | BQ26: =K26 -> 0 | BR26: =L26 -> 0 | BS26: =L26 -> 0 | BT26: =K26 -> 0
F27: =AL25 -> FCD | K27: 0 | L27: 2 | M27: =AL22 -> Lille | BC27: =IF(E27="F",1,0) -> 0 | BD27: =IF(R27="F",1,0) -> 0 | BE27: =IF(K27="",0,IF(K27>L27,4,IF(K27=L27,2,IF(K27<L27,1)))) -> 1 | BF27: =IF(L27="",0,IF(L27>K27,4,IF(L27=K27,2,IF(L27<K27,1)))) -> 4 | BG27: =IF(BC27=1,0,BE27) -> 1 | BH27: =IF(BD27=1,0,BF27) -> 4 | BI27: =IF(K27="",0,1) -> 1 | BJ27: =IF(L27="",0,1) -> 1 | BK27: =IF(K27<>"",IF(K27>L27,1)) -> FALSE | BL27: =IF(L27<>"",IF(L27>K27,1)) -> 1 | BM27: =IF(K27<>"",IF(K27=L27,1)) -> FALSE | BN27: =IF(L27<>"",IF(L27=K27,1)) -> FALSE | BO27: =IF(K27<>"",IF(K27<L27,1)) -> 1 | BP27: =IF(L27<>"",IF(L27<K27,1)) -> FALSE | BQ27: =K27 -> 0 | BR27: =L27 -> 2 | BS27: =L27 -> 2 | BT27: =K27 -> 0
A28: N° Terrain | C28: Heure | E28: FORFAIT | F28: POULE D | R28: FORFAIT | S28: POULE D | U28: CLASSEMENT
F30: Equipe | K30: Buts | L30: Buts | M30: Equipes | U30: Equipes | Z30: Rang | AA30: Pts | AB30: J | AC30: G | AD30: N | AE30: P | AF30: B + | AG30: B - | AH30: Diff | AI30: F | AK30: R | AL30: Equipes | AQ30: Rang | AR30: Pts | AS30: J | AT30: G | AU30: N | AV30: P | AW30: B + | AX30: B - | AY30: Diff | AZ30: F | BA30: % | BB30: % | BC30: P | BD30: P | BE30: Pts | BF30: Pts | BG30: TPts | BH30: TPts | BI30: J | BJ30: J | BK30: G | BL30: G | BM30: N | BN30: N | BO30: P | BP30: P | BQ30: Bts + | BR30: Bts + | BS30: Bts - | BT30: Bts - | BU30: Equipes | BV30: % | BW30: R
F31: =AL32 -> Brest | K31: 0 | L31: 0 | M31: =AL31 -> Atton | U31: =VLOOKUP(AJ31,AK31:AP34,2,0) -> Reims | Z31: 1 | AA31: =VLOOKUP(U31,AL31:AZ34,7,0) -> 10 | AB31: =VLOOKUP(U31,AL31:AZ34,8,0) -> 3 | AC31: =VLOOKUP(U31,AL31:AZ34,9,0) -> 2 | AD31: =VLOOKUP(U31,AL31:AZ34,10,0) -> 1 | AE31: =VLOOKUP(U31,AL31:AZ34,11,0) -> 0 | AF31: =VLOOKUP(U31,AL31:AZ34,12,0) -> 6 | AG31: =VLOOKUP(U31,AL31:AZ34,13,0) -> 4 | AH31: =VLOOKUP(U31,AL31:AZ34,14,0) -> 2 | AI31: =VLOOKUP(U31,AL31:AZ34,15,0) -> 0 | AJ31: 1 | AK31: =AQ31 -> 3 | AL31: =Equipes!Q4 -> Atton | AQ31: =RANK(BB31,BB31:BB34) -> 3 | AR31: =SUMPRODUCT((F31:J36=AL31)*(BG31:BG36))+SUMPRODUCT((M31:Q36=AL31)*(BH31:BH36)) -> 5 | AS31: =SUMPRODUCT((F31:J36=AL31)*(BI31:BI36))+SUMPRODUCT((M31:Q36=AL31)*(BJ31:BJ36)) -> 3 | AT31: =SUMPRODUCT((F31:J36=AL31)*(BK31:BK36))+SUMPRODUCT((M31:Q36=AL31)*(BL31:BL36)) -> 0 | AU31: =SUMPRODUCT((F31:J36=AL31)*(BM31:BM36))+SUMPRODUCT((M31:Q36=AL31)*(BN31:BN36)) -> 2 | AV31: =SUMPRODUCT((F31:J36=AL31)*(BO31:BO36))+SUMPRODUCT((M31:Q36=AL31)*(BP31:BP36)) -> 1 | AW31: =SUMPRODUCT((F31:J36=AL31)*(BQ31:BQ36))+SUMPRODUCT((M31:Q36=AL31)*(BR31:BR36)) -> 3 | AX31: =SUMPRODUCT((F31:J36=AL31)*(BS31:BS36))+SUMPRODUCT((M31:Q36=AL31)*(BT31:BT36)) -> 4 | AY31: =AW31-AX31 -> -1 | AZ31: =SUMPRODUCT((F31:J36=AL31)*(BC31:BC36))+SUMPRODUCT((M31:Q36=AL31)*(BD31:BD36)) -> 0 | BA31: =SUM(AR31*1000+(AY31)/10+(AW31)/100+(AT31)/1000) -> 4999.93 | BB31: =BA31+0.000004 -> 4999.93 | BC31: =IF(E31="F",1,0) -> 0 | BD31: =IF(R31="F",1,0) -> 0 | BE31: =IF(K31="",0,IF(K31>L31,4,IF(K31=L31,2,IF(K31<L31,1)))) -> 2 | BF31: =IF(L31="",0,IF(L31>K31,4,IF(L31=K31,2,IF(L31<K31,1)))) -> 2 | BG31: =IF(BC31=1,0,BE31) -> 2 | BH31: =IF(BD31=1,0,BF31) -> 2 | BI31: =IF(K31="",0,1) -> 1 | BJ31: =IF(L31="",0,1) -> 1 | BK31: =IF(K31<>"",IF(K31>L31,1)) -> FALSE | BL31: =IF(L31<>"",IF(L31>K31,1)) -> FALSE | BM31: =IF(K31<>"",IF(K31=L31,1)) -> 1 | BN31: =IF(L31<>"",IF(L31=K31,1)) -> 1 | BO31: =IF(K31<>"",IF(K31<L31,1)) -> FALSE | BP31: =IF(L31<>"",IF(L31<K31,1)) -> FALSE | BQ31: =K31 -> 0 | BR31: =L31 -> 0 | BS31: =L31 -> 0 | BT31: =K31 -> 0 | BU31: =VLOOKUP(AJ31,AK31:AP34,2,0) -> Reims | BV31: =VLOOKUP(BU31,AL31:BA34,16,0) -> 10000.262 | BW31: =RANK(BV31,BV31:BV34) -> 1
F32: =AL33 -> Reims | K32: 1 | L32: 1 | M32: =AL34 -> Dijon | U32: =VLOOKUP(AJ32,AK31:AP34,2,0) -> Dijon | Z32: =IF(BV32=BV31,BW31,BW32) -> 2 | AA32: =VLOOKUP(U32,AL31:AZ34,7,0) -> 6 | AB32: =VLOOKUP(U32,AL31:AZ34,8,0) -> 3 | AC32: =VLOOKUP(U32,AL31:AZ34,9,0) -> 0 | AD32: =VLOOKUP(U32,AL31:AZ34,10,0) -> 3 | AE32: =VLOOKUP(U32,AL31:AZ34,11,0) -> 0 | AF32: =VLOOKUP(U32,AL31:AZ34,12,0) -> 4 | AG32: =VLOOKUP(U32,AL31:AZ34,13,0) -> 4 | AH32: =VLOOKUP(U32,AL31:AZ34,14,0) -> 0 | AI32: =VLOOKUP(U32,AL31:AZ34,15,0) -> 0 | AJ32: 2 | AK32: =AQ32 -> 4 | AL32: =Equipes!Q7 -> Brest | AQ32: =RANK(BB32,BB31:BB34) -> 4 | AR32: =SUMPRODUCT((F31:J36=AL32)*(BG31:BG36))+SUMPRODUCT((M31:Q36=AL32)*(BH31:BH36)) -> 5 | AS32: =SUMPRODUCT((F31:J36=AL32)*(BI31:BI36))+SUMPRODUCT((M31:Q36=AL32)*(BJ31:BJ36)) -> 3 | AT32: =SUMPRODUCT((F31:J36=AL32)*(BK31:BK36))+SUMPRODUCT((M31:Q36=AL32)*(BL31:BL36)) -> 0 | AU32: =SUMPRODUCT((F31:J36=AL32)*(BM31:BM36))+SUMPRODUCT((M31:Q36=AL32)*(BN31:BN36)) -> 2 | AV32: =SUMPRODUCT((F31:J36=AL32)*(BO31:BO36))+SUMPRODUCT((M31:Q36=AL32)*(BP31:BP36)) -> 1 | AW32: =SUMPRODUCT((F31:J36=AL32)*(BQ31:BQ36))+SUMPRODUCT((M31:Q36=AL32)*(BR31:BR36)) -> 3 | AX32: =SUMPRODUCT((F31:J36=AL32)*(BS31:BS36))+SUMPRODUCT((M31:Q36=AL32)*(BT31:BT36)) -> 4 | AY32: =AW32-AX32 -> -1 | AZ32: =SUMPRODUCT((F31:J36=AL32)*(BC31:BC36))+SUMPRODUCT((M31:Q36=AL32)*(BD31:BD36)) -> 0 | BA32: =SUM(AR32*1000+(AY32)/10+(AW32)/100+(AT32)/1000) -> 4999.93 | BB32: =BA32+0.000003 -> 4999.93 | BC32: =IF(E32="F",1,0) -> 0 | BD32: =IF(R32="F",1,0) -> 0 | BE32: =IF(K32="",0,IF(K32>L32,4,IF(K32=L32,2,IF(K32<L32,1)))) -> 2 | BF32: =IF(L32="",0,IF(L32>K32,4,IF(L32=K32,2,IF(L32<K32,1)))) -> 2 | BG32: =IF(BC32=1,0,BE32) -> 2 | BH32: =IF(BD32=1,0,BF32) -> 2 | BI32: =IF(K32="",0,1) -> 1 | BJ32: =IF(L32="",0,1) -> 1 | BK32: =IF(K32<>"",IF(K32>L32,1)) -> FALSE | BL32: =IF(L32<>"",IF(L32>K32,1)) -> FALSE | BM32: =IF(K32<>"",IF(K32=L32,1)) -> 1 | BN32: =IF(L32<>"",IF(L32=K32,1)) -> 1 | BO32: =IF(K32<>"",IF(K32<L32,1)) -> FALSE | BP32: =IF(L32<>"",IF(L32<K32,1)) -> FALSE | BQ32: =K32 -> 1 | BR32: =L32 -> 1 | BS32: =L32 -> 1 | BT32: =K32 -> 1 | BU32: =VLOOKUP(AJ32,AK31:AP34,2,0) -> Dijon | BV32: =VLOOKUP(BU32,AL31:BA34,16,0) -> 6000.04 | BW32: =RANK(BV32,BV31:BV34) -> 2
F33: =AL31 -> Atton | K33: 2 | L33: 3 | M33: =AL33 -> Reims | U33: =VLOOKUP(AJ33,AK31:AP34,2,0) -> Atton | Z33: =IF(BV33=BV32,BW32,BW33) -> 3 | AA33: =VLOOKUP(U33,AL31:AZ34,7,0) -> 5 | AB33: =VLOOKUP(U33,AL31:AZ34,8,0) -> 3 | AC33: =VLOOKUP(U33,AL31:AZ34,9,0) -> 0 | AD33: =VLOOKUP(U33,AL31:AZ34,10,0) -> 2 | AE33: =VLOOKUP(U33,AL31:AZ34,11,0) -> 1 | AF33: =VLOOKUP(U33,AL31:AZ34,12,0) -> 3 | AG33: =VLOOKUP(U33,AL31:AZ34,13,0) -> 4 | AH33: =VLOOKUP(U33,AL31:AZ34,14,0) -> -1 | AI33: =VLOOKUP(U33,AL31:AZ34,15,0) -> 0 | AJ33: 3 | AK33: =AQ33 -> 1 | AL33: =Equipes!Q10 -> Reims | AQ33: =RANK(BB33,BB31:BB34) -> 1 | AR33: =SUMPRODUCT((F31:J36=AL33)*(BG31:BG36))+SUMPRODUCT((M31:Q36=AL33)*(BH31:BH36)) -> 10 | AS33: =SUMPRODUCT((F31:J36=AL33)*(BI31:BI36))+SUMPRODUCT((M31:Q36=AL33)*(BJ31:BJ36)) -> 3 | AT33: =SUMPRODUCT((F31:J36=AL33)*(BK31:BK36))+SUMPRODUCT((M31:Q36=AL33)*(BL31:BL36)) -> 2 | AU33: =SUMPRODUCT((F31:J36=AL33)*(BM31:BM36))+SUMPRODUCT((M31:Q36=AL33)*(BN31:BN36)) -> 1 | AV33: =SUMPRODUCT((F31:J36=AL33)*(BO31:BO36))+SUMPRODUCT((M31:Q36=AL33)*(BP31:BP36)) -> 0 | AW33: =SUMPRODUCT((F31:J36=AL33)*(BQ31:BQ36))+SUMPRODUCT((M31:Q36=AL33)*(BR31:BR36)) -> 6 | AX33: =SUMPRODUCT((F31:J36=AL33)*(BS31:BS36))+SUMPRODUCT((M31:Q36=AL33)*(BT31:BT36)) -> 4 | AY33: =AW33-AX33 -> 2 | AZ33: =SUMPRODUCT((F31:J36=AL33)*(BC31:BC36))+SUMPRODUCT((M31:Q36=AL33)*(BD31:BD36)) -> 0 | BA33: =SUM(AR33*1000+(AY33)/10+(AW33)/100+(AT33)/1000) -> 10000.262 | BB33: =BA33+0.000002 -> 10000.262 | BC33: =IF(E33="F",1,0) -> 0 | BD33: =IF(R33="F",1,0) -> 0 | BE33: =IF(K33="",0,IF(K33>L33,4,IF(K33=L33,2,IF(K33<L33,1)))) -> 1 | BF33: =IF(L33="",0,IF(L33>K33,4,IF(L33=K33,2,IF(L33<K33,1)))) -> 4 | BG33: =IF(BC33=1,0,BE33) -> 1 | BH33: =IF(BD33=1,0,BF33) -> 4 | BI33: =IF(K33="",0,1) -> 1 | BJ33: =IF(L33="",0,1) -> 1 | BK33: =IF(K33<>"",IF(K33>L33,1)) -> FALSE | BL33: =IF(L33<>"",IF(L33>K33,1)) -> 1 | BM33: =IF(K33<>"",IF(K33=L33,1)) -> FALSE | BN33: =IF(L33<>"",IF(L33=K33,1)) -> FALSE | BO33: =IF(K33<>"",IF(K33<L33,1)) -> 1 | BP33: =IF(L33<>"",IF(L33<K33,1)) -> FALSE | BQ33: =K33 -> 2 | BR33: =L33 -> 3 | BS33: =L33 -> 3 | BT33: =K33 -> 2 | BU33: =VLOOKUP(AJ33,AK31:AP34,2,0) -> Atton | BV33: =VLOOKUP(BU33,AL31:BA34,16,0) -> 4999.93 | BW33: =RANK(BV33,BV31:BV34) -> 3
F34: =AL34 -> Dijon | K34: 2 | L34: 2 | M34: =AL32 -> Brest | U34: =VLOOKUP(AJ34,AK31:AP34,2,0) -> Brest | Z34: =IF(BV34=BV33,BW33,BW34) -> 3 | AA34: =VLOOKUP(U34,AL31:AZ34,7,0) -> 5 | AB34: =VLOOKUP(U34,AL31:AZ34,8,0) -> 3 | AC34: =VLOOKUP(U34,AL31:AZ34,9,0) -> 0 | AD34: =VLOOKUP(U34,AL31:AZ34,10,0) -> 2 | AE34: =VLOOKUP(U34,AL31:AZ34,11,0) -> 1 | AF34: =VLOOKUP(U34,AL31:AZ34,12,0) -> 3 | AG34: =VLOOKUP(U34,AL31:AZ34,13,0) -> 4 | AH34: =VLOOKUP(U34,AL31:AZ34,14,0) -> -1 | AI34: =VLOOKUP(U34,AL31:AZ34,15,0) -> 0 | AJ34: 4 | AK34: =AQ34 -> 2 | AL34: =Equipes!Q13 -> Dijon | AQ34: =RANK(BB34,BB31:BB34) -> 2 | AR34: =SUMPRODUCT((F31:J36=AL34)*(BG31:BG36))+SUMPRODUCT((M31:Q36=AL34)*(BH31:BH36)) -> 6 | AS34: =SUMPRODUCT((F31:J36=AL34)*(BI31:BI36))+SUMPRODUCT((M31:Q36=AL34)*(BJ31:BJ36)) -> 3 | AT34: =SUMPRODUCT((F31:J36=AL34)*(BK31:BK36))+SUMPRODUCT((M31:Q36=AL34)*(BL31:BL36)) -> 0 | AU34: =SUMPRODUCT((F31:J36=AL34)*(BM31:BM36))+SUMPRODUCT((M31:Q36=AL34)*(BN31:BN36)) -> 3 | AV34: =SUMPRODUCT((F31:J36=AL34)*(BO31:BO36))+SUMPRODUCT((M31:Q36=AL34)*(BP31:BP36)) -> 0 | AW34: =SUMPRODUCT((F31:J36=AL34)*(BQ31:BQ36))+SUMPRODUCT((M31:Q36=AL34)*(BR31:BR36)) -> 4 | AX34: =SUMPRODUCT((F31:J36=AL34)*(BS31:BS36))+SUMPRODUCT((M31:Q36=AL34)*(BT31:BT36)) -> 4 | AY34: =AW34-AX34 -> 0 | AZ34: =SUMPRODUCT((F31:J36=AL34)*(BC31:BC36))+SUMPRODUCT((M31:Q36=AL34)*(BD31:BD36)) -> 0 | BA34: =SUM(AR34*1000+(AY34)/10+(AW34)/100+(AT34)/1000) -> 6000.04 | BB34: =BA34+0.000001 -> 6000.04 | BC34: =IF(E34="F",1,0) -> 0 | BD34: =IF(R34="F",1,0) -> 0 | BE34: =IF(K34="",0,IF(K34>L34,4,IF(K34=L34,2,IF(K34<L34,1)))) -> 2 | BF34: =IF(L34="",0,IF(L34>K34,4,IF(L34=K34,2,IF(L34<K34,1)))) -> 2 | BG34: =IF(BC34=1,0,BE34) -> 2 | BH34: =IF(BD34=1,0,BF34) -> 2 | BI34: =IF(K34="",0,1) -> 1 | BJ34: =IF(L34="",0,1) -> 1 | BK34: =IF(K34<>"",IF(K34>L34,1)) -> FALSE | BL34: =IF(L34<>"",IF(L34>K34,1)) -> FALSE | BM34: =IF(K34<>"",IF(K34=L34,1)) -> 1 | BN34: =IF(L34<>"",IF(L34=K34,1)) -> 1 | BO34: =IF(K34<>"",IF(K34<L34,1)) -> FALSE | BP34: =IF(L34<>"",IF(L34<K34,1)) -> FALSE | BQ34: =K34 -> 2 | BR34: =L34 -> 2 | BS34: =L34 -> 2 | BT34: =K34 -> 2 | BU34: =VLOOKUP(AJ34,AK31:AP34,2,0) -> Brest | BV34: =VLOOKUP(BU34,AL31:BA34,16,0) -> 4999.93 | BW34: =RANK(BV34,BV31:BV34) -> 3
F35: =AL32 -> Brest | K35: 1 | L35: 2 | M35: =AL33 -> Reims | BC35: =IF(E35="F",1,0) -> 0 | BD35: =IF(R35="F",1,0) -> 0 | BE35: =IF(K35="",0,IF(K35>L35,4,IF(K35=L35,2,IF(K35<L35,1)))) -> 1 | BF35: =IF(L35="",0,IF(L35>K35,4,IF(L35=K35,2,IF(L35<K35,1)))) -> 4 | BG35: =IF(BC35=1,0,BE35) -> 1 | BH35: =IF(BD35=1,0,BF35) -> 4 | BI35: =IF(K35="",0,1) -> 1 | BJ35: =IF(L35="",0,1) -> 1 | BK35: =IF(K35<>"",IF(K35>L35,1)) -> FALSE | BL35: =IF(L35<>"",IF(L35>K35,1)) -> 1 | BM35: =IF(K35<>"",IF(K35=L35,1)) -> FALSE | BN35: =IF(L35<>"",IF(L35=K35,1)) -> FALSE | BO35: =IF(K35<>"",IF(K35<L35,1)) -> 1 | BP35: =IF(L35<>"",IF(L35<K35,1)) -> FALSE | BQ35: =K35 -> 1 | BR35: =L35 -> 2 | BS35: =L35 -> 2 | BT35: =K35 -> 1
F36: =AL34 -> Dijon | K36: 1 | L36: 1 | M36: =AL31 -> Atton | BC36: =IF(E36="F",1,0) -> 0 | BD36: =IF(R36="F",1,0) -> 0 | BE36: =IF(K36="",0,IF(K36>L36,4,IF(K36=L36,2,IF(K36<L36,1)))) -> 2 | BF36: =IF(L36="",0,IF(L36>K36,4,IF(L36=K36,2,IF(L36<K36,1)))) -> 2 | BG36: =IF(BC36=1,0,BE36) -> 2 | BH36: =IF(BD36=1,0,BF36) -> 2 | BI36: =IF(K36="",0,1) -> 1 | BJ36: =IF(L36="",0,1) -> 1 | BK36: =IF(K36<>"",IF(K36>L36,1)) -> FALSE | BL36: =IF(L36<>"",IF(L36>K36,1)) -> FALSE | BM36: =IF(K36<>"",IF(K36=L36,1)) -> 1 | BN36: =IF(L36<>"",IF(L36=K36,1)) -> 1 | BO36: =IF(K36<>"",IF(K36<L36,1)) -> FALSE | BP36: =IF(L36<>"",IF(L36<K36,1)) -> FALSE | BQ36: =K36 -> 1 | BR36: =L36 -> 1 | BS36: =L36 -> 1 | BT36: =K36 -> 1
Q41: 24 | R41: 24
Q43: 12 minutes par match + 3 minutes de pause + 1h

Sheet PHASE 2
B2: TOURNOI PRINCIPAL | S2: TOURNOI CONSOLANTE
B5: Heure | D5: Terrain | F5: Equipes | L5: Buts | M5: Péna | W5: Péna | X5: Buts | Y5: Equipes | AE5: Terrain | AG5: Heure
F6: =Poules!U4 -> Lyon | L6: 2 | X6: 0 | Y6: =Poules!U6 -> Angers
F7: =Poules!U23 -> Nancy | L7: 1 | X7: 1 | Y7: =Poules!U25 -> FCD
B9: Heure | D9: Terrain | F9: Equipes | L9: Buts | M9: Péna | W9: Péna | X9: Buts | Y9: Equipes | AE9: Terrain | AG9: Heure
F10: =Poules!U13 -> Nice | L10: 0 | M10: 2 | X10: 2 | Y10: =Poules!U15 -> Marseile
F11: =Poules!U32 -> Dijon | L11: 0 | M11: 1 | X11: 1 | Y11: =Poules!U34 -> Brest
B13: Heure | D13: Terrain | F13: Equipes | L13: Buts | M13: Péna | W13: Péna | X13: Buts | Y13: Equipes | AE13: Terrain | AG13: Heure
F14: =Poules!U22 -> Lille | L14: 1 | W14: 0 | X14: 2 | Y14: =Poules!U24 -> Metz
F15: =Poules!U5 -> Bordeaux | L15: 0 | W15: 1 | X15: 2 | Y15: =Poules!U7 -> Caen
B17: Heure | D17: Terrain | F17: Equipes | L17: Buts | M17: Péna | W17: Péna | X17: Buts | Y17: Equipes | AE17: Terrain | AG17: Heure
F18: =Poules!U31 -> Reims | L18: 2 | X18: 3 | Y18: =Poules!U33 -> Atton
F19: =Poules!U14 -> Amiens | L19: 0 | X19: 1 | Y19: =Poules!U16 -> Bord
B24: Heure | D24: Terrain | F24: Equipes | L24: Buts | M24: Péna | W24: Péna | X24: Buts | Y24: Equipes | AE24: Terrain | AG24: Heure
F25: =IF(L6="","",IF(F46=F6,F7,F6)) -> Nancy | L25: 0 | O25: PLACE POUR LES | X25: 0 | Y25: =IF(X6="","",IF(Y46=Y6,Y7,Y6)) -> Angers
F26: =IF(L10="","",IF(F47=F10,F11,F10)) -> Dijon | L26: 1 | X26: 1 | Y26: =IF(X10="","",IF(Y47=Y10,Y11,Y10)) -> Brest
O27: 5 - 6 - 7 - 8 | S27: 13 - 14 - 15 - 16
B28: Heure | D28: Terrain | F28: Equipes | L28: Buts | M28: Péna | W28: Péna | X28: Buts | Y28: Equipes | AE28: Terrain | AG28: Heure
F29: =IF(L14="","",IF(F50=F14,F15,F14)) -> Bordeaux | L29: 1 | X29: 1 | Y29: =IF(X14="","",IF(Y50=Y14,Y15,Y14)) -> Metz
F30: =IF(L18="","",IF(F51=F18,F19,F18)) -> Amiens | L30: 0 | X30: 0 | Y30: =IF(X18="","",IF(Y51=Y18,Y19,Y18)) -> Bord
B34: Heure | D34: Terrain | F34: Equipes | L34: Buts | M34: Péna | O34: PLACE POUR LES | W34: Péna | X34: Buts | Y34: Equipes | AE34: Terrain | AG34: Heure
F35: =IF(L25="","",IF(F39=F25,F26,F25)) -> Nancy | L35: 3 | O35: 7 - 8 | S35: 15 - 16 | X35: 2 | Y35: =IF(X25="","",IF(Y39=Y25,Y26,Y25)) -> Angers
F36: =IF(L29="","",IF(F40=F29,F30,F29)) -> Amiens | L36: 1 | X36: 0 | Y36: =IF(X29="","",IF(Y40=Y29,Y30,Y29)) -> Bord
B38: Heure | D38: Terrain | F38: Equipes | L38: Buts | M38: Péna | O38: PLACE POUR LES | W38: Péna | X38: Buts | Y38: Equipes | AE38: Terrain | AG38: Heure
F39: =IF(L25="","",IF(L25>L26,F25,IF(L26>L25,F26,IF(L25=L26,IF(M25>M26,F25,IF(L26=L25,IF(M26>M25,F26))))))) -> Dijon | L39: 2 | O39: 5 - 6 | S39: 13 - 14 | X39: 0 | Y39: =IF(X25="","",IF(X25>X26,Y25,IF(X26=X25,Y26,IF(X25=X26,IF(W25>W26,Y25,IF(X26=X25,IF(W26>W25,Y26))))))) -> FALSE
F40: =IF(L29="","",IF(L29>L30,F29,IF(L30>L29,F30,IF(L29=L30,IF(M29>M30,F29,IF(L30=L29,IF(M30>M29,F30))))))) -> Bordeaux | L40: 1 | X40: 1 | Y40: =IF(X29="","",IF(X29>X30,Y29,IF(X30>X29,Y30,IF(X29=X30,IF(W29>W30,Y29,IF(X30=X29,IF(W30>W29,Y30))))))) -> Metz
B45: Heure | D45: Terrain | F45: Equipes | L45: Buts | M45: Péna | W45: Péna | X45: Buts | Y45: Equipes | AE45: Terrain | AG45: Heure
F46: =IF(L6="","",IF(L6>L7,F6,IF(L7>L6,F7,IF(L6=L7,IF(M6>M7,F6,IF(L7=L6,IF(M7>M6,F7))))))) -> Lyon | L46: 2 | O46: PLACE POUR LES | X46: 5 | Y46: =IF(X6="","",IF(X6>X7,Y6,IF(X7>X6,Y7,IF(X6=X7,IF(W6>W7,Y6,IF(X7+X6,IF(W7>W6,Y7))))))) -> FCD
F47: =IF(L10="","",IF(L10>L11,F10,IF(L11>L10,F11,IF(L10=L11,IF(M10>M11,F10,IF(L11=L10,IF(M11>M10,F11))))))) -> Nice | L47: 1 | X47: 4 | Y47: =IF(X10="","",IF(X10>X11,Y10,IF(X11>X10,Y11,IF(X10=X11,IF(W10>W11,Y10,IF(X11=X10,IF(W11>W10,Y11))))))) -> Marseile
O48: 1 - 2 - 3 - 4 | S48: 9 - 10 - 11 - 12
B49: Heure | D49: Terrain | F49: Equipes | L49: Buts | M49: Péna | W49: Péna | X49: Buts | Y49: Equipes | AE49: Terrain | AG49: Heure
F50: =IF(L14="","",IF(L14>L15,F14,IF(L15>L14,F15,IF(L14=L15,IF(M14>M15,IF(L15=L14,IF(M15>M14,F15))))))) -> Lille | L50: 2 | X50: 2 | Y50: =IF(X14="","",IF(X14>X15,Y14,IF(X15>X14,Y15,IF(X14=X15,IF(W14>W15,Y14,IF(X15+X14,IF(W15>W14,Y15))))))) -> Caen
F51: =IF(L18="","",IF(L18>L19,F18,IF(L19>L18,F19,IF(L18=L19,IF(M18>M19,F18,IF(L19=L18,IF(M19>M18,F19))))))) -> Reims | L51: 1 | X51: 1 | Y51: =IF(X18="","",IF(X18>X19,Y18,IF(X19>X18,Y19,IF(X18=X19,IF(W18>W19,Y18,IF(X19=X18,IF(W19>W18,Y19))))))) -> Atton
B55: Heure | D55: Terrain | F55: Equipes | L55: Buts | M55: Péna | O55: PLACE POUR LES | W55: Péna | X55: Buts | Y55: Equipes | AE55: Terrain | AG55: Heure
F56: =IF(L46="","",IF(F60=F46,F47,F46)) -> Nice | L56: 0 | O56: 3 - 4 | S56: 11 - 12 | X56: 3 | Y56: =IF(X46="","",IF(Y60=Y46,Y47,Y46)) -> Marseile
F57: =IF(L50="","",IF(F61=F50,F51,F50)) -> Reims | L57: 1 | X57: 1 | Y57: =IF(X50="","",IF(Y61=Y50,Y51,Y50)) -> Atton
B59: Heure | D59: Terrain | F59: Equipes | L59: Buts | M59: Péna | O59: PLACE POUR LES | W59: Péna | X59: Buts | Y59: Equipes | AE59: Terrain | AG59: Heure
F60: =IF(L46="","",IF(L46>L47,F46,IF(L47>L46,F47,IF(L46=L47,IF(M46>M47,F46,IF(L47=L46,IF(M47>M46,F47))))))) -> Lyon | L60: 1 | O60: 1 - 2 | S60: 9 - 10 | X60: 2 | Y60: =IF(X46="","",IF(X46>X47,Y46,IF(X47>X46,Y47,IF(X46=X47,IF(W46>W47,Y46,IF(X47=X46,IF(W47>W46,Y47))))))) -> FCD
F61: =IF(L50="","",IF(L50>L51,F50,IF(L51>L50,F51,IF(L50=L51,IF(M50>M51,F50,IF(L51=L50,IF(M51>M50,F51))))))) -> Lille | L61: 0 | X61: 1 | Y61: =IF(X50="","",IF(X50>X51,Y50,IF(X51>X50,Y51,IF(X50=X51,IF(W50>W51,Y50,IF(X51=X50,IF(W51>W50,Y51))))))) -> Caen
B64: 1 | D64: =IF(L60="","",IF(L60>L61,F60,IF(L61>L60,F61,IF(L60=L61,IF(M60>M61,F60,IF(L61=L60,IF(M61>M60,F61))))))) -> Lyon | W64: =IF(X60="","",IF(X60>X61,Y60,IF(X61>X60,Y61,IF(X60=X61,IF(W60>W61,Y60,IF(X61=X60,IF(W61>W60,Y61))))))) -> FCD | AG64: 9
B65: 2 | D65: =IF(L60="","",IF(D64=F60,F61,F60)) -> Lille | W65: =IF(X60="","",IF(W64=Y60,Y61,Y60)) -> Caen | AG65: 10
B66: 3 | D66: =IF(L56="","",IF(L56>L57,F56,IF(L57>L56,F57,IF(L56=L57,IF(M56>M57,F56,IF(L57=L56,IF(M57>M56,F57))))))) -> Reims | W66: =IF(X56="","",IF(X56>X57,Y56,IF(X57>X56,Y57,IF(X56=X57,IF(W56>W57,Y56,IF(X57=X56,IF(W57>W56,Y57))))))) -> Marseile | AG66: 11
B67: 4 | D67: =IF(L56="","",IF(D66=F56,F57,F56)) -> Nice | W67: =IF(X56="","",IF(W66=Y56,Y57,Y56)) -> Atton | AG67: 12
B68: 5 | D68: =IF(L39="","",IF(L39>L40,F39,IF(L40>L39,F40,IF(L39=L40,IF(M39>M40,F39,IF(L40=L39,IF(M40>M39,F40))))))) -> Dijon | W68: =IF(X39="","",IF(X39>X40,Y39,IF(X40>X39,Y40,IF(X39=X40,IF(W39>W40,Y39,IF(X40=X39,IF(W40>W39,Y40))))))) -> Metz | AG68: 13
B69: 6 | D69: =IF(L39="","",IF(D68=F39,F40,F39)) -> Bordeaux | W69: =IF(X39="","",IF(W68=Y39,Y40,Y39)) -> FALSE | AG69: 14
B70: 7 | D70: =IF(L35="","",IF(L35>L36,F35,IF(L36>L35,F36,IF(L35=L36,IF(M35>M36,F35,IF(L36=L35,IF(M36>M35,F36))))))) -> Nancy | W70: =IF(X35="","",IF(X35>X36,Y35,IF(X36>X35,Y36,IF(X35=X36,IF(W35>W36,Y35,IF(X36=X35,IF(W36>W35,Y36))))))) -> Angers | AG70: 15
B71: 8 | D71: =IF(L35="","",IF(D70=F35,F36,F35)) -> Amiens | W71: =IF(X35="","",IF(W70=Y35,Y36,Y35)) -> Bord | AG71: 16
