Workbook

Sheet AIDE ACHAT
A2: Produit | B2: MARCHE
A3: 400089767 | B3: =VLOOKUP(A3,'SCO 2020'!$A$2:$C$2975,3,0) -> #N/A
A4: 400089768 | B4: =VLOOKUP(A4,'SCO 2020'!$A$2:$C$2975,3,0) -> #N/A
A5: 400089769 | B5: =VLOOKUP(A5,'SCO 2020'!$A$2:$C$2975,3,0) -> #N/A
A6: 400089820 | B6: =VLOOKUP(A6,'SCO 2020'!$A$2:$C$2975,3,0) -> #N/A
A7: 400099760 | B7: =VLOOKUP(A7,'SCO 2020'!$A$2:$C$2975,3,0) -> #N/A
A8: 400099761 | B8: =VLOOKUP(A8,'SCO 2020'!$A$2:$C$2975,3,0) -> #N/A
A9: 000700 | B9: =VLOOKUP(A9,'SCO 2020'!$A$2:$C$2975,3,0) -> #N/A
A10: 001884 | B10: =VLOOKUP(A10,'SCO 2020'!$A$2:$C$2975,3,0) -> #N/A
A11: 010200 | B11: =VLOOKUP(A11,'SCO 2020'!$A$2:$C$2975,3,0) -> #N/A
A12: 697672 | B12: =VLOOKUP(A12,'SCO 2020'!$A$2:$C$2975,3,0) -> #N/A
A13: 787333 | B13: =VLOOKUP(A13,'SCO 2020'!$A$2:$C$2975,3,0) -> #N/A
A14: 834462 | B14: =VLOOKUP(A14,'SCO 2020'!$A$2:$C$2975,3,0) -> #N/A
A15: 100023640 | B15: =VLOOKUP(A15,'SCO 2020'!$A$2:$C$2975,3,0) -> #N/A
A16: 100080497 | B16: =VLOOKUP(A16,'SCO 2020'!$A$2:$C$2975,3,0) -> #N/A
A17: 100100101 | B17: =VLOOKUP(A17,'SCO 2020'!$A$2:$C$2975,3,0) -> #N/A
A18: 100100116 | B18: =VLOOKUP(A18,'SCO 2020'!$A$2:$C$2975,3,0) -> #N/A
A19: 100100143 | B19: =VLOOKUP(A19,'SCO 2020'!$A$2:$C$2975,3,0) -> #N/A
A20: 100100174 | B20: =VLOOKUP(A20,'SCO 2020'!$A$2:$C$2975,3,0) -> O
A21: 100100214 | B21: =VLOOKUP(A21,'SCO 2020'!$A$2:$C$2975,3,0) -> O
A22: 100100255 | B22: =VLOOKUP(A22,'SCO 2020'!$A$2:$C$2975,3,0) -> #N/A
A23: 100100283 | B23: =VLOOKUP(A23,'SCO 2020'!$A$2:$C$2975,3,0) -> #N/A
A24: 100100306 | B24: =VLOOKUP(A24,'SCO 2020'!$A$2:$C$2975,3,0) -> O
A25: 100100321 | B25: =VLOOKUP(A25,'SCO 2020'!$A$2:$C$2975,3,0) -> O
A26: 100100357 | B26: =VLOOKUP(A26,'SCO 2020'!$A$2:$C$2975,3,0) -> #N/A
... A708: 7716-4 | B708: =VLOOKUP(A708,'SCO 2020'!$A$2:$C$2975,3,0) -> #N/A
B709: =VLOOKUP(A709,'SCO 2020'!$A$2:$C$2975,3,0) -> #N/A
B710: =VLOOKUP(A710,'SCO 2020'!$A$2:$C$2975,3,0) -> #N/A
B711: =VLOOKUP(A711,'SCO 2020'!$A$2:$C$2975,3,0) -> #N/A
B712: =VLOOKUP(A712,'SCO 2020'!$A$2:$C$2975,3,0) -> #N/A
B713: =VLOOKUP(A713,'SCO 2020'!$A$2:$C$2975,3,0) -> #N/A
B714: =VLOOKUP(A714,'SCO 2020'!$A$2:$C$2975,3,0) -> #N/A
B715: =VLOOKUP(A715,'SCO 2020'!$A$2:$C$2975,3,0) -> #N/A
B716: =VLOOKUP(A716,'SCO 2020'!$A$2:$C$2975,3,0) -> #N/A
B717: =VLOOKUP(A717,'SCO 2020'!$A$2:$C$2975,3,0) -> #N/A
B718: =VLOOKUP(A718,'SCO 2020'!$A$2:$C$2975,3,0) -> #N/A
B719: =VLOOKUP(A719,'SCO 2020'!$A$2:$C$2975,3,0) -> #N/A
B720: =VLOOKUP(A720,'SCO 2020'!$A$2:$C$2975,3,0) -> #N/A
... B17348: =VLOOKUP(A17348,'SCO 2020'!$A$2:$C$2975,3,0) -> #N/A

Sheet SCO 2020
A1: Réf | B1: N° USB
A2: 1012198 | B2: 1 | C2: O
A3: CT301-5 | B3: 2 | C3: O
A4: 1128202 | B4: 3 | C4: O
A5: 16280A | B5: 4 | C5: O
A6: CT401-2 | B6: 5 | C6: O
A7: 1120212 | B7: 6 | C7: O
A8: BCI-10T | B8: 7 | C8: O
A9: 392100 | B9: 8 | C9: O
A10: 392300 | B10: 9 | C10: O
A11: 6-1975D | B11: 10 | C11: O
A12: BCI-10S | B12: 11 | C12: O
A13: CT302-5 | B13: 12 | C13: O
... A90: 401111 | B90: 91 | C90: O
A91: 339410 | B91: 91-1 | C91: O
A92: 403411 | B92: 93 | C92: O
A93: 406411 | B93: 94 | C93: O
A94: 565000 | B94: 95 | C94: O
A95: 400111 | B95: 97 | C95: O
A96: 011336 | B96: 98 | C96: O
A97: 011335 | B97: 99 | C97: O
A98: 115131 | B98: 100 | C98: O
A99: A-40 | B99: 101 | C99: O
A100: 83521 | B100: 103 | C100: O
A101: 83522 | B101: 104 | C101: O
A102: 11437 | B102: 105 | C102: O
A103: 83520 | B103: 106 | C103: O
... A215: 583510 | B215: 221 | C215: O
A216: 5818-00 | B216: 221-1 | C216: O
A217: 230-13 | B217: 223 | C217: O
A218: 245-13 | B218: 224 | C218: O
A219: 701 | B219: 225 | C219: O
A220: 4731-01 | B220: 227 | C220: O
A221: 258600 | B221: 228 | C221: O
A222: 156522 | B222: 229 | C222: O
A223: 058700 | B223: 230 | C223: O
A224: 5528-01 | B224: 231 | C224: O
A225: TEX853FS | B225: 232 | C225: O
A226: TEX853FM | B226: 233 | C226: O
A227: TEX853FL | B227: 234 | C227: O
A228: 7520-01 | B228: 235 | C228: O
... A262: 967435 | B262: 270 | C262: O
A263: 870016 | B263: 271 | C263: O
A264: 870017 | B264: 272 | C264: O
A265: 870011 | B265: 273 | C265: O
A266: 870012 | B266: 274 | C266: O
A267: 871416 | B267: 275 | C267: O
A268: 871417 | B268: 276 | C268: O
A269: 871411 | B269: 277 | C269: O
A270: 871412 | B270: 278 | C270: O
A271: 871616 | B271: 279 | C271: O
A272: 871617 | B272: 280 | C272: O
A273: 871611 | B273: 281 | C273: O
A274: 871612 | B274: 282 | C274: O
... A294: 872104 | B294: 302 | C294: O
A295: 146120 | B295: 304 | C295: O
A296: 279410 | B296: 305 | C296: O
A297: 146122 | B297: 308 | C297: O
A298: 244621 | B298: 309 | C298: O
A299: 242626 | B299: 310 | C299: O
A300: 146123 | B300: 311 | C300: O
A301: 244421 | B301: 312 | C301: O
A302: 235F | B302: 313 | C302: O
A303: 235M-05 | B303: 314 | C303: O
A304: 152612 | B304: 315 | C304: O
A305: 146134 | B305: 317 | C305: O
A306: 242180 | B306: 319 | C306: O
... A554: 892224 | B554: 588 | C554: O
A555: 6180-10WT | B555: 588-1 | C555: O
A556: 892225 | B556: 590 | C556: O
A557: 6190-6BX | B557: 590-2 | C557: O
A558: 848010 | B558: 591 | C558: O
A559: 828964 | B559: 592 | C559: O
A560: 6106-12BX | B560: 593 | C560: O
A561: 076400 | B561: 594 | C561: O
A562: 6152-12BX | B562: 595 | C562: O
A563: 828970 | B563: 596 | C563: O
A564: 841254 | B564: 597 | C564: O
A565: 466700 | B565: 598-1 | C565: O
A566: 6107-12BX | B566: 598-2 | C566: O
A567: 6130-8BX | B567: 598-3 | C567: O
A568: 6110-10WT | B568: 598-4 | C568: O
A569: 6170-6BX | B569: 598-5 | C569: O
A570: 320NWP12 | B570: 599 | C570: O
A571: 847010 | B571: 600 | C571: O
A572: 880510 | B572: 601 | C572: O
A573: 804 | B573: 602 | C573: O
A574: 452900 | B574: 603 | C574: O
A575: 494900 | B575: 604 | C575: O
A576: 453400 | B576: 605 | C576: O
A577: 524500 | B577: 606 | C577: O
A578: 524600 | B578: 607 | C578: O
A579: 887832 | B579: 607-1 | C579: O
A580: 887839 | B580: 608 | C580: O
A581: 887838 | B581: 612 | C581: O
A582: 526000 | B582: 614 | C582: O
A583: 524000 | B583: 615 | C583: O
A584: 520300 | B584: 616 | C584: O
A585: 523000O | B585: 617 | C585: O
A586: 523800 | B586: 618 | C586: O
...
