Workbook

Sheet Synthèse
H1: Total
A2: AAA | B2: =C2/E2 -> #DIV/0! | C2: =COUNTIF(MMM!$A:$A,"-") -> 0 | D2: =COUNTIF(MMM!$A:$A,"P1") -> 0 | E2: =SUM(C2:D2) -> 0 | F2: =COUNTIF(MMM!$A:$A,"P2") -> 0 | G2: =COUNTIF(MMM!$A:$A,"P3") -> 0 | H2: =SUM(E2:G2) -> 0
A3: BBB | B3: =C3/E3 -> #DIV/0! | C3: =COUNTIF(BBB!$A:$A,"-") -> 0 | D3: =COUNTIF(BBB!$A:$A,"P1") -> 0 | E3: =SUM(C3:D3) -> 0 | F3: =COUNTIF(BBB!$A:$A,"P2") -> 0 | G3: =COUNTIF(BBB!$A:$A,"P3") -> 0 | H3: =SUM(E3:G3) -> 0
A4: CCC | B4: =C4/E4 -> #DIV/0! | C4: =COUNTIF(CCC!$A:$A,"-") -> 0 | D4: =COUNTIF(CCC!$A:$A,"P1") -> 0 | E4: =SUM(C4:D4) -> 0 | F4: =COUNTIF(CCC!$A:$A,"P2") -> 0 | G4: =COUNTIF(CCC!$A:$A,"P3") -> 0 | H4: =SUM(E4:G4) -> 0
A5: DDD | B5: =C5/E5 -> #DIV/0! | C5: =COUNTIF(DDD!$A:$A,"-") -> 0 | D5: =COUNTIF(DDD!$A:$A,"P1") -> 0 | E5: =SUM(C5:D5) -> 0 | F5: =COUNTIF(DDD!$A:$A,"P2") -> 0 | G5: =COUNTIF(DDD!$A:$A,"P3") -> 0 | H5: =SUM(E5:G5) -> 0
A6: EEE | B6: =C6/E6 -> #DIV/0! | C6: =COUNTIF(EEE!$A:$A,"-") -> 0 | D6: =COUNTIF(EEE!$A:$A,"P1") -> 0 | E6: =SUM(C6:D6) -> 0 | F6: =COUNTIF(EEE!$A:$A,"P2") -> 0 | G6: =COUNTIF(EEE!$A:$A,"P3") -> 0 | H6: =SUM(E6:G6) -> 0
A7: FFF | B7: =C7/E7 -> #DIV/0! | C7: =COUNTIF(FFF!$A:$A,"-") -> 0 | D7: =COUNTIF(FFF!$A:$A,"P1") -> 0 | E7: =SUM(C7:D7) -> 0 | F7: =COUNTIF(FFF!$A:$A,"P2") -> 0 | G7: =COUNTIF(FFF!$A:$A,"P3") -> 0 | H7: =SUM(E7:G7) -> 0
A8: GGG | B8: =C8/E8 -> #DIV/0! | C8: =COUNTIF(GGG!$A:$A,"-") -> 0 | D8: =COUNTIF(GGG!$A:$A,"P1") -> 0 | E8: =SUM(C8:D8) -> 0 | F8: =COUNTIF(GGG!$A:$A,"P2") -> 0 | G8: =COUNTIF(GGG!$A:$A,"P3") -> 0 | H8: =SUM(E8:G8) -> 0
A9: HHH | B9: =C9/E9 -> #DIV/0! | C9: =COUNTIF(HHH!$A:$A,"-") -> 0 | D9: =COUNTIF(HHH!$A:$A,"P1") -> 0 | E9: =SUM(C9:D9) -> 0 | F9: =COUNTIF(HHH!$A:$A,"P2") -> 0 | G9: =COUNTIF(HHH!$A:$A,"P3") -> 0 | H9: =SUM(E9:G9) -> 0
A10: III | B10: =C10/E10 -> #DIV/0! | C10: =COUNTIF(III!$A:$A,"-") -> 0 | D10: =COUNTIF(III!$A:$A,"P1") -> 0 | E10: =SUM(C10:D10) -> 0 | F10: =COUNTIF(III!$A:$A,"P2") -> 0 | G10: =COUNTIF(III!$A:$A,"P3") -> 0 | H10: =SUM(E10:G10) -> 0
A11: JJJ | B11: =C11/E11 -> #DIV/0! | C11: =COUNTIF(JJJ!$A:$A,"-") -> 0 | D11: =COUNTIF(JJJ!$A:$A,"P1") -> 0 | E11: =SUM(C11:D11) -> 0 | F11: =COUNTIF(JJJ!$A:$A,"P2") -> 0 | G11: =COUNTIF(JJJ!$A:$A,"P3") -> 0 | H11: =SUM(E11:G11) -> 0
A12: KKK | B12: =C12/E12 -> #DIV/0! | C12: =COUNTIF(AAA!$A:$A,"-") -> 0 | D12: =COUNTIF(AAA!$A:$A,"P1") -> 0 | E12: =SUM(C12:D12) -> 0 | F12: =COUNTIF(AAA!$A:$A,"P2") -> 0 | G12: =COUNTIF(AAA!$A:$A,"P3") -> 0 | H12: =SUM(E12:G12) -> 0
A13: LLL | B13: =C13/E13 -> #DIV/0! | C13: =COUNTIF(KKK!$A:$A,"-") -> 0 | D13: =COUNTIF(KKK!$A:$A,"P1") -> 0 | E13: =SUM(C13:D13) -> 0 | F13: =COUNTIF(KKK!$A:$A,"P2") -> 0 | G13: =COUNTIF(KKK!$A:$A,"P3") -> 0 | H13: =SUM(E13:G13) -> 0
A14: MMM | B14: =C14/E14 -> #DIV/0! | C14: =COUNTIF(LLL!$A:$A,"-") -> 0 | D14: =COUNTIF(LLL!$A:$A,"P1") -> 0 | E14: =SUM(C14:D14) -> 0 | F14: =COUNTIF(LLL!$A:$A,"P2") -> 0 | G14: =COUNTIF(LLL!$A:$A,"P3") -> 0 | H14: =SUM(E14:G14) -> 0
A15: Total | B15: =C15/E15 -> #DIV/0! | C15: =SUM(C2:C14) -> 0 | D15: =SUM(D2:D14) -> 0 | E15: =SUM(E2:E14) -> 0 | F15: =SUM(F2:F14) -> 0 | G15: =SUM(G2:G14) -> 0 | H15: =SUM(H2:H14) -> 0

Sheet Relance de la semaine

Sheet export

Sheet AAA

Sheet BBB

Sheet CCC
A1: Priorité | B1: Réf. Contrôle | C1: Equipe | D1: Libellé du contrôle | E1: Arrêté | F1: Date de début d'exécution | G1: Date limite d'exécution | H1: ImportExport \ Notation du résultat | I1: Commentaire du réalisateur

Sheet DDD

Sheet EEE

Sheet FFF

Sheet GGG

Sheet HHH

Sheet III

Sheet JJJ

Sheet KKK

Sheet LLL

Sheet MMM
