Workbook

Sheet a
C1: -
C2: Fund Model
C4: AAM Fees | H4: GP Promote | M4: Structure
O5: LTV | P5: LTC
H6: First Hurdle | J6: 0.08 | M6: Equity | O6: =1-O12 -> 0.5
C7: AM Fee | E7: 0.015
H8: First Promote | J8: 0.2 | N8: LP Equity | O8: 0.95
N9: AAM Equity | O9: =1-O8 -> 0.05
H10: Second Hurdle | J10: 0.12
H12: Second Promote | J12: 0.4 | M12: Debt | N12: Inv 1 | O12: ='1'!H15/'1'!L13 -> 0.5 | P12: =('1'!$H$16+'1'!$H$15)/'1'!$H$25 -> 0.49668874
E13: A | N13: Inv 2 | O13: ='1'!H15/'1'!L13 -> 0.5 | P13: =('2'!$H$16+'2'!$H$15)/'2'!$H$25 -> 0.53971174
N14: Inv 3 | O14: ='3'!H15/'3'!L13 -> 0.65 | P14: =('3'!$H$16+'3'!$H$15)/'3'!$H$25 -> 0.6329588
N15: Inv 4 | O15: ='4'!H15/'4'!L13 -> 0.5 | P15: =('4'!$H$16+'4'!$H$15)/'4'!$H$25 -> 0.49554014
N16: Total | O16: =('1'!H15+'2'!H15+'3'!H15+'4'!H15)/('1'!L13+'2'!L13+'3'!L13+'4'!L13) -> 0.58854626 | P16: =(('1'!$H$16+'1'!$H$15)+('2'!$H$16+'2'!$H$15)+('3'!$H$16+'3'!$H$15)+('4'!$H$16+'4'!$H$15))/('1'!$H$25+'2'!$H$25+'3'!$H$25+'4'!$H$25) -> 0.54600527
H20: DEALS
H22: Period | I22: Hold | J22: Acquisition Equity
H23: 0 | I23: ='1'!$C$27 -> 4 | J23: ='1'!H13+'1'!H14 -> 11400000
H24: 1 | I24: ='2'!$C$27 -> 5 | J24: ='2'!$H$13+'2'!$H$14 -> 7880250
H25: 2 | I25: ='3'!$C$27 -> 5 | J25: ='3'!$H$13+'3'!$H$14 -> 13230000
H26: 3 | I26: ='4'!$C$27 -> 3 | J26: ='4'!$H$14+'4'!$H$13 -> 19087500
H28: Total | J28: =SUM(J23:J26) -> 51597750

Sheet s&p
A1: Project Summary
C3: Inv | D3: Start | E3: End | F3: All in cost | G3: Equity | H3: LP Equity | I3: AAM Equity | J3: Capex | K3: Dev Yield | L3: Exit yield | M3: Rent at acquisition | N3: Rent at exit | O3: Levered IIR | P3: Multiple
C4: Investment 1 | D4: ='1'!$F$36 -> 0 | E4: ='1'!$C$28 -> 4 | F4: ='1'!$H$25 -> 22650000 | G4: =a!J23 -> 11400000 | H4: ='1'!$H$13 -> 10830000 | I4: ='1'!$H$14 -> 570000 | J4: ='1'!$L$14 -> 17500000 | K4: ='1'!$J$7 -> 0.13340635 | L4: ='1'!$C$26 -> 0.065 | M4: ='1'!$C$13 -> 0 | N4: ='1'!$C$29 -> 2962115.4 | O4: ='1'!$C$84 -> 0.1869441 | P4: ='1'!$C$85 -> 1.7978551
C5: Investment 2 | D5: ='2'!$F$36 -> 1 | E5: ='2'!$C$28 -> 6 | F5: ='2'!$H$25 -> 17120250 | G5: =a!J24 -> 7880250 | H5: ='2'!$H$13 -> 7486237.5 | I5: ='2'!$H$14 -> 394012.5 | J5: ='2'!$L$14 -> 6300000 | K5: ='2'!$J$7 -> 0.11547436 | L5: ='2'!$C$26 -> 0.0675 | M5: ='2'!$C$13 -> 0 | N5: ='2'!$C$29 -> 1957376.1 | O5: ='2'!$C$84 -> 0.17124245 | P5: ='2'!$C$85 -> 1.9234247
C6: Investment 3 | D6: ='3'!$F$36 -> 2 | E6: ='3'!$C$28 -> 7 | F6: ='3'!$H$25 -> 36045000 | G6: =a!J25 -> 13230000 | H6: ='3'!$H$13 -> 12568500 | I6: ='3'!$H$14 -> 661500 | J6: ='3'!$L$14 -> 5100000 | K6: ='3'!$J$7 -> 0.10706919 | L6: ='3'!$C$26 -> 0.0625 | M6: ='3'!$C$13 -> 1700000 | N6: ='3'!$C$29 -> 3821097.9 | O6: ='3'!$C$84 -> 0.17124671 | P6: ='3'!$C$85 -> 2.0205523
C7: Investment 4 | D7: ='4'!$F$36 -> 3 | E7: ='4'!$C$28 -> 6 | F7: ='4'!$H$25 -> 37837500 | G7: =a!J26 -> 19087500 | H7: ='4'!$H$13 -> 18133125 | I7: ='4'!$H$14 -> 954375 | J7: ='4'!$L$14 -> 26250000 | K7: ='4'!$J$7 -> 0.10208026 | L7: ='4'!$C$26 -> 0.06 | M7: ='4'!$C$13 -> 0 | N7: ='4'!$C$29 -> 3748867.5 | O7: ='4'!$C$84 -> 0.23901021 | P7: ='4'!$C$85 -> 1.7203691
C9: Total | D9: =MIN(D4:D7) -> 0 | E9: =MAX(E4:E7) -> 7 | F9: =SUM(F4:F7) -> 1.1365275e+08 | G9: =SUM(G4:G7) -> 51597750 | H9: =SUM(H4:H7) -> 49017863 | I9: =SUM(I4:I7) -> 2579887.5 | J9: =SUM(J4:J7) -> 55150000
B17: Date | E17: 43830 | F17: =EDATE(E17,12) -> 44196 | G17: =EDATE(F17,12) -> 44561 | H17: =EDATE(G17,12) -> 44926 | I17: =EDATE(H17,12) -> 45291 | J17: =EDATE(I17,12) -> 45657 | K17: =EDATE(J17,12) -> 46022 | L17: =EDATE(K17,12) -> 46387 | M17: =EDATE(L17,12) -> 46752 | ... P17: =EDATE(O17,12) -> 47848
B18: Year (JV) | E18: 0 | F18: 1 | G18: 2 | H18: 3 | I18: 4 | J18: 5 | K18: 6 | L18: 7 | M18: 8 | N18: 9 | O18: 10 | P18: 11 | Q18: total
B19: Acquisition | F19: =SUM(F21:F24) -> -7880250 | G19: =SUM(G21:G24) -> -13230000 | H19: =SUM(H21:H24) -> -19087500 | I19: =SUM(I21:I24) -> 0 | J19: =SUM(J21:J24) -> 0 | K19: =SUM(K21:K24) -> 0 | L19: =SUM(L21:L24) -> 0 | M19: =SUM(M21:M24) -> 0 | ... P19: =SUM(P21:P24) -> 0 | Q19: =SUM(E19:P19) -> -40197750
B21: Inv 1 | E21: =-IF(E$18=$D4,$G4,0) -> -11400000 | F21: =-IF(F$18=$D4,$G4,0) -> 0 | G21: =-IF(G$18=$D4,$G4,0) -> 0 | H21: =-IF(H$18=$D4,$G4,0) -> 0 | I21: =-IF(I$18=$D4,$G4,0) -> 0 | J21: =-IF(J$18=$D4,$G4,0) -> 0 | K21: =-IF(K$18=$D4,$G4,0) -> 0 | L21: =-IF(L$18=$D4,$G4,0) -> 0 | ... P21: =-IF(P$18=$D4,$G4,0) -> 0
B22: Inv 2 | F22: =-IF(F$18=$D5,$G5,0) -> -7880250 | G22: =-IF(G$18=$D5,$G5,0) -> 0 | H22: =-IF(H$18=$D5,$G5,0) -> 0 | I22: =-IF(I$18=$D5,$G5,0) -> 0 | J22: =-IF(J$18=$D5,$G5,0) -> 0 | K22: =-IF(K$18=$D5,$G5,0) -> 0 | L22: =-IF(L$18=$D5,$G5,0) -> 0 | M22: =-IF(M$18=$D5,$G5,0) -> 0 | ... P22: =-IF(P$18=$D5,$G5,0) -> 0
B23: Inv 3 | F23: =-IF(F$18=$D6,$G6,0) -> 0 | G23: =-IF(G$18=$D6,$G6,0) -> -13230000 | H23: =-IF(H$18=$D6,$G6,0) -> 0 | I23: =-IF(I$18=$D6,$G6,0) -> 0 | J23: =-IF(J$18=$D6,$G6,0) -> 0 | K23: =-IF(K$18=$D6,$G6,0) -> 0 | L23: =-IF(L$18=$D6,$G6,0) -> 0 | M23: =-IF(M$18=$D6,$G6,0) -> 0 | ... P23: =-IF(P$18=$D6,$G6,0) -> 0
B24: Inv 4 | F24: =-IF(F$18=$D7,$G7,0) -> 0 | G24: =-IF(G$18=$D7,$G7,0) -> 0 | H24: =-IF(H$18=$D7,$G7,0) -> -19087500 | I24: =-IF(I$18=$D7,$G7,0) -> 0 | J24: =-IF(J$18=$D7,$G7,0) -> 0 | K24: =-IF(K$18=$D7,$G7,0) -> 0 | L24: =-IF(L$18=$D7,$G7,0) -> 0 | M24: =-IF(M$18=$D7,$G7,0) -> 0 | ... P24: =-IF(P$18=$D7,$G7,0) -> 0
B25: Gross Rental Income | F25: =SUM(F27:F30) -> 0 | G25: =SUM(G27:G30) -> 468961.64 | H25: =SUM(H27:H30) -> 6524562.5 | I25: =SUM(I27:I30) -> 7665003.7 | J25: =SUM(J27:J30) -> 7544763 | K25: =SUM(K27:K30) -> 9489508.9 | L25: =SUM(L27:L30) -> 3821097.9 | M25: =SUM(M27:M30) -> 0 | ... P25: =SUM(P27:P30) -> 0 | Q25: =SUM(E25:P25) -> 35513898
B27: Inv 1 | F27: =IF($E$4<F$18,0,'1'!F41) -> 0 | G27: =IF($E$4<G$18,0,'1'!G41) -> 0 | H27: =IF($E$4<H$18,0,'1'!H41) -> 2924752.5 | I27: =IF($E$4<I$18,0,'1'!I41) -> 2962115.4 | J27: =IF($E$4<J$18,0,'1'!J41) -> 0 | K27: =IF($E$4<K$18,0,'1'!K41) -> 0 | L27: =IF($E$4<L$18,0,'1'!L41) -> 0 | M27: =IF($E$4<M$18,0,'1'!M41) -> 0 | ... P27: =IF($E$4<P$18,0,'1'!P41) -> 0 | Q27: =SUM(E27:P27) -> 5886867.8
B28: Inv 2 | F28: =IF($E$5<F$18,0,'2'!E41) -> 0 | G28: =IF($E$5<G$18,0,'2'!F41) -> 468961.64 | H28: =IF($E$5<H$18,0,'2'!G41) -> 1899810 | I28: =IF($E$5<I$18,0,'2'!H41) -> 1918808.1 | J28: =IF($E$5<J$18,0,'2'!I41) -> 1937996.2 | K28: =IF($E$5<K$18,0,'2'!J41) -> 1957376.1 | L28: =IF($E$5<L$18,0,'2'!K41) -> 0 | M28: =IF($E$5<M$18,0,'2'!L41) -> 0 | ... P28: =IF($E$5<P$18,0,'2'!O41) -> 0 | Q28: =SUM(E28:P28) -> 8182952.1
B29: Inv 3 | G29: =IF($E$6<G$18,0,'3'!E41) -> 0 | H29: =IF($E$6<H$18,0,'3'!F41) -> 1700000 | I29: =IF($E$6<I$18,0,'3'!G41) -> 2784080.2 | J29: =IF($E$6<J$18,0,'3'!H41) -> 3745807.2 | K29: =IF($E$6<K$18,0,'3'!I41) -> 3783265.3 | L29: =IF($E$6<L$18,0,'3'!J41) -> 3821097.9 | M29: =IF($E$6<M$18,0,'3'!K41) -> 0 | N29: =IF($E$6<N$18,0,'3'!L41) -> 0 | ... P29: =IF($E$6<P$18,0,'3'!N41) -> 0 | Q29: =SUM(E29:P29) -> 15834251
B30: Inv 4 | H30: =IF($E$7<H$18,0,'4'!E41) -> 0 | I30: =IF($E$7<I$18,0,'4'!F41) -> 0 | J30: =IF($E$7<J$18,0,'4'!G41) -> 1860959.6 | K30: =IF($E$7<K$18,0,'4'!H41) -> 3748867.5 | L30: =IF($E$7<L$18,0,'4'!I41) -> 0 | M30: =IF($E$7<M$18,0,'4'!J41) -> 0 | N30: =IF($E$7<N$18,0,'4'!K41) -> 0 | O30: =IF($E$7<O$18,0,'4'!L41) -> 0 | P30: =IF($E$7<P$18,0,'4'!M41) -> 0 | Q30: =SUM(E30:P30) -> 5609827.1
B31: NOI | F31: =SUM(F33:F36) -> -250000 | G31: =SUM(G33:G36) -> -1854087.8 | H31: =SUM(H33:H36) -> 1061087 | I31: =SUM(I33:I36) -> 2460178.9 | J31: =SUM(J33:J36) -> 1171631.2 | K31: =SUM(K33:K36) -> 9000724.6 | L31: =SUM(L33:L36) -> 3498427.4 | M31: =SUM(M33:M36) -> 0 | ... P31: =SUM(P33:P36) -> 0 | Q31: =SUM(E31:P31) -> 15087961
B33: Inv 1 | F33: =IF($E$4<F$18,0,'1'!F55) -> -250000 | G33: =IF($E$4<G$18,0,'1'!G55) -> -252500 | H33: =IF($E$4<H$18,0,'1'!H55) -> -907069.99 | I33: =IF($E$4<I$18,0,'1'!I55) -> 2880320.7 | J33: =IF($E$4<J$18,0,'1'!J55) -> 0 | K33: =IF($E$4<K$18,0,'1'!K55) -> 0 | L33: =IF($E$4<L$18,0,'1'!L55) -> 0 | M33: =IF($E$4<M$18,0,'1'!M55) -> 0 | ... P33: =IF($E$4<P$18,0,'1'!P55) -> 0 | Q33: =SUM(E33:P33) -> 1470750.7
B34: Inv 2 | F34: =IF($E$5<F$18,0,'2'!E55) -> 0 | G34: =IF($E$5<G$18,0,'2'!F55) -> -1601587.8 | H34: =IF($E$5<H$18,0,'2'!G55) -> 1568657 | I34: =IF($E$5<I$18,0,'2'!H55) -> 1821169.2 | J34: =IF($E$5<J$18,0,'2'!I55) -> 1839380.9 | K34: =IF($E$5<K$18,0,'2'!J55) -> 1857774.7 | L34: =IF($E$5<L$18,0,'2'!K55) -> 0 | M34: =IF($E$5<M$18,0,'2'!L55) -> 0 | ... P34: =IF($E$5<P$18,0,'2'!O55) -> 0 | Q34: =SUM(E34:P34) -> 5485394.1
B35: Inv 3 | G35: =IF($E$6<G$18,0,'3'!E55) -> 0 | H35: =IF($E$6<H$18,0,'3'!F55) -> 399500 | I35: =IF($E$6<I$18,0,'3'!G55) -> -1978811.1 | J35: =IF($E$6<J$18,0,'3'!H55) -> 594864.01 | K35: =IF($E$6<K$18,0,'3'!I55) -> 3463789.5 | L35: =IF($E$6<L$18,0,'3'!J55) -> 3498427.4 | M35: =IF($E$6<M$18,0,'3'!K55) -> 0 | N35: =IF($E$6<N$18,0,'3'!L55) -> 0 | ... P35: =IF($E$6<P$18,0,'3'!N55) -> 0 | Q35: =SUM(E35:P35) -> 5977769.9
B36: Inv 4 | H36: =IF($E$7<H$18,0,'4'!E55) -> 0 | I36: =IF($E$7<I$18,0,'4'!F55) -> -262500 | J36: =IF($E$7<J$18,0,'4'!G55) -> -1262613.7 | K36: =IF($E$7<K$18,0,'4'!H55) -> 3679160.3 | L36: =IF($E$7<L$18,0,'4'!I55) -> 0 | M36: =IF($E$7<M$18,0,'4'!J55) -> 0 | N36: =IF($E$7<N$18,0,'4'!K55) -> 0 | O36: =IF($E$7<O$18,0,'4'!L55) -> 0 | P36: =IF($E$7<P$18,0,'4'!M55) -> 0 | Q36: =SUM(E36:P36) -> 2154046.6
B37: Capex | F37: =SUM(F39:F42) -> -17500000 | G37: =SUM(G39:G42) -> -6300000 | H37: =SUM(H39:H42) -> 0 | I37: =SUM(I39:I42) -> -31350000 | J37: =SUM(J39:J42) -> 0 | K37: =SUM(K39:K42) -> 0 | L37: =SUM(L39:L42) -> 0 | M37: =SUM(M39:M42) -> 0 | ... P37: =SUM(P39:P42) -> 0 | Q37: =SUM(E37:P37) -> -55150000
B39: Inv 1 | F39: =IF($E$4<F$18,0,'1'!F57) -> -17500000 | G39: =IF($E$4<G$18,0,'1'!G57) -> 0 | H39: =IF($E$4<H$18,0,'1'!H57) -> 0 | I39: =IF($E$4<I$18,0,'1'!I57) -> 0 | J39: =IF($E$4<J$18,0,'1'!J57) -> 0 | K39: =IF($E$4<K$18,0,'1'!K57) -> 0 | L39: =IF($E$4<L$18,0,'1'!L57) -> 0 | M39: =IF($E$4<M$18,0,'1'!M57) -> 0 | ... P39: =IF($E$4<P$18,0,'1'!P57) -> 0 | Q39: =SUM(E39:P39) -> -17500000
B40: Inv 2 | F40: =IF($E$5<F$18,0,'2'!E57) -> 0 | G40: =IF($E$5<G$18,0,'2'!F57) -> -6300000 | H40: =IF($E$5<H$18,0,'2'!G57) -> 0 | I40: =IF($E$5<I$18,0,'2'!H57) -> 0 | J40: =IF($E$5<J$18,0,'2'!I57) -> 0 | K40: =IF($E$5<K$18,0,'2'!J57) -> 0 | L40: =IF($E$5<L$18,0,'2'!K57) -> 0 | M40: =IF($E$5<M$18,0,'2'!L57) -> 0 | ... P40: =IF($E$5<P$18,0,'2'!O57) -> 0 | Q40: =SUM(E40:P40) -> -6300000
B41: Inv 3 | G41: =IF($E$6<G$18,0,'3'!E57) -> 0 | H41: =IF($E$6<H$18,0,'3'!F57) -> 0 | I41: =IF($E$6<I$18,0,'3'!G57) -> -5100000 | J41: =IF($E$6<J$18,0,'3'!H57) -> 0 | K41: =IF($E$6<K$18,0,'3'!I57) -> 0 | L41: =IF($E$6<L$18,0,'3'!J57) -> 0 | M41: =IF($E$6<M$18,0,'3'!K57) -> 0 | N41: =IF($E$6<N$18,0,'3'!L57) -> 0 | ... P41: =IF($E$6<P$18,0,'3'!N57) -> 0 | Q41: =SUM(E41:P41) -> -5100000
B42: Inv 4 | H42: =IF($E$7<H$18,0,'4'!E57) -> 0 | I42: =IF($E$7<I$18,0,'4'!F57) -> -26250000 | J42: =IF($E$7<J$18,0,'4'!G57) -> 0 | K42: =IF($E$7<K$18,0,'4'!H57) -> 0 | L42: =IF($E$7<L$18,0,'4'!I57) -> 0 | M42: =IF($E$7<M$18,0,'4'!J57) -> 0 | N42: =IF($E$7<N$18,0,'4'!K57) -> 0 | O42: =IF($E$7<O$18,0,'4'!L57) -> 0 | P42: =IF($E$7<P$18,0,'4'!M57) -> 0 | Q42: =SUM(E42:P42) -> -26250000
B43: Capex Debt | F43: =SUM(F45:F48) -> 8750000 | G43: =SUM(G45:G48) -> 3465000 | H43: =SUM(H45:H48) -> 0 | I43: =SUM(I45:I48) -> 16440000 | J43: =SUM(J45:J48) -> 0 | K43: =SUM(K45:K48) -> 0 | L43: =SUM(L45:L48) -> 0 | M43: =SUM(M45:M48) -> 0 | ... P43: =SUM(P45:P48) -> 0 | Q43: =SUM(E43:P43) -> 28655000
B45: Inv 1 | F45: =IF($E$4<F$18,0,'1'!F58) -> 8750000 | G45: =IF($E$4<G$18,0,'1'!G58) -> 0 | H45: =IF($E$4<H$18,0,'1'!H58) -> 0 | I45: =IF($E$4<I$18,0,'1'!I58) -> 0 | J45: =IF($E$4<J$18,0,'1'!J58) -> 0 | K45: =IF($E$4<K$18,0,'1'!K58) -> 0 | L45: =IF($E$4<L$18,0,'1'!L58) -> 0 | M45: =IF($E$4<M$18,0,'1'!M58) -> 0 | ... P45: =IF($E$4<P$18,0,'1'!P58) -> 0 | Q45: =SUM(E45:P45) -> 8750000
B46: Inv 2 | F46: =IF($E$5<F$18,0,'2'!E58) -> 0 | G46: =IF($E$5<G$18,0,'2'!F58) -> 3465000 | H46: =IF($E$5<H$18,0,'2'!G58) -> 0 | I46: =IF($E$5<I$18,0,'2'!H58) -> 0 | J46: =IF($E$5<J$18,0,'2'!I58) -> 0 | K46: =IF($E$5<K$18,0,'2'!J58) -> 0 | L46: =IF($E$5<L$18,0,'2'!K58) -> 0 | M46: =IF($E$5<M$18,0,'2'!L58) -> 0 | ... P46: =IF($E$5<P$18,0,'2'!O58) -> 0 | Q46: =SUM(E46:P46) -> 3465000
B47: Inv 3 | G47: =IF($E$6<G$18,0,'3'!E58) -> 0 | H47: =IF($E$6<H$18,0,'3'!F58) -> 0 | I47: =IF($E$6<I$18,0,'3'!G58) -> 3315000 | J47: =IF($E$6<J$18,0,'3'!H58) -> 0 | K47: =IF($E$6<K$18,0,'3'!I58) -> 0 | L47: =IF($E$6<L$18,0,'3'!J58) -> 0 | M47: =IF($E$6<M$18,0,'3'!K58) -> 0 | N47: =IF($E$6<N$18,0,'3'!L58) -> 0 | ... P47: =IF($E$6<P$18,0,'3'!N58) -> 0 | Q47: =SUM(E47:P47) -> 3315000
B48: Inv 4 | H48: =IF($E$7<H$18,0,'4'!E58) -> 0 | I48: =IF($E$7<I$18,0,'4'!F58) -> 13125000 | J48: =IF($E$7<J$18,0,'4'!G58) -> 0 | K48: =IF($E$7<K$18,0,'4'!H58) -> 0 | L48: =IF($E$7<L$18,0,'4'!I58) -> 0 | M48: =IF($E$7<M$18,0,'4'!J58) -> 0 | N48: =IF($E$7<N$18,0,'4'!K58) -> 0 | O48: =IF($E$7<O$18,0,'4'!L58) -> 0 | P48: =IF($E$7<P$18,0,'4'!M58) -> 0 | Q48: =SUM(E48:P48) -> 13125000
B49: Operating Free Cash Flow | F49: =SUM(F51:F54) -> -9000000 | G49: =SUM(G51:G54) -> -4689087.8 | H49: =SUM(H51:H54) -> 1061087 | I49: =SUM(I51:I54) -> -12449821 | J49: =SUM(J51:J54) -> 1171631.2 | K49: =SUM(K51:K54) -> 9000724.6 | L49: =SUM(L51:L54) -> 3498427.4 | M49: =SUM(M51:M54) -> 0 | ... P49: =SUM(P51:P54) -> 0 | Q49: =SUM(E49:P49) -> -11407039
B51: Inv 1 | F51: =IF($E$4<F$18,0,'1'!F60) -> -9000000 | G51: =IF($E$4<G$18,0,'1'!G60) -> -252500 | H51: =IF($E$4<H$18,0,'1'!H60) -> -907069.99 | I51: =IF($E$4<I$18,0,'1'!I60) -> 2880320.7 | J51: =IF($E$4<J$18,0,'1'!J60) -> 0 | K51: =IF($E$4<K$18,0,'1'!K60) -> 0 | L51: =IF($E$4<L$18,0,'1'!L60) -> 0 | M51: =IF($E$4<M$18,0,'1'!M60) -> 0 | ... P51: =IF($E$4<P$18,0,'1'!P60) -> 0 | Q51: =SUM(E51:P51) -> -7279249.3
B52: Inv 2 | F52: =IF($E$5<F$18,0,'2'!E60) -> 0 | G52: =IF($E$5<G$18,0,'2'!F60) -> -4436587.8 | H52: =IF($E$5<H$18,0,'2'!G60) -> 1568657 | I52: =IF($E$5<I$18,0,'2'!H60) -> 1821169.2 | J52: =IF($E$5<J$18,0,'2'!I60) -> 1839380.9 | K52: =IF($E$5<K$18,0,'2'!J60) -> 1857774.7 | L52: =IF($E$5<L$18,0,'2'!K60) -> 0 | M52: =IF($E$5<M$18,0,'2'!L60) -> 0 | ... P52: =IF($E$5<P$18,0,'2'!O60) -> 0 | Q52: =SUM(E52:P52) -> 2650394.1
B53: Inv 3 | G53: =IF($E$6<G$18,0,'3'!E60) -> 0 | H53: =IF($E$6<H$18,0,'3'!F60) -> 399500 | I53: =IF($E$6<I$18,0,'3'!G60) -> -3763811.1 | J53: =IF($E$6<J$18,0,'3'!H60) -> 594864.01 | K53: =IF($E$6<K$18,0,'3'!I60) -> 3463789.5 | L53: =IF($E$6<L$18,0,'3'!J60) -> 3498427.4 | M53: =IF($E$6<M$18,0,'3'!K60) -> 0 | N53: =IF($E$6<N$18,0,'3'!L60) -> 0 | ... P53: =IF($E$6<P$18,0,'3'!N60) -> 0 | Q53: =SUM(E53:P53) -> 4192769.9
B54: Inv 4 | H54: =IF($E$7<H$18,0,'4'!E60) -> 0 | I54: =IF($E$7<I$18,0,'4'!F60) -> -13387500 | J54: =IF($E$7<J$18,0,'4'!G60) -> -1262613.7 | K54: =IF($E$7<K$18,0,'4'!H60) -> 3679160.3 | L54: =IF($E$7<L$18,0,'4'!I60) -> 0 | M54: =IF($E$7<M$18,0,'4'!J60) -> 0 | N54: =IF($E$7<N$18,0,'4'!K60) -> 0 | O54: =IF($E$7<O$18,0,'4'!L60) -> 0 | P54: =IF($E$7<P$18,0,'4'!M60) -> 0 | Q54: =SUM(E54:P54) -> -10970953
B55: Financing CF | F55: =SUM(F57:F60) -> -309375 | G55: =SUM(G57:G60) -> -569250 | H55: =SUM(H57:H60) -> -1122183.8 | I55: =SUM(I57:I60) -> -1709509.3 | J55: =SUM(J57:J60) -> -1395867 | K55: =SUM(K57:K60) -> -10488683 | L55: =SUM(L57:L60) -> -22876474 | M55: =SUM(M57:M60) -> 0 | ... P55: =SUM(P57:P60) -> 0 | Q55: =SUM(E55:P55) -> -38471341
...

Sheet 1
B1: Capex Starts | C1: =EDATE($F$33,C15) -> 43830
B2: Lease starts | C2: =EDATE(C1,C19+C24) -> 44561 | Z2: Acquisition Debt | AB2: 0 | AC2: 1 | AD2: 2 | AE2: 3 | AF2: 4 | AG2: 5 | AH2: 6 | AI2: 7 | AJ2: 8 | AK2: 9 | AL2: 10 | AM2: 11
B3: rf ends | C3: =EDATE(C2,C25) -> 44926
F4: Investment 1 | Z4: Drawdown | AB4: =H15 -> 2500000
G7: Stabilized Development Yield : | J7: =(K41)/H25 -> 0.13340635
G8: SM price at acquisition | I8: =H25/C11 -> 906 | J8: At Exit | K8: =MAX(F73,G73,H73,I73,J73,K73,L73,M73,N73,O73,P73)/$C$11 -> 1841.0686 | Z8: Nominal solde | AC8: =AB4+AB8-AB10 -> 2500000 | AD8: =AC4+AC8-AC10 -> 2500000 | AE8: =AD4+AD8-AD10 -> 2500000 | AF8: =AE4+AE8-AE10 -> 2500000 | AG8: =AF4+AF8-AF10 -> 2500000 | AH8: =AG4+AG8-AG10 -> 0 | AI8: =AH4+AH8-AH10 -> 0 | AJ8: =AI4+AI8-AI10 -> 0 | ... AM8: =AL4+AL8-AL10 -> 0
B9: Deal snapshot | F9: Sources & Uses | O9: Debt Assumptions | Z9: Interest | AC9: =$P$13*AC8 -> 68750 | AD9: =$P$13*AD8 -> 68750 | AE9: =$P$13*AE8 -> 68750 | AF9: =$P$13*AF8 -> 68750 | AG9: =$P$13*AG8 -> 68750 | AH9: =$P$13*AH8 -> 0 | AI9: =$P$13*AI8 -> 0 | AJ9: =$P$13*AJ8 -> 0 | ... AM9: =$P$13*AM8 -> 0
B10: Acquisition Date | C10: 43830 | Z10: Nominal Amort | AC10: =IF($P$15>AC2,AC8*$P$14,IF($P$15=AC2,AC8,0)) -> 0 | AD10: =IF($P$15>AD2,AD8*$P$14,IF($P$15=AD2,AD8,0)) -> 0 | AE10: =IF($P$15>AE2,AE8*$P$14,IF($P$15=AE2,AE8,0)) -> 0 | AF10: =IF($P$15>AF2,AF8*$P$14,IF($P$15=AF2,AF8,0)) -> 0 | AG10: =IF($P$15>AG2,AG8*$P$14,IF($P$15=AG2,AG8,0)) -> 2500000 | AH10: =IF($P$15>AH2,AH8*$P$14,IF($P$15=AH2,AH8,0)) -> 0 | AI10: =IF($P$15>AI2,AI8*$P$14,IF($P$15=AI2,AI8,0)) -> 0 | AJ10: =IF($P$15>AJ2,AJ8*$P$14,IF($P$15=AJ2,AJ8,0)) -> 0 | ... AM10: =IF($P$15>AM2,AM8*$P$14,IF($P$15=AM2,AM8,0)) -> 0
B11: Size | C11: =25000 -> 25000 | Z11: TOTAL PAYMENT | AC11: =AC10+AC9 -> 68750 | AD11: =AD10+AD9 -> 68750 | AE11: =AE10+AE9 -> 68750 | AF11: =AF10+AF9 -> 68750 | AG11: =AG10+AG9 -> 2568750 | AH11: =AH10+AH9 -> 0 | AI11: =AI10+AI9 -> 0 | AJ11: =AJ10+AJ9 -> 0 | ... AM11: =AM10+AM9 -> 0
B12: Occupancy at acquisition | C12: 0 | F12: Sources | J12: Uses | O12: Acquisition Debt
B13: rent at acquisition | C13: 0 | F13: Equity - LP | G13: =a!O8 -> 0.95 | H13: =($L$25-$H$15-H16)*G13 -> 10830000 | J13: Purchase Price | L13: =5000000 -> 5000000 | O13: Margin | P13: 0.0275
B14: Rent per sm | C14: 0 | F14: Equity - AAM | G14: =a!O9 -> 0.05 | H14: =($L$25-$H$15-H16)*G14 -> 570000 | J14: Capex | L14: =C18*C11 -> 17500000 | O14: Amortization | P14: 0
B15: WALT | C15: 0 | F15: Acquisition Debt | G15: 0.5 | H15: =G15*L13 -> 2500000 | J15: Closing Costs | K15: 0.025 | L15: =L13*K15 -> 125000 | O15: Terms | P15: 5
B16: Charges per sm | C16: 10 | F16: Capex Debt | G16: =C20 -> 0.5 | H16: =L14*G16 -> 8750000 | J16: Debt Fees | K16: 0.01 | L16: =K16*H15 -> 25000
B17: Charges indexation | C17: 0.01 | J17: Acquisition Fee | L17: =a!E7 -> 0.015 | O17: Capex Debt
B18: Capex per sm | C18: 700 | O18: Margin | P18: 0.0275 | Z18: CAPEX Debt
B19: Capex period | C19: 18 | O19: Amortization | P19: 0
B20: Capex Debt | C20: 0.5 | O20: Terms | P20: 5 | Z20: Drawdown | AB20: =H16 -> 8750000
B21: Stabilized occupancy rate | C21: 1 | Z21: Nominal solde | AC21: =AB20+AB21-AB23 -> 8750000 | AD21: =AC20+AC21-AC23 -> 8750000 | AE21: =AD20+AD21-AD23 -> 8750000 | AF21: =AE20+AE21-AE23 -> 8750000 | AG21: =AF20+AF21-AF23 -> 8750000 | AH21: =AG20+AG21-AG23 -> 0 | AI21: =AH20+AH21-AH23 -> 0 | AJ21: =AI20+AI21-AI23 -> 0 | ... AM21: =AL20+AL21-AL23 -> 0
B22: Rental Index | C22: 0.01 | Z22: Interest | AC22: =$P$18*AC21 -> 240625 | AD22: =$P$18*AD21 -> 240625 | AE22: =$P$18*AE21 -> 240625 | AF22: =$P$18*AF21 -> 240625 | AG22: =$P$18*AG21 -> 240625 | AH22: =$P$18*AH21 -> 0 | AI22: =$P$18*AI21 -> 0 | AJ22: =$P$18*AJ21 -> 0 | ... AM22: =$P$18*AM21 -> 0
B23: New proposed Rent per sm | C23: 115 | Z23: Nominal Amort | AC23: =IF($P$20>AC2,AC21*$P$19,IF($P$20=AC2,AC21,0)) -> 0 | AD23: =IF($P$20>AD2,AD21*$P$19,IF($P$20=AD2,AD21,0)) -> 0 | AE23: =IF($P$20>AE2,AE21*$P$19,IF($P$20=AE2,AE21,0)) -> 0 | AF23: =IF($P$20>AF2,AF21*$P$19,IF($P$20=AF2,AF21,0)) -> 0 | AG23: =IF($P$20>AG2,AG21*$P$19,IF($P$20=AG2,AG21,0)) -> 8750000 | AH23: =IF($P$20>AH2,AH21*$P$19,IF($P$20=AH2,AH21,0)) -> 0 | AI23: =IF($P$20>AI2,AI21*$P$19,IF($P$20=AI2,AI21,0)) -> 0 | AJ23: =IF($P$20>AJ2,AJ21*$P$19,IF($P$20=AJ2,AJ21,0)) -> 0 | ... AM23: =IF($P$20>AM2,AM21*$P$19,IF($P$20=AM2,AM21,0)) -> 0
B24: Vacancy period after capex | C24: 6 | Z24: TOTAL PAYMENT | AC24: =AC23+AC22 -> 240625 | AD24: =AD23+AD22 -> 240625 | AE24: =AE23+AE22 -> 240625 | AF24: =AF23+AF22 -> 240625 | AG24: =AG23+AG22 -> 8990625 | AH24: =AH23+AH22 -> 0 | AI24: =AI23+AI22 -> 0 | AJ24: =AJ23+AJ22 -> 0 | ... AM24: =AM23+AM22 -> 0
B25: Rent Free period | C25: 12 | F25: Total Sources | H25: =SUM(H13:H18) -> 22650000 | J25: Total Uses | L25: =SUM(L13:L18) -> 22650000
B26: Exit Yield | C26: 0.065
B27: Exit Year (Deal) | C27: 4
B28: Exit Year (JV) | C28: =IF(C27=F35,F36,IF(C27=G35,G36,IF(C27=H35,H36,IF(C27=I35,I36,IF(C27=J35,J36,IF(K35=C27,K36,IF(C27=L35,L36,IF(C27=M35,M36,IF(N35=C27,N36,IF(C27=O35,O36,IF(C27=P35,P36,0))))))))))) -> 4
B29: rent at exit | C29: =IF(C27=F35,F41,IF(C27=G35,G41,IF(C27=H35,H41,IF(C27=I35,I41,IF(C27=J35,J41,IF(K35=C27,K41,IF(C27=L35,L41,IF(C27=M35,M41,IF(N35=C27,N41,IF(C27=O35,O41,IF(C27=P35,P41,0))))))))))) -> 2962115.4
Z30: TOTAL interest | AC30: =AC9+AC22 -> 309375 | AD30: =AD9+AD22 -> 309375 | AE30: =AE9+AE22 -> 309375 | AF30: =AF9+AF22 -> 309375 | AG30: =AG9+AG22 -> 309375 | AH30: =AH9+AH22 -> 0 | AI30: =AI9+AI22 -> 0 | AJ30: =AJ9+AJ22 -> 0 | ... AM30: =AM9+AM22 -> 0
Z31: TOTAL Amort | AC31: =AC10+AC23 -> 0 | AD31: =AD10+AD23 -> 0 | AE31: =AE10+AE23 -> 0 | AF31: =AF10+AF23 -> 0 | AG31: =AG10+AG23 -> 11250000 | AH31: =AH10+AH23 -> 0 | AI31: =AI10+AI23 -> 0 | AJ31: =AJ10+AJ23 -> 0 | ... AM31: =AM10+AM23 -> 0
Z32: TOTAL PAYMENT | AC32: =AC30+AC31 -> 309375 | AD32: =AD30+AD31 -> 309375 | AE32: =AE30+AE31 -> 309375 | AF32: =AF30+AF31 -> 309375 | AG32: =AG30+AG31 -> 11559375 | AH32: =AH30+AH31 -> 0 | AI32: =AI30+AI31 -> 0 | AJ32: =AJ30+AJ31 -> 0 | ... AM32: =AM30+AM31 -> 0
B33: Date | E33: Acquisition | F33: =C10 -> 43830 | G33: =EDATE(F33,12) -> 44196 | H33: =EDATE(G33,12) -> 44561 | I33: =EDATE(H33,12) -> 44926 | J33: =EDATE(I33,12) -> 45291 | K33: =EDATE(J33,12) -> 45657 | L33: =EDATE(K33,12) -> 46022 | M33: =EDATE(L33,12) -> 46387 | N33: =EDATE(M33,12) -> 46752 | ... P33: =EDATE(O33,12) -> 47483 | Q33: Total
E34: =F33 -> 43830 | F34: =EDATE(F33,12)-1 -> 44195 | G34: =EDATE(G33,12)-1 -> 44560 | H34: =EDATE(H33,12)-1 -> 44925 | I34: =EDATE(I33,12)-1 -> 45290 | J34: =EDATE(J33,12)-1 -> 45656 | K34: =EDATE(K33,12)-1 -> 46021 | L34: =EDATE(L33,12)-1 -> 46386 | M34: =EDATE(M33,12)-1 -> 46751 | ... P34: =EDATE(P33,12)-1 -> 47847
B35: Year (deal) | E35: 0 | F35: 1 | G35: 2 | H35: 3 | I35: 4 | J35: 5 | K35: 6 | L35: 7 | M35: 8 | N35: 9 | O35: 10 | P35: 11
B36: Year (JV) | E36: 0 | F36: =a!H23 -> 0 | G36: 2 | H36: 3 | I36: 4 | J36: 5 | K36: 6 | L36: 7 | M36: 8 | N36: 9 | O36: 10 | P36: 11
B37: occupancy | F37: =IF(F38<>0,$C$12*(F38/$C$13),IF(F39<>0,F39/(($C$23*(((1+$C$22)^E35)))*$C$11),0)) -> 0 | G37: =IF(G38<>0,$C$12*(G38/$C$13),IF(G39<>0,G39/(($C$23*(((1+$C$22)^F35)))*$C$11),0)) -> 0 | H37: =IF(H38<>0,$C$12*(H38/$C$13),IF(H39<>0,H39/(($C$23*(((1+$C$22)^G35)))*$C$11),0)) -> 0.99726027 | I37: =IF(I38<>0,$C$12*(I38/$C$13),IF(I39<>0,I39/(($C$23*(((1+$C$22)^H35)))*$C$11),0)) -> 1 | J37: =IF(J38<>0,$C$12*(J38/$C$13),IF(J39<>0,J39/(($C$23*(((1+$C$22)^I35)))*$C$11),0)) -> 1 | K37: =IF(K38<>0,$C$12*(K38/$C$13),IF(K39<>0,K39/(($C$23*(((1+$C$22)^J35)))*$C$11),0)) -> 1 | L37: =IF(L38<>0,$C$12*(L38/$C$13),IF(L39<>0,L39/(($C$23*(((1+$C$22)^K35)))*$C$11),0)) -> 1 | M37: =IF(M38<>0,$C$12*(M38/$C$13),IF(M39<>0,M39/(($C$23*(((1+$C$22)^L35)))*$C$11),0)) -> 1 | ... P37: =IF(P38<>0,$C$12*(P38/$C$13),IF(P39<>0,P39/(($C$23*(((1+$C$22)^O35)))*$C$11),0)) -> 1
C38: before capex | F38: =IF($C$1>F$34,$C$11*$C$12*($C$14*(((1+$C$22)^E35))),IF(AND(F$33<=$C$1,$C$1<=F$34),($C$11*$C$12*($C$14*(((1+$C$22)^E35))))*($C$1-F33)/365,0)) -> 0 | G38: =IF($C$1>G$34,$C$11*$C$12*($C$14*(((1+$C$22)^F35))),IF(AND(G$33<=$C$1,$C$1<=G$34),($C$11*$C$12*($C$14*(((1+$C$22)^F35))))*($C$1-G33)/365,0)) -> 0 | H38: =IF($C$1>H$34,$C$11*$C$12*($C$14*(((1+$C$22)^G35))),IF(AND(H$33<=$C$1,$C$1<=H$34),($C$11*$C$12*($C$14*(((1+$C$22)^G35))))*($C$1-H33)/365,0)) -> 0 | I38: =IF($C$1>I$34,$C$11*$C$12*($C$14*(((1+$C$22)^H35))),IF(AND(I$33<=$C$1,$C$1<=I$34),($C$11*$C$12*($C$14*(((1+$C$22)^H35))))*($C$1-I33)/365,0)) -> 0 | J38: =IF($C$1>J$34,$C$11*$C$12*($C$14*(((1+$C$22)^I35))),IF(AND(J$33<=$C$1,$C$1<=J$34),($C$11*$C$12*($C$14*(((1+$C$22)^I35))))*($C$1-J33)/365,0)) -> 0 | K38: =IF($C$1>K$34,$C$11*$C$12*($C$14*(((1+$C$22)^J35))),IF(AND(K$33<=$C$1,$C$1<=K$34),($C$11*$C$12*($C$14*(((1+$C$22)^J35))))*($C$1-K33)/365,0)) -> 0 | L38: =IF($C$1>L$34,$C$11*$C$12*($C$14*(((1+$C$22)^K35))),IF(AND(L$33<=$C$1,$C$1<=L$34),($C$11*$C$12*($C$14*(((1+$C$22)^K35))))*($C$1-L33)/365,0)) -> 0 | M38: =IF($C$1>M$34,$C$11*$C$12*($C$14*(((1+$C$22)^L35))),IF(AND(M$33<=$C$1,$C$1<=M$34),($C$11*$C$12*($C$14*(((1+$C$22)^L35))))*($C$1-M33)/365,0)) -> 0 | ... P38: =IF($C$1>P$34,$C$11*$C$12*($C$14*(((1+$C$22)^O35))),IF(AND(P$33<=$C$1,$C$1<=P$34),($C$11*$C$12*($C$14*(((1+$C$22)^O35))))*($C$1-P33)/365,0)) -> 0
C39: after capex | F39: =IF($C$2<F$33,($C$23*(((1+$C$22)^E35)))*$C$11*$C$21,IF(AND(F$33<=$C$2,$C$2<=F$34),(($C$23*(((1+$C$22)^E35)))*$C$11*$C$21)*((F$34-$C$2)/365),0)) -> 0 | G39: =IF($C$2<G$33,($C$23*(((1+$C$22)^F35)))*$C$11*$C$21,IF(AND(G$33<=$C$2,$C$2<=G$34),(($C$23*(((1+$C$22)^F35)))*$C$11*$C$21)*((G$34-$C$2)/365),0)) -> 0 | H39: =IF($C$2<H$33,($C$23*(((1+$C$22)^G35)))*$C$11*$C$21,IF(AND(H$33<=$C$2,$C$2<=H$34),(($C$23*(((1+$C$22)^G35)))*$C$11*$C$21)*((H$34-$C$2)/365),0)) -> 2924752.5 | I39: =IF($C$2<I$33,($C$23*(((1+$C$22)^H35)))*$C$11*$C$21,IF(AND(I$33<=$C$2,$C$2<=I$34),(($C$23*(((1+$C$22)^H35)))*$C$11*$C$21)*((I$34-$C$2)/365),0)) -> 2962115.4 | J39: =IF($C$2<J$33,($C$23*(((1+$C$22)^I35)))*$C$11*$C$21,IF(AND(J$33<=$C$2,$C$2<=J$34),(($C$23*(((1+$C$22)^I35)))*$C$11*$C$21)*((J$34-$C$2)/365),0)) -> 2991736.5 | K39: =IF($C$2<K$33,($C$23*(((1+$C$22)^J35)))*$C$11*$C$21,IF(AND(K$33<=$C$2,$C$2<=K$34),(($C$23*(((1+$C$22)^J35)))*$C$11*$C$21)*((K$34-$C$2)/365),0)) -> 3021653.9 | L39: =IF($C$2<L$33,($C$23*(((1+$C$22)^K35)))*$C$11*$C$21,IF(AND(L$33<=$C$2,$C$2<=L$34),(($C$23*(((1+$C$22)^K35)))*$C$11*$C$21)*((L$34-$C$2)/365),0)) -> 3051870.4 | M39: =IF($C$2<M$33,($C$23*(((1+$C$22)^L35)))*$C$11*$C$21,IF(AND(M$33<=$C$2,$C$2<=M$34),(($C$23*(((1+$C$22)^L35)))*$C$11*$C$21)*((M$34-$C$2)/365),0)) -> 3082389.1 | ... P39: =IF($C$2<P$33,($C$23*(((1+$C$22)^O35)))*$C$11*$C$21,IF(AND(P$33<=$C$2,$C$2<=P$34),(($C$23*(((1+$C$22)^O35)))*$C$11*$C$21)*((P$34-$C$2)/365),0)) -> 3175788.6
B41: GROSS Rental income | F41: =SUM(F38:F39) -> 0 | G41: =SUM(G38:G39) -> 0 | H41: =SUM(H38:H39) -> 2924752.5 | I41: =SUM(I38:I39) -> 2962115.4 | J41: =SUM(J38:J39) -> 2991736.5 | K41: =SUM(K38:K39) -> 3021653.9 | L41: =SUM(L38:L39) -> 3051870.4 | M41: =SUM(M38:M39) -> 3082389.1 | ... P41: =SUM(P38:P39) -> 3175788.6 | Q41: =SUM(G41:P41) -> 27467865
B42: Total RF | F42: =IF(AND(F33<=$C$2,$C$2<=F34),-F41*$C$25/12,0) -> 0 | G42: =IF(AND(G33<=$C$2,$C$2<=G34),-H41*$C$25/12,0) -> 0 | H42: =IF(AND(H33<=$C$2,$C$2<=H34),-I41*$C$25/12,0) -> -2962115.4 | I42: =IF(AND(I33<=$C$2,$C$2<=I34),-J41*$C$25/12,0) -> 0 | J42: =IF(AND(J33<=$C$2,$C$2<=J34),-K41*$C$25/12,0) -> 0 | K42: =IF(AND(K33<=$C$2,$C$2<=K34),-L41*$C$25/12,0) -> 0 | L42: =IF(AND(L33<=$C$2,$C$2<=L34),-M41*$C$25/12,0) -> 0 | M42: =IF(AND(M33<=$C$2,$C$2<=M34),-N41*$C$25/12,0) -> 0 | N42: =IF(AND(N33<=$C$2,$C$2<=N34),-O41*$C$25/12,0) -> 0 | ... P42: =IF(AND(P33<=$C$2,$C$2<=P34),-Q41*$C$25/12,0) -> 0
C43: dist1 | F43: =IF(-F42<=F41,F42,IF(-F42>F41,-F41,0)) -> 0 | G43: =IF(-G42<=G41,G42,IF(-G42>G41,-G41,0)) -> 0 | H43: =IF(-H42<=H41,H42,IF(-H42>H41,-H41,0)) -> -2924752.5 | I43: =IF(-I42<=I41,I42,IF(-I42>I41,-I41,0)) -> 0 | J43: =IF(-J42<=J41,J42,IF(-J42>J41,-J41,0)) -> 0 | K43: =IF(-K42<=K41,K42,IF(-K42>K41,-K41,0)) -> 0 | L43: =IF(-L42<=L41,L42,IF(-L42>L41,-L41,0)) -> 0 | M43: =IF(-M42<=M41,M42,IF(-M42>M41,-M41,0)) -> 0 | ... P43: =IF(-P42<=P41,P42,IF(-P42>P41,-P41,0)) -> 0
...

Sheet 2
B1: Capex Starts | C1: =EDATE($F$33,C15) -> 44196
B2: Lease starts | C2: =EDATE(C1,C19+C24) -> 44469 | Z2: Acquisition Debt | AB2: 0 | AC2: 1 | AD2: 2 | AE2: 3 | AF2: 4 | AG2: 5 | AH2: 6 | AI2: 7 | AJ2: 8 | AK2: 9 | AL2: 10 | AM2: 11
B3: rf ends | C3: =EDATE(C2,C25) -> 45015
F4: Investment 2 | Z4: Drawdown | AB4: =H15 -> 5775000
G7: Stabilized Development Yield : | J7: =(K41)/H25 -> 0.11547436
G8: SM price at acquisition | I8: =H25/C11 -> 951.125 | J8: At Exit | K8: =MAX(F73,G73,H73,I73,J73,K73,L73,M73,N73,O73,P73)/$C$11 -> 1627.1193 | Z8: Nominal solde | AC8: =AB4+AB8-AB10 -> 5775000 | AD8: =AC4+AC8-AC10 -> 5746125 | AE8: =AD4+AD8-AD10 -> 5717394.4 | AF8: =AE4+AE8-AE10 -> 5688807.4 | AG8: =AF4+AF8-AF10 -> 5660363.4 | AH8: =AG4+AG8-AG10 -> 0 | AI8: =AH4+AH8-AH10 -> 0 | AJ8: =AI4+AI8-AI10 -> 0 | ... AM8: =AL4+AL8-AL10 -> 0
B9: Deal snapshot | F9: Sources & Uses | O9: Debt Assumptions | Z9: Interest | AC9: =$P$13*AC8 -> 144375 | AD9: =$P$13*AD8 -> 143653.13 | AE9: =$P$13*AE8 -> 142934.86 | AF9: =$P$13*AF8 -> 142220.19 | AG9: =$P$13*AG8 -> 141509.08 | AH9: =$P$13*AH8 -> 0 | AI9: =$P$13*AI8 -> 0 | AJ9: =$P$13*AJ8 -> 0 | ... AM9: =$P$13*AM8 -> 0
B10: Acquisition Date | C10: 44196 | Z10: Nominal Amort | AC10: =IF($P$15>AC2,AC8*$P$14,IF($P$15=AC2,AC8,0)) -> 28875 | AD10: =IF($P$15>AD2,AD8*$P$14,IF($P$15=AD2,AD8,0)) -> 28730.625 | AE10: =IF($P$15>AE2,AE8*$P$14,IF($P$15=AE2,AE8,0)) -> 28586.972 | AF10: =IF($P$15>AF2,AF8*$P$14,IF($P$15=AF2,AF8,0)) -> 28444.037 | AG10: =IF($P$15>AG2,AG8*$P$14,IF($P$15=AG2,AG8,0)) -> 5660363.4 | AH10: =IF($P$15>AH2,AH8*$P$14,IF($P$15=AH2,AH8,0)) -> 0 | AI10: =IF($P$15>AI2,AI8*$P$14,IF($P$15=AI2,AI8,0)) -> 0 | AJ10: =IF($P$15>AJ2,AJ8*$P$14,IF($P$15=AJ2,AJ8,0)) -> 0 | ... AM10: =IF($P$15>AM2,AM8*$P$14,IF($P$15=AM2,AM8,0)) -> 0
B11: Size | C11: =12000*1.5 -> 18000 | Z11: TOTAL PAYMENT | AC11: =AC10+AC9 -> 173250 | AD11: =AD10+AD9 -> 172383.75 | AE11: =AE10+AE9 -> 171521.83 | AF11: =AF10+AF9 -> 170664.22 | AG11: =AG10+AG9 -> 5801872.5 | AH11: =AH10+AH9 -> 0 | AI11: =AI10+AI9 -> 0 | AJ11: =AJ10+AJ9 -> 0 | ... AM11: =AM10+AM9 -> 0
B12: Occupancy at acquisition | C12: 0 | F12: Sources | J12: Uses | O12: Acquisition Debt
B13: rent at acquisition | C13: =C14*C12*C11 -> 0 | F13: Equity - LP | G13: =a!O8 -> 0.95 | H13: =($L$25-$H$15-H16)*G13 -> 7486237.5 | J13: Purchase Price | L13: =7000000*1.5 -> 10500000 | M13: =L13/C11 -> 583.33333 | O13: Margin | P13: 0.025
B14: Rent per sm | C14: 0 | F14: Equity - AAM | G14: =a!O9 -> 0.05 | H14: =($L$25-$H$15-H16)*G14 -> 394012.5 | J14: Capex | L14: =C18*C11 -> 6300000 | O14: Amortization | P14: 0.005
B15: WALT | C15: 0 | F15: Acquisition Debt | G15: 0.55 | H15: =G15*L13 -> 5775000 | J15: Closing Costs | K15: 0.025 | L15: =L13*K15 -> 262500 | O15: Terms | P15: 5
B16: Charges per sm | C16: 75 | F16: Capex Debt | G16: =C20 -> 0.55 | H16: =L14*G16 -> 3465000 | J16: Debt Fees | K16: 0.01 | L16: =K16*H15 -> 57750
B17: Charges indexation | C17: 0.01 | J17: Acquisition Fee | L17: =a!E14 -> 0 | O17: Capex Debt
B18: Capex per sm | C18: 350 | O18: Margin | P18: 0.025 | Z18: CAPEX Debt
B19: Capex period | C19: 6 | O19: Amortization | P19: 0
B20: Capex Debt | C20: 0.55 | O20: Terms | P20: 5 | Z20: Drawdown | AB20: =H16 -> 3465000
B21: Stabilized occupancy rate | C21: 0.95 | Z21: Nominal solde | AC21: =AB20+AB21-AB23 -> 3465000 | AD21: =AC20+AC21-AC23 -> 3465000 | AE21: =AD20+AD21-AD23 -> 3465000 | AF21: =AE20+AE21-AE23 -> 3465000 | AG21: =AF20+AF21-AF23 -> 3465000 | AH21: =AG20+AG21-AG23 -> 0 | AI21: =AH20+AH21-AH23 -> 0 | AJ21: =AI20+AI21-AI23 -> 0 | ... AM21: =AL20+AL21-AL23 -> 0
B22: Rental Index | C22: 0.01 | Z22: Interest | AC22: =$P$18*AC21 -> 86625 | AD22: =$P$18*AD21 -> 86625 | AE22: =$P$18*AE21 -> 86625 | AF22: =$P$18*AF21 -> 86625 | AG22: =$P$18*AG21 -> 86625 | AH22: =$P$18*AH21 -> 0 | AI22: =$P$18*AI21 -> 0 | AJ22: =$P$18*AJ21 -> 0 | ... AM22: =$P$18*AM21 -> 0
B23: New proposed Rent per sm | C23: 110 | Z23: Nominal Amort | AC23: =IF($P$20>AC2,AC21*$P$19,IF($P$20=AC2,AC21,0)) -> 0 | AD23: =IF($P$20>AD2,AD21*$P$19,IF($P$20=AD2,AD21,0)) -> 0 | AE23: =IF($P$20>AE2,AE21*$P$19,IF($P$20=AE2,AE21,0)) -> 0 | AF23: =IF($P$20>AF2,AF21*$P$19,IF($P$20=AF2,AF21,0)) -> 0 | AG23: =IF($P$20>AG2,AG21*$P$19,IF($P$20=AG2,AG21,0)) -> 3465000 | AH23: =IF($P$20>AH2,AH21*$P$19,IF($P$20=AH2,AH21,0)) -> 0 | AI23: =IF($P$20>AI2,AI21*$P$19,IF($P$20=AI2,AI21,0)) -> 0 | AJ23: =IF($P$20>AJ2,AJ21*$P$19,IF($P$20=AJ2,AJ21,0)) -> 0 | ... AM23: =IF($P$20>AM2,AM21*$P$19,IF($P$20=AM2,AM21,0)) -> 0
B24: Vacancy period after capex | C24: 3 | Z24: TOTAL PAYMENT | AC24: =AC23+AC22 -> 86625 | AD24: =AD23+AD22 -> 86625 | AE24: =AE23+AE22 -> 86625 | AF24: =AF23+AF22 -> 86625 | AG24: =AG23+AG22 -> 3551625 | AH24: =AH23+AH22 -> 0 | AI24: =AI23+AI22 -> 0 | AJ24: =AJ23+AJ22 -> 0 | ... AM24: =AM23+AM22 -> 0
B25: Rent Free period | C25: 18 | F25: Total Sources | H25: =SUM(H13:H18) -> 17120250 | J25: Total Uses | L25: =SUM(L13:L18) -> 17120250
B26: Exit Yield | C26: 0.0675
B27: Exit Year (Deal) | C27: 5
B28: Exit Year (JV) | C28: =IF(C27=E35,F36,IF(C27=F35,G36,IF(C27=G35,H36,IF(C27=H35,I36,IF(C27=I35,J36,IF(J35=C27,K36,IF(C27=K35,L36,IF(C27=L35,M36,IF(M35=C27,N36,IF(C27=N35,O36,IF(C27=O35,P36,0))))))))))) -> 6
B29: rent at Exit | C29: =IF(C27=F35,F41,IF(C27=G35,G41,IF(C27=H35,H41,IF(C27=I35,I41,IF(C27=J35,J41,IF(K35=C27,K41,IF(C27=L35,L41,IF(C27=M35,M41,IF(N35=C27,N41,IF(C27=O35,O41,IF(C27=P35,P41,0))))))))))) -> 1957376.1
Z30: TOTAL interest | AC30: =AC9+AC22 -> 231000 | AD30: =AD9+AD22 -> 230278.13 | AE30: =AE9+AE22 -> 229559.86 | AF30: =AF9+AF22 -> 228845.19 | AG30: =AG9+AG22 -> 228134.08 | AH30: =AH9+AH22 -> 0 | AI30: =AI9+AI22 -> 0 | AJ30: =AJ9+AJ22 -> 0 | ... AM30: =AM9+AM22 -> 0
Z31: TOTAL Amort | AC31: =AC10+AC23 -> 28875 | AD31: =AD10+AD23 -> 28730.625 | AE31: =AE10+AE23 -> 28586.972 | AF31: =AF10+AF23 -> 28444.037 | AG31: =AG10+AG23 -> 9125363.4 | AH31: =AH10+AH23 -> 0 | AI31: =AI10+AI23 -> 0 | AJ31: =AJ10+AJ23 -> 0 | ... AM31: =AM10+AM23 -> 0
Z32: TOTAL PAYMENT | AC32: =AC30+AC31 -> 259875 | AD32: =AD30+AD31 -> 259008.75 | AE32: =AE30+AE31 -> 258146.83 | AF32: =AF30+AF31 -> 257289.22 | AG32: =AG30+AG31 -> 9353497.5 | AH32: =AH30+AH31 -> 0 | AI32: =AI30+AI31 -> 0 | AJ32: =AJ30+AJ31 -> 0 | ... AM32: =AM30+AM31 -> 0
B33: Date | E33: Acquisition | F33: =C10 -> 44196 | G33: =EDATE(F33,12) -> 44561 | H33: =EDATE(G33,12) -> 44926 | I33: =EDATE(H33,12) -> 45291 | J33: =EDATE(I33,12) -> 45657 | K33: =EDATE(J33,12) -> 46022 | L33: =EDATE(K33,12) -> 46387 | M33: =EDATE(L33,12) -> 46752 | N33: =EDATE(M33,12) -> 47118 | ... P33: =EDATE(O33,12) -> 47848 | Q33: Total
E34: =F33 -> 44196 | F34: =EDATE(F33,12)-1 -> 44560 | G34: =EDATE(G33,12)-1 -> 44925 | H34: =EDATE(H33,12)-1 -> 45290 | I34: =EDATE(I33,12)-1 -> 45656 | J34: =EDATE(J33,12)-1 -> 46021 | K34: =EDATE(K33,12)-1 -> 46386 | L34: =EDATE(L33,12)-1 -> 46751 | M34: =EDATE(M33,12)-1 -> 47117 | ... P34: =EDATE(P33,12)-1 -> 48212
B35: Year (deal) | E35: 0 | F35: 1 | G35: 2 | H35: 3 | I35: 4 | J35: 5 | K35: 6 | L35: 7 | M35: 8 | N35: 9 | O35: 10 | P35: 11
B36: Year (JV) | E36: 1 | F36: 1 | G36: 2 | H36: 3 | I36: 4 | J36: 5 | K36: 6 | L36: 7 | M36: 8 | N36: 9 | O36: 10 | P36: 11
B37: occupancy | F37: =IF(F38<>0,$C$12*(F38/$C$13),IF(F39<>0,F39/(($C$23*(((1+$C$22)^E35)))*$C$11),0)) -> 0.23684932 | G37: =IF(G38<>0,$C$12*(G38/$C$13),IF(G39<>0,G39/(($C$23*(((1+$C$22)^F35)))*$C$11),0)) -> 0.95 | H37: =IF(H38<>0,$C$12*(H38/$C$13),IF(H39<>0,H39/(($C$23*(((1+$C$22)^G35)))*$C$11),0)) -> 0.95 | I37: =IF(I38<>0,$C$12*(I38/$C$13),IF(I39<>0,I39/(($C$23*(((1+$C$22)^H35)))*$C$11),0)) -> 0.95 | J37: =IF(J38<>0,$C$12*(J38/$C$13),IF(J39<>0,J39/(($C$23*(((1+$C$22)^I35)))*$C$11),0)) -> 0.95 | K37: =IF(K38<>0,$C$12*(K38/$C$13),IF(K39<>0,K39/(($C$23*(((1+$C$22)^J35)))*$C$11),0)) -> 0.95 | L37: =IF(L38<>0,$C$12*(L38/$C$13),IF(L39<>0,L39/(($C$23*(((1+$C$22)^K35)))*$C$11),0)) -> 0.95 | M37: =IF(M38<>0,$C$12*(M38/$C$13),IF(M39<>0,M39/(($C$23*(((1+$C$22)^L35)))*$C$11),0)) -> 0.95 | ... P37: =IF(P38<>0,$C$12*(P38/$C$13),IF(P39<>0,P39/(($C$23*(((1+$C$22)^O35)))*$C$11),0)) -> 0.95
C38: before capex | F38: =IF($C$1>F$34,$C$11*$C$12*($C$14*(((1+$C$22)^E35))),IF(AND(F$33<=$C$1,$C$1<=F$34),($C$11*$C$12*($C$14*(((1+$C$22)^E35))))*($C$1-F33)/365,0)) -> 0 | G38: =IF($C$1>G$34,$C$11*$C$12*($C$14*(((1+$C$22)^F35))),IF(AND(G$33<=$C$1,$C$1<=G$34),($C$11*$C$12*($C$14*(((1+$C$22)^F35))))*($C$1-G33)/365,0)) -> 0 | H38: =IF($C$1>H$34,$C$11*$C$12*($C$14*(((1+$C$22)^G35))),IF(AND(H$33<=$C$1,$C$1<=H$34),($C$11*$C$12*($C$14*(((1+$C$22)^G35))))*($C$1-H33)/365,0)) -> 0 | I38: =IF($C$1>I$34,$C$11*$C$12*($C$14*(((1+$C$22)^H35))),IF(AND(I$33<=$C$1,$C$1<=I$34),($C$11*$C$12*($C$14*(((1+$C$22)^H35))))*($C$1-I33)/365,0)) -> 0 | J38: =IF($C$1>J$34,$C$11*$C$12*($C$14*(((1+$C$22)^I35))),IF(AND(J$33<=$C$1,$C$1<=J$34),($C$11*$C$12*($C$14*(((1+$C$22)^I35))))*($C$1-J33)/365,0)) -> 0 | K38: =IF($C$1>K$34,$C$11*$C$12*($C$14*(((1+$C$22)^J35))),IF(AND(K$33<=$C$1,$C$1<=K$34),($C$11*$C$12*($C$14*(((1+$C$22)^J35))))*($C$1-K33)/365,0)) -> 0 | L38: =IF($C$1>L$34,$C$11*$C$12*($C$14*(((1+$C$22)^K35))),IF(AND(L$33<=$C$1,$C$1<=L$34),($C$11*$C$12*($C$14*(((1+$C$22)^K35))))*($C$1-L33)/365,0)) -> 0 | M38: =IF($C$1>M$34,$C$11*$C$12*($C$14*(((1+$C$22)^L35))),IF(AND(M$33<=$C$1,$C$1<=M$34),($C$11*$C$12*($C$14*(((1+$C$22)^L35))))*($C$1-M33)/365,0)) -> 0 | ... P38: =IF($C$1>P$34,$C$11*$C$12*($C$14*(((1+$C$22)^O35))),IF(AND(P$33<=$C$1,$C$1<=P$34),($C$11*$C$12*($C$14*(((1+$C$22)^O35))))*($C$1-P33)/365,0)) -> 0
C39: after capex | F39: =IF($C$2<F$33,($C$23*(((1+$C$22)^E35)))*$C$11*$C$21,IF(AND(F$33<=$C$2,$C$2<=F$34),(($C$23*(((1+$C$22)^E35)))*$C$11*$C$21)*((F$34-$C$2)/365),0)) -> 468961.64 | G39: =IF($C$2<G$33,($C$23*(((1+$C$22)^F35)))*$C$11*$C$21,IF(AND(G$33<=$C$2,$C$2<=G$34),(($C$23*(((1+$C$22)^F35)))*$C$11*$C$21)*((G$34-$C$2)/365),0)) -> 1899810 | H39: =IF($C$2<H$33,($C$23*(((1+$C$22)^G35)))*$C$11*$C$21,IF(AND(H$33<=$C$2,$C$2<=H$34),(($C$23*(((1+$C$22)^G35)))*$C$11*$C$21)*((H$34-$C$2)/365),0)) -> 1918808.1 | I39: =IF($C$2<I$33,($C$23*(((1+$C$22)^H35)))*$C$11*$C$21,IF(AND(I$33<=$C$2,$C$2<=I$34),(($C$23*(((1+$C$22)^H35)))*$C$11*$C$21)*((I$34-$C$2)/365),0)) -> 1937996.2 | J39: =IF($C$2<J$33,($C$23*(((1+$C$22)^I35)))*$C$11*$C$21,IF(AND(J$33<=$C$2,$C$2<=J$34),(($C$23*(((1+$C$22)^I35)))*$C$11*$C$21)*((J$34-$C$2)/365),0)) -> 1957376.1 | K39: =IF($C$2<K$33,($C$23*(((1+$C$22)^J35)))*$C$11*$C$21,IF(AND(K$33<=$C$2,$C$2<=K$34),(($C$23*(((1+$C$22)^J35)))*$C$11*$C$21)*((K$34-$C$2)/365),0)) -> 1976949.9 | L39: =IF($C$2<L$33,($C$23*(((1+$C$22)^K35)))*$C$11*$C$21,IF(AND(L$33<=$C$2,$C$2<=L$34),(($C$23*(((1+$C$22)^K35)))*$C$11*$C$21)*((L$34-$C$2)/365),0)) -> 1996719.4 | M39: =IF($C$2<M$33,($C$23*(((1+$C$22)^L35)))*$C$11*$C$21,IF(AND(M$33<=$C$2,$C$2<=M$34),(($C$23*(((1+$C$22)^L35)))*$C$11*$C$21)*((M$34-$C$2)/365),0)) -> 2016686.6 | ... P39: =IF($C$2<P$33,($C$23*(((1+$C$22)^O35)))*$C$11*$C$21,IF(AND(P$33<=$C$2,$C$2<=P$34),(($C$23*(((1+$C$22)^O35)))*$C$11*$C$21)*((P$34-$C$2)/365),0)) -> 2077794.2
B41: GROSS Rental income | F41: =SUM(F38:F39) -> 468961.64 | G41: =SUM(G38:G39) -> 1899810 | H41: =SUM(H38:H39) -> 1918808.1 | I41: =SUM(I38:I39) -> 1937996.2 | J41: =SUM(J38:J39) -> 1957376.1 | K41: =SUM(K38:K39) -> 1976949.9 | L41: =SUM(L38:L39) -> 1996719.4 | M41: =SUM(M38:M39) -> 2016686.6 | ... P41: =SUM(P38:P39) -> 2077794.2 | Q41: =SUM(G41:P41) -> 19876216
B42: Total RF | F42: =IF(AND(F33<=$C$2,$C$2<=F34),-F41*$C$25/12,0) -> -703442.47 | G42: =IF(AND(G33<=$C$2,$C$2<=G34),-H41*$C$25/12,0) -> 0 | H42: =IF(AND(H33<=$C$2,$C$2<=H34),-I41*$C$25/12,0) -> 0 | I42: =IF(AND(I33<=$C$2,$C$2<=I34),-J41*$C$25/12,0) -> 0 | J42: =IF(AND(J33<=$C$2,$C$2<=J34),-K41*$C$25/12,0) -> 0 | K42: =IF(AND(K33<=$C$2,$C$2<=K34),-L41*$C$25/12,0) -> 0 | L42: =IF(AND(L33<=$C$2,$C$2<=L34),-M41*$C$25/12,0) -> 0 | M42: =IF(AND(M33<=$C$2,$C$2<=M34),-N41*$C$25/12,0) -> 0 | N42: =IF(AND(N33<=$C$2,$C$2<=N34),-O41*$C$25/12,0) -> 0 | ... P42: =IF(AND(P33<=$C$2,$C$2<=P34),-Q41*$C$25/12,0) -> 0
C43: dist1 | F43: =IF(-F42<=F41,F42,IF(-F42>F41,-F41,0)) -> -468961.64 | G43: =IF(-G42<=G41,G42,IF(-G42>G41,-G41,0)) -> 0 | H43: =IF(-H42<=H41,H42,IF(-H42>H41,-H41,0)) -> 0 | I43: =IF(-I42<=I41,I42,IF(-I42>I41,-I41,0)) -> 0 | J43: =IF(-J42<=J41,J42,IF(-J42>J41,-J41,0)) -> 0 | K43: =IF(-K42<=K41,K42,IF(-K42>K41,-K41,0)) -> 0 | L43: =IF(-L42<=L41,L42,IF(-L42>L41,-L41,0)) -> 0 | M43: =IF(-M42<=M41,M42,IF(-M42>M41,-M41,0)) -> 0 | ... P43: =IF(-P42<=P41,P42,IF(-P42>P41,-P41,0)) -> 0
...

Sheet 3
B1: Capex Starts | C1: =EDATE($F$33,C15) -> 44926
B2: Lease starts | C2: =EDATE(C1,C19+C24) -> 45016 | Z2: Acquisition Debt | AB2: 0 | AC2: 1 | AD2: 2 | AE2: 3 | AF2: 4 | AG2: 5 | AH2: 6 | AI2: 7 | AJ2: 8 | AK2: 9 | AL2: 10 | AM2: 11
B3: rf ends | C3: =EDATE(C2,C25) -> 45565
F4: Investment 3 | Z4: Drawdown | AB4: =H15 -> 19500000
G7: Stabilized Development Yield : | J7: =(K41)/H25 -> 0.10706919
G8: SM price at acquisition | I8: =H25/C11 -> 1060.1471 | J8: At Exit | K8: =MAX(F73,G73,H73,I73,J73,K73,L73,M73,N73,O73,P73)/$C$11 -> 1816.1454 | Z8: Nominal solde | AC8: =AB4+AB8-AB10 -> 19500000 | AD8: =AC4+AC8-AC10 -> 19402500 | AE8: =AD4+AD8-AD10 -> 19305488 | AF8: =AE4+AE8-AE10 -> 19208960 | AG8: =AF4+AF8-AF10 -> 19112915 | AH8: =AG4+AG8-AG10 -> 0 | AI8: =AH4+AH8-AH10 -> 0 | AJ8: =AI4+AI8-AI10 -> 0 | ... AM8: =AL4+AL8-AL10 -> 0
B9: Deal snapshot | F9: Sources & Uses | O9: Debt Assumptions | Z9: Interest | AC9: =$P$13*AC8 -> 390000 | AD9: =$P$13*AD8 -> 388050 | AE9: =$P$13*AE8 -> 386109.75 | AF9: =$P$13*AF8 -> 384179.2 | AG9: =$P$13*AG8 -> 382258.31 | AH9: =$P$13*AH8 -> 0 | AI9: =$P$13*AI8 -> 0 | AJ9: =$P$13*AJ8 -> 0 | ... AM9: =$P$13*AM8 -> 0
B10: Acquisition Date | C10: 44561 | Z10: Nominal Amort | AC10: =IF($P$15>AC2,AC8*$P$14,IF($P$15=AC2,AC8,0)) -> 97500 | AD10: =IF($P$15>AD2,AD8*$P$14,IF($P$15=AD2,AD8,0)) -> 97012.5 | AE10: =IF($P$15>AE2,AE8*$P$14,IF($P$15=AE2,AE8,0)) -> 96527.438 | AF10: =IF($P$15>AF2,AF8*$P$14,IF($P$15=AF2,AF8,0)) -> 96044.8 | AG10: =IF($P$15>AG2,AG8*$P$14,IF($P$15=AG2,AG8,0)) -> 19112915 | AH10: =IF($P$15>AH2,AH8*$P$14,IF($P$15=AH2,AH8,0)) -> 0 | AI10: =IF($P$15>AI2,AI8*$P$14,IF($P$15=AI2,AI8,0)) -> 0 | AJ10: =IF($P$15>AJ2,AJ8*$P$14,IF($P$15=AJ2,AJ8,0)) -> 0 | ... AM10: =IF($P$15>AM2,AM8*$P$14,IF($P$15=AM2,AM8,0)) -> 0
B11: Size | C11: 34000 | Z11: TOTAL PAYMENT | AC11: =AC10+AC9 -> 487500 | AD11: =AD10+AD9 -> 485062.5 | AE11: =AE10+AE9 -> 482637.19 | AF11: =AF10+AF9 -> 480224 | AG11: =AG10+AG9 -> 19495174 | AH11: =AH10+AH9 -> 0 | AI11: =AI10+AI9 -> 0 | AJ11: =AJ10+AJ9 -> 0 | ... AM11: =AM10+AM9 -> 0
B12: Occupancy at acquisition | C12: 0.5 | F12: Sources | J12: Uses | O12: Acquisition Debt
B13: rent at acquisition | C13: =C14*C12*C11 -> 1700000 | F13: Equity - LP | G13: =a!O8 -> 0.95 | H13: =($L$25-$H$15-H16)*G13 -> 12568500 | J13: Purchase Price | L13: 30000000 | O13: Margin | P13: 0.02
B14: Rent per sm | C14: 100 | F14: Equity - AAM | G14: =a!O9 -> 0.05 | H14: =($L$25-$H$15-H16)*G14 -> 661500 | J14: Capex | L14: =C18*C11 -> 5100000 | O14: Amortization | P14: 0.005
B15: WALT | C15: 12 | F15: Acquisition Debt | G15: 0.65 | H15: =G15*L13 -> 19500000 | J15: Closing Costs | K15: 0.025 | L15: =L13*K15 -> 750000 | O15: Terms | P15: 5
B16: Charges per sm | C16: 75 | F16: Capex Debt | G16: =C20 -> 0.65 | H16: =L14*G16 -> 3315000 | J16: Debt Fees | K16: 0.01 | L16: =K16*H15 -> 195000
B17: Charges indexation | C17: 0.01 | J17: Acquisition Fee | L17: =a!E14 -> 0 | O17: Capex Debt
B18: Capex per sm | C18: 150 | O18: Margin | P18: 0.02 | Z18: CAPEX Debt
B19: Capex period | C19: 3 | O19: Amortization | P19: 0
B20: Capex Debt | C20: 0.65 | O20: Terms | P20: 5 | Z20: Drawdown | AB20: =H16 -> 3315000
B21: Stabilized occupancy rate | C21: 0.9 | Z21: Nominal solde | AC21: =AB20+AB21-AB23 -> 3315000 | AD21: =AC20+AC21-AC23 -> 3315000 | AE21: =AD20+AD21-AD23 -> 3315000 | AF21: =AE20+AE21-AE23 -> 3315000 | AG21: =AF20+AF21-AF23 -> 3315000 | AH21: =AG20+AG21-AG23 -> 0 | AI21: =AH20+AH21-AH23 -> 0 | AJ21: =AI20+AI21-AI23 -> 0 | ... AM21: =AL20+AL21-AL23 -> 0
B22: Rental Index | C22: 0.01 | Z22: Interest | AC22: =$P$18*AC21 -> 66300 | AD22: =$P$18*AD21 -> 66300 | AE22: =$P$18*AE21 -> 66300 | AF22: =$P$18*AF21 -> 66300 | AG22: =$P$18*AG21 -> 66300 | AH22: =$P$18*AH21 -> 0 | AI22: =$P$18*AI21 -> 0 | AJ22: =$P$18*AJ21 -> 0 | ... AM22: =$P$18*AM21 -> 0
B23: New proposed Rent per sm | C23: 120 | Z23: Nominal Amort | AC23: =IF($P$20>AC2,AC21*$P$19,IF($P$20=AC2,AC21,0)) -> 0 | AD23: =IF($P$20>AD2,AD21*$P$19,IF($P$20=AD2,AD21,0)) -> 0 | AE23: =IF($P$20>AE2,AE21*$P$19,IF($P$20=AE2,AE21,0)) -> 0 | AF23: =IF($P$20>AF2,AF21*$P$19,IF($P$20=AF2,AF21,0)) -> 0 | AG23: =IF($P$20>AG2,AG21*$P$19,IF($P$20=AG2,AG21,0)) -> 3315000 | AH23: =IF($P$20>AH2,AH21*$P$19,IF($P$20=AH2,AH21,0)) -> 0 | AI23: =IF($P$20>AI2,AI21*$P$19,IF($P$20=AI2,AI21,0)) -> 0 | AJ23: =IF($P$20>AJ2,AJ21*$P$19,IF($P$20=AJ2,AJ21,0)) -> 0 | ... AM23: =IF($P$20>AM2,AM21*$P$19,IF($P$20=AM2,AM21,0)) -> 0
B24: Vacancy period after capex | C24: 0 | Z24: TOTAL PAYMENT | AC24: =AC23+AC22 -> 66300 | AD24: =AD23+AD22 -> 66300 | AE24: =AE23+AE22 -> 66300 | AF24: =AF23+AF22 -> 66300 | AG24: =AG23+AG22 -> 3381300 | AH24: =AH23+AH22 -> 0 | AI24: =AI23+AI22 -> 0 | AJ24: =AJ23+AJ22 -> 0 | ... AM24: =AM23+AM22 -> 0
B25: Rent Free period | C25: 18 | F25: Total Sources | H25: =SUM(H13:H18) -> 36045000 | J25: Total Uses | L25: =SUM(L13:L18) -> 36045000
B26: Exit Yield | C26: 0.0625
B27: Exit Year (Deal) | C27: 5
B28: Exit Year (JV) | C28: =IF(C27=E35,F36,IF(C27=F35,G36,IF(C27=G35,H36,IF(C27=H35,I36,IF(C27=I35,J36,IF(J35=C27,K36,IF(C27=K35,L36,IF(C27=L35,M36,IF(M35=C27,N36,IF(C27=N35,O36,IF(C27=O35,P36,0))))))))))) -> 7
B29: rent at Exit | C29: =IF(C27=F35,F41,IF(C27=G35,G41,IF(C27=H35,H41,IF(C27=I35,I41,IF(C27=J35,J41,IF(K35=C27,K41,IF(C27=L35,L41,IF(C27=M35,M41,IF(N35=C27,N41,IF(C27=O35,O41,IF(C27=P35,P41,0))))))))))) -> 3821097.9
Z30: TOTAL interest | AC30: =AC9+AC22 -> 456300 | AD30: =AD9+AD22 -> 454350 | AE30: =AE9+AE22 -> 452409.75 | AF30: =AF9+AF22 -> 450479.2 | AG30: =AG9+AG22 -> 448558.31 | AH30: =AH9+AH22 -> 0 | AI30: =AI9+AI22 -> 0 | AJ30: =AJ9+AJ22 -> 0 | ... AM30: =AM9+AM22 -> 0
Z31: TOTAL Amort | AC31: =AC10+AC23 -> 97500 | AD31: =AD10+AD23 -> 97012.5 | AE31: =AE10+AE23 -> 96527.438 | AF31: =AF10+AF23 -> 96044.8 | AG31: =AG10+AG23 -> 22427915 | AH31: =AH10+AH23 -> 0 | AI31: =AI10+AI23 -> 0 | AJ31: =AJ10+AJ23 -> 0 | ... AM31: =AM10+AM23 -> 0
Z32: TOTAL PAYMENT | AC32: =AC30+AC31 -> 553800 | AD32: =AD30+AD31 -> 551362.5 | AE32: =AE30+AE31 -> 548937.19 | AF32: =AF30+AF31 -> 546524 | AG32: =AG30+AG31 -> 22876474 | AH32: =AH30+AH31 -> 0 | AI32: =AI30+AI31 -> 0 | AJ32: =AJ30+AJ31 -> 0 | ... AM32: =AM30+AM31 -> 0
B33: Date | E33: Acquisition | F33: =C10 -> 44561 | G33: =EDATE(F33,12) -> 44926 | H33: =EDATE(G33,12) -> 45291 | I33: =EDATE(H33,12) -> 45657 | J33: =EDATE(I33,12) -> 46022 | K33: =EDATE(J33,12) -> 46387 | L33: =EDATE(K33,12) -> 46752 | M33: =EDATE(L33,12) -> 47118 | N33: =EDATE(M33,12) -> 47483 | ... P33: =EDATE(O33,12) -> 48213 | Q33: Total
E34: =F33 -> 44561 | F34: =EDATE(F33,12)-1 -> 44925 | G34: =EDATE(G33,12)-1 -> 45290 | H34: =EDATE(H33,12)-1 -> 45656 | I34: =EDATE(I33,12)-1 -> 46021 | J34: =EDATE(J33,12)-1 -> 46386 | K34: =EDATE(K33,12)-1 -> 46751 | L34: =EDATE(L33,12)-1 -> 47117 | M34: =EDATE(M33,12)-1 -> 47482 | ... P34: =EDATE(P33,12)-1 -> 48578
B35: Year (deal) | E35: 0 | F35: 1 | G35: 2 | H35: 3 | I35: 4 | J35: 5 | K35: 6 | L35: 7 | M35: 8 | N35: 9 | O35: 10 | P35: 11
B36: Year (JV) | E36: 2 | F36: 2 | G36: 3 | H36: 4 | I36: 5 | J36: 6 | K36: 7 | L36: 8 | M36: 9 | N36: 10 | O36: 11 | P36: 12
B37: occupancy | F37: =IF(F38<>0,$C$12*(F38/$C$13),IF(F39<>0,F39/(($C$23*(((1+$C$22)^E35)))*$C$11),0)) -> 0.5 | G37: =IF(G38<>0,$C$12*(G38/$C$13),IF(G39<>0,G39/(($C$23*(((1+$C$22)^F35)))*$C$11),0)) -> 0.67561644 | H37: =IF(H38<>0,$C$12*(H38/$C$13),IF(H39<>0,H39/(($C$23*(((1+$C$22)^G35)))*$C$11),0)) -> 0.9 | I37: =IF(I38<>0,$C$12*(I38/$C$13),IF(I39<>0,I39/(($C$23*(((1+$C$22)^H35)))*$C$11),0)) -> 0.9 | J37: =IF(J38<>0,$C$12*(J38/$C$13),IF(J39<>0,J39/(($C$23*(((1+$C$22)^I35)))*$C$11),0)) -> 0.9 | K37: =IF(K38<>0,$C$12*(K38/$C$13),IF(K39<>0,K39/(($C$23*(((1+$C$22)^J35)))*$C$11),0)) -> 0.9 | L37: =IF(L38<>0,$C$12*(L38/$C$13),IF(L39<>0,L39/(($C$23*(((1+$C$22)^K35)))*$C$11),0)) -> 0.9 | M37: =IF(M38<>0,$C$12*(M38/$C$13),IF(M39<>0,M39/(($C$23*(((1+$C$22)^L35)))*$C$11),0)) -> 0.9 | ... P37: =IF(P38<>0,$C$12*(P38/$C$13),IF(P39<>0,P39/(($C$23*(((1+$C$22)^O35)))*$C$11),0)) -> 0.9
C38: before capex | F38: =IF($C$1>F$34,$C$11*$C$12*($C$14*(((1+$C$22)^E35))),IF(AND(F$33<=$C$1,$C$1<=F$34),($C$11*$C$12*($C$14*(((1+$C$22)^E35))))*($C$1-F33)/365,0)) -> 1700000 | G38: =IF($C$1>G$34,$C$11*$C$12*($C$14*(((1+$C$22)^F35))),IF(AND(G$33<=$C$1,$C$1<=G$34),($C$11*$C$12*($C$14*(((1+$C$22)^F35))))*($C$1-G33)/365,0)) -> 0 | H38: =IF($C$1>H$34,$C$11*$C$12*($C$14*(((1+$C$22)^G35))),IF(AND(H$33<=$C$1,$C$1<=H$34),($C$11*$C$12*($C$14*(((1+$C$22)^G35))))*($C$1-H33)/365,0)) -> 0 | I38: =IF($C$1>I$34,$C$11*$C$12*($C$14*(((1+$C$22)^H35))),IF(AND(I$33<=$C$1,$C$1<=I$34),($C$11*$C$12*($C$14*(((1+$C$22)^H35))))*($C$1-I33)/365,0)) -> 0 | J38: =IF($C$1>J$34,$C$11*$C$12*($C$14*(((1+$C$22)^I35))),IF(AND(J$33<=$C$1,$C$1<=J$34),($C$11*$C$12*($C$14*(((1+$C$22)^I35))))*($C$1-J33)/365,0)) -> 0 | K38: =IF($C$1>K$34,$C$11*$C$12*($C$14*(((1+$C$22)^J35))),IF(AND(K$33<=$C$1,$C$1<=K$34),($C$11*$C$12*($C$14*(((1+$C$22)^J35))))*($C$1-K33)/365,0)) -> 0 | L38: =IF($C$1>L$34,$C$11*$C$12*($C$14*(((1+$C$22)^K35))),IF(AND(L$33<=$C$1,$C$1<=L$34),($C$11*$C$12*($C$14*(((1+$C$22)^K35))))*($C$1-L33)/365,0)) -> 0 | M38: =IF($C$1>M$34,$C$11*$C$12*($C$14*(((1+$C$22)^L35))),IF(AND(M$33<=$C$1,$C$1<=M$34),($C$11*$C$12*($C$14*(((1+$C$22)^L35))))*($C$1-M33)/365,0)) -> 0 | ... P38: =IF($C$1>P$34,$C$11*$C$12*($C$14*(((1+$C$22)^O35))),IF(AND(P$33<=$C$1,$C$1<=P$34),($C$11*$C$12*($C$14*(((1+$C$22)^O35))))*($C$1-P33)/365,0)) -> 0
C39: after capex | F39: =IF($C$2<F$33,($C$23*(((1+$C$22)^E35)))*$C$11*$C$21,IF(AND(F$33<=$C$2,$C$2<=F$34),(($C$23*(((1+$C$22)^E35)))*$C$11*$C$21)*((F$34-$C$2)/365),0)) -> 0 | G39: =IF($C$2<G$33,($C$23*(((1+$C$22)^F35)))*$C$11*$C$21,IF(AND(G$33<=$C$2,$C$2<=G$34),(($C$23*(((1+$C$22)^F35)))*$C$11*$C$21)*((G$34-$C$2)/365),0)) -> 2784080.2 | H39: =IF($C$2<H$33,($C$23*(((1+$C$22)^G35)))*$C$11*$C$21,IF(AND(H$33<=$C$2,$C$2<=H$34),(($C$23*(((1+$C$22)^G35)))*$C$11*$C$21)*((H$34-$C$2)/365),0)) -> 3745807.2 | I39: =IF($C$2<I$33,($C$23*(((1+$C$22)^H35)))*$C$11*$C$21,IF(AND(I$33<=$C$2,$C$2<=I$34),(($C$23*(((1+$C$22)^H35)))*$C$11*$C$21)*((I$34-$C$2)/365),0)) -> 3783265.3 | J39: =IF($C$2<J$33,($C$23*(((1+$C$22)^I35)))*$C$11*$C$21,IF(AND(J$33<=$C$2,$C$2<=J$34),(($C$23*(((1+$C$22)^I35)))*$C$11*$C$21)*((J$34-$C$2)/365),0)) -> 3821097.9 | K39: =IF($C$2<K$33,($C$23*(((1+$C$22)^J35)))*$C$11*$C$21,IF(AND(K$33<=$C$2,$C$2<=K$34),(($C$23*(((1+$C$22)^J35)))*$C$11*$C$21)*((K$34-$C$2)/365),0)) -> 3859308.9 | L39: =IF($C$2<L$33,($C$23*(((1+$C$22)^K35)))*$C$11*$C$21,IF(AND(L$33<=$C$2,$C$2<=L$34),(($C$23*(((1+$C$22)^K35)))*$C$11*$C$21)*((L$34-$C$2)/365),0)) -> 3897902 | M39: =IF($C$2<M$33,($C$23*(((1+$C$22)^L35)))*$C$11*$C$21,IF(AND(M$33<=$C$2,$C$2<=M$34),(($C$23*(((1+$C$22)^L35)))*$C$11*$C$21)*((M$34-$C$2)/365),0)) -> 3936881 | ... P39: =IF($C$2<P$33,($C$23*(((1+$C$22)^O35)))*$C$11*$C$21,IF(AND(P$33<=$C$2,$C$2<=P$34),(($C$23*(((1+$C$22)^O35)))*$C$11*$C$21)*((P$34-$C$2)/365),0)) -> 4056172.4
B41: GROSS Rental income | F41: =SUM(F38:F39) -> 1700000 | G41: =SUM(G38:G39) -> 2784080.2 | H41: =SUM(H38:H39) -> 3745807.2 | I41: =SUM(I38:I39) -> 3783265.3 | J41: =SUM(J38:J39) -> 3821097.9 | K41: =SUM(K38:K39) -> 3859308.9 | L41: =SUM(L38:L39) -> 3897902 | M41: =SUM(M38:M39) -> 3936881 | ... P41: =SUM(P38:P39) -> 4056172.4 | Q41: =SUM(G41:P41) -> 37876777
B42: Total RF | F42: =IF(AND(F33<=$C$2,$C$2<=F34),-F41*$C$25/12,0) -> 0 | G42: =IF(AND(G33<=$C$2,$C$2<=G34),-H41*$C$25/12,0) -> -5618710.8 | H42: =IF(AND(H33<=$C$2,$C$2<=H34),-I41*$C$25/12,0) -> 0 | I42: =IF(AND(I33<=$C$2,$C$2<=I34),-J41*$C$25/12,0) -> 0 | J42: =IF(AND(J33<=$C$2,$C$2<=J34),-K41*$C$25/12,0) -> 0 | K42: =IF(AND(K33<=$C$2,$C$2<=K34),-L41*$C$25/12,0) -> 0 | L42: =IF(AND(L33<=$C$2,$C$2<=L34),-M41*$C$25/12,0) -> 0 | M42: =IF(AND(M33<=$C$2,$C$2<=M34),-N41*$C$25/12,0) -> 0 | N42: =IF(AND(N33<=$C$2,$C$2<=N34),-O41*$C$25/12,0) -> 0 | ... P42: =IF(AND(P33<=$C$2,$C$2<=P34),-Q41*$C$25/12,0) -> 0
C43: dist1 | F43: =IF(-F42<=F41,F42,IF(-F42>F41,-F41,0)) -> 0 | G43: =IF(-G42<=G41,G42,IF(-G42>G41,-G41,0)) -> -2784080.2 | H43: =IF(-H42<=H41,H42,IF(-H42>H41,-H41,0)) -> 0 | I43: =IF(-I42<=I41,I42,IF(-I42>I41,-I41,0)) -> 0 | J43: =IF(-J42<=J41,J42,IF(-J42>J41,-J41,0)) -> 0 | K43: =IF(-K42<=K41,K42,IF(-K42>K41,-K41,0)) -> 0 | L43: =IF(-L42<=L41,L42,IF(-L42>L41,-L41,0)) -> 0 | M43: =IF(-M42<=M41,M42,IF(-M42>M41,-M41,0)) -> 0 | ... P43: =IF(-P42<=P41,P42,IF(-P42>P41,-P41,0)) -> 0
...

Sheet 4
B1: Capex Starts | C1: =EDATE($F$33,C15) -> 44926
B2: Lease starts | C2: =EDATE(C1,C19+C24) -> 45473 | Z2: Acquisition Debt | AB2: 0 | AC2: 1 | AD2: 2 | AE2: 3 | AF2: 4 | AG2: 5 | AH2: 6 | AI2: 7 | AJ2: 8 | AK2: 9 | AL2: 10 | AM2: 11
B3: rf ends | C3: =EDATE(C2,C25) -> 45656
F4: Investment 4 | Z4: Drawdown | AB4: =H15 -> 5625000
G7: Stabilized Development Yield : | J7: =(K41)/H25 -> 0.10208026
G8: SM price at acquisition | I8: =H25/C11 -> 1441.4286 | J8: At Exit | K8: =MAX(F73,G73,H73,I73,J73,K73,L73,M73,N73,O73,P73)/$C$11 -> 2404.0357 | Z8: Nominal solde | AC8: =AB4+AB8-AB10 -> 5625000 | AD8: =AC4+AC8-AC10 -> 5596875 | AE8: =AD4+AD8-AD10 -> 5568890.6 | AF8: =AE4+AE8-AE10 -> 5541046.2 | AG8: =AF4+AF8-AF10 -> 0 | AH8: =AG4+AG8-AG10 -> 0 | AI8: =AH4+AH8-AH10 -> 0 | AJ8: =AI4+AI8-AI10 -> 0 | ... AM8: =AL4+AL8-AL10 -> 0
B9: Deal snapshot | F9: Sources & Uses | O9: Debt Assumptions | Z9: Interest | AC9: =$P$13*AC8 -> 168750 | AD9: =$P$13*AD8 -> 167906.25 | AE9: =$P$13*AE8 -> 167066.72 | AF9: =$P$13*AF8 -> 166231.39 | AG9: =$P$13*AG8 -> 0 | AH9: =$P$13*AH8 -> 0 | AI9: =$P$13*AI8 -> 0 | AJ9: =$P$13*AJ8 -> 0 | ... AM9: =$P$13*AM8 -> 0
B10: Acquisition Date | C10: 44926 | Z10: Nominal Amort | AC10: =IF($P$15>AC2,AC8*$P$14,IF($P$15=AC2,AC8,0)) -> 28125 | AD10: =IF($P$15>AD2,AD8*$P$14,IF($P$15=AD2,AD8,0)) -> 27984.375 | AE10: =IF($P$15>AE2,AE8*$P$14,IF($P$15=AE2,AE8,0)) -> 27844.453 | AF10: =IF($P$15>AF2,AF8*$P$14,IF($P$15=AF2,AF8,0)) -> 5541046.2 | AG10: =IF($P$15>AG2,AG8*$P$14,IF($P$15=AG2,AG8,0)) -> 0 | AH10: =IF($P$15>AH2,AH8*$P$14,IF($P$15=AH2,AH8,0)) -> 0 | AI10: =IF($P$15>AI2,AI8*$P$14,IF($P$15=AI2,AI8,0)) -> 0 | AJ10: =IF($P$15>AJ2,AJ8*$P$14,IF($P$15=AJ2,AJ8,0)) -> 0 | ... AM10: =IF($P$15>AM2,AM8*$P$14,IF($P$15=AM2,AM8,0)) -> 0
B11: Size | C11: =35000*0.75 -> 26250 | Z11: TOTAL PAYMENT | AC11: =AC10+AC9 -> 196875 | AD11: =AD10+AD9 -> 195890.62 | AE11: =AE10+AE9 -> 194911.17 | AF11: =AF10+AF9 -> 5707277.6 | AG11: =AG10+AG9 -> 0 | AH11: =AH10+AH9 -> 0 | AI11: =AI10+AI9 -> 0 | AJ11: =AJ10+AJ9 -> 0 | ... AM11: =AM10+AM9 -> 0
B12: Occupancy at acquisition | C12: 0 | F12: Sources | J12: Uses | O12: Acquisition Debt
B13: rent at acquisition | C13: =C14*C11*C12 -> 0 | F13: Equity - LP | G13: =a!O8 -> 0.95 | H13: =($L$25-$H$15-H16)*G13 -> 18133125 | J13: Purchase Price | L13: =15000000*0.75 -> 11250000 | O13: Margin | P13: 0.03
B14: Rent per sm | C14: 0 | F14: Equity - AAM | G14: =a!O9 -> 0.05 | H14: =($L$25-$H$15-H16)*G14 -> 954375 | J14: Capex | L14: =C18*C11 -> 26250000 | O14: Amortization | P14: 0.005
B15: WALT | C15: 0 | F15: Acquisition Debt | G15: 0.5 | H15: =G15*L13 -> 5625000 | J15: Closing Costs | K15: 0.025 | L15: =L13*K15 -> 281250 | O15: Terms | P15: 4
B16: Charges per sm | C16: 10 | F16: Capex Debt | G16: =C20 -> 0.5 | H16: =L14*G16 -> 13125000 | J16: Debt Fees | K16: 0.01 | L16: =K16*H15 -> 56250
B17: Charges indexation | C17: 0.01 | J17: Acquisition Fee | L17: =a!E14 -> 0 | O17: Capex Debt
B18: Capex per sm | C18: 1000 | O18: Margin | P18: 0.03 | Z18: CAPEX Debt
B19: Capex period | C19: 18 | O19: Amortization | P19: 0
B20: Capex Debt | C20: 0.5 | O20: Terms | P20: 4 | Z20: Drawdown | AB20: =H16 -> 13125000
B21: Stabilized occupancy rate | C21: 1 | Z21: Nominal solde | AC21: =AB20+AB21-AB23 -> 13125000 | AD21: =AC20+AC21-AC23 -> 13125000 | AE21: =AD20+AD21-AD23 -> 13125000 | AF21: =AE20+AE21-AE23 -> 13125000 | AG21: =AF20+AF21-AF23 -> 0 | AH21: =AG20+AG21-AG23 -> 0 | AI21: =AH20+AH21-AH23 -> 0 | AJ21: =AI20+AI21-AI23 -> 0 | ... AM21: =AL20+AL21-AL23 -> 0
B22: Rental Index | C22: 0.01 | Z22: Interest | AC22: =$P$18*AC21 -> 393750 | AD22: =$P$18*AD21 -> 393750 | AE22: =$P$18*AE21 -> 393750 | AF22: =$P$18*AF21 -> 393750 | AG22: =$P$18*AG21 -> 0 | AH22: =$P$18*AH21 -> 0 | AI22: =$P$18*AI21 -> 0 | AJ22: =$P$18*AJ21 -> 0 | ... AM22: =$P$18*AM21 -> 0
B23: New proposed Rent per sm | C23: 140 | Z23: Nominal Amort | AC23: =IF($P$20>AC2,AC21*$P$19,IF($P$20=AC2,AC21,0)) -> 0 | AD23: =IF($P$20>AD2,AD21*$P$19,IF($P$20=AD2,AD21,0)) -> 0 | AE23: =IF($P$20>AE2,AE21*$P$19,IF($P$20=AE2,AE21,0)) -> 0 | AF23: =IF($P$20>AF2,AF21*$P$19,IF($P$20=AF2,AF21,0)) -> 13125000 | AG23: =IF($P$20>AG2,AG21*$P$19,IF($P$20=AG2,AG21,0)) -> 0 | AH23: =IF($P$20>AH2,AH21*$P$19,IF($P$20=AH2,AH21,0)) -> 0 | AI23: =IF($P$20>AI2,AI21*$P$19,IF($P$20=AI2,AI21,0)) -> 0 | AJ23: =IF($P$20>AJ2,AJ21*$P$19,IF($P$20=AJ2,AJ21,0)) -> 0 | ... AM23: =IF($P$20>AM2,AM21*$P$19,IF($P$20=AM2,AM21,0)) -> 0
B24: Vacancy period after capex | C24: 0 | Z24: TOTAL PAYMENT | AC24: =AC23+AC22 -> 393750 | AD24: =AD23+AD22 -> 393750 | AE24: =AE23+AE22 -> 393750 | AF24: =AF23+AF22 -> 13518750 | AG24: =AG23+AG22 -> 0 | AH24: =AH23+AH22 -> 0 | AI24: =AI23+AI22 -> 0 | AJ24: =AJ23+AJ22 -> 0 | ... AM24: =AM23+AM22 -> 0
B25: Rent Free period | C25: 6 | F25: Total Sources | H25: =SUM(H13:H18) -> 37837500 | J25: Total Uses | L25: =SUM(L13:L18) -> 37837500
B26: Exit Yield | C26: 0.06
B27: Exit Year (Deal) | C27: 3
B28: Exit Year (JV) | C28: =IF(C27=E35,F36,IF(C27=F35,G36,IF(C27=G35,H36,IF(C27=H35,I36,IF(C27=I35,J36,IF(J35=C27,K36,IF(C27=K35,L36,IF(C27=L35,M36,IF(M35=C27,N36,IF(C27=N35,O36,IF(C27=O35,P36,0))))))))))) -> 6
B29: rent at Exit | C29: =IF(C27=F35,F41,IF(C27=G35,G41,IF(C27=H35,H41,IF(C27=I35,I41,IF(C27=J35,J41,IF(K35=C27,K41,IF(C27=L35,L41,IF(C27=M35,M41,IF(N35=C27,N41,IF(C27=O35,O41,IF(C27=P35,P41,0))))))))))) -> 3748867.5
Z30: TOTAL interest | AC30: =AC9+AC22 -> 562500 | AD30: =AD9+AD22 -> 561656.25 | AE30: =AE9+AE22 -> 560816.72 | AF30: =AF9+AF22 -> 559981.39 | AG30: =AG9+AG22 -> 0 | AH30: =AH9+AH22 -> 0 | AI30: =AI9+AI22 -> 0 | AJ30: =AJ9+AJ22 -> 0 | ... AM30: =AM9+AM22 -> 0
Z31: TOTAL Amort | AC31: =AC10+AC23 -> 28125 | AD31: =AD10+AD23 -> 27984.375 | AE31: =AE10+AE23 -> 27844.453 | AF31: =AF10+AF23 -> 18666046 | AG31: =AG10+AG23 -> 0 | AH31: =AH10+AH23 -> 0 | AI31: =AI10+AI23 -> 0 | AJ31: =AJ10+AJ23 -> 0 | ... AM31: =AM10+AM23 -> 0
Z32: TOTAL PAYMENT | AC32: =AC30+AC31 -> 590625 | AD32: =AD30+AD31 -> 589640.62 | AE32: =AE30+AE31 -> 588661.17 | AF32: =AF30+AF31 -> 19226028 | AG32: =AG30+AG31 -> 0 | AH32: =AH30+AH31 -> 0 | AI32: =AI30+AI31 -> 0 | AJ32: =AJ30+AJ31 -> 0 | ... AM32: =AM30+AM31 -> 0
B33: Date | E33: Acquisition | F33: =C10 -> 44926 | G33: =EDATE(F33,12) -> 45291 | H33: =EDATE(G33,12) -> 45657 | I33: =EDATE(H33,12) -> 46022 | J33: =EDATE(I33,12) -> 46387 | K33: =EDATE(J33,12) -> 46752 | L33: =EDATE(K33,12) -> 47118 | M33: =EDATE(L33,12) -> 47483 | N33: =EDATE(M33,12) -> 47848 | ... P33: =EDATE(O33,12) -> 48579 | Q33: Total
E34: =F33 -> 44926 | F34: =EDATE(F33,12)-1 -> 45290 | G34: =EDATE(G33,12)-1 -> 45656 | H34: =EDATE(H33,12)-1 -> 46021 | I34: =EDATE(I33,12)-1 -> 46386 | J34: =EDATE(J33,12)-1 -> 46751 | K34: =EDATE(K33,12)-1 -> 47117 | L34: =EDATE(L33,12)-1 -> 47482 | M34: =EDATE(M33,12)-1 -> 47847 | ... P34: =EDATE(P33,12)-1 -> 48943
B35: Year (deal) | E35: 0 | F35: 1 | G35: 2 | H35: 3 | I35: 4 | J35: 5 | K35: 6 | L35: 7 | M35: 8 | N35: 9 | O35: 10 | P35: 11
B36: Year (JV) | E36: 3 | F36: 3 | G36: 4 | H36: 5 | I36: 6 | J36: 7 | K36: 8 | L36: 9 | M36: 10 | N36: 11 | O36: 12 | P36: 13
