Workbook

Sheet TECH
A1: INDUSTRIES | C1: MONTANT | D1: FRAIS | F1: TYPE
A2: Bien de consomation | C2: 500.01 | D2: 0.99 | F2: ACHATS
A3: Industriel | C3: 1000.01 | D3: 1.9 | F3: BONUS
A4: Matériaux de base | C4: 2000.01 | D4: 2.9 | F4: DIVIDENDES
A5: Pétrole et Gaz | C5: 4400.01 | D5: 3.8 | F5: VENTES
A6: Santé | C6: 4400 | D6: 0.0009
A7: Services aux collectivités
A8: Services aux consommateurs
A9: Services financiers
A10: Technologie
A11: Télécomunications

Sheet SUIVI COURS
B1: JANVIER | Y1: FEVRIER | AT1: MARS | BP1: AVRIL | CM1: MAI | DK1: JUIN | EF1: JUILLET | FD1: AOUT | GA1: SEPT. | GW1: OCT. | HU1: NOV. | IQ1: DEC.
B2: 2 | C2: 3 | D2: 4 | E2: 7 | F2: 8 | G2: 9 | H2: 10 | I2: 11 | J2: 14 | K2: 15 | L2: 16 | M2: 17 | N2: 18 | O2: 21 | P2: 22 | Q2: 23 | R2: 24 | S2: 25 | T2: 28 | U2: 29 | V2: 30 | W2: 31 | X2: TOTAL | Y2: 1 | Z2: 4 | AA2: 5 | AB2: 6 | AC2: 7 | AD2: 8 | AE2: 11 | AF2: 12 | AG2: 13 | AH2: 14 | AI2: 15 | AJ2: 18 | AK2: 19 | AL2: 20 | AM2: 21 | AN2: 22 | AO2: 25 | AP2: 26 | AQ2: 27 | AR2: 28 | AS2: TOTAL | AT2: 1 | AU2: 4 | AV2: 5 | AW2: 6 | AX2: 7 | AY2: 8 | AZ2: 11 | BA2: 12 | BB2: 13 | BC2: 14 | BD2: 15 | BE2: 18 | BF2: 19 | BG2: 20 | BH2: 21 | BI2: 22 | BJ2: 25 | BK2: 26 | BL2: 27 | BM2: 28 | BN2: 29 | BO2: TOTAL | BP2: 1 | BQ2: 2 | BR2: 3 | BS2: 4 | BT2: 5 | BU2: 8 | BV2: 9 | BW2: 10 | BX2: 11 | BY2: 12 | BZ2: 15 | CA2: 16 | CB2: 17 | CC2: 18 | CD2: 19 | CE2: 22 | CF2: 23 | CG2: 24 | CH2: 25 | CI2: 26 | CJ2: 29 | CK2: 30 | CL2: TOTAL | CM2: 1 | CN2: 2 | CO2: 3 | CP2: 6 | CQ2: 7 | CR2: 8 | CS2: 9 | CT2: 10 | CU2: 13 | CV2: 14 | CW2: 15 | CX2: 16 | CY2: 17 | CZ2: 20 | DA2: 21 | DB2: 22 | DC2: 23 | DD2: 24 | DE2: 27 | DF2: 28 | DG2: 29 | DH2: 30 | DI2: 31 | DJ2: TOTAL | DK2: 3 | DL2: 4 | DM2: 5 | DN2: 6 | DO2: 7 | DP2: 10 | DQ2: 11 | DR2: 12 | DS2: 13 | DT2: 14 | DU2: 17 | DV2: 18 | DW2: 19 | DX2: 20 | DY2: 21 | DZ2: 24 | EA2: 25 | EB2: 26 | EC2: 27 | ED2: 28 | EE2: TOTAL | EF2: 1 | EG2: 2 | EH2: 3 | EI2: 4 | EJ2: 5 | EK2: 8 | EL2: 9 | EM2: 10 | EN2: 11 | EO2: 12 | EP2: 15 | EQ2: 16 | ER2: 17 | ES2: 18 | ET2: 19 | EU2: 22 | EV2: 23 | EW2: 24 | EX2: 25 | EY2: 26 | EZ2: 29 | FA2: 30 | FB2: 31 | FC2: TOTAL | FD2: 1 | FE2: 2 | FF2: 5 | FG2: 6 | FH2: 7 | FI2: 8 | FJ2: 9 | FK2: 12 | FL2: 13 | FM2: 14 | FN2: 15 | FO2: 16 | FP2: 19 | FQ2: 20 | FR2: 21 | FS2: 22 | FT2: 23 | FU2: 26 | FV2: 27 | FW2: 28 | FX2: 29 | FY2: 30 | FZ2: TOTAL | GA2: 2 | GB2: 3 | GC2: 4 | GD2: 5 | GE2: 6 | GF2: 9 | GG2: 10 | GH2: 11 | GI2: 12 | GJ2: 13 | GK2: 16 | GL2: 17 | GM2: 18 | GN2: 19 | GO2: 20 | GP2: 23 | GQ2: 24 | GR2: 25 | GS2: 26 | GT2: 27 | GU2: 30 | GV2: TOTAL | GW2: 1 | GX2: 2 | GY2: 3 | GZ2: 4 | HA2: 7 | HB2: 8 | HC2: 9 | HD2: 10 | HE2: 11 | HF2: 14 | HG2: 15 | HH2: 16 | HI2: 17 | HJ2: 18 | HK2: 21 | HL2: 22 | HM2: 23 | HN2: 24 | HO2: 25 | HP2: 28 | HQ2: 29 | HR2: 30 | HS2: 31 | HT2: TOTAL | HU2: 1 | HV2: 4 | HW2: 5 | HX2: 6 | HY2: 7 | HZ2: 8 | IA2: 11 | IB2: 12 | IC2: 13 | ID2: 14 | IE2: 15 | IF2: 18 | IG2: 19 | IH2: 20 | II2: 21 | IJ2: 22 | IK2: 25 | IL2: 26 | IM2: 27 | IN2: 28 | IO2: 29 | IP2: TOTAL | IQ2: 2 | IR2: 3 | IS2: 4 | IT2: 5 | IU2: 6 | IV2: 9 | IW2: 10 | IX2: 11 | IY2: 12 | IZ2: 13 | JA2: 16 | JB2: 17 | JC2: 18 | JD2: 19 | JE2: 20 | JF2: 23 | JG2: 24 | JH2: 25 | JI2: 26 | JJ2: 27 | JK2: 30 | JL2: 31 | JM2: TOTAL
A3: CAC 40 | B3: -0.87 | C3: -1.66 | D3: 2.72 | E3: -0.38 | F3: 1.15 | G3: 0.84 | H3: -0.16 | I3: -0.51 | J3: -0.39 | K3: 0.49 | L3: 0.51 | M3: -0.34 | N3: 1.7 | O3: -0.17 | P3: -0.42 | Q3: -0.15 | R3: 0.65 | S3: 1.11 | T3: -0.76 | U3: 0.81 | V3: 0.95 | W3: 0.36 | X3: =SUM(B3:W3) -> 5.48 | Y3: 0.53 | Z3: -0.38 | AA3: 1.66 | AB3: -0.08 | AC3: -1.84 | AD3: -0.48 | AE3: 1.06 | AF3: 0.84 | AG3: 0.35 | AH3: -0.23 | AI3: 1.79 | AJ3: 0.3 | AK3: -0.16 | AL3: 0.69 | AM3: 0 | AN3: 0.38 | AO3: 0.31 | AP3: 0.13 | AQ3: -0.26 | AR3: 0.29 | AS3: =SUM(X3:AR3) -> 10.38 | AT3: 0.47 | AU3: 0.41 | AV3: 0.21 | AW3: -0.16 | AX3: -0.39 | AY3: -0.7 | AZ3: 0.66 | BA3: 0.08 | BB3: 0.69 | BC3: 0.82 | BD3: 1.04 | BE3: 0.15 | BF3: 0.14 | BG3: -0.8 | BH3: -0.07 | BI3: -2.02 | BJ3: -0.18 | BK3: 0.89 | BL3: -0.12 | BM3: -0.09 | BN3: 1.02 | BO3: =SUM(AS3:BN3) -> 12.43 | BP3: 1.03 | BQ3: 0.33 | BR3: 0.84 | BS3: -0.09 | BT3: 0.23 | BU3: -0.08 | BV3: -0.65 | BW3: 0.25 | BX3: 0.66 | BY3: 0.31 | BZ3: 0.11 | CA3: 0.36 | CB3: 0.62 | CC3: 0.31 | CF3: 0.2 | CG3: -0.28 | CH3: -0.33 | CI3: 0.21 | CJ3: 0.21 | CK3: 0.1 | CL3: =SUM(BO3:CK3) -> 16.77 | CN3: -0.85 | CO3: 0.18 | CP3: -1.18 | CQ3: 0.4 | CS3: -1.93 | CT3: 0.27 | CU3: -1.22 | CV3: 1.5 | CW3: 0.62 | CX3: 1.37 | CY3: -0.18 | CZ3: -1.46 | DA3: 0.5 | DB3: -0.12 | DC3: -1.81 | DD3: 0.67 | DE3: 0.37 | DF3: -0.44 | DG3: -1.7 | DH3: 0.51 | DI3: -0.79 | DJ3: =SUM(CL3:DI3) -> 11.48 | DK3: 0.65 | DL3: 0.51 | DM3: 0.45 | DN3: -0.26 | DO3: 1.62 | DP3: 0.34 | DQ3: 0.48 | DR3: -0.62 | DS3: 0.1 | DT3: -0.15 | EE3: =SUM(DJ3:ED3) -> 14.6 | FC3: =SUM(EE3:FB3) -> 14.6 | FZ3: =SUM(FB3:FY3) -> 14.6 | GV3: =SUM(FX3:GU3) -> 14.6 | HT3: =SUM(GV3:HS3) -> 14.6 | IP3: =SUM(HR3:IO3) -> 14.6 | JM3: =SUM(IO3:JL3) -> 14.6
A4: PEA SEB | B4: -0.57 | C4: 0.01 | D4: 1.92 | E4: 1.24 | F4: 1.94 | G4: 0.9 | H4: -0.81 | I4: -0.06 | J4: -1.42 | K4: 0.75 | L4: 0.5 | M4: -0.37 | N4: 0.65 | O4: -0.51 | P4: -0.57 | Q4: -0.22 | R4: 0.26 | S4: 1.39 | T4: -0.27 | U4: -0.02 | V4: 0.35 | W4: 0.36 | X4: =SUM(B4:W4) -> 5.45 | Y4: 0.43 | Z4: -0.14 | AA4: 0.72 | AB4: -0.86 | AC4: -1.72 | AD4: -0.76 | AE4: 0.81 | AF4: 0.49 | AG4: 0.38 | AH4: 0.28 | AI4: 0.9 | AJ4: 0.85 | AK4: 0.32 | AL4: -0.03 | AM4: -0.71 | AN4: 0.11 | AO4: 0.01 | AP4: 0.25 | AQ4: -0.89 | AR4: -0.08 | AS4: =SUM(X4:AR4) -> 5.81 | AT4: 1.24 | AU4: 0.61 | AV4: -0.64 | AW4: -0.41 | AX4: -1.24 | AY4: -0.56 | AZ4: 0.3 | BA4: 0.22 | BB4: 0.88 | BC4: 0.42 | BD4: 1.52 | BE4: 0.33 | BF4: -0.27 | BG4: -0.8 | BH4: -0.85 | BI4: -1.95 | BJ4: -0.6 | BK4: 0.26 | BL4: 1.58 | BM4: 0.26 | BN4: 0.84 | BO4: =SUM(AS4:BN4) -> 6.95 | BP4: 1.85 | BQ4: 0.76 | BR4: 0.97 | BS4: 0.11 | BT4: 0.01 | BU4: -0.26 | BV4: -0.35 | BW4: -0.25 | BX4: 0.32 | BY4: 0.85 | BZ4: 0.48 | CA4: 0.97 | CB4: 0.11 | CC4: 0.26 | CF4: -0.3 | CG4: -0.63 | CH4: -0.58 | CI4: 0.8 | CJ4: 0.42 | CK4: -0.37 | CL4: =SUM(BO4:CK4) -> 12.12 | CN4: 0.07 | CO4: 0.29 | CP4: -1.35 | CQ4: 0.24 | CS4: -1.48 | CT4: 0.11 | CU4: -0.97 | CV4: 0.97 | CW4: 0.18 | CX4: 1.34 | CY4: -0.4 | CZ4: -0.78 | DA4: 0.16 | DB4: -1.12 | DC4: -1.13 | DD4: 1.45 | DE4: -0.27 | DF4: -0.18 | DG4: -1.51 | DH4: 0.65 | DI4: -0.79 | DJ4: =SUM(CL4:DI4) -> 7.6 | DK4: -0.51 | DL4: 0.77 | DM4: 1.83 | DN4: -0.08 | DO4: 0.48 | DP4: 0.19 | DQ4: 0.23 | DR4: -0.31 | DS4: -0.04 | DT4: -0.19 | EE4: =SUM(DJ4:ED4) -> 9.97 | FC4: =SUM(EE4:FB4) -> 9.97 | FZ4: =SUM(FB4:FY4) -> 9.97 | GV4: =SUM(FX4:GU4) -> 9.97 | HT4: =SUM(GV4:HS4) -> 9.97 | IP4: =SUM(HR4:IO4) -> 9.97 | JM4: =SUM(IO4:JL4) -> 9.97

Sheet DIV_POTENTIELS
E1: =SUM(E4:E38) -> 2886.3135 | G1: =SUM(G4:G37) -> 204.58 | H1: =G1/E1 -> 0.070879341
A3: POSSEDE | B3: ACTIONS | C3: QTT | D3: PU/PRU | E3: VAL. PRU | F3: DIV. 2018 | G3: VAL. | H3: % | I3: DATE DETACHEMENT | M3: RECOMANDATIONS
A4: P | B4: ELIOR | D4: 10.49 | E4: =IF(C4="","",C4*D4) | F4: 0.34 | G4: =IF(C4="","",F4*C4) | H4: =IF(D4="","",F4/D4) -> 0.032411821 | I4: 43571 | M4: ACHAT SPECULATIF
B5: SCOR SE | D5: 38.3 | E5: =IF(C5="","",C5*D5) | F5: 1.75 | G5: =IF(C5="","",F5*C5) | H5: =IF(D5="","",F5/D5) -> 0.045691906 | I5: 43587
B6: AXA | D6: 22.65 | E6: =IF(C6="","",C6*D6) | F6: 1.34 | G6: =IF(C6="","",F6*C6) | H6: =IF(D6="","",F6/D6) -> 0.059161148 | I6: 43591
B7: LAGARDERE S.C.A | D7: 23.18 | E7: =IF(C7="","",C7*D7) | F7: 1.3 | G7: =IF(C7="","",F7*C7) | H7: =IF(D7="","",F7/D7) -> 0.05608283 | I7: 43601
B8: METROPOLE TV | D8: 16.46 | E8: =IF(C8="","",C8*D8) | F8: 1 | G8: =IF(C8="","",F8*C8) | H8: =IF(D8="","",F8/D8) -> 0.060753341 | I8: 43602
A9: P | B9: ENGIE | C9: 21 | D9: 14.102652 | E9: =IF(C9="","",C9*D9) -> 296.15569 | F9: 0.75 | G9: =IF(C9="","",F9*C9) -> 15.75 | H9: =IF(D9="","",F9/D9) -> 0.053181487 | I9: 43608 | M9: ACHAT
A10: P | B10: COFACE | C10: 37 | D10: 8.136 | E10: =IF(C10="","",C10*D10) -> 301.032 | F10: 0.79 | G10: =IF(C10="","",F10*C10) -> 29.23 | H10: =IF(D10="","",F10/D10) -> 0.097099312 | I10: 43609 | M10: ACHAT
B11: CREDIT AGRICOLE | D11: 10.94 | E11: =IF(C11="","",C11*D11) | F11: 0.69 | G11: =IF(C11="","",F11*C11) | H11: =IF(D11="","",F11/D11) -> 0.063071298 | I11: 43613
A12: P | B12: ALD | C12: 18 | D12: 13.509418 | E12: =IF(C12="","",C12*D12) -> 243.16953 | F12: 0.58 | G12: =IF(C12="","",F12*C12) -> 10.44 | H12: =IF(D12="","",F12/D12) -> 0.042933011 | I12: 43615 | M12: ACHAT
A13: P | B13: BNP PARIBAS | C13: 6 | D13: 45.72 | E13: =IF(C13="","",C13*D13) -> 274.32 | F13: 3.02 | G13: =IF(C13="","",F13*C13) -> 18.12 | H13: =IF(D13="","",F13/D13) -> 0.066054243 | I13: 43616 | M13: ACHAT
A14: P | B14: NATIXIS | C14: 62 | D14: 4.92 | E14: =IF(C14="","",C14*D14) -> 305.04 | F14: 0.78 | G14: =IF(C14="","",F14*C14) -> 48.36 | H14: =IF(D14="","",F14/D14) -> 0.15853659 | I14: 43621 | M14: VENTE
A15: P | B15: ORANGE | C15: 20 | D15: 14.215209 | E15: =IF(C15="","",C15*D15) -> 284.30418 | F15: 0.7 | G15: =IF(C15="","",F15*C15) -> 14 | H15: =IF(D15="","",F15/D15) -> 0.049243032 | I15: 43622 | J15: 43805 | M15: ACHAT
A16: P | B16: SAINT-GOBAIN | C16: 8 | D16: 38.623623 | E16: =IF(C16="","",C16*D16) -> 308.98898 | F16: 1.33 | G16: =IF(C16="","",F16*C16) -> 10.64 | H16: =IF(D16="","",F16/D16) -> 0.034434885 | I16: 43628 | M16: ACHAT
A17: P | B17: TOTAL | C17: 6 | D17: 47.14552 | E17: =IF(C17="","",C17*D17) -> 282.87312 | F17: 2.64 | G17: =IF(C17="","",F17*C17) -> 15.84 | H17: =IF(D17="","",F17/D17) -> 0.055996837 | I17: 43629 | J17: 43840 | K17: 43926 | L17: 43995 | M17: ACHAT
A18: P | B18: SOCIETE GENERAL | C18: 11 | D18: 27.24 | E18: =IF(C18="","",C18*D18) -> 299.64 | F18: 2.2 | G18: =IF(C18="","",F18*C18) -> 24.2 | H18: =IF(D18="","",F18/D18) -> 0.080763583 | I18: 43630 | M18: ECART
B19: ICADE | D19: 75.65 | E19: =IF(C19="","",C19*D19) | F19: 4.6 | G19: =IF(C19="","",F19*C19) | H19: =IF(D19="","",F19/D19) -> 0.060806345 | I19: 43650
B20: EUTELSAT COM | D20: 15.62 | E20: =IF(C20="","",C20*D20) | F20: 1.3 | G20: =IF(C20="","",F20*C20) | H20: =IF(D20="","",F20/D20) -> 0.083226633 | I20: 43791
A21: P | B21: ABC ARBITRAGE | C21: 45 | D21: 6.462 | E21: =IF(C21="","",C21*D21) -> 290.79 | F21: 0.4 | G21: =IF(C21="","",F21*C21) -> 18 | H21: =IF(D21="","",F21/D21) -> 0.06190034 | I21: 43793 | M21: ACHAT
B22: CASINO GUICHARD | D22: 36.7 | E22: =IF(C22="","",C22*D22) | F22: 3.12 | G22: =IF(C22="","",F22*C22) | H22: =IF(D22="","",F22/D22) -> 0.085013624 | I22: 43802
B23: SANOFI | D23: 73.95 | E23: =IF(C23="","",C23*D23) | F23: 3.07 | G23: =IF(C23="","",F23*C23) | H23: =IF(D23="","",F23/D23) -> 0.041514537 | I23: 13/0592019 | M23: ACHAT
E24: =IF(C24="","",C24*D24) | G24: =IF(C24="","",F24*C24)
E25: =IF(C25="","",C25*D25) | G25: =IF(C25="","",F25*C25)
E26: =IF(C26="","",C26*D26) | G26: =IF(C26="","",F26*C26)
E27: =IF(C27="","",C27*D27) | G27: =IF(C27="","",F27*C27)
E28: =IF(C28="","",C28*D28) | G28: =IF(C28="","",F28*C28)
E29: =IF(C29="","",C29*D29) | G29: =IF(C29="","",F29*C29)
E30: =IF(C30="","",C30*D30) | G30: =IF(C30="","",F30*C30)
E31: =IF(C31="","",C31*D31) | G31: =IF(C31="","",F31*C31)
E32: =IF(C32="","",C32*D32) | G32: =IF(C32="","",F32*C32)
E33: =IF(C33="","",C33*D33) | G33: =IF(C33="","",F33*C33)
E34: =IF(C34="","",C34*D34) | G34: =IF(C34="","",F34*C34)
E35: =IF(C35="","",C35*D35) | G35: =IF(C35="","",F35*C35)
... E38: =IF(C38="","",C38*D38) | G38: =IF(C38="","",F38*C38)
E39: =IF(C39="","",C39*D39) | G39: =IF(C39="","",F39*C39) | H39: =IF(D39="","",F39/D39)
E40: =IF(C40="","",C40*D40) | G40: =IF(C40="","",F40*C40) | H40: =IF(D40="","",F40/D40)
E41: =IF(C41="","",C41*D41) | G41: =IF(C41="","",F41*C41) | H41: =IF(D41="","",F41/D41)
E42: =IF(C42="","",C42*D42) | G42: =IF(C42="","",F42*C42) | H42: =IF(D42="","",F42/D42)
E43: =IF(C43="","",C43*D43) | G43: =IF(C43="","",F43*C43) | H43: =IF(D43="","",F43/D43)
...

Sheet TRANSACTIONS
K1: =TODAY() -> 43633 | M1: =INDEX((M6:M203),COUNTA(A6:A203)) -> 504.60896
A3: INFORMATIONS | E3: TRANSACTIONS | M3: LIQUIDITE DU PEA
A4: DATE | B4: INDUSTRIES | C4: TITRE | D4: ISIN | E4: TYPE | F4: QTT | G4: PRIX UNITAIRE | H4: MONTANT BASE | I4: FRAIS ACHAT | J4: TTF | K4: TOTAL
A5: 43465 | C5: SOLDE INITIAL | M5: 3485.88
A6: 43466 | B6: services financiers | C6: ABC ARBITRAGE | D6: FR0004040608 | E6: ACHATS | F6: 45 | G6: 6.44 | H6: =IF(C6="","",F6*G6) -> 289.8 | I6: =IF(OR(E6="ACHATS",E6="VENTES"),IF(H6<TECH!C$2,TECH!D$2,IF(H6<TECH!C$3,TECH!D$3,IF(H6<TECH!C$4,TECH!D$4,IF(H6<TECH!C$5,TECH!D$5,H6*TECH!D$6)))),"") -> 0.99 | J6: 0 | K6: =IF(E6="ACHATS",H6+I6+J6,IF(E6="VENTES",H6-I6,IF(E6="DIVIDENDES",H6,IF(E6="BONUS",H6,"")))) -> 290.79 | M6: =IF(E6="ACHATS",M5-K6,IF(E6="VENTES",M5+K6,IF(E6="DIVIDENDES",M5+K6,IF(E6="BONUS",M5-K6,"")))) -> 3195.09
A7: 43466 | B7: services financiers | C7: ALD | D7: FR0013258662 | E7: ACHATS | F7: 18 | G7: 13.43 | H7: =IF(C7="","",F7*G7) -> 241.74 | I7: =IF(OR(E7="ACHATS",E7="VENTES"),IF(H7<TECH!C$2,TECH!D$2,IF(H7<TECH!C$3,TECH!D$3,IF(H7<TECH!C$4,TECH!D$4,IF(H7<TECH!C$5,TECH!D$5,H7*TECH!D$6)))),"") -> 0.99 | J7: =IF(E7="ACHATS",H7*0.3/100,"") -> 0.72522 | K7: =IF(E7="ACHATS",H7+I7+J7,IF(E7="VENTES",H7-I7,IF(E7="DIVIDENDES",H7,IF(E7="BONUS",H7,"")))) -> 243.45522 | M7: =IF(E7="ACHATS",M6-K7,IF(E7="VENTES",M6+K7,IF(E7="DIVIDENDES",M6+K7,IF(E7="BONUS",M6+K7,"")))) -> 2951.6348
A8: 43466 | B8: services financiers | C8: BNP PARIBAS | D8: FR0000131104 | E8: ACHATS | F8: 6 | G8: 45.42 | H8: =IF(C8="","",F8*G8) -> 272.52 | I8: =IF(OR(E8="ACHATS",E8="VENTES"),IF(H8<TECH!C$2,TECH!D$2,IF(H8<TECH!C$3,TECH!D$3,IF(H8<TECH!C$4,TECH!D$4,IF(H8<TECH!C$5,TECH!D$5,H8*TECH!D$6)))),"") -> 0.99 | J8: =IF(E8="ACHATS",H8*0.3/100,"") -> 0.81756 | K8: =IF(E8="ACHATS",H8+I8+J8,IF(E8="VENTES",H8-I8,IF(E8="DIVIDENDES",H8,IF(E8="BONUS",H8,"")))) -> 274.32756 | M8: =IF(E8="ACHATS",M7-K8,IF(E8="VENTES",M7+K8,IF(E8="DIVIDENDES",M7+K8,IF(E8="BONUS",M7+K8,"")))) -> 2677.3072
A9: 43466 | B9: services financiers | C9: COFACE | D9: FR0010667147 | E9: ACHATS | F9: 37 | G9: 8.09 | H9: =IF(C9="","",F9*G9) -> 299.33 | I9: =IF(OR(E9="ACHATS",E9="VENTES"),IF(H9<TECH!C$2,TECH!D$2,IF(H9<TECH!C$3,TECH!D$3,IF(H9<TECH!C$4,TECH!D$4,IF(H9<TECH!C$5,TECH!D$5,H9*TECH!D$6)))),"") -> 0.99 | J9: =IF(E9="ACHATS",H9*0.3/100,"") -> 0.89799 | K9: =IF(E9="ACHATS",H9+I9+J9,IF(E9="VENTES",H9-I9,IF(E9="DIVIDENDES",H9,IF(E9="BONUS",H9,"")))) -> 301.21799 | M9: =IF(E9="ACHATS",M8-K9,IF(E9="VENTES",M8+K9,IF(E9="DIVIDENDES",M8+K9,IF(E9="BONUS",M8+K9,"")))) -> 2376.0892
A10: 43466 | B10: Services aux consommateurs | C10: ENGIE | D10: FR0010208488 | E10: ACHATS | F10: 21 | G10: 14.03 | H10: =IF(C10="","",F10*G10) -> 294.63 | I10: =IF(OR(E10="ACHATS",E10="VENTES"),IF(H10<TECH!C$2,TECH!D$2,IF(H10<TECH!C$3,TECH!D$3,IF(H10<TECH!C$4,TECH!D$4,IF(H10<TECH!C$5,TECH!D$5,H10*TECH!D$6)))),"") -> 0.99 | J10: =IF(E10="ACHATS",H10*0.3/100,"") -> 0.88389 | K10: =IF(E10="ACHATS",H10+I10+J10,IF(E10="VENTES",H10-I10,IF(E10="DIVIDENDES",H10,IF(E10="BONUS",H10,"")))) -> 296.50389 | M10: =IF(E10="ACHATS",M9-K10,IF(E10="VENTES",M9+K10,IF(E10="DIVIDENDES",M9+K10,IF(E10="BONUS",M9+K10,"")))) -> 2079.5853
A11: 43466 | B11: Services financiers | C11: NATIXIS | D11: FR0000120685 | E11: ACHATS | F11: 62 | G11: 4.89 | H11: =IF(C11="","",F11*G11) -> 303.18 | I11: =IF(OR(E11="ACHATS",E11="VENTES"),IF(H11<TECH!C$2,TECH!D$2,IF(H11<TECH!C$3,TECH!D$3,IF(H11<TECH!C$4,TECH!D$4,IF(H11<TECH!C$5,TECH!D$5,H11*TECH!D$6)))),"") -> 0.99 | J11: =IF(E11="ACHATS",H11*0.3/100,"") -> 0.90954 | K11: =IF(E11="ACHATS",H11+I11+J11,IF(E11="VENTES",H11-I11,IF(E11="DIVIDENDES",H11,IF(E11="BONUS",H11,"")))) -> 305.07954 | M11: =IF(E11="ACHATS",M10-K11,IF(E11="VENTES",M10+K11,IF(E11="DIVIDENDES",M10+K11,IF(E11="BONUS",M10+K11,"")))) -> 1774.5058
A12: 43466 | B12: Télécomunications | C12: ORANGE | D12: FR0000133308 | E12: ACHATS | F12: 20 | G12: 14.14 | H12: =IF(C12="","",F12*G12) -> 282.8 | I12: =IF(OR(E12="ACHATS",E12="VENTES"),IF(H12<TECH!C$2,TECH!D$2,IF(H12<TECH!C$3,TECH!D$3,IF(H12<TECH!C$4,TECH!D$4,IF(H12<TECH!C$5,TECH!D$5,H12*TECH!D$6)))),"") -> 0.99 | J12: =IF(E12="ACHATS",H12*0.3/100,"") -> 0.8484 | K12: =IF(E12="ACHATS",H12+I12+J12,IF(E12="VENTES",H12-I12,IF(E12="DIVIDENDES",H12,IF(E12="BONUS",H12,"")))) -> 284.6384 | M12: =IF(E12="ACHATS",M11-K12,IF(E12="VENTES",M11+K12,IF(E12="DIVIDENDES",M11+K12,IF(E12="BONUS",M11+K12,"")))) -> 1489.8674
A13: 43466 | B13: Matériaux de base | C13: SAINT-GOBAIN | D13: FR0000125007 | E13: ACHATS | F13: 8 | G13: 38.43 | H13: =IF(C13="","",F13*G13) -> 307.44 | I13: =IF(OR(E13="ACHATS",E13="VENTES"),IF(H13<TECH!C$2,TECH!D$2,IF(H13<TECH!C$3,TECH!D$3,IF(H13<TECH!C$4,TECH!D$4,IF(H13<TECH!C$5,TECH!D$5,H13*TECH!D$6)))),"") -> 0.99 | J13: =IF(E13="ACHATS",H13*0.3/100,"") -> 0.92232 | K13: =IF(E13="ACHATS",H13+I13+J13,IF(E13="VENTES",H13-I13,IF(E13="DIVIDENDES",H13,IF(E13="BONUS",H13,"")))) -> 309.35232 | M13: =IF(E13="ACHATS",M12-K13,IF(E13="VENTES",M12+K13,IF(E13="DIVIDENDES",M12+K13,IF(E13="BONUS",M12+K13,"")))) -> 1180.5151
A14: 43466 | B14: Santé | C14: SANOFI | D14: FR0000120578 | E14: ACHATS | F14: 5 | G14: 64.55 | H14: =IF(C14="","",F14*G14) -> 322.75 | I14: =IF(OR(E14="ACHATS",E14="VENTES"),IF(H14<TECH!C$2,TECH!D$2,IF(H14<TECH!C$3,TECH!D$3,IF(H14<TECH!C$4,TECH!D$4,IF(H14<TECH!C$5,TECH!D$5,H14*TECH!D$6)))),"") -> 0.99 | J14: =IF(E14="ACHATS",H14*0.3/100,"") -> 0.96825 | K14: =IF(E14="ACHATS",H14+I14+J14,IF(E14="VENTES",H14-I14,IF(E14="DIVIDENDES",H14,IF(E14="BONUS",H14,"")))) -> 324.70825 | M14: =IF(E14="ACHATS",M13-K14,IF(E14="VENTES",M13+K14,IF(E14="DIVIDENDES",M13+K14,IF(E14="BONUS",M13+K14,"")))) -> 855.80683
A15: 43466 | B15: Services financiers | C15: SOCIETE GENERALE | D15: FR0000130809 | E15: ACHATS | F15: 11 | G15: 27.07 | H15: =IF(C15="","",F15*G15) -> 297.77 | I15: =IF(OR(E15="ACHATS",E15="VENTES"),IF(H15<TECH!C$2,TECH!D$2,IF(H15<TECH!C$3,TECH!D$3,IF(H15<TECH!C$4,TECH!D$4,IF(H15<TECH!C$5,TECH!D$5,H15*TECH!D$6)))),"") -> 0.99 | J15: =IF(E15="ACHATS",H15*0.3/100,"") -> 0.89331 | K15: =IF(E15="ACHATS",H15+I15+J15,IF(E15="VENTES",H15-I15,IF(E15="DIVIDENDES",H15,IF(E15="BONUS",H15,"")))) -> 299.65331 | M15: =IF(E15="ACHATS",M14-K15,IF(E15="VENTES",M14+K15,IF(E15="DIVIDENDES",M14+K15,IF(E15="BONUS",M14+K15,"")))) -> 556.15352
A16: 43580 | B16: Services aux consommateurs | C16: ELIOR GROUP | D16: FR0011950732 | E16: ACHATS | F16: 24 | G16: 12.52 | H16: =IF(C16="","",F16*G16) -> 300.48 | I16: =IF(OR(E16="ACHATS",E16="VENTES"),IF(H16<TECH!C$2,TECH!D$2,IF(H16<TECH!C$3,TECH!D$3,IF(H16<TECH!C$4,TECH!D$4,IF(H16<TECH!C$5,TECH!D$5,H16*TECH!D$6)))),"") -> 0.99 | J16: 0 | K16: =IF(E16="ACHATS",H16+I16+J16,IF(E16="VENTES",H16-I16,IF(E16="DIVIDENDES",H16,IF(E16="BONUS",H16,"")))) -> 301.47 | M16: =IF(E16="ACHATS",M15-K16,IF(E16="VENTES",M15+K16,IF(E16="DIVIDENDES",M15+K16,IF(E16="BONUS",M15+K16,"")))) -> 254.68352
A17: 43580 | B17: Services aux consommateurs | C17: ELIOR GROUP | D17: FR0011950732 | E17: VENTES | F17: 24 | G17: 12.51 | H17: =IF(C17="","",F17*G17) -> 300.24 | J17: =IF(E17="ACHATS",H17*0.3/100,"") | K17: =IF(E17="ACHATS",H17+I17+J17,IF(E17="VENTES",H17-I17,IF(E17="DIVIDENDES",H17,IF(E17="BONUS",H17,"")))) -> 300.24 | M17: =IF(E17="ACHATS",M16-K17,IF(E17="VENTES",M16+K17,IF(E17="DIVIDENDES",M16+K17,IF(E17="BONUS",M16+K17,"")))) -> 554.92352
A18: 43580 | B18: Services aux consommateurs | C18: ELIOR GROUP | D18: FR0011950732 | E18: ACHATS | F18: 24 | G18: 12.52 | H18: =IF(C18="","",F18*G18) -> 300.48 | I18: =IF(OR(E18="ACHATS",E18="VENTES"),IF(H18<TECH!C$2,TECH!D$2,IF(H18<TECH!C$3,TECH!D$3,IF(H18<TECH!C$4,TECH!D$4,IF(H18<TECH!C$5,TECH!D$5,H18*TECH!D$6)))),"") -> 0.99 | J18: =IF(E18="ACHATS",H18*0.3/100,"") -> 0.90144 | K18: =IF(E18="ACHATS",H18+I18+J18,IF(E18="VENTES",H18-I18,IF(E18="DIVIDENDES",H18,IF(E18="BONUS",H18,"")))) -> 302.37144 | M18: =IF(E18="ACHATS",M17-K18,IF(E18="VENTES",M17+K18,IF(E18="DIVIDENDES",M17+K18,IF(E18="BONUS",M17+K18,"")))) -> 252.55208
A19: 43588 | B19: Santé | C19: SANOFI | D19: FR0000120578 | E19: VENTES | F19: 5 | G19: 77.93 | H19: =IF(C19="","",F19*G19) -> 389.65 | I19: =IF(OR(E19="ACHATS",E19="VENTES"),IF(H19<TECH!C$2,TECH!D$2,IF(H19<TECH!C$3,TECH!D$3,IF(H19<TECH!C$4,TECH!D$4,IF(H19<TECH!C$5,TECH!D$5,H19*TECH!D$6)))),"") -> 0.99 | J19: =IF(E19="ACHATS",H19*0.3/100,"") | K19: =IF(E19="ACHATS",H19+I19+J19,IF(E19="VENTES",H19-I19,IF(E19="DIVIDENDES",H19,IF(E19="BONUS",H19,"")))) -> 388.66 | M19: =IF(E19="ACHATS",M18-K19,IF(E19="VENTES",M18+K19,IF(E19="DIVIDENDES",M18+K19,IF(E19="BONUS",M18+K19,"")))) -> 641.21208
A20: 43595 | B20: Pétrole et Gaz | C20: TOTAL | D20: FR0000120271 | E20: ACHATS | F20: 6 | G20: 46.84 | H20: =IF(C20="","",F20*G20) -> 281.04 | I20: =IF(OR(E20="ACHATS",E20="VENTES"),IF(H20<TECH!C$2,TECH!D$2,IF(H20<TECH!C$3,TECH!D$3,IF(H20<TECH!C$4,TECH!D$4,IF(H20<TECH!C$5,TECH!D$5,H20*TECH!D$6)))),"") -> 0.99 | J20: =IF(E20="ACHATS",H20*0.3/100,"") -> 0.84312 | K20: =IF(E20="ACHATS",H20+I20+J20,IF(E20="VENTES",H20-I20,IF(E20="DIVIDENDES",H20,IF(E20="BONUS",H20,"")))) -> 282.87312 | M20: =IF(E20="ACHATS",M19-K20,IF(E20="VENTES",M19+K20,IF(E20="DIVIDENDES",M19+K20,IF(E20="BONUS",M19+K20,"")))) -> 358.33896
A21: 43608 | B21: Services aux consommateurs | C21: ENGIE | D21: FR0010208488 | E21: DIVIDENDES | F21: 21 | G21: 0.75 | H21: =IF(C21="","",F21*G21) -> 15.75 | I21: =IF(OR(E21="ACHATS",E21="VENTES"),IF(H21<TECH!C$2,TECH!D$2,IF(H21<TECH!C$3,TECH!D$3,IF(H21<TECH!C$4,TECH!D$4,IF(H21<TECH!C$5,TECH!D$5,H21*TECH!D$6)))),"") | J21: =IF(E21="ACHATS",H21*0.3/100,"") | K21: =IF(E21="ACHATS",H21+I21+J21,IF(E21="VENTES",H21-I21,IF(E21="DIVIDENDES",H21,IF(E21="BONUS",H21,"")))) -> 15.75 | M21: =IF(E21="ACHATS",M20-K21,IF(E21="VENTES",M20+K21,IF(E21="DIVIDENDES",M20+K21,IF(E21="BONUS",M20+K21,"")))) -> 374.08896
A22: 43609 | B22: services financiers | C22: COFACE | D22: FR0010667147 | E22: DIVIDENDES | F22: 37 | G22: 0.79 | H22: =IF(C22="","",F22*G22) -> 29.23 | I22: =IF(OR(E22="ACHATS",E22="VENTES"),IF(H22<TECH!C$2,TECH!D$2,IF(H22<TECH!C$3,TECH!D$3,IF(H22<TECH!C$4,TECH!D$4,IF(H22<TECH!C$5,TECH!D$5,H22*TECH!D$6)))),"") | J22: =IF(E22="ACHATS",H22*0.3/100,"") | K22: =IF(E22="ACHATS",H22+I22+J22,IF(E22="VENTES",H22-I22,IF(E22="DIVIDENDES",H22,IF(E22="BONUS",H22,"")))) -> 29.23 | M22: =IF(E22="ACHATS",M21-K22,IF(E22="VENTES",M21+K22,IF(E22="DIVIDENDES",M21+K22,IF(E22="BONUS",M21+K22,"")))) -> 403.31896
A23: 43616 | B23: services financiers | C23: ALD | D23: FR0013258662 | E23: DIVIDENDES | F23: 18 | G23: 0.58 | H23: =IF(C23="","",F23*G23) -> 10.44 | I23: =IF(OR(E23="ACHATS",E23="VENTES"),IF(H23<TECH!C$2,TECH!D$2,IF(H23<TECH!C$3,TECH!D$3,IF(H23<TECH!C$4,TECH!D$4,IF(H23<TECH!C$5,TECH!D$5,H23*TECH!D$6)))),"") | J23: =IF(E23="ACHATS",H23*0.3/100,"") | K23: =IF(E23="ACHATS",H23+I23+J23,IF(E23="VENTES",H23-I23,IF(E23="DIVIDENDES",H23,IF(E23="BONUS",H23,"")))) -> 10.44 | M23: =IF(E23="ACHATS",M22-K23,IF(E23="VENTES",M22+K23,IF(E23="DIVIDENDES",M22+K23,IF(E23="BONUS",M22+K23,"")))) -> 413.75896
A24: 43616 | B24: services financiers | C24: BNP PARIBAS | D24: FR0000131104 | E24: DIVIDENDES | F24: 6 | G24: 3.02 | H24: =IF(C24="","",F24*G24) -> 18.12 | I24: =IF(OR(E24="ACHATS",E24="VENTES"),IF(H24<TECH!C$2,TECH!D$2,IF(H24<TECH!C$3,TECH!D$3,IF(H24<TECH!C$4,TECH!D$4,IF(H24<TECH!C$5,TECH!D$5,H24*TECH!D$6)))),"") | J24: =IF(E24="ACHATS",H24*0.3/100,"") | K24: =IF(E24="ACHATS",H24+I24+J24,IF(E24="VENTES",H24-I24,IF(E24="DIVIDENDES",H24,IF(E24="BONUS",H24,"")))) -> 18.12 | M24: =IF(E24="ACHATS",M23-K24,IF(E24="VENTES",M23+K24,IF(E24="DIVIDENDES",M23+K24,IF(E24="BONUS",M23+K24,"")))) -> 431.87896
A25: 43620 | B25: Services financiers | C25: NATIXIS | D25: FR0000120685 | E25: DIVIDENDES | F25: 62 | G25: 0.3 | H25: =IF(C25="","",F25*G25) -> 18.6 | I25: =IF(OR(E25="ACHATS",E25="VENTES"),IF(H25<TECH!C$2,TECH!D$2,IF(H25<TECH!C$3,TECH!D$3,IF(H25<TECH!C$4,TECH!D$4,IF(H25<TECH!C$5,TECH!D$5,H25*TECH!D$6)))),"") | J25: =IF(E25="ACHATS",H25*0.3/100,"") | K25: =IF(E25="ACHATS",H25+I25+J25,IF(E25="VENTES",H25-I25,IF(E25="DIVIDENDES",H25,IF(E25="BONUS",H25,"")))) -> 18.6 | M25: =IF(E25="ACHATS",M24-K25,IF(E25="VENTES",M24+K25,IF(E25="DIVIDENDES",M24+K25,IF(E25="BONUS",M24+K25,"")))) -> 450.47896
A26: 43620 | B26: Services financiers | C26: NATIXIS | D26: FR0000120685 | E26: DIVIDENDES | F26: 62 | G26: 0.48 | H26: =IF(C26="","",F26*G26) -> 29.76 | I26: =IF(OR(E26="ACHATS",E26="VENTES"),IF(H26<TECH!C$2,TECH!D$2,IF(H26<TECH!C$3,TECH!D$3,IF(H26<TECH!C$4,TECH!D$4,IF(H26<TECH!C$5,TECH!D$5,H26*TECH!D$6)))),"") | J26: =IF(E26="ACHATS",H26*0.3/100,"") | K26: =IF(E26="ACHATS",H26+I26+J26,IF(E26="VENTES",H26-I26,IF(E26="DIVIDENDES",H26,IF(E26="BONUS",H26,"")))) -> 29.76 | M26: =IF(E26="ACHATS",M25-K26,IF(E26="VENTES",M25+K26,IF(E26="DIVIDENDES",M25+K26,IF(E26="BONUS",M25+K26,"")))) -> 480.23896
A27: 43622 | B27: Télécomunications | C27: ORANGE | D27: FR0000133308 | E27: DIVIDENDES | F27: 20 | G27: 0.4 | H27: =IF(C27="","",F27*G27) -> 8 | I27: =IF(OR(E27="ACHATS",E27="VENTES"),IF(H27<TECH!C$2,TECH!D$2,IF(H27<TECH!C$3,TECH!D$3,IF(H27<TECH!C$4,TECH!D$4,IF(H27<TECH!C$5,TECH!D$5,H27*TECH!D$6)))),"") | J27: =IF(E27="ACHATS",H27*0.3/100,"") | K27: =IF(E27="ACHATS",H27+I27+J27,IF(E27="VENTES",H27-I27,IF(E27="DIVIDENDES",H27,IF(E27="BONUS",H27,"")))) -> 8 | M27: =IF(E27="ACHATS",M26-K27,IF(E27="VENTES",M26+K27,IF(E27="DIVIDENDES",M26+K27,IF(E27="BONUS",M26+K27,"")))) -> 488.23896
A28: 43628 | B28: Matériaux de base | C28: SAINT-GOBAIN | D28: FR0000125007 | E28: DIVIDENDES | F28: 8 | G28: 1.33 | H28: =IF(C28="","",F28*G28) -> 10.64 | I28: =IF(OR(E28="ACHATS",E28="VENTES"),IF(H28<TECH!C$2,TECH!D$2,IF(H28<TECH!C$3,TECH!D$3,IF(H28<TECH!C$4,TECH!D$4,IF(H28<TECH!C$5,TECH!D$5,H28*TECH!D$6)))),"") | J28: =IF(E28="ACHATS",H28*0.3/100,"") | K28: =IF(E28="ACHATS",H28+I28+J28,IF(E28="VENTES",H28-I28,IF(E28="DIVIDENDES",H28,IF(E28="BONUS",H28,"")))) -> 10.64 | M28: =IF(E28="ACHATS",M27-K28,IF(E28="VENTES",M27+K28,IF(E28="DIVIDENDES",M27+K28,IF(E28="BONUS",M27+K28,"")))) -> 498.87896
A29: 43629 | B29: Pétrole et Gaz | C29: TOTAL | D29: FR0000120271 | E29: DIVIDENDES | F29: 6 | G29: 0.64 | H29: =IF(C29="","",F29*G29) -> 3.84 | I29: =IF(OR(E29="ACHATS",E29="VENTES"),IF(H29<TECH!C$2,TECH!D$2,IF(H29<TECH!C$3,TECH!D$3,IF(H29<TECH!C$4,TECH!D$4,IF(H29<TECH!C$5,TECH!D$5,H29*TECH!D$6)))),"") | J29: =IF(E29="ACHATS",H29*0.3/100,"") | K29: =IF(E29="ACHATS",H29+I29+J29,IF(E29="VENTES",H29-I29,IF(E29="DIVIDENDES",H29,IF(E29="BONUS",H29,"")))) -> 3.84 | M29: =IF(E29="ACHATS",M28-K29,IF(E29="VENTES",M28+K29,IF(E29="DIVIDENDES",M28+K29,IF(E29="BONUS",M28+K29,"")))) -> 502.71896
A30: 43466 | B30: Services financiers | C30: SOCIETE GENERALE | D30: FR0000130809 | E30: DIVIDENDES | F30: 11 | G30: 2.2 | H30: =IF(C30="","",F30*G30) -> 24.2 | I30: =IF(OR(E30="ACHATS",E30="VENTES"),IF(H30<TECH!C$2,TECH!D$2,IF(H30<TECH!C$3,TECH!D$3,IF(H30<TECH!C$4,TECH!D$4,IF(H30<TECH!C$5,TECH!D$5,H30*TECH!D$6)))),"") | J30: =IF(E30="ACHATS",H30*0.3/100,"") | K30: =IF(E30="ACHATS",H30+I30+J30,IF(E30="VENTES",H30-I30,IF(E30="DIVIDENDES",H30,IF(E30="BONUS",H30,"")))) -> 24.2 | M30: =IF(E30="ACHATS",M29-K30,IF(E30="VENTES",M29+K30,IF(E30="DIVIDENDES",M29+K30,IF(E30="BONUS",M29+K30,"")))) -> 526.91896
A31: 43466 | B31: Services financiers | C31: SOCIETE GENERALE | D31: FR0000130809 | E31: BONUS | F31: 1 | G31: 22.31 | H31: =IF(C31="","",F31*G31) -> 22.31 | I31: =IF(OR(E31="ACHATS",E31="VENTES"),IF(H31<TECH!C$2,TECH!D$2,IF(H31<TECH!C$3,TECH!D$3,IF(H31<TECH!C$4,TECH!D$4,IF(H31<TECH!C$5,TECH!D$5,H31*TECH!D$6)))),"") | J31: =IF(E31="ACHATS",H31*0.3/100,"") | K31: =IF(E31="ACHATS",H31+I31+J31,IF(E31="VENTES",H31-I31,IF(E31="DIVIDENDES",H31,IF(E31="BONUS",H31,"")))) -> 22.31 | M31: =IF(E31="ACHATS",M30-K31,IF(E31="VENTES",M30+K31,IF(E31="DIVIDENDES",M30+K31,IF(E31="BONUS",M30-K31,"")))) -> 504.60896
H32: =IF(C32="","",F32*G32) | I32: =IF(OR(E32="ACHATS",E32="VENTES"),IF(H32<TECH!C$2,TECH!D$2,IF(H32<TECH!C$3,TECH!D$3,IF(H32<TECH!C$4,TECH!D$4,IF(H32<TECH!C$5,TECH!D$5,H32*TECH!D$6)))),"") | J32: =IF(E32="ACHATS",H32*0.3/100,"") | K32: =IF(E32="ACHATS",H32+I32+J32,IF(E32="VENTES",H32-I32,IF(E32="DIVIDENDES",H32,IF(E32="BONUS",H32,"")))) | M32: =IF(E32="ACHATS",M31-K32,IF(E32="VENTES",M31+K32,IF(E32="DIVIDENDES",M31+K32,IF(E32="BONUS",M31+K32,""))))
H33: =IF(C33="","",F33*G33) | I33: =IF(OR(E33="ACHATS",E33="VENTES"),IF(H33<TECH!C$2,TECH!D$2,IF(H33<TECH!C$3,TECH!D$3,IF(H33<TECH!C$4,TECH!D$4,IF(H33<TECH!C$5,TECH!D$5,H33*TECH!D$6)))),"") | J33: =IF(E33="ACHATS",H33*0.3/100,"") | K33: =IF(E33="ACHATS",H33+I33+J33,IF(E33="VENTES",H33-I33,IF(E33="DIVIDENDES",H33,IF(E33="BONUS",H33,"")))) | M33: =IF(E33="ACHATS",M32-K33,IF(E33="VENTES",M32+K33,IF(E33="DIVIDENDES",M32+K33,IF(E33="BONUS",M32+K33,""))))
H34: =IF(C34="","",F34*G34) | I34: =IF(OR(E34="ACHATS",E34="VENTES"),IF(H34<TECH!C$2,TECH!D$2,IF(H34<TECH!C$3,TECH!D$3,IF(H34<TECH!C$4,TECH!D$4,IF(H34<TECH!C$5,TECH!D$5,H34*TECH!D$6)))),"") | J34: =IF(E34="ACHATS",H34*0.3/100,"") | K34: =IF(E34="ACHATS",H34+I34+J34,IF(E34="VENTES",H34-I34,IF(E34="DIVIDENDES",H34,IF(E34="BONUS",H34,"")))) | M34: =IF(E34="ACHATS",M33-K34,IF(E34="VENTES",M33+K34,IF(E34="DIVIDENDES",M33+K34,IF(E34="BONUS",M33+K34,""))))
H35: =IF(C35="","",F35*G35) | I35: =IF(OR(E35="ACHATS",E35="VENTES"),IF(H35<TECH!C$2,TECH!D$2,IF(H35<TECH!C$3,TECH!D$3,IF(H35<TECH!C$4,TECH!D$4,IF(H35<TECH!C$5,TECH!D$5,H35*TECH!D$6)))),"") | J35: =IF(E35="ACHATS",H35*0.3/100,"") | K35: =IF(E35="ACHATS",H35+I35+J35,IF(E35="VENTES",H35-I35,IF(E35="DIVIDENDES",H35,IF(E35="BONUS",H35,"")))) | M35: =IF(E35="ACHATS",M34-K35,IF(E35="VENTES",M34+K35,IF(E35="DIVIDENDES",M34+K35,IF(E35="BONUS",M34+K35,""))))
H36: =IF(C36="","",F36*G36) | I36: =IF(OR(E36="ACHATS",E36="VENTES"),IF(H36<TECH!C$2,TECH!D$2,IF(H36<TECH!C$3,TECH!D$3,IF(H36<TECH!C$4,TECH!D$4,IF(H36<TECH!C$5,TECH!D$5,H36*TECH!D$6)))),"") | J36: =IF(E36="ACHATS",H36*0.3/100,"") | K36: =IF(E36="ACHATS",H36+I36+J36,IF(E36="VENTES",H36-I36,IF(E36="DIVIDENDES",H36,IF(E36="BONUS",H36,"")))) | M36: =IF(E36="ACHATS",M35-K36,IF(E36="VENTES",M35+K36,IF(E36="DIVIDENDES",M35+K36,IF(E36="BONUS",M35+K36,""))))
H37: =IF(C37="","",F37*G37) | I37: =IF(OR(E37="ACHATS",E37="VENTES"),IF(H37<TECH!C$2,TECH!D$2,IF(H37<TECH!C$3,TECH!D$3,IF(H37<TECH!C$4,TECH!D$4,IF(H37<TECH!C$5,TECH!D$5,H37*TECH!D$6)))),"") | J37: =IF(E37="ACHATS",H37*0.3/100,"") | K37: =IF(E37="ACHATS",H37+I37+J37,IF(E37="VENTES",H37-I37,IF(E37="DIVIDENDES",H37,IF(E37="BONUS",H37,"")))) | M37: =IF(E37="ACHATS",M36-K37,IF(E37="VENTES",M36+K37,IF(E37="DIVIDENDES",M36+K37,IF(E37="BONUS",M36+K37,""))))
H38: =IF(C38="","",F38*G38) | I38: =IF(OR(E38="ACHATS",E38="VENTES"),IF(H38<TECH!C$2,TECH!D$2,IF(H38<TECH!C$3,TECH!D$3,IF(H38<TECH!C$4,TECH!D$4,IF(H38<TECH!C$5,TECH!D$5,H38*TECH!D$6)))),"") | J38: =IF(E38="ACHATS",H38*0.3/100,"") | K38: =IF(E38="ACHATS",H38+I38+J38,IF(E38="VENTES",H38-I38,IF(E38="DIVIDENDES",H38,IF(E38="BONUS",H38,"")))) | M38: =IF(E38="ACHATS",M37-K38,IF(E38="VENTES",M37+K38,IF(E38="DIVIDENDES",M37+K38,IF(E38="BONUS",M37+K38,""))))
H39: =IF(C39="","",F39*G39) | I39: =IF(OR(E39="ACHATS",E39="VENTES"),IF(H39<TECH!C$2,TECH!D$2,IF(H39<TECH!C$3,TECH!D$3,IF(H39<TECH!C$4,TECH!D$4,IF(H39<TECH!C$5,TECH!D$5,H39*TECH!D$6)))),"") | J39: =IF(E39="ACHATS",H39*0.3/100,"") | K39: =IF(E39="ACHATS",H39+I39+J39,IF(E39="VENTES",H39-I39,IF(E39="DIVIDENDES",H39,IF(E39="BONUS",H39,"")))) | M39: =IF(E39="ACHATS",M38-K39,IF(E39="VENTES",M38+K39,IF(E39="DIVIDENDES",M38+K39,IF(E39="BONUS",M38+K39,""))))
H40: =IF(C40="","",F40*G40) | I40: =IF(OR(E40="ACHATS",E40="VENTES"),IF(H40<TECH!C$2,TECH!D$2,IF(H40<TECH!C$3,TECH!D$3,IF(H40<TECH!C$4,TECH!D$4,IF(H40<TECH!C$5,TECH!D$5,H40*TECH!D$6)))),"") | J40: =IF(E40="ACHATS",H40*0.3/100,"") | K40: =IF(E40="ACHATS",H40+I40+J40,IF(E40="VENTES",H40-I40,IF(E40="DIVIDENDES",H40,IF(E40="BONUS",H40,"")))) | M40: =IF(E40="ACHATS",M39-K40,IF(E40="VENTES",M39+K40,IF(E40="DIVIDENDES",M39+K40,IF(E40="BONUS",M39+K40,""))))
H41: =IF(C41="","",F41*G41) | I41: =IF(OR(E41="ACHATS",E41="VENTES"),IF(H41<TECH!C$2,TECH!D$2,IF(H41<TECH!C$3,TECH!D$3,IF(H41<TECH!C$4,TECH!D$4,IF(H41<TECH!C$5,TECH!D$5,H41*TECH!D$6)))),"") | J41: =IF(E41="ACHATS",H41*0.3/100,"") | K41: =IF(E41="ACHATS",H41+I41+J41,IF(E41="VENTES",H41-I41,IF(E41="DIVIDENDES",H41,IF(E41="BONUS",H41,"")))) | M41: =IF(E41="ACHATS",M40-K41,IF(E41="VENTES",M40+K41,IF(E41="DIVIDENDES",M40+K41,IF(E41="BONUS",M40+K41,""))))
...

Sheet RECAP_PEA
K2: =SUM(K6:K202) -> 168.58 | L2: Gains / Pertes = | N2: =SUM(N6:N202) -> 63.95175
A4: ACHAT | H4: VENTE | K4: DIVIDENDES | L4: RESULATS
A5: TITRE | B5: QTT | C5: MONTANT ACHAT | D5: FRAIS ACHAT | E5: TTF | F5: PRU | G5: VALEUR | H5: QTT | I5: MONTANT VENTE | J5: FRAIS VENTE | K5: TOTAL | L5: % | M5: BILAN (hors dividendes) | N5: BILAN (dividendes inclus)
A6: ABC ARBITRAGE | B6: =IF(A6="","",SUMIFS(TRANSACTIONS!$F$6:$F$2000,TRANSACTIONS!$E$6:$E$2000,"ACHATS",TRANSACTIONS!$C$6:$C$2000,A6)) -> 45 | C6: =IF(A6="","",SUMIFS(TRANSACTIONS!$H$6:$H$2000,TRANSACTIONS!$E$6:$E$2000,"ACHATS",TRANSACTIONS!$C$6:$C$2000,A6)) -> 289.8 | D6: =IF(A6="","",SUMIFS(TRANSACTIONS!$I$6:$I$2000,TRANSACTIONS!$E$6:$E$2000,"ACHATS",TRANSACTIONS!$C$6:$C$2000,A6)) -> 0.99 | E6: =IF(A6="","",SUMIFS(TRANSACTIONS!$J$6:$J$2000,TRANSACTIONS!$E$6:$E$2000,"ACHATS",TRANSACTIONS!$C$6:$C$2000,A6)) -> 0 | F6: =IF(A6="","",(C6+D6+E6)/B6) -> 6.462 | G6: =IF(A6="","",F6*B6) -> 290.79 | H6: =IF($A6="","",SUMIFS(TRANSACTIONS!$F$6:$F$2000,TRANSACTIONS!$E$6:$E$2000,"VENTES",TRANSACTIONS!$C$6:$C$2000,A6)) -> 0 | I6: =IF(G6="","",SUMIFS(TRANSACTIONS!$H$6:$H$2000,TRANSACTIONS!$E$6:$E$2000,"VENTES",TRANSACTIONS!$C$6:$C$2000,A6)) -> 0 | J6: =IF(G6="","",SUMIFS(TRANSACTIONS!$I$6:$I$2000,TRANSACTIONS!$E$6:$E$2000,"VENTES",TRANSACTIONS!$C$6:$C$2000,A6)) -> 0 | K6: =IF(A6="","",SUMIFS(TRANSACTIONS!$H$6:$H$2000,TRANSACTIONS!$E$6:$E$2000,"DIVIDENDES",TRANSACTIONS!$C$6:$C$2000,A6)) -> 0 | L6: =IF(A6="","",IF(H6-B6=0,((I6+J6)-G6)/G6*100,"")) | M6: =IF(A6="","",IF(H6-B6=0,I6-J6-G6,"")) | N6: =IF(M6="","",K6+M6)
A7: ALD | B7: =IF(A7="","",SUMIFS(TRANSACTIONS!$F$6:$F$2000,TRANSACTIONS!$E$6:$E$2000,"ACHATS",TRANSACTIONS!$C$6:$C$2000,A7)) -> 18 | C7: =IF(A7="","",SUMIFS(TRANSACTIONS!$H$6:$H$2000,TRANSACTIONS!$E$6:$E$2000,"ACHATS",TRANSACTIONS!$C$6:$C$2000,A7)) -> 241.74 | D7: =IF(A7="","",SUMIFS(TRANSACTIONS!$I$6:$I$2000,TRANSACTIONS!$E$6:$E$2000,"ACHATS",TRANSACTIONS!$C$6:$C$2000,A7)) -> 0.99 | E7: =IF(A7="","",SUMIFS(TRANSACTIONS!$J$6:$J$2000,TRANSACTIONS!$E$6:$E$2000,"ACHATS",TRANSACTIONS!$C$6:$C$2000,A7)) -> 0.72522 | F7: =IF(A7="","",(C7+D7+E7)/B7) -> 13.52529 | G7: =IF(A7="","",F7*B7) -> 243.45522 | H7: =IF($A7="","",SUMIFS(TRANSACTIONS!$F$6:$F$2000,TRANSACTIONS!$E$6:$E$2000,"VENTES",TRANSACTIONS!$C$6:$C$2000,A7)) -> 0 | I7: =IF(G7="","",SUMIFS(TRANSACTIONS!$H$6:$H$2000,TRANSACTIONS!$E$6:$E$2000,"VENTES",TRANSACTIONS!$C$6:$C$2000,A7)) -> 0 | J7: =IF(G7="","",SUMIFS(TRANSACTIONS!$I$6:$I$2000,TRANSACTIONS!$E$6:$E$2000,"VENTES",TRANSACTIONS!$C$6:$C$2000,A7)) -> 0 | K7: =IF(A7="","",SUMIFS(TRANSACTIONS!$H$6:$H$2000,TRANSACTIONS!$E$6:$E$2000,"DIVIDENDES",TRANSACTIONS!$C$6:$C$2000,A7)) -> 10.44 | L7: =IF(A7="","",IF(H7-B7=0,((I7+J7)-G7)/G7*100,"")) | M7: =IF(A7="","",IF(H7-B7=0,I7-J7-G7,"")) | N7: =IF(M7="","",K7+M7)
A8: BNP PARIBAS | B8: =IF(A8="","",SUMIFS(TRANSACTIONS!$F$6:$F$2000,TRANSACTIONS!$E$6:$E$2000,"ACHATS",TRANSACTIONS!$C$6:$C$2000,A8)) -> 6 | C8: =IF(A8="","",SUMIFS(TRANSACTIONS!$H$6:$H$2000,TRANSACTIONS!$E$6:$E$2000,"ACHATS",TRANSACTIONS!$C$6:$C$2000,A8)) -> 272.52 | D8: =IF(A8="","",SUMIFS(TRANSACTIONS!$I$6:$I$2000,TRANSACTIONS!$E$6:$E$2000,"ACHATS",TRANSACTIONS!$C$6:$C$2000,A8)) -> 0.99 | E8: =IF(A8="","",SUMIFS(TRANSACTIONS!$J$6:$J$2000,TRANSACTIONS!$E$6:$E$2000,"ACHATS",TRANSACTIONS!$C$6:$C$2000,A8)) -> 0.81756 | F8: =IF(A8="","",(C8+D8+E8)/B8) -> 45.72126 | G8: =IF(A8="","",F8*B8) -> 274.32756 | H8: =IF($A8="","",SUMIFS(TRANSACTIONS!$F$6:$F$2000,TRANSACTIONS!$E$6:$E$2000,"VENTES",TRANSACTIONS!$C$6:$C$2000,A8)) -> 0 | I8: =IF(G8="","",SUMIFS(TRANSACTIONS!$H$6:$H$2000,TRANSACTIONS!$E$6:$E$2000,"VENTES",TRANSACTIONS!$C$6:$C$2000,A8)) -> 0 | J8: =IF(G8="","",SUMIFS(TRANSACTIONS!$I$6:$I$2000,TRANSACTIONS!$E$6:$E$2000,"VENTES",TRANSACTIONS!$C$6:$C$2000,A8)) -> 0 | K8: =IF(A8="","",SUMIFS(TRANSACTIONS!$H$6:$H$2000,TRANSACTIONS!$E$6:$E$2000,"DIVIDENDES",TRANSACTIONS!$C$6:$C$2000,A8)) -> 18.12 | L8: =IF(A8="","",IF(H8-B8=0,((I8+J8)-G8)/G8*100,"")) | M8: =IF(A8="","",IF(H8-B8=0,I8-J8-G8,"")) | N8: =IF(M8="","",K8+M8)
A9: COFACE | B9: =IF(A9="","",SUMIFS(TRANSACTIONS!$F$6:$F$2000,TRANSACTIONS!$E$6:$E$2000,"ACHATS",TRANSACTIONS!$C$6:$C$2000,A9)) -> 37 | C9: =IF(A9="","",SUMIFS(TRANSACTIONS!$H$6:$H$2000,TRANSACTIONS!$E$6:$E$2000,"ACHATS",TRANSACTIONS!$C$6:$C$2000,A9)) -> 299.33 | D9: =IF(A9="","",SUMIFS(TRANSACTIONS!$I$6:$I$2000,TRANSACTIONS!$E$6:$E$2000,"ACHATS",TRANSACTIONS!$C$6:$C$2000,A9)) -> 0.99 | E9: =IF(A9="","",SUMIFS(TRANSACTIONS!$J$6:$J$2000,TRANSACTIONS!$E$6:$E$2000,"ACHATS",TRANSACTIONS!$C$6:$C$2000,A9)) -> 0.89799 | F9: =IF(A9="","",(C9+D9+E9)/B9) -> 8.1410268 | G9: =IF(A9="","",F9*B9) -> 301.21799 | H9: =IF($A9="","",SUMIFS(TRANSACTIONS!$F$6:$F$2000,TRANSACTIONS!$E$6:$E$2000,"VENTES",TRANSACTIONS!$C$6:$C$2000,A9)) -> 0 | I9: =IF(G9="","",SUMIFS(TRANSACTIONS!$H$6:$H$2000,TRANSACTIONS!$E$6:$E$2000,"VENTES",TRANSACTIONS!$C$6:$C$2000,A9)) -> 0 | J9: =IF(G9="","",SUMIFS(TRANSACTIONS!$I$6:$I$2000,TRANSACTIONS!$E$6:$E$2000,"VENTES",TRANSACTIONS!$C$6:$C$2000,A9)) -> 0 | K9: =IF(A9="","",SUMIFS(TRANSACTIONS!$H$6:$H$2000,TRANSACTIONS!$E$6:$E$2000,"DIVIDENDES",TRANSACTIONS!$C$6:$C$2000,A9)) -> 29.23 | L9: =IF(A9="","",IF(H9-B9=0,((I9+J9)-G9)/G9*100,"")) | M9: =IF(A9="","",IF(H9-B9=0,I9-J9-G9,"")) | N9: =IF(M9="","",K9+M9)
A10: ENGIE | B10: =IF(A10="","",SUMIFS(TRANSACTIONS!$F$6:$F$2000,TRANSACTIONS!$E$6:$E$2000,"ACHATS",TRANSACTIONS!$C$6:$C$2000,A10)) -> 21 | C10: =IF(A10="","",SUMIFS(TRANSACTIONS!$H$6:$H$2000,TRANSACTIONS!$E$6:$E$2000,"ACHATS",TRANSACTIONS!$C$6:$C$2000,A10)) -> 294.63 | D10: =IF(A10="","",SUMIFS(TRANSACTIONS!$I$6:$I$2000,TRANSACTIONS!$E$6:$E$2000,"ACHATS",TRANSACTIONS!$C$6:$C$2000,A10)) -> 0.99 | E10: =IF(A10="","",SUMIFS(TRANSACTIONS!$J$6:$J$2000,TRANSACTIONS!$E$6:$E$2000,"ACHATS",TRANSACTIONS!$C$6:$C$2000,A10)) -> 0.88389 | F10: =IF(A10="","",(C10+D10+E10)/B10) -> 14.119233 | G10: =IF(A10="","",F10*B10) -> 296.50389 | H10: =IF($A10="","",SUMIFS(TRANSACTIONS!$F$6:$F$2000,TRANSACTIONS!$E$6:$E$2000,"VENTES",TRANSACTIONS!$C$6:$C$2000,A10)) -> 0 | I10: =IF(G10="","",SUMIFS(TRANSACTIONS!$H$6:$H$2000,TRANSACTIONS!$E$6:$E$2000,"VENTES",TRANSACTIONS!$C$6:$C$2000,A10)) -> 0 | J10: =IF(G10="","",SUMIFS(TRANSACTIONS!$I$6:$I$2000,TRANSACTIONS!$E$6:$E$2000,"VENTES",TRANSACTIONS!$C$6:$C$2000,A10)) -> 0 | K10: =IF(A10="","",SUMIFS(TRANSACTIONS!$H$6:$H$2000,TRANSACTIONS!$E$6:$E$2000,"DIVIDENDES",TRANSACTIONS!$C$6:$C$2000,A10)) -> 15.75 | L10: =IF(A10="","",IF(H10-B10=0,((I10+J10)-G10)/G10*100,"")) | M10: =IF(A10="","",IF(H10-B10=0,I10-J10-G10,"")) | N10: =IF(M10="","",K10+M10)
A11: NATIXIS | B11: =IF(A11="","",SUMIFS(TRANSACTIONS!$F$6:$F$2000,TRANSACTIONS!$E$6:$E$2000,"ACHATS",TRANSACTIONS!$C$6:$C$2000,A11)) -> 62 | C11: =IF(A11="","",SUMIFS(TRANSACTIONS!$H$6:$H$2000,TRANSACTIONS!$E$6:$E$2000,"ACHATS",TRANSACTIONS!$C$6:$C$2000,A11)) -> 303.18 | D11: =IF(A11="","",SUMIFS(TRANSACTIONS!$I$6:$I$2000,TRANSACTIONS!$E$6:$E$2000,"ACHATS",TRANSACTIONS!$C$6:$C$2000,A11)) -> 0.99 | E11: =IF(A11="","",SUMIFS(TRANSACTIONS!$J$6:$J$2000,TRANSACTIONS!$E$6:$E$2000,"ACHATS",TRANSACTIONS!$C$6:$C$2000,A11)) -> 0.90954 | F11: =IF(A11="","",(C11+D11+E11)/B11) -> 4.9206377 | G11: =IF(A11="","",F11*B11) -> 305.07954 | H11: =IF($A11="","",SUMIFS(TRANSACTIONS!$F$6:$F$2000,TRANSACTIONS!$E$6:$E$2000,"VENTES",TRANSACTIONS!$C$6:$C$2000,A11)) -> 0 | I11: =IF(G11="","",SUMIFS(TRANSACTIONS!$H$6:$H$2000,TRANSACTIONS!$E$6:$E$2000,"VENTES",TRANSACTIONS!$C$6:$C$2000,A11)) -> 0 | J11: =IF(G11="","",SUMIFS(TRANSACTIONS!$I$6:$I$2000,TRANSACTIONS!$E$6:$E$2000,"VENTES",TRANSACTIONS!$C$6:$C$2000,A11)) -> 0 | K11: =IF(A11="","",SUMIFS(TRANSACTIONS!$H$6:$H$2000,TRANSACTIONS!$E$6:$E$2000,"DIVIDENDES",TRANSACTIONS!$C$6:$C$2000,A11)) -> 48.36 | L11: =IF(A11="","",IF(H11-B11=0,((I11+J11)-G11)/G11*100,"")) | M11: =IF(A11="","",IF(H11-B11=0,I11-J11-G11,"")) | N11: =IF(M11="","",K11+M11)
A12: ORANGE | B12: =IF(A12="","",SUMIFS(TRANSACTIONS!$F$6:$F$2000,TRANSACTIONS!$E$6:$E$2000,"ACHATS",TRANSACTIONS!$C$6:$C$2000,A12)) -> 20 | C12: =IF(A12="","",SUMIFS(TRANSACTIONS!$H$6:$H$2000,TRANSACTIONS!$E$6:$E$2000,"ACHATS",TRANSACTIONS!$C$6:$C$2000,A12)) -> 282.8 | D12: =IF(A12="","",SUMIFS(TRANSACTIONS!$I$6:$I$2000,TRANSACTIONS!$E$6:$E$2000,"ACHATS",TRANSACTIONS!$C$6:$C$2000,A12)) -> 0.99 | E12: =IF(A12="","",SUMIFS(TRANSACTIONS!$J$6:$J$2000,TRANSACTIONS!$E$6:$E$2000,"ACHATS",TRANSACTIONS!$C$6:$C$2000,A12)) -> 0.8484 | F12: =IF(A12="","",(C12+D12+E12)/B12) -> 14.23192 | G12: =IF(A12="","",F12*B12) -> 284.6384 | H12: =IF($A12="","",SUMIFS(TRANSACTIONS!$F$6:$F$2000,TRANSACTIONS!$E$6:$E$2000,"VENTES",TRANSACTIONS!$C$6:$C$2000,A12)) -> 0 | I12: =IF(G12="","",SUMIFS(TRANSACTIONS!$H$6:$H$2000,TRANSACTIONS!$E$6:$E$2000,"VENTES",TRANSACTIONS!$C$6:$C$2000,A12)) -> 0 | J12: =IF(G12="","",SUMIFS(TRANSACTIONS!$I$6:$I$2000,TRANSACTIONS!$E$6:$E$2000,"VENTES",TRANSACTIONS!$C$6:$C$2000,A12)) -> 0 | K12: =IF(A12="","",SUMIFS(TRANSACTIONS!$H$6:$H$2000,TRANSACTIONS!$E$6:$E$2000,"DIVIDENDES",TRANSACTIONS!$C$6:$C$2000,A12)) -> 8 | L12: =IF(A12="","",IF(H12-B12=0,((I12+J12)-G12)/G12*100,"")) | M12: =IF(A12="","",IF(H12-B12=0,I12-J12-G12,"")) | N12: =IF(M12="","",K12+M12)
A13: SAINT-GOBAIN | B13: =IF(A13="","",SUMIFS(TRANSACTIONS!$F$6:$F$2000,TRANSACTIONS!$E$6:$E$2000,"ACHATS",TRANSACTIONS!$C$6:$C$2000,A13)) -> 8 | C13: =IF(A13="","",SUMIFS(TRANSACTIONS!$H$6:$H$2000,TRANSACTIONS!$E$6:$E$2000,"ACHATS",TRANSACTIONS!$C$6:$C$2000,A13)) -> 307.44 | D13: =IF(A13="","",SUMIFS(TRANSACTIONS!$I$6:$I$2000,TRANSACTIONS!$E$6:$E$2000,"ACHATS",TRANSACTIONS!$C$6:$C$2000,A13)) -> 0.99 | E13: =IF(A13="","",SUMIFS(TRANSACTIONS!$J$6:$J$2000,TRANSACTIONS!$E$6:$E$2000,"ACHATS",TRANSACTIONS!$C$6:$C$2000,A13)) -> 0.92232 | F13: =IF(A13="","",(C13+D13+E13)/B13) -> 38.66904 | G13: =IF(A13="","",F13*B13) -> 309.35232 | H13: =IF($A13="","",SUMIFS(TRANSACTIONS!$F$6:$F$2000,TRANSACTIONS!$E$6:$E$2000,"VENTES",TRANSACTIONS!$C$6:$C$2000,A13)) -> 0 | I13: =IF(G13="","",SUMIFS(TRANSACTIONS!$H$6:$H$2000,TRANSACTIONS!$E$6:$E$2000,"VENTES",TRANSACTIONS!$C$6:$C$2000,A13)) -> 0 | J13: =IF(G13="","",SUMIFS(TRANSACTIONS!$I$6:$I$2000,TRANSACTIONS!$E$6:$E$2000,"VENTES",TRANSACTIONS!$C$6:$C$2000,A13)) -> 0 | K13: =IF(A13="","",SUMIFS(TRANSACTIONS!$H$6:$H$2000,TRANSACTIONS!$E$6:$E$2000,"DIVIDENDES",TRANSACTIONS!$C$6:$C$2000,A13)) -> 10.64 | L13: =IF(A13="","",IF(H13-B13=0,((I13+J13)-G13)/G13*100,"")) | M13: =IF(A13="","",IF(H13-B13=0,I13-J13-G13,"")) | N13: =IF(M13="","",K13+M13)
A14: SANOFI | B14: =IF(A14="","",SUMIFS(TRANSACTIONS!$F$6:$F$2000,TRANSACTIONS!$E$6:$E$2000,"ACHATS",TRANSACTIONS!$C$6:$C$2000,A14)) -> 5 | C14: =IF(A14="","",SUMIFS(TRANSACTIONS!$H$6:$H$2000,TRANSACTIONS!$E$6:$E$2000,"ACHATS",TRANSACTIONS!$C$6:$C$2000,A14)) -> 322.75 | D14: =IF(A14="","",SUMIFS(TRANSACTIONS!$I$6:$I$2000,TRANSACTIONS!$E$6:$E$2000,"ACHATS",TRANSACTIONS!$C$6:$C$2000,A14)) -> 0.99 | E14: =IF(A14="","",SUMIFS(TRANSACTIONS!$J$6:$J$2000,TRANSACTIONS!$E$6:$E$2000,"ACHATS",TRANSACTIONS!$C$6:$C$2000,A14)) -> 0.96825 | F14: =IF(A14="","",(C14+D14+E14)/B14) -> 64.94165 | G14: =IF(A14="","",F14*B14) -> 324.70825 | H14: =IF($A14="","",SUMIFS(TRANSACTIONS!$F$6:$F$2000,TRANSACTIONS!$E$6:$E$2000,"VENTES",TRANSACTIONS!$C$6:$C$2000,A14)) -> 5 | I14: =IF(G14="","",SUMIFS(TRANSACTIONS!$H$6:$H$2000,TRANSACTIONS!$E$6:$E$2000,"VENTES",TRANSACTIONS!$C$6:$C$2000,A14)) -> 389.65 | J14: =IF(G14="","",SUMIFS(TRANSACTIONS!$I$6:$I$2000,TRANSACTIONS!$E$6:$E$2000,"VENTES",TRANSACTIONS!$C$6:$C$2000,A14)) -> 0.99 | K14: =IF(A14="","",SUMIFS(TRANSACTIONS!$H$6:$H$2000,TRANSACTIONS!$E$6:$E$2000,"DIVIDENDES",TRANSACTIONS!$C$6:$C$2000,A14)) -> 0 | L14: =IF(A14="","",IF(H14-B14=0,((I14+J14)-G14)/G14*100,"")) -> 20.30492 | M14: =IF(A14="","",IF(H14-B14=0,I14-J14-G14,"")) -> 63.95175 | N14: =IF(M14="","",K14+M14) -> 63.95175
A15: SOCIETE GENERALE | B15: =IF(A15="","",SUMIFS(TRANSACTIONS!$F$6:$F$2000,TRANSACTIONS!$E$6:$E$2000,"ACHATS",TRANSACTIONS!$C$6:$C$2000,A15)) -> 11 | C15: =IF(A15="","",SUMIFS(TRANSACTIONS!$H$6:$H$2000,TRANSACTIONS!$E$6:$E$2000,"ACHATS",TRANSACTIONS!$C$6:$C$2000,A15)) -> 297.77 | D15: =IF(A15="","",SUMIFS(TRANSACTIONS!$I$6:$I$2000,TRANSACTIONS!$E$6:$E$2000,"ACHATS",TRANSACTIONS!$C$6:$C$2000,A15)) -> 0.99 | E15: =IF(A15="","",SUMIFS(TRANSACTIONS!$J$6:$J$2000,TRANSACTIONS!$E$6:$E$2000,"ACHATS",TRANSACTIONS!$C$6:$C$2000,A15)) -> 0.89331 | F15: =IF(A15="","",(C15+D15+E15)/B15) -> 27.24121 | G15: =IF(A15="","",F15*B15) -> 299.65331 | H15: =IF($A15="","",SUMIFS(TRANSACTIONS!$F$6:$F$2000,TRANSACTIONS!$E$6:$E$2000,"VENTES",TRANSACTIONS!$C$6:$C$2000,A15)) -> 0 | I15: =IF(G15="","",SUMIFS(TRANSACTIONS!$H$6:$H$2000,TRANSACTIONS!$E$6:$E$2000,"VENTES",TRANSACTIONS!$C$6:$C$2000,A15)) -> 0 | J15: =IF(G15="","",SUMIFS(TRANSACTIONS!$I$6:$I$2000,TRANSACTIONS!$E$6:$E$2000,"VENTES",TRANSACTIONS!$C$6:$C$2000,A15)) -> 0 | K15: =IF(A15="","",SUMIFS(TRANSACTIONS!$H$6:$H$2000,TRANSACTIONS!$E$6:$E$2000,"DIVIDENDES",TRANSACTIONS!$C$6:$C$2000,A15)) -> 24.2 | L15: =IF(A15="","",IF(H15-B15=0,((I15+J15)-G15)/G15*100,"")) | M15: =IF(A15="","",IF(H15-B15=0,I15-J15-G15,"")) | N15: =IF(M15="","",K15+M15)
A16: ELIOR GROUP | B16: =IF(A16="","",SUMIFS(TRANSACTIONS!$F$6:$F$2000,TRANSACTIONS!$E$6:$E$2000,"ACHATS",TRANSACTIONS!$C$6:$C$2000,A16)) -> 48 | C16: =IF(A16="","",SUMIFS(TRANSACTIONS!$H$6:$H$2000,TRANSACTIONS!$E$6:$E$2000,"ACHATS",TRANSACTIONS!$C$6:$C$2000,A16)) -> 600.96 | D16: =IF(A16="","",SUMIFS(TRANSACTIONS!$I$6:$I$2000,TRANSACTIONS!$E$6:$E$2000,"ACHATS",TRANSACTIONS!$C$6:$C$2000,A16)) -> 1.98 | E16: =IF(A16="","",SUMIFS(TRANSACTIONS!$J$6:$J$2000,TRANSACTIONS!$E$6:$E$2000,"ACHATS",TRANSACTIONS!$C$6:$C$2000,A16)) -> 0.90144 | F16: =IF(A16="","",(C16+D16+E16)/B16) -> 12.58003 | G16: =IF(A16="","",F16*B16) -> 603.84144 | H16: =IF($A16="","",SUMIFS(TRANSACTIONS!$F$6:$F$2000,TRANSACTIONS!$E$6:$E$2000,"VENTES",TRANSACTIONS!$C$6:$C$2000,A16)) -> 24 | I16: =IF(G16="","",SUMIFS(TRANSACTIONS!$H$6:$H$2000,TRANSACTIONS!$E$6:$E$2000,"VENTES",TRANSACTIONS!$C$6:$C$2000,A16)) -> 300.24 | J16: =IF(G16="","",SUMIFS(TRANSACTIONS!$I$6:$I$2000,TRANSACTIONS!$E$6:$E$2000,"VENTES",TRANSACTIONS!$C$6:$C$2000,A16)) -> 0 | K16: =IF(A16="","",SUMIFS(TRANSACTIONS!$H$6:$H$2000,TRANSACTIONS!$E$6:$E$2000,"DIVIDENDES",TRANSACTIONS!$C$6:$C$2000,A16)) -> 0 | L16: =IF(A16="","",IF(H16-B16=0,((I16+J16)-G16)/G16*100,"")) | M16: =IF(A16="","",IF(H16-B16=0,I16-J16-G16,"")) | N16: =IF(M16="","",K16+M16)
A17: TOTAL | B17: =IF(A17="","",SUMIFS(TRANSACTIONS!$F$6:$F$2000,TRANSACTIONS!$E$6:$E$2000,"ACHATS",TRANSACTIONS!$C$6:$C$2000,A17)) -> 6 | C17: =IF(A17="","",SUMIFS(TRANSACTIONS!$H$6:$H$2000,TRANSACTIONS!$E$6:$E$2000,"ACHATS",TRANSACTIONS!$C$6:$C$2000,A17)) -> 281.04 | D17: =IF(A17="","",SUMIFS(TRANSACTIONS!$I$6:$I$2000,TRANSACTIONS!$E$6:$E$2000,"ACHATS",TRANSACTIONS!$C$6:$C$2000,A17)) -> 0.99 | E17: =IF(A17="","",SUMIFS(TRANSACTIONS!$J$6:$J$2000,TRANSACTIONS!$E$6:$E$2000,"ACHATS",TRANSACTIONS!$C$6:$C$2000,A17)) -> 0.84312 | F17: =IF(A17="","",(C17+D17+E17)/B17) -> 47.14552 | G17: =IF(A17="","",F17*B17) -> 282.87312 | H17: =IF($A17="","",SUMIFS(TRANSACTIONS!$F$6:$F$2000,TRANSACTIONS!$E$6:$E$2000,"VENTES",TRANSACTIONS!$C$6:$C$2000,A17)) -> 0 | I17: =IF(G17="","",SUMIFS(TRANSACTIONS!$H$6:$H$2000,TRANSACTIONS!$E$6:$E$2000,"VENTES",TRANSACTIONS!$C$6:$C$2000,A17)) -> 0 | J17: =IF(G17="","",SUMIFS(TRANSACTIONS!$I$6:$I$2000,TRANSACTIONS!$E$6:$E$2000,"VENTES",TRANSACTIONS!$C$6:$C$2000,A17)) -> 0 | K17: =IF(A17="","",SUMIFS(TRANSACTIONS!$H$6:$H$2000,TRANSACTIONS!$E$6:$E$2000,"DIVIDENDES",TRANSACTIONS!$C$6:$C$2000,A17)) -> 3.84 | L17: =IF(A17="","",IF(H17-B17=0,((I17+J17)-G17)/G17*100,"")) | M17: =IF(A17="","",IF(H17-B17=0,I17-J17-G17,"")) | N17: =IF(M17="","",K17+M17)
B18: =IF(A18="","",SUMIFS(TRANSACTIONS!$F$6:$F$2000,TRANSACTIONS!$E$6:$E$2000,"ACHATS",TRANSACTIONS!$C$6:$C$2000,A18)) | C18: =IF(A18="","",SUMIFS(TRANSACTIONS!$H$6:$H$2000,TRANSACTIONS!$E$6:$E$2000,"ACHATS",TRANSACTIONS!$C$6:$C$2000,A18)) | D18: =IF(A18="","",SUMIFS(TRANSACTIONS!$I$6:$I$2000,TRANSACTIONS!$E$6:$E$2000,"ACHATS",TRANSACTIONS!$C$6:$C$2000,A18)) | E18: =IF(A18="","",SUMIFS(TRANSACTIONS!$J$6:$J$2000,TRANSACTIONS!$E$6:$E$2000,"ACHATS",TRANSACTIONS!$C$6:$C$2000,A18)) | F18: =IF(A18="","",(C18+D18+E18)/B18) | G18: =IF(A18="","",F18*B18) | H18: =IF($A18="","",SUMIFS(TRANSACTIONS!$F$6:$F$2000,TRANSACTIONS!$E$6:$E$2000,"VENTES",TRANSACTIONS!$C$6:$C$2000,A18)) | I18: =IF(G18="","",SUMIFS(TRANSACTIONS!$H$6:$H$2000,TRANSACTIONS!$E$6:$E$2000,"VENTES",TRANSACTIONS!$C$6:$C$2000,A18)) | J18: =IF(G18="","",SUMIFS(TRANSACTIONS!$I$6:$I$2000,TRANSACTIONS!$E$6:$E$2000,"VENTES",TRANSACTIONS!$C$6:$C$2000,A18)) | K18: =IF(A18="","",SUMIFS(TRANSACTIONS!$H$6:$H$2000,TRANSACTIONS!$E$6:$E$2000,"DIVIDENDES",TRANSACTIONS!$C$6:$C$2000,A18)) | L18: =IF(A18="","",IF(H18-B18=0,((I18+J18)-G18)/G18*100,"")) | M18: =IF(A18="","",IF(H18-B18=0,I18-J18-G18,"")) | N18: =IF(M18="","",K18+M18)
B19: =IF(A19="","",SUMIFS(TRANSACTIONS!$F$6:$F$2000,TRANSACTIONS!$E$6:$E$2000,"ACHATS",TRANSACTIONS!$C$6:$C$2000,A19)) | C19: =IF(A19="","",SUMIFS(TRANSACTIONS!$H$6:$H$2000,TRANSACTIONS!$E$6:$E$2000,"ACHATS",TRANSACTIONS!$C$6:$C$2000,A19)) | D19: =IF(A19="","",SUMIFS(TRANSACTIONS!$I$6:$I$2000,TRANSACTIONS!$E$6:$E$2000,"ACHATS",TRANSACTIONS!$C$6:$C$2000,A19)) | E19: =IF(A19="","",SUMIFS(TRANSACTIONS!$J$6:$J$2000,TRANSACTIONS!$E$6:$E$2000,"ACHATS",TRANSACTIONS!$C$6:$C$2000,A19)) | F19: =IF(A19="","",(C19+D19+E19)/B19) | G19: =IF(A19="","",F19*B19) | H19: =IF($A19="","",SUMIFS(TRANSACTIONS!$F$6:$F$2000,TRANSACTIONS!$E$6:$E$2000,"VENTES",TRANSACTIONS!$C$6:$C$2000,A19)) | I19: =IF(G19="","",SUMIFS(TRANSACTIONS!$H$6:$H$2000,TRANSACTIONS!$E$6:$E$2000,"VENTES",TRANSACTIONS!$C$6:$C$2000,A19)) | J19: =IF(G19="","",SUMIFS(TRANSACTIONS!$I$6:$I$2000,TRANSACTIONS!$E$6:$E$2000,"VENTES",TRANSACTIONS!$C$6:$C$2000,A19)) | K19: =IF(A19="","",SUMIFS(TRANSACTIONS!$H$6:$H$2000,TRANSACTIONS!$E$6:$E$2000,"DIVIDENDES",TRANSACTIONS!$C$6:$C$2000,A19)) | L19: =IF(A19="","",IF(H19-B19=0,((I19+J19)-G19)/G19*100,"")) | M19: =IF(A19="","",IF(H19-B19=0,I19-J19-G19,"")) | N19: =IF(M19="","",K19+M19)
B20: =IF(A20="","",SUMIFS(TRANSACTIONS!$F$6:$F$2000,TRANSACTIONS!$E$6:$E$2000,"ACHATS",TRANSACTIONS!$C$6:$C$2000,A20)) | C20: =IF(A20="","",SUMIFS(TRANSACTIONS!$H$6:$H$2000,TRANSACTIONS!$E$6:$E$2000,"ACHATS",TRANSACTIONS!$C$6:$C$2000,A20)) | D20: =IF(A20="","",SUMIFS(TRANSACTIONS!$I$6:$I$2000,TRANSACTIONS!$E$6:$E$2000,"ACHATS",TRANSACTIONS!$C$6:$C$2000,A20)) | E20: =IF(A20="","",SUMIFS(TRANSACTIONS!$J$6:$J$2000,TRANSACTIONS!$E$6:$E$2000,"ACHATS",TRANSACTIONS!$C$6:$C$2000,A20)) | F20: =IF(A20="","",(C20+D20+E20)/B20) | G20: =IF(A20="","",F20*B20) | H20: =IF($A20="","",SUMIFS(TRANSACTIONS!$F$6:$F$2000,TRANSACTIONS!$E$6:$E$2000,"VENTES",TRANSACTIONS!$C$6:$C$2000,A20)) | I20: =IF(G20="","",SUMIFS(TRANSACTIONS!$H$6:$H$2000,TRANSACTIONS!$E$6:$E$2000,"VENTES",TRANSACTIONS!$C$6:$C$2000,A20)) | J20: =IF(G20="","",SUMIFS(TRANSACTIONS!$I$6:$I$2000,TRANSACTIONS!$E$6:$E$2000,"VENTES",TRANSACTIONS!$C$6:$C$2000,A20)) | K20: =IF(A20="","",SUMIFS(TRANSACTIONS!$H$6:$H$2000,TRANSACTIONS!$E$6:$E$2000,"DIVIDENDES",TRANSACTIONS!$C$6:$C$2000,A20)) | L20: =IF(A20="","",IF(H20-B20=0,((I20+J20)-G20)/G20*100,"")) | M20: =IF(A20="","",IF(H20-B20=0,I20-J20-G20,"")) | N20: =IF(M20="","",K20+M20)
B21: =IF(A21="","",SUMIFS(TRANSACTIONS!$F$6:$F$2000,TRANSACTIONS!$E$6:$E$2000,"ACHATS",TRANSACTIONS!$C$6:$C$2000,A21)) | C21: =IF(A21="","",SUMIFS(TRANSACTIONS!$H$6:$H$2000,TRANSACTIONS!$E$6:$E$2000,"ACHATS",TRANSACTIONS!$C$6:$C$2000,A21)) | D21: =IF(A21="","",SUMIFS(TRANSACTIONS!$I$6:$I$2000,TRANSACTIONS!$E$6:$E$2000,"ACHATS",TRANSACTIONS!$C$6:$C$2000,A21)) | E21: =IF(A21="","",SUMIFS(TRANSACTIONS!$J$6:$J$2000,TRANSACTIONS!$E$6:$E$2000,"ACHATS",TRANSACTIONS!$C$6:$C$2000,A21)) | F21: =IF(A21="","",(C21+D21+E21)/B21) | G21: =IF(A21="","",F21*B21) | H21: =IF($A21="","",SUMIFS(TRANSACTIONS!$F$6:$F$2000,TRANSACTIONS!$E$6:$E$2000,"VENTES",TRANSACTIONS!$C$6:$C$2000,A21)) | I21: =IF(G21="","",SUMIFS(TRANSACTIONS!$H$6:$H$2000,TRANSACTIONS!$E$6:$E$2000,"VENTES",TRANSACTIONS!$C$6:$C$2000,A21)) | J21: =IF(G21="","",SUMIFS(TRANSACTIONS!$I$6:$I$2000,TRANSACTIONS!$E$6:$E$2000,"VENTES",TRANSACTIONS!$C$6:$C$2000,A21)) | K21: =IF(A21="","",SUMIFS(TRANSACTIONS!$H$6:$H$2000,TRANSACTIONS!$E$6:$E$2000,"DIVIDENDES",TRANSACTIONS!$C$6:$C$2000,A21)) | L21: =IF(A21="","",IF(H21-B21=0,((I21+J21)-G21)/G21*100,"")) | M21: =IF(A21="","",IF(H21-B21=0,I21-J21-G21,"")) | N21: =IF(M21="","",K21+M21)
B22: =IF(A22="","",SUMIFS(TRANSACTIONS!$F$6:$F$2000,TRANSACTIONS!$E$6:$E$2000,"ACHATS",TRANSACTIONS!$C$6:$C$2000,A22)) | C22: =IF(A22="","",SUMIFS(TRANSACTIONS!$H$6:$H$2000,TRANSACTIONS!$E$6:$E$2000,"ACHATS",TRANSACTIONS!$C$6:$C$2000,A22)) | D22: =IF(A22="","",SUMIFS(TRANSACTIONS!$I$6:$I$2000,TRANSACTIONS!$E$6:$E$2000,"ACHATS",TRANSACTIONS!$C$6:$C$2000,A22)) | E22: =IF(A22="","",SUMIFS(TRANSACTIONS!$J$6:$J$2000,TRANSACTIONS!$E$6:$E$2000,"ACHATS",TRANSACTIONS!$C$6:$C$2000,A22)) | F22: =IF(A22="","",(C22+D22+E22)/B22) | G22: =IF(A22="","",F22*B22) | H22: =IF($A22="","",SUMIFS(TRANSACTIONS!$F$6:$F$2000,TRANSACTIONS!$E$6:$E$2000,"VENTES",TRANSACTIONS!$C$6:$C$2000,A22)) | I22: =IF(G22="","",SUMIFS(TRANSACTIONS!$H$6:$H$2000,TRANSACTIONS!$E$6:$E$2000,"VENTES",TRANSACTIONS!$C$6:$C$2000,A22)) | J22: =IF(G22="","",SUMIFS(TRANSACTIONS!$I$6:$I$2000,TRANSACTIONS!$E$6:$E$2000,"VENTES",TRANSACTIONS!$C$6:$C$2000,A22)) | K22: =IF(A22="","",SUMIFS(TRANSACTIONS!$H$6:$H$2000,TRANSACTIONS!$E$6:$E$2000,"DIVIDENDES",TRANSACTIONS!$C$6:$C$2000,A22)) | L22: =IF(A22="","",IF(H22-B22=0,((I22+J22)-G22)/G22*100,"")) | M22: =IF(A22="","",IF(H22-B22=0,I22-J22-G22,"")) | N22: =IF(M22="","",K22+M22)
B23: =IF(A23="","",SUMIFS(TRANSACTIONS!$F$6:$F$2000,TRANSACTIONS!$E$6:$E$2000,"ACHATS",TRANSACTIONS!$C$6:$C$2000,A23)) | C23: =IF(A23="","",SUMIFS(TRANSACTIONS!$H$6:$H$2000,TRANSACTIONS!$E$6:$E$2000,"ACHATS",TRANSACTIONS!$C$6:$C$2000,A23)) | D23: =IF(A23="","",SUMIFS(TRANSACTIONS!$I$6:$I$2000,TRANSACTIONS!$E$6:$E$2000,"ACHATS",TRANSACTIONS!$C$6:$C$2000,A23)) | E23: =IF(A23="","",SUMIFS(TRANSACTIONS!$J$6:$J$2000,TRANSACTIONS!$E$6:$E$2000,"ACHATS",TRANSACTIONS!$C$6:$C$2000,A23)) | F23: =IF(A23="","",(C23+D23+E23)/B23) | G23: =IF(A23="","",F23*B23) | H23: =IF($A23="","",SUMIFS(TRANSACTIONS!$F$6:$F$2000,TRANSACTIONS!$E$6:$E$2000,"VENTES",TRANSACTIONS!$C$6:$C$2000,A23)) | I23: =IF(G23="","",SUMIFS(TRANSACTIONS!$H$6:$H$2000,TRANSACTIONS!$E$6:$E$2000,"VENTES",TRANSACTIONS!$C$6:$C$2000,A23)) | J23: =IF(G23="","",SUMIFS(TRANSACTIONS!$I$6:$I$2000,TRANSACTIONS!$E$6:$E$2000,"VENTES",TRANSACTIONS!$C$6:$C$2000,A23)) | K23: =IF(A23="","",SUMIFS(TRANSACTIONS!$H$6:$H$2000,TRANSACTIONS!$E$6:$E$2000,"DIVIDENDES",TRANSACTIONS!$C$6:$C$2000,A23)) | L23: =IF(A23="","",IF(H23-B23=0,((I23+J23)-G23)/G23*100,"")) | M23: =IF(A23="","",IF(H23-B23=0,I23-J23-G23,"")) | N23: =IF(M23="","",K23+M23)
B24: =IF(A24="","",SUMIFS(TRANSACTIONS!$F$6:$F$2000,TRANSACTIONS!$E$6:$E$2000,"ACHATS",TRANSACTIONS!$C$6:$C$2000,A24)) | C24: =IF(A24="","",SUMIFS(TRANSACTIONS!$H$6:$H$2000,TRANSACTIONS!$E$6:$E$2000,"ACHATS",TRANSACTIONS!$C$6:$C$2000,A24)) | D24: =IF(A24="","",SUMIFS(TRANSACTIONS!$I$6:$I$2000,TRANSACTIONS!$E$6:$E$2000,"ACHATS",TRANSACTIONS!$C$6:$C$2000,A24)) | E24: =IF(A24="","",SUMIFS(TRANSACTIONS!$J$6:$J$2000,TRANSACTIONS!$E$6:$E$2000,"ACHATS",TRANSACTIONS!$C$6:$C$2000,A24)) | F24: =IF(A24="","",(C24+D24+E24)/B24) | G24: =IF(A24="","",F24*B24) | H24: =IF($A24="","",SUMIFS(TRANSACTIONS!$F$6:$F$2000,TRANSACTIONS!$E$6:$E$2000,"VENTES",TRANSACTIONS!$C$6:$C$2000,A24)) | I24: =IF(G24="","",SUMIFS(TRANSACTIONS!$H$6:$H$2000,TRANSACTIONS!$E$6:$E$2000,"VENTES",TRANSACTIONS!$C$6:$C$2000,A24)) | J24: =IF(G24="","",SUMIFS(TRANSACTIONS!$I$6:$I$2000,TRANSACTIONS!$E$6:$E$2000,"VENTES",TRANSACTIONS!$C$6:$C$2000,A24)) | K24: =IF(A24="","",SUMIFS(TRANSACTIONS!$H$6:$H$2000,TRANSACTIONS!$E$6:$E$2000,"DIVIDENDES",TRANSACTIONS!$C$6:$C$2000,A24)) | L24: =IF(A24="","",IF(H24-B24=0,((I24+J24)-G24)/G24*100,"")) | M24: =IF(A24="","",IF(H24-B24=0,I24-J24-G24,"")) | N24: =IF(M24="","",K24+M24)
B25: =IF(A25="","",SUMIFS(TRANSACTIONS!$F$6:$F$2000,TRANSACTIONS!$E$6:$E$2000,"ACHATS",TRANSACTIONS!$C$6:$C$2000,A25)) | C25: =IF(A25="","",SUMIFS(TRANSACTIONS!$H$6:$H$2000,TRANSACTIONS!$E$6:$E$2000,"ACHATS",TRANSACTIONS!$C$6:$C$2000,A25)) | D25: =IF(A25="","",SUMIFS(TRANSACTIONS!$I$6:$I$2000,TRANSACTIONS!$E$6:$E$2000,"ACHATS",TRANSACTIONS!$C$6:$C$2000,A25)) | E25: =IF(A25="","",SUMIFS(TRANSACTIONS!$J$6:$J$2000,TRANSACTIONS!$E$6:$E$2000,"ACHATS",TRANSACTIONS!$C$6:$C$2000,A25)) | F25: =IF(A25="","",(C25+D25+E25)/B25) | G25: =IF(A25="","",F25*B25) | H25: =IF($A25="","",SUMIFS(TRANSACTIONS!$F$6:$F$2000,TRANSACTIONS!$E$6:$E$2000,"VENTES",TRANSACTIONS!$C$6:$C$2000,A25)) | I25: =IF(G25="","",SUMIFS(TRANSACTIONS!$H$6:$H$2000,TRANSACTIONS!$E$6:$E$2000,"VENTES",TRANSACTIONS!$C$6:$C$2000,A25)) | J25: =IF(G25="","",SUMIFS(TRANSACTIONS!$I$6:$I$2000,TRANSACTIONS!$E$6:$E$2000,"VENTES",TRANSACTIONS!$C$6:$C$2000,A25)) | K25: =IF(A25="","",SUMIFS(TRANSACTIONS!$H$6:$H$2000,TRANSACTIONS!$E$6:$E$2000,"DIVIDENDES",TRANSACTIONS!$C$6:$C$2000,A25)) | L25: =IF(A25="","",IF(H25-B25=0,((I25+J25)-G25)/G25*100,"")) | M25: =IF(A25="","",IF(H25-B25=0,I25-J25-G25,"")) | N25: =IF(M25="","",K25+M25)
B26: =IF(A26="","",SUMIFS(TRANSACTIONS!$F$6:$F$2000,TRANSACTIONS!$E$6:$E$2000,"ACHATS",TRANSACTIONS!$C$6:$C$2000,A26)) | C26: =IF(A26="","",SUMIFS(TRANSACTIONS!$H$6:$H$2000,TRANSACTIONS!$E$6:$E$2000,"ACHATS",TRANSACTIONS!$C$6:$C$2000,A26)) | D26: =IF(A26="","",SUMIFS(TRANSACTIONS!$I$6:$I$2000,TRANSACTIONS!$E$6:$E$2000,"ACHATS",TRANSACTIONS!$C$6:$C$2000,A26)) | E26: =IF(A26="","",SUMIFS(TRANSACTIONS!$J$6:$J$2000,TRANSACTIONS!$E$6:$E$2000,"ACHATS",TRANSACTIONS!$C$6:$C$2000,A26)) | F26: =IF(A26="","",(C26+D26+E26)/B26) | G26: =IF(A26="","",F26*B26) | H26: =IF($A26="","",SUMIFS(TRANSACTIONS!$F$6:$F$2000,TRANSACTIONS!$E$6:$E$2000,"VENTES",TRANSACTIONS!$C$6:$C$2000,A26)) | I26: =IF(G26="","",SUMIFS(TRANSACTIONS!$H$6:$H$2000,TRANSACTIONS!$E$6:$E$2000,"VENTES",TRANSACTIONS!$C$6:$C$2000,A26)) | J26: =IF(G26="","",SUMIFS(TRANSACTIONS!$I$6:$I$2000,TRANSACTIONS!$E$6:$E$2000,"VENTES",TRANSACTIONS!$C$6:$C$2000,A26)) | K26: =IF(A26="","",SUMIFS(TRANSACTIONS!$H$6:$H$2000,TRANSACTIONS!$E$6:$E$2000,"DIVIDENDES",TRANSACTIONS!$C$6:$C$2000,A26)) | L26: =IF(A26="","",IF(H26-B26=0,((I26+J26)-G26)/G26*100,"")) | M26: =IF(A26="","",IF(H26-B26=0,I26-J26-G26,"")) | N26: =IF(M26="","",K26+M26)
B27: =IF(A27="","",SUMIFS(TRANSACTIONS!$F$6:$F$2000,TRANSACTIONS!$E$6:$E$2000,"ACHATS",TRANSACTIONS!$C$6:$C$2000,A27)) | C27: =IF(A27="","",SUMIFS(TRANSACTIONS!$H$6:$H$2000,TRANSACTIONS!$E$6:$E$2000,"ACHATS",TRANSACTIONS!$C$6:$C$2000,A27)) | D27: =IF(A27="","",SUMIFS(TRANSACTIONS!$I$6:$I$2000,TRANSACTIONS!$E$6:$E$2000,"ACHATS",TRANSACTIONS!$C$6:$C$2000,A27)) | E27: =IF(A27="","",SUMIFS(TRANSACTIONS!$J$6:$J$2000,TRANSACTIONS!$E$6:$E$2000,"ACHATS",TRANSACTIONS!$C$6:$C$2000,A27)) | F27: =IF(A27="","",(C27+D27+E27)/B27) | G27: =IF(A27="","",F27*B27) | H27: =IF($A27="","",SUMIFS(TRANSACTIONS!$F$6:$F$2000,TRANSACTIONS!$E$6:$E$2000,"VENTES",TRANSACTIONS!$C$6:$C$2000,A27)) | I27: =IF(G27="","",SUMIFS(TRANSACTIONS!$H$6:$H$2000,TRANSACTIONS!$E$6:$E$2000,"VENTES",TRANSACTIONS!$C$6:$C$2000,A27)) | J27: =IF(G27="","",SUMIFS(TRANSACTIONS!$I$6:$I$2000,TRANSACTIONS!$E$6:$E$2000,"VENTES",TRANSACTIONS!$C$6:$C$2000,A27)) | K27: =IF(A27="","",SUMIFS(TRANSACTIONS!$H$6:$H$2000,TRANSACTIONS!$E$6:$E$2000,"DIVIDENDES",TRANSACTIONS!$C$6:$C$2000,A27)) | L27: =IF(A27="","",IF(H27-B27=0,((I27+J27)-G27)/G27*100,"")) | M27: =IF(A27="","",IF(H27-B27=0,I27-J27-G27,"")) | N27: =IF(M27="","",K27+M27)
