Workbook

Sheet Analyses
A1: Date | B1: Analyse | C1: Date arrondie à l'heure
A2: 43630.083 | B2: Lucie | C2: =ROUND(A2*24,0)/24 -> 43630.083
A3: 43630.25 | B3: Florent | C3: =ROUND(A3*24,0)/24 -> 43630.25
A4: 43631.417 | B4: Pierre | C4: =ROUND(A4*24,0)/24 -> 43631.417
A5: 43633.5 | B5: Mathieu | C5: =ROUND(A5*24,0)/24 -> 43633.5
A6: 43636.875 | B6: Nicolas | C6: =ROUND(A6*24,0)/24 -> 43636.875
A7: 43635.802 | B7: Martine | C7: =ROUND(A7*24,0)/24 -> 43635.792
A8: 43632.625 | B8: Paul | C8: =ROUND(A8*24,0)/24 -> 43632.625
A9: 43633.853 | B9: Jean | C9: =ROUND(A9*24,0)/24 -> 43633.833
A10: 43631.941 | B10: Julien | C10: =ROUND(A10*24,0)/24 -> 43631.958
A11: 43630.999 | B11: Cecilia | C11: =ROUND(A11*24,0)/24 -> 43631
A12: 43630.09 | B12: Bénédicte | C12: =ROUND(A12*24,0)/24 -> 43630.083
A13: 43630.26 | B13: Lucie | C13: =ROUND(A13*24,0)/24 -> 43630.25
... A26: 43631.444 | B26: Bénédicte | C26: =ROUND(A26*24,0)/24 -> 43631.458

Sheet Semaine
A1: 0.041666667
A2: Date: | B2: =TODAY() -> 43630 | C2: ß | D2: Date du jour automatique | R2: ANALYSES DE LA SEMAINE | S2: =B4 -> 24
A4: Semaine : | B4: =WEEKNUM(B2) -> 24 | C4: 0 | D4: =C4+$A$1 -> 0.041666667 | E4: =D4+$A$1 -> 0.083333333 | F4: =E4+$A$1 -> 0.125 | G4: =F4+$A$1 -> 0.16666667 | H4: =G4+$A$1 -> 0.20833333 | I4: =H4+$A$1 -> 0.25 | J4: =I4+$A$1 -> 0.29166667 | K4: =J4+$A$1 -> 0.33333333 | ... Z4: =Y4+$A$1 -> 0.95833333
C5: =$B$8+C$4 -> 43630 | D5: =$B$8+D$4 -> 43630.042 | E5: =$B$8+E$4 -> 43630.083 | F5: =$B$8+F$4 -> 43630.125 | G5: =$B$8+G$4 -> 43630.167 | H5: =$B$8+H$4 -> 43630.208 | I5: =$B$8+I$4 -> 43630.25 | J5: =$B$8+J$4 -> 43630.292 | ... Z5: =$B$8+Z$4 -> 43630.958
A6: =B8 -> 43630 | C6: {=IFERROR(INDEX(Analyses!$B:$B,(SMALL(IF($C$5=Analyses!$C:$C,ROW(Analyses!$C:$C)-MIN(ROW(Analyses!$C$1))+1,""),ROWS(C$6:C6)))),"")} | D6: {=IFERROR(INDEX(Analyses!$B:$B,(SMALL(IF($D$5=Analyses!$C:$C,ROW(Analyses!$C:$C)-MIN(ROW(Analyses!$C$1))+1,""),ROWS(D$6:D6)))),"")} | E6: {=IFERROR(INDEX(Analyses!$B:$B,(SMALL(IF($E$5=Analyses!$C:$C,ROW(Analyses!$C:$C)-MIN(ROW(Analyses!$C$1))+1,""),ROWS(E$6:E6)))),"")} -> Lucie | F6: {=IFERROR(INDEX(Analyses!$B:$B,(SMALL(IF($F$5=Analyses!$C:$C,ROW(Analyses!$C:$C)-MIN(ROW(Analyses!$C$1))+1,""),ROWS(F$6:F6)))),"")} | G6: {=IFERROR(INDEX(Analyses!$B:$B,(SMALL(IF($G$5=Analyses!$C:$C,ROW(Analyses!$C:$C)-MIN(ROW(Analyses!$C$1))+1,""),ROWS(G$6:G6)))),"")} | H6: {=IFERROR(INDEX(Analyses!$B:$B,(SMALL(IF(H$5=Analyses!$C:$C,ROW(Analyses!$C:$C)-MIN(ROW(Analyses!$C$1))+1,""),ROWS(H$6:H6)))),"")} | I6: {=IFERROR(INDEX(Analyses!$B:$B,(SMALL(IF(I$5=Analyses!$C:$C,ROW(Analyses!$C:$C)-MIN(ROW(Analyses!$C$1))+1,""),ROWS(I$6:I6)))),"")} -> Florent | J6: {=IFERROR(INDEX(Analyses!$B:$B,(SMALL(IF(J$5=Analyses!$C:$C,ROW(Analyses!$C:$C)-MIN(ROW(Analyses!$C$1))+1,""),ROWS(J$6:J6)))),"")} | K6: {=IFERROR(INDEX(Analyses!$B:$B,(SMALL(IF(K$5=Analyses!$C:$C,ROW(Analyses!$C:$C)-MIN(ROW(Analyses!$C$1))+1,""),ROWS(K$6:K6)))),"")} | L6: {=IFERROR(INDEX(Analyses!$B:$B,(SMALL(IF(L$5=Analyses!$C:$C,ROW(Analyses!$C:$C)-MIN(ROW(Analyses!$C$1))+1,""),ROWS(L$6:L6)))),"")} | M6: {=IFERROR(INDEX(Analyses!$B:$B,(SMALL(IF(M$5=Analyses!$C:$C,ROW(Analyses!$C:$C)-MIN(ROW(Analyses!$C$1))+1,""),ROWS(M$6:M6)))),"")} | N6: {=IFERROR(INDEX(Analyses!$B:$B,(SMALL(IF(N$5=Analyses!$C:$C,ROW(Analyses!$C:$C)-MIN(ROW(Analyses!$C$1))+1,""),ROWS(N$6:N6)))),"")} | O6: {=IFERROR(INDEX(Analyses!$B:$B,(SMALL(IF(O$5=Analyses!$C:$C,ROW(Analyses!$C:$C)-MIN(ROW(Analyses!$C$1))+1,""),ROWS(O$6:O6)))),"")} | ... Z6: {=IFERROR(INDEX(Analyses!$B:$B,(SMALL(IF(Z$5=Analyses!$C:$C,ROW(Analyses!$C:$C)-MIN(ROW(Analyses!$C$1))+1,""),ROWS(Z$6:Z6)))),"")}
C7: {=IFERROR(INDEX(Analyses!$B:$B,(SMALL(IF($C$5=Analyses!$C:$C,ROW(Analyses!$C:$C)-MIN(ROW(Analyses!$C$1))+1,""),ROWS(C$6:C7)))),"")} | D7: {=IFERROR(INDEX(Analyses!$B:$B,(SMALL(IF($D$5=Analyses!$C:$C,ROW(Analyses!$C:$C)-MIN(ROW(Analyses!$C$1))+1,""),ROWS(D$6:D7)))),"")} | E7: {=IFERROR(INDEX(Analyses!$B:$B,(SMALL(IF($E$5=Analyses!$C:$C,ROW(Analyses!$C:$C)-MIN(ROW(Analyses!$C$1))+1,""),ROWS(E$6:E7)))),"")} -> Bénédicte | F7: {=IFERROR(INDEX(Analyses!$B:$B,(SMALL(IF($F$5=Analyses!$C:$C,ROW(Analyses!$C:$C)-MIN(ROW(Analyses!$C$1))+1,""),ROWS(F$6:F7)))),"")} | G7: {=IFERROR(INDEX(Analyses!$B:$B,(SMALL(IF($G$5=Analyses!$C:$C,ROW(Analyses!$C:$C)-MIN(ROW(Analyses!$C$1))+1,""),ROWS(G$6:G7)))),"")} | H7: {=IFERROR(INDEX(Analyses!$B:$B,(SMALL(IF(H$5=Analyses!$C:$C,ROW(Analyses!$C:$C)-MIN(ROW(Analyses!$C$1))+1,""),ROWS(H$6:H7)))),"")} | I7: {=IFERROR(INDEX(Analyses!$B:$B,(SMALL(IF(I$5=Analyses!$C:$C,ROW(Analyses!$C:$C)-MIN(ROW(Analyses!$C$1))+1,""),ROWS(I$6:I7)))),"")} -> Lucie | J7: {=IFERROR(INDEX(Analyses!$B:$B,(SMALL(IF(J$5=Analyses!$C:$C,ROW(Analyses!$C:$C)-MIN(ROW(Analyses!$C$1))+1,""),ROWS(J$6:J7)))),"")} | K7: {=IFERROR(INDEX(Analyses!$B:$B,(SMALL(IF(K$5=Analyses!$C:$C,ROW(Analyses!$C:$C)-MIN(ROW(Analyses!$C$1))+1,""),ROWS(K$6:K7)))),"")} | L7: {=IFERROR(INDEX(Analyses!$B:$B,(SMALL(IF(L$5=Analyses!$C:$C,ROW(Analyses!$C:$C)-MIN(ROW(Analyses!$C$1))+1,""),ROWS(L$6:L7)))),"")} | M7: {=IFERROR(INDEX(Analyses!$B:$B,(SMALL(IF(M$5=Analyses!$C:$C,ROW(Analyses!$C:$C)-MIN(ROW(Analyses!$C$1))+1,""),ROWS(M$6:M7)))),"")} | N7: {=IFERROR(INDEX(Analyses!$B:$B,(SMALL(IF(N$5=Analyses!$C:$C,ROW(Analyses!$C:$C)-MIN(ROW(Analyses!$C$1))+1,""),ROWS(N$6:N7)))),"")} | O7: {=IFERROR(INDEX(Analyses!$B:$B,(SMALL(IF(O$5=Analyses!$C:$C,ROW(Analyses!$C:$C)-MIN(ROW(Analyses!$C$1))+1,""),ROWS(O$6:O7)))),"")} | ... Z7: {=IFERROR(INDEX(Analyses!$B:$B,(SMALL(IF(Z$5=Analyses!$C:$C,ROW(Analyses!$C:$C)-MIN(ROW(Analyses!$C$1))+1,""),ROWS(Z$6:Z7)))),"")}
B8: =B2 -> 43630 | C8: {=IFERROR(INDEX(Analyses!$B:$B,(SMALL(IF($C$5=Analyses!$C:$C,ROW(Analyses!$C:$C)-MIN(ROW(Analyses!$C$1))+1,""),ROWS(C$6:C8)))),"")} | D8: {=IFERROR(INDEX(Analyses!$B:$B,(SMALL(IF($D$5=Analyses!$C:$C,ROW(Analyses!$C:$C)-MIN(ROW(Analyses!$C$1))+1,""),ROWS(D$6:D8)))),"")} | E8: {=IFERROR(INDEX(Analyses!$B:$B,(SMALL(IF($E$5=Analyses!$C:$C,ROW(Analyses!$C:$C)-MIN(ROW(Analyses!$C$1))+1,""),ROWS(E$6:E8)))),"")} -> Julien | F8: {=IFERROR(INDEX(Analyses!$B:$B,(SMALL(IF($F$5=Analyses!$C:$C,ROW(Analyses!$C:$C)-MIN(ROW(Analyses!$C$1))+1,""),ROWS(F$6:F8)))),"")} | G8: {=IFERROR(INDEX(Analyses!$B:$B,(SMALL(IF($G$5=Analyses!$C:$C,ROW(Analyses!$C:$C)-MIN(ROW(Analyses!$C$1))+1,""),ROWS(G$6:G8)))),"")} | H8: {=IFERROR(INDEX(Analyses!$B:$B,(SMALL(IF(H$5=Analyses!$C:$C,ROW(Analyses!$C:$C)-MIN(ROW(Analyses!$C$1))+1,""),ROWS(H$6:H8)))),"")} | I8: {=IFERROR(INDEX(Analyses!$B:$B,(SMALL(IF(I$5=Analyses!$C:$C,ROW(Analyses!$C:$C)-MIN(ROW(Analyses!$C$1))+1,""),ROWS(I$6:I8)))),"")} -> Cecilia | J8: {=IFERROR(INDEX(Analyses!$B:$B,(SMALL(IF(J$5=Analyses!$C:$C,ROW(Analyses!$C:$C)-MIN(ROW(Analyses!$C$1))+1,""),ROWS(J$6:J8)))),"")} | K8: {=IFERROR(INDEX(Analyses!$B:$B,(SMALL(IF(K$5=Analyses!$C:$C,ROW(Analyses!$C:$C)-MIN(ROW(Analyses!$C$1))+1,""),ROWS(K$6:K8)))),"")} | L8: {=IFERROR(INDEX(Analyses!$B:$B,(SMALL(IF(L$5=Analyses!$C:$C,ROW(Analyses!$C:$C)-MIN(ROW(Analyses!$C$1))+1,""),ROWS(L$6:L8)))),"")} | M8: {=IFERROR(INDEX(Analyses!$B:$B,(SMALL(IF(M$5=Analyses!$C:$C,ROW(Analyses!$C:$C)-MIN(ROW(Analyses!$C$1))+1,""),ROWS(M$6:M8)))),"")} | N8: {=IFERROR(INDEX(Analyses!$B:$B,(SMALL(IF(N$5=Analyses!$C:$C,ROW(Analyses!$C:$C)-MIN(ROW(Analyses!$C$1))+1,""),ROWS(N$6:N8)))),"")} | O8: {=IFERROR(INDEX(Analyses!$B:$B,(SMALL(IF(O$5=Analyses!$C:$C,ROW(Analyses!$C:$C)-MIN(ROW(Analyses!$C$1))+1,""),ROWS(O$6:O8)))),"")} | ... Z8: {=IFERROR(INDEX(Analyses!$B:$B,(SMALL(IF(Z$5=Analyses!$C:$C,ROW(Analyses!$C:$C)-MIN(ROW(Analyses!$C$1))+1,""),ROWS(Z$6:Z8)))),"")}
C9: {=IFERROR(INDEX(Analyses!$B:$B,(SMALL(IF($C$5=Analyses!$C:$C,ROW(Analyses!$C:$C)-MIN(ROW(Analyses!$C$1))+1,""),ROWS(C$6:C9)))),"")} | D9: {=IFERROR(INDEX(Analyses!$B:$B,(SMALL(IF($D$5=Analyses!$C:$C,ROW(Analyses!$C:$C)-MIN(ROW(Analyses!$C$1))+1,""),ROWS(D$6:D9)))),"")} | E9: {=IFERROR(INDEX(Analyses!$B:$B,(SMALL(IF($E$5=Analyses!$C:$C,ROW(Analyses!$C:$C)-MIN(ROW(Analyses!$C$1))+1,""),ROWS(E$6:E9)))),"")} | F9: {=IFERROR(INDEX(Analyses!$B:$B,(SMALL(IF($F$5=Analyses!$C:$C,ROW(Analyses!$C:$C)-MIN(ROW(Analyses!$C$1))+1,""),ROWS(F$6:F9)))),"")} | G9: {=IFERROR(INDEX(Analyses!$B:$B,(SMALL(IF($G$5=Analyses!$C:$C,ROW(Analyses!$C:$C)-MIN(ROW(Analyses!$C$1))+1,""),ROWS(G$6:G9)))),"")} | H9: {=IFERROR(INDEX(Analyses!$B:$B,(SMALL(IF(H$5=Analyses!$C:$C,ROW(Analyses!$C:$C)-MIN(ROW(Analyses!$C$1))+1,""),ROWS(H$6:H9)))),"")} | I9: {=IFERROR(INDEX(Analyses!$B:$B,(SMALL(IF(I$5=Analyses!$C:$C,ROW(Analyses!$C:$C)-MIN(ROW(Analyses!$C$1))+1,""),ROWS(I$6:I9)))),"")} | J9: {=IFERROR(INDEX(Analyses!$B:$B,(SMALL(IF(J$5=Analyses!$C:$C,ROW(Analyses!$C:$C)-MIN(ROW(Analyses!$C$1))+1,""),ROWS(J$6:J9)))),"")} | K9: {=IFERROR(INDEX(Analyses!$B:$B,(SMALL(IF(K$5=Analyses!$C:$C,ROW(Analyses!$C:$C)-MIN(ROW(Analyses!$C$1))+1,""),ROWS(K$6:K9)))),"")} | L9: {=IFERROR(INDEX(Analyses!$B:$B,(SMALL(IF(L$5=Analyses!$C:$C,ROW(Analyses!$C:$C)-MIN(ROW(Analyses!$C$1))+1,""),ROWS(L$6:L9)))),"")} | M9: {=IFERROR(INDEX(Analyses!$B:$B,(SMALL(IF(M$5=Analyses!$C:$C,ROW(Analyses!$C:$C)-MIN(ROW(Analyses!$C$1))+1,""),ROWS(M$6:M9)))),"")} | N9: {=IFERROR(INDEX(Analyses!$B:$B,(SMALL(IF(N$5=Analyses!$C:$C,ROW(Analyses!$C:$C)-MIN(ROW(Analyses!$C$1))+1,""),ROWS(N$6:N9)))),"")} | O9: {=IFERROR(INDEX(Analyses!$B:$B,(SMALL(IF(O$5=Analyses!$C:$C,ROW(Analyses!$C:$C)-MIN(ROW(Analyses!$C$1))+1,""),ROWS(O$6:O9)))),"")} | ... Z9: {=IFERROR(INDEX(Analyses!$B:$B,(SMALL(IF(Z$5=Analyses!$C:$C,ROW(Analyses!$C:$C)-MIN(ROW(Analyses!$C$1))+1,""),ROWS(Z$6:Z9)))),"")}
A10: =B13 -> 43631 | C10: =$B$13+C$4 -> 43631 | D10: =$B$13+D$4 -> 43631.042 | E10: =$B$13+E$4 -> 43631.083 | F10: =$B$13+F$4 -> 43631.125 | G10: =$B$13+G$4 -> 43631.167 | H10: =$B$13+H$4 -> 43631.208 | I10: =$B$13+I$4 -> 43631.25 | J10: =$B$13+J$4 -> 43631.292 | ... Z10: =$B$13+Z$4 -> 43631.958
C11: {=IFERROR(INDEX(Analyses!$B:$B,(SMALL(IF($C$10=Analyses!$C:$C,ROW(Analyses!$C:$C)-MIN(ROW(Analyses!$C$1))+1,""),ROWS(C$11:C11)))),"")} -> Cecilia | D11: {=IFERROR(INDEX(Analyses!$B:$B,(SMALL(IF($D$10=Analyses!$C:$C,ROW(Analyses!$C:$C)-MIN(ROW(Analyses!$C$1))+1,""),ROWS(D$11:D11)))),"")} | E11: {=IFERROR(INDEX(Analyses!$B:$B,(SMALL(IF($F$10=Analyses!$C:$C,ROW(Analyses!$C:$C)-MIN(ROW(Analyses!$C$1))+1,""),ROWS(E$11:E11)))),"")} | F11: {=IFERROR(INDEX(Analyses!$B:$B,(SMALL(IF($F$10=Analyses!$C:$C,ROW(Analyses!$C:$C)-MIN(ROW(Analyses!$C$1))+1,""),ROWS(F$11:F11)))),"")} | G11: {=IFERROR(INDEX(Analyses!$B:$B,(SMALL(IF($G$10=Analyses!$C:$C,ROW(Analyses!$C:$C)-MIN(ROW(Analyses!$C$1))+1,""),ROWS(G$11:G11)))),"")} | H11: {=IFERROR(INDEX(Analyses!$B:$B,(SMALL(IF($H$10=Analyses!$C:$C,ROW(Analyses!$C:$C)-MIN(ROW(Analyses!$C$1))+1,""),ROWS(H$11:H11)))),"")} | I11: {=IFERROR(INDEX(Analyses!$B:$B,(SMALL(IF($I$10=Analyses!$C:$C,ROW(Analyses!$C:$C)-MIN(ROW(Analyses!$C$1))+1,""),ROWS(I$11:I11)))),"")} | J11: {=IFERROR(INDEX(Analyses!$B:$B,(SMALL(IF($J$10=Analyses!$C:$C,ROW(Analyses!$C:$C)-MIN(ROW(Analyses!$C$1))+1,""),ROWS(J$11:J11)))),"")} | K11: {=IFERROR(INDEX(Analyses!$B:$B,(SMALL(IF($K$10=Analyses!$C:$C,ROW(Analyses!$C:$C)-MIN(ROW(Analyses!$C$1))+1,""),ROWS(K$11:K11)))),"")} | L11: {=IFERROR(INDEX(Analyses!$B:$B,(SMALL(IF($L$10=Analyses!$C:$C,ROW(Analyses!$C:$C)-MIN(ROW(Analyses!$C$1))+1,""),ROWS(L$11:L11)))),"")} | M11: {=IFERROR(INDEX(Analyses!$B:$B,(SMALL(IF($M$10=Analyses!$C:$C,ROW(Analyses!$C:$C)-MIN(ROW(Analyses!$C$1))+1,""),ROWS(M$11:M11)))),"")} -> Pierre | N11: {=IFERROR(INDEX(Analyses!$B:$B,(SMALL(IF($N$10=Analyses!$C:$C,ROW(Analyses!$C:$C)-MIN(ROW(Analyses!$C$1))+1,""),ROWS(N$11:N11)))),"")} -> Florent | O11: {=IFERROR(INDEX(Analyses!$B:$B,(SMALL(IF($O$10=Analyses!$C:$C,ROW(Analyses!$C:$C)-MIN(ROW(Analyses!$C$1))+1,""),ROWS(O$11:O11)))),"")} | P11: {=IFERROR(INDEX(Analyses!$B:$B,(SMALL(IF($P$10=Analyses!$C:$C,ROW(Analyses!$C:$C)-MIN(ROW(Analyses!$C$1))+1,""),ROWS(P$11:P11)))),"")} | Q11: {=IFERROR(INDEX(Analyses!$B:$B,(SMALL(IF($Q$10=Analyses!$C:$C,ROW(Analyses!$C:$C)-MIN(ROW(Analyses!$C$1))+1,""),ROWS(Q$11:Q11)))),"")} | R11: {=IFERROR(INDEX(Analyses!$B:$B,(SMALL(IF($R$10=Analyses!$C:$C,ROW(Analyses!$C:$C)-MIN(ROW(Analyses!$C$1))+1,""),ROWS(R$11:R11)))),"")} | S11: {=IFERROR(INDEX(Analyses!$B:$B,(SMALL(IF($J$10=Analyses!$C:$C,ROW(Analyses!$C:$C)-MIN(ROW(Analyses!$C$1))+1,""),ROWS(S$11:S11)))),"")} | T11: {=IFERROR(INDEX(Analyses!$B:$B,(SMALL(IF($K$10=Analyses!$C:$C,ROW(Analyses!$C:$C)-MIN(ROW(Analyses!$C$1))+1,""),ROWS(T$11:T11)))),"")} | U11: {=IFERROR(INDEX(Analyses!$B:$B,(SMALL(IF($L$10=Analyses!$C:$C,ROW(Analyses!$C:$C)-MIN(ROW(Analyses!$C$1))+1,""),ROWS(U$11:U11)))),"")} | V11: {=IFERROR(INDEX(Analyses!$B:$B,(SMALL(IF($M$10=Analyses!$C:$C,ROW(Analyses!$C:$C)-MIN(ROW(Analyses!$C$1))+1,""),ROWS(V$11:V11)))),"")} -> Pierre | W11: {=IFERROR(INDEX(Analyses!$B:$B,(SMALL(IF($N$10=Analyses!$C:$C,ROW(Analyses!$C:$C)-MIN(ROW(Analyses!$C$1))+1,""),ROWS(W$11:W11)))),"")} -> Florent | X11: {=IFERROR(INDEX(Analyses!$B:$B,(SMALL(IF($O$10=Analyses!$C:$C,ROW(Analyses!$C:$C)-MIN(ROW(Analyses!$C$1))+1,""),ROWS(X$11:X11)))),"")} | Y11: {=IFERROR(INDEX(Analyses!$B:$B,(SMALL(IF($P$10=Analyses!$C:$C,ROW(Analyses!$C:$C)-MIN(ROW(Analyses!$C$1))+1,""),ROWS(Y$11:Y11)))),"")} | Z11: {=IFERROR(INDEX(Analyses!$B:$B,(SMALL(IF($Q$10=Analyses!$C:$C,ROW(Analyses!$C:$C)-MIN(ROW(Analyses!$C$1))+1,""),ROWS(Z$11:Z11)))),"")}
C12: {=IFERROR(INDEX(Analyses!$B:$B,(SMALL(IF($C$10=Analyses!$C:$C,ROW(Analyses!$C:$C)-MIN(ROW(Analyses!$C$1))+1,""),ROWS(C$11:C12)))),"")} -> Bénédicte | D12: {=IFERROR(INDEX(Analyses!$B:$B,(SMALL(IF($D$10=Analyses!$C:$C,ROW(Analyses!$C:$C)-MIN(ROW(Analyses!$C$1))+1,""),ROWS(D$11:D12)))),"")} | E12: {=IFERROR(INDEX(Analyses!$B:$B,(SMALL(IF($F$10=Analyses!$C:$C,ROW(Analyses!$C:$C)-MIN(ROW(Analyses!$C$1))+1,""),ROWS(E$11:E12)))),"")} | F12: {=IFERROR(INDEX(Analyses!$B:$B,(SMALL(IF($F$10=Analyses!$C:$C,ROW(Analyses!$C:$C)-MIN(ROW(Analyses!$C$1))+1,""),ROWS(F$11:F12)))),"")} | G12: {=IFERROR(INDEX(Analyses!$B:$B,(SMALL(IF($G$10=Analyses!$C:$C,ROW(Analyses!$C:$C)-MIN(ROW(Analyses!$C$1))+1,""),ROWS(G$11:G12)))),"")} | H12: {=IFERROR(INDEX(Analyses!$B:$B,(SMALL(IF($H$10=Analyses!$C:$C,ROW(Analyses!$C:$C)-MIN(ROW(Analyses!$C$1))+1,""),ROWS(H$11:H12)))),"")} | I12: {=IFERROR(INDEX(Analyses!$B:$B,(SMALL(IF($I$10=Analyses!$C:$C,ROW(Analyses!$C:$C)-MIN(ROW(Analyses!$C$1))+1,""),ROWS(I$11:I12)))),"")} | J12: {=IFERROR(INDEX(Analyses!$B:$B,(SMALL(IF($J$10=Analyses!$C:$C,ROW(Analyses!$C:$C)-MIN(ROW(Analyses!$C$1))+1,""),ROWS(J$11:J12)))),"")} | K12: {=IFERROR(INDEX(Analyses!$B:$B,(SMALL(IF($K$10=Analyses!$C:$C,ROW(Analyses!$C:$C)-MIN(ROW(Analyses!$C$1))+1,""),ROWS(K$11:K12)))),"")} | L12: {=IFERROR(INDEX(Analyses!$B:$B,(SMALL(IF($L$10=Analyses!$C:$C,ROW(Analyses!$C:$C)-MIN(ROW(Analyses!$C$1))+1,""),ROWS(L$11:L12)))),"")} | M12: {=IFERROR(INDEX(Analyses!$B:$B,(SMALL(IF($M$10=Analyses!$C:$C,ROW(Analyses!$C:$C)-MIN(ROW(Analyses!$C$1))+1,""),ROWS(M$11:M12)))),"")} | N12: {=IFERROR(INDEX(Analyses!$B:$B,(SMALL(IF($N$10=Analyses!$C:$C,ROW(Analyses!$C:$C)-MIN(ROW(Analyses!$C$1))+1,""),ROWS(N$11:N12)))),"")} -> Bénédicte | O12: {=IFERROR(INDEX(Analyses!$B:$B,(SMALL(IF($O$10=Analyses!$C:$C,ROW(Analyses!$C:$C)-MIN(ROW(Analyses!$C$1))+1,""),ROWS(O$11:O12)))),"")} | P12: {=IFERROR(INDEX(Analyses!$B:$B,(SMALL(IF($P$10=Analyses!$C:$C,ROW(Analyses!$C:$C)-MIN(ROW(Analyses!$C$1))+1,""),ROWS(P$11:P12)))),"")} | Q12: {=IFERROR(INDEX(Analyses!$B:$B,(SMALL(IF($Q$10=Analyses!$C:$C,ROW(Analyses!$C:$C)-MIN(ROW(Analyses!$C$1))+1,""),ROWS(Q$11:Q12)))),"")} | R12: {=IFERROR(INDEX(Analyses!$B:$B,(SMALL(IF($R$10=Analyses!$C:$C,ROW(Analyses!$C:$C)-MIN(ROW(Analyses!$C$1))+1,""),ROWS(R$11:R12)))),"")} | S12: {=IFERROR(INDEX(Analyses!$B:$B,(SMALL(IF($J$10=Analyses!$C:$C,ROW(Analyses!$C:$C)-MIN(ROW(Analyses!$C$1))+1,""),ROWS(S$11:S12)))),"")} | T12: {=IFERROR(INDEX(Analyses!$B:$B,(SMALL(IF($K$10=Analyses!$C:$C,ROW(Analyses!$C:$C)-MIN(ROW(Analyses!$C$1))+1,""),ROWS(T$11:T12)))),"")} | U12: {=IFERROR(INDEX(Analyses!$B:$B,(SMALL(IF($L$10=Analyses!$C:$C,ROW(Analyses!$C:$C)-MIN(ROW(Analyses!$C$1))+1,""),ROWS(U$11:U12)))),"")} | V12: {=IFERROR(INDEX(Analyses!$B:$B,(SMALL(IF($M$10=Analyses!$C:$C,ROW(Analyses!$C:$C)-MIN(ROW(Analyses!$C$1))+1,""),ROWS(V$11:V12)))),"")} | W12: {=IFERROR(INDEX(Analyses!$B:$B,(SMALL(IF($N$10=Analyses!$C:$C,ROW(Analyses!$C:$C)-MIN(ROW(Analyses!$C$1))+1,""),ROWS(W$11:W12)))),"")} -> Bénédicte | X12: {=IFERROR(INDEX(Analyses!$B:$B,(SMALL(IF($O$10=Analyses!$C:$C,ROW(Analyses!$C:$C)-MIN(ROW(Analyses!$C$1))+1,""),ROWS(X$11:X12)))),"")} | Y12: {=IFERROR(INDEX(Analyses!$B:$B,(SMALL(IF($P$10=Analyses!$C:$C,ROW(Analyses!$C:$C)-MIN(ROW(Analyses!$C$1))+1,""),ROWS(Y$11:Y12)))),"")} | Z12: {=IFERROR(INDEX(Analyses!$B:$B,(SMALL(IF($Q$10=Analyses!$C:$C,ROW(Analyses!$C:$C)-MIN(ROW(Analyses!$C$1))+1,""),ROWS(Z$11:Z12)))),"")}
B13: =B8+1 -> 43631 | C13: {=IFERROR(INDEX(Analyses!$B:$B,(SMALL(IF($C$10=Analyses!$C:$C,ROW(Analyses!$C:$C)-MIN(ROW(Analyses!$C$1))+1,""),ROWS(C$11:C13)))),"")} | D13: {=IFERROR(INDEX(Analyses!$B:$B,(SMALL(IF($D$10=Analyses!$C:$C,ROW(Analyses!$C:$C)-MIN(ROW(Analyses!$C$1))+1,""),ROWS(D$11:D13)))),"")} | E13: {=IFERROR(INDEX(Analyses!$B:$B,(SMALL(IF($F$10=Analyses!$C:$C,ROW(Analyses!$C:$C)-MIN(ROW(Analyses!$C$1))+1,""),ROWS(E$11:E13)))),"")} | F13: {=IFERROR(INDEX(Analyses!$B:$B,(SMALL(IF($F$10=Analyses!$C:$C,ROW(Analyses!$C:$C)-MIN(ROW(Analyses!$C$1))+1,""),ROWS(F$11:F13)))),"")} | G13: {=IFERROR(INDEX(Analyses!$B:$B,(SMALL(IF($G$10=Analyses!$C:$C,ROW(Analyses!$C:$C)-MIN(ROW(Analyses!$C$1))+1,""),ROWS(G$11:G13)))),"")} | H13: {=IFERROR(INDEX(Analyses!$B:$B,(SMALL(IF($H$10=Analyses!$C:$C,ROW(Analyses!$C:$C)-MIN(ROW(Analyses!$C$1))+1,""),ROWS(H$11:H13)))),"")} | I13: {=IFERROR(INDEX(Analyses!$B:$B,(SMALL(IF($I$10=Analyses!$C:$C,ROW(Analyses!$C:$C)-MIN(ROW(Analyses!$C$1))+1,""),ROWS(I$11:I13)))),"")} | J13: {=IFERROR(INDEX(Analyses!$B:$B,(SMALL(IF($J$10=Analyses!$C:$C,ROW(Analyses!$C:$C)-MIN(ROW(Analyses!$C$1))+1,""),ROWS(J$11:J13)))),"")} | K13: {=IFERROR(INDEX(Analyses!$B:$B,(SMALL(IF($K$10=Analyses!$C:$C,ROW(Analyses!$C:$C)-MIN(ROW(Analyses!$C$1))+1,""),ROWS(K$11:K13)))),"")} | L13: {=IFERROR(INDEX(Analyses!$B:$B,(SMALL(IF($L$10=Analyses!$C:$C,ROW(Analyses!$C:$C)-MIN(ROW(Analyses!$C$1))+1,""),ROWS(L$11:L13)))),"")} | M13: {=IFERROR(INDEX(Analyses!$B:$B,(SMALL(IF($M$10=Analyses!$C:$C,ROW(Analyses!$C:$C)-MIN(ROW(Analyses!$C$1))+1,""),ROWS(M$11:M13)))),"")} | N13: {=IFERROR(INDEX(Analyses!$B:$B,(SMALL(IF($N$10=Analyses!$C:$C,ROW(Analyses!$C:$C)-MIN(ROW(Analyses!$C$1))+1,""),ROWS(N$11:N13)))),"")} | O13: {=IFERROR(INDEX(Analyses!$B:$B,(SMALL(IF($O$10=Analyses!$C:$C,ROW(Analyses!$C:$C)-MIN(ROW(Analyses!$C$1))+1,""),ROWS(O$11:O13)))),"")} | P13: {=IFERROR(INDEX(Analyses!$B:$B,(SMALL(IF($P$10=Analyses!$C:$C,ROW(Analyses!$C:$C)-MIN(ROW(Analyses!$C$1))+1,""),ROWS(P$11:P13)))),"")} | Q13: {=IFERROR(INDEX(Analyses!$B:$B,(SMALL(IF($Q$10=Analyses!$C:$C,ROW(Analyses!$C:$C)-MIN(ROW(Analyses!$C$1))+1,""),ROWS(Q$11:Q13)))),"")} | R13: {=IFERROR(INDEX(Analyses!$B:$B,(SMALL(IF($R$10=Analyses!$C:$C,ROW(Analyses!$C:$C)-MIN(ROW(Analyses!$C$1))+1,""),ROWS(R$11:R13)))),"")} | S13: {=IFERROR(INDEX(Analyses!$B:$B,(SMALL(IF($J$10=Analyses!$C:$C,ROW(Analyses!$C:$C)-MIN(ROW(Analyses!$C$1))+1,""),ROWS(S$11:S13)))),"")} | T13: {=IFERROR(INDEX(Analyses!$B:$B,(SMALL(IF($K$10=Analyses!$C:$C,ROW(Analyses!$C:$C)-MIN(ROW(Analyses!$C$1))+1,""),ROWS(T$11:T13)))),"")} | U13: {=IFERROR(INDEX(Analyses!$B:$B,(SMALL(IF($L$10=Analyses!$C:$C,ROW(Analyses!$C:$C)-MIN(ROW(Analyses!$C$1))+1,""),ROWS(U$11:U13)))),"")} | V13: {=IFERROR(INDEX(Analyses!$B:$B,(SMALL(IF($M$10=Analyses!$C:$C,ROW(Analyses!$C:$C)-MIN(ROW(Analyses!$C$1))+1,""),ROWS(V$11:V13)))),"")} | W13: {=IFERROR(INDEX(Analyses!$B:$B,(SMALL(IF($N$10=Analyses!$C:$C,ROW(Analyses!$C:$C)-MIN(ROW(Analyses!$C$1))+1,""),ROWS(W$11:W13)))),"")} | X13: {=IFERROR(INDEX(Analyses!$B:$B,(SMALL(IF($O$10=Analyses!$C:$C,ROW(Analyses!$C:$C)-MIN(ROW(Analyses!$C$1))+1,""),ROWS(X$11:X13)))),"")} | Y13: {=IFERROR(INDEX(Analyses!$B:$B,(SMALL(IF($P$10=Analyses!$C:$C,ROW(Analyses!$C:$C)-MIN(ROW(Analyses!$C$1))+1,""),ROWS(Y$11:Y13)))),"")} | Z13: {=IFERROR(INDEX(Analyses!$B:$B,(SMALL(IF($Q$10=Analyses!$C:$C,ROW(Analyses!$C:$C)-MIN(ROW(Analyses!$C$1))+1,""),ROWS(Z$11:Z13)))),"")}
C14: {=IFERROR(INDEX(Analyses!$B:$B,(SMALL(IF($C$10=Analyses!$C:$C,ROW(Analyses!$C:$C)-MIN(ROW(Analyses!$C$1))+1,""),ROWS(C$11:C14)))),"")} | D14: {=IFERROR(INDEX(Analyses!$B:$B,(SMALL(IF($D$10=Analyses!$C:$C,ROW(Analyses!$C:$C)-MIN(ROW(Analyses!$C$1))+1,""),ROWS(D$11:D14)))),"")} | E14: {=IFERROR(INDEX(Analyses!$B:$B,(SMALL(IF($F$10=Analyses!$C:$C,ROW(Analyses!$C:$C)-MIN(ROW(Analyses!$C$1))+1,""),ROWS(E$11:E14)))),"")} | F14: {=IFERROR(INDEX(Analyses!$B:$B,(SMALL(IF($F$10=Analyses!$C:$C,ROW(Analyses!$C:$C)-MIN(ROW(Analyses!$C$1))+1,""),ROWS(F$11:F14)))),"")} | G14: {=IFERROR(INDEX(Analyses!$B:$B,(SMALL(IF($G$10=Analyses!$C:$C,ROW(Analyses!$C:$C)-MIN(ROW(Analyses!$C$1))+1,""),ROWS(G$11:G14)))),"")} | H14: {=IFERROR(INDEX(Analyses!$B:$B,(SMALL(IF($H$10=Analyses!$C:$C,ROW(Analyses!$C:$C)-MIN(ROW(Analyses!$C$1))+1,""),ROWS(H$11:H14)))),"")} | I14: {=IFERROR(INDEX(Analyses!$B:$B,(SMALL(IF($I$10=Analyses!$C:$C,ROW(Analyses!$C:$C)-MIN(ROW(Analyses!$C$1))+1,""),ROWS(I$11:I14)))),"")} | J14: {=IFERROR(INDEX(Analyses!$B:$B,(SMALL(IF($J$10=Analyses!$C:$C,ROW(Analyses!$C:$C)-MIN(ROW(Analyses!$C$1))+1,""),ROWS(J$11:J14)))),"")} | K14: {=IFERROR(INDEX(Analyses!$B:$B,(SMALL(IF($K$10=Analyses!$C:$C,ROW(Analyses!$C:$C)-MIN(ROW(Analyses!$C$1))+1,""),ROWS(K$11:K14)))),"")} | L14: {=IFERROR(INDEX(Analyses!$B:$B,(SMALL(IF($L$10=Analyses!$C:$C,ROW(Analyses!$C:$C)-MIN(ROW(Analyses!$C$1))+1,""),ROWS(L$11:L14)))),"")} | M14: {=IFERROR(INDEX(Analyses!$B:$B,(SMALL(IF($M$10=Analyses!$C:$C,ROW(Analyses!$C:$C)-MIN(ROW(Analyses!$C$1))+1,""),ROWS(M$11:M14)))),"")} | N14: {=IFERROR(INDEX(Analyses!$B:$B,(SMALL(IF($N$10=Analyses!$C:$C,ROW(Analyses!$C:$C)-MIN(ROW(Analyses!$C$1))+1,""),ROWS(N$11:N14)))),"")} | O14: {=IFERROR(INDEX(Analyses!$B:$B,(SMALL(IF($O$10=Analyses!$C:$C,ROW(Analyses!$C:$C)-MIN(ROW(Analyses!$C$1))+1,""),ROWS(O$11:O14)))),"")} | P14: {=IFERROR(INDEX(Analyses!$B:$B,(SMALL(IF($P$10=Analyses!$C:$C,ROW(Analyses!$C:$C)-MIN(ROW(Analyses!$C$1))+1,""),ROWS(P$11:P14)))),"")} | Q14: {=IFERROR(INDEX(Analyses!$B:$B,(SMALL(IF($Q$10=Analyses!$C:$C,ROW(Analyses!$C:$C)-MIN(ROW(Analyses!$C$1))+1,""),ROWS(Q$11:Q14)))),"")} | R14: {=IFERROR(INDEX(Analyses!$B:$B,(SMALL(IF($R$10=Analyses!$C:$C,ROW(Analyses!$C:$C)-MIN(ROW(Analyses!$C$1))+1,""),ROWS(R$11:R14)))),"")} | S14: {=IFERROR(INDEX(Analyses!$B:$B,(SMALL(IF($J$10=Analyses!$C:$C,ROW(Analyses!$C:$C)-MIN(ROW(Analyses!$C$1))+1,""),ROWS(S$11:S14)))),"")} | T14: {=IFERROR(INDEX(Analyses!$B:$B,(SMALL(IF($K$10=Analyses!$C:$C,ROW(Analyses!$C:$C)-MIN(ROW(Analyses!$C$1))+1,""),ROWS(T$11:T14)))),"")} | U14: {=IFERROR(INDEX(Analyses!$B:$B,(SMALL(IF($L$10=Analyses!$C:$C,ROW(Analyses!$C:$C)-MIN(ROW(Analyses!$C$1))+1,""),ROWS(U$11:U14)))),"")} | V14: {=IFERROR(INDEX(Analyses!$B:$B,(SMALL(IF($M$10=Analyses!$C:$C,ROW(Analyses!$C:$C)-MIN(ROW(Analyses!$C$1))+1,""),ROWS(V$11:V14)))),"")} | W14: {=IFERROR(INDEX(Analyses!$B:$B,(SMALL(IF($N$10=Analyses!$C:$C,ROW(Analyses!$C:$C)-MIN(ROW(Analyses!$C$1))+1,""),ROWS(W$11:W14)))),"")} | X14: {=IFERROR(INDEX(Analyses!$B:$B,(SMALL(IF($O$10=Analyses!$C:$C,ROW(Analyses!$C:$C)-MIN(ROW(Analyses!$C$1))+1,""),ROWS(X$11:X14)))),"")} | Y14: {=IFERROR(INDEX(Analyses!$B:$B,(SMALL(IF($P$10=Analyses!$C:$C,ROW(Analyses!$C:$C)-MIN(ROW(Analyses!$C$1))+1,""),ROWS(Y$11:Y14)))),"")} | Z14: {=IFERROR(INDEX(Analyses!$B:$B,(SMALL(IF($Q$10=Analyses!$C:$C,ROW(Analyses!$C:$C)-MIN(ROW(Analyses!$C$1))+1,""),ROWS(Z$11:Z14)))),"")}
A15: =B18 -> 43632 | C15: =$B$18+C$4 -> 43632 | D15: =$B$18+D$4 -> 43632.042 | E15: =$B$18+E$4 -> 43632.083 | F15: =$B$18+F$4 -> 43632.125 | G15: =$B$18+G$4 -> 43632.167 | H15: =$B$18+H$4 -> 43632.208 | I15: =$B$18+I$4 -> 43632.25 | J15: =$B$18+J$4 -> 43632.292 | ... Z15: =$B$18+Z$4 -> 43632.958
C16: {=IFERROR(INDEX(Analyses!$B:$B,(SMALL(IF(C$15=Analyses!$C:$C,ROW(Analyses!$C:$C)-MIN(ROW(Analyses!$C$1))+1,""),ROWS(C$16:C16)))),"")} | D16: {=IFERROR(INDEX(Analyses!$B:$B,(SMALL(IF(D$15=Analyses!$C:$C,ROW(Analyses!$C:$C)-MIN(ROW(Analyses!$C$1))+1,""),ROWS(D$16:D16)))),"")} | E16: {=IFERROR(INDEX(Analyses!$B:$B,(SMALL(IF(E$15=Analyses!$C:$C,ROW(Analyses!$C:$C)-MIN(ROW(Analyses!$C$1))+1,""),ROWS(E$16:E16)))),"")} | F16: {=IFERROR(INDEX(Analyses!$B:$B,(SMALL(IF(F$15=Analyses!$C:$C,ROW(Analyses!$C:$C)-MIN(ROW(Analyses!$C$1))+1,""),ROWS(F$16:F16)))),"")} | G16: {=IFERROR(INDEX(Analyses!$B:$B,(SMALL(IF(G$15=Analyses!$C:$C,ROW(Analyses!$C:$C)-MIN(ROW(Analyses!$C$1))+1,""),ROWS(G$16:G16)))),"")} | H16: {=IFERROR(INDEX(Analyses!$B:$B,(SMALL(IF(H$15=Analyses!$C:$C,ROW(Analyses!$C:$C)-MIN(ROW(Analyses!$C$1))+1,""),ROWS(H$16:H16)))),"")} | I16: {=IFERROR(INDEX(Analyses!$B:$B,(SMALL(IF(I$15=Analyses!$C:$C,ROW(Analyses!$C:$C)-MIN(ROW(Analyses!$C$1))+1,""),ROWS(I$16:I16)))),"")} | J16: {=IFERROR(INDEX(Analyses!$B:$B,(SMALL(IF(J$15=Analyses!$C:$C,ROW(Analyses!$C:$C)-MIN(ROW(Analyses!$C$1))+1,""),ROWS(J$16:J16)))),"")} | ... Z16: {=IFERROR(INDEX(Analyses!$B:$B,(SMALL(IF(Z$15=Analyses!$C:$C,ROW(Analyses!$C:$C)-MIN(ROW(Analyses!$C$1))+1,""),ROWS(Z$16:Z16)))),"")}
C17: {=IFERROR(INDEX(Analyses!$B:$B,(SMALL(IF(C$15=Analyses!$C:$C,ROW(Analyses!$C:$C)-MIN(ROW(Analyses!$C$1))+1,""),ROWS(C$16:C17)))),"")} | D17: {=IFERROR(INDEX(Analyses!$B:$B,(SMALL(IF(D$15=Analyses!$C:$C,ROW(Analyses!$C:$C)-MIN(ROW(Analyses!$C$1))+1,""),ROWS(D$16:D17)))),"")} | E17: {=IFERROR(INDEX(Analyses!$B:$B,(SMALL(IF(E$15=Analyses!$C:$C,ROW(Analyses!$C:$C)-MIN(ROW(Analyses!$C$1))+1,""),ROWS(E$16:E17)))),"")} | F17: {=IFERROR(INDEX(Analyses!$B:$B,(SMALL(IF(F$15=Analyses!$C:$C,ROW(Analyses!$C:$C)-MIN(ROW(Analyses!$C$1))+1,""),ROWS(F$16:F17)))),"")} | G17: {=IFERROR(INDEX(Analyses!$B:$B,(SMALL(IF(G$15=Analyses!$C:$C,ROW(Analyses!$C:$C)-MIN(ROW(Analyses!$C$1))+1,""),ROWS(G$16:G17)))),"")} | H17: {=IFERROR(INDEX(Analyses!$B:$B,(SMALL(IF(H$15=Analyses!$C:$C,ROW(Analyses!$C:$C)-MIN(ROW(Analyses!$C$1))+1,""),ROWS(H$16:H17)))),"")} | I17: {=IFERROR(INDEX(Analyses!$B:$B,(SMALL(IF(I$15=Analyses!$C:$C,ROW(Analyses!$C:$C)-MIN(ROW(Analyses!$C$1))+1,""),ROWS(I$16:I17)))),"")} | J17: {=IFERROR(INDEX(Analyses!$B:$B,(SMALL(IF(J$15=Analyses!$C:$C,ROW(Analyses!$C:$C)-MIN(ROW(Analyses!$C$1))+1,""),ROWS(J$16:J17)))),"")} | ... Z17: {=IFERROR(INDEX(Analyses!$B:$B,(SMALL(IF(Z$15=Analyses!$C:$C,ROW(Analyses!$C:$C)-MIN(ROW(Analyses!$C$1))+1,""),ROWS(Z$16:Z17)))),"")}
B18: =B13+1 -> 43632 | C18: {=IFERROR(INDEX(Analyses!$B:$B,(SMALL(IF(C$15=Analyses!$C:$C,ROW(Analyses!$C:$C)-MIN(ROW(Analyses!$C$1))+1,""),ROWS(C$16:C18)))),"")} | D18: {=IFERROR(INDEX(Analyses!$B:$B,(SMALL(IF(D$15=Analyses!$C:$C,ROW(Analyses!$C:$C)-MIN(ROW(Analyses!$C$1))+1,""),ROWS(D$16:D18)))),"")} | E18: {=IFERROR(INDEX(Analyses!$B:$B,(SMALL(IF(E$15=Analyses!$C:$C,ROW(Analyses!$C:$C)-MIN(ROW(Analyses!$C$1))+1,""),ROWS(E$16:E18)))),"")} | F18: {=IFERROR(INDEX(Analyses!$B:$B,(SMALL(IF(F$15=Analyses!$C:$C,ROW(Analyses!$C:$C)-MIN(ROW(Analyses!$C$1))+1,""),ROWS(F$16:F18)))),"")} | G18: {=IFERROR(INDEX(Analyses!$B:$B,(SMALL(IF(G$15=Analyses!$C:$C,ROW(Analyses!$C:$C)-MIN(ROW(Analyses!$C$1))+1,""),ROWS(G$16:G18)))),"")} | H18: {=IFERROR(INDEX(Analyses!$B:$B,(SMALL(IF(H$15=Analyses!$C:$C,ROW(Analyses!$C:$C)-MIN(ROW(Analyses!$C$1))+1,""),ROWS(H$16:H18)))),"")} | I18: {=IFERROR(INDEX(Analyses!$B:$B,(SMALL(IF(I$15=Analyses!$C:$C,ROW(Analyses!$C:$C)-MIN(ROW(Analyses!$C$1))+1,""),ROWS(I$16:I18)))),"")} | J18: {=IFERROR(INDEX(Analyses!$B:$B,(SMALL(IF(J$15=Analyses!$C:$C,ROW(Analyses!$C:$C)-MIN(ROW(Analyses!$C$1))+1,""),ROWS(J$16:J18)))),"")} | ... Z18: {=IFERROR(INDEX(Analyses!$B:$B,(SMALL(IF(Z$15=Analyses!$C:$C,ROW(Analyses!$C:$C)-MIN(ROW(Analyses!$C$1))+1,""),ROWS(Z$16:Z18)))),"")}
C19: {=IFERROR(INDEX(Analyses!$B:$B,(SMALL(IF(C$15=Analyses!$C:$C,ROW(Analyses!$C:$C)-MIN(ROW(Analyses!$C$1))+1,""),ROWS(C$16:C19)))),"")} | D19: {=IFERROR(INDEX(Analyses!$B:$B,(SMALL(IF(D$15=Analyses!$C:$C,ROW(Analyses!$C:$C)-MIN(ROW(Analyses!$C$1))+1,""),ROWS(D$16:D19)))),"")} | E19: {=IFERROR(INDEX(Analyses!$B:$B,(SMALL(IF(E$15=Analyses!$C:$C,ROW(Analyses!$C:$C)-MIN(ROW(Analyses!$C$1))+1,""),ROWS(E$16:E19)))),"")} | F19: {=IFERROR(INDEX(Analyses!$B:$B,(SMALL(IF(F$15=Analyses!$C:$C,ROW(Analyses!$C:$C)-MIN(ROW(Analyses!$C$1))+1,""),ROWS(F$16:F19)))),"")} | G19: {=IFERROR(INDEX(Analyses!$B:$B,(SMALL(IF(G$15=Analyses!$C:$C,ROW(Analyses!$C:$C)-MIN(ROW(Analyses!$C$1))+1,""),ROWS(G$16:G19)))),"")} | H19: {=IFERROR(INDEX(Analyses!$B:$B,(SMALL(IF(H$15=Analyses!$C:$C,ROW(Analyses!$C:$C)-MIN(ROW(Analyses!$C$1))+1,""),ROWS(H$16:H19)))),"")} | I19: {=IFERROR(INDEX(Analyses!$B:$B,(SMALL(IF(I$15=Analyses!$C:$C,ROW(Analyses!$C:$C)-MIN(ROW(Analyses!$C$1))+1,""),ROWS(I$16:I19)))),"")} | J19: {=IFERROR(INDEX(Analyses!$B:$B,(SMALL(IF(J$15=Analyses!$C:$C,ROW(Analyses!$C:$C)-MIN(ROW(Analyses!$C$1))+1,""),ROWS(J$16:J19)))),"")} | ... O19: {=IFERROR(INDEX(Analyses!$B:$B,(SMALL(IF(O$15=Analyses!$C:$C,ROW(Analyses!$C:$C)-MIN(ROW(Analyses!$C$1))+1,""),ROWS(O$16:O19)))),"")} | P19: {=IFERROR(INDEX(Analyses!$B:$B,(SMALL(IF(P$15=Analyses!$C:$C,ROW(Analyses!$C:$C)-MIN(ROW(Analyses!$C$1))+1,""),ROWS(P$11:P19)))),"")} | Q19: {=IFERROR(INDEX(Analyses!$B:$B,(SMALL(IF(Q$15=Analyses!$C:$C,ROW(Analyses!$C:$C)-MIN(ROW(Analyses!$C$1))+1,""),ROWS(Q$16:Q19)))),"")} | R19: {=IFERROR(INDEX(Analyses!$B:$B,(SMALL(IF(R$15=Analyses!$C:$C,ROW(Analyses!$C:$C)-MIN(ROW(Analyses!$C$1))+1,""),ROWS(R$16:R19)))),"")} | S19: {=IFERROR(INDEX(Analyses!$B:$B,(SMALL(IF(S$15=Analyses!$C:$C,ROW(Analyses!$C:$C)-MIN(ROW(Analyses!$C$1))+1,""),ROWS(S$16:S19)))),"")} | T19: {=IFERROR(INDEX(Analyses!$B:$B,(SMALL(IF(T$15=Analyses!$C:$C,ROW(Analyses!$C:$C)-MIN(ROW(Analyses!$C$1))+1,""),ROWS(T$16:T19)))),"")} | U19: {=IFERROR(INDEX(Analyses!$B:$B,(SMALL(IF(U$15=Analyses!$C:$C,ROW(Analyses!$C:$C)-MIN(ROW(Analyses!$C$1))+1,""),ROWS(U$16:U19)))),"")} | V19: {=IFERROR(INDEX(Analyses!$B:$B,(SMALL(IF(V$15=Analyses!$C:$C,ROW(Analyses!$C:$C)-MIN(ROW(Analyses!$C$1))+1,""),ROWS(V$16:V19)))),"")} | W19: {=IFERROR(INDEX(Analyses!$B:$B,(SMALL(IF(W$15=Analyses!$C:$C,ROW(Analyses!$C:$C)-MIN(ROW(Analyses!$C$1))+1,""),ROWS(W$16:W19)))),"")} | X19: {=IFERROR(INDEX(Analyses!$B:$B,(SMALL(IF(X$15=Analyses!$C:$C,ROW(Analyses!$C:$C)-MIN(ROW(Analyses!$C$1))+1,""),ROWS(X$16:X19)))),"")} | Y19: {=IFERROR(INDEX(Analyses!$B:$B,(SMALL(IF(Y$15=Analyses!$C:$C,ROW(Analyses!$C:$C)-MIN(ROW(Analyses!$C$1))+1,""),ROWS(Y$11:Y19)))),"")} | Z19: {=IFERROR(INDEX(Analyses!$B:$B,(SMALL(IF(Z$15=Analyses!$C:$C,ROW(Analyses!$C:$C)-MIN(ROW(Analyses!$C$1))+1,""),ROWS(Z$16:Z19)))),"")}
A20: =B23 -> 43633 | C20: =$B$23+C$4 -> 43633 | D20: =$B$23+D$4 -> 43633.042 | E20: =$B$23+E$4 -> 43633.083 | F20: =$B$23+F$4 -> 43633.125 | G20: =$B$23+G$4 -> 43633.167 | H20: =$B$23+H$4 -> 43633.208 | I20: =$B$23+I$4 -> 43633.25 | J20: =$B$23+J$4 -> 43633.292 | ... Z20: =$B$23+Z$4 -> 43633.958
C21: {=IFERROR(INDEX(Analyses!$B:$B,(SMALL(IF(C$20=Analyses!$C:$C,ROW(Analyses!$C:$C)-MIN(ROW(Analyses!$C$1))+1,""),ROWS(C$21:C21)))),"")} | D21: {=IFERROR(INDEX(Analyses!$B:$B,(SMALL(IF($D$20=Analyses!$C:$C,ROW(Analyses!$C:$C)-MIN(ROW(Analyses!$C$1))+1,""),ROWS(D$21:D21)))),"")} | E21: {=IFERROR(INDEX(Analyses!$B:$B,(SMALL(IF($E$20=Analyses!$C:$C,ROW(Analyses!$C:$C)-MIN(ROW(Analyses!$C$1))+1,""),ROWS(E$21:E21)))),"")} | F21: {=IFERROR(INDEX(Analyses!$B:$B,(SMALL(IF($F$20=Analyses!$C:$C,ROW(Analyses!$C:$C)-MIN(ROW(Analyses!$C$1))+1,""),ROWS(F$21:F21)))),"")} | G21: {=IFERROR(INDEX(Analyses!$B:$B,(SMALL(IF($G$20=Analyses!$C:$C,ROW(Analyses!$C:$C)-MIN(ROW(Analyses!$C$1))+1,""),ROWS(G$21:G21)))),"")} | H21: {=IFERROR(INDEX(Analyses!$B:$B,(SMALL(IF($H$20=Analyses!$C:$C,ROW(Analyses!$C:$C)-MIN(ROW(Analyses!$C$1))+1,""),ROWS(H$21:H21)))),"")} | I21: {=IFERROR(INDEX(Analyses!$B:$B,(SMALL(IF($I$20=Analyses!$C:$C,ROW(Analyses!$C:$C)-MIN(ROW(Analyses!$C$1))+1,""),ROWS(I$21:I21)))),"")} | J21: {=IFERROR(INDEX(Analyses!$B:$B,(SMALL(IF($J$20=Analyses!$C:$C,ROW(Analyses!$C:$C)-MIN(ROW(Analyses!$C$1))+1,""),ROWS(J$21:J21)))),"")} | K21: {=IFERROR(INDEX(Analyses!$B:$B,(SMALL(IF($K$20=Analyses!$C:$C,ROW(Analyses!$C:$C)-MIN(ROW(Analyses!$C$1))+1,""),ROWS(K$21:K21)))),"")} | L21: {=IFERROR(INDEX(Analyses!$B:$B,(SMALL(IF($L$20=Analyses!$C:$C,ROW(Analyses!$C:$C)-MIN(ROW(Analyses!$C$1))+1,""),ROWS(L$21:L21)))),"")} | M21: {=IFERROR(INDEX(Analyses!$B:$B,(SMALL(IF($M$20=Analyses!$C:$C,ROW(Analyses!$C:$C)-MIN(ROW(Analyses!$C$1))+1,""),ROWS(M$21:M21)))),"")} | N21: {=IFERROR(INDEX(Analyses!$B:$B,(SMALL(IF($N$20=Analyses!$C:$C,ROW(Analyses!$C:$C)-MIN(ROW(Analyses!$C$1))+1,""),ROWS(N$21:N21)))),"")} | O21: {=IFERROR(INDEX(Analyses!$B:$B,(SMALL(IF($O$20=Analyses!$C:$C,ROW(Analyses!$C:$C)-MIN(ROW(Analyses!$C$1))+1,""),ROWS(O$21:O21)))),"")} -> Mathieu | P21: {=IFERROR(INDEX(Analyses!$B:$B,(SMALL(IF($P$20=Analyses!$C:$C,ROW(Analyses!$C:$C)-MIN(ROW(Analyses!$C$1))+1,""),ROWS(P$21:P21)))),"")} -> Pierre | Q21: {=IFERROR(INDEX(Analyses!$B:$B,(SMALL(IF($Q$20=Analyses!$C:$C,ROW(Analyses!$C:$C)-MIN(ROW(Analyses!$C$1))+1,""),ROWS(Q$21:Q21)))),"")} | R21: {=IFERROR(INDEX(Analyses!$B:$B,(SMALL(IF($R$20=Analyses!$C:$C,ROW(Analyses!$C:$C)-MIN(ROW(Analyses!$C$1))+1,""),ROWS(R$21:R21)))),"")} | S21: {=IFERROR(INDEX(Analyses!$B:$B,(SMALL(IF($S$20=Analyses!$C:$C,ROW(Analyses!$C:$C)-MIN(ROW(Analyses!$C$1))+1,""),ROWS(S$21:S21)))),"")} | T21: {=IFERROR(INDEX(Analyses!$B:$B,(SMALL(IF($T$20=Analyses!$C:$C,ROW(Analyses!$C:$C)-MIN(ROW(Analyses!$C$1))+1,""),ROWS(T$21:T21)))),"")} | U21: {=IFERROR(INDEX(Analyses!$B:$B,(SMALL(IF($U$20=Analyses!$C:$C,ROW(Analyses!$C:$C)-MIN(ROW(Analyses!$C$1))+1,""),ROWS(U$21:U21)))),"")} | V21: {=IFERROR(INDEX(Analyses!$B:$B,(SMALL(IF($V$20=Analyses!$C:$C,ROW(Analyses!$C:$C)-MIN(ROW(Analyses!$C$1))+1,""),ROWS(V$21:V21)))),"")} | W21: {=IFERROR(INDEX(Analyses!$B:$B,(SMALL(IF($W$20=Analyses!$C:$C,ROW(Analyses!$C:$C)-MIN(ROW(Analyses!$C$1))+1,""),ROWS(W$21:W21)))),"")} -> Jean | X21: {=IFERROR(INDEX(Analyses!$B:$B,(SMALL(IF($X$20=Analyses!$C:$C,ROW(Analyses!$C:$C)-MIN(ROW(Analyses!$C$1))+1,""),ROWS(X$21:X21)))),"")} | Y21: {=IFERROR(INDEX(Analyses!$B:$B,(SMALL(IF($Y$20=Analyses!$C:$C,ROW(Analyses!$C:$C)-MIN(ROW(Analyses!$C$1))+1,""),ROWS(Y$21:Y21)))),"")} | Z21: {=IFERROR(INDEX(Analyses!$B:$B,(SMALL(IF($Z$20=Analyses!$C:$C,ROW(Analyses!$C:$C)-MIN(ROW(Analyses!$C$1))+1,""),ROWS(Z$21:Z21)))),"")}
C22: {=IFERROR(INDEX(Analyses!$B:$B,(SMALL(IF($C$20=Analyses!$C:$C,ROW(Analyses!$C:$C)-MIN(ROW(Analyses!$C$1))+1,""),ROWS(C$21:C22)))),"")} | D22: {=IFERROR(INDEX(Analyses!$B:$B,(SMALL(IF($D$20=Analyses!$C:$C,ROW(Analyses!$C:$C)-MIN(ROW(Analyses!$C$1))+1,""),ROWS(D$21:D22)))),"")} | E22: {=IFERROR(INDEX(Analyses!$B:$B,(SMALL(IF($E$20=Analyses!$C:$C,ROW(Analyses!$C:$C)-MIN(ROW(Analyses!$C$1))+1,""),ROWS(E$21:E22)))),"")} | F22: {=IFERROR(INDEX(Analyses!$B:$B,(SMALL(IF($F$20=Analyses!$C:$C,ROW(Analyses!$C:$C)-MIN(ROW(Analyses!$C$1))+1,""),ROWS(F$21:F22)))),"")} | G22: {=IFERROR(INDEX(Analyses!$B:$B,(SMALL(IF($G$20=Analyses!$C:$C,ROW(Analyses!$C:$C)-MIN(ROW(Analyses!$C$1))+1,""),ROWS(G$21:G22)))),"")} | H22: {=IFERROR(INDEX(Analyses!$B:$B,(SMALL(IF($H$20=Analyses!$C:$C,ROW(Analyses!$C:$C)-MIN(ROW(Analyses!$C$1))+1,""),ROWS(H$21:H22)))),"")} | I22: {=IFERROR(INDEX(Analyses!$B:$B,(SMALL(IF($I$20=Analyses!$C:$C,ROW(Analyses!$C:$C)-MIN(ROW(Analyses!$C$1))+1,""),ROWS(I$21:I22)))),"")} | J22: {=IFERROR(INDEX(Analyses!$B:$B,(SMALL(IF($J$20=Analyses!$C:$C,ROW(Analyses!$C:$C)-MIN(ROW(Analyses!$C$1))+1,""),ROWS(J$21:J22)))),"")} | K22: {=IFERROR(INDEX(Analyses!$B:$B,(SMALL(IF($K$20=Analyses!$C:$C,ROW(Analyses!$C:$C)-MIN(ROW(Analyses!$C$1))+1,""),ROWS(K$21:K22)))),"")} | L22: {=IFERROR(INDEX(Analyses!$B:$B,(SMALL(IF($L$20=Analyses!$C:$C,ROW(Analyses!$C:$C)-MIN(ROW(Analyses!$C$1))+1,""),ROWS(L$21:L22)))),"")} | M22: {=IFERROR(INDEX(Analyses!$B:$B,(SMALL(IF($M$20=Analyses!$C:$C,ROW(Analyses!$C:$C)-MIN(ROW(Analyses!$C$1))+1,""),ROWS(M$21:M22)))),"")} | N22: {=IFERROR(INDEX(Analyses!$B:$B,(SMALL(IF($N$20=Analyses!$C:$C,ROW(Analyses!$C:$C)-MIN(ROW(Analyses!$C$1))+1,""),ROWS(N$21:N22)))),"")} | O22: {=IFERROR(INDEX(Analyses!$B:$B,(SMALL(IF($O$20=Analyses!$C:$C,ROW(Analyses!$C:$C)-MIN(ROW(Analyses!$C$1))+1,""),ROWS(O$21:O22)))),"")} | P22: {=IFERROR(INDEX(Analyses!$B:$B,(SMALL(IF($P$20=Analyses!$C:$C,ROW(Analyses!$C:$C)-MIN(ROW(Analyses!$C$1))+1,""),ROWS(P$21:P22)))),"")} | Q22: {=IFERROR(INDEX(Analyses!$B:$B,(SMALL(IF($Q$20=Analyses!$C:$C,ROW(Analyses!$C:$C)-MIN(ROW(Analyses!$C$1))+1,""),ROWS(Q$21:Q22)))),"")} | R22: {=IFERROR(INDEX(Analyses!$B:$B,(SMALL(IF($R$20=Analyses!$C:$C,ROW(Analyses!$C:$C)-MIN(ROW(Analyses!$C$1))+1,""),ROWS(R$21:R22)))),"")} | S22: {=IFERROR(INDEX(Analyses!$B:$B,(SMALL(IF($S$20=Analyses!$C:$C,ROW(Analyses!$C:$C)-MIN(ROW(Analyses!$C$1))+1,""),ROWS(S$21:S22)))),"")} | T22: {=IFERROR(INDEX(Analyses!$B:$B,(SMALL(IF($T$20=Analyses!$C:$C,ROW(Analyses!$C:$C)-MIN(ROW(Analyses!$C$1))+1,""),ROWS(T$21:T22)))),"")} | U22: {=IFERROR(INDEX(Analyses!$B:$B,(SMALL(IF($U$20=Analyses!$C:$C,ROW(Analyses!$C:$C)-MIN(ROW(Analyses!$C$1))+1,""),ROWS(U$21:U22)))),"")} | V22: {=IFERROR(INDEX(Analyses!$B:$B,(SMALL(IF($V$20=Analyses!$C:$C,ROW(Analyses!$C:$C)-MIN(ROW(Analyses!$C$1))+1,""),ROWS(V$21:V22)))),"")} | W22: {=IFERROR(INDEX(Analyses!$B:$B,(SMALL(IF($W$20=Analyses!$C:$C,ROW(Analyses!$C:$C)-MIN(ROW(Analyses!$C$1))+1,""),ROWS(W$21:W22)))),"")} -> Julien | X22: {=IFERROR(INDEX(Analyses!$B:$B,(SMALL(IF($X$20=Analyses!$C:$C,ROW(Analyses!$C:$C)-MIN(ROW(Analyses!$C$1))+1,""),ROWS(X$21:X22)))),"")} | Y22: {=IFERROR(INDEX(Analyses!$B:$B,(SMALL(IF($Y$20=Analyses!$C:$C,ROW(Analyses!$C:$C)-MIN(ROW(Analyses!$C$1))+1,""),ROWS(Y$21:Y22)))),"")} | Z22: {=IFERROR(INDEX(Analyses!$B:$B,(SMALL(IF($Z$20=Analyses!$C:$C,ROW(Analyses!$C:$C)-MIN(ROW(Analyses!$C$1))+1,""),ROWS(Z$21:Z22)))),"")}
B23: =B18+1 -> 43633 | C23: {=IFERROR(INDEX(Analyses!$B:$B,(SMALL(IF($C$20=Analyses!$C:$C,ROW(Analyses!$C:$C)-MIN(ROW(Analyses!$C$1))+1,""),ROWS(C$21:C23)))),"")} | D23: {=IFERROR(INDEX(Analyses!$B:$B,(SMALL(IF($D$20=Analyses!$C:$C,ROW(Analyses!$C:$C)-MIN(ROW(Analyses!$C$1))+1,""),ROWS(D$21:D23)))),"")} | E23: {=IFERROR(INDEX(Analyses!$B:$B,(SMALL(IF($E$20=Analyses!$C:$C,ROW(Analyses!$C:$C)-MIN(ROW(Analyses!$C$1))+1,""),ROWS(E$21:E23)))),"")} | F23: {=IFERROR(INDEX(Analyses!$B:$B,(SMALL(IF($F$20=Analyses!$C:$C,ROW(Analyses!$C:$C)-MIN(ROW(Analyses!$C$1))+1,""),ROWS(F$21:F23)))),"")} | G23: {=IFERROR(INDEX(Analyses!$B:$B,(SMALL(IF($G$20=Analyses!$C:$C,ROW(Analyses!$C:$C)-MIN(ROW(Analyses!$C$1))+1,""),ROWS(G$21:G23)))),"")} | H23: {=IFERROR(INDEX(Analyses!$B:$B,(SMALL(IF($H$20=Analyses!$C:$C,ROW(Analyses!$C:$C)-MIN(ROW(Analyses!$C$1))+1,""),ROWS(H$21:H23)))),"")} | I23: {=IFERROR(INDEX(Analyses!$B:$B,(SMALL(IF($I$20=Analyses!$C:$C,ROW(Analyses!$C:$C)-MIN(ROW(Analyses!$C$1))+1,""),ROWS(I$21:I23)))),"")} | J23: {=IFERROR(INDEX(Analyses!$B:$B,(SMALL(IF($J$20=Analyses!$C:$C,ROW(Analyses!$C:$C)-MIN(ROW(Analyses!$C$1))+1,""),ROWS(J$21:J23)))),"")} | K23: {=IFERROR(INDEX(Analyses!$B:$B,(SMALL(IF($K$20=Analyses!$C:$C,ROW(Analyses!$C:$C)-MIN(ROW(Analyses!$C$1))+1,""),ROWS(K$21:K23)))),"")} | L23: {=IFERROR(INDEX(Analyses!$B:$B,(SMALL(IF($L$20=Analyses!$C:$C,ROW(Analyses!$C:$C)-MIN(ROW(Analyses!$C$1))+1,""),ROWS(L$21:L23)))),"")} | M23: {=IFERROR(INDEX(Analyses!$B:$B,(SMALL(IF($M$20=Analyses!$C:$C,ROW(Analyses!$C:$C)-MIN(ROW(Analyses!$C$1))+1,""),ROWS(M$21:M23)))),"")} | N23: {=IFERROR(INDEX(Analyses!$B:$B,(SMALL(IF($N$20=Analyses!$C:$C,ROW(Analyses!$C:$C)-MIN(ROW(Analyses!$C$1))+1,""),ROWS(N$21:N23)))),"")} | O23: {=IFERROR(INDEX(Analyses!$B:$B,(SMALL(IF($O$20=Analyses!$C:$C,ROW(Analyses!$C:$C)-MIN(ROW(Analyses!$C$1))+1,""),ROWS(O$21:O23)))),"")} | P23: {=IFERROR(INDEX(Analyses!$B:$B,(SMALL(IF($P$20=Analyses!$C:$C,ROW(Analyses!$C:$C)-MIN(ROW(Analyses!$C$1))+1,""),ROWS(P$21:P23)))),"")} | Q23: {=IFERROR(INDEX(Analyses!$B:$B,(SMALL(IF($Q$20=Analyses!$C:$C,ROW(Analyses!$C:$C)-MIN(ROW(Analyses!$C$1))+1,""),ROWS(Q$21:Q23)))),"")} | R23: {=IFERROR(INDEX(Analyses!$B:$B,(SMALL(IF($R$20=Analyses!$C:$C,ROW(Analyses!$C:$C)-MIN(ROW(Analyses!$C$1))+1,""),ROWS(R$21:R23)))),"")} | S23: {=IFERROR(INDEX(Analyses!$B:$B,(SMALL(IF($S$20=Analyses!$C:$C,ROW(Analyses!$C:$C)-MIN(ROW(Analyses!$C$1))+1,""),ROWS(S$21:S23)))),"")} | T23: {=IFERROR(INDEX(Analyses!$B:$B,(SMALL(IF($T$20=Analyses!$C:$C,ROW(Analyses!$C:$C)-MIN(ROW(Analyses!$C$1))+1,""),ROWS(T$21:T23)))),"")} | U23: {=IFERROR(INDEX(Analyses!$B:$B,(SMALL(IF($U$20=Analyses!$C:$C,ROW(Analyses!$C:$C)-MIN(ROW(Analyses!$C$1))+1,""),ROWS(U$21:U23)))),"")} | V23: {=IFERROR(INDEX(Analyses!$B:$B,(SMALL(IF($V$20=Analyses!$C:$C,ROW(Analyses!$C:$C)-MIN(ROW(Analyses!$C$1))+1,""),ROWS(V$21:V23)))),"")} | W23: {=IFERROR(INDEX(Analyses!$B:$B,(SMALL(IF($W$20=Analyses!$C:$C,ROW(Analyses!$C:$C)-MIN(ROW(Analyses!$C$1))+1,""),ROWS(W$21:W23)))),"")} | X23: {=IFERROR(INDEX(Analyses!$B:$B,(SMALL(IF($X$20=Analyses!$C:$C,ROW(Analyses!$C:$C)-MIN(ROW(Analyses!$C$1))+1,""),ROWS(X$21:X23)))),"")} | Y23: {=IFERROR(INDEX(Analyses!$B:$B,(SMALL(IF($Y$20=Analyses!$C:$C,ROW(Analyses!$C:$C)-MIN(ROW(Analyses!$C$1))+1,""),ROWS(Y$21:Y23)))),"")} | Z23: {=IFERROR(INDEX(Analyses!$B:$B,(SMALL(IF($Z$20=Analyses!$C:$C,ROW(Analyses!$C:$C)-MIN(ROW(Analyses!$C$1))+1,""),ROWS(Z$21:Z23)))),"")}
C24: {=IFERROR(INDEX(Analyses!$B:$B,(SMALL(IF($C$20=Analyses!$C:$C,ROW(Analyses!$C:$C)-MIN(ROW(Analyses!$C$1))+1,""),ROWS(C$21:C24)))),"")} | D24: {=IFERROR(INDEX(Analyses!$B:$B,(SMALL(IF($D$20=Analyses!$C:$C,ROW(Analyses!$C:$C)-MIN(ROW(Analyses!$C$1))+1,""),ROWS(D$21:D24)))),"")} | E24: {=IFERROR(INDEX(Analyses!$B:$B,(SMALL(IF($E$20=Analyses!$C:$C,ROW(Analyses!$C:$C)-MIN(ROW(Analyses!$C$1))+1,""),ROWS(E$21:E24)))),"")} | F24: {=IFERROR(INDEX(Analyses!$B:$B,(SMALL(IF($F$20=Analyses!$C:$C,ROW(Analyses!$C:$C)-MIN(ROW(Analyses!$C$1))+1,""),ROWS(F$21:F24)))),"")} | G24: {=IFERROR(INDEX(Analyses!$B:$B,(SMALL(IF($G$20=Analyses!$C:$C,ROW(Analyses!$C:$C)-MIN(ROW(Analyses!$C$1))+1,""),ROWS(G$21:G24)))),"")} | H24: {=IFERROR(INDEX(Analyses!$B:$B,(SMALL(IF($H$20=Analyses!$C:$C,ROW(Analyses!$C:$C)-MIN(ROW(Analyses!$C$1))+1,""),ROWS(H$21:H24)))),"")} | I24: {=IFERROR(INDEX(Analyses!$B:$B,(SMALL(IF($I$20=Analyses!$C:$C,ROW(Analyses!$C:$C)-MIN(ROW(Analyses!$C$1))+1,""),ROWS(I$21:I24)))),"")} | J24: {=IFERROR(INDEX(Analyses!$B:$B,(SMALL(IF($J$20=Analyses!$C:$C,ROW(Analyses!$C:$C)-MIN(ROW(Analyses!$C$1))+1,""),ROWS(J$21:J24)))),"")} | K24: {=IFERROR(INDEX(Analyses!$B:$B,(SMALL(IF($K$20=Analyses!$C:$C,ROW(Analyses!$C:$C)-MIN(ROW(Analyses!$C$1))+1,""),ROWS(K$21:K24)))),"")} | L24: {=IFERROR(INDEX(Analyses!$B:$B,(SMALL(IF($L$20=Analyses!$C:$C,ROW(Analyses!$C:$C)-MIN(ROW(Analyses!$C$1))+1,""),ROWS(L$21:L24)))),"")} | M24: {=IFERROR(INDEX(Analyses!$B:$B,(SMALL(IF($M$20=Analyses!$C:$C,ROW(Analyses!$C:$C)-MIN(ROW(Analyses!$C$1))+1,""),ROWS(M$21:M24)))),"")} | N24: {=IFERROR(INDEX(Analyses!$B:$B,(SMALL(IF($N$20=Analyses!$C:$C,ROW(Analyses!$C:$C)-MIN(ROW(Analyses!$C$1))+1,""),ROWS(N$21:N24)))),"")} | O24: {=IFERROR(INDEX(Analyses!$B:$B,(SMALL(IF($O$20=Analyses!$C:$C,ROW(Analyses!$C:$C)-MIN(ROW(Analyses!$C$1))+1,""),ROWS(O$21:O24)))),"")} | P24: {=IFERROR(INDEX(Analyses!$B:$B,(SMALL(IF($P$20=Analyses!$C:$C,ROW(Analyses!$C:$C)-MIN(ROW(Analyses!$C$1))+1,""),ROWS(P$21:P24)))),"")} | Q24: {=IFERROR(INDEX(Analyses!$B:$B,(SMALL(IF($Q$20=Analyses!$C:$C,ROW(Analyses!$C:$C)-MIN(ROW(Analyses!$C$1))+1,""),ROWS(Q$21:Q24)))),"")} | R24: {=IFERROR(INDEX(Analyses!$B:$B,(SMALL(IF($R$20=Analyses!$C:$C,ROW(Analyses!$C:$C)-MIN(ROW(Analyses!$C$1))+1,""),ROWS(R$21:R24)))),"")} | S24: {=IFERROR(INDEX(Analyses!$B:$B,(SMALL(IF($S$20=Analyses!$C:$C,ROW(Analyses!$C:$C)-MIN(ROW(Analyses!$C$1))+1,""),ROWS(S$21:S24)))),"")} | T24: {=IFERROR(INDEX(Analyses!$B:$B,(SMALL(IF($T$20=Analyses!$C:$C,ROW(Analyses!$C:$C)-MIN(ROW(Analyses!$C$1))+1,""),ROWS(T$21:T24)))),"")} | U24: {=IFERROR(INDEX(Analyses!$B:$B,(SMALL(IF($U$20=Analyses!$C:$C,ROW(Analyses!$C:$C)-MIN(ROW(Analyses!$C$1))+1,""),ROWS(U$21:U24)))),"")} | V24: {=IFERROR(INDEX(Analyses!$B:$B,(SMALL(IF($V$20=Analyses!$C:$C,ROW(Analyses!$C:$C)-MIN(ROW(Analyses!$C$1))+1,""),ROWS(V$21:V24)))),"")} | W24: {=IFERROR(INDEX(Analyses!$B:$B,(SMALL(IF($W$20=Analyses!$C:$C,ROW(Analyses!$C:$C)-MIN(ROW(Analyses!$C$1))+1,""),ROWS(W$21:W24)))),"")} | X24: {=IFERROR(INDEX(Analyses!$B:$B,(SMALL(IF($X$20=Analyses!$C:$C,ROW(Analyses!$C:$C)-MIN(ROW(Analyses!$C$1))+1,""),ROWS(X$21:X24)))),"")} | Y24: {=IFERROR(INDEX(Analyses!$B:$B,(SMALL(IF($Y$20=Analyses!$C:$C,ROW(Analyses!$C:$C)-MIN(ROW(Analyses!$C$1))+1,""),ROWS(Y$21:Y24)))),"")} | Z24: {=IFERROR(INDEX(Analyses!$B:$B,(SMALL(IF($Z$20=Analyses!$C:$C,ROW(Analyses!$C:$C)-MIN(ROW(Analyses!$C$1))+1,""),ROWS(Z$21:Z24)))),"")}
A25: =B28 -> 43634 | C25: =$B$28+C$4 -> 43634 | D25: =$B$28+D$4 -> 43634.042 | E25: =$B$28+E$4 -> 43634.083 | F25: =$B$28+F$4 -> 43634.125 | G25: =$B$28+G$4 -> 43634.167 | H25: =$B$28+H$4 -> 43634.208 | I25: =$B$28+I$4 -> 43634.25 | J25: =$B$28+J$4 -> 43634.292 | ... Z25: =$B$28+Z$4 -> 43634.958
C26: {=IFERROR(INDEX(Analyses!$B:$B,(SMALL(IF($C$25=Analyses!$C:$C,ROW(Analyses!$C:$C)-MIN(ROW(Analyses!$C$1))+1,""),ROWS(C$26:C26)))),"")} | D26: {=IFERROR(INDEX(Analyses!$B:$B,(SMALL(IF($D$25=Analyses!$C:$C,ROW(Analyses!$C:$C)-MIN(ROW(Analyses!$C$1))+1,""),ROWS(D$26:D26)))),"")} | E26: {=IFERROR(INDEX(Analyses!$B:$B,(SMALL(IF($E$25=Analyses!$C:$C,ROW(Analyses!$C:$C)-MIN(ROW(Analyses!$C$1))+1,""),ROWS(E$26:E26)))),"")} | F26: {=IFERROR(INDEX(Analyses!$B:$B,(SMALL(IF($F$25=Analyses!$C:$C,ROW(Analyses!$C:$C)-MIN(ROW(Analyses!$C$1))+1,""),ROWS(F$26:F26)))),"")} | G26: {=IFERROR(INDEX(Analyses!$B:$B,(SMALL(IF($G$25=Analyses!$C:$C,ROW(Analyses!$C:$C)-MIN(ROW(Analyses!$C$1))+1,""),ROWS(G$26:G26)))),"")} | H26: {=IFERROR(INDEX(Analyses!$B:$B,(SMALL(IF($H$25=Analyses!$C:$C,ROW(Analyses!$C:$C)-MIN(ROW(Analyses!$C$1))+1,""),ROWS(H$26:H26)))),"")} | I26: {=IFERROR(INDEX(Analyses!$B:$B,(SMALL(IF($I$25=Analyses!$C:$C,ROW(Analyses!$C:$C)-MIN(ROW(Analyses!$C$1))+1,""),ROWS(I$26:I26)))),"")} | J26: {=IFERROR(INDEX(Analyses!$B:$B,(SMALL(IF($J$25=Analyses!$C:$C,ROW(Analyses!$C:$C)-MIN(ROW(Analyses!$C$1))+1,""),ROWS(J$26:J26)))),"")} | K26: {=IFERROR(INDEX(Analyses!$B:$B,(SMALL(IF($K$25=Analyses!$C:$C,ROW(Analyses!$C:$C)-MIN(ROW(Analyses!$C$1))+1,""),ROWS(K$26:K26)))),"")} | L26: {=IFERROR(INDEX(Analyses!$B:$B,(SMALL(IF($L$25=Analyses!$C:$C,ROW(Analyses!$C:$C)-MIN(ROW(Analyses!$C$1))+1,""),ROWS(L$26:L26)))),"")} | M26: {=IFERROR(INDEX(Analyses!$B:$B,(SMALL(IF($M$25=Analyses!$C:$C,ROW(Analyses!$C:$C)-MIN(ROW(Analyses!$C$1))+1,""),ROWS(M$26:M26)))),"")} | N26: {=IFERROR(INDEX(Analyses!$B:$B,(SMALL(IF($N$25=Analyses!$C:$C,ROW(Analyses!$C:$C)-MIN(ROW(Analyses!$C$1))+1,""),ROWS(N$26:N26)))),"")} | O26: {=IFERROR(INDEX(Analyses!$B:$B,(SMALL(IF($O$25=Analyses!$C:$C,ROW(Analyses!$C:$C)-MIN(ROW(Analyses!$C$1))+1,""),ROWS(O$26:O26)))),"")} | P26: {=IFERROR(INDEX(Analyses!$B:$B,(SMALL(IF($P$25=Analyses!$C:$C,ROW(Analyses!$C:$C)-MIN(ROW(Analyses!$C$1))+1,""),ROWS(P$26:P26)))),"")} | Q26: {=IFERROR(INDEX(Analyses!$B:$B,(SMALL(IF($Q$25=Analyses!$C:$C,ROW(Analyses!$C:$C)-MIN(ROW(Analyses!$C$1))+1,""),ROWS(Q$26:Q26)))),"")} | R26: {=IFERROR(INDEX(Analyses!$B:$B,(SMALL(IF($R$25=Analyses!$C:$C,ROW(Analyses!$C:$C)-MIN(ROW(Analyses!$C$1))+1,""),ROWS(R$26:R26)))),"")} | S26: {=IFERROR(INDEX(Analyses!$B:$B,(SMALL(IF($S$25=Analyses!$C:$C,ROW(Analyses!$C:$C)-MIN(ROW(Analyses!$C$1))+1,""),ROWS(S$26:S26)))),"")} | T26: {=IFERROR(INDEX(Analyses!$B:$B,(SMALL(IF($T$25=Analyses!$C:$C,ROW(Analyses!$C:$C)-MIN(ROW(Analyses!$C$1))+1,""),ROWS(T$26:T26)))),"")} | U26: {=IFERROR(INDEX(Analyses!$B:$B,(SMALL(IF($U$25=Analyses!$C:$C,ROW(Analyses!$C:$C)-MIN(ROW(Analyses!$C$1))+1,""),ROWS(U$26:U26)))),"")} | V26: {=IFERROR(INDEX(Analyses!$B:$B,(SMALL(IF($V$25=Analyses!$C:$C,ROW(Analyses!$C:$C)-MIN(ROW(Analyses!$C$1))+1,""),ROWS(V$26:V26)))),"")} | W26: {=IFERROR(INDEX(Analyses!$B:$B,(SMALL(IF($W$25=Analyses!$C:$C,ROW(Analyses!$C:$C)-MIN(ROW(Analyses!$C$1))+1,""),ROWS(W$26:W26)))),"")} | X26: {=IFERROR(INDEX(Analyses!$B:$B,(SMALL(IF($X$25=Analyses!$C:$C,ROW(Analyses!$C:$C)-MIN(ROW(Analyses!$C$1))+1,""),ROWS(X$26:X26)))),"")} | Y26: {=IFERROR(INDEX(Analyses!$B:$B,(SMALL(IF($Y$25=Analyses!$C:$C,ROW(Analyses!$C:$C)-MIN(ROW(Analyses!$C$1))+1,""),ROWS(Y$26:Y26)))),"")} | Z26: {=IFERROR(INDEX(Analyses!$B:$B,(SMALL(IF($Z$25=Analyses!$C:$C,ROW(Analyses!$C:$C)-MIN(ROW(Analyses!$C$1))+1,""),ROWS(Z$26:Z26)))),"")}
C27: {=IFERROR(INDEX(Analyses!$B:$B,(SMALL(IF($C$25=Analyses!$C:$C,ROW(Analyses!$C:$C)-MIN(ROW(Analyses!$C$1))+1,""),ROWS(C$26:C27)))),"")} | D27: {=IFERROR(INDEX(Analyses!$B:$B,(SMALL(IF($D$25=Analyses!$C:$C,ROW(Analyses!$C:$C)-MIN(ROW(Analyses!$C$1))+1,""),ROWS(D$26:D27)))),"")} | E27: {=IFERROR(INDEX(Analyses!$B:$B,(SMALL(IF($E$25=Analyses!$C:$C,ROW(Analyses!$C:$C)-MIN(ROW(Analyses!$C$1))+1,""),ROWS(E$26:E27)))),"")} | F27: {=IFERROR(INDEX(Analyses!$B:$B,(SMALL(IF($F$25=Analyses!$C:$C,ROW(Analyses!$C:$C)-MIN(ROW(Analyses!$C$1))+1,""),ROWS(F$26:F27)))),"")} | G27: {=IFERROR(INDEX(Analyses!$B:$B,(SMALL(IF($G$25=Analyses!$C:$C,ROW(Analyses!$C:$C)-MIN(ROW(Analyses!$C$1))+1,""),ROWS(G$26:G27)))),"")} | H27: {=IFERROR(INDEX(Analyses!$B:$B,(SMALL(IF($H$25=Analyses!$C:$C,ROW(Analyses!$C:$C)-MIN(ROW(Analyses!$C$1))+1,""),ROWS(H$26:H27)))),"")} | I27: {=IFERROR(INDEX(Analyses!$B:$B,(SMALL(IF($I$25=Analyses!$C:$C,ROW(Analyses!$C:$C)-MIN(ROW(Analyses!$C$1))+1,""),ROWS(I$26:I27)))),"")} | J27: {=IFERROR(INDEX(Analyses!$B:$B,(SMALL(IF($J$25=Analyses!$C:$C,ROW(Analyses!$C:$C)-MIN(ROW(Analyses!$C$1))+1,""),ROWS(J$26:J27)))),"")} | K27: {=IFERROR(INDEX(Analyses!$B:$B,(SMALL(IF($K$25=Analyses!$C:$C,ROW(Analyses!$C:$C)-MIN(ROW(Analyses!$C$1))+1,""),ROWS(K$26:K27)))),"")} | L27: {=IFERROR(INDEX(Analyses!$B:$B,(SMALL(IF($L$25=Analyses!$C:$C,ROW(Analyses!$C:$C)-MIN(ROW(Analyses!$C$1))+1,""),ROWS(L$26:L27)))),"")} | M27: {=IFERROR(INDEX(Analyses!$B:$B,(SMALL(IF($M$25=Analyses!$C:$C,ROW(Analyses!$C:$C)-MIN(ROW(Analyses!$C$1))+1,""),ROWS(M$26:M27)))),"")} | N27: {=IFERROR(INDEX(Analyses!$B:$B,(SMALL(IF($N$25=Analyses!$C:$C,ROW(Analyses!$C:$C)-MIN(ROW(Analyses!$C$1))+1,""),ROWS(N$26:N27)))),"")} | O27: {=IFERROR(INDEX(Analyses!$B:$B,(SMALL(IF($O$25=Analyses!$C:$C,ROW(Analyses!$C:$C)-MIN(ROW(Analyses!$C$1))+1,""),ROWS(O$26:O27)))),"")} | P27: {=IFERROR(INDEX(Analyses!$B:$B,(SMALL(IF($P$25=Analyses!$C:$C,ROW(Analyses!$C:$C)-MIN(ROW(Analyses!$C$1))+1,""),ROWS(P$26:P27)))),"")} | Q27: {=IFERROR(INDEX(Analyses!$B:$B,(SMALL(IF($Q$25=Analyses!$C:$C,ROW(Analyses!$C:$C)-MIN(ROW(Analyses!$C$1))+1,""),ROWS(Q$26:Q27)))),"")} | R27: {=IFERROR(INDEX(Analyses!$B:$B,(SMALL(IF($R$25=Analyses!$C:$C,ROW(Analyses!$C:$C)-MIN(ROW(Analyses!$C$1))+1,""),ROWS(R$26:R27)))),"")} | S27: {=IFERROR(INDEX(Analyses!$B:$B,(SMALL(IF($S$25=Analyses!$C:$C,ROW(Analyses!$C:$C)-MIN(ROW(Analyses!$C$1))+1,""),ROWS(S$26:S27)))),"")} | T27: {=IFERROR(INDEX(Analyses!$B:$B,(SMALL(IF($T$25=Analyses!$C:$C,ROW(Analyses!$C:$C)-MIN(ROW(Analyses!$C$1))+1,""),ROWS(T$26:T27)))),"")} | U27: {=IFERROR(INDEX(Analyses!$B:$B,(SMALL(IF($U$25=Analyses!$C:$C,ROW(Analyses!$C:$C)-MIN(ROW(Analyses!$C$1))+1,""),ROWS(U$26:U27)))),"")} | V27: {=IFERROR(INDEX(Analyses!$B:$B,(SMALL(IF($V$25=Analyses!$C:$C,ROW(Analyses!$C:$C)-MIN(ROW(Analyses!$C$1))+1,""),ROWS(V$26:V27)))),"")} | W27: {=IFERROR(INDEX(Analyses!$B:$B,(SMALL(IF($W$25=Analyses!$C:$C,ROW(Analyses!$C:$C)-MIN(ROW(Analyses!$C$1))+1,""),ROWS(W$26:W27)))),"")} | X27: {=IFERROR(INDEX(Analyses!$B:$B,(SMALL(IF($X$25=Analyses!$C:$C,ROW(Analyses!$C:$C)-MIN(ROW(Analyses!$C$1))+1,""),ROWS(X$26:X27)))),"")} | Y27: {=IFERROR(INDEX(Analyses!$B:$B,(SMALL(IF($Y$25=Analyses!$C:$C,ROW(Analyses!$C:$C)-MIN(ROW(Analyses!$C$1))+1,""),ROWS(Y$26:Y27)))),"")} | Z27: {=IFERROR(INDEX(Analyses!$B:$B,(SMALL(IF($Z$25=Analyses!$C:$C,ROW(Analyses!$C:$C)-MIN(ROW(Analyses!$C$1))+1,""),ROWS(Z$26:Z27)))),"")}
B28: =B23+1 -> 43634 | C28: {=IFERROR(INDEX(Analyses!$B:$B,(SMALL(IF($C$25=Analyses!$C:$C,ROW(Analyses!$C:$C)-MIN(ROW(Analyses!$C$1))+1,""),ROWS(C$26:C28)))),"")} | D28: {=IFERROR(INDEX(Analyses!$B:$B,(SMALL(IF($D$25=Analyses!$C:$C,ROW(Analyses!$C:$C)-MIN(ROW(Analyses!$C$1))+1,""),ROWS(D$26:D28)))),"")} | E28: {=IFERROR(INDEX(Analyses!$B:$B,(SMALL(IF($E$25=Analyses!$C:$C,ROW(Analyses!$C:$C)-MIN(ROW(Analyses!$C$1))+1,""),ROWS(E$26:E28)))),"")} | F28: {=IFERROR(INDEX(Analyses!$B:$B,(SMALL(IF($F$25=Analyses!$C:$C,ROW(Analyses!$C:$C)-MIN(ROW(Analyses!$C$1))+1,""),ROWS(F$26:F28)))),"")} | G28: {=IFERROR(INDEX(Analyses!$B:$B,(SMALL(IF($G$25=Analyses!$C:$C,ROW(Analyses!$C:$C)-MIN(ROW(Analyses!$C$1))+1,""),ROWS(G$26:G28)))),"")} | H28: {=IFERROR(INDEX(Analyses!$B:$B,(SMALL(IF($H$25=Analyses!$C:$C,ROW(Analyses!$C:$C)-MIN(ROW(Analyses!$C$1))+1,""),ROWS(H$26:H28)))),"")} | I28: {=IFERROR(INDEX(Analyses!$B:$B,(SMALL(IF($I$25=Analyses!$C:$C,ROW(Analyses!$C:$C)-MIN(ROW(Analyses!$C$1))+1,""),ROWS(I$26:I28)))),"")} | J28: {=IFERROR(INDEX(Analyses!$B:$B,(SMALL(IF($J$25=Analyses!$C:$C,ROW(Analyses!$C:$C)-MIN(ROW(Analyses!$C$1))+1,""),ROWS(J$26:J28)))),"")} | K28: {=IFERROR(INDEX(Analyses!$B:$B,(SMALL(IF($K$25=Analyses!$C:$C,ROW(Analyses!$C:$C)-MIN(ROW(Analyses!$C$1))+1,""),ROWS(K$26:K28)))),"")} | L28: {=IFERROR(INDEX(Analyses!$B:$B,(SMALL(IF($L$25=Analyses!$C:$C,ROW(Analyses!$C:$C)-MIN(ROW(Analyses!$C$1))+1,""),ROWS(L$26:L28)))),"")} | M28: {=IFERROR(INDEX(Analyses!$B:$B,(SMALL(IF($M$25=Analyses!$C:$C,ROW(Analyses!$C:$C)-MIN(ROW(Analyses!$C$1))+1,""),ROWS(M$26:M28)))),"")} | N28: {=IFERROR(INDEX(Analyses!$B:$B,(SMALL(IF($N$25=Analyses!$C:$C,ROW(Analyses!$C:$C)-MIN(ROW(Analyses!$C$1))+1,""),ROWS(N$26:N28)))),"")} | O28: {=IFERROR(INDEX(Analyses!$B:$B,(SMALL(IF($O$25=Analyses!$C:$C,ROW(Analyses!$C:$C)-MIN(ROW(Analyses!$C$1))+1,""),ROWS(O$26:O28)))),"")} | P28: {=IFERROR(INDEX(Analyses!$B:$B,(SMALL(IF($P$25=Analyses!$C:$C,ROW(Analyses!$C:$C)-MIN(ROW(Analyses!$C$1))+1,""),ROWS(P$26:P28)))),"")} | Q28: {=IFERROR(INDEX(Analyses!$B:$B,(SMALL(IF($Q$25=Analyses!$C:$C,ROW(Analyses!$C:$C)-MIN(ROW(Analyses!$C$1))+1,""),ROWS(Q$26:Q28)))),"")} | R28: {=IFERROR(INDEX(Analyses!$B:$B,(SMALL(IF($R$25=Analyses!$C:$C,ROW(Analyses!$C:$C)-MIN(ROW(Analyses!$C$1))+1,""),ROWS(R$26:R28)))),"")} | S28: {=IFERROR(INDEX(Analyses!$B:$B,(SMALL(IF($S$25=Analyses!$C:$C,ROW(Analyses!$C:$C)-MIN(ROW(Analyses!$C$1))+1,""),ROWS(S$26:S28)))),"")} | T28: {=IFERROR(INDEX(Analyses!$B:$B,(SMALL(IF($T$25=Analyses!$C:$C,ROW(Analyses!$C:$C)-MIN(ROW(Analyses!$C$1))+1,""),ROWS(T$26:T28)))),"")} | U28: {=IFERROR(INDEX(Analyses!$B:$B,(SMALL(IF($U$25=Analyses!$C:$C,ROW(Analyses!$C:$C)-MIN(ROW(Analyses!$C$1))+1,""),ROWS(U$26:U28)))),"")} | V28: {=IFERROR(INDEX(Analyses!$B:$B,(SMALL(IF($V$25=Analyses!$C:$C,ROW(Analyses!$C:$C)-MIN(ROW(Analyses!$C$1))+1,""),ROWS(V$26:V28)))),"")} | W28: {=IFERROR(INDEX(Analyses!$B:$B,(SMALL(IF($W$25=Analyses!$C:$C,ROW(Analyses!$C:$C)-MIN(ROW(Analyses!$C$1))+1,""),ROWS(W$26:W28)))),"")} | X28: {=IFERROR(INDEX(Analyses!$B:$B,(SMALL(IF($X$25=Analyses!$C:$C,ROW(Analyses!$C:$C)-MIN(ROW(Analyses!$C$1))+1,""),ROWS(X$26:X28)))),"")} | Y28: {=IFERROR(INDEX(Analyses!$B:$B,(SMALL(IF($Y$25=Analyses!$C:$C,ROW(Analyses!$C:$C)-MIN(ROW(Analyses!$C$1))+1,""),ROWS(Y$26:Y28)))),"")} | Z28: {=IFERROR(INDEX(Analyses!$B:$B,(SMALL(IF($Z$25=Analyses!$C:$C,ROW(Analyses!$C:$C)-MIN(ROW(Analyses!$C$1))+1,""),ROWS(Z$26:Z28)))),"")}
C29: {=IFERROR(INDEX(Analyses!$B:$B,(SMALL(IF($C$25=Analyses!$C:$C,ROW(Analyses!$C:$C)-MIN(ROW(Analyses!$C$1))+1,""),ROWS(C$26:C29)))),"")} | D29: {=IFERROR(INDEX(Analyses!$B:$B,(SMALL(IF($D$25=Analyses!$C:$C,ROW(Analyses!$C:$C)-MIN(ROW(Analyses!$C$1))+1,""),ROWS(D$26:D29)))),"")} | E29: {=IFERROR(INDEX(Analyses!$B:$B,(SMALL(IF($E$25=Analyses!$C:$C,ROW(Analyses!$C:$C)-MIN(ROW(Analyses!$C$1))+1,""),ROWS(E$26:E29)))),"")} | F29: {=IFERROR(INDEX(Analyses!$B:$B,(SMALL(IF($F$25=Analyses!$C:$C,ROW(Analyses!$C:$C)-MIN(ROW(Analyses!$C$1))+1,""),ROWS(F$26:F29)))),"")} | G29: {=IFERROR(INDEX(Analyses!$B:$B,(SMALL(IF($G$25=Analyses!$C:$C,ROW(Analyses!$C:$C)-MIN(ROW(Analyses!$C$1))+1,""),ROWS(G$26:G29)))),"")} | H29: {=IFERROR(INDEX(Analyses!$B:$B,(SMALL(IF($H$25=Analyses!$C:$C,ROW(Analyses!$C:$C)-MIN(ROW(Analyses!$C$1))+1,""),ROWS(H$26:H29)))),"")} | I29: {=IFERROR(INDEX(Analyses!$B:$B,(SMALL(IF($I$25=Analyses!$C:$C,ROW(Analyses!$C:$C)-MIN(ROW(Analyses!$C$1))+1,""),ROWS(I$26:I29)))),"")} | J29: {=IFERROR(INDEX(Analyses!$B:$B,(SMALL(IF($J$25=Analyses!$C:$C,ROW(Analyses!$C:$C)-MIN(ROW(Analyses!$C$1))+1,""),ROWS(J$26:J29)))),"")} | K29: {=IFERROR(INDEX(Analyses!$B:$B,(SMALL(IF($K$25=Analyses!$C:$C,ROW(Analyses!$C:$C)-MIN(ROW(Analyses!$C$1))+1,""),ROWS(K$26:K29)))),"")} | L29: {=IFERROR(INDEX(Analyses!$B:$B,(SMALL(IF($L$25=Analyses!$C:$C,ROW(Analyses!$C:$C)-MIN(ROW(Analyses!$C$1))+1,""),ROWS(L$26:L29)))),"")} | M29: {=IFERROR(INDEX(Analyses!$B:$B,(SMALL(IF($M$25=Analyses!$C:$C,ROW(Analyses!$C:$C)-MIN(ROW(Analyses!$C$1))+1,""),ROWS(M$26:M29)))),"")} | N29: {=IFERROR(INDEX(Analyses!$B:$B,(SMALL(IF($N$25=Analyses!$C:$C,ROW(Analyses!$C:$C)-MIN(ROW(Analyses!$C$1))+1,""),ROWS(N$26:N29)))),"")} | O29: {=IFERROR(INDEX(Analyses!$B:$B,(SMALL(IF($O$25=Analyses!$C:$C,ROW(Analyses!$C:$C)-MIN(ROW(Analyses!$C$1))+1,""),ROWS(O$26:O29)))),"")} | P29: {=IFERROR(INDEX(Analyses!$B:$B,(SMALL(IF($P$25=Analyses!$C:$C,ROW(Analyses!$C:$C)-MIN(ROW(Analyses!$C$1))+1,""),ROWS(P$26:P29)))),"")} | Q29: {=IFERROR(INDEX(Analyses!$B:$B,(SMALL(IF($Q$25=Analyses!$C:$C,ROW(Analyses!$C:$C)-MIN(ROW(Analyses!$C$1))+1,""),ROWS(Q$26:Q29)))),"")} | R29: {=IFERROR(INDEX(Analyses!$B:$B,(SMALL(IF($R$25=Analyses!$C:$C,ROW(Analyses!$C:$C)-MIN(ROW(Analyses!$C$1))+1,""),ROWS(R$26:R29)))),"")} | S29: {=IFERROR(INDEX(Analyses!$B:$B,(SMALL(IF($S$25=Analyses!$C:$C,ROW(Analyses!$C:$C)-MIN(ROW(Analyses!$C$1))+1,""),ROWS(S$26:S29)))),"")} | T29: {=IFERROR(INDEX(Analyses!$B:$B,(SMALL(IF($T$25=Analyses!$C:$C,ROW(Analyses!$C:$C)-MIN(ROW(Analyses!$C$1))+1,""),ROWS(T$26:T29)))),"")} | U29: {=IFERROR(INDEX(Analyses!$B:$B,(SMALL(IF($U$25=Analyses!$C:$C,ROW(Analyses!$C:$C)-MIN(ROW(Analyses!$C$1))+1,""),ROWS(U$26:U29)))),"")} | V29: {=IFERROR(INDEX(Analyses!$B:$B,(SMALL(IF($V$25=Analyses!$C:$C,ROW(Analyses!$C:$C)-MIN(ROW(Analyses!$C$1))+1,""),ROWS(V$26:V29)))),"")} | W29: {=IFERROR(INDEX(Analyses!$B:$B,(SMALL(IF($W$25=Analyses!$C:$C,ROW(Analyses!$C:$C)-MIN(ROW(Analyses!$C$1))+1,""),ROWS(W$26:W29)))),"")} | X29: {=IFERROR(INDEX(Analyses!$B:$B,(SMALL(IF($X$25=Analyses!$C:$C,ROW(Analyses!$C:$C)-MIN(ROW(Analyses!$C$1))+1,""),ROWS(X$26:X29)))),"")} | Y29: {=IFERROR(INDEX(Analyses!$B:$B,(SMALL(IF($Y$25=Analyses!$C:$C,ROW(Analyses!$C:$C)-MIN(ROW(Analyses!$C$1))+1,""),ROWS(Y$26:Y29)))),"")} | Z29: {=IFERROR(INDEX(Analyses!$B:$B,(SMALL(IF($Z$25=Analyses!$C:$C,ROW(Analyses!$C:$C)-MIN(ROW(Analyses!$C$1))+1,""),ROWS(Z$26:Z29)))),"")}
A30: =B33 -> 43635 | C30: =$B$33+C$4 -> 43635 | D30: =$B$33+D$4 -> 43635.042 | E30: =$B$33+E$4 -> 43635.083 | F30: =$B$33+F$4 -> 43635.125 | G30: =$B$33+G$4 -> 43635.167 | H30: =$B$33+H$4 -> 43635.208 | I30: =$B$33+I$4 -> 43635.25 | J30: =$B$33+J$4 -> 43635.292 | ... Z30: =$B$33+Z$4 -> 43635.958
