Workbook
Name ident: 'suivi de production '!$B$8:$M$73
Name ref: 'suivi de production '!$B$7:$M$7

Sheet suivi de production 
E2: 21540 | I2: Exemple
F7: Description | H7: Batch 1/2 | J7: Batch 2/2 | L7: Batch 3/2
B8: 0 | D8: REACTEUR A | E8: 0 | F8: RACTEUR A | I8: 0
B9: =E9&"_"&COUNTIF($E$9:E9,E9) -> 0_1 | C9: 0 | E9: 0 | I9: 0
B10: =E10&"_"&COUNTIF($E$9:E10,E10) -> _1 | C10: =IF(COUNTIF(E$9:$E9,E10)>0,"",MAX($C9:C$9)+1) | D10: mettre sous vide le réacteur | H10: 5 | J10: 5 | L10: 5
B11: =E11&"_"&COUNTIF($E$9:E11,E11) -> _1 | C11: =IF(COUNTIF(E$9:$E10,E11)>0,"",MAX($C$9:C10)+1) | D11: laisser sous vide fermé le réacteur | H11: 15 | J11: 15 | L11: 15
B12: =E12&"_"&COUNTIF($E$9:E12,E12) -> _1 | C12: =IF(COUNTIF(E$9:$E11,E12)>0,"",MAX($C$9:C11)+1) | D12: Casser le vide à l'azote | H12: 5 | J12: 5 | L12: 5
B13: =E13&"_"&COUNTIF($E$9:E13,E13) -> acétone_1 | C13: =IF(COUNTIF(E$9:$E12,E13)>0,"",MAX($C$9:C12)+1) -> 1 | D13: charger | E13: acétone | G13: Quant. / Lot | H13: 35 | I13: 17512001 | J13: 35 | K13: 17512001 | L13: 35 | M13: 17512001
B14: =E14&"_"&COUNTIF($E$9:E14,E14) -> _1 | C14: =IF(COUNTIF(E$9:$E13,E14)>0,"",MAX($C$9:C13)+1) | D14: chauffer la masse | F14: 20 | G14: 5 | H14: 15 | J14: 15 | L14: 15
B15: =E15&"_"&COUNTIF($E$9:E15,E15) -> hydroxyde de sodium 30_1 | C15: =IF(COUNTIF(E$9:$E14,E15)>0,"",MAX($C$9:C14)+1) -> 2 | D15: Ajouter | E15: hydroxyde de sodium 30 | G15: Quant. / Lot | H15: 25 | I15: CI-010 | J15: 25 | K15: CI-010 | L15: 25 | M15: CI-010
B16: =E16&"_"&COUNTIF($E$9:E16,E16) -> _1 | C16: =IF(COUNTIF(E$9:$E15,E16)>0,"",MAX($C$9:C15)+1) | D16: chauffer la masse | F16: 25 | G16: 5 | H16: 15 | J16: 15 | L16: 15
B17: =E17&"_"&COUNTIF($E$9:E17,E17) -> Chlorure de sodium_1 | C17: =IF(COUNTIF(E$9:$E16,E17)>0,"",MAX($C$9:C16)+1) -> 3 | D17: ajouter | E17: Chlorure de sodium | G17: Quant. / Lot | H17: 10 | I17: 17511000 | J17: 10 | K17: 17511000 | L17: 10 | M17: 17511000
B18: =E18&"_"&COUNTIF($E$9:E18,E18) -> _1 | C18: =IF(COUNTIF(E$9:$E17,E18)>0,"",MAX($C$9:C17)+1) | D18: Ajuster la température | F18: 25 | G18: 5 | H18: 10 | J18: 10 | L18: 10
B19: =E19&"_"&COUNTIF($E$9:E19,E19) -> _1 | C19: =IF(COUNTIF(E$9:$E18,E19)>0,"",MAX($C$9:C18)+1) | D19: Ajouter les oignons hachés dans la caserolle | H19: 1 | J19: 1 | L19: 1
B20: =E20&"_"&COUNTIF($E$9:E20,E20) -> _1 | C20: =IF(COUNTIF(E$9:$E19,E20)>0,"",MAX($C$9:C19)+1) | D20: Faire brunir les oignons à feu vif | H20: 5 | J20: 5 | L20: 5
B21: =E21&"_"&COUNTIF($E$9:E21,E21) -> _1 | C21: =IF(COUNTIF(E$9:$E20,E21)>0,"",MAX($C$9:C20)+1) | D21: REACTEUR B | I21: 0 | K21: 0 | M21: 0
B22: =E22&"_"&COUNTIF($E$9:E22,E22) -> 0_2 | C22: =IF(COUNTIF(E$9:$E21,E22)>0,"",MAX($C$9:C21)+1) | E22: 0 | I22: 0 | K22: 0 | M22: 0
B23: =E23&"_"&COUNTIF($E$9:E23,E23) -> _2 | C23: =IF(COUNTIF(E$9:$E22,E23)>0,"",MAX($C$9:C22)+1) | D23: mettre sous vide le réacteur | H23: 5 | J23: 5 | L23: 5
B24: =E24&"_"&COUNTIF($E$9:E24,E24) -> _2 | C24: =IF(COUNTIF(E$9:$E23,E24)>0,"",MAX($C$9:C23)+1) | D24: laisser sous vide fermé le réacteur | H24: 15 | J24: 15 | L24: 15
B25: =E25&"_"&COUNTIF($E$9:E25,E25) -> _2 | C25: =IF(COUNTIF(E$9:$E24,E25)>0,"",MAX($C$9:C24)+1) | D25: Casser le vide à l'azote | H25: 5 | J25: 5 | L25: 5
B26: =E26&"_"&COUNTIF($E$9:E26,E26) -> acétone_2 | C26: =IF(COUNTIF(E$9:$E25,E26)>0,"",MAX($C$9:C25)+1) | D26: charger | E26: acétone | G26: Quant. / Lot | H26: 20 | I26: 17512002 | J26: 20 | K26: 17512002 | L26: 20 | M26: 17512002
B27: =E27&"_"&COUNTIF($E$9:E27,E27) -> _2 | C27: =IF(COUNTIF(E$9:$E26,E27)>0,"",MAX($C$9:C26)+1) | D27: chauffer la masse | F27: 50 | G27: 5 | H27: 15 | J27: 15 | L27: 15
B28: =E28&"_"&COUNTIF($E$9:E28,E28) -> Acide chlorhydrique 33%_1 | C28: =IF(COUNTIF(E$9:$E27,E28)>0,"",MAX($C$9:C27)+1) -> 4 | D28: charger | E28: Acide chlorhydrique 33% | G28: Quant. / Lot | H28: 20 | I28: CI-007 | J28: 20 | K28: CI-007 | L28: 20 | M28: CI-007
B29: =E29&"_"&COUNTIF($E$9:E29,E29) -> _2 | C29: =IF(COUNTIF(E$9:$E28,E29)>0,"",MAX($C$9:C28)+1) | D29: inerter à l'azote | H29: 5 | J29: 5 | L29: 5
B30: =E30&"_"&COUNTIF($E$9:E30,E30) -> _2 | C30: =IF(COUNTIF(E$9:$E29,E30)>0,"",MAX($C$9:C29)+1) | D30: Dosage du réacteur B au A | I30: 0 | K30: 0 | M30: 0
B31: =E31&"_"&COUNTIF($E$9:E31,E31) -> _2 | C31: =IF(COUNTIF(E$9:$E30,E31)>0,"",MAX($C$9:C30)+1) | D31: Doser en maintenant | F31: 50 | G31: 5 | H31: 50 | J31: 50 | L31: 50
B32: =E32&"_"&COUNTIF($E$9:E32,E32) -> _2 | C32: =IF(COUNTIF(E$9:$E31,E32)>0,"",MAX($C$9:C31)+1) | D32: Rincer la ligne de transfert avec | H32: 5 | J32: 5 | L32: 5
B33: =E33&"_"&COUNTIF($E$9:E33,E33) -> acétone_3 | C33: =IF(COUNTIF(E$9:$E32,E33)>0,"",MAX($C$9:C32)+1) | E33: acétone | G33: Quant. / Lot | H33: 5 | I33: 17512001 | J33: 5 | K33: 17512001 | L33: 5 | M33: 17512001
B34: =E34&"_"&COUNTIF($E$9:E34,E34) -> _2 | C34: =IF(COUNTIF(E$9:$E33,E34)>0,"",MAX($C$9:C33)+1) | D34: Régler le pH à 7.0 ( 6.7…7.3 ) | F34: 50 | G34: 5
B35: =E35&"_"&COUNTIF($E$9:E35,E35) -> _2 | C35: =IF(COUNTIF(E$9:$E34,E35)>0,"",MAX($C$9:C34)+1) | D35: si pH > 7 avec acide chlorhydrique 33%
B36: =E36&"_"&COUNTIF($E$9:E36,E36) -> _2 | C36: =IF(COUNTIF(E$9:$E35,E36)>0,"",MAX($C$9:C35)+1) | D36: Si pH < 7 avec hydroxyde de sodium | H36: 7 | I36: CI-011 | J36: 8.2 | K36: CI-011 | L36: 7.6 | M36: CI-011
B37: =E37&"_"&COUNTIF($E$9:E37,E37) -> _2 | C37: =IF(COUNTIF(E$9:$E36,E37)>0,"",MAX($C$9:C36)+1) | D37: pH initial | H37: 8.4 | J37: 8.4 | L37: 8.4
B38: =E38&"_"&COUNTIF($E$9:E38,E38) -> _2 | C38: =IF(COUNTIF(E$9:$E37,E38)>0,"",MAX($C$9:C37)+1) | D38: pH final | H38: 7.1 | J38: 7.1 | L38: 7.1
B39: =E39&"_"&COUNTIF($E$9:E39,E39) -> _2 | C39: =IF(COUNTIF(E$9:$E38,E39)>0,"",MAX($C$9:C38)+1) | D39: Durée du réglage pH | H39: 25 | J39: 25 | L39: 25
B40: =E40&"_"&COUNTIF($E$9:E40,E40) -> _2 | C40: =IF(COUNTIF(E$9:$E39,E40)>0,"",MAX($C$9:C39)+1) | D40: Brasser à Ti = 25°C durant 10 min minimum | H40: 15 | J40: 15 | L40: 15
B41: =E41&"_"&COUNTIF($E$9:E41,E41) -> _2 | C41: =IF(COUNTIF(E$9:$E40,E41)>0,"",MAX($C$9:C40)+1) | D41: Refroidir la masse | F41: 20 | G41: 5 | H41: 20 | J41: 20 | L41: 20
B42: =E42&"_"&COUNTIF($E$9:E42,E42) -> _2 | C42: =IF(COUNTIF(E$9:$E41,E42)>0,"",MAX($C$9:C41)+1) | D42: ="Analysis : " &$E$2&" CRA" -> Analysis : 21540 CRA | G42: Number / Result : | H42: 62117 | I42: = E.O. | J42: 63120 | K42: = E.O. | L42: 63122 | M42: = E.O.
B43: =E43&"_"&COUNTIF($E$9:E43,E43) -> _2 | C43: =IF(COUNTIF(E$9:$E42,E43)>0,"",MAX($C$9:C42)+1) | D43: si analyse non conforme | H43: - | J43: - | L43: -
B44: =E44&"_"&COUNTIF($E$9:E44,E44) -> _2 | C44: =IF(COUNTIF(E$9:$E43,E44)>0,"",MAX($C$9:C43)+1) | D44: brasser 30 minutes de plus | H44: - | J44: - | L44: -
B45: =E45&"_"&COUNTIF($E$9:E45,E45) -> _2 | C45: =IF(COUNTIF(E$9:$E44,E45)>0,"",MAX($C$9:C44)+1) | D45: ="Analysis : " &$E$2&" CRA 2X" -> Analysis : 21540 CRA 2X | G45: Number / Result :
B46: =E46&"_"&COUNTIF($E$9:E46,E46) -> tamis moléculaire_1 | C46: =IF(COUNTIF(E$9:$E45,E46)>0,"",MAX($C$9:C45)+1) -> 5 | D46: Ajout | E46: tamis moléculaire | G46: Quantity / Batch | H46: 24 | I46: 17313001 | J46: 24 | K46: 17313001 | L46: 24 | M46: 17313001
B47: =E47&"_"&COUNTIF($E$9:E47,E47) -> _2 | C47: =IF(COUNTIF(E$9:$E46,E47)>0,"",MAX($C$9:C46)+1) | D47: Refroidir la masse | F47: 10 | G47: 5 | H47: 50 | J47: 50 | L47: 50
B48: =E48&"_"&COUNTIF($E$9:E48,E48) -> célite clarcel_1 | C48: =IF(COUNTIF(E$9:$E47,E48)>0,"",MAX($C$9:C47)+1) -> 6 | D48: Ajout | E48: célite clarcel | G48: Quantity / Batch | H48: 5 | I48: 19383032 | J48: 5 | K48: 19383032 | L48: 5 | M48: 19383032
B49: =E49&"_"&COUNTIF($E$9:E49,E49) -> _2 | C49: =IF(COUNTIF(E$9:$E48,E49)>0,"",MAX($C$9:C48)+1) | D49: Refroidir la masse | F49: 5 | G49: 5 | H49: 10 | J49: 10 | L49: 10
B50: =E50&"_"&COUNTIF($E$9:E50,E50) -> _2 | C50: =IF(COUNTIF(E$9:$E49,E50)>0,"",MAX($C$9:C49)+1) | D50: Brasser la masse | F50: 5 | G50: 5 | H50: 60 | J50: 60 | L50: 60
B51: =E51&"_"&COUNTIF($E$9:E51,E51) -> _2 | C51: =IF(COUNTIF(E$9:$E50,E51)>0,"",MAX($C$9:C50)+1) | D51: REACTEUR B | I51: 0 | K51: 0 | M51: 0
B52: =E52&"_"&COUNTIF($E$9:E52,E52) -> _2 | C52: =IF(COUNTIF(E$9:$E51,E52)>0,"",MAX($C$9:C51)+1) | D52: Inerter | H52: E.O. | J52: E.O. | L52: E.O.
B53: =E53&"_"&COUNTIF($E$9:E53,E53) -> Acétone_4 | C53: =IF(COUNTIF(E$9:$E52,E53)>0,"",MAX($C$9:C52)+1) | D53: Charger | E53: Acétone | G53: Quantity / Batch | H53: 20 | I53: 17512001 | J53: 20 | K53: 17512001 | L53: 20 | M53: 17512001
B54: =E54&"_"&COUNTIF($E$9:E54,E54) -> _2 | C54: =IF(COUNTIF(E$9:$E53,E54)>0,"",MAX($C$9:C53)+1) | D54: Ajuster la température | F54: 25 | G54: 5 | H54: 5 | J54: 5 | L54: 5
B55: =E55&"_"&COUNTIF($E$9:E55,E55) -> _2 | C55: =IF(COUNTIF(E$9:$E54,E55)>0,"",MAX($C$9:C54)+1) | D55: Dosage du réacteur B au A | I55: 0 | K55: 0 | M55: 0
B56: =E56&"_"&COUNTIF($E$9:E56,E56) -> _2 | C56: =IF(COUNTIF(E$9:$E55,E56)>0,"",MAX($C$9:C55)+1) | D56: Durée du dosage | F56: 25 | G56: 5 | H56: 10 | J56: 10 | L56: 10
B57: =E57&"_"&COUNTIF($E$9:E57,E57) -> _2 | C57: =IF(COUNTIF(E$9:$E56,E57)>0,"",MAX($C$9:C56)+1) | D57: Température intérieure | G57: min. / max. | H57: 25 - 28°C | J57: 25 - 28°C | L57: 25 - 28°C
B58: =E58&"_"&COUNTIF($E$9:E58,E58) -> _2 | C58: =IF(COUNTIF(E$9:$E57,E58)>0,"",MAX($C$9:C57)+1) | D58: Ajuster la température | F58: 25 | G58: 5 | H58: 10 | J58: 10 | L58: 10
B59: =E59&"_"&COUNTIF($E$9:E59,E59) -> _2 | C59: =IF(COUNTIF(E$9:$E58,E59)>0,"",MAX($C$9:C58)+1) | D59: ="Analysis : " &$E$2&" CRB" -> Analysis : 21540 CRB | G59: Number / Result : | H59: 62118 | I59: = E.O. | J59: 63152 | K59: = E.O. | L59: 63156 | M59: = E.O.
B60: =E60&"_"&COUNTIF($E$9:E60,E60) -> _2 | C60: =IF(COUNTIF(E$9:$E59,E60)>0,"",MAX($C$9:C59)+1) | D60: si analyse non conforme | H60: - | J60: - | L60: -
B61: =E61&"_"&COUNTIF($E$9:E61,E61) -> _2 | C61: =IF(COUNTIF(E$9:$E60,E61)>0,"",MAX($C$9:C60)+1) | D61: brasser 30 minutes de plus | H61: - | J61: - | L61: -
B62: =E62&"_"&COUNTIF($E$9:E62,E62) -> _2 | C62: =IF(COUNTIF(E$9:$E61,E62)>0,"",MAX($C$9:C61)+1) | D62: ="Analysis : " &$E$2&" CRB 2X" -> Analysis : 21540 CRB 2X | G62: Number / Result :
B63: =E63&"_"&COUNTIF($E$9:E63,E63) -> _2 | C63: =IF(COUNTIF(E$9:$E62,E63)>0,"",MAX($C$9:C62)+1) | D63: Refroidir la masse | F63: 5 | G63: 5 | H63: 1 h 30 | J63: 1 h 30 | L63: 1 h 30
B64: =E64&"_"&COUNTIF($E$9:E64,E64) -> tamis moléculaire_2 | C64: =IF(COUNTIF(E$9:$E63,E64)>0,"",MAX($C$9:C63)+1) | D64: Ajout | E64: tamis moléculaire | G64: Quantity / Batch | H64: 5 | I64: 17313002 | J64: 5 | K64: 17313002 | L64: 5 | M64: 17313002
B65: =E65&"_"&COUNTIF($E$9:E65,E65) -> _2 | C65: =IF(COUNTIF(E$9:$E64,E65)>0,"",MAX($C$9:C64)+1) | D65: Ajuster la température | F65: 5 | G65: 5 | H65: 10 | J65: 10 | L65: 10
B66: =E66&"_"&COUNTIF($E$9:E66,E66) -> _2 | C66: =IF(COUNTIF(E$9:$E65,E66)>0,"",MAX($C$9:C65)+1) | D66: Brasser la masse | F66: 5 | G66: 5 | H66: 2 h | J66: 2 h | L66: 2 h
B67: =E67&"_"&COUNTIF($E$9:E67,E67) -> _2 | C67: =IF(COUNTIF(E$9:$E66,E67)>0,"",MAX($C$9:C66)+1) | D67: Essorage | H67: 115-100 | J67: 115-100 | L67: 115-100
B68: =E68&"_"&COUNTIF($E$9:E68,E68) -> _2 | C68: =IF(COUNTIF(E$9:$E67,E68)>0,"",MAX($C$9:C67)+1) | G68: Nombre d'essoreuse | H68: 2 | J68: 2 | L68: 2
B69: =E69&"_"&COUNTIF($E$9:E69,E69) -> _2 | C69: =IF(COUNTIF(E$9:$E68,E69)>0,"",MAX($C$9:C68)+1) | D69: Durée d'essorage | H69: 6 h | J69: 6 h | L69: 6 h
B70: =E70&"_"&COUNTIF($E$9:E70,E70) -> acétone_5 | C70: =IF(COUNTIF(E$9:$E69,E70)>0,"",MAX($C$9:C69)+1) | D70: Ajout | E70: acétone | G70: Quantity / Batch | H70: 40 | I70: 17512002 | J70: 20 | K70: 17512002 | L70: 20 | M70: 17512002
B71: =E71&"_"&COUNTIF($E$9:E71,E71) -> _2 | C71: =IF(COUNTIF(E$9:$E70,E71)>0,"",MAX($C$9:C70)+1) | G71: weigth cake : | H71: 266 | J71: 266 | L71: 266
B72: =E72&"_"&COUNTIF($E$9:E72,E72) -> _2 | C72: =IF(COUNTIF(E$9:$E71,E72)>0,"",MAX($C$9:C71)+1) | D72: ="Analysis : " &$E$2&" INT" -> Analysis : 21540 INT | G72: Quant. / Lot | H72: 62234 | J72: 64001 | L72: 640123
B73: =E73&"_"&COUNTIF($E$9:E73,E73) -> Produit humide_1 | C73: =IF(COUNTIF(E$9:$E72,E73)>0,"",MAX($C$9:C72)+1) -> 7 | E73: Produit humide | G73: Quantity / Batch | H73: 771 | I73: 19474006 | J73: 745 | K73: 19474009 | L73: 756 | M73: 19474011

Sheet analysis
G3: ='suivi de production '!H7 -> Batch 1/2 | I3: ='suivi de production '!J7 -> Batch 2/2 | K3: ='suivi de production '!L7 -> Batch 3/2
B4: ='suivi de production '!D42 -> Analysis : 21540 CRA | G4: CRA 1X | H4: CRA 2X | I4: CRA 1X | J4: CRA 2X | K4: CRA 1X | L4: CRA 2X
F5: Number : | G5: ='suivi de production '!H42 -> 62117 | H5: ='suivi de production '!H45 -> 0 | I5: ='suivi de production '!J42 -> 63120 | J5: ='suivi de production '!J45 -> 0 | K5: ='suivi de production '!L42 -> 63122 | L5: ='suivi de production '!L45 -> 0
C6: Eau (KF) par colilométrie | E6: 0.02 | F6: ( V / V ) | G6: 0.01
B9: ='suivi de production '!D59 -> Analysis : 21540 CRB | G9: CRB 1X | H9: CRB 2X | I9: CRB 1X | J9: CRB 2X | K9: CRB 1X | L9: CRB 2X
F10: Number : | G10: ='suivi de production '!H59 -> 62118 | H10: ='suivi de production '!H45 -> 0 | I10: ='suivi de production '!J59 -> 63152 | J10: ='suivi de production '!J45 -> 0 | K10: ='suivi de production '!L59 -> 63156 | L10: ='suivi de production '!L45 -> 0
C11: Eau (KF) par colilométrie | E11: 0.03 | F11: ( V / V ) | G11: 0.02 | H11: -
B14: ='suivi de production '!D72 -> Analysis : 21540 INT | F14: Number : | G14: ='suivi de production '!H72 -> 62234 | I14: ='suivi de production '!J72 -> 64001 | K14: ='suivi de production '!L72 -> 640123
C16: Pas d'analyse | G16: conforme

Sheet consommation spécifique 
D1: Specific consumption
D2: 1st | E2: =B10 -> hydroxyde de sodium 30
B5: Product | C5: ='suivi de production '!H7 -> Batch 1/2 | E5: ='suivi de production '!J7 -> Batch 2/2 | G5: ='suivi de production '!L7 -> Batch 3/2
B6: Intermediates
B7: Starting materials | C7: Lot | D7: Quantity | E7: Lot | F7: Quantity | G7: Lot | H7: Quantity
D8: (Kg) | F8: (Kg) | H8: (Kg)
B9: =IFERROR(VLOOKUP(ROWS('suivi de production '!$B$10:'suivi de production '!B10),'suivi de production '!C9:E73,3,0),"") -> acétone | C9: =IFERROR(VLOOKUP(B9&"_"&1,ident,9,0),"") -> 35 | D9: =SUM(IFERROR(VLOOKUP($B9&"_"&1,ident,MATCH($C$5,ref,0),0),0),(IFERROR(VLOOKUP($B9&"_"&2,ident,MATCH($C$5,ref,0),0),0)),(IFERROR(VLOOKUP($B9&"_"&3,ident,MATCH($C$5,ref,0),0),0)),(IFERROR(VLOOKUP($B9&"_"&4,ident,MATCH($C$5,ref,0),0),0)),(IFERROR(VLOOKUP($B9&"_"&5,ident,MATCH($C$5,ref,0),0),0)),(IFERROR(VLOOKUP($B9&"_"&6,ident,MATCH($C$5,ref,0),0),0)),(IFERROR(VLOOKUP($B9&"_"&7,ident,MATCH($C$5,ref,0),0),0)),(IFERROR(VLOOKUP($B9&"_"&8,ident,MATCH($C$5,ref,0),0),0)),(IFERROR(VLOOKUP($B9&"_"&9,ident,MATCH($C$5,ref,0),0),0)),(IFERROR(VLOOKUP($B9&"_"&10,ident,MATCH($C$5,ref,0),0),0))) -> 120 | E9: =IFERROR(VLOOKUP(B9&"_"&1,ident,9,0),"") -> 35 | F9: =SUM(IFERROR(VLOOKUP($B9&"_"&1,ident,MATCH($E$5,ref,0),0),0),(IFERROR(VLOOKUP($B9&"_"&2,ident,MATCH($E$5,ref,0),0),0)),(IFERROR(VLOOKUP($B9&"_"&3,ident,MATCH($E$5,ref,0),0),0)),(IFERROR(VLOOKUP($B9&"_"&4,ident,MATCH($E$5,ref,0),0),0)),(IFERROR(VLOOKUP($B9&"_"&5,ident,MATCH($E$5,ref,0),0),0)),(IFERROR(VLOOKUP($B9&"_"&6,ident,MATCH($E$5,ref,0),0),0)),(IFERROR(VLOOKUP($B9&"_"&7,ident,MATCH($E$5,ref,0),0),0)),(IFERROR(VLOOKUP($B9&"_"&8,ident,MATCH($E$5,ref,0),0),0)),(IFERROR(VLOOKUP($B9&"_"&9,ident,MATCH($E$5,ref,0),0),0)),(IFERROR(VLOOKUP($B9&"_"&10,ident,MATCH($E$5,ref,0),0),0))) -> 100 | G9: =IFERROR(VLOOKUP(B9&"_"&1,ident11,0),"") | H9: =SUM(IFERROR(VLOOKUP($B9&"_"&1,ident,MATCH($G$5,ref,0),0),0),(IFERROR(VLOOKUP($B9&"_"&2,ident,MATCH($G$5,ref,0),0),0)),(IFERROR(VLOOKUP($B9&"_"&3,ident,MATCH($G$5,ref,0),0),0)),(IFERROR(VLOOKUP($B9&"_"&4,ident,MATCH($G$5,ref,0),0),0)),(IFERROR(VLOOKUP($B9&"_"&5,ident,MATCH($G$5,ref,0),0),0)),(IFERROR(VLOOKUP($B9&"_"&6,ident,MATCH($G$5,ref,0),0),0)),(IFERROR(VLOOKUP($B9&"_"&7,ident,MATCH($G$5,ref,0),0),0)),(IFERROR(VLOOKUP($B9&"_"&8,ident,MATCH($G$5,ref,0),0),0)),(IFERROR(VLOOKUP($B9&"_"&9,ident,MATCH($G$5,ref,0),0),0)),(IFERROR(VLOOKUP($B9&"_"&10,ident,MATCH($G$5,ref,0),0),0))) -> 100
B10: =IFERROR(VLOOKUP(ROWS('suivi de production '!$B$10:'suivi de production '!B11),'suivi de production '!C10:E74,3,0),"") -> hydroxyde de sodium 30 | C10: =IFERROR(VLOOKUP(B10&"_"&1,ident,9,0),"") -> 25 | D10: =SUM(IFERROR(VLOOKUP($B10&"_"&1,ident,MATCH($C$5,ref,0),0),0),(IFERROR(VLOOKUP($B10&"_"&2,ident,MATCH($C$5,ref,0),0),0)),(IFERROR(VLOOKUP($B10&"_"&3,ident,MATCH($C$5,ref,0),0),0)),(IFERROR(VLOOKUP($B10&"_"&4,ident,MATCH($C$5,ref,0),0),0)),(IFERROR(VLOOKUP($B10&"_"&5,ident,MATCH($C$5,ref,0),0),0)),(IFERROR(VLOOKUP($B10&"_"&6,ident,MATCH($C$5,ref,0),0),0)),(IFERROR(VLOOKUP($B10&"_"&7,ident,MATCH($C$5,ref,0),0),0)),(IFERROR(VLOOKUP($B10&"_"&8,ident,MATCH($C$5,ref,0),0),0)),(IFERROR(VLOOKUP($B10&"_"&9,ident,MATCH($C$5,ref,0),0),0)),(IFERROR(VLOOKUP($B10&"_"&10,ident,MATCH($C$5,ref,0),0),0))) -> 25 | E10: =IFERROR(VLOOKUP(B10&"_"&1,ident,9,0),"") -> 25 | F10: =SUM(IFERROR(VLOOKUP($B10&"_"&1,ident,MATCH($E$5,ref,0),0),0),(IFERROR(VLOOKUP($B10&"_"&2,ident,MATCH($E$5,ref,0),0),0)),(IFERROR(VLOOKUP($B10&"_"&3,ident,MATCH($E$5,ref,0),0),0)),(IFERROR(VLOOKUP($B10&"_"&4,ident,MATCH($E$5,ref,0),0),0)),(IFERROR(VLOOKUP($B10&"_"&5,ident,MATCH($E$5,ref,0),0),0)),(IFERROR(VLOOKUP($B10&"_"&6,ident,MATCH($E$5,ref,0),0),0)),(IFERROR(VLOOKUP($B10&"_"&7,ident,MATCH($E$5,ref,0),0),0)),(IFERROR(VLOOKUP($B10&"_"&8,ident,MATCH($E$5,ref,0),0),0)),(IFERROR(VLOOKUP($B10&"_"&9,ident,MATCH($E$5,ref,0),0),0)),(IFERROR(VLOOKUP($B10&"_"&10,ident,MATCH($E$5,ref,0),0),0))) -> 25 | G10: =IFERROR(VLOOKUP(B10&"_"&1,ident11,0),"") | H10: =SUM(IFERROR(VLOOKUP($B10&"_"&1,ident,MATCH($G$5,ref,0),0),0),(IFERROR(VLOOKUP($B10&"_"&2,ident,MATCH($G$5,ref,0),0),0)),(IFERROR(VLOOKUP($B10&"_"&3,ident,MATCH($G$5,ref,0),0),0)),(IFERROR(VLOOKUP($B10&"_"&4,ident,MATCH($G$5,ref,0),0),0)),(IFERROR(VLOOKUP($B10&"_"&5,ident,MATCH($G$5,ref,0),0),0)),(IFERROR(VLOOKUP($B10&"_"&6,ident,MATCH($G$5,ref,0),0),0)),(IFERROR(VLOOKUP($B10&"_"&7,ident,MATCH($G$5,ref,0),0),0)),(IFERROR(VLOOKUP($B10&"_"&8,ident,MATCH($G$5,ref,0),0),0)),(IFERROR(VLOOKUP($B10&"_"&9,ident,MATCH($G$5,ref,0),0),0)),(IFERROR(VLOOKUP($B10&"_"&10,ident,MATCH($G$5,ref,0),0),0))) -> 25
B11: =IFERROR(VLOOKUP(ROWS('suivi de production '!$B$10:'suivi de production '!B12),'suivi de production '!C11:E75,3,0),"") -> Chlorure de sodium | C11: =IFERROR(VLOOKUP(B11&"_"&1,ident,9,0),"") -> 10 | D11: =SUM(IFERROR(VLOOKUP($B11&"_"&1,ident,MATCH($C$5,ref,0),0),0),(IFERROR(VLOOKUP($B11&"_"&2,ident,MATCH($C$5,ref,0),0),0)),(IFERROR(VLOOKUP($B11&"_"&3,ident,MATCH($C$5,ref,0),0),0)),(IFERROR(VLOOKUP($B11&"_"&4,ident,MATCH($C$5,ref,0),0),0)),(IFERROR(VLOOKUP($B11&"_"&5,ident,MATCH($C$5,ref,0),0),0)),(IFERROR(VLOOKUP($B11&"_"&6,ident,MATCH($C$5,ref,0),0),0)),(IFERROR(VLOOKUP($B11&"_"&7,ident,MATCH($C$5,ref,0),0),0)),(IFERROR(VLOOKUP($B11&"_"&8,ident,MATCH($C$5,ref,0),0),0)),(IFERROR(VLOOKUP($B11&"_"&9,ident,MATCH($C$5,ref,0),0),0)),(IFERROR(VLOOKUP($B11&"_"&10,ident,MATCH($C$5,ref,0),0),0))) -> 10 | E11: =IFERROR(VLOOKUP(B11&"_"&1,ident,9,0),"") -> 10 | F11: =SUM(IFERROR(VLOOKUP($B11&"_"&1,ident,MATCH($E$5,ref,0),0),0),(IFERROR(VLOOKUP($B11&"_"&2,ident,MATCH($E$5,ref,0),0),0)),(IFERROR(VLOOKUP($B11&"_"&3,ident,MATCH($E$5,ref,0),0),0)),(IFERROR(VLOOKUP($B11&"_"&4,ident,MATCH($E$5,ref,0),0),0)),(IFERROR(VLOOKUP($B11&"_"&5,ident,MATCH($E$5,ref,0),0),0)),(IFERROR(VLOOKUP($B11&"_"&6,ident,MATCH($E$5,ref,0),0),0)),(IFERROR(VLOOKUP($B11&"_"&7,ident,MATCH($E$5,ref,0),0),0)),(IFERROR(VLOOKUP($B11&"_"&8,ident,MATCH($E$5,ref,0),0),0)),(IFERROR(VLOOKUP($B11&"_"&9,ident,MATCH($E$5,ref,0),0),0)),(IFERROR(VLOOKUP($B11&"_"&10,ident,MATCH($E$5,ref,0),0),0))) -> 10 | G11: =IFERROR(VLOOKUP(B11&"_"&1,ident11,0),"") | H11: =SUM(IFERROR(VLOOKUP($B11&"_"&1,ident,MATCH($G$5,ref,0),0),0),(IFERROR(VLOOKUP($B11&"_"&2,ident,MATCH($G$5,ref,0),0),0)),(IFERROR(VLOOKUP($B11&"_"&3,ident,MATCH($G$5,ref,0),0),0)),(IFERROR(VLOOKUP($B11&"_"&4,ident,MATCH($G$5,ref,0),0),0)),(IFERROR(VLOOKUP($B11&"_"&5,ident,MATCH($G$5,ref,0),0),0)),(IFERROR(VLOOKUP($B11&"_"&6,ident,MATCH($G$5,ref,0),0),0)),(IFERROR(VLOOKUP($B11&"_"&7,ident,MATCH($G$5,ref,0),0),0)),(IFERROR(VLOOKUP($B11&"_"&8,ident,MATCH($G$5,ref,0),0),0)),(IFERROR(VLOOKUP($B11&"_"&9,ident,MATCH($G$5,ref,0),0),0)),(IFERROR(VLOOKUP($B11&"_"&10,ident,MATCH($G$5,ref,0),0),0))) -> 10
B12: =IFERROR(VLOOKUP(ROWS('suivi de production '!$B$10:'suivi de production '!B13),'suivi de production '!C12:E76,3,0),"") -> Acide chlorhydrique 33% | C12: =IFERROR(VLOOKUP(B12&"_"&1,ident,9,0),"") -> 20 | D12: =SUM(IFERROR(VLOOKUP($B12&"_"&1,ident,MATCH($C$5,ref,0),0),0),(IFERROR(VLOOKUP($B12&"_"&2,ident,MATCH($C$5,ref,0),0),0)),(IFERROR(VLOOKUP($B12&"_"&3,ident,MATCH($C$5,ref,0),0),0)),(IFERROR(VLOOKUP($B12&"_"&4,ident,MATCH($C$5,ref,0),0),0)),(IFERROR(VLOOKUP($B12&"_"&5,ident,MATCH($C$5,ref,0),0),0)),(IFERROR(VLOOKUP($B12&"_"&6,ident,MATCH($C$5,ref,0),0),0)),(IFERROR(VLOOKUP($B12&"_"&7,ident,MATCH($C$5,ref,0),0),0)),(IFERROR(VLOOKUP($B12&"_"&8,ident,MATCH($C$5,ref,0),0),0)),(IFERROR(VLOOKUP($B12&"_"&9,ident,MATCH($C$5,ref,0),0),0)),(IFERROR(VLOOKUP($B12&"_"&10,ident,MATCH($C$5,ref,0),0),0))) -> 20 | E12: =IFERROR(VLOOKUP(B12&"_"&1,ident,9,0),"") -> 20 | F12: =SUM(IFERROR(VLOOKUP($B12&"_"&1,ident,MATCH($E$5,ref,0),0),0),(IFERROR(VLOOKUP($B12&"_"&2,ident,MATCH($E$5,ref,0),0),0)),(IFERROR(VLOOKUP($B12&"_"&3,ident,MATCH($E$5,ref,0),0),0)),(IFERROR(VLOOKUP($B12&"_"&4,ident,MATCH($E$5,ref,0),0),0)),(IFERROR(VLOOKUP($B12&"_"&5,ident,MATCH($E$5,ref,0),0),0)),(IFERROR(VLOOKUP($B12&"_"&6,ident,MATCH($E$5,ref,0),0),0)),(IFERROR(VLOOKUP($B12&"_"&7,ident,MATCH($E$5,ref,0),0),0)),(IFERROR(VLOOKUP($B12&"_"&8,ident,MATCH($E$5,ref,0),0),0)),(IFERROR(VLOOKUP($B12&"_"&9,ident,MATCH($E$5,ref,0),0),0)),(IFERROR(VLOOKUP($B12&"_"&10,ident,MATCH($E$5,ref,0),0),0))) -> 20 | G12: =IFERROR(VLOOKUP(B12&"_"&1,ident11,0),"") | H12: =SUM(IFERROR(VLOOKUP($B12&"_"&1,ident,MATCH($G$5,ref,0),0),0),(IFERROR(VLOOKUP($B12&"_"&2,ident,MATCH($G$5,ref,0),0),0)),(IFERROR(VLOOKUP($B12&"_"&3,ident,MATCH($G$5,ref,0),0),0)),(IFERROR(VLOOKUP($B12&"_"&4,ident,MATCH($G$5,ref,0),0),0)),(IFERROR(VLOOKUP($B12&"_"&5,ident,MATCH($G$5,ref,0),0),0)),(IFERROR(VLOOKUP($B12&"_"&6,ident,MATCH($G$5,ref,0),0),0)),(IFERROR(VLOOKUP($B12&"_"&7,ident,MATCH($G$5,ref,0),0),0)),(IFERROR(VLOOKUP($B12&"_"&8,ident,MATCH($G$5,ref,0),0),0)),(IFERROR(VLOOKUP($B12&"_"&9,ident,MATCH($G$5,ref,0),0),0)),(IFERROR(VLOOKUP($B12&"_"&10,ident,MATCH($G$5,ref,0),0),0))) -> 20
B13: =IFERROR(VLOOKUP(ROWS('suivi de production '!$B$10:'suivi de production '!B14),'suivi de production '!C13:E77,3,0),"") -> tamis moléculaire | C13: =IFERROR(VLOOKUP(B13&"_"&1,ident,9,0),"") -> 24 | D13: =SUM(IFERROR(VLOOKUP($B13&"_"&1,ident,MATCH($C$5,ref,0),0),0),(IFERROR(VLOOKUP($B13&"_"&2,ident,MATCH($C$5,ref,0),0),0)),(IFERROR(VLOOKUP($B13&"_"&3,ident,MATCH($C$5,ref,0),0),0)),(IFERROR(VLOOKUP($B13&"_"&4,ident,MATCH($C$5,ref,0),0),0)),(IFERROR(VLOOKUP($B13&"_"&5,ident,MATCH($C$5,ref,0),0),0)),(IFERROR(VLOOKUP($B13&"_"&6,ident,MATCH($C$5,ref,0),0),0)),(IFERROR(VLOOKUP($B13&"_"&7,ident,MATCH($C$5,ref,0),0),0)),(IFERROR(VLOOKUP($B13&"_"&8,ident,MATCH($C$5,ref,0),0),0)),(IFERROR(VLOOKUP($B13&"_"&9,ident,MATCH($C$5,ref,0),0),0)),(IFERROR(VLOOKUP($B13&"_"&10,ident,MATCH($C$5,ref,0),0),0))) -> 29 | E13: =IFERROR(VLOOKUP(B13&"_"&1,ident,9,0),"") -> 24 | F13: =SUM(IFERROR(VLOOKUP($B13&"_"&1,ident,MATCH($E$5,ref,0),0),0),(IFERROR(VLOOKUP($B13&"_"&2,ident,MATCH($E$5,ref,0),0),0)),(IFERROR(VLOOKUP($B13&"_"&3,ident,MATCH($E$5,ref,0),0),0)),(IFERROR(VLOOKUP($B13&"_"&4,ident,MATCH($E$5,ref,0),0),0)),(IFERROR(VLOOKUP($B13&"_"&5,ident,MATCH($E$5,ref,0),0),0)),(IFERROR(VLOOKUP($B13&"_"&6,ident,MATCH($E$5,ref,0),0),0)),(IFERROR(VLOOKUP($B13&"_"&7,ident,MATCH($E$5,ref,0),0),0)),(IFERROR(VLOOKUP($B13&"_"&8,ident,MATCH($E$5,ref,0),0),0)),(IFERROR(VLOOKUP($B13&"_"&9,ident,MATCH($E$5,ref,0),0),0)),(IFERROR(VLOOKUP($B13&"_"&10,ident,MATCH($E$5,ref,0),0),0))) -> 29 | G13: =IFERROR(VLOOKUP(B13&"_"&1,ident11,0),"") | H13: =SUM(IFERROR(VLOOKUP($B13&"_"&1,ident,MATCH($G$5,ref,0),0),0),(IFERROR(VLOOKUP($B13&"_"&2,ident,MATCH($G$5,ref,0),0),0)),(IFERROR(VLOOKUP($B13&"_"&3,ident,MATCH($G$5,ref,0),0),0)),(IFERROR(VLOOKUP($B13&"_"&4,ident,MATCH($G$5,ref,0),0),0)),(IFERROR(VLOOKUP($B13&"_"&5,ident,MATCH($G$5,ref,0),0),0)),(IFERROR(VLOOKUP($B13&"_"&6,ident,MATCH($G$5,ref,0),0),0)),(IFERROR(VLOOKUP($B13&"_"&7,ident,MATCH($G$5,ref,0),0),0)),(IFERROR(VLOOKUP($B13&"_"&8,ident,MATCH($G$5,ref,0),0),0)),(IFERROR(VLOOKUP($B13&"_"&9,ident,MATCH($G$5,ref,0),0),0)),(IFERROR(VLOOKUP($B13&"_"&10,ident,MATCH($G$5,ref,0),0),0))) -> 29
B14: =IFERROR(VLOOKUP(ROWS('suivi de production '!$B$10:'suivi de production '!B15),'suivi de production '!C14:E78,3,0),"") -> célite clarcel | C14: =IFERROR(VLOOKUP(B14&"_"&1,ident,9,0),"") -> 5 | D14: =SUM(IFERROR(VLOOKUP($B14&"_"&1,ident,MATCH($C$5,ref,0),0),0),(IFERROR(VLOOKUP($B14&"_"&2,ident,MATCH($C$5,ref,0),0),0)),(IFERROR(VLOOKUP($B14&"_"&3,ident,MATCH($C$5,ref,0),0),0)),(IFERROR(VLOOKUP($B14&"_"&4,ident,MATCH($C$5,ref,0),0),0)),(IFERROR(VLOOKUP($B14&"_"&5,ident,MATCH($C$5,ref,0),0),0)),(IFERROR(VLOOKUP($B14&"_"&6,ident,MATCH($C$5,ref,0),0),0)),(IFERROR(VLOOKUP($B14&"_"&7,ident,MATCH($C$5,ref,0),0),0)),(IFERROR(VLOOKUP($B14&"_"&8,ident,MATCH($C$5,ref,0),0),0)),(IFERROR(VLOOKUP($B14&"_"&9,ident,MATCH($C$5,ref,0),0),0)),(IFERROR(VLOOKUP($B14&"_"&10,ident,MATCH($C$5,ref,0),0),0))) -> 5 | E14: =IFERROR(VLOOKUP(B14&"_"&1,ident,9,0),"") -> 5 | F14: =SUM(IFERROR(VLOOKUP($B14&"_"&1,ident,MATCH($E$5,ref,0),0),0),(IFERROR(VLOOKUP($B14&"_"&2,ident,MATCH($E$5,ref,0),0),0)),(IFERROR(VLOOKUP($B14&"_"&3,ident,MATCH($E$5,ref,0),0),0)),(IFERROR(VLOOKUP($B14&"_"&4,ident,MATCH($E$5,ref,0),0),0)),(IFERROR(VLOOKUP($B14&"_"&5,ident,MATCH($E$5,ref,0),0),0)),(IFERROR(VLOOKUP($B14&"_"&6,ident,MATCH($E$5,ref,0),0),0)),(IFERROR(VLOOKUP($B14&"_"&7,ident,MATCH($E$5,ref,0),0),0)),(IFERROR(VLOOKUP($B14&"_"&8,ident,MATCH($E$5,ref,0),0),0)),(IFERROR(VLOOKUP($B14&"_"&9,ident,MATCH($E$5,ref,0),0),0)),(IFERROR(VLOOKUP($B14&"_"&10,ident,MATCH($E$5,ref,0),0),0))) -> 5 | G14: =IFERROR(VLOOKUP(B14&"_"&1,ident11,0),"") | H14: =SUM(IFERROR(VLOOKUP($B14&"_"&1,ident,MATCH($G$5,ref,0),0),0),(IFERROR(VLOOKUP($B14&"_"&2,ident,MATCH($G$5,ref,0),0),0)),(IFERROR(VLOOKUP($B14&"_"&3,ident,MATCH($G$5,ref,0),0),0)),(IFERROR(VLOOKUP($B14&"_"&4,ident,MATCH($G$5,ref,0),0),0)),(IFERROR(VLOOKUP($B14&"_"&5,ident,MATCH($G$5,ref,0),0),0)),(IFERROR(VLOOKUP($B14&"_"&6,ident,MATCH($G$5,ref,0),0),0)),(IFERROR(VLOOKUP($B14&"_"&7,ident,MATCH($G$5,ref,0),0),0)),(IFERROR(VLOOKUP($B14&"_"&8,ident,MATCH($G$5,ref,0),0),0)),(IFERROR(VLOOKUP($B14&"_"&9,ident,MATCH($G$5,ref,0),0),0)),(IFERROR(VLOOKUP($B14&"_"&10,ident,MATCH($G$5,ref,0),0),0))) -> 5
B15: =IFERROR(VLOOKUP(ROWS('suivi de production '!$B$10:'suivi de production '!B16),'suivi de production '!C15:E79,3,0),"") -> Produit humide | C15: =IFERROR(VLOOKUP(B15&"_"&1,ident,9,0),"") -> 745 | D15: =SUM(IFERROR(VLOOKUP($B15&"_"&1,ident,MATCH($C$5,ref,0),0),0),(IFERROR(VLOOKUP($B15&"_"&2,ident,MATCH($C$5,ref,0),0),0)),(IFERROR(VLOOKUP($B15&"_"&3,ident,MATCH($C$5,ref,0),0),0)),(IFERROR(VLOOKUP($B15&"_"&4,ident,MATCH($C$5,ref,0),0),0)),(IFERROR(VLOOKUP($B15&"_"&5,ident,MATCH($C$5,ref,0),0),0)),(IFERROR(VLOOKUP($B15&"_"&6,ident,MATCH($C$5,ref,0),0),0)),(IFERROR(VLOOKUP($B15&"_"&7,ident,MATCH($C$5,ref,0),0),0)),(IFERROR(VLOOKUP($B15&"_"&8,ident,MATCH($C$5,ref,0),0),0)),(IFERROR(VLOOKUP($B15&"_"&9,ident,MATCH($C$5,ref,0),0),0)),(IFERROR(VLOOKUP($B15&"_"&10,ident,MATCH($C$5,ref,0),0),0))) -> 771 | E15: =IFERROR(VLOOKUP(B15&"_"&1,ident,9,0),"") -> 745 | F15: =SUM(IFERROR(VLOOKUP($B15&"_"&1,ident,MATCH($E$5,ref,0),0),0),(IFERROR(VLOOKUP($B15&"_"&2,ident,MATCH($E$5,ref,0),0),0)),(IFERROR(VLOOKUP($B15&"_"&3,ident,MATCH($E$5,ref,0),0),0)),(IFERROR(VLOOKUP($B15&"_"&4,ident,MATCH($E$5,ref,0),0),0)),(IFERROR(VLOOKUP($B15&"_"&5,ident,MATCH($E$5,ref,0),0),0)),(IFERROR(VLOOKUP($B15&"_"&6,ident,MATCH($E$5,ref,0),0),0)),(IFERROR(VLOOKUP($B15&"_"&7,ident,MATCH($E$5,ref,0),0),0)),(IFERROR(VLOOKUP($B15&"_"&8,ident,MATCH($E$5,ref,0),0),0)),(IFERROR(VLOOKUP($B15&"_"&9,ident,MATCH($E$5,ref,0),0),0)),(IFERROR(VLOOKUP($B15&"_"&10,ident,MATCH($E$5,ref,0),0),0))) -> 745 | G15: =IFERROR(VLOOKUP(B15&"_"&1,ident11,0),"") | H15: =SUM(IFERROR(VLOOKUP($B15&"_"&1,ident,MATCH($G$5,ref,0),0),0),(IFERROR(VLOOKUP($B15&"_"&2,ident,MATCH($G$5,ref,0),0),0)),(IFERROR(VLOOKUP($B15&"_"&3,ident,MATCH($G$5,ref,0),0),0)),(IFERROR(VLOOKUP($B15&"_"&4,ident,MATCH($G$5,ref,0),0),0)),(IFERROR(VLOOKUP($B15&"_"&5,ident,MATCH($G$5,ref,0),0),0)),(IFERROR(VLOOKUP($B15&"_"&6,ident,MATCH($G$5,ref,0),0),0)),(IFERROR(VLOOKUP($B15&"_"&7,ident,MATCH($G$5,ref,0),0),0)),(IFERROR(VLOOKUP($B15&"_"&8,ident,MATCH($G$5,ref,0),0),0)),(IFERROR(VLOOKUP($B15&"_"&9,ident,MATCH($G$5,ref,0),0),0)),(IFERROR(VLOOKUP($B15&"_"&10,ident,MATCH($G$5,ref,0),0),0))) -> 756
B18: Toutes les valeurs sont toujours par rapports à l'onglet suivi de production
B21: Dans la colonne B j'ai la liste des substances qui se créé toute seule grâce à une formule qui permet d'aller rechercher ces substances dans l'onglet suivi de production
B23: En colonne D; F; H, j'ai la somme automatiquement ( par fonctions + formules )des quantités utilisées par substances et par batch; toujours en fonction de l'onglet suivi de production
B25: En colonne C; E; G j'aimerais que les différents lots utilisés par batch et par substances se mettre automatiquement ( sans avoir de doublon ), même chose que les quantités mais je n'arrive pas à avoir l'ensemble de lots utilisé sans avoir des doublons ou des 0
B27: D'un produit fabriqué à un autre, le nombre de substances varient ainsi que le nombre de batch ( pouvant aller de 1 a 25 ), je me demande s'il n'y a pas un moyen plus adapté que les formules comme actuellement; je pense à des macros mais je suis incapable de les écrire
B29: merci d'avance
B31: laurent
