Workbook

Sheet Feuil1
B19: 43270 | C19: 43373 | D19: 43465 | E19: 43555 | F19: 43646 | G19: 43738 | H19: 43830 | I19: 43921 | J19: 44012 | K19: 44104 | L19: 44196
B20: 0 | C20: 2.3 | D20: 4.6 | E20: 6.9 | F20: 9.2 | G20: 11.5 | H20: 13.8 | I20: 16.1 | J20: 18.4 | K20: 20.7 | L20: 23
B21: 0 | C21: =Feuil2!K59 -> 6 | D21: =Feuil2!K62 -> 11 | E21: =Feuil2!K65 -> 21 | F21: =Feuil2!K68 -> 23 | G21: =Feuil2!K71 -> 23 | H21: =Feuil2!K74 -> 23 | I21: =Feuil2!K77 -> 23 | J21: =Feuil2!K80 -> 23 | K21: =Feuil2!K83 -> 23 | L21: =Feuil2!K86 -> 23

Sheet Feuil2
B1: XXX
I2: date de naissance | J2: DATE D'INCLUSION | K2: CONSENTEMENT | L2: randomisation
A3: N° PATIENT | B3: N° eCRF | C3: dossier clos | D3: MO | E3: ICIP | F3: MEDECIN | G3: si décédé: etiquette mise sur le dossier | H3: suivi fini et MO cloturé | M3: J0 | N3: J1 | O3: J2 | P3: J3 | Q3: J4 | R3: J5 | S3: J6 | T3: J7 | U3: J8 | V3: J9 | W3: J10 | X3: J11 | Y3: J12 | Z3: J13 | AA3: J14 | AB3: J15 | AC3: J16 | AD3: J17 | AE3: J18 | AF3: J19 | AG3: J20 | AH3: J21 | AI3: J22 | AJ3: J23 | AK3: J24 | AL3: J25 | AM3: J26 | AN3: J27 | AO3: J28 | AP3: sortie réa | AQ3: sortie hopital | AR3: consentement de poursuite | AS3: J60 ou R60 | AT3: décès | AU3: Biobanque entrée | AV3: Biobanque sortie
A4: 1 | B4: 05001 | C4: clos | H4: NM | I4: 25808 | J4: 43272 | K4: urgence | L4: NA | M4: =J4 -> 43272 | N4: =J4+1 -> 43273 | O4: =J4+2 -> 43274 | P4: =J4+3 -> 43275 | Q4: =J4+4 -> 43276 | R4: =J4+5 -> 43277 | S4: =J4+6 -> 43278 | T4: =J4+7 -> 43279 | U4: =J4+8 -> 43280 | V4: NA | W4: NA | X4: NA | Y4: NA | Z4: NA | AA4: NA | AB4: NA | AC4: NA | AD4: NA | AE4: NA | AF4: NA | AG4: NA | AH4: NA | AI4: NA | AJ4: NA | AK4: NA | AL4: NA | AM4: NA | AN4: NA | AO4: NA | AP4: 43280 | AQ4: 43320 | AR4: 43273 | AS4: =M4+60 -> 43332 | AT4: NA | AU4: x | AV4: x
C5: 43284 | H5: NM | I5: 18692 | J5: refus famille | M5: =J5 -> refus famille | N5: =J5+1 -> #VALUE! | O5: =J5+2 -> #VALUE! | P5: =J5+3 -> #VALUE! | Q5: =J5+4 -> #VALUE! | R5: =J5+5 -> #VALUE! | S5: =J5+6 -> #VALUE! | T5: =J5+7 -> #VALUE! | U5: =J5+8 -> #VALUE! | V5: =J5+9 -> #VALUE! | W5: =J5+10 -> #VALUE! | X5: =J5+11 -> #VALUE! | Y5: =J5+12 -> #VALUE! | Z5: =J5+13 -> #VALUE! | AA5: =J5+14 -> #VALUE! | AB5: =J5+15 -> #VALUE! | AC5: =J5+16 -> #VALUE! | AD5: =J5+17 -> #VALUE! | AE5: =J5+18 -> #VALUE! | AF5: =J5+19 -> #VALUE! | AG5: =J5+20 -> #VALUE! | AH5: =J5+21 -> #VALUE! | AI5: =J5+22 -> #VALUE! | AJ5: =J5+23 -> #VALUE! | AK5: =J5+24 -> #VALUE! | AL5: =J5+25 -> #VALUE! | AM5: =J5+26 -> #VALUE! | AN5: =J5+27 -> #VALUE! | AO5: =M5+28 -> #VALUE! | AS5: =M5+60 -> #VALUE!
A6: 2 | B6: 05002 | C6: clos | H6: NM | I6: 24680 | J6: 43286 | K6: proche | L6: NA | M6: =J6 -> 43286 | N6: =J6+1 -> 43287 | O6: =J6+2 -> 43288 | P6: =J6+3 -> 43289 | Q6: =J6+4 -> 43290 | R6: =J6+5 -> 43291 | S6: =J6+6 -> 43292 | T6: =J6+7 -> 43293 | U6: =J6+8 -> 43294 | V6: =J6+9 -> 43295 | W6: =J6+10 -> 43296 | X6: =J6+11 -> 43297 | Y6: =J6+12 -> 43298 | Z6: NA | AA6: NA | AB6: NA | AC6: NA | AD6: NA | AE6: NA | AF6: NA | AG6: NA | AH6: NA | AI6: NA | AJ6: NA | AK6: NA | AL6: NA | AM6: NA | AN6: NA | AO6: NA | AP6: 43298 | AQ6: 43298 | AR6: NA | AS6: NA | AT6: 43298 | AU6: x
A7: 3 | B7: 05003 | C7: clos | H7: NM | I7: 15085 | J7: 43333 | K7: patient | L7: NA | M7: =J7 -> 43333 | N7: =J7+1 -> 43334 | O7: =J7+2 -> 43335 | P7: =J7+3 -> 43336 | Q7: =J7+4 -> 43337 | R7: NA | S7: NA | T7: NA | U7: NA | V7: NA | W7: NA | X7: NA | Y7: NA | Z7: NA | AA7: NA | AB7: NA | AC7: NA | AD7: NA | AE7: NA | AF7: NA | AG7: NA | AH7: NA | AI7: NA | AJ7: NA | AK7: NA | AL7: NA | AM7: NA | AN7: NA | AO7: =M7+28 -> 43361 | AP7: 43337 | AQ7: 43339 | AR7: 43333 | AS7: =M7+60 -> 43393 | AT7: NA
C8: 43329 | H8: NM | I8: 16196 | J8: refus famille | M8: =J8 -> refus famille | N8: =J8+1 -> #VALUE! | O8: =J8+2 -> #VALUE! | P8: =J8+3 -> #VALUE! | Q8: =J8+4 -> #VALUE! | R8: =J8+5 -> #VALUE! | S8: =J8+6 -> #VALUE! | T8: =J8+7 -> #VALUE! | U8: =J8+8 -> #VALUE! | V8: =J8+9 -> #VALUE! | W8: =J8+10 -> #VALUE! | X8: =J8+11 -> #VALUE! | Y8: =J8+12 -> #VALUE! | Z8: =J8+13 -> #VALUE! | AA8: =J8+14 -> #VALUE! | AB8: =J8+15 -> #VALUE! | AC8: =J8+16 -> #VALUE! | AD8: =J8+17 -> #VALUE! | AE8: =J8+18 -> #VALUE! | AF8: =J8+19 -> #VALUE! | AG8: =J8+20 -> #VALUE! | AH8: =J8+21 -> #VALUE! | AI8: =J8+22 -> #VALUE! | AJ8: =J8+23 -> #VALUE! | AK8: =J8+24 -> #VALUE! | AL8: =J8+25 -> #VALUE! | AM8: =J8+26 -> #VALUE! | AN8: =J8+27 -> #VALUE! | AO8: =M8+28 -> #VALUE! | AS8: =M8+60 -> #VALUE!
A9: 4 | B9: 05004 | C9: clos | H9: x | I9: 19043 | J9: 43342 | K9: proche | L9: NA | M9: =J9 -> 43342 | N9: =J9+1 -> 43343 | O9: =J9+2 -> 43344 | P9: =J9+3 -> 43345 | Q9: =J9+4 -> 43346 | R9: =J9+5 -> 43347 | S9: =J9+6 -> 43348 | T9: NA | U9: NA | V9: NA | W9: NA | X9: NA | Y9: NA | Z9: NA | AA9: NA | AB9: NA | AC9: NA | AD9: NA | AE9: NA | AF9: NA | AG9: NA | AH9: NA | AI9: NA | AJ9: NA | AK9: NA | AL9: NA | AM9: NA | AN9: NA | AO9: =M9+28 -> 43370 | AP9: 43347 | AQ9: 43363 | AR9: 43360 | AS9: =M9+60 -> 43402 | AT9: NA | AU9: x | AV9: x
A10: 5 | B10: 05005 | C10: clos | H10: x | I10: 18081 | J10: 43354 | K10: urgence | L10: 43357 | M10: =J10 -> 43354 | N10: =J10+1 -> 43355 | O10: =J10+2 -> 43356 | P10: =J10+3 -> 43357 | Q10: =J10+4 -> 43358 | R10: =J10+5 -> 43359 | S10: =J10+6 -> 43360 | T10: =J10+7 -> 43361 | U10: =J10+8 -> 43362 | V10: =J10+9 -> 43363 | W10: =J10+10 -> 43364 | X10: =J10+11 -> 43365 | Y10: =J10+12 -> 43366 | Z10: =J10+13 -> 43367 | AA10: =J10+14 -> 43368 | AB10: =J10+15 -> 43369 | AC10: =J10+16 -> 43370 | AD10: =J10+17 -> 43371 | AE10: =J10+18 -> 43372 | AF10: =J10+19 -> 43373 | AG10: =J10+20 -> 43374 | AH10: =J10+21 -> 43375 | AI10: =J10+22 -> 43376 | AJ10: =J10+23 -> 43377 | AK10: =J10+24 -> 43378 | AL10: =J10+25 -> 43379 | AM10: =J10+26 -> 43380 | AN10: =J10+27 -> 43381 | AO10: =M10+28 -> 43382 | AP10: 43417 | AQ10: 43438 | AR10: 43417 | AS10: =M10+60 -> 43414 | AT10: NA | AU10: x | AV10: x
A11: 6 | B11: 05006 | C11: clos | H11: x | I11: 16844 | J11: 43369 | K11: urgence | L11: NA | M11: =J11 -> 43369 | N11: =J11+1 -> 43370 | O11: =J11+2 -> 43371 | P11: =J11+3 -> 43372 | Q11: =J11+4 -> 43373 | R11: =J11+5 -> 43374 | S11: =J11+6 -> 43375 | T11: =J11+7 -> 43376 | U11: =J11+8 -> 43377 | V11: =J11+9 -> 43378 | W11: =J11+10 -> 43379 | X11: =J11+11 -> 43380 | Y11: =J11+12 -> 43381 | Z11: =J11+13 -> 43382 | AA11: =J11+14 -> 43383 | AB11: =J11+15 -> 43384 | AC11: =J11+16 -> 43385 | AD11: =J11+17 -> 43386 | AE11: =J11+18 -> 43387 | AF11: =J11+19 -> 43388 | AG11: =J11+20 -> 43389 | AH11: =J11+21 -> 43390 | AI11: =J11+22 -> 43391 | AJ11: =J11+23 -> 43392 | AK11: =J11+24 -> 43393 | AL11: =J11+25 -> 43394 | AM11: =J11+26 -> 43395 | AN11: =J11+27 -> 43396 | AO11: =M11+28 -> 43397 | AP11: 43384 | AQ11: 43389 | AR11: NA | AS11: =M11+60 -> 43429 | AT11: 43389
A12: 7 | B12: 05007 | C12: clos | H12: CR | I12: 28198 | J12: 43385 | K12: urgence | L12: NA | M12: =J12 -> 43385 | N12: =J12+1 -> 43386 | O12: =J12+2 -> 43387 | P12: =J12+3 -> 43388 | Q12: NA | R12: NA | S12: NA | T12: NA | U12: NA | V12: NA | W12: NA | X12: NA | Y12: NA | Z12: NA | AA12: NA | AB12: NA | AC12: NA | AD12: NA | AE12: NA | AF12: NA | AG12: NA | AH12: NA | AI12: NA | AJ12: NA | AK12: NA | AL12: NA | AM12: NA | AN12: NA | AO12: =M12+28 -> 43413 | AP12: 43388 | AQ12: 43400 | AR12: 43389 | AS12: =M12+60 -> 43445 | AT12: NA | AU12: x
A13: 8 | B13: 05008 | C13: clos | H13: x | I13: 17188 | J13: 43389 | K13: proche | L13: NA | M13: =J13 -> 43389 | N13: =J13+1 -> 43390 | O13: =J13+2 -> 43391 | P13: =J13+3 -> 43392 | Q13: =J13+4 -> 43393 | R13: =J13+5 -> 43394 | S13: =J13+6 -> 43395 | T13: =J13+7 -> 43396 | U13: =J13+8 -> 43397 | V13: =J13+9 -> 43398 | W13: =J13+10 -> 43399 | X13: =J13+11 -> 43400 | Y13: =J13+12 -> 43401 | Z13: =J13+13 -> 43402 | AA13: =J13+14 -> 43403 | AB13: =J13+15 -> 43404 | AC13: =J13+16 -> 43405 | AD13: NA | AE13: NA | AF13: NA | AG13: NA | AH13: NA | AI13: NA | AJ13: NA | AK13: NA | AL13: NA | AM13: NA | AN13: NA | AO13: NA | AP13: 43405 | AQ13: 43418 | AR13: 43411 | AS13: =M13+60 -> 43449 | AT13: NA
A14: 9 | B14: 05009 | C14: clos | H14: x | I14: 28216 | J14: 43436 | K14: proche | L14: NA | M14: =J14 -> 43436 | N14: =J14+1 -> 43437 | O14: =J14+2 -> 43438 | P14: =J14+3 -> 43439 | Q14: =J14+4 -> 43440 | R14: =J14+5 -> 43441 | S14: =J14+6 -> 43442 | T14: =J14+7 -> 43443 | U14: =J14+8 -> 43444 | V14: =J14+9 -> 43445 | W14: NA | X14: NA | Y14: NA | Z14: NA | AA14: NA | AB14: NA | AC14: NA | AD14: NA | AE14: NA | AF14: NA | AG14: NA | AH14: NA | AI14: NA | AJ14: NA | AK14: NA | AL14: NA | AM14: NA | AN14: NA | AO14: NA | AP14: 43444 | AQ14: 43444 | AR14: 43444 | AS14: 43498 | AT14: NA
A15: 10 | B15: 05010 | C15: clos | G15: NA | H15: NM | I15: 16548 | J15: 43444 | K15: urgence | L15: NA | M15: =J15 -> 43444 | N15: =J15+1 -> 43445 | O15: =J15+2 -> 43446 | P15: =J15+3 -> 43447 | Q15: NA | R15: NA | S15: NA | T15: NA | U15: NA | V15: NA | W15: NA | X15: NA | Y15: NA | Z15: NA | AA15: NA | AB15: NA | AC15: NA | AD15: NA | AE15: NA | AF15: NA | AG15: NA | AH15: NA | AI15: NA | AJ15: NA | AK15: NA | AL15: NA | AM15: NA | AN15: NA | AO15: =M15+28 -> 43472 | AP15: 43447 | AQ15: 43447 | AR15: 43446 | AS15: =M15+60 -> 43504 | AT15: NA
A16: 11 | B16: 05011 | C16: clos | D16: ok | E16: ok | F16: MHL | G16: x | H16: x | I16: 20139 | J16: 43464 | K16: urgence | L16: 43467 | M16: =J16 -> 43464 | N16: =J16+1 -> 43465 | O16: =J16+2 -> 43466 | P16: =J16+3 -> 43467 | Q16: =J16+4 -> 43468 | R16: =J16+5 -> 43469 | S16: =J16+6 -> 43470 | T16: =J16+7 -> 43471 | U16: =J16+8 -> 43472 | V16: =J16+9 -> 43473 | W16: =J16+10 -> 43474 | X16: =J16+11 -> 43475 | Y16: =J16+12 -> 43476 | Z16: =J16+13 -> 43477 | AA16: =J16+14 -> 43478 | AB16: =J16+15 -> 43479 | AC16: =J16+16 -> 43480 | AD16: =J16+17 -> 43481 | AE16: =J16+18 -> 43482 | AF16: =J16+19 -> 43483 | AG16: =J16+20 -> 43484 | AH16: =J16+21 -> 43485 | AI16: =J16+22 -> 43486 | AJ16: =J16+23 -> 43487 | AK16: =J16+24 -> 43488 | AL16: =J16+25 -> 43489 | AM16: =J16+26 -> 43490 | AN16: =J16+27 -> 43491 | AO16: NA | AP16: 43491 | AQ16: 43491 | AR16: NA | AS16: NA | AT16: 43491
A17: 12 | B17: 05012 | C17: Clos | D17: ok | E17: ok | F17: CP | G17: x | H17: AD | I17: 18991 | J17: 43475 | K17: proche | L17: 43476 | M17: =J17 -> 43475 | N17: =J17+1 -> 43476 | O17: =J17+2 -> 43477 | P17: =J17+3 -> 43478 | Q17: =J17+4 -> 43479 | R17: =J17+5 -> 43480 | S17: =J17+6 -> 43481 | T17: =J17+7 -> 43482 | U17: =J17+8 -> 43483 | V17: =J17+9 -> 43484 | W17: =J17+10 -> 43485 | X17: =J17+11 -> 43486 | Y17: =J17+12 -> 43487 | Z17: =J17+13 -> 43488 | AA17: NA | AB17: NA | AC17: NA | AD17: NA | AE17: NA | AF17: NA | AG17: NA | AH17: NA | AI17: NA | AJ17: NA | AK17: NA | AL17: NA | AM17: NA | AN17: NA | AO17: NA | AP17: 43488 | AQ17: 43488 | AR17: NA | AS17: NA | AT17: 43488 | AU17: x
A18: 13 | B18: 05013 | C18: Clos | D18: ok | E18: ok | F18: Lcam | H18: NM | I18: 21552 | J18: 43483 | K18: patient | L18: NA | M18: =J18 -> 43483 | N18: =J18+1 -> 43484 | O18: =J18+2 -> 43485 | P18: NA | Q18: NA | R18: NA | S18: NA | T18: NA | U18: NA | V18: NA | W18: NA | X18: NA | Y18: NA | Z18: NA | AA18: NA | AB18: NA | AC18: NA | AD18: NA | AE18: NA | AF18: NA | AG18: NA | AH18: NA | AI18: NA | AJ18: NA | AK18: NA | AL18: NA | AM18: NA | AN18: NA | AO18: NA | AP18: 43484 | AQ18: 43484 | AR18: NA | AS18: NA | AT18: 43484 | AU18: x | AV18: x
A19: 14 | B19: 05014 | C19: clos | D19: ok | E19: ok | F19: MAA | G19: NA | H19: X | I19: 16891 | J19: 43483 | K19: urgence | L19: 43483 | M19: R0 | N19: R1 | O19: R2 | P19: R3 | Q19: R4 | R19: R5 | S19: R6 | T19: R7 | U19: R8 | V19: R9 | W19: R10 | X19: R11 | Y19: R12 | Z19: R13 | AA19: R14 | AB19: R15 | AC19: R16 | AD19: R17 | AE19: R18 | AF19: R19 | AG19: R20 | AH19: R21 | AI19: R22 | AJ19: R23 | AK19: R24 | AL19: NA | AM19: NA | AN19: NA | AO19: 43511 | AP19: 43507 | AQ19: 43528 | AR19: 43516 | AS19: =L19+60 -> 43543 | AT19: NA | AU19: x | AV19: x
A20: 15 | B20: 05015 | C20: Clos | D20: ok | E20: ok | F20: MF | G20: x | H20: AD | I20: 14867 | J20: 43483 | K20: proche | L20: NA | M20: =J20 -> 43483 | N20: =J20+1 -> 43484 | O20: =J20+2 -> 43485 | P20: =J20+3 -> 43486 | Q20: =J20+4 -> 43487 | R20: =J20+5 -> 43488 | S20: =J20+6 -> 43489 | T20: =J20+7 -> 43490 | U20: =J20+8 -> 43491 | V20: =J20+9 -> 43492 | W20: NA | X20: NA | Y20: NA | Z20: NA | AA20: NA | AB20: NA | AC20: NA | AD20: NA | AE20: NA | AF20: NA | AG20: NA | AH20: NA | AI20: NA | AJ20: NA | AK20: NA | AL20: NA | AM20: NA | AN20: NA | AO20: NA | AP20: 43492 | AQ20: 43492 | AR20: NA | AS20: NA | AT20: 43492
A21: 16 | B21: 05016 | C21: Clos | D21: ok | E21: ok | F21: MF | G21: x | H21: AD | I21: 15828 | J21: 43486 | K21: proche | L21: NA | M21: =J21 -> 43486 | N21: =J21+1 -> 43487 | O21: =J21+2 -> 43488 | P21: =J21+3 -> 43489 | Q21: =J21+4 -> 43490 | R21: =J21+5 -> 43491 | S21: =J21+6 -> 43492 | T21: =J21+7 -> 43493 | U21: NA | V21: NA | W21: NA | X21: NA | Y21: NA | Z21: NA | AA21: NA | AB21: NA | AC21: NA | AD21: NA | AE21: NA | AF21: NA | AG21: NA | AH21: NA | AI21: NA | AJ21: NA | AK21: NA | AL21: NA | AM21: NA | AN21: NA | AO21: NA | AP21: 43493 | AQ21: 43493 | AR21: NA | AS21: NA | AT21: 43493
A22: 17 | B22: 05017 | D22: ok | E22: ok | F22: KB | G22: NA | H22: AR | I22: 19169 | J22: 43494 | K22: proche | L22: 43497 | M22: =J22 -> 43494 | N22: =J22+1 -> 43495 | O22: =J22+2 -> 43496 | P22: R0 | Q22: R1 | R22: R2 | S22: R3 | T22: R4 | U22: R5 | V22: R6 | W22: R7 | X22: R8 | Y22: R9 | Z22: R10 | AA22: R11 | AB22: R12 | AC22: R13 | AD22: R14 | AE22: R15 | AF22: R16 | AG22: R17 | AH22: R18 | AI22: R19 | AJ22: NA | AK22: NA | AL22: NA | AM22: NA | AN22: NA | AO22: =M22+28 -> 43522 | AP22: 43516 | AQ22: 43533 | AR22: 43516 | AS22: =M22+60 -> 43554 | AT22: NA
A23: 18 | B23: 05018 | C23: Clos | D23: ok | E23: ok | F23: IV | H23: x | I23: 27202 | J23: 43502 | K23: proche | L23: NA | M23: =J23 -> 43502 | N23: =J23+1 -> 43503 | O23: =J23+2 -> 43504 | P23: =J23+3 -> 43505 | Q23: =J23+4 -> 43506 | R23: =J23+5 -> 43507 | S23: =J23+6 -> 43508 | T23: =J23+7 -> 43509 | U23: =J23+8 -> 43510 | V23: =J23+9 -> 43511 | W23: =J23+10 -> 43512 | X23: =J23+11 -> 43513 | Y23: =J23+12 -> 43514 | Z23: =J23+13 -> 43515 | AA23: =J23+14 -> 43516 | AB23: =J23+15 -> 43517 | AC23: =J23+16 -> 43518 | AD23: =J23+17 -> 43519 | AE23: =J23+18 -> 43520 | AF23: =J23+19 -> 43521 | AG23: =J23+20 -> 43522 | AH23: =J23+21 -> 43523 | AI23: =J23+22 -> 43524 | AJ23: NA | AK23: NA | AL23: NA | AM23: NA | AN23: NA | AO23: =M23+28 -> 43530 | AP23: 43523 | AQ23: 43532 | AR23: 43516 | AS23: 43563 | AT23: NA | AU23: x
A24: 19 | B24: 05019 | C24: Clos | D24: ok | E24: ok | F24: Lcam | G24: NA | H24: CR | I24: 29279 | J24: 43509 | K24: proche | L24: 43511 | M24: =J24 -> 43509 | N24: =J24+1 -> 43510 | O24: R0 | P24: R1 | Q24: R2 | R24: R3 | S24: R4 | T24: R5 | U24: R6 | V24: R7 | W24: R8 | X24: R9 | Y24: R10 | Z24: R11 | AA24: R12 | AB24: R13 | AC24: R14 | AD24: R15 | AE24: R16 | AF24: =J24+19 -> 43528 | AG24: =J24+20 -> 43529 | AH24: =J24+21 -> 43530 | AI24: =J24+22 -> 43531 | AJ24: =J24+23 -> 43532 | AK24: =J24+24 -> 43533 | AL24: =J24+25 -> 43534 | AM24: =J24+26 -> 43535 | AN24: =J24+27 -> 43536 | AO24: =M24+28 -> 43537 | AP24: 43537 | AQ24: 43546 | AR24: 43535 | AS24: =L24+60 -> 43571 | AT24: NA
A25: 20 | B25: 05020 | C25: clos | D25: X | E25: X | F25: JCL | G25: VZ | H25: VZ | I25: 22264 | J25: 43534 | K25: proche | L25: refus | M25: =J25 -> 43534 | N25: =J25+1 -> 43535 | O25: =J25+2 -> 43536 | P25: =J25+3 -> 43537 | Q25: =J25+4 -> 43538 | R25: =J25+5 -> 43539 | S25: =J25+6 -> 43540 | T25: =J25+7 -> 43541 | U25: =J25+8 -> 43542 | V25: =J25+9 -> 43543 | W25: =J25+10 -> 43544 | X25: =J25+11 -> 43545 | Y25: =J25+12 -> 43546 | Z25: =J25+13 -> 43547 | AA25: =J25+14 -> 43548 | AB25: =J25+15 -> 43549 | AC25: =J25+16 -> 43550 | AD25: =J25+17 -> 43551 | AE25: =J25+18 -> 43552 | AF25: =J25+19 -> 43553 | AG25: =J25+20 -> 43554 | AH25: =J25+21 -> 43555 | AI25: =J25+22 -> 43556 | AJ25: =J25+23 -> 43557 | AK25: =J25+24 -> 43558 | AL25: =J25+25 -> 43559 | AM25: =J25+26 -> 43560 | AN25: =J25+27 -> 43561 | AO25: =M25+28 -> 43562 | AP25: 43611 | AQ25: 43611 | AR25: na | AS25: =L25+60 -> #VALUE! | AT25: 43611
A26: 21 | B26: 05021 | D26: x | E26: x | F26: LML | H26: AD | I26: 16219 | J26: 43536 | K26: urgence | L26: 43536 | M26: R0 | N26: R1 | O26: R2 | P26: R3 | Q26: NA | R26: NA | S26: NA | T26: NA | U26: NA | V26: NA | W26: NA | X26: NA | Y26: NA | Z26: NA | AA26: NA | AB26: NA | AC26: NA | AD26: NA | AE26: NA | AF26: NA | AG26: NA | AH26: NA | AI26: NA | AJ26: NA | AK26: NA | AL26: NA | AM26: NA | AN26: NA | AO26: NA | AP26: 43539 | AQ26: 43539 | AR26: NA | AS26: NA | AT26: 43539
A27: 22 | B27: 05022 | C27: Clos | D27: x | E27: x | F27: LCam | G27: NA | H27: YA | I27: 19058 | J27: 43564 | K27: urgence | L27: 43565 | M27: =J27 -> 43564 | N27: R0 | O27: R1 | P27: R2 | Q27: R3 | R27: R4 | S27: R5 | T27: R6 | U27: R7 | V27: R8 | W27: NA | X27: NA | Y27: NA | Z27: NA | AA27: NA | AB27: NA | AC27: NA | AD27: NA | AE27: NA | AF27: NA | AG27: NA | AH27: NA | AI27: NA | AJ27: NA | AK27: NA | AL27: NA | AM27: NA | AN27: NA | AO27: NA | AP27: 43573 | AQ27: 43573 | AR27: 43573 | AS27: =M27+60 -> 43624 | AT27: NA
A28: 23 | B28: 05023 | D28: CR | E28: CR | F28: CP | I28: 15392 | J28: 43595 | K28: proche | L28: oubli dr | M28: =J28 -> 43595 | N28: =J28+1 -> 43596 | O28: =J28+2 -> 43597 | P28: =J28+3 -> 43598 | Q28: =J28+4 -> 43599 | R28: =J28+5 -> 43600 | S28: =J28+6 -> 43601 | T28: =J28+7 -> 43602 | U28: =J28+8 -> 43603 | V28: =J28+9 -> 43604 | W28: =J28+10 -> 43605 | X28: =J28+11 -> 43606 | Y28: =J28+12 -> 43607 | Z28: =J28+13 -> 43608 | AA28: =J28+14 -> 43609 | AB28: =J28+15 -> 43610 | AC28: =J28+16 -> 43611 | AD28: =J28+17 -> 43612 | AE28: =J28+18 -> 43613 | AF28: =J28+19 -> 43614 | AG28: =J28+20 -> 43615 | AH28: =J28+21 -> 43616 | AI28: =J28+22 -> 43617 | AJ28: NA | AK28: NA | AL28: NA | AM28: NA | AN28: NA | AO28: 43623 | AP28: 43617 | AR28: 43621 | AS28: =M28+60 -> 43655 | AU28: x | AV28: non fait
M29: =J29 -> 0 | N29: =J29+1 -> 1 | O29: =J29+2 -> 2 | P29: =J29+3 -> 3 | Q29: =J29+4 -> 4 | R29: =J29+5 -> 5 | S29: =J29+6 -> 6 | T29: =J29+7 -> 7 | U29: =J29+8 -> 8 | V29: =J29+9 -> 9 | W29: =J29+10 -> 10 | X29: =J29+11 -> 11 | Y29: =J29+12 -> 12 | Z29: =J29+13 -> 13 | AA29: =J29+14 -> 14 | AB29: =J29+15 -> 15 | AC29: =J29+16 -> 16 | AD29: =J29+17 -> 17 | AE29: =J29+18 -> 18 | AF29: =J29+19 -> 19 | AG29: =J29+20 -> 20 | AH29: =J29+21 -> 21 | AI29: =J29+22 -> 22 | AJ29: =J29+23 -> 23 | AK29: =J29+24 -> 24 | AL29: =J29+25 -> 25 | AM29: =J29+26 -> 26 | AN29: =J29+27 -> 27 | AO29: =M29+28 -> 28 | AS29: =M29+60 -> 60
M30: =J30 -> 0 | N30: =J30+1 -> 1 | O30: =J30+2 -> 2 | P30: =J30+3 -> 3 | Q30: =J30+4 -> 4 | R30: =J30+5 -> 5 | S30: =J30+6 -> 6 | T30: =J30+7 -> 7 | U30: =J30+8 -> 8 | V30: =J30+9 -> 9 | W30: =J30+10 -> 10 | X30: =J30+11 -> 11 | Y30: =J30+12 -> 12 | Z30: =J30+13 -> 13 | AA30: =J30+14 -> 14 | AB30: =J30+15 -> 15 | AC30: =J30+16 -> 16 | AD30: =J30+17 -> 17 | AE30: =J30+18 -> 18 | AF30: =J30+19 -> 19 | AG30: =J30+20 -> 20 | AH30: =J30+21 -> 21 | AI30: =J30+22 -> 22 | AJ30: =J30+23 -> 23 | AK30: =J30+24 -> 24 | AL30: =J30+25 -> 25 | AM30: =J30+26 -> 26 | AN30: =J30+27 -> 27 | AO30: =M30+28 -> 28 | AS30: =M30+60 -> 60
M31: =J31 -> 0 | N31: =J31+1 -> 1 | O31: =J31+2 -> 2 | P31: =J31+3 -> 3 | Q31: =J31+4 -> 4 | R31: =J31+5 -> 5 | S31: =J31+6 -> 6 | T31: =J31+7 -> 7 | U31: =J31+8 -> 8 | V31: =J31+9 -> 9 | W31: =J31+10 -> 10 | X31: =J31+11 -> 11 | Y31: =J31+12 -> 12 | Z31: =J31+13 -> 13 | AA31: =J31+14 -> 14 | AB31: =J31+15 -> 15 | AC31: =J31+16 -> 16 | AD31: =J31+17 -> 17 | AE31: =J31+18 -> 18 | AF31: =J31+19 -> 19 | AG31: =J31+20 -> 20 | AH31: =J31+21 -> 21 | AI31: =J31+22 -> 22 | AJ31: =J31+23 -> 23 | AK31: =J31+24 -> 24 | AL31: =J31+25 -> 25 | AM31: =J31+26 -> 26 | AN31: =J31+27 -> 27 | AO31: =M31+28 -> 28 | AS31: =M31+60 -> 60
M32: =J32 -> 0 | N32: =J32+1 -> 1 | O32: =J32+2 -> 2 | P32: =J32+3 -> 3 | Q32: =J32+4 -> 4 | R32: =J32+5 -> 5 | S32: =J32+6 -> 6 | T32: =J32+7 -> 7 | U32: =J32+8 -> 8 | V32: =J32+9 -> 9 | W32: =J32+10 -> 10 | X32: =J32+11 -> 11 | Y32: =J32+12 -> 12 | Z32: =J32+13 -> 13 | AA32: =J32+14 -> 14 | AB32: =J32+15 -> 15 | AC32: =J32+16 -> 16 | AD32: =J32+17 -> 17 | AE32: =J32+18 -> 18 | AF32: =J32+19 -> 19 | AG32: =J32+20 -> 20 | AH32: =J32+21 -> 21 | AI32: =J32+22 -> 22 | AJ32: =J32+23 -> 23 | AK32: =J32+24 -> 24 | AL32: =J32+25 -> 25 | AM32: =J32+26 -> 26 | AN32: =J32+27 -> 27 | AO32: =M32+28 -> 28 | AS32: =M32+60 -> 60
M33: =J33 -> 0 | N33: =J33+1 -> 1 | O33: =J33+2 -> 2 | P33: =J33+3 -> 3 | Q33: =J33+4 -> 4 | R33: =J33+5 -> 5 | S33: =J33+6 -> 6 | T33: =J33+7 -> 7 | U33: =J33+8 -> 8 | V33: =J33+9 -> 9 | W33: =J33+10 -> 10 | X33: =J33+11 -> 11 | Y33: =J33+12 -> 12 | Z33: =J33+13 -> 13 | AA33: =J33+14 -> 14 | AB33: =J33+15 -> 15 | AC33: =J33+16 -> 16 | AD33: =J33+17 -> 17 | AE33: =J33+18 -> 18 | AF33: =J33+19 -> 19 | AG33: =J33+20 -> 20 | AH33: =J33+21 -> 21 | AI33: =J33+22 -> 22 | AJ33: =J33+23 -> 23 | AK33: =J33+24 -> 24 | AL33: =J33+25 -> 25 | AM33: =J33+26 -> 26 | AN33: =J33+27 -> 27 | AO33: =M33+28 -> 28 | AS33: =M33+60 -> 60
M34: =J34 -> 0 | N34: =J34+1 -> 1 | O34: =J34+2 -> 2 | P34: =J34+3 -> 3 | Q34: =J34+4 -> 4 | R34: =J34+5 -> 5 | S34: =J34+6 -> 6 | T34: =J34+7 -> 7 | U34: =J34+8 -> 8 | V34: =J34+9 -> 9 | W34: =J34+10 -> 10 | X34: =J34+11 -> 11 | Y34: =J34+12 -> 12 | Z34: =J34+13 -> 13 | AA34: =J34+14 -> 14 | AB34: =J34+15 -> 15 | AC34: =J34+16 -> 16 | AD34: =J34+17 -> 17 | AE34: =J34+18 -> 18 | AF34: =J34+19 -> 19 | AG34: =J34+20 -> 20 | AH34: =J34+21 -> 21 | AI34: =J34+22 -> 22 | AJ34: =J34+23 -> 23 | AK34: =J34+24 -> 24 | AL34: =J34+25 -> 25 | AM34: =J34+26 -> 26 | AN34: =J34+27 -> 27 | AO34: =M34+28 -> 28 | AS34: =M34+60 -> 60
M35: =J35 -> 0 | N35: =J35+1 -> 1 | O35: =J35+2 -> 2 | P35: =J35+3 -> 3 | Q35: =J35+4 -> 4 | R35: =J35+5 -> 5 | S35: =J35+6 -> 6 | T35: =J35+7 -> 7 | U35: =J35+8 -> 8 | V35: =J35+9 -> 9 | W35: =J35+10 -> 10 | X35: =J35+11 -> 11 | Y35: =J35+12 -> 12 | Z35: =J35+13 -> 13 | AA35: =J35+14 -> 14 | AB35: =J35+15 -> 15 | AC35: =J35+16 -> 16 | AD35: =J35+17 -> 17 | AE35: =J35+18 -> 18 | AF35: =J35+19 -> 19 | AG35: =J35+20 -> 20 | AH35: =J35+21 -> 21 | AI35: =J35+22 -> 22 | AJ35: =J35+23 -> 23 | AK35: =J35+24 -> 24 | AL35: =J35+25 -> 25 | AM35: =J35+26 -> 26 | AN35: =J35+27 -> 27 | AO35: =M35+28 -> 28 | AS35: =M35+60 -> 60
M36: =J36 -> 0 | N36: =J36+1 -> 1 | O36: =J36+2 -> 2 | P36: =J36+3 -> 3 | Q36: =J36+4 -> 4 | R36: =J36+5 -> 5 | S36: =J36+6 -> 6 | T36: =J36+7 -> 7 | U36: =J36+8 -> 8 | V36: =J36+9 -> 9 | W36: =J36+10 -> 10 | X36: =J36+11 -> 11 | Y36: =J36+12 -> 12 | Z36: =J36+13 -> 13 | AA36: =J36+14 -> 14 | AB36: =J36+15 -> 15 | AC36: =J36+16 -> 16 | AD36: =J36+17 -> 17 | AE36: =J36+18 -> 18 | AF36: =J36+19 -> 19 | AG36: =J36+20 -> 20 | AH36: =J36+21 -> 21 | AI36: =J36+22 -> 22 | AJ36: =J36+23 -> 23 | AK36: =J36+24 -> 24 | AL36: =J36+25 -> 25 | AM36: =J36+26 -> 26 | AN36: =J36+27 -> 27 | AO36: =M36+28 -> 28 | AS36: =M36+60 -> 60
M37: =J37 -> 0 | N37: =J37+1 -> 1 | O37: =J37+2 -> 2 | P37: =J37+3 -> 3 | Q37: =J37+4 -> 4 | R37: =J37+5 -> 5 | S37: =J37+6 -> 6 | T37: =J37+7 -> 7 | U37: =J37+8 -> 8 | V37: =J37+9 -> 9 | W37: =J37+10 -> 10 | X37: =J37+11 -> 11 | Y37: =J37+12 -> 12 | Z37: =J37+13 -> 13 | AA37: =J37+14 -> 14 | AB37: =J37+15 -> 15 | AC37: =J37+16 -> 16 | AD37: =J37+17 -> 17 | AE37: =J37+18 -> 18 | AF37: =J37+19 -> 19 | AG37: =J37+20 -> 20 | AH37: =J37+21 -> 21 | AI37: =J37+22 -> 22 | AJ37: =J37+23 -> 23 | AK37: =J37+24 -> 24 | AL37: =J37+25 -> 25 | AM37: =J37+26 -> 26 | AN37: =J37+27 -> 27 | AO37: =M37+28 -> 28 | AS37: =M37+60 -> 60
M38: =J38 -> 0 | N38: =J38+1 -> 1 | O38: =J38+2 -> 2 | P38: =J38+3 -> 3 | Q38: =J38+4 -> 4 | R38: =J38+5 -> 5 | S38: =J38+6 -> 6 | T38: =J38+7 -> 7 | U38: =J38+8 -> 8 | V38: =J38+9 -> 9 | W38: =J38+10 -> 10 | X38: =J38+11 -> 11 | Y38: =J38+12 -> 12 | Z38: =J38+13 -> 13 | AA38: =J38+14 -> 14 | AB38: =J38+15 -> 15 | AC38: =J38+16 -> 16 | AD38: =J38+17 -> 17 | AE38: =J38+18 -> 18 | AF38: =J38+19 -> 19 | AG38: =J38+20 -> 20 | AH38: =J38+21 -> 21 | AI38: =J38+22 -> 22 | AJ38: =J38+23 -> 23 | AK38: =J38+24 -> 24 | AL38: =J38+25 -> 25 | AM38: =J38+26 -> 26 | AN38: =J38+27 -> 27 | AO38: =M38+28 -> 28 | AS38: =M38+60 -> 60
A41: =COUNTA(A4:A38) -> 23 | K41: =J41 -> 0
I43: 2018 | J43: =COUNTIF(J4:J40,"<01/01/2019")-COUNTIF(J4:J40,"<01/01/2018") -> 11
...

Sheet Feuil3
