Workbook

Sheet Feuil1
A1: 1013000 | B1: 10000
A2: 1043000 | B2: 10000
A3: 1061100 | B3: 10000
A4: 1068000 | B4: 10000
A5: 1200000 | B5: 10000
A6: 1290000 | B6: 10000
A7: 1645100 | B7: 10000
A8: 1645200 | B8: 10000
A9: 1645300 | B9: 10000
A10: 1645400 | B10: 10000
A11: 1645500 | B11: 10000
A12: 1651100 | B12: 10000
... A576: 6818400 | B576: 10000

Sheet Feuil2
B2: N
A3: N° compte
A4: 2050000 | B4: =IF(ISNA(VLOOKUP(A4,Feuil1!$A:$B,2,)),"",VLOOKUP(A4,Feuil1!$A:$B,2,)) -> 10000
A5: 2051000 | B5: =IF(ISNA(VLOOKUP(A5,Feuil1!$A:$B,2,)),"",VLOOKUP(A5,Feuil1!$A:$B,2,)) -> 10000
A6: 2070000 | B6: =IF(ISNA(VLOOKUP(A6,Feuil1!$A:$B,2,)),"",VLOOKUP(A6,Feuil1!$A:$B,2,)) -> 10000
A7: 2070007 | B7: =IF(ISNA(VLOOKUP(A7,Feuil1!$A:$B,2,)),"",VLOOKUP(A7,Feuil1!$A:$B,2,)) -> 10000
A8: 2131000 | B8: =IF(ISNA(VLOOKUP(A8,Feuil1!$A:$B,2,)),"",VLOOKUP(A8,Feuil1!$A:$B,2,)) -> 10000
A9: 2150000 | B9: =IF(ISNA(VLOOKUP(A9,Feuil1!$A:$B,2,)),"",VLOOKUP(A9,Feuil1!$A:$B,2,)) -> 10000
A10: 2154000 | B10: =IF(ISNA(VLOOKUP(A10,Feuil1!$A:$B,2,)),"",VLOOKUP(A10,Feuil1!$A:$B,2,)) -> 10000
A11: 2155000 | B11: =IF(ISNA(VLOOKUP(A11,Feuil1!$A:$B,2,)),"",VLOOKUP(A11,Feuil1!$A:$B,2,)) -> 10000
A12: 2181000 | B12: =IF(ISNA(VLOOKUP(A12,Feuil1!$A:$B,2,)),"",VLOOKUP(A12,Feuil1!$A:$B,2,)) -> 10000
A13: 2182000 | B13: =IF(ISNA(VLOOKUP(A13,Feuil1!$A:$B,2,)),"",VLOOKUP(A13,Feuil1!$A:$B,2,)) -> 10000
A14: 2182100 | B14: =IF(ISNA(VLOOKUP(A14,Feuil1!$A:$B,2,)),"",VLOOKUP(A14,Feuil1!$A:$B,2,)) -> 10000
A15: 2182200 | B15: =IF(ISNA(VLOOKUP(A15,Feuil1!$A:$B,2,)),"",VLOOKUP(A15,Feuil1!$A:$B,2,)) -> 10000
... A34: 2761000 | B34: =IF(ISNA(VLOOKUP(A34,Feuil1!$A:$B,2,)),"",VLOOKUP(A34,Feuil1!$A:$B,2,)) -> 10000
B35: =IF(ISNA(VLOOKUP(A35,Feuil1!$A:$B,2,)),"",VLOOKUP(A35,Feuil1!$A:$B,2,))
A36: 6752000 | B36: =IF(ISNA(VLOOKUP(A36,Feuil1!$A:$B,2,)),"",VLOOKUP(A36,Feuil1!$A:$B,2,))
A37: 6752007 | B37: =IF(ISNA(VLOOKUP(A37,Feuil1!$A:$B,2,)),"",VLOOKUP(A37,Feuil1!$A:$B,2,))
B38: =IF(ISNA(VLOOKUP(A38,Feuil1!$A:$B,2,)),"",VLOOKUP(A38,Feuil1!$A:$B,2,))
A39: 6805000 | B39: =IF(ISNA(VLOOKUP(A39,Feuil1!$A:$B,2,)),"",VLOOKUP(A39,Feuil1!$A:$B,2,)) -> 10000
A40: 6805007 | B40: =IF(ISNA(VLOOKUP(A40,Feuil1!$A:$B,2,)),"",VLOOKUP(A40,Feuil1!$A:$B,2,)) -> 10000
A41: 6805100 | B41: =IF(ISNA(VLOOKUP(A41,Feuil1!$A:$B,2,)),"",VLOOKUP(A41,Feuil1!$A:$B,2,)) -> 10000
A42: 6811000 | B42: =IF(ISNA(VLOOKUP(A42,Feuil1!$A:$B,2,)),"",VLOOKUP(A42,Feuil1!$A:$B,2,)) -> 10000
A43: 6815000 | B43: =IF(ISNA(VLOOKUP(A43,Feuil1!$A:$B,2,)),"",VLOOKUP(A43,Feuil1!$A:$B,2,)) -> 10000
A44: 6815007 | B44: =IF(ISNA(VLOOKUP(A44,Feuil1!$A:$B,2,)),"",VLOOKUP(A44,Feuil1!$A:$B,2,)) -> 10000
A45: 6815008 | B45: =IF(ISNA(VLOOKUP(A45,Feuil1!$A:$B,2,)),"",VLOOKUP(A45,Feuil1!$A:$B,2,)) -> 10000
A46: 6815407 | B46: =IF(ISNA(VLOOKUP(A46,Feuil1!$A:$B,2,)),"",VLOOKUP(A46,Feuil1!$A:$B,2,)) -> 10000
A47: 6815500 | B47: =IF(ISNA(VLOOKUP(A47,Feuil1!$A:$B,2,)),"",VLOOKUP(A47,Feuil1!$A:$B,2,)) -> 10000
A48: 6815508 | B48: =IF(ISNA(VLOOKUP(A48,Feuil1!$A:$B,2,)),"",VLOOKUP(A48,Feuil1!$A:$B,2,)) -> 10000
A49: 6818100 | B49: =IF(ISNA(VLOOKUP(A49,Feuil1!$A:$B,2,)),"",VLOOKUP(A49,Feuil1!$A:$B,2,)) -> 10000
A50: 6818107 | B50: =IF(ISNA(VLOOKUP(A50,Feuil1!$A:$B,2,)),"",VLOOKUP(A50,Feuil1!$A:$B,2,)) -> 10000
... A64: 6818400 | B64: =IF(ISNA(VLOOKUP(A64,Feuil1!$A:$B,2,)),"",VLOOKUP(A64,Feuil1!$A:$B,2,)) -> 10000
B65: =IF(ISNA(VLOOKUP(A65,Feuil1!$A:$B,2,)),"",VLOOKUP(A65,Feuil1!$A:$B,2,))
B66: =IF(ISNA(VLOOKUP(A66,[1]N!$A$1:$R$2000,16,)),"",VLOOKUP(A66,[1]N!$A$1:$R$2000,16,))
B67: =IF(ISNA(VLOOKUP(A67,[1]N!$A$1:$R$2000,16,)),"",VLOOKUP(A67,[1]N!$A$1:$R$2000,16,))
