Workbook
Name Autre_J: Février!$G$7:$G$31
Name Autre_J: Mars!$G$7:$G$31
Name Autre_J: Janvier!$G$7:$G$31
Name Base_J: Février!$F$7:$F$31
Name Base_J: Mars!$F$7:$F$31
Name Base_J: Janvier!$F$7:$F$31
Name CP_J: Février!$H$7:$H$31
Name CP_J: Mars!$H$7:$H$31
Name CP_J: Janvier!$H$7:$H$31
Name Ecart_J: Février!$E$7:$E$31
Name Ecart_J: Mars!$E$7:$E$31
Name Ecart_J: Janvier!$E$7:$E$31
Name Element: Février!$B$5:$J$15
Name Element: Mars!$B$5:$J$15
Name Element: Janvier!$B$5:$J$15
Name Global_J: Février!$I$7:$I$31
Name Global_J: Mars!$I$7:$I$31
Name Global_J: Janvier!$I$7:$I$31
Name Imputation_cout_Janvier: Février!$C$7:$C$31
Name Imputation_cout_Janvier: Mars!$C$7:$C$31
Name Imputation_cout_Janvier: Janvier!$C$7:$C$31
Name Prénom_Janvier: Février!$B$7:$B$31
Name Prénom_Janvier: Mars!$B$7:$B$31
Name Prénom_Janvier: Janvier!$B$7:$B$31

Sheet Récap
A4: Nom prénom | B4: Ecart | C4: Base | D4: Global | E4: 18TXN101 | F4: 18TXN100 | G4: 17TXN99 | H4: 17TXN98 | I4: 17TXN97 | J4: 17TXN96 | K4: 17TXN95 | L4: 17TXN94 | M4: 17TXN93 | N4: 17TXN92 | O4: 17TXN91 | P4: 17TXN90 | Q4: 17TXN89 | R4: 17TXN88 | S4: 17TXN87 | T4: 16TXN86 | U4: 16TXN85 | V4: 16TXN84 | W4: 16TXN82 | X4: 16TXN81 | Y4: 16TXN80 | Z4: 16TXN79 | AA4: 16TXN78 | AB4: 15TXN74 | AC4: 15TXN73
A5: Pierre
A6: Benoit
A7: Clément
A8: Damien
A9: Dominique
A10: Emilie
A11: Total | AC11: =SUBTOTAL(103,Tableau1[15TXN73]) -> 0

Sheet Janvier
B5: Element | D5: Ferié | E5: Ecart | F5: Base | G5: Autre | H5: CP | I5: Global | J5: NE PAS TOUCHER | K5: 18TXN101 | L5: 18TXN100 | M5: 17TXN99 | N5: 17TXN98 | O5: 17TXN97 | P5: 17TXN96 | Q5: 17TXN95 | R5: 17TXN94 | S5: 17TXN93 | T5: 17TXN92 | U5: 17TXN91 | V5: 17TXN90 | W5: 17TXN89 | X5: 17TXN88 | Y5: 17TXN87 | Z5: 16TXN86 | AA5: 16TXN85 | AB5: 16TXN84 | AC5: 16TXN82 | AD5: 16TXN81 | AE5: 16TXN80 | AF5: 16TXN79 | AG5: 16TXN78 | AH5: 15TXN74 | AI5: 15TXN73
B6: Marché HT | I6: =SUM(J6:AI6) -> 0 | J6: 0 | K6: 0 | L6: 0 | M6: 0 | N6: 0 | O6: 0 | P6: 0 | Q6: 0 | R6: 0 | S6: 0 | T6: 0 | U6: 0 | V6: 0 | W6: 0 | X6: 0 | Y6: 0 | Z6: 0 | AA6: 0 | AB6: 0 | AC6: 0 | AD6: 0 | AE6: 0 | AF6: 0
B8: Pierre | C8: Heure | D8: =COUNTIF('[1]Jour Férié'!$B$4:$B$16,'[1]Jour Férié'!$K$1) -> 0 | E8: =F8-I8-H8-G8 -> 152 | F8: =152 -> 152 | G8: 0 | H8: 0 | I8: =SUM(J8:AI8) -> 0 | J8: 0 | K8: 0 | L8: 0 | M8: 0 | N8: 0 | O8: 0 | P8: 0 | Q8: 0 | R8: 0 | S8: 0 | T8: 0 | U8: 0 | V8: 0 | W8: 0 | X8: 0 | Y8: 0 | Z8: 0 | AA8: 0 | AB8: 0 | AC8: 0 | AD8: 0 | AE8: 0 | AF8: 0 | AG8: 0 | AH8: 0 | AI8: 0
B9: 2000 | C9: Imputation | E9: =E8/F8 -> 1 | F9: =F8/$F8 -> 1 | G9: =G8/$F8 -> 0 | H9: =H8/$F8 -> 0 | I9: =I8/$F8 -> 0 | J9: =J8/$F8 -> 0 | K9: =K8/Janvier!$F8 -> 0 | L9: =L8/Janvier!$F8 -> 0 | M9: =M8/Janvier!$F8 -> 0 | N9: =N8/Janvier!$F8 -> 0 | O9: =O8/Janvier!$F8 -> 0 | P9: =P8/Janvier!$F8 -> 0 | Q9: =Q8/Janvier!$F8 -> 0 | R9: =R8/Janvier!$F8 -> 0 | ... AF9: =AF8/Janvier!$F8 -> 0 | AG9: =AG8/$F8 -> 0 | AH9: =AH8/$F8 -> 0 | AI9: =AI8/$F8 -> 0
C10: Imputation cout | E10: =E9*$B9 -> 2000 | F10: =$B9*F9 -> 2000 | G10: =G9*$B9 -> 0 | H10: =H9*$B9 -> 0 | I10: =$B9*I9 -> 0 | J10: =$B9*J9 -> 0 | K10: =Janvier!$B9*K9 -> 0 | L10: =Janvier!$B9*L9 -> 0 | M10: =Janvier!$B9*M9 -> 0 | N10: =Janvier!$B9*N9 -> 0 | O10: =Janvier!$B9*O9 -> 0 | P10: =Janvier!$B9*P9 -> 0 | Q10: =Janvier!$B9*Q9 -> 0 | R10: =Janvier!$B9*R9 -> 0 | ... AF10: =Janvier!$B9*AF9 -> 0 | AG10: =$B9*AG9 -> 0 | AH10: =$B9*AH9 -> 0 | AI10: =$B9*AI9 -> 0
B12: Benoit | C12: Heure | D12: =COUNTIF('[1]Jour Férié'!$B$4:$B$16,'[1]Jour Férié'!$K$1) -> 0 | E12: =F12-I12-H12-G12 -> 152 | F12: =152 -> 152 | G12: 0 | H12: 0 | I12: =SUM(J12:AI12) -> 0 | J12: 0 | K12: 0 | L12: 0 | M12: 0 | N12: 0 | O12: 0 | P12: 0 | Q12: 0 | R12: 0 | S12: 0 | T12: 0 | U12: 0 | V12: 0 | W12: 0 | X12: 0 | Y12: 0 | Z12: 0 | AA12: 0 | AB12: 0 | AC12: 0 | AD12: 0 | AE12: 0 | AF12: 0 | AG12: 0 | AH12: 0 | AI12: 0
B13: 1800 | C13: Imputation | E13: =E12/F12 -> 1 | F13: =F12/$F12 -> 1 | G13: =G12/$F12 -> 0 | H13: =H12/$F12 -> 0 | I13: =I12/$F12 -> 0 | J13: =J12/$F12 -> 0 | K13: =K12/Janvier!$F12 -> 0 | L13: =L12/Janvier!$F12 -> 0 | M13: =M12/Janvier!$F12 -> 0 | N13: =N12/Janvier!$F12 -> 0 | O13: =O12/Janvier!$F12 -> 0 | P13: =P12/Janvier!$F12 -> 0 | Q13: =Q12/Janvier!$F12 -> 0 | R13: =R12/Janvier!$F12 -> 0 | ... AF13: =AF12/Janvier!$F12 -> 0 | AG13: =AG12/$F12 -> 0 | AH13: =AH12/$F12 -> 0 | AI13: =AI12/$F12 -> 0
C14: Imputation cout | E14: =E13*$B13 -> 1800 | F14: =$B13*F13 -> 1800 | G14: =G13*$B13 -> 0 | H14: =H13*$B13 -> 0 | I14: =$B13*I13 -> 0 | J14: =$B13*J13 -> 0 | K14: =Janvier!$B13*K13 -> 0 | L14: =Janvier!$B13*L13 -> 0 | M14: =Janvier!$B13*M13 -> 0 | N14: =Janvier!$B13*N13 -> 0 | O14: =Janvier!$B13*O13 -> 0 | P14: =Janvier!$B13*P13 -> 0 | Q14: =Janvier!$B13*Q13 -> 0 | R14: =Janvier!$B13*R13 -> 0 | ... AF14: =Janvier!$B13*AF13 -> 0 | AG14: =$B13*AG13 -> 0 | AH14: =$B13*AH13 -> 0 | AI14: =$B13*AI13 -> 0
B16: Clément | C16: Heure | D16: =COUNTIF('[1]Jour Férié'!$B$4:$B$16,'[1]Jour Férié'!$K$1) -> 0 | E16: =F16-I16-H16-G16 -> 152 | F16: =152 -> 152 | G16: 0 | H16: 0 | I16: =SUM(J16:AI16) -> 0 | J16: 0 | K16: 0 | L16: 0 | M16: 0 | N16: 0 | O16: 0 | P16: 0 | Q16: 0 | R16: 0 | S16: 0 | T16: 0 | U16: 0 | V16: 0 | W16: 0 | X16: 0 | Y16: 0 | Z16: 0 | AA16: 0 | AB16: 0 | AC16: 0 | AD16: 0 | AE16: 0 | AF16: 0 | AG16: 0 | AH16: 0 | AI16: 0
B17: 3000 | C17: Imputation | E17: =E16/F16 -> 1 | F17: =F16/$F16 -> 1 | G17: =G16/$F16 -> 0 | H17: =H16/$F16 -> 0 | I17: =I16/$F16 -> 0 | J17: =J16/$F16 -> 0 | K17: =K16/Janvier!$F16 -> 0 | L17: =L16/Janvier!$F16 -> 0 | M17: =M16/Janvier!$F16 -> 0 | N17: =N16/Janvier!$F16 -> 0 | O17: =O16/Janvier!$F16 -> 0 | P17: =P16/Janvier!$F16 -> 0 | Q17: =Q16/Janvier!$F16 -> 0 | R17: =R16/Janvier!$F16 -> 0 | ... AF17: =AF16/Janvier!$F16 -> 0 | AG17: =AG16/$F16 -> 0 | AH17: =AH16/$F16 -> 0 | AI17: =AI16/$F16 -> 0
C18: Imputation cout | E18: =E17*$B17 -> 3000 | F18: =$B17*F17 -> 3000 | G18: =G17*$B17 -> 0 | H18: =H17*$B17 -> 0 | I18: =$B17*I17 -> 0 | J18: =$B17*J17 -> 0 | K18: =Janvier!$B17*K17 -> 0 | L18: =Janvier!$B17*L17 -> 0 | M18: =Janvier!$B17*M17 -> 0 | N18: =Janvier!$B17*N17 -> 0 | O18: =Janvier!$B17*O17 -> 0 | P18: =Janvier!$B17*P17 -> 0 | Q18: =Janvier!$B17*Q17 -> 0 | R18: =Janvier!$B17*R17 -> 0 | ... AF18: =Janvier!$B17*AF17 -> 0 | AG18: =$B17*AG17 -> 0 | AH18: =$B17*AH17 -> 0 | AI18: =$B17*AI17 -> 0
B20: Damien | C20: Heure | D20: =COUNTIF('[1]Jour Férié'!$B$4:$B$16,'[1]Jour Férié'!$K$1) -> 0 | E20: =F20-I20-H20-G20 -> 152 | F20: =152 -> 152 | G20: 0 | H20: 0 | I20: =SUM(J20:AI20) -> 0 | J20: 0 | K20: 0 | L20: 0 | M20: 0 | N20: 0 | O20: 0 | P20: 0 | Q20: 0 | R20: 0 | S20: 0 | T20: 0 | U20: 0 | V20: 0 | W20: 0 | X20: 0 | Y20: 0 | Z20: 0 | AA20: 0 | AB20: 0 | AC20: 0 | AD20: 0 | AE20: 0 | AF20: 0 | AG20: 0 | AH20: 0 | AI20: 0
B21: 2000 | C21: Imputation | E21: =E20/F20 -> 1 | F21: =F20/$F20 -> 1 | G21: =G20/$F20 -> 0 | H21: =H20/$F20 -> 0 | I21: =I20/$F20 -> 0 | J21: =J20/$F20 -> 0 | K21: =K20/Janvier!$F20 -> 0 | L21: =L20/Janvier!$F20 -> 0 | M21: =M20/Janvier!$F20 -> 0 | N21: =N20/Janvier!$F20 -> 0 | O21: =O20/Janvier!$F20 -> 0 | P21: =P20/Janvier!$F20 -> 0 | Q21: =Q20/Janvier!$F20 -> 0 | R21: =R20/Janvier!$F20 -> 0 | ... AF21: =AF20/Janvier!$F20 -> 0 | AG21: =AG20/$F20 -> 0 | AH21: =AH20/$F20 -> 0 | AI21: =AI20/$F20 -> 0
C22: Imputation cout | E22: =E21*$B21 -> 2000 | F22: =$B21*F21 -> 2000 | G22: =G21*$B21 -> 0 | H22: =H21*$B21 -> 0 | I22: =$B21*I21 -> 0 | J22: =$B21*J21 -> 0 | K22: =Janvier!$B21*K21 -> 0 | L22: =Janvier!$B21*L21 -> 0 | M22: =Janvier!$B21*M21 -> 0 | N22: =Janvier!$B21*N21 -> 0 | O22: =Janvier!$B21*O21 -> 0 | P22: =Janvier!$B21*P21 -> 0 | Q22: =Janvier!$B21*Q21 -> 0 | R22: =Janvier!$B21*R21 -> 0 | ... AF22: =Janvier!$B21*AF21 -> 0 | AG22: =$B21*AG21 -> 0 | AH22: =$B21*AH21 -> 0 | AI22: =$B21*AI21 -> 0
B24: Dominique | C24: Heure | D24: =COUNTIF('[1]Jour Férié'!$B$4:$B$16,'[1]Jour Férié'!$K$1) -> 0 | E24: =F24-I24-H24-G24 -> 152 | F24: =152 -> 152 | G24: 0 | H24: 0 | I24: =SUM(J24:AI24) -> 0 | J24: 0 | K24: 0 | L24: 0 | M24: 0 | N24: 0 | O24: 0 | P24: 0 | Q24: 0 | R24: 0 | S24: 0 | T24: 0 | U24: 0 | V24: 0 | W24: 0 | X24: 0 | Y24: 0 | Z24: 0 | AA24: 0 | AB24: 0 | AC24: 0 | AD24: 0 | AE24: 0 | AF24: 0 | AG24: 0 | AH24: 0 | AI24: 0
B25: 1500 | C25: Imputation | E25: =E24/F24 -> 1 | F25: =F24/$F24 -> 1 | G25: =G24/$F24 -> 0 | H25: =H24/$F24 -> 0 | I25: =I24/$F24 -> 0 | J25: =J24/$F24 -> 0 | K25: =K24/Janvier!$F24 -> 0 | L25: =L24/Janvier!$F24 -> 0 | M25: =M24/Janvier!$F24 -> 0 | N25: =N24/Janvier!$F24 -> 0 | O25: =O24/Janvier!$F24 -> 0 | P25: =P24/Janvier!$F24 -> 0 | Q25: =Q24/Janvier!$F24 -> 0 | R25: =R24/Janvier!$F24 -> 0 | ... AF25: =AF24/Janvier!$F24 -> 0 | AG25: =AG24/$F24 -> 0 | AH25: =AH24/$F24 -> 0 | AI25: =AI24/$F24 -> 0
C26: Imputation cout | E26: =E25*$B25 -> 1500 | F26: =$B25*F25 -> 1500 | G26: =G25*$B25 -> 0 | H26: =H25*$B25 -> 0 | I26: =$B25*I25 -> 0 | J26: =$B25*J25 -> 0 | K26: =Janvier!$B25*K25 -> 0 | L26: =Janvier!$B25*L25 -> 0 | M26: =Janvier!$B25*M25 -> 0 | N26: =Janvier!$B25*N25 -> 0 | O26: =Janvier!$B25*O25 -> 0 | P26: =Janvier!$B25*P25 -> 0 | Q26: =Janvier!$B25*Q25 -> 0 | R26: =Janvier!$B25*R25 -> 0 | ... AF26: =Janvier!$B25*AF25 -> 0 | AG26: =$B25*AG25 -> 0 | AH26: =$B25*AH25 -> 0 | AI26: =$B25*AI25 -> 0
B28: Emilie | C28: Heure | D28: =COUNTIF('[1]Jour Férié'!$B$4:$B$16,'[1]Jour Férié'!$K$1) -> 0 | E28: =F28-I28-H28-G28 -> 152 | F28: =152 -> 152 | G28: 0 | H28: 0 | I28: =SUM(J28:AI28) -> 0 | J28: 0 | K28: 0 | L28: 0 | M28: 0 | N28: 0 | O28: 0 | P28: 0 | Q28: 0 | R28: 0 | S28: 0 | T28: 0 | U28: 0 | V28: 0 | W28: 0 | X28: 0 | Y28: 0 | Z28: 0 | AA28: 0 | AB28: 0 | AC28: 0 | AD28: 0 | AE28: 0 | AF28: 0 | AG28: 0 | AH28: 0 | AI28: 0
B29: 2500 | C29: Imputation | E29: =E28/F28 -> 1 | F29: =F28/$F28 -> 1 | G29: =G28/$F28 -> 0 | H29: =H28/$F28 -> 0 | I29: =I28/$F28 -> 0 | J29: =J28/$F28 -> 0 | K29: =K28/Janvier!$F28 -> 0 | L29: =L28/Janvier!$F28 -> 0 | M29: =M28/Janvier!$F28 -> 0 | N29: =N28/Janvier!$F28 -> 0 | O29: =O28/Janvier!$F28 -> 0 | P29: =P28/Janvier!$F28 -> 0 | Q29: =Q28/Janvier!$F28 -> 0 | R29: =R28/Janvier!$F28 -> 0 | ... AF29: =AF28/Janvier!$F28 -> 0 | AG29: =AG28/$F28 -> 0 | AH29: =AH28/$F28 -> 0 | AI29: =AI28/$F28 -> 0
C30: Imputation cout | E30: =E29*$B29 -> 2500 | F30: =$B29*F29 -> 2500 | G30: =G29*$B29 -> 0 | H30: =H29*$B29 -> 0 | I30: =$B29*I29 -> 0 | J30: =$B29*J29 -> 0 | K30: =Janvier!$B29*K29 -> 0 | L30: =Janvier!$B29*L29 -> 0 | M30: =Janvier!$B29*M29 -> 0 | N30: =Janvier!$B29*N29 -> 0 | O30: =Janvier!$B29*O29 -> 0 | P30: =Janvier!$B29*P29 -> 0 | Q30: =Janvier!$B29*Q29 -> 0 | R30: =Janvier!$B29*R29 -> 0 | ... AF30: =Janvier!$B29*AF29 -> 0 | AG30: =$B29*AG29 -> 0 | AH30: =$B29*AH29 -> 0 | AI30: =$B29*AI29 -> 0
B33: Total | E33: =SUMIF(Imputation_cout_Janvier, "Imputation cout",E7:E31) -> 12800 | F33: =SUMIF(Imputation_cout_Janvier, "Imputation cout",F7:F31) -> 12800 | I33: =SUMIF(Imputation_cout_Janvier, "Imputation cout",I7:I31) -> 0 | J33: =SUMIF(Imputation_cout_Janvier, "Imputation cout",J7:J31) -> 0 | K33: =SUMIF(Imputation_cout_Janvier, "Imputation cout",K7:K31) -> 0 | L33: =SUMIF(Imputation_cout_Janvier, "Imputation cout",L7:L31) -> 0 | M33: =SUMIF(Imputation_cout_Janvier, "Imputation cout",M7:M31) -> 0 | N33: =SUMIF(Imputation_cout_Janvier, "Imputation cout",N7:N31) -> 0 | O33: =SUMIF(Imputation_cout_Janvier, "Imputation cout",O7:O31) -> 0 | P33: =SUMIF(Imputation_cout_Janvier, "Imputation cout",P7:P31) -> 0 | ... AI33: =SUMIF(Imputation_cout_Janvier, "Imputation cout",AI7:AI31) -> 0
B34: % | I34: =I33/I6 -> #DIV/0! | J34: =J33/J6 -> #DIV/0! | K34: =K33/K6 -> #DIV/0! | L34: =L33/L6 -> #DIV/0! | M34: =M33/M6 -> #DIV/0! | N34: =N33/N6 -> #DIV/0! | O34: =O33/O6 -> #DIV/0! | P34: =P33/P6 -> #DIV/0! | ... AI34: =AI33/AI6 -> #DIV/0!

Sheet Février
B5: Element | D5: Ferié | E5: Ecart | F5: Base | G5: Autre | H5: CP | I5: Global | J5: NE PAS TOUCHER | K5: 18TXN101 | L5: 18TXN100 | M5: 17TXN99 | N5: 17TXN98 | O5: 17TXN97 | P5: 17TXN96 | Q5: 17TXN95 | R5: 17TXN94 | S5: 17TXN93 | T5: 17TXN92 | U5: 17TXN91 | V5: 17TXN90 | W5: 17TXN89 | X5: 17TXN88 | Y5: 17TXN87 | Z5: 16TXN86 | AA5: 16TXN85 | AB5: 16TXN84 | AC5: 16TXN82 | AD5: 16TXN81 | AE5: 16TXN80 | AF5: 16TXN79 | AG5: 16TXN78 | AH5: 15TXN74 | AI5: 15TXN73
B6: Marché HT | I6: =SUM(J6:AI6) -> 0 | J6: 0 | K6: 0 | L6: 0 | M6: 0 | N6: 0 | O6: 0 | P6: 0 | Q6: 0 | R6: 0 | S6: 0 | T6: 0 | U6: 0 | V6: 0 | W6: 0 | X6: 0 | Y6: 0 | Z6: 0 | AA6: 0 | AB6: 0 | AC6: 0 | AD6: 0 | AE6: 0 | AF6: 0
B8: Pierre | C8: Heure | D8: =COUNTIF('[1]Jour Férié'!$B$4:$B$16,'[1]Jour Férié'!$K$1) -> 0 | E8: =F8-I8-H8-G8 -> 152 | F8: =152 -> 152 | G8: 0 | H8: 0 | I8: =SUM(J8:AI8) -> 0 | J8: 0 | K8: 0 | L8: 0 | M8: 0 | N8: 0 | O8: 0 | P8: 0 | Q8: 0 | R8: 0 | S8: 0 | T8: 0 | U8: 0 | V8: 0 | W8: 0 | X8: 0 | Y8: 0 | Z8: 0 | AA8: 0 | AB8: 0 | AC8: 0 | AD8: 0 | AE8: 0 | AF8: 0 | AG8: 0 | AH8: 0 | AI8: 0
B9: 2000 | C9: Imputation | E9: =E8/F8 -> 1 | F9: =F8/$F8 -> 1 | G9: =G8/$F8 -> 0 | H9: =H8/$F8 -> 0 | I9: =I8/$F8 -> 0 | J9: =J8/$F8 -> 0 | K9: =K8/Février!$F8 -> 0 | L9: =L8/Février!$F8 -> 0 | M9: =M8/Février!$F8 -> 0 | N9: =N8/Février!$F8 -> 0 | O9: =O8/Février!$F8 -> 0 | P9: =P8/Février!$F8 -> 0 | Q9: =Q8/Février!$F8 -> 0 | R9: =R8/Février!$F8 -> 0 | ... AF9: =AF8/Février!$F8 -> 0 | AG9: =AG8/$F8 -> 0 | AH9: =AH8/$F8 -> 0 | AI9: =AI8/$F8 -> 0
C10: Imputation cout | E10: =E9*$B9 -> 2000 | F10: =$B9*F9 -> 2000 | G10: =G9*$B9 -> 0 | H10: =H9*$B9 -> 0 | I10: =$B9*I9 -> 0 | J10: =$B9*J9 -> 0 | K10: =Février!$B9*K9 -> 0 | L10: =Février!$B9*L9 -> 0 | M10: =Février!$B9*M9 -> 0 | N10: =Février!$B9*N9 -> 0 | O10: =Février!$B9*O9 -> 0 | P10: =Février!$B9*P9 -> 0 | Q10: =Février!$B9*Q9 -> 0 | R10: =Février!$B9*R9 -> 0 | ... AF10: =Février!$B9*AF9 -> 0 | AG10: =$B9*AG9 -> 0 | AH10: =$B9*AH9 -> 0 | AI10: =$B9*AI9 -> 0
B12: Benoit | C12: Heure | D12: =COUNTIF('[1]Jour Férié'!$B$4:$B$16,'[1]Jour Férié'!$K$1) -> 0 | E12: =F12-I12-H12-G12 -> 152 | F12: =152 -> 152 | G12: 0 | H12: 0 | I12: =SUM(J12:AI12) -> 0 | J12: 0 | K12: 0 | L12: 0 | M12: 0 | N12: 0 | O12: 0 | P12: 0 | Q12: 0 | R12: 0 | S12: 0 | T12: 0 | U12: 0 | V12: 0 | W12: 0 | X12: 0 | Y12: 0 | Z12: 0 | AA12: 0 | AB12: 0 | AC12: 0 | AD12: 0 | AE12: 0 | AF12: 0 | AG12: 0 | AH12: 0 | AI12: 0
B13: 1800 | C13: Imputation | E13: =E12/F12 -> 1 | F13: =F12/$F12 -> 1 | G13: =G12/$F12 -> 0 | H13: =H12/$F12 -> 0 | I13: =I12/$F12 -> 0 | J13: =J12/$F12 -> 0 | K13: =K12/Février!$F12 -> 0 | L13: =L12/Février!$F12 -> 0 | M13: =M12/Février!$F12 -> 0 | N13: =N12/Février!$F12 -> 0 | O13: =O12/Février!$F12 -> 0 | P13: =P12/Février!$F12 -> 0 | Q13: =Q12/Février!$F12 -> 0 | R13: =R12/Février!$F12 -> 0 | ... AF13: =AF12/Février!$F12 -> 0 | AG13: =AG12/$F12 -> 0 | AH13: =AH12/$F12 -> 0 | AI13: =AI12/$F12 -> 0
C14: Imputation cout | E14: =E13*$B13 -> 1800 | F14: =$B13*F13 -> 1800 | G14: =G13*$B13 -> 0 | H14: =H13*$B13 -> 0 | I14: =$B13*I13 -> 0 | J14: =$B13*J13 -> 0 | K14: =Février!$B13*K13 -> 0 | L14: =Février!$B13*L13 -> 0 | M14: =Février!$B13*M13 -> 0 | N14: =Février!$B13*N13 -> 0 | O14: =Février!$B13*O13 -> 0 | P14: =Février!$B13*P13 -> 0 | Q14: =Février!$B13*Q13 -> 0 | R14: =Février!$B13*R13 -> 0 | ... AF14: =Février!$B13*AF13 -> 0 | AG14: =$B13*AG13 -> 0 | AH14: =$B13*AH13 -> 0 | AI14: =$B13*AI13 -> 0
B16: Clément | C16: Heure | D16: =COUNTIF('[1]Jour Férié'!$B$4:$B$16,'[1]Jour Férié'!$K$1) -> 0 | E16: =F16-I16-H16-G16 -> 152 | F16: =152 -> 152 | G16: 0 | H16: 0 | I16: =SUM(J16:AI16) -> 0 | J16: 0 | K16: 0 | L16: 0 | M16: 0 | N16: 0 | O16: 0 | P16: 0 | Q16: 0 | R16: 0 | S16: 0 | T16: 0 | U16: 0 | V16: 0 | W16: 0 | X16: 0 | Y16: 0 | Z16: 0 | AA16: 0 | AB16: 0 | AC16: 0 | AD16: 0 | AE16: 0 | AF16: 0 | AG16: 0 | AH16: 0 | AI16: 0
B17: 3000 | C17: Imputation | E17: =E16/F16 -> 1 | F17: =F16/$F16 -> 1 | G17: =G16/$F16 -> 0 | H17: =H16/$F16 -> 0 | I17: =I16/$F16 -> 0 | J17: =J16/$F16 -> 0 | K17: =K16/Février!$F16 -> 0 | L17: =L16/Février!$F16 -> 0 | M17: =M16/Février!$F16 -> 0 | N17: =N16/Février!$F16 -> 0 | O17: =O16/Février!$F16 -> 0 | P17: =P16/Février!$F16 -> 0 | Q17: =Q16/Février!$F16 -> 0 | R17: =R16/Février!$F16 -> 0 | ... AF17: =AF16/Février!$F16 -> 0 | AG17: =AG16/$F16 -> 0 | AH17: =AH16/$F16 -> 0 | AI17: =AI16/$F16 -> 0
C18: Imputation cout | E18: =E17*$B17 -> 3000 | F18: =$B17*F17 -> 3000 | G18: =G17*$B17 -> 0 | H18: =H17*$B17 -> 0 | I18: =$B17*I17 -> 0 | J18: =$B17*J17 -> 0 | K18: =Février!$B17*K17 -> 0 | L18: =Février!$B17*L17 -> 0 | M18: =Février!$B17*M17 -> 0 | N18: =Février!$B17*N17 -> 0 | O18: =Février!$B17*O17 -> 0 | P18: =Février!$B17*P17 -> 0 | Q18: =Février!$B17*Q17 -> 0 | R18: =Février!$B17*R17 -> 0 | ... AF18: =Février!$B17*AF17 -> 0 | AG18: =$B17*AG17 -> 0 | AH18: =$B17*AH17 -> 0 | AI18: =$B17*AI17 -> 0
B20: Damien | C20: Heure | D20: =COUNTIF('[1]Jour Férié'!$B$4:$B$16,'[1]Jour Férié'!$K$1) -> 0 | E20: =F20-I20-H20-G20 -> 152 | F20: =152 -> 152 | G20: 0 | H20: 0 | I20: =SUM(J20:AI20) -> 0 | J20: 0 | K20: 0 | L20: 0 | M20: 0 | N20: 0 | O20: 0 | P20: 0 | Q20: 0 | R20: 0 | S20: 0 | T20: 0 | U20: 0 | V20: 0 | W20: 0 | X20: 0 | Y20: 0 | Z20: 0 | AA20: 0 | AB20: 0 | AC20: 0 | AD20: 0 | AE20: 0 | AF20: 0 | AG20: 0 | AH20: 0 | AI20: 0
B21: 2000 | C21: Imputation | E21: =E20/F20 -> 1 | F21: =F20/$F20 -> 1 | G21: =G20/$F20 -> 0 | H21: =H20/$F20 -> 0 | I21: =I20/$F20 -> 0 | J21: =J20/$F20 -> 0 | K21: =K20/Février!$F20 -> 0 | L21: =L20/Février!$F20 -> 0 | M21: =M20/Février!$F20 -> 0 | N21: =N20/Février!$F20 -> 0 | O21: =O20/Février!$F20 -> 0 | P21: =P20/Février!$F20 -> 0 | Q21: =Q20/Février!$F20 -> 0 | R21: =R20/Février!$F20 -> 0 | ... AF21: =AF20/Février!$F20 -> 0 | AG21: =AG20/$F20 -> 0 | AH21: =AH20/$F20 -> 0 | AI21: =AI20/$F20 -> 0
C22: Imputation cout | E22: =E21*$B21 -> 2000 | F22: =$B21*F21 -> 2000 | G22: =G21*$B21 -> 0 | H22: =H21*$B21 -> 0 | I22: =$B21*I21 -> 0 | J22: =$B21*J21 -> 0 | K22: =Février!$B21*K21 -> 0 | L22: =Février!$B21*L21 -> 0 | M22: =Février!$B21*M21 -> 0 | N22: =Février!$B21*N21 -> 0 | O22: =Février!$B21*O21 -> 0 | P22: =Février!$B21*P21 -> 0 | Q22: =Février!$B21*Q21 -> 0 | R22: =Février!$B21*R21 -> 0 | ... AF22: =Février!$B21*AF21 -> 0 | AG22: =$B21*AG21 -> 0 | AH22: =$B21*AH21 -> 0 | AI22: =$B21*AI21 -> 0
B24: Dominique | C24: Heure | D24: =COUNTIF('[1]Jour Férié'!$B$4:$B$16,'[1]Jour Férié'!$K$1) -> 0 | E24: =F24-I24-H24-G24 -> 152 | F24: =152 -> 152 | G24: 0 | H24: 0 | I24: =SUM(J24:AI24) -> 0 | J24: 0 | K24: 0 | L24: 0 | M24: 0 | N24: 0 | O24: 0 | P24: 0 | Q24: 0 | R24: 0 | S24: 0 | T24: 0 | U24: 0 | V24: 0 | W24: 0 | X24: 0 | Y24: 0 | Z24: 0 | AA24: 0 | AB24: 0 | AC24: 0 | AD24: 0 | AE24: 0 | AF24: 0 | AG24: 0 | AH24: 0 | AI24: 0
B25: 1500 | C25: Imputation | E25: =E24/F24 -> 1 | F25: =F24/$F24 -> 1 | G25: =G24/$F24 -> 0 | H25: =H24/$F24 -> 0 | I25: =I24/$F24 -> 0 | J25: =J24/$F24 -> 0 | K25: =K24/Février!$F24 -> 0 | L25: =L24/Février!$F24 -> 0 | M25: =M24/Février!$F24 -> 0 | N25: =N24/Février!$F24 -> 0 | O25: =O24/Février!$F24 -> 0 | P25: =P24/Février!$F24 -> 0 | Q25: =Q24/Février!$F24 -> 0 | R25: =R24/Février!$F24 -> 0 | ... AF25: =AF24/Février!$F24 -> 0 | AG25: =AG24/$F24 -> 0 | AH25: =AH24/$F24 -> 0 | AI25: =AI24/$F24 -> 0
C26: Imputation cout | E26: =E25*$B25 -> 1500 | F26: =$B25*F25 -> 1500 | G26: =G25*$B25 -> 0 | H26: =H25*$B25 -> 0 | I26: =$B25*I25 -> 0 | J26: =$B25*J25 -> 0 | K26: =Février!$B25*K25 -> 0 | L26: =Février!$B25*L25 -> 0 | M26: =Février!$B25*M25 -> 0 | N26: =Février!$B25*N25 -> 0 | O26: =Février!$B25*O25 -> 0 | P26: =Février!$B25*P25 -> 0 | Q26: =Février!$B25*Q25 -> 0 | R26: =Février!$B25*R25 -> 0 | ... AF26: =Février!$B25*AF25 -> 0 | AG26: =$B25*AG25 -> 0 | AH26: =$B25*AH25 -> 0 | AI26: =$B25*AI25 -> 0
B28: Emilie | C28: Heure | D28: =COUNTIF('[1]Jour Férié'!$B$4:$B$16,'[1]Jour Férié'!$K$1) -> 0 | E28: =F28-I28-H28-G28 -> 152 | F28: =152 -> 152 | G28: 0 | H28: 0 | I28: =SUM(J28:AI28) -> 0 | J28: 0 | K28: 0 | L28: 0 | M28: 0 | N28: 0 | O28: 0 | P28: 0 | Q28: 0 | R28: 0 | S28: 0 | T28: 0 | U28: 0 | V28: 0 | W28: 0 | X28: 0 | Y28: 0 | Z28: 0 | AA28: 0 | AB28: 0 | AC28: 0 | AD28: 0 | AE28: 0 | AF28: 0 | AG28: 0 | AH28: 0 | AI28: 0
B29: 2500 | C29: Imputation | E29: =E28/F28 -> 1 | F29: =F28/$F28 -> 1 | G29: =G28/$F28 -> 0 | H29: =H28/$F28 -> 0 | I29: =I28/$F28 -> 0 | J29: =J28/$F28 -> 0 | K29: =K28/Février!$F28 -> 0 | L29: =L28/Février!$F28 -> 0 | M29: =M28/Février!$F28 -> 0 | N29: =N28/Février!$F28 -> 0 | O29: =O28/Février!$F28 -> 0 | P29: =P28/Février!$F28 -> 0 | Q29: =Q28/Février!$F28 -> 0 | R29: =R28/Février!$F28 -> 0 | ... AF29: =AF28/Février!$F28 -> 0 | AG29: =AG28/$F28 -> 0 | AH29: =AH28/$F28 -> 0 | AI29: =AI28/$F28 -> 0
C30: Imputation cout | E30: =E29*$B29 -> 2500 | F30: =$B29*F29 -> 2500 | G30: =G29*$B29 -> 0 | H30: =H29*$B29 -> 0 | I30: =$B29*I29 -> 0 | J30: =$B29*J29 -> 0 | K30: =Février!$B29*K29 -> 0 | L30: =Février!$B29*L29 -> 0 | M30: =Février!$B29*M29 -> 0 | N30: =Février!$B29*N29 -> 0 | O30: =Février!$B29*O29 -> 0 | P30: =Février!$B29*P29 -> 0 | Q30: =Février!$B29*Q29 -> 0 | R30: =Février!$B29*R29 -> 0 | ... AF30: =Février!$B29*AF29 -> 0 | AG30: =$B29*AG29 -> 0 | AH30: =$B29*AH29 -> 0 | AI30: =$B29*AI29 -> 0
B33: Total | E33: =SUMIF(Imputation_cout_Janvier, "Imputation cout",E7:E31) -> 12800 | F33: =SUMIF(Imputation_cout_Janvier, "Imputation cout",F7:F31) -> 12800 | I33: =SUMIF(Imputation_cout_Janvier, "Imputation cout",I7:I31) -> 0 | J33: =SUMIF(Imputation_cout_Janvier, "Imputation cout",J7:J31) -> 0 | K33: =SUMIF(Imputation_cout_Janvier, "Imputation cout",K7:K31) -> 0 | L33: =SUMIF(Imputation_cout_Janvier, "Imputation cout",L7:L31) -> 0 | M33: =SUMIF(Imputation_cout_Janvier, "Imputation cout",M7:M31) -> 0 | N33: =SUMIF(Imputation_cout_Janvier, "Imputation cout",N7:N31) -> 0 | O33: =SUMIF(Imputation_cout_Janvier, "Imputation cout",O7:O31) -> 0 | P33: =SUMIF(Imputation_cout_Janvier, "Imputation cout",P7:P31) -> 0 | ... AI33: =SUMIF(Imputation_cout_Janvier, "Imputation cout",AI7:AI31) -> 0
B34: % | I34: =I33/I6 -> #DIV/0! | J34: =J33/J6 -> #DIV/0! | K34: =K33/K6 -> #DIV/0! | L34: =L33/L6 -> #DIV/0! | M34: =M33/M6 -> #DIV/0! | N34: =N33/N6 -> #DIV/0! | O34: =O33/O6 -> #DIV/0! | P34: =P33/P6 -> #DIV/0! | ... AI34: =AI33/AI6 -> #DIV/0!

Sheet Mars
B5: Element | D5: Ferié | E5: Ecart | F5: Base | G5: Autre | H5: CP | I5: Global | J5: NE PAS TOUCHER | K5: 18TXN101 | L5: 18TXN100 | M5: 17TXN99 | N5: 17TXN98 | O5: 17TXN97 | P5: 17TXN96 | Q5: 17TXN95 | R5: 17TXN94 | S5: 17TXN93 | T5: 17TXN92 | U5: 17TXN91 | V5: 17TXN90 | W5: 17TXN89 | X5: 17TXN88 | Y5: 17TXN87 | Z5: 16TXN86 | AA5: 16TXN85 | AB5: 16TXN84 | AC5: 16TXN82 | AD5: 16TXN81 | AE5: 16TXN80 | AF5: 16TXN79 | AG5: 16TXN78 | AH5: 15TXN74 | AI5: 15TXN73
B6: Marché HT | I6: =SUM(J6:AI6) -> 0 | J6: 0 | K6: 0 | L6: 0 | M6: 0 | N6: 0 | O6: 0 | P6: 0 | Q6: 0 | R6: 0 | S6: 0 | T6: 0 | U6: 0 | V6: 0 | W6: 0 | X6: 0 | Y6: 0 | Z6: 0 | AA6: 0 | AB6: 0 | AC6: 0 | AD6: 0 | AE6: 0 | AF6: 0
B8: Pierre | C8: Heure | D8: =COUNTIF('[1]Jour Férié'!$B$4:$B$16,'[1]Jour Férié'!$K$1) -> 0 | E8: =F8-I8-H8-G8 -> 152 | F8: =152 -> 152 | G8: 0 | H8: 0 | I8: =SUM(J8:AI8) -> 0 | J8: 0 | K8: 0 | L8: 0 | M8: 0 | N8: 0 | O8: 0 | P8: 0 | Q8: 0 | R8: 0 | S8: 0 | T8: 0 | U8: 0 | V8: 0 | W8: 0 | X8: 0 | Y8: 0 | Z8: 0 | AA8: 0 | AB8: 0 | AC8: 0 | AD8: 0 | AE8: 0 | AF8: 0 | AG8: 0 | AH8: 0 | AI8: 0
B9: 2000 | C9: Imputation | E9: =E8/F8 -> 1 | F9: =F8/$F8 -> 1 | G9: =G8/$F8 -> 0 | H9: =H8/$F8 -> 0 | I9: =I8/$F8 -> 0 | J9: =J8/$F8 -> 0 | K9: =K8/Mars!$F8 -> 0 | L9: =L8/Mars!$F8 -> 0 | M9: =M8/Mars!$F8 -> 0 | N9: =N8/Mars!$F8 -> 0 | O9: =O8/Mars!$F8 -> 0 | P9: =P8/Mars!$F8 -> 0 | Q9: =Q8/Mars!$F8 -> 0 | R9: =R8/Mars!$F8 -> 0 | ... AF9: =AF8/Mars!$F8 -> 0 | AG9: =AG8/$F8 -> 0 | AH9: =AH8/$F8 -> 0 | AI9: =AI8/$F8 -> 0
C10: Imputation cout | E10: =E9*$B9 -> 2000 | F10: =$B9*F9 -> 2000 | G10: =G9*$B9 -> 0 | H10: =H9*$B9 -> 0 | I10: =$B9*I9 -> 0 | J10: =$B9*J9 -> 0 | K10: =Mars!$B9*K9 -> 0 | L10: =Mars!$B9*L9 -> 0 | M10: =Mars!$B9*M9 -> 0 | N10: =Mars!$B9*N9 -> 0 | O10: =Mars!$B9*O9 -> 0 | P10: =Mars!$B9*P9 -> 0 | Q10: =Mars!$B9*Q9 -> 0 | R10: =Mars!$B9*R9 -> 0 | ... AF10: =Mars!$B9*AF9 -> 0 | AG10: =$B9*AG9 -> 0 | AH10: =$B9*AH9 -> 0 | AI10: =$B9*AI9 -> 0
B12: Benoit | C12: Heure | D12: =COUNTIF('[1]Jour Férié'!$B$4:$B$16,'[1]Jour Férié'!$K$1) -> 0 | E12: =F12-I12-H12-G12 -> 152 | F12: =152 -> 152 | G12: 0 | H12: 0 | I12: =SUM(J12:AI12) -> 0 | J12: 0 | K12: 0 | L12: 0 | M12: 0 | N12: 0 | O12: 0 | P12: 0 | Q12: 0 | R12: 0 | S12: 0 | T12: 0 | U12: 0 | V12: 0 | W12: 0 | X12: 0 | Y12: 0 | Z12: 0 | AA12: 0 | AB12: 0 | AC12: 0 | AD12: 0 | AE12: 0 | AF12: 0 | AG12: 0 | AH12: 0 | AI12: 0
B13: 1800 | C13: Imputation | E13: =E12/F12 -> 1 | F13: =F12/$F12 -> 1 | G13: =G12/$F12 -> 0 | H13: =H12/$F12 -> 0 | I13: =I12/$F12 -> 0 | J13: =J12/$F12 -> 0 | K13: =K12/Mars!$F12 -> 0 | L13: =L12/Mars!$F12 -> 0 | M13: =M12/Mars!$F12 -> 0 | N13: =N12/Mars!$F12 -> 0 | O13: =O12/Mars!$F12 -> 0 | P13: =P12/Mars!$F12 -> 0 | Q13: =Q12/Mars!$F12 -> 0 | R13: =R12/Mars!$F12 -> 0 | ... AF13: =AF12/Mars!$F12 -> 0 | AG13: =AG12/$F12 -> 0 | AH13: =AH12/$F12 -> 0 | AI13: =AI12/$F12 -> 0
C14: Imputation cout | E14: =E13*$B13 -> 1800 | F14: =$B13*F13 -> 1800 | G14: =G13*$B13 -> 0 | H14: =H13*$B13 -> 0 | I14: =$B13*I13 -> 0 | J14: =$B13*J13 -> 0 | K14: =Mars!$B13*K13 -> 0 | L14: =Mars!$B13*L13 -> 0 | M14: =Mars!$B13*M13 -> 0 | N14: =Mars!$B13*N13 -> 0 | O14: =Mars!$B13*O13 -> 0 | P14: =Mars!$B13*P13 -> 0 | Q14: =Mars!$B13*Q13 -> 0 | R14: =Mars!$B13*R13 -> 0 | ... AF14: =Mars!$B13*AF13 -> 0 | AG14: =$B13*AG13 -> 0 | AH14: =$B13*AH13 -> 0 | AI14: =$B13*AI13 -> 0
B16: Clément | C16: Heure | D16: =COUNTIF('[1]Jour Férié'!$B$4:$B$16,'[1]Jour Férié'!$K$1) -> 0 | E16: =F16-I16-H16-G16 -> 152 | F16: =152 -> 152 | G16: 0 | H16: 0 | I16: =SUM(J16:AI16) -> 0 | J16: 0 | K16: 0 | L16: 0 | M16: 0 | N16: 0 | O16: 0 | P16: 0 | Q16: 0 | R16: 0 | S16: 0 | T16: 0 | U16: 0 | V16: 0 | W16: 0 | X16: 0 | Y16: 0 | Z16: 0 | AA16: 0 | AB16: 0 | AC16: 0 | AD16: 0 | AE16: 0 | AF16: 0 | AG16: 0 | AH16: 0 | AI16: 0
B17: 3000 | C17: Imputation | E17: =E16/F16 -> 1 | F17: =F16/$F16 -> 1 | G17: =G16/$F16 -> 0 | H17: =H16/$F16 -> 0 | I17: =I16/$F16 -> 0 | J17: =J16/$F16 -> 0 | K17: =K16/Mars!$F16 -> 0 | L17: =L16/Mars!$F16 -> 0 | M17: =M16/Mars!$F16 -> 0 | N17: =N16/Mars!$F16 -> 0 | O17: =O16/Mars!$F16 -> 0 | P17: =P16/Mars!$F16 -> 0 | Q17: =Q16/Mars!$F16 -> 0 | R17: =R16/Mars!$F16 -> 0 | ... AF17: =AF16/Mars!$F16 -> 0 | AG17: =AG16/$F16 -> 0 | AH17: =AH16/$F16 -> 0 | AI17: =AI16/$F16 -> 0
C18: Imputation cout | E18: =E17*$B17 -> 3000 | F18: =$B17*F17 -> 3000 | G18: =G17*$B17 -> 0 | H18: =H17*$B17 -> 0 | I18: =$B17*I17 -> 0 | J18: =$B17*J17 -> 0 | K18: =Mars!$B17*K17 -> 0 | L18: =Mars!$B17*L17 -> 0 | M18: =Mars!$B17*M17 -> 0 | N18: =Mars!$B17*N17 -> 0 | O18: =Mars!$B17*O17 -> 0 | P18: =Mars!$B17*P17 -> 0 | Q18: =Mars!$B17*Q17 -> 0 | R18: =Mars!$B17*R17 -> 0 | ... AF18: =Mars!$B17*AF17 -> 0 | AG18: =$B17*AG17 -> 0 | AH18: =$B17*AH17 -> 0 | AI18: =$B17*AI17 -> 0
B20: Damien | C20: Heure | D20: =COUNTIF('[1]Jour Férié'!$B$4:$B$16,'[1]Jour Férié'!$K$1) -> 0 | E20: =F20-I20-H20-G20 -> 152 | F20: =152 -> 152 | G20: 0 | H20: 0 | I20: =SUM(J20:AI20) -> 0 | J20: 0 | K20: 0 | L20: 0 | M20: 0 | N20: 0 | O20: 0 | P20: 0 | Q20: 0 | R20: 0 | S20: 0 | T20: 0 | U20: 0 | V20: 0 | W20: 0 | X20: 0 | Y20: 0 | Z20: 0 | AA20: 0 | AB20: 0 | AC20: 0 | AD20: 0 | AE20: 0 | AF20: 0 | AG20: 0 | AH20: 0 | AI20: 0
B21: 2000 | C21: Imputation | E21: =E20/F20 -> 1 | F21: =F20/$F20 -> 1 | G21: =G20/$F20 -> 0 | H21: =H20/$F20 -> 0 | I21: =I20/$F20 -> 0 | J21: =J20/$F20 -> 0 | K21: =K20/Mars!$F20 -> 0 | L21: =L20/Mars!$F20 -> 0 | M21: =M20/Mars!$F20 -> 0 | N21: =N20/Mars!$F20 -> 0 | O21: =O20/Mars!$F20 -> 0 | P21: =P20/Mars!$F20 -> 0 | Q21: =Q20/Mars!$F20 -> 0 | R21: =R20/Mars!$F20 -> 0 | ... AF21: =AF20/Mars!$F20 -> 0 | AG21: =AG20/$F20 -> 0 | AH21: =AH20/$F20 -> 0 | AI21: =AI20/$F20 -> 0
C22: Imputation cout | E22: =E21*$B21 -> 2000 | F22: =$B21*F21 -> 2000 | G22: =G21*$B21 -> 0 | H22: =H21*$B21 -> 0 | I22: =$B21*I21 -> 0 | J22: =$B21*J21 -> 0 | K22: =Mars!$B21*K21 -> 0 | L22: =Mars!$B21*L21 -> 0 | M22: =Mars!$B21*M21 -> 0 | N22: =Mars!$B21*N21 -> 0 | O22: =Mars!$B21*O21 -> 0 | P22: =Mars!$B21*P21 -> 0 | Q22: =Mars!$B21*Q21 -> 0 | R22: =Mars!$B21*R21 -> 0 | ... AF22: =Mars!$B21*AF21 -> 0 | AG22: =$B21*AG21 -> 0 | AH22: =$B21*AH21 -> 0 | AI22: =$B21*AI21 -> 0
B24: Dominique | C24: Heure | D24: =COUNTIF('[1]Jour Férié'!$B$4:$B$16,'[1]Jour Férié'!$K$1) -> 0 | E24: =F24-I24-H24-G24 -> 152 | F24: =152 -> 152 | G24: 0 | H24: 0 | I24: =SUM(J24:AI24) -> 0 | J24: 0 | K24: 0 | L24: 0 | M24: 0 | N24: 0 | O24: 0 | P24: 0 | Q24: 0 | R24: 0 | S24: 0 | T24: 0 | U24: 0 | V24: 0 | W24: 0 | X24: 0 | Y24: 0 | Z24: 0 | AA24: 0 | AB24: 0 | AC24: 0 | AD24: 0 | AE24: 0 | AF24: 0 | AG24: 0 | AH24: 0 | AI24: 0
B25: 1500 | C25: Imputation | E25: =E24/F24 -> 1 | F25: =F24/$F24 -> 1 | G25: =G24/$F24 -> 0 | H25: =H24/$F24 -> 0 | I25: =I24/$F24 -> 0 | J25: =J24/$F24 -> 0 | K25: =K24/Mars!$F24 -> 0 | L25: =L24/Mars!$F24 -> 0 | M25: =M24/Mars!$F24 -> 0 | N25: =N24/Mars!$F24 -> 0 | O25: =O24/Mars!$F24 -> 0 | P25: =P24/Mars!$F24 -> 0 | Q25: =Q24/Mars!$F24 -> 0 | R25: =R24/Mars!$F24 -> 0 | ... AF25: =AF24/Mars!$F24 -> 0 | AG25: =AG24/$F24 -> 0 | AH25: =AH24/$F24 -> 0 | AI25: =AI24/$F24 -> 0
C26: Imputation cout | E26: =E25*$B25 -> 1500 | F26: =$B25*F25 -> 1500 | G26: =G25*$B25 -> 0 | H26: =H25*$B25 -> 0 | I26: =$B25*I25 -> 0 | J26: =$B25*J25 -> 0 | K26: =Mars!$B25*K25 -> 0 | L26: =Mars!$B25*L25 -> 0 | M26: =Mars!$B25*M25 -> 0 | N26: =Mars!$B25*N25 -> 0 | O26: =Mars!$B25*O25 -> 0 | P26: =Mars!$B25*P25 -> 0 | Q26: =Mars!$B25*Q25 -> 0 | R26: =Mars!$B25*R25 -> 0 | ... AF26: =Mars!$B25*AF25 -> 0 | AG26: =$B25*AG25 -> 0 | AH26: =$B25*AH25 -> 0 | AI26: =$B25*AI25 -> 0
B28: Emilie | C28: Heure | D28: =COUNTIF('[1]Jour Férié'!$B$4:$B$16,'[1]Jour Férié'!$K$1) -> 0 | E28: =F28-I28-H28-G28 -> 152 | F28: =152 -> 152 | G28: 0 | H28: 0 | I28: =SUM(J28:AI28) -> 0 | J28: 0 | K28: 0 | L28: 0 | M28: 0 | N28: 0 | O28: 0 | P28: 0 | Q28: 0 | R28: 0 | S28: 0 | T28: 0 | U28: 0 | V28: 0 | W28: 0 | X28: 0 | Y28: 0 | Z28: 0 | AA28: 0 | AB28: 0 | AC28: 0 | AD28: 0 | AE28: 0 | AF28: 0 | AG28: 0 | AH28: 0 | AI28: 0
B29: 2500 | C29: Imputation | E29: =E28/F28 -> 1 | F29: =F28/$F28 -> 1 | G29: =G28/$F28 -> 0 | H29: =H28/$F28 -> 0 | I29: =I28/$F28 -> 0 | J29: =J28/$F28 -> 0 | K29: =K28/Mars!$F28 -> 0 | L29: =L28/Mars!$F28 -> 0 | M29: =M28/Mars!$F28 -> 0 | N29: =N28/Mars!$F28 -> 0 | O29: =O28/Mars!$F28 -> 0 | P29: =P28/Mars!$F28 -> 0 | Q29: =Q28/Mars!$F28 -> 0 | R29: =R28/Mars!$F28 -> 0 | ... AF29: =AF28/Mars!$F28 -> 0 | AG29: =AG28/$F28 -> 0 | AH29: =AH28/$F28 -> 0 | AI29: =AI28/$F28 -> 0
C30: Imputation cout | E30: =E29*$B29 -> 2500 | F30: =$B29*F29 -> 2500 | G30: =G29*$B29 -> 0 | H30: =H29*$B29 -> 0 | I30: =$B29*I29 -> 0 | J30: =$B29*J29 -> 0 | K30: =Mars!$B29*K29 -> 0 | L30: =Mars!$B29*L29 -> 0 | M30: =Mars!$B29*M29 -> 0 | N30: =Mars!$B29*N29 -> 0 | O30: =Mars!$B29*O29 -> 0 | P30: =Mars!$B29*P29 -> 0 | Q30: =Mars!$B29*Q29 -> 0 | R30: =Mars!$B29*R29 -> 0 | ... AF30: =Mars!$B29*AF29 -> 0 | AG30: =$B29*AG29 -> 0 | AH30: =$B29*AH29 -> 0 | AI30: =$B29*AI29 -> 0
B33: Total | E33: =SUMIF(Imputation_cout_Janvier, "Imputation cout",E7:E31) -> 12800 | F33: =SUMIF(Imputation_cout_Janvier, "Imputation cout",F7:F31) -> 12800 | I33: =SUMIF(Imputation_cout_Janvier, "Imputation cout",I7:I31) -> 0 | J33: =SUMIF(Imputation_cout_Janvier, "Imputation cout",J7:J31) -> 0 | K33: =SUMIF(Imputation_cout_Janvier, "Imputation cout",K7:K31) -> 0 | L33: =SUMIF(Imputation_cout_Janvier, "Imputation cout",L7:L31) -> 0 | M33: =SUMIF(Imputation_cout_Janvier, "Imputation cout",M7:M31) -> 0 | N33: =SUMIF(Imputation_cout_Janvier, "Imputation cout",N7:N31) -> 0 | O33: =SUMIF(Imputation_cout_Janvier, "Imputation cout",O7:O31) -> 0 | P33: =SUMIF(Imputation_cout_Janvier, "Imputation cout",P7:P31) -> 0 | ... AI33: =SUMIF(Imputation_cout_Janvier, "Imputation cout",AI7:AI31) -> 0
B34: % | I34: =I33/I6 -> #DIV/0! | J34: =J33/J6 -> #DIV/0! | K34: =K33/K6 -> #DIV/0! | L34: =L33/L6 -> #DIV/0! | M34: =M33/M6 -> #DIV/0! | N34: =N33/N6 -> #DIV/0! | O34: =O33/O6 -> #DIV/0! | P34: =P33/P6 -> #DIV/0! | ... AI34: =AI33/AI6 -> #DIV/0!
