Workbook

Sheet LAMPES
A1: FEUILLE DE STOCK
A2: LAMPES
A3: PRODUIT | B3: MARQUE | C3: REF BS | D3: REF | E3: DESCR | F3: STOCK | G3: SECU | H3: CMD | I3: €HT | J3: €TOTAL | K3: LIEN BS
A4: CP60 | B4: GE Lighting | C4: CP60GE | E4: PAR 64 1000w 12° | F4: 12 | G4: 5 | H4: =G4-F4 -> -7 | I4: 14.82 | J4: =IF(H4*I4<=0,0,H4*I4) -> 0 | K4: https://www.la-bs.com/ArticleDetails.aspx?Code=CP60GE&lang=FR
A5: CP61 | B5: GE Lighting | C5: CP61GE | E5: PAR 64 1000w 14° | F5: 19 | G5: 5 | H5: =G5-F5 -> -14 | I5: 14.82 | J5: =IF(H5*I5<=0,0,H5*I5) -> 0 | K5: https://www.la-bs.com/ArticleDetails.aspx?Code=CP61GE&lang=FR
A6: CP62 | B6: GE Lighting | C6: CP62GE | E6: PAR 64 1000w 24° | F6: 14 | G6: 5 | H6: =G6-F6 -> -9 | I6: 14.82 | J6: =IF(H6*I6<=0,0,H6*I6) -> 0 | K6: https://www.la-bs.com/ArticleDetails.aspx?Code=CP62GE&lang=FR
A7: CP95 | B7: GE Lighting | C7: CP95GE | E7: PAR 64 1000w 70° | F7: 2 | G7: 2 | H7: =G7-F7 -> 0 | I7: 21.55 | J7: =IF(H7*I7<=0,0,H7*I7) -> 0 | K7: https://www.la-bs.com/ArticleDetails.aspx?Code=CP95GE&lang=FR
A8: ACL 28v | B8: GE Lighting | C8: 4552GE | E8: PAR 64 ACL 8° | F8: 3 | G8: 5 | H8: =G8-F8 -> 2 | I8: 21.57 | J8: =IF(H8*I8<=0,0,H8*I8) -> 43.14 | K8: https://www.la-bs.com/ArticleDetails.aspx?Code=4552GE&lang=FR
A9: GX 9,5 1000w | B9: GE Lighting | C9: CP24/CP70GE | E9: DEC / PC 1000w | F9: 18 | G9: 10 | H9: =G9-F9 -> -8 | I9: 7.59 | J9: =IF(H9*I9<=0,0,H9*I9) -> 0 | K9: https://www.la-bs.com/fr/art/cp24~cp70ge_general-electric-lampe-studio-1000w-gx9-5-240v-3200k-200h-general-electric.htm
A10: GX 9,5 650w | B10: GE Lighting | C10: CP23/CP67GE | F10: 2 | H10: =G10-F10 -> -2 | I10: 11.9 | J10: =IF(H10*I10<=0,0,H10*I10) -> 0 | K10: https://www.la-bs.com/ArticleDetails.aspx?Code=CP23~CP67GE&lang=FR
A11: GX 9,5 650w | B11: GE Lighting | C11: T12/T21GE | E11: 3000K | F11: 1 | H11: =G11-F11 -> -1 | I11: 12.47 | J11: =IF(H11*I11<=0,0,H11*I11) -> 0 | K11: https://www.la-bs.com/ArticleDetails.aspx?Code=T12~T21GE&lang=FR
A12: GY 9,5 650w | B12: GE Lighting | C12: CP89GE | E12: PC / 3200K | F12: 5 | G12: 5 | H12: =G12-F12 -> 0 | I12: 8.59 | J12: =IF(H12*I12<=0,0,H12*I12) -> 0 | K12: https://www.la-bs.com/ArticleDetails.aspx?Code=CP89GE&lang=FR
A13: GY 9,5 650w | B13: GE Lighting | C13: T26/27 | E13: PC / 3000K | F13: 2 | H13: =G13-F13 -> -2 | I13: 7.48 | J13: =IF(H13*I13<=0,0,H13*I13) -> 0 | K13: https://www.la-bs.com/ArticleDetails.aspx?Code=T26~T27GE&lang=FR
A14: GY 9,5 500w | B14: GE Lighting | C14: CP82GE | F14: 2 | H14: =G14-F14 -> -2 | I14: 7.1 | J14: =IF(H14*I14<=0,0,H14*I14) -> 0 | K14: https://www.la-bs.com/ArticleDetails.aspx?Code=CP82GE&lang=FR
A15: GY 16 2000w | B15: GE Lighting | C15: CP43/CP72GE | D15: CP43 | E15: 2Kw | F15: 6 | H15: =G15-F15 -> -6 | I15: 12.59 | J15: =IF(H15*I15<=0,0,H15*I15) -> 0 | K15: https://www.la-bs.com/ArticleDetails.aspx?Code=CP43~CP72GE&lang=FR
A16: GU 5,3 50w | B16: GE Lighting | C16: FNV/GE | E16: 60° | F16: 7 | H16: =G16-F16 -> -7 | I16: 2.62 | J16: =IF(H16*I16<=0,0,H16*I16) -> 0 | K16: https://www.la-bs.com/ArticleDetails.aspx?Code=EXN~GE&lang=FR
A17: GU 10 75w | B17: BS | C17: MR19/75W | D17: MR16 | E17: Funstrip | F17: 0 | G17: 15 | H17: =G17-F17 -> 15 | I17: 3.55 | J17: =IF(H17*I17<=0,0,H17*I17) -> 53.25 | K17: https://www.la-bs.com/ArticleDetails.aspx?Code=MR19~75W&lang=FR
A18: E27 75w | B18: ORSAM | C18: PAR30/75FLOSR | D18: 64841 | E18: Public / 30° 2900K | F18: 8 | G18: 10 | H18: =G18-F18 -> 2 | I18: 10.1 | J18: =IF(H18*I18<=0,0,H18*I18) -> 20.2 | K18: https://www.la-bs.com/ArticleDetails.aspx?Code=PAR30~75FLOSR&lang=FR
A19: G22 2000w | B19: GE Lighting | C19: CP92GE | F19: 3 | H19: =G19-F19 -> -3 | I19: 17.97 | J19: =IF(H19*I19<=0,0,H19*I19) -> 0 | K19: https://www.la-bs.com/ArticleDetails.aspx?Code=CP92GE&lang=FR
A20: R7S 800w | B20: GE Lighting | C20: DXX/GE | D20: DXX | E20: Quartz / 78mm / 3200K | F20: 5 | G20: 3 | H20: =G20-F20 -> -2 | I20: 4.53 | J20: =IF(H20*I20<=0,0,H20*I20) -> 0 | K20: https://www.la-bs.com/ArticleDetails.aspx?Code=DXX~GE&lang=FR
A21: R7S 1000w | B21: GE Lighting | C21: K4 | D21: K4 RS7 189 | E21: Cycliode / 189mm / 3000K | F21: 9 | G21: 5 | H21: =G21-F21 -> -4 | I21: 5.23 | J21: =IF(H21*I21<=0,0,H21*I21) -> 0 | K21: https://www.la-bs.com/fr/art/k4_general-electric-lampe-tubulaire-crayon-1000w-189-mm-r7s-240v-3000k-2000h.htm
A22: GZ 6,35 100w | B22: ORSAM | C22: EFP/1500H | D22: HCX-EFP | F22: 4 | H22: =G22-F22 -> -4 | I22: 8.75 | J22: =IF(H22*I22<=0,0,H22*I22) -> 0 | K22: https://www.la-bs.com/ArticleDetails.aspx?Code=EFP~1500H&lang=FR
A23: PAR36 30w | B23: GE Lighting | C23: 4515GE | E23: F1 & Par 36 / 3200K / 5° | F23: 0 | G23: 5 | H23: =G23-F23 -> 5 | I23: 4.55 | J23: =IF(H23*I23<=0,0,H23*I23) -> 22.75 | K23: https://www.la-bs.com/fr/art/4515ge_general-electric-lampe-par-36-disco-ge-30w-a-vis-6-4v-3200k-200h-5-5-.htm
A24: PL-C 2P 18w | B24: PHILIPS | C24: MASTER PL-C | D24: 840/2P | E24: 4000K / 1200lm / 150.27mm | F24: 16 | H24: =G24-F24 -> -16 | I24: 0 | J24: =IF(H24*I24<=0,0,H24*I24) -> 0
A25: PL-C 2P 26w | B25: PHILIPS | C25: MASTER PL-C | D25: 840/2P | E25: 1800lm / | F25: 27 | H25: =G25-F25 -> -27 | I25: 0 | J25: =IF(H25*I25<=0,0,H25*I25) -> 0
A26: PAR 36 120v 650W | B26: GE Lighting | C26: DWE | E26: Lampe blinders | F26: 0 | G26: 12 | H26: =G26-F26 -> 12 | I26: 12.67 | J26: =IF(H26*I26<=0,0,H26*I26) -> 152.04 | K26: https://www.la-bs.com/ArticleDetails.aspx?Code=DWE&lang=FR
H27: =G27-F27 -> 0 | I27: 0 | J27: =IF(H27*I27<=0,0,H27*I27) -> 0
H28: =G28-F28 -> 0 | I28: 0 | J28: =IF(H28*I28<=0,0,H28*I28) -> 0
H29: =G29-F29 -> 0 | I29: 0 | J29: =IF(H29*I29<=0,0,H29*I29) -> 0
H30: =G30-F30 -> 0 | I30: 0 | J30: =IF(H30*I30<=0,0,H30*I30) -> 0
H31: =G31-F31 -> 0 | I31: 0 | J31: =IF(H31*I31<=0,0,H31*I31) -> 0
H32: =G32-F32 -> 0 | I32: 0 | J32: =IF(H32*I32<=0,0,H32*I32) -> 0
H33: =G33-F33 -> 0 | I33: 0 | J33: =IF(H33*I33<=0,0,H33*I33) -> 0
H34: =G34-F34 -> 0 | I34: 0 | J34: =IF(H34*I34<=0,0,H34*I34) -> 0
H35: TOTAL €HT : | J35: =J4+J5+J6+J7+J8+J9+J10+J11+J12+J13+J14+J15+J16+J17+J18+J19+J20+J21+J22+J23+J24+J25+J26+J27+J28+J29+J30+J31+J32+J33+J34 -> 291.38

Sheet GAFFER
A1: FEUILLE DE STOCK
A2: GAFFER
A3: PRODUIT | B3: MARQUE | C3: REF BS | D3: REF | E3: DESCR | F3: STOCK | G3: SECU | H3: CMD | I3: €HT | J3: €TOTAL | K3: LIEN BS
A4: Gaffer Noir 50mm | B4: Scapa | C4: GAF/N50 | F4: 5 | G4: 10 | H4: =G4-F4 -> 5 | I4: 6.64 | J4: =IF(H4*I4<=0,0,H4*I4) -> 33.2 | K4: https://www.la-bs.com/fr/art/gaf~n50_scapa-tapes-gaffer-standard-scapa-3160----50-mm-x-50-m-noir.htm
A5: Gaffer Noir 100mm | B5: Advance | C5: AT175/N100 | F5: 6 | G5: 2 | H5: =G5-F5 -> -4 | I5: 16.59 | J5: =IF(H5*I5<=0,0,H5*I5) -> 0 | K5: https://www.la-bs.com/ArticleDetails.aspx?Code=AT175~N100&lang=FR
A6: Gaffer Blanc 50mm | B6: Advance | C6: GAF/B50 | F6: 4 | G6: 2 | H6: =G6-F6 -> -2 | I6: 6.64 | J6: =IF(H6*I6<=0,0,H6*I6) -> 0 | K6: https://www.la-bs.com/fr/art/gaf~b50_scapa-tapes-gaffer-standard-scapa-3160----50-mm-x-50-m-blanc.htm
A7: Tapis de danse Noir 50mm | B7: Advance | C7: AT5/N50 | F7: 10 | G7: 10 | H7: =G7-F7 -> 0 | I7: 3.19 | J7: =IF(H7*I7<=0,0,H7*I7) -> 0 | K7: https://www.la-bs.com/fr/art/at5~n50_advance-tapes-collant-tapis-de-danse-at05---at5---50-mm-x-33-m---noir---advance.htm
A8: Tapis de danse Noir 75mm | B8: Advance | C8: AT5/N75 | F8: 3 | G8: 2 | H8: =G8-F8 -> -1 | I8: 7.3 | J8: =IF(H8*I8<=0,0,H8*I8) -> 0 | K8: https://www.la-bs.com/fr/art/at5~n75_advance-tapes-collant-tapis-de-danse-at05---at5---75-mm-x-33-m---noir---advance.htm
A9: Tapis de danse Blanc 50mm | B9: Advance | C9: AT5/B50 | F9: 11 | G9: 10 | H9: =G9-F9 -> -1 | I9: 3.19 | J9: =IF(H9*I9<=0,0,H9*I9) -> 0 | K9: https://www.la-bs.com/fr/art/at5~b50_advance-tapes-collant-tapis-de-danse-at05---at5---50-mm-x-33-m---blanc---advance.htm
A10: Gaffer Mat Noir 50mm | B10: Advance | C10: AT159/N50 | F10: 2 | G10: 2 | H10: =G10-F10 -> 0 | I10: 10.14 | J10: =IF(H10*I10<=0,0,H10*I10) -> 0 | K10: https://www.la-bs.com/ArticleDetails.aspx?Code=AT159~N50&lang=FR
A11: Gaffer Alu | B11: BlackTak | C11: ALU/BS50 | F11: 5 | G11: 10 | H11: =G11-F11 -> 5 | I11: 35.53 | J11: =IF(H11*I11<=0,0,H11*I11) -> 177.65 | K11: https://www.la-bs.com/ArticleDetails.aspx?Code=ALU~BS50&lang=FR
A12: Double Face Vert | B12: Advance | C12: AT327/50 | F12: 3 | G12: 5 | H12: =G12-F12 -> 2 | I12: 8.45 | J12: =IF(H12*I12<=0,0,H12*I12) -> 16.9 | K12: https://www.la-bs.com/ArticleDetails.aspx?Code=AT327~50&lang=FR
A13: Rubalise | B13: Bs | C13: SECULINE | F13: 1 | G13: 2 | H13: =G13-F13 -> 1 | I13: 4.09 | J13: =IF(H13*I13<=0,0,H13*I13) -> 4.09 | K13: https://www.la-bs.com/ArticleDetails.aspx?Code=SECULINE&lang=FR
A14: Tape console | B14: PRO Tapes | C14: MARKTAPE/B | E14: Gaff console | F14: 10 | G14: 5 | H14: =G14-F14 -> -5 | I14: 6.48 | J14: =IF(H14*I14<=0,0,H14*I14) -> 0 | K14: https://www.la-bs.com/fr/art/marktape~b_pro-tapes-adhesif-marquage-console-professionnel-18-mm-x-30-m-blanc.htm
A15: Barnier Noir | B15: Advance | C15: AT7/N | E15: 15mm / 10m | F15: 32 | G15: 50 | H15: =G15-F15 -> 18 | I15: 0.48 | J15: =IF(H15*I15<=0,0,H15*I15) -> 8.64 | K15: https://www.la-bs.com/ArticleDetails.aspx?Code=AT7~N&lang=FR
A16: Barnier Blanc | B16: Advance | C16: AT7/B | E16: 15mm / 10m | F16: 24 | G16: 0 | H16: =G16-F16 -> -24 | I16: 0.48 | J16: =IF(H16*I16<=0,0,H16*I16) -> 0 | K16: https://www.la-bs.com/fr/art/at7~b_advance-tapes-isolant-electrique-advance-at7-pvc-blanc-15-mm-x-10-m.htm
A17: Barnier Bleu | B17: Advance | C17: AT7/BL | E17: 15mm / 10m | F17: 2 | G17: 40 | H17: =G17-F17 -> 38 | I17: 0.48 | J17: =IF(H17*I17<=0,0,H17*I17) -> 18.24 | K17: https://www.la-bs.com/ArticleDetails.aspx?Code=AT7~BL&lang=FR
A18: Barnier Gris | B18: Advance | C18: AT7/G | E18: 15mm / 10m | F18: 24 | G18: 20 | H18: =G18-F18 -> -4 | I18: 0.48 | J18: =IF(H18*I18<=0,0,H18*I18) -> 0 | K18: https://www.la-bs.com/ArticleDetails.aspx?Code=AT7~G&lang=FR
A19: Barnier Rouge | B19: Advance | C19: AT7/R | E19: 15mm / 10m | F19: 14 | G19: 0 | H19: =G19-F19 -> -14 | I19: 0.48 | J19: =IF(H19*I19<=0,0,H19*I19) -> 0 | K19: https://www.la-bs.com/ArticleDetails.aspx?Code=AT7~R&lang=FR
A20: Barnier Jaune | B20: Advance | C20: AT7/J | E20: 15mm / 10m | F20: 17 | G20: 0 | H20: =G20-F20 -> -17 | I20: 0.48 | J20: =IF(H20*I20<=0,0,H20*I20) -> 0 | K20: https://www.la-bs.com/ArticleDetails.aspx?Code=AT7~J&lang=FR
A21: Barnier Orange | B21: Advance | C21: AT7/O | E21: 15mm / 10m | F21: 0 | G21: 10 | H21: =G21-F21 -> 10 | I21: 0.48 | J21: =IF(H21*I21<=0,0,H21*I21) -> 4.8 | K21: https://www.la-bs.com/fr/art/at7~o_advance-tapes-isolant-electrique-advance-at7-pvc-orange-15-mm-x-10-m.htm
A22: Barnier Violet | B22: Advance | C22: AT7/VT | E22: 15mm / 10m | F22: 0 | G22: 10 | H22: =G22-F22 -> 10 | I22: 0.48 | J22: =IF(H22*I22<=0,0,H22*I22) -> 4.8 | K22: https://www.la-bs.com/ArticleDetails.aspx?Code=AT7~VT&lang=FR
A23: Barnier Vert | B23: Advance | C23: AT7/V | E23: 15mm / 10m | F23: 0 | G23: 10 | H23: =G23-F23 -> 10 | I23: 0.48 | J23: =IF(H23*I23<=0,0,H23*I23) -> 4.8 | K23: https://www.la-bs.com/ArticleDetails.aspx?Code=AT7~V&lang=FR
A24: Barnier Marron | B24: Advance | C24: AT7/M | E24: 15mm / 10m | F24: 0 | G24: 10 | H24: =G24-F24 -> 10 | I24: 0.48 | J24: =IF(H24*I24<=0,0,H24*I24) -> 4.8 | K24: https://www.la-bs.com/ArticleDetails.aspx?Code=AT7~M&lang=FR
A25: US Gaff Couleur x5 | B25: PRO Tapes | C25: USGAF/CLAIR12 | E25: 5x 5,40m | F25: 0 | G25: 2 | H25: =G25-F25 -> 2 | I25: 16.95 | J25: =IF(H25*I25<=0,0,H25*I25) -> 33.9 | K25: https://www.la-bs.com/fr/art/usgaf~clair12_pro-tapes-lot-de-5-gaffers---us-gaf---bright-pack-pro-tapes-pro-gaffr-12mmx5-4m.htm
... A29: Gaff Fluo Orange | B29: PRO Tapes | C29: USGAF/OF50 | E29: 48mmx23m | F29: 0 | G29: 2 | H29: =G29-F29 -> 2 | I29: 19.29 | J29: =IF(H29*I29<=0,0,H29*I29) -> 38.58 | K29: https://www.la-bs.com/fr/art/usgaf~of50_pro-tapes-gaffer---us-gaf---pro-tapes-pro-gaffr---48-mm-x-22-86-m-orange-fluo.htm
A30: Gaff phospho | B30: 3M | E30: 28mmx5m | F30: 0 | G30: 1 | H30: =G30-F30 -> 1 | I30: 23.04 | J30: =IF(H30*I30<=0,0,H30*I30) -> 23.04 | K30: https://www.la-bs.com/fr/art/pho28~5m_3-m-rouleau-adhesif-phosphorescent-3m---28-mm-x-5-m.htm
H31: =G31-F31 -> 0 | I31: 0 | J31: =IF(H31*I31<=0,0,H31*I31) -> 0
H32: =G32-F32 -> 0 | I32: 0 | J32: =IF(H32*I32<=0,0,H32*I32) -> 0
H33: =G33-F33 -> 0 | I33: 0 | J33: =IF(H33*I33<=0,0,H33*I33) -> 0
H34: =G34-F34 -> 0 | I34: 0 | J34: =IF(H34*I34<=0,0,H34*I34) -> 0
H35: TOTAL €HT : | J35: =J4+J5+J6+J7+J8+J9+J10+J11+J12+J13+J14+J15+J16+J17+J18+J19+J20+J21+J22+J23+J24+J25+J26+J27+J28+J29+J30+J31+J32+J33+J34 -> 437.2

Sheet MAINTENANCE
A1: FEUILLE DE STOCK
A2: MAINTENANCE
A3: PRODUIT | B3: MARQUE | C3: REF BS | D3: REF | E3: DESCR | F3: STOCK | G3: SECU | H3: CMD | I3: €HT | J3: €TOTAL | K3: LIEN BS
A4: XLR 3 M | B4: Neutrik | C4: NC3MXX | F4: 0 | G4: 10 | H4: =G4-F4 -> 10 | I4: 2.6 | J4: =IF(H4*I4<=0,0,H4*I4) -> 26 | K4: https://www.la-bs.com/ArticleDetails.aspx?Code=NC3MXX&lang=FR
A5: XLR 3 F | B5: Neutrik | C5: NC3FXX | F5: 0 | G5: 10 | H5: =G5-F5 -> 10 | I5: 3.02 | J5: =IF(H5*I5<=0,0,H5*I5) -> 30.2 | K5: https://www.la-bs.com/ArticleDetails.aspx?Code=NC3FXX&lang=FR
A6: XLR 5 M | B6: Neutrik | C6: NC5MXX | F6: 0 | G6: 14 | H6: =G6-F6 -> 14 | I6: 5.48 | J6: =IF(H6*I6<=0,0,H6*I6) -> 76.72 | K6: https://www.la-bs.com/ArticleDetails.aspx?Code=NC5MXX&lang=FR
A7: XLR 5 F | B7: Neutrik | C7: NC5FXX | F7: 0 | G7: 14 | H7: =G7-F7 -> 14 | I7: 6.76 | J7: =IF(H7*I7<=0,0,H7*I7) -> 94.64 | K7: https://www.la-bs.com/ArticleDetails.aspx?Code=NC5FXX&lang=FR
A8: Bloc 4 embases 16A | B8: Legrand | C8: BLOC/4C | F8: 5 | G8: 10 | H8: =G8-F8 -> 5 | I8: 23.87 | J8: =IF(H8*I8<=0,0,H8*I8) -> 119.35 | K8: https://www.la-bs.com/fr/art/bloc~4c_legrand-bloc-caoutchouc-legrand-50553-equipe-4-emb--fem--10-16a-nf.htm
A9: Fiche 16A M | B9: Legrand | C9: FICHE/MC/LEG | F9: 4 | G9: 15 | H9: =G9-F9 -> 11 | I9: 3.95 | J9: =IF(H9*I9<=0,0,H9*I9) -> 43.45 | K9: https://www.la-bs.com/fr/art/fiche~mc~leg_legrand-fiche-male-caoutchouc-legrand-ref--504-45-ip-44.htm
A10: Fiche 16A F | B10: Legrand | C10: FICHE/FC/LEG | F10: 9 | G10: 20 | H10: =G10-F10 -> 11 | I10: 5.3 | J10: =IF(H10*I10<=0,0,H10*I10) -> 58.3 | K10: https://www.la-bs.com/fr/art/fiche~fc~leg_legrand-fiche-femelle-caoutchouc-legrand-ref--504-46-ip-44.htm
A11: Power Con OUT | B11: Neutrik | C11: NAC3FCB | F11: 5 | H11: =G11-F11 -> -5 | I11: 5.3 | J11: =IF(H11*I11<=0,0,H11*I11) -> 0 | K11: https://www.la-bs.com/fr/art/nac3fcb_neutrik-fiche-male-de-depart-secteur-powercon-neutrik-blanche-20a-250v-.htm
A12: Power Con IN | B12: Neutrik | C12: NAC3FCA | F12: 5 | H12: =G12-F12 -> -5 | I12: 5.46 | J12: =IF(H12*I12<=0,0,H12*I12) -> 0 | K12: https://www.la-bs.com/fr/art/nac3fca_neutrik-fiche-male-d-arrivee-secteur-powercon-neutrik-bleue-20a-250v-.htm
A13: Cable 3G2,5² HO7RN-F | B13: Titanex | C13: \ | E13: En metres => (100m) | F13: 0 | G13: 1 | H13: =G13-F13 -> 1 | I13: 108.58 | J13: =IF(H13*I13<=0,0,H13*I13) -> 108.58 | K13: https://www.la-bs.com/Article.aspx?&fam1=GD0&fam2=J7H&fam3=L1Q&Search=h07&Brand=TITANE&facette=1
A14: Embout de cablage 2,5mm² | B14: BS | C14: 100EMBOUTS/2,5 | E14: Boite de 100 | F14: 0 | G14: 1 | H14: =G14-F14 -> 1 | I14: 3.24 | J14: =IF(H14*I14<=0,0,H14*I14) -> 3.24 | K14: https://www.la-bs.com/fr/art/100embouts~2.5_la-bs-collection-100-embouts-de-cablage-pour-cable-2-5-mm2.htm
A15: Gaine thermo DATA 1m | B15: BS | C15: THERMO12/4T | E15: Transparente 4mm / 1m | F15: 0 | H15: =G15-F15 -> 0 | I15: 3.97 | J15: =IF(H15*I15<=0,0,H15*I15) -> 0 | K15: https://www.la-bs.com/fr/art/thermo12~4t_la-bs-collection-gaine-thermoretractable-transparente-12-4-mm---longueur-1-m.htm
A16: Gaine thermo ALIM 1m | B16: BS | C16: THERMO24/8T | E16: Transparente 8mm / 1m | F16: 0 | G16: 2 | H16: =G16-F16 -> 2 | I16: 7.96 | J16: =IF(H16*I16<=0,0,H16*I16) -> 15.92 | K16: https://www.la-bs.com/fr/art/thermo24~8t_la-bs-collection-gaine-thermoretractable-transparente-24-8-mm---longueur-1-m.htm
A17: Cable DMX 4+1 100M Gris | B17: Draka | C17: DMX/CABLE/100G | E17: En metres => (100m) | F17: 0 | G17: 1 | H17: =G17-F17 -> 1 | I17: 131.57 | J17: =IF(H17*I17<=0,0,H17*I17) -> 131.57 | K17: https://www.la-bs.com/fr/sfa/q6f_uy2/x08_lumiere.htm
A18: Bloc 4 embases 16A (SON) | B18: Legrand | C18: LEG50480 | F18: 0 | G18: 5 | H18: =G18-F18 -> 5 | I18: 40.74 | J18: =IF(H18*I18<=0,0,H18*I18) -> 203.7 | K18: https://www.la-bs.com/fr/art/leg50480_legrand-bloc-4-embases-504-80-legrand-caoutchouc-2p-t-nf-ip-44-ik-08-a-cabler.htm
A19: Fiche Speakon 2P M | B19: Neutrik | C19: NL2FX | D19: SPX | F19: 0 | G19: 5 | H19: =G19-F19 -> 5 | I19: 3.78 | J19: =IF(H19*I19<=0,0,H19*I19) -> 18.9 | K19: https://www.la-bs.com/fr/art/nl2fx_neutrik-fiche-speakon-male-serie-spx-2-points-neutrik.htm
A20: Fiche speakon 4P M | B20: Neutrik | C20: NL4FX | D20: SPX | F20: 0 | G20: 5 | H20: =G20-F20 -> 5 | I20: 3.93 | J20: =IF(H20*I20<=0,0,H20*I20) -> 19.65 | K20: https://www.la-bs.com/fr/art/nl4fx_neutrik-fiche-speakon-male-serie-spx-4-points--maximum-30-a--neutrik.htm
A21: Fiche 32A p17 M | B21: LEGRAND | C21: HYPRA/52944 | F21: 0 | G21: 1 | H21: =G21-F21 -> 1 | I21: 26.83 | J21: =IF(H21*I21<=0,0,H21*I21) -> 26.83 | K21: https://www.la-bs.com/fr/art/hypra~52944_legrand-fiche-male-hypra-legrand-32a-tetra-400v-3p-n-t.htm
H22: =G22-F22 -> 0 | I22: 0 | J22: =IF(H22*I22<=0,0,H22*I22) -> 0
H23: =G23-F23 -> 0 | I23: 0 | J23: =IF(H23*I23<=0,0,H23*I23) -> 0
H24: =G24-F24 -> 0 | I24: 0 | J24: =IF(H24*I24<=0,0,H24*I24) -> 0
H25: =G25-F25 -> 0 | I25: 0 | J25: =IF(H25*I25<=0,0,H25*I25) -> 0
H26: =G26-F26 -> 0 | I26: 0 | J26: =IF(H26*I26<=0,0,H26*I26) -> 0
H27: =G27-F27 -> 0 | I27: 0 | J27: =IF(H27*I27<=0,0,H27*I27) -> 0
H28: =G28-F28 -> 0 | I28: 0 | J28: =IF(H28*I28<=0,0,H28*I28) -> 0
H29: =G29-F29 -> 0 | I29: 0 | J29: =IF(H29*I29<=0,0,H29*I29) -> 0
H30: =G30-F30 -> 0 | I30: 0 | J30: =IF(H30*I30<=0,0,H30*I30) -> 0
H31: =G31-F31 -> 0 | I31: 0 | J31: =IF(H31*I31<=0,0,H31*I31) -> 0
H32: =G32-F32 -> 0 | I32: 0 | J32: =IF(H32*I32<=0,0,H32*I32) -> 0
A33: Netoyant Optique | C33: OPTICLEAN | F33: 0 | G33: 2 | H33: =G33-F33 -> 2 | I33: 12.22 | J33: =IF(H33*I33<=0,0,H33*I33) -> 24.44 | K33: https://www.la-bs.com/fr/art/opticlean_jelt-solvant-de-nettoyage-special-optique---400-ml.htm
A34: Graisse Haute temperature | B34: JELT | C34: GRAISSE/AEROSOL | F34: 2 | H34: =G34-F34 -> -2 | I34: 13.65 | J34: =IF(H34*I34<=0,0,H34*I34) -> 0 | K34: https://www.la-bs.com/fr/art/graisse~aerosol_jelt-lubrifiant-aerosol-ht--1200--c-pour-projecteurs---520-ml-.htm
H35: TOTAL €HT : | J35: =J4+J5+J6+J7+J8+J9+J10+J11+J12+J13+J14+J15+J16+J17+J18+J19+J20+J21+J22+J23+J24+J25+J26+J27+J28+J29+J30+J31+J32+J33+J34 -> 1001.49

Sheet PILES
A1: FEUILLE DE STOCK
A2: PILES
A3: PRODUIT | B3: MARQUE | C3: REF BS | D3: REF | E3: DESCR | F3: STOCK | G3: SECU | H3: CMD | I3: €HT | J3: €TOTAL | K3: LIEN BS
A4: AAA LR03 | B4: DURACELL | C4: 10LR03 | E4: (Boite de 10) | F4: 20 | G4: 2 | H4: =G4-F4 -> -18 | I4: 6.16 | J4: =IF(H4*I4<=0,0,H4*I4) -> 0 | K4: https://www.la-bs.com/fr/art/10lr03_duracell-lot-de-10-piles-batons-alcalines-duracell-1-5-v--aaa--avec-taxe-.htm
A5: AA LR06 | B5: DURACELL | C5: 10LR06 | E5: (Boite de 10) | F5: 2 | G5: 10 | H5: =G5-F5 -> 8 | I5: 6.48 | J5: =IF(H5*I5<=0,0,H5*I5) -> 51.84 | K5: https://www.la-bs.com/fr/art/10lr06_duracell-lot-de-10-piles-batons-alcalines-duracell-1-5-v--aa--avec-taxe-.htm
A6: 9v LR61 | B6: DURACELL | C6: 10/6LR61 | E6: (Boite de 10) | F6: 2 | G6: 3 | H6: =G6-F6 -> 1 | I6: 20.81 | J6: =IF(H6*I6<=0,0,H6*I6) -> 20.81 | K6: https://www.la-bs.com/fr/art/10~6lr61_duracell-lot-de-10-piles-rectangulaires-duracell-9-v-alcalines---avec-taxe-.htm
A7: 4,5v LR12 | B7: DURACELL | C7: 10/3LR12 | E7: (Boite de 10) | F7: 0 | G7: 0 | H7: =G7-F7 -> 0 | I7: 45.61 | J7: =IF(H7*I7<=0,0,H7*I7) -> 0 | K7: https://www.la-bs.com/fr/art/10~3lr12_duracell-lot-de-10-piles-plates-duracell-4-5-v--avec-taxe-.htm
A8: BOUTON 2032 | B8: DURACELL | C8: 2CR2032 | E8: (Boite de 2) | F8: 8 | G8: 3 | H8: =G8-F8 -> -5 | I8: 3.5 | J8: =IF(H8*I8<=0,0,H8*I8) -> 0 | K8: https://www.la-bs.com/ArticleDetails.aspx?Code=2CR2032&lang=FR
A9: BOUTON 2022 | B9: DURACELL | C9: 2CR2016 | E9: (Boite de 2) | F9: 0 | H9: =G9-F9 -> 0 | I9: 3.5 | J9: =IF(H9*I9<=0,0,H9*I9) -> 0 | K9: https://www.la-bs.com/fr/art/2cr2016_duracell-lot-de-2-piles-boutons-lithium-duracell-3-v--avec-taxe-cont--environt-.htm
A10: BOUTON 2025 | B10: DURACELL | C10: 2CR2025 | E10: (Boite de 2) | F10: 0 | H10: =G10-F10 -> 0 | I10: 3.5 | J10: =IF(H10*I10<=0,0,H10*I10) -> 0 | K10: https://www.la-bs.com/fr/art/2cr2025_duracell-lot-de-2-piles-cr2025-3v-duracell.htm
H11: =G11-F11 -> 0 | I11: 0 | J11: =IF(H11*I11<=0,0,H11*I11) -> 0
H12: =G12-F12 -> 0 | I12: 0 | J12: =IF(H12*I12<=0,0,H12*I12) -> 0
H13: =G13-F13 -> 0 | I13: 0 | J13: =IF(H13*I13<=0,0,H13*I13) -> 0
H14: =G14-F14 -> 0 | I14: 0 | J14: =IF(H14*I14<=0,0,H14*I14) -> 0
H15: =G15-F15 -> 0 | I15: 0 | J15: =IF(H15*I15<=0,0,H15*I15) -> 0
H16: =G16-F16 -> 0 | I16: 0 | J16: =IF(H16*I16<=0,0,H16*I16) -> 0
H17: =G17-F17 -> 0 | I17: 0 | J17: =IF(H17*I17<=0,0,H17*I17) -> 0
H18: =G18-F18 -> 0 | I18: 0 | J18: =IF(H18*I18<=0,0,H18*I18) -> 0
H19: =G19-F19 -> 0 | I19: 0 | J19: =IF(H19*I19<=0,0,H19*I19) -> 0
H20: =G20-F20 -> 0 | I20: 0 | J20: =IF(H20*I20<=0,0,H20*I20) -> 0
H21: =G21-F21 -> 0 | I21: 0 | J21: =IF(H21*I21<=0,0,H21*I21) -> 0
H22: =G22-F22 -> 0 | I22: 0 | J22: =IF(H22*I22<=0,0,H22*I22) -> 0
... H34: =G34-F34 -> 0 | I34: 0 | J34: =IF(H34*I34<=0,0,H34*I34) -> 0
H35: TOTAL €HT : | J35: =J4+J5+J6+J7+J8+J9+J10+J11+J12+J13+J14+J15+J16+J17+J18+J19+J20+J21+J22+J23+J24+J25+J26+J27+J28+J29+J30+J31+J32+J33+J34 -> 72.65

Sheet ACCESSOIRES
A1: FEUILLE DE STOCK
A2: ACCESSOIRES
A3: PRODUIT | B3: MARQUE | C3: REF BS | D3: REF | E3: DESCR | F3: STOCK | G3: SECU | H3: CMD | I3: €HT | J3: €TOTAL | K3: LIEN BS
A4: Scratch Cable Bleu | B4: BS | C4: COLLIERBS/23BL | E4: 23 cm | G4: 100 | H4: =G4-F4 -> 100 | I4: 0.94 | J4: =IF(H4*I4<=0,0,H4*I4) -> 94 | K4: https://www.la-bs.com/fr/art/collierbs~23bl_la-bs-collection-attache-de-cable-en-velcro-dos-a-dos-23-cm---bleu.htm
A5: Mousqueton Noir | C5: MOUSQ/40N | E5: (Sécu Sunstrip + ?) | G5: 20 | H5: =G5-F5 -> 20 | I5: 1.02 | J5: =IF(H5*I5<=0,0,H5*I5) -> 20.4 | K5: https://www.la-bs.com/ArticleDetails.aspx?Code=MOUSQ~40N&lang=FR
A6: Marquage HT Blanc | B6: JELT | C6: MARKPEINT/B | E6: Marquage Projo | G6: 2 | H6: =G6-F6 -> 2 | I6: 6.62 | J6: =IF(H6*I6<=0,0,H6*I6) -> 13.24 | K6: https://www.la-bs.com/fr/art/markpeint~b_jelt-stylo-de-marquage-blanc--peinture-definitive-haute-temperature-.htm
A7: BAC plastique 60x40x12 | B7: BS | C7: BAC/20L | H7: =G7-F7 -> 0 | I7: 11.89 | J7: =IF(H7*I7<=0,0,H7*I7) -> 0 | K7: https://www.la-bs.com/fr/art/bac~20l_la-bs-collection-bac-en-polypropylene---dim--ext----600-x-400-x-120-mm---20-l.htm
A8: BAC plastique 60x40x20 | B8: BS | C8: BAC/36L | H8: =G8-F8 -> 0 | I8: 15.07 | J8: =IF(H8*I8<=0,0,H8*I8) -> 0 | K8: https://www.la-bs.com/fr/art/bac~36l_la-bs-collection-bac-en-polypropylene---dim--ext----600-x-400-x-200-mm---36-l.htm
A9: BAC plastique 60x40x32 | B9: BS | C9: BAC/60L | H9: =G9-F9 -> 0 | I9: 18.81 | J9: =IF(H9*I9<=0,0,H9*I9) -> 0 | K9: https://www.la-bs.com/fr/art/bac~60l_la-bs-collection-bac-en-polypropylene---dim--ext----600-x-400-x-320-mm---60-l.htm
A10: Bague neutrik Bleu | B10: Neutrik | C10: XXR/BL6 | G10: 100 | H10: =G10-F10 -> 100 | I10: 0.18 | J10: =IF(H10*I10<=0,0,H10*I10) -> 18 | K10: https://www.la-bs.com/fr/art/xxr~bl6_neutrik-bague-bleue-pour-xlr-neutrik-serie--xx-.htm
A11: Bague neutrik Orange | B11: Neutrik | C11: XXR/O3 | H11: =G11-F11 -> 0 | I11: 0.18 | J11: =IF(H11*I11<=0,0,H11*I11) -> 0 | K11: https://www.la-bs.com/fr/art/xxr~o3_neutrik-bague-orange-pour-xlr-neutrik-serie--xx-.htm
H12: =G12-F12 -> 0 | I12: 0 | J12: =IF(H12*I12<=0,0,H12*I12) -> 0
H13: =G13-F13 -> 0 | I13: 0 | J13: =IF(H13*I13<=0,0,H13*I13) -> 0
H14: =G14-F14 -> 0 | I14: 0 | J14: =IF(H14*I14<=0,0,H14*I14) -> 0
H15: =G15-F15 -> 0 | I15: 0 | J15: =IF(H15*I15<=0,0,H15*I15) -> 0
H16: =G16-F16 -> 0 | I16: 0 | J16: =IF(H16*I16<=0,0,H16*I16) -> 0
H17: =G17-F17 -> 0 | I17: 0 | J17: =IF(H17*I17<=0,0,H17*I17) -> 0
H18: =G18-F18 -> 0 | I18: 0 | J18: =IF(H18*I18<=0,0,H18*I18) -> 0
H19: =G19-F19 -> 0 | I19: 0 | J19: =IF(H19*I19<=0,0,H19*I19) -> 0
H20: =G20-F20 -> 0 | I20: 0 | J20: =IF(H20*I20<=0,0,H20*I20) -> 0
H21: =G21-F21 -> 0 | I21: 0 | J21: =IF(H21*I21<=0,0,H21*I21) -> 0
H22: =G22-F22 -> 0 | I22: 0 | J22: =IF(H22*I22<=0,0,H22*I22) -> 0
H23: =G23-F23 -> 0 | I23: 0 | J23: =IF(H23*I23<=0,0,H23*I23) -> 0
... H34: =G34-F34 -> 0 | I34: 0 | J34: =IF(H34*I34<=0,0,H34*I34) -> 0
H35: TOTAL €HT : | J35: =J4+J5+J6+J7+J8+J9+J10+J11+J12+J13+J14+J15+J16+J17+J18+J19+J20+J21+J22+J23+J24+J25+J26+J27+J28+J29+J30+J31+J32+J33+J34 -> 145.64

Sheet GELAT
A1: FEUILLE DE STOCK
A2: GELATINES
A3: PRODUIT | B3: MARQUE | C3: REF BS | D3: REF | E3: DESCR | F3: STOCK | G3: SECU | H3: CMD | I3: €HT | J3: €TOTAL | K3: LIEN BS
H4: =G4-F4 -> 0 | I4: 0 | J4: =IF(H4*I4<=0,0,H4*I4) -> 0
H5: =G5-F5 -> 0 | I5: 0 | J5: =IF(H5*I5<=0,0,H5*I5) -> 0
H6: =G6-F6 -> 0 | I6: 0 | J6: =IF(H6*I6<=0,0,H6*I6) -> 0
H7: =G7-F7 -> 0 | I7: 0 | J7: =IF(H7*I7<=0,0,H7*I7) -> 0
H8: =G8-F8 -> 0 | I8: 0 | J8: =IF(H8*I8<=0,0,H8*I8) -> 0
H9: =G9-F9 -> 0 | I9: 0 | J9: =IF(H9*I9<=0,0,H9*I9) -> 0
H10: =G10-F10 -> 0 | I10: 0 | J10: =IF(H10*I10<=0,0,H10*I10) -> 0
H11: =G11-F11 -> 0 | I11: 0 | J11: =IF(H11*I11<=0,0,H11*I11) -> 0
H12: =G12-F12 -> 0 | I12: 0 | J12: =IF(H12*I12<=0,0,H12*I12) -> 0
H13: =G13-F13 -> 0 | I13: 0 | J13: =IF(H13*I13<=0,0,H13*I13) -> 0
H14: =G14-F14 -> 0 | I14: 0 | J14: =IF(H14*I14<=0,0,H14*I14) -> 0
H15: =G15-F15 -> 0 | I15: 0 | J15: =IF(H15*I15<=0,0,H15*I15) -> 0
... H34: =G34-F34 -> 0 | I34: 0 | J34: =IF(H34*I34<=0,0,H34*I34) -> 0
H35: TOTAL €HT : | J35: =J4+J5+J6+J7+J8+J9+J10+J11+J12+J13+J14+J15+J16+J17+J18+J19+J20+J21+J22+J23+J24+J25+J26+J27+J28+J29+J30+J31+J32+J33+J34 -> 0

Sheet WISHLIST
A1: FEUILLE DE STOCK
A2: WISH LIST
A3: PRODUIT | B3: MARQUE | C3: REF BS | D3: REF | E3: DESCR | F3: STOCK | G3: SECU | H3: CMD | I3: €HT | J3: €TOTAL | K3: LIEN BS
A4: Testeur de câble | C4: TESTEUR/10 | G4: 1 | H4: =G4-F4 -> 1 | I4: 29.88 | J4: =IF(H4*I4<=0,0,H4*I4) -> 29.88 | K4: https://www.la-bs.com/ArticleDetails.aspx?Code=TESTEUR~10&lang=FR
A5: Jeu de clés BTR | B5: Tooland | C5: 9CLES/ETOILE | G5: 1 | H5: =G5-F5 -> 1 | I5: 4.34 | J5: =IF(H5*I5<=0,0,H5*I5) -> 4.34 | K5: https://www.la-bs.com/ArticleDetails.aspx?Code=9CLES~ETOILE&lang=FR
H6: =G6-F6 -> 0 | I6: 0 | J6: =IF(H6*I6<=0,0,H6*I6) -> 0
H7: =G7-F7 -> 0 | I7: 0 | J7: =IF(H7*I7<=0,0,H7*I7) -> 0
H8: =G8-F8 -> 0 | I8: 0 | J8: =IF(H8*I8<=0,0,H8*I8) -> 0
H9: =G9-F9 -> 0 | I9: 0 | J9: =IF(H9*I9<=0,0,H9*I9) -> 0
H10: =G10-F10 -> 0 | I10: 0 | J10: =IF(H10*I10<=0,0,H10*I10) -> 0
H11: =G11-F11 -> 0 | I11: 0 | J11: =IF(H11*I11<=0,0,H11*I11) -> 0
H12: =G12-F12 -> 0 | I12: 0 | J12: =IF(H12*I12<=0,0,H12*I12) -> 0
H13: =G13-F13 -> 0 | I13: 0 | J13: =IF(H13*I13<=0,0,H13*I13) -> 0
H14: =G14-F14 -> 0 | I14: 0 | J14: =IF(H14*I14<=0,0,H14*I14) -> 0
H15: =G15-F15 -> 0 | I15: 0 | J15: =IF(H15*I15<=0,0,H15*I15) -> 0
H16: =G16-F16 -> 0 | I16: 0 | J16: =IF(H16*I16<=0,0,H16*I16) -> 0
H17: =G17-F17 -> 0 | I17: 0 | J17: =IF(H17*I17<=0,0,H17*I17) -> 0
... H34: =G34-F34 -> 0 | I34: 0 | J34: =IF(H34*I34<=0,0,H34*I34) -> 0
H35: TOTAL €HT : | J35: =J4+J5+J6+J7+J8+J9+J10+J11+J12+J13+J14+J15+J16+J17+J18+J19+J20+J21+J22+J23+J24+J25+J26+J27+J28+J29+J30+J31+J32+J33+J34 -> 34.22

Sheet TOTAL
A1: FEUILLE DE STOCK
A2: TOTAL
A4: LAMPES | B4: =LAMPES!J35 -> 291.38
A5: Total €HT
A6: GAFFER | B6: =GAFFER!J35 -> 437.2 | C6: =B4+B6 -> 728.58
A7: Total €HT
A8: MAINTENANCE | B8: =MAINTENANCE!J35 -> 1001.49 | C8: =C6+B8 -> 1730.07
A9: Total €HT
A10: PILES | B10: =PILES!J35 -> 72.65 | C10: =C8+B10 -> 1802.72
A11: Total €HT
A12: ACCESSOIRES | B12: =ACCESSOIRES!J35 -> 145.64 | C12: =C10+B12 -> 1948.36
A13: Total €HT
A14: GELAT | B14: =GELAT!J35 -> 0 | C14: =C12+B14 -> 1948.36
A15: Total €HT
A16: WISHLIST | B16: =WISHLIST!J35 -> 34.22 | C16: =C14+B16 -> 1982.58
A17: Total €HT
A18: TOTAL €HT | B18: =B16+B14+B12+B10+B8+B6+B4 -> 1982.58
A19: TOTAL €TTC | B19: =B18*1.2 -> 2379.096

Sheet doc clear
A1: FEUILLE DE STOCK
A3: PRODUIT | B3: MARQUE | C3: REF BS | D3: REF | E3: DESCR | F3: STOCK | G3: SECU | H3: CMD | I3: €HT | J3: €TOTAL | K3: LIEN BS
H4: =G4-F4 -> 0 | I4: 0 | J4: =IF(H4*I4<=0,0,H4*I4) -> 0
H5: =G5-F5 -> 0 | I5: 0 | J5: =IF(H5*I5<=0,0,H5*I5) -> 0
H6: =G6-F6 -> 0 | I6: 0 | J6: =IF(H6*I6<=0,0,H6*I6) -> 0
H7: =G7-F7 -> 0 | I7: 0 | J7: =IF(H7*I7<=0,0,H7*I7) -> 0
H8: =G8-F8 -> 0 | I8: 0 | J8: =IF(H8*I8<=0,0,H8*I8) -> 0
H9: =G9-F9 -> 0 | I9: 0 | J9: =IF(H9*I9<=0,0,H9*I9) -> 0
H10: =G10-F10 -> 0 | I10: 0 | J10: =IF(H10*I10<=0,0,H10*I10) -> 0
H11: =G11-F11 -> 0 | I11: 0 | J11: =IF(H11*I11<=0,0,H11*I11) -> 0
H12: =G12-F12 -> 0 | I12: 0 | J12: =IF(H12*I12<=0,0,H12*I12) -> 0
H13: =G13-F13 -> 0 | I13: 0 | J13: =IF(H13*I13<=0,0,H13*I13) -> 0
H14: =G14-F14 -> 0 | I14: 0 | J14: =IF(H14*I14<=0,0,H14*I14) -> 0
H15: =G15-F15 -> 0 | I15: 0 | J15: =IF(H15*I15<=0,0,H15*I15) -> 0
... H34: =G34-F34 -> 0 | I34: 0 | J34: =IF(H34*I34<=0,0,H34*I34) -> 0
H35: TOTAL €HT : | J35: =J4+J5+J6+J7+J8+J9+J10+J11+J12+J13+J14+J15+J16+J17+J18+J19+J20+J21+J22+J23+J24+J25+J26+J27+J28+J29+J30+J31+J32+J33+J34 -> 0
