Workbook

Sheet EDIT
A1: RESULTAT ATTENDU | C1: DONNEE 01 | D1: DONNEE 02 | E1: DONNEE 03 | F1: DONNEE 04 | G1: DONNEE 05 | H1: DONNEE 06 | I1: DONNEE 07 | J1: DONNEE 08
C2: 5
C3: 5 | D3: =12*2 -> 24
C4: 5 | D4: =12*2 -> 24 | E4: =D4/2 -> 12
A5: =RESSOURCES!$A$4 -> #4# | C5: 5 | D5: =12*2 -> 24 | E5: =D5/2 -> 12 | F5: =RESSOURCES!$C$4 -> 3
A6: =RESSOURCES!$A$4 -> #4# | C6: 5 | D6: =12*2 -> 24 | E6: =D6/2 -> 12 | F6: =RESSOURCES!$C$4 -> 3 | G6: =RESSOURCES!$C$4+20-C6 -> 18 | K6: ← Remarque : Le résultat #4##4# est acceptable aussi
A7: =RESSOURCES!$A$4&RESSOURCES!$A$8 -> #4##8# | C7: 5 | D7: =12*2 -> 24 | E7: =D7/2 -> 12 | F7: =RESSOURCES!$C$4 -> 3 | G7: =RESSOURCES!$C$4+20-C7 -> 18 | H7: =RESSOURCES!$C$4+RESSOURCES!$C$8*2 -> 17 | K7: ← Remarque : Le résultat #4##4##4##8# est acceptable aussi
A8: =RESSOURCES!$A$4&RESSOURCES!$A$8 -> #4##8# | C8: 5 | D8: =12*2 -> 24 | E8: =D8/2 -> 12 | F8: =RESSOURCES!$C$4 -> 3 | G8: =RESSOURCES!$C$4+20-C8 -> 18 | H8: =RESSOURCES!$C$4+RESSOURCES!$C$8*2 -> 17 | J8: TEXTE | K8: ← Remarque : Le résultat #4##4##4##8# est acceptable aussi

Sheet RESSOURCES
A1: CODE | C1: RESSOURCE
A2: ="#"&ROW(A2)&"#" -> #2# | C2: 1
A3: ="#"&ROW(A3)&"#" -> #3# | C3: 2
A4: ="#"&ROW(A4)&"#" -> #4# | C4: 3
A5: ="#"&ROW(A5)&"#" -> #5# | C5: 4
A6: ="#"&ROW(A6)&"#" -> #6# | C6: 5
A7: ="#"&ROW(A7)&"#" -> #7# | C7: 6
A8: ="#"&ROW(A8)&"#" -> #8# | C8: 7
A9: ="#"&ROW(A9)&"#" -> #9# | C9: 8
A10: ="#"&ROW(A10)&"#" -> #10# | C10: 9
