Workbook

Sheet Valeurs déportées
B1: No132 | C1: No133 | D1: No134 | E1: No135 | F1: No136 | G1: No137 | H1: No138 | I1: No139 | J1: No140 | K1: No141 | L1: No142
A2: Ref01 | B2: m² | D2: m²
A3: Ref02 | B3: ml | D3: ml | I3: m² | J3: m² | K3: m² | L3: m²
A4: Ref03 | B4: ml | D4: ml | I4: ml | J4: ml | K4: ml | L4: ml
A5: Ref04 | B5: u | I5: ml | J5: ml | K5: ml | L5: ml
A6: Ref05 | C6: m² | E6: m² | F6: m² | G6: m² | H6: m² | J6: m² | K6: m² | L6: m²
A7: Ref06 | C7: ml | E7: ml | F7: ml | G7: ml | H7: ml | J7: ml | K7: ml | L7: ml
A8: Ref07 | B8: m² | C8: ml | E8: ml | F8: ml | G8: ml | H8: ml | J8: ml | K8: ml | L8: ml
A9: Ref08 | B9: ml
A10: Ref09 | B10: ml
A11: Ref10 | E11: m² | F11: m² | G11: m² | H11: m²
A12: Ref11 | D12: m² | E12: ml | F12: ml | G12: ml | H12: ml
A13: Ref12 | D13: ml | E13: ml | F13: ml | G13: ml | H13: ml
A14: Ref13 | D14: ml | E14: m² | F14: m² | G14: m² | H14: m²
A15: Ref14 | E15: ml | F15: ml | G15: ml | H15: ml
A16: Ref15 | E16: ml | F16: ml | G16: ml | H16: ml
A17: Ref16 | C17: m² | E17: m² | F17: m² | G17: m² | H17: m²
A18: Ref17 | B18: m² | C18: ml | E18: ml | F18: ml | G18: ml | H18: ml
A19: Ref18 | B19: ml | C19: ml | E19: ml | F19: ml | G19: ml | H19: ml | I19: m²
A20: Ref19 | B20: ml | I20: ml
A21: Ref20 | I21: ml
A22: Ref21 | E22: m²
A23: Ref22 | E23: ml
A24: Ref23 | E24: ml
A25: Ref24 | J25: ens
A26: Ref25 | C26: m²
A27: Ref26 | C27: ml
A28: Ref27 | C28: ml

Sheet Valeurs collectées
B1: No132 | C1: No133 | D1: No134 | E1: No135 | F1: No136 | G1: No137 | H1: No138 | I1: No139 | J1: No140 | K1: No141 | L1: No142 | M1: VALEUR LA PLUS FREQUENTE
A2: Ref01 | B2: =IF(VLOOKUP($A2,'Valeurs déportées'!$A$2:$L$28,COLUMN(),0)="","",VLOOKUP($A2,'Valeurs déportées'!$A$2:$L$28,COLUMN(),0)) -> m² | C2: =IF(VLOOKUP($A2,'Valeurs déportées'!$A$2:$L$28,COLUMN(),0)="","",VLOOKUP($A2,'Valeurs déportées'!$A$2:$L$28,COLUMN(),0)) | D2: =IF(VLOOKUP($A2,'Valeurs déportées'!$A$2:$L$28,COLUMN(),0)="","",VLOOKUP($A2,'Valeurs déportées'!$A$2:$L$28,COLUMN(),0)) -> m² | E2: =IF(VLOOKUP($A2,'Valeurs déportées'!$A$2:$L$28,COLUMN(),0)="","",VLOOKUP($A2,'Valeurs déportées'!$A$2:$L$28,COLUMN(),0)) | F2: =IF(VLOOKUP($A2,'Valeurs déportées'!$A$2:$L$28,COLUMN(),0)="","",VLOOKUP($A2,'Valeurs déportées'!$A$2:$L$28,COLUMN(),0)) | G2: =IF(VLOOKUP($A2,'Valeurs déportées'!$A$2:$L$28,COLUMN(),0)="","",VLOOKUP($A2,'Valeurs déportées'!$A$2:$L$28,COLUMN(),0)) | H2: =IF(VLOOKUP($A2,'Valeurs déportées'!$A$2:$L$28,COLUMN(),0)="","",VLOOKUP($A2,'Valeurs déportées'!$A$2:$L$28,COLUMN(),0)) | I2: =IF(VLOOKUP($A2,'Valeurs déportées'!$A$2:$L$28,COLUMN(),0)="","",VLOOKUP($A2,'Valeurs déportées'!$A$2:$L$28,COLUMN(),0)) | ... L2: =IF(VLOOKUP($A2,'Valeurs déportées'!$A$2:$L$28,COLUMN(),0)="","",VLOOKUP($A2,'Valeurs déportées'!$A$2:$L$28,COLUMN(),0))
A3: Ref02 | B3: =IF(VLOOKUP($A3,'Valeurs déportées'!$A$2:$L$28,COLUMN(),0)="","",VLOOKUP($A3,'Valeurs déportées'!$A$2:$L$28,COLUMN(),0)) -> ml | C3: =IF(VLOOKUP($A3,'Valeurs déportées'!$A$2:$L$28,COLUMN(),0)="","",VLOOKUP($A3,'Valeurs déportées'!$A$2:$L$28,COLUMN(),0)) | D3: =IF(VLOOKUP($A3,'Valeurs déportées'!$A$2:$L$28,COLUMN(),0)="","",VLOOKUP($A3,'Valeurs déportées'!$A$2:$L$28,COLUMN(),0)) -> ml | E3: =IF(VLOOKUP($A3,'Valeurs déportées'!$A$2:$L$28,COLUMN(),0)="","",VLOOKUP($A3,'Valeurs déportées'!$A$2:$L$28,COLUMN(),0)) | F3: =IF(VLOOKUP($A3,'Valeurs déportées'!$A$2:$L$28,COLUMN(),0)="","",VLOOKUP($A3,'Valeurs déportées'!$A$2:$L$28,COLUMN(),0)) | G3: =IF(VLOOKUP($A3,'Valeurs déportées'!$A$2:$L$28,COLUMN(),0)="","",VLOOKUP($A3,'Valeurs déportées'!$A$2:$L$28,COLUMN(),0)) | H3: =IF(VLOOKUP($A3,'Valeurs déportées'!$A$2:$L$28,COLUMN(),0)="","",VLOOKUP($A3,'Valeurs déportées'!$A$2:$L$28,COLUMN(),0)) | I3: =IF(VLOOKUP($A3,'Valeurs déportées'!$A$2:$L$28,COLUMN(),0)="","",VLOOKUP($A3,'Valeurs déportées'!$A$2:$L$28,COLUMN(),0)) -> m² | ... L3: =IF(VLOOKUP($A3,'Valeurs déportées'!$A$2:$L$28,COLUMN(),0)="","",VLOOKUP($A3,'Valeurs déportées'!$A$2:$L$28,COLUMN(),0)) -> m²
A4: Ref03 | B4: =IF(VLOOKUP($A4,'Valeurs déportées'!$A$2:$L$28,COLUMN(),0)="","",VLOOKUP($A4,'Valeurs déportées'!$A$2:$L$28,COLUMN(),0)) -> ml | C4: =IF(VLOOKUP($A4,'Valeurs déportées'!$A$2:$L$28,COLUMN(),0)="","",VLOOKUP($A4,'Valeurs déportées'!$A$2:$L$28,COLUMN(),0)) | D4: =IF(VLOOKUP($A4,'Valeurs déportées'!$A$2:$L$28,COLUMN(),0)="","",VLOOKUP($A4,'Valeurs déportées'!$A$2:$L$28,COLUMN(),0)) -> ml | E4: =IF(VLOOKUP($A4,'Valeurs déportées'!$A$2:$L$28,COLUMN(),0)="","",VLOOKUP($A4,'Valeurs déportées'!$A$2:$L$28,COLUMN(),0)) | F4: =IF(VLOOKUP($A4,'Valeurs déportées'!$A$2:$L$28,COLUMN(),0)="","",VLOOKUP($A4,'Valeurs déportées'!$A$2:$L$28,COLUMN(),0)) | G4: =IF(VLOOKUP($A4,'Valeurs déportées'!$A$2:$L$28,COLUMN(),0)="","",VLOOKUP($A4,'Valeurs déportées'!$A$2:$L$28,COLUMN(),0)) | H4: =IF(VLOOKUP($A4,'Valeurs déportées'!$A$2:$L$28,COLUMN(),0)="","",VLOOKUP($A4,'Valeurs déportées'!$A$2:$L$28,COLUMN(),0)) | I4: =IF(VLOOKUP($A4,'Valeurs déportées'!$A$2:$L$28,COLUMN(),0)="","",VLOOKUP($A4,'Valeurs déportées'!$A$2:$L$28,COLUMN(),0)) -> ml | ... L4: =IF(VLOOKUP($A4,'Valeurs déportées'!$A$2:$L$28,COLUMN(),0)="","",VLOOKUP($A4,'Valeurs déportées'!$A$2:$L$28,COLUMN(),0)) -> ml
A5: Ref04 | B5: =IF(VLOOKUP($A5,'Valeurs déportées'!$A$2:$L$28,COLUMN(),0)="","",VLOOKUP($A5,'Valeurs déportées'!$A$2:$L$28,COLUMN(),0)) -> u | C5: =IF(VLOOKUP($A5,'Valeurs déportées'!$A$2:$L$28,COLUMN(),0)="","",VLOOKUP($A5,'Valeurs déportées'!$A$2:$L$28,COLUMN(),0)) | D5: =IF(VLOOKUP($A5,'Valeurs déportées'!$A$2:$L$28,COLUMN(),0)="","",VLOOKUP($A5,'Valeurs déportées'!$A$2:$L$28,COLUMN(),0)) | E5: =IF(VLOOKUP($A5,'Valeurs déportées'!$A$2:$L$28,COLUMN(),0)="","",VLOOKUP($A5,'Valeurs déportées'!$A$2:$L$28,COLUMN(),0)) | F5: =IF(VLOOKUP($A5,'Valeurs déportées'!$A$2:$L$28,COLUMN(),0)="","",VLOOKUP($A5,'Valeurs déportées'!$A$2:$L$28,COLUMN(),0)) | G5: =IF(VLOOKUP($A5,'Valeurs déportées'!$A$2:$L$28,COLUMN(),0)="","",VLOOKUP($A5,'Valeurs déportées'!$A$2:$L$28,COLUMN(),0)) | H5: =IF(VLOOKUP($A5,'Valeurs déportées'!$A$2:$L$28,COLUMN(),0)="","",VLOOKUP($A5,'Valeurs déportées'!$A$2:$L$28,COLUMN(),0)) | I5: =IF(VLOOKUP($A5,'Valeurs déportées'!$A$2:$L$28,COLUMN(),0)="","",VLOOKUP($A5,'Valeurs déportées'!$A$2:$L$28,COLUMN(),0)) -> ml | ... L5: =IF(VLOOKUP($A5,'Valeurs déportées'!$A$2:$L$28,COLUMN(),0)="","",VLOOKUP($A5,'Valeurs déportées'!$A$2:$L$28,COLUMN(),0)) -> ml
A6: Ref05 | B6: =IF(VLOOKUP($A6,'Valeurs déportées'!$A$2:$L$28,COLUMN(),0)="","",VLOOKUP($A6,'Valeurs déportées'!$A$2:$L$28,COLUMN(),0)) | C6: =IF(VLOOKUP($A6,'Valeurs déportées'!$A$2:$L$28,COLUMN(),0)="","",VLOOKUP($A6,'Valeurs déportées'!$A$2:$L$28,COLUMN(),0)) -> m² | D6: =IF(VLOOKUP($A6,'Valeurs déportées'!$A$2:$L$28,COLUMN(),0)="","",VLOOKUP($A6,'Valeurs déportées'!$A$2:$L$28,COLUMN(),0)) | E6: =IF(VLOOKUP($A6,'Valeurs déportées'!$A$2:$L$28,COLUMN(),0)="","",VLOOKUP($A6,'Valeurs déportées'!$A$2:$L$28,COLUMN(),0)) -> m² | F6: =IF(VLOOKUP($A6,'Valeurs déportées'!$A$2:$L$28,COLUMN(),0)="","",VLOOKUP($A6,'Valeurs déportées'!$A$2:$L$28,COLUMN(),0)) -> m² | G6: =IF(VLOOKUP($A6,'Valeurs déportées'!$A$2:$L$28,COLUMN(),0)="","",VLOOKUP($A6,'Valeurs déportées'!$A$2:$L$28,COLUMN(),0)) -> m² | H6: =IF(VLOOKUP($A6,'Valeurs déportées'!$A$2:$L$28,COLUMN(),0)="","",VLOOKUP($A6,'Valeurs déportées'!$A$2:$L$28,COLUMN(),0)) -> m² | I6: =IF(VLOOKUP($A6,'Valeurs déportées'!$A$2:$L$28,COLUMN(),0)="","",VLOOKUP($A6,'Valeurs déportées'!$A$2:$L$28,COLUMN(),0)) | ... L6: =IF(VLOOKUP($A6,'Valeurs déportées'!$A$2:$L$28,COLUMN(),0)="","",VLOOKUP($A6,'Valeurs déportées'!$A$2:$L$28,COLUMN(),0)) -> m²
A7: Ref06 | B7: =IF(VLOOKUP($A7,'Valeurs déportées'!$A$2:$L$28,COLUMN(),0)="","",VLOOKUP($A7,'Valeurs déportées'!$A$2:$L$28,COLUMN(),0)) | C7: =IF(VLOOKUP($A7,'Valeurs déportées'!$A$2:$L$28,COLUMN(),0)="","",VLOOKUP($A7,'Valeurs déportées'!$A$2:$L$28,COLUMN(),0)) -> ml | D7: =IF(VLOOKUP($A7,'Valeurs déportées'!$A$2:$L$28,COLUMN(),0)="","",VLOOKUP($A7,'Valeurs déportées'!$A$2:$L$28,COLUMN(),0)) | E7: =IF(VLOOKUP($A7,'Valeurs déportées'!$A$2:$L$28,COLUMN(),0)="","",VLOOKUP($A7,'Valeurs déportées'!$A$2:$L$28,COLUMN(),0)) -> ml | F7: =IF(VLOOKUP($A7,'Valeurs déportées'!$A$2:$L$28,COLUMN(),0)="","",VLOOKUP($A7,'Valeurs déportées'!$A$2:$L$28,COLUMN(),0)) -> ml | G7: =IF(VLOOKUP($A7,'Valeurs déportées'!$A$2:$L$28,COLUMN(),0)="","",VLOOKUP($A7,'Valeurs déportées'!$A$2:$L$28,COLUMN(),0)) -> ml | H7: =IF(VLOOKUP($A7,'Valeurs déportées'!$A$2:$L$28,COLUMN(),0)="","",VLOOKUP($A7,'Valeurs déportées'!$A$2:$L$28,COLUMN(),0)) -> ml | I7: =IF(VLOOKUP($A7,'Valeurs déportées'!$A$2:$L$28,COLUMN(),0)="","",VLOOKUP($A7,'Valeurs déportées'!$A$2:$L$28,COLUMN(),0)) | ... L7: =IF(VLOOKUP($A7,'Valeurs déportées'!$A$2:$L$28,COLUMN(),0)="","",VLOOKUP($A7,'Valeurs déportées'!$A$2:$L$28,COLUMN(),0)) -> ml
A8: Ref07 | B8: =IF(VLOOKUP($A8,'Valeurs déportées'!$A$2:$L$28,COLUMN(),0)="","",VLOOKUP($A8,'Valeurs déportées'!$A$2:$L$28,COLUMN(),0)) -> m² | C8: =IF(VLOOKUP($A8,'Valeurs déportées'!$A$2:$L$28,COLUMN(),0)="","",VLOOKUP($A8,'Valeurs déportées'!$A$2:$L$28,COLUMN(),0)) -> ml | D8: =IF(VLOOKUP($A8,'Valeurs déportées'!$A$2:$L$28,COLUMN(),0)="","",VLOOKUP($A8,'Valeurs déportées'!$A$2:$L$28,COLUMN(),0)) | E8: =IF(VLOOKUP($A8,'Valeurs déportées'!$A$2:$L$28,COLUMN(),0)="","",VLOOKUP($A8,'Valeurs déportées'!$A$2:$L$28,COLUMN(),0)) -> ml | F8: =IF(VLOOKUP($A8,'Valeurs déportées'!$A$2:$L$28,COLUMN(),0)="","",VLOOKUP($A8,'Valeurs déportées'!$A$2:$L$28,COLUMN(),0)) -> ml | G8: =IF(VLOOKUP($A8,'Valeurs déportées'!$A$2:$L$28,COLUMN(),0)="","",VLOOKUP($A8,'Valeurs déportées'!$A$2:$L$28,COLUMN(),0)) -> ml | H8: =IF(VLOOKUP($A8,'Valeurs déportées'!$A$2:$L$28,COLUMN(),0)="","",VLOOKUP($A8,'Valeurs déportées'!$A$2:$L$28,COLUMN(),0)) -> ml | I8: =IF(VLOOKUP($A8,'Valeurs déportées'!$A$2:$L$28,COLUMN(),0)="","",VLOOKUP($A8,'Valeurs déportées'!$A$2:$L$28,COLUMN(),0)) | ... L8: =IF(VLOOKUP($A8,'Valeurs déportées'!$A$2:$L$28,COLUMN(),0)="","",VLOOKUP($A8,'Valeurs déportées'!$A$2:$L$28,COLUMN(),0)) -> ml
A9: Ref08 | B9: =IF(VLOOKUP($A9,'Valeurs déportées'!$A$2:$L$28,COLUMN(),0)="","",VLOOKUP($A9,'Valeurs déportées'!$A$2:$L$28,COLUMN(),0)) -> ml | C9: =IF(VLOOKUP($A9,'Valeurs déportées'!$A$2:$L$28,COLUMN(),0)="","",VLOOKUP($A9,'Valeurs déportées'!$A$2:$L$28,COLUMN(),0)) | D9: =IF(VLOOKUP($A9,'Valeurs déportées'!$A$2:$L$28,COLUMN(),0)="","",VLOOKUP($A9,'Valeurs déportées'!$A$2:$L$28,COLUMN(),0)) | E9: =IF(VLOOKUP($A9,'Valeurs déportées'!$A$2:$L$28,COLUMN(),0)="","",VLOOKUP($A9,'Valeurs déportées'!$A$2:$L$28,COLUMN(),0)) | F9: =IF(VLOOKUP($A9,'Valeurs déportées'!$A$2:$L$28,COLUMN(),0)="","",VLOOKUP($A9,'Valeurs déportées'!$A$2:$L$28,COLUMN(),0)) | G9: =IF(VLOOKUP($A9,'Valeurs déportées'!$A$2:$L$28,COLUMN(),0)="","",VLOOKUP($A9,'Valeurs déportées'!$A$2:$L$28,COLUMN(),0)) | H9: =IF(VLOOKUP($A9,'Valeurs déportées'!$A$2:$L$28,COLUMN(),0)="","",VLOOKUP($A9,'Valeurs déportées'!$A$2:$L$28,COLUMN(),0)) | I9: =IF(VLOOKUP($A9,'Valeurs déportées'!$A$2:$L$28,COLUMN(),0)="","",VLOOKUP($A9,'Valeurs déportées'!$A$2:$L$28,COLUMN(),0)) | ... L9: =IF(VLOOKUP($A9,'Valeurs déportées'!$A$2:$L$28,COLUMN(),0)="","",VLOOKUP($A9,'Valeurs déportées'!$A$2:$L$28,COLUMN(),0))
A10: Ref09 | B10: =IF(VLOOKUP($A10,'Valeurs déportées'!$A$2:$L$28,COLUMN(),0)="","",VLOOKUP($A10,'Valeurs déportées'!$A$2:$L$28,COLUMN(),0)) -> ml | C10: =IF(VLOOKUP($A10,'Valeurs déportées'!$A$2:$L$28,COLUMN(),0)="","",VLOOKUP($A10,'Valeurs déportées'!$A$2:$L$28,COLUMN(),0)) | D10: =IF(VLOOKUP($A10,'Valeurs déportées'!$A$2:$L$28,COLUMN(),0)="","",VLOOKUP($A10,'Valeurs déportées'!$A$2:$L$28,COLUMN(),0)) | E10: =IF(VLOOKUP($A10,'Valeurs déportées'!$A$2:$L$28,COLUMN(),0)="","",VLOOKUP($A10,'Valeurs déportées'!$A$2:$L$28,COLUMN(),0)) | F10: =IF(VLOOKUP($A10,'Valeurs déportées'!$A$2:$L$28,COLUMN(),0)="","",VLOOKUP($A10,'Valeurs déportées'!$A$2:$L$28,COLUMN(),0)) | G10: =IF(VLOOKUP($A10,'Valeurs déportées'!$A$2:$L$28,COLUMN(),0)="","",VLOOKUP($A10,'Valeurs déportées'!$A$2:$L$28,COLUMN(),0)) | H10: =IF(VLOOKUP($A10,'Valeurs déportées'!$A$2:$L$28,COLUMN(),0)="","",VLOOKUP($A10,'Valeurs déportées'!$A$2:$L$28,COLUMN(),0)) | I10: =IF(VLOOKUP($A10,'Valeurs déportées'!$A$2:$L$28,COLUMN(),0)="","",VLOOKUP($A10,'Valeurs déportées'!$A$2:$L$28,COLUMN(),0)) | ... L10: =IF(VLOOKUP($A10,'Valeurs déportées'!$A$2:$L$28,COLUMN(),0)="","",VLOOKUP($A10,'Valeurs déportées'!$A$2:$L$28,COLUMN(),0))
A11: Ref10 | B11: =IF(VLOOKUP($A11,'Valeurs déportées'!$A$2:$L$28,COLUMN(),0)="","",VLOOKUP($A11,'Valeurs déportées'!$A$2:$L$28,COLUMN(),0)) | C11: =IF(VLOOKUP($A11,'Valeurs déportées'!$A$2:$L$28,COLUMN(),0)="","",VLOOKUP($A11,'Valeurs déportées'!$A$2:$L$28,COLUMN(),0)) | D11: =IF(VLOOKUP($A11,'Valeurs déportées'!$A$2:$L$28,COLUMN(),0)="","",VLOOKUP($A11,'Valeurs déportées'!$A$2:$L$28,COLUMN(),0)) | E11: =IF(VLOOKUP($A11,'Valeurs déportées'!$A$2:$L$28,COLUMN(),0)="","",VLOOKUP($A11,'Valeurs déportées'!$A$2:$L$28,COLUMN(),0)) -> m² | F11: =IF(VLOOKUP($A11,'Valeurs déportées'!$A$2:$L$28,COLUMN(),0)="","",VLOOKUP($A11,'Valeurs déportées'!$A$2:$L$28,COLUMN(),0)) -> m² | G11: =IF(VLOOKUP($A11,'Valeurs déportées'!$A$2:$L$28,COLUMN(),0)="","",VLOOKUP($A11,'Valeurs déportées'!$A$2:$L$28,COLUMN(),0)) -> m² | H11: =IF(VLOOKUP($A11,'Valeurs déportées'!$A$2:$L$28,COLUMN(),0)="","",VLOOKUP($A11,'Valeurs déportées'!$A$2:$L$28,COLUMN(),0)) -> m² | I11: =IF(VLOOKUP($A11,'Valeurs déportées'!$A$2:$L$28,COLUMN(),0)="","",VLOOKUP($A11,'Valeurs déportées'!$A$2:$L$28,COLUMN(),0)) | ... L11: =IF(VLOOKUP($A11,'Valeurs déportées'!$A$2:$L$28,COLUMN(),0)="","",VLOOKUP($A11,'Valeurs déportées'!$A$2:$L$28,COLUMN(),0))
A12: Ref11 | B12: =IF(VLOOKUP($A12,'Valeurs déportées'!$A$2:$L$28,COLUMN(),0)="","",VLOOKUP($A12,'Valeurs déportées'!$A$2:$L$28,COLUMN(),0)) | C12: =IF(VLOOKUP($A12,'Valeurs déportées'!$A$2:$L$28,COLUMN(),0)="","",VLOOKUP($A12,'Valeurs déportées'!$A$2:$L$28,COLUMN(),0)) | D12: =IF(VLOOKUP($A12,'Valeurs déportées'!$A$2:$L$28,COLUMN(),0)="","",VLOOKUP($A12,'Valeurs déportées'!$A$2:$L$28,COLUMN(),0)) -> m² | E12: =IF(VLOOKUP($A12,'Valeurs déportées'!$A$2:$L$28,COLUMN(),0)="","",VLOOKUP($A12,'Valeurs déportées'!$A$2:$L$28,COLUMN(),0)) -> ml | F12: =IF(VLOOKUP($A12,'Valeurs déportées'!$A$2:$L$28,COLUMN(),0)="","",VLOOKUP($A12,'Valeurs déportées'!$A$2:$L$28,COLUMN(),0)) -> ml | G12: =IF(VLOOKUP($A12,'Valeurs déportées'!$A$2:$L$28,COLUMN(),0)="","",VLOOKUP($A12,'Valeurs déportées'!$A$2:$L$28,COLUMN(),0)) -> ml | H12: =IF(VLOOKUP($A12,'Valeurs déportées'!$A$2:$L$28,COLUMN(),0)="","",VLOOKUP($A12,'Valeurs déportées'!$A$2:$L$28,COLUMN(),0)) -> ml | I12: =IF(VLOOKUP($A12,'Valeurs déportées'!$A$2:$L$28,COLUMN(),0)="","",VLOOKUP($A12,'Valeurs déportées'!$A$2:$L$28,COLUMN(),0)) | ... L12: =IF(VLOOKUP($A12,'Valeurs déportées'!$A$2:$L$28,COLUMN(),0)="","",VLOOKUP($A12,'Valeurs déportées'!$A$2:$L$28,COLUMN(),0))
A13: Ref12 | B13: =IF(VLOOKUP($A13,'Valeurs déportées'!$A$2:$L$28,COLUMN(),0)="","",VLOOKUP($A13,'Valeurs déportées'!$A$2:$L$28,COLUMN(),0)) | C13: =IF(VLOOKUP($A13,'Valeurs déportées'!$A$2:$L$28,COLUMN(),0)="","",VLOOKUP($A13,'Valeurs déportées'!$A$2:$L$28,COLUMN(),0)) | D13: =IF(VLOOKUP($A13,'Valeurs déportées'!$A$2:$L$28,COLUMN(),0)="","",VLOOKUP($A13,'Valeurs déportées'!$A$2:$L$28,COLUMN(),0)) -> ml | E13: =IF(VLOOKUP($A13,'Valeurs déportées'!$A$2:$L$28,COLUMN(),0)="","",VLOOKUP($A13,'Valeurs déportées'!$A$2:$L$28,COLUMN(),0)) -> ml | F13: =IF(VLOOKUP($A13,'Valeurs déportées'!$A$2:$L$28,COLUMN(),0)="","",VLOOKUP($A13,'Valeurs déportées'!$A$2:$L$28,COLUMN(),0)) -> ml | G13: =IF(VLOOKUP($A13,'Valeurs déportées'!$A$2:$L$28,COLUMN(),0)="","",VLOOKUP($A13,'Valeurs déportées'!$A$2:$L$28,COLUMN(),0)) -> ml | H13: =IF(VLOOKUP($A13,'Valeurs déportées'!$A$2:$L$28,COLUMN(),0)="","",VLOOKUP($A13,'Valeurs déportées'!$A$2:$L$28,COLUMN(),0)) -> ml | I13: =IF(VLOOKUP($A13,'Valeurs déportées'!$A$2:$L$28,COLUMN(),0)="","",VLOOKUP($A13,'Valeurs déportées'!$A$2:$L$28,COLUMN(),0)) | ... L13: =IF(VLOOKUP($A13,'Valeurs déportées'!$A$2:$L$28,COLUMN(),0)="","",VLOOKUP($A13,'Valeurs déportées'!$A$2:$L$28,COLUMN(),0))
... A28: Ref27 | B28: =IF(VLOOKUP($A28,'Valeurs déportées'!$A$2:$L$28,COLUMN(),0)="","",VLOOKUP($A28,'Valeurs déportées'!$A$2:$L$28,COLUMN(),0)) | C28: =IF(VLOOKUP($A28,'Valeurs déportées'!$A$2:$L$28,COLUMN(),0)="","",VLOOKUP($A28,'Valeurs déportées'!$A$2:$L$28,COLUMN(),0)) -> ml | D28: =IF(VLOOKUP($A28,'Valeurs déportées'!$A$2:$L$28,COLUMN(),0)="","",VLOOKUP($A28,'Valeurs déportées'!$A$2:$L$28,COLUMN(),0)) | E28: =IF(VLOOKUP($A28,'Valeurs déportées'!$A$2:$L$28,COLUMN(),0)="","",VLOOKUP($A28,'Valeurs déportées'!$A$2:$L$28,COLUMN(),0)) | F28: =IF(VLOOKUP($A28,'Valeurs déportées'!$A$2:$L$28,COLUMN(),0)="","",VLOOKUP($A28,'Valeurs déportées'!$A$2:$L$28,COLUMN(),0)) | G28: =IF(VLOOKUP($A28,'Valeurs déportées'!$A$2:$L$28,COLUMN(),0)="","",VLOOKUP($A28,'Valeurs déportées'!$A$2:$L$28,COLUMN(),0)) | H28: =IF(VLOOKUP($A28,'Valeurs déportées'!$A$2:$L$28,COLUMN(),0)="","",VLOOKUP($A28,'Valeurs déportées'!$A$2:$L$28,COLUMN(),0)) | I28: =IF(VLOOKUP($A28,'Valeurs déportées'!$A$2:$L$28,COLUMN(),0)="","",VLOOKUP($A28,'Valeurs déportées'!$A$2:$L$28,COLUMN(),0)) | ... L28: =IF(VLOOKUP($A28,'Valeurs déportées'!$A$2:$L$28,COLUMN(),0)="","",VLOOKUP($A28,'Valeurs déportées'!$A$2:$L$28,COLUMN(),0))
