Workbook

Sheet A LIRE
A1: Code couleur | B1: Valeurs brutes
B2: Valeurs calculées
A3: Test de Grubbs | B3: Dans la colonne des valeurs d'analyses ("valeur_analyse") il ne faut pas mettre de formule. Sinon les formules des autres colonnes ne fonctionnent pas. Une cellule sans valeur dois être vide. Donc si besoin de reprendre des valeurs d'une autre colonne faire copier et coller les valeurs.
B4: Dans le calcul de l'écart type (SD) et du Z_max dans la table des analyses (colonnes indiquées avec *) : il s'agit de formules matricielles à valider avec Ctrl + MAJ + ENTREE. Puis double clic en bas à gauche de la cellule pour dérouler la formule automatiquement.
B5: Le tableau des valeurs critiques de Grubbs (onglet "valeur_critique_Gruubs") s'arrête à n = 40. HORS pour certaines biomasses le nombre d'analyses dépassent 40
B6: Si l'ecart type (SD) est égal à 0 la formule pour caluler le Z ne fonctionne pas (divison par 0 impossible). --> Formule du Z à modifier si cela arrive.
B7: Resultat GRUBBS : sans_valeur : pas de valeur pour la ligne inf_3_analyses : test non possible car n = 1 ou n = 2 O : valeur aberrante N : valeur non abberrante

Sheet biomasses
A2: id | B2: biomasse | C2: total_nb_biomasses_analysées
A3: 1 | B3: bagasse | C3: =COUNTIF(analyses!$A$3:$A$4000,biomasses!A3) -> 3
A4: 2 | B4: boue de STEU granulée chaulée | C4: =COUNTIF(analyses!$A$3:$A$4000,biomasses!A4) -> 46
A5: 3 | B5: boue de STEU liquide | C5: =COUNTIF(analyses!$A$3:$A$4000,biomasses!A5) -> 3
A6: 4 | B6: boue de STEU pâteuse | C6: =COUNTIF(analyses!$A$3:$A$4000,biomasses!A6) -> 10
A7: 5 | B7: boue de STEU solide | C7: =COUNTIF(analyses!$A$3:$A$4000,biomasses!A7) -> 37
A8: 6 | B8: boue de STEU solide sèche | C8: =COUNTIF(analyses!$A$3:$A$4000,biomasses!A8) -> 6
A9: 7 | B9: broyats de DV | C9: =COUNTIF(analyses!$A$3:$A$4000,biomasses!A9) -> 111
A10: 8 | B10: cendre de bagasse | C10: =COUNTIF(analyses!$A$3:$A$4000,biomasses!A10) -> 4
A11: 9 | B11: compost de DV | C11: =COUNTIF(analyses!$A$3:$A$4000,biomasses!A11) -> 81
A12: 10 | B12: compost de fumier de bovin | C12: =COUNTIF(analyses!$A$3:$A$4000,biomasses!A12) -> 134
A13: 11 | B13: compost de fumier de poulet de chair (litière cryptomeria) | C13: =COUNTIF(analyses!$A$3:$A$4000,biomasses!A13) -> 27
A14: 12 | B14: compost de litière de volaille+fientes de poules pondeuses+refus centrifugation lisier de porc | C14: =COUNTIF(analyses!$A$3:$A$4000,biomasses!A14) -> 34
... A37: 35 | B37: vinasse brute | C37: =COUNTIF(analyses!$A$3:$A$4000,biomasses!A37) -> 59

Sheet analyses
B1: 1 . … en … par …
A2: id_biomasse | B2: Valeur_analyse | C2: moyenne_biomasse_même_type | D2: SD_biomasse_meme_type* | E2: Zvalue_analyse | F2: Zmax_biomasse_mêm_type* | G2: valeur_aberrante_selon_GRUBBS 5%
A3: =biomasses!A3 -> 1 | C3: =IF(B3="","",SUMPRODUCT(($A$3:$A$3999=$A3)*B$3:B$3999)/(COUNTIF($A$3:$A$3999,$A3))) | D3: {=IF(COUNTIFS($A$3:$A$3999,$A3,B$3:B$3999,">0")>1,IF(COUNTIF($A$3:$A$3999,$A3)>2,STDEV(IF(($A$3:$A$3999=$A3)*B$3:B$3999<>0,($A$3:$A$3999=$A3)*B$3:B$3999,"")),""),"")} | E3: =IF(OR(B3="",D3=""),"",IF(COUNTIF($A$3:$A$4000,A3)<3,"",ABS(B3-C3)/D3)) | F3: =IF(E3="","",MAX(IF($A$3:$A$3999=$A3,E$3:E$3999))) | G3: =IF(B3="","sans_valeur",IF(COUNTIFS($A$3:$A$3999,$A3,B$3:B$3999,">0")<3,"inf_3_analyses",IF(E3<>F3,"N",IF(E3>VLOOKUP(#REF!,valeur_critique_grubbs!$A$2:$B$249,2,TRUE),"O","N")))) -> sans_valeur
A4: =biomasses!A3 -> 1 | C4: =IF(B4="","",SUMPRODUCT(($A$3:$A$3999=$A4)*B$3:B$3999)/(COUNTIF($A$3:$A$3999,$A4))) | D4: {=IF(COUNTIFS($A$3:$A$3999,$A4,B$3:B$3999,">0")>1,IF(COUNTIF($A$3:$A$3999,$A4)>2,STDEV(IF(($A$3:$A$3999=$A4)*B$3:B$3999<>0,($A$3:$A$3999=$A4)*B$3:B$3999,"")),""),"")} | E4: =IF(OR(B4="",D4=""),"",IF(COUNTIF($A$3:$A$4000,A4)<3,"",ABS(B4-C4)/D4)) | F4: {=IF(E4="","",MAX(IF($A$3:$A$3999=$A4,E$3:E$3999)))} | G4: =IF(B4="","sans_valeur",IF(COUNTIFS($A$3:$A$3999,$A4,B$3:B$3999,">0")<3,"inf_3_analyses",IF(E4<>F4,"N",IF(E4>VLOOKUP(#REF!,valeur_critique_grubbs!$A$2:$B$249,2,TRUE),"O","N")))) -> sans_valeur
A5: =biomasses!A3 -> 1 | C5: =IF(B5="","",SUMPRODUCT(($A$3:$A$3999=$A5)*B$3:B$3999)/(COUNTIF($A$3:$A$3999,$A5))) | D5: {=IF(COUNTIFS($A$3:$A$3999,$A5,B$3:B$3999,">0")>1,IF(COUNTIF($A$3:$A$3999,$A5)>2,STDEV(IF(($A$3:$A$3999=$A5)*B$3:B$3999<>0,($A$3:$A$3999=$A5)*B$3:B$3999,"")),""),"")} | E5: =IF(OR(B5="",D5=""),"",IF(COUNTIF($A$3:$A$4000,A5)<3,"",ABS(B5-C5)/D5)) | F5: {=IF(E5="","",MAX(IF($A$3:$A$3999=$A5,E$3:E$3999)))} | G5: =IF(B5="","sans_valeur",IF(COUNTIFS($A$3:$A$3999,$A5,B$3:B$3999,">0")<3,"inf_3_analyses",IF(E5<>F5,"N",IF(E5>VLOOKUP(#REF!,valeur_critique_grubbs!$A$2:$B$249,2,TRUE),"O","N")))) -> sans_valeur
A6: =biomasses!$A$4 -> 2 | B6: 42.589 | C6: =IF(B6="","",SUMPRODUCT(($A$3:$A$3999=$A6)*B$3:B$3999)/(COUNTIF($A$3:$A$3999,$A6))) -> 48.093087 | D6: {=IF(COUNTIFS($A$3:$A$3999,$A6,B$3:B$3999,">0")>1,IF(COUNTIF($A$3:$A$3999,$A6)>2,STDEV(IF(($A$3:$A$3999=$A6)*B$3:B$3999<>0,($A$3:$A$3999=$A6)*B$3:B$3999,"")),""),"")} -> 3.1798113 | E6: =IF(OR(B6="",D6=""),"",IF(COUNTIF($A$3:$A$4000,A6)<3,"",ABS(B6-C6)/D6)) -> 1.7309477 | F6: {=IF(E6="","",MAX(IF($A$3:$A$3999=$A6,E$3:E$3999)))} -> 2.2529366 | G6: =IF(B6="","sans_valeur",IF(COUNTIFS($A$3:$A$3999,$A6,B$3:B$3999,">0")<3,"inf_3_analyses",IF(E6<>F6,"N",IF(E6>VLOOKUP(#REF!,valeur_critique_grubbs!$A$2:$B$249,2,TRUE),"O","N")))) -> N
A7: =biomasses!$A$4 -> 2 | B7: 44.24 | C7: =IF(B7="","",SUMPRODUCT(($A$3:$A$3999=$A7)*B$3:B$3999)/(COUNTIF($A$3:$A$3999,$A7))) -> 48.093087 | D7: {=IF(COUNTIFS($A$3:$A$3999,$A7,B$3:B$3999,">0")>1,IF(COUNTIF($A$3:$A$3999,$A7)>2,STDEV(IF(($A$3:$A$3999=$A7)*B$3:B$3999<>0,($A$3:$A$3999=$A7)*B$3:B$3999,"")),""),"")} -> 3.1798113 | E7: =IF(OR(B7="",D7=""),"",IF(COUNTIF($A$3:$A$4000,A7)<3,"",ABS(B7-C7)/D7)) -> 1.2117345 | F7: {=IF(E7="","",MAX(IF($A$3:$A$3999=$A7,E$3:E$3999)))} -> 2.2529366 | G7: =IF(B7="","sans_valeur",IF(COUNTIFS($A$3:$A$3999,$A7,B$3:B$3999,">0")<3,"inf_3_analyses",IF(E7<>F7,"N",IF(E7>VLOOKUP(#REF!,valeur_critique_grubbs!$A$2:$B$249,2,TRUE),"O","N")))) -> N
A8: =biomasses!$A$4 -> 2 | B8: 52.769 | C8: =IF(B8="","",SUMPRODUCT(($A$3:$A$3999=$A8)*B$3:B$3999)/(COUNTIF($A$3:$A$3999,$A8))) -> 48.093087 | D8: {=IF(COUNTIFS($A$3:$A$3999,$A8,B$3:B$3999,">0")>1,IF(COUNTIF($A$3:$A$3999,$A8)>2,STDEV(IF(($A$3:$A$3999=$A8)*B$3:B$3999<>0,($A$3:$A$3999=$A8)*B$3:B$3999,"")),""),"")} -> 3.1798113 | E8: =IF(OR(B8="",D8=""),"",IF(COUNTIF($A$3:$A$4000,A8)<3,"",ABS(B8-C8)/D8)) -> 1.4705002 | F8: {=IF(E8="","",MAX(IF($A$3:$A$3999=$A8,E$3:E$3999)))} -> 2.2529366 | G8: =IF(B8="","sans_valeur",IF(COUNTIFS($A$3:$A$3999,$A8,B$3:B$3999,">0")<3,"inf_3_analyses",IF(E8<>F8,"N",IF(E8>VLOOKUP(#REF!,valeur_critique_grubbs!$A$2:$B$249,2,TRUE),"O","N")))) -> N
A9: =biomasses!$A$4 -> 2 | B9: 52.899 | C9: =IF(B9="","",SUMPRODUCT(($A$3:$A$3999=$A9)*B$3:B$3999)/(COUNTIF($A$3:$A$3999,$A9))) -> 48.093087 | D9: {=IF(COUNTIFS($A$3:$A$3999,$A9,B$3:B$3999,">0")>1,IF(COUNTIF($A$3:$A$3999,$A9)>2,STDEV(IF(($A$3:$A$3999=$A9)*B$3:B$3999<>0,($A$3:$A$3999=$A9)*B$3:B$3999,"")),""),"")} -> 3.1798113 | E9: =IF(OR(B9="",D9=""),"",IF(COUNTIF($A$3:$A$4000,A9)<3,"",ABS(B9-C9)/D9)) -> 1.5113831 | F9: {=IF(E9="","",MAX(IF($A$3:$A$3999=$A9,E$3:E$3999)))} -> 2.2529366 | G9: =IF(B9="","sans_valeur",IF(COUNTIFS($A$3:$A$3999,$A9,B$3:B$3999,">0")<3,"inf_3_analyses",IF(E9<>F9,"N",IF(E9>VLOOKUP(#REF!,valeur_critique_grubbs!$A$2:$B$249,2,TRUE),"O","N")))) -> N
A10: =biomasses!$A$4 -> 2 | B10: 50.458 | C10: =IF(B10="","",SUMPRODUCT(($A$3:$A$3999=$A10)*B$3:B$3999)/(COUNTIF($A$3:$A$3999,$A10))) -> 48.093087 | D10: {=IF(COUNTIFS($A$3:$A$3999,$A10,B$3:B$3999,">0")>1,IF(COUNTIF($A$3:$A$3999,$A10)>2,STDEV(IF(($A$3:$A$3999=$A10)*B$3:B$3999<>0,($A$3:$A$3999=$A10)*B$3:B$3999,"")),""),"")} -> 3.1798113 | E10: =IF(OR(B10="",D10=""),"",IF(COUNTIF($A$3:$A$4000,A10)<3,"",ABS(B10-C10)/D10)) -> 0.74372749 | F10: {=IF(E10="","",MAX(IF($A$3:$A$3999=$A10,E$3:E$3999)))} -> 2.2529366 | G10: =IF(B10="","sans_valeur",IF(COUNTIFS($A$3:$A$3999,$A10,B$3:B$3999,">0")<3,"inf_3_analyses",IF(E10<>F10,"N",IF(E10>VLOOKUP(#REF!,valeur_critique_grubbs!$A$2:$B$249,2,TRUE),"O","N")))) -> N
A11: =biomasses!$A$4 -> 2 | B11: 41.006 | C11: =IF(B11="","",SUMPRODUCT(($A$3:$A$3999=$A11)*B$3:B$3999)/(COUNTIF($A$3:$A$3999,$A11))) -> 48.093087 | D11: {=IF(COUNTIFS($A$3:$A$3999,$A11,B$3:B$3999,">0")>1,IF(COUNTIF($A$3:$A$3999,$A11)>2,STDEV(IF(($A$3:$A$3999=$A11)*B$3:B$3999<>0,($A$3:$A$3999=$A11)*B$3:B$3999,"")),""),"")} -> 3.1798113 | E11: =IF(OR(B11="",D11=""),"",IF(COUNTIF($A$3:$A$4000,A11)<3,"",ABS(B11-C11)/D11)) -> 2.228776 | F11: {=IF(E11="","",MAX(IF($A$3:$A$3999=$A11,E$3:E$3999)))} -> 2.2529366 | G11: =IF(B11="","sans_valeur",IF(COUNTIFS($A$3:$A$3999,$A11,B$3:B$3999,">0")<3,"inf_3_analyses",IF(E11<>F11,"N",IF(E11>VLOOKUP(#REF!,valeur_critique_grubbs!$A$2:$B$249,2,TRUE),"O","N")))) -> N
A12: =biomasses!$A$4 -> 2 | B12: 44.253 | C12: =IF(B12="","",SUMPRODUCT(($A$3:$A$3999=$A12)*B$3:B$3999)/(COUNTIF($A$3:$A$3999,$A12))) -> 48.093087 | D12: {=IF(COUNTIFS($A$3:$A$3999,$A12,B$3:B$3999,">0")>1,IF(COUNTIF($A$3:$A$3999,$A12)>2,STDEV(IF(($A$3:$A$3999=$A12)*B$3:B$3999<>0,($A$3:$A$3999=$A12)*B$3:B$3999,"")),""),"")} -> 3.1798113 | E12: =IF(OR(B12="",D12=""),"",IF(COUNTIF($A$3:$A$4000,A12)<3,"",ABS(B12-C12)/D12)) -> 1.2076462 | F12: {=IF(E12="","",MAX(IF($A$3:$A$3999=$A12,E$3:E$3999)))} -> 2.2529366 | G12: =IF(B12="","sans_valeur",IF(COUNTIFS($A$3:$A$3999,$A12,B$3:B$3999,">0")<3,"inf_3_analyses",IF(E12<>F12,"N",IF(E12>VLOOKUP(#REF!,valeur_critique_grubbs!$A$2:$B$249,2,TRUE),"O","N")))) -> N
A13: =biomasses!$A$4 -> 2 | B13: 44.599 | C13: =IF(B13="","",SUMPRODUCT(($A$3:$A$3999=$A13)*B$3:B$3999)/(COUNTIF($A$3:$A$3999,$A13))) -> 48.093087 | D13: {=IF(COUNTIFS($A$3:$A$3999,$A13,B$3:B$3999,">0")>1,IF(COUNTIF($A$3:$A$3999,$A13)>2,STDEV(IF(($A$3:$A$3999=$A13)*B$3:B$3999<>0,($A$3:$A$3999=$A13)*B$3:B$3999,"")),""),"")} -> 3.1798113 | E13: =IF(OR(B13="",D13=""),"",IF(COUNTIF($A$3:$A$4000,A13)<3,"",ABS(B13-C13)/D13)) -> 1.0988347 | F13: {=IF(E13="","",MAX(IF($A$3:$A$3999=$A13,E$3:E$3999)))} -> 2.2529366 | G13: =IF(B13="","sans_valeur",IF(COUNTIFS($A$3:$A$3999,$A13,B$3:B$3999,">0")<3,"inf_3_analyses",IF(E13<>F13,"N",IF(E13>VLOOKUP(#REF!,valeur_critique_grubbs!$A$2:$B$249,2,TRUE),"O","N")))) -> N
A14: =biomasses!$A$4 -> 2 | B14: 43.49 | C14: =IF(B14="","",SUMPRODUCT(($A$3:$A$3999=$A14)*B$3:B$3999)/(COUNTIF($A$3:$A$3999,$A14))) -> 48.093087 | D14: {=IF(COUNTIFS($A$3:$A$3999,$A14,B$3:B$3999,">0")>1,IF(COUNTIF($A$3:$A$3999,$A14)>2,STDEV(IF(($A$3:$A$3999=$A14)*B$3:B$3999<>0,($A$3:$A$3999=$A14)*B$3:B$3999,"")),""),"")} -> 3.1798113 | E14: =IF(OR(B14="",D14=""),"",IF(COUNTIF($A$3:$A$4000,A14)<3,"",ABS(B14-C14)/D14)) -> 1.4475975 | F14: {=IF(E14="","",MAX(IF($A$3:$A$3999=$A14,E$3:E$3999)))} -> 2.2529366 | G14: =IF(B14="","sans_valeur",IF(COUNTIFS($A$3:$A$3999,$A14,B$3:B$3999,">0")<3,"inf_3_analyses",IF(E14<>F14,"N",IF(E14>VLOOKUP(#REF!,valeur_critique_grubbs!$A$2:$B$249,2,TRUE),"O","N")))) -> N
A15: =biomasses!$A$4 -> 2 | B15: 44.121 | C15: =IF(B15="","",SUMPRODUCT(($A$3:$A$3999=$A15)*B$3:B$3999)/(COUNTIF($A$3:$A$3999,$A15))) -> 48.093087 | D15: {=IF(COUNTIFS($A$3:$A$3999,$A15,B$3:B$3999,">0")>1,IF(COUNTIF($A$3:$A$3999,$A15)>2,STDEV(IF(($A$3:$A$3999=$A15)*B$3:B$3999<>0,($A$3:$A$3999=$A15)*B$3:B$3999,"")),""),"")} -> 3.1798113 | E15: =IF(OR(B15="",D15=""),"",IF(COUNTIF($A$3:$A$4000,A15)<3,"",ABS(B15-C15)/D15)) -> 1.2491581 | F15: {=IF(E15="","",MAX(IF($A$3:$A$3999=$A15,E$3:E$3999)))} -> 2.2529366 | G15: =IF(B15="","sans_valeur",IF(COUNTIFS($A$3:$A$3999,$A15,B$3:B$3999,">0")<3,"inf_3_analyses",IF(E15<>F15,"N",IF(E15>VLOOKUP(#REF!,valeur_critique_grubbs!$A$2:$B$249,2,TRUE),"O","N")))) -> N
A16: =biomasses!$A$4 -> 2 | B16: 44.596 | C16: =IF(B16="","",SUMPRODUCT(($A$3:$A$3999=$A16)*B$3:B$3999)/(COUNTIF($A$3:$A$3999,$A16))) -> 48.093087 | D16: {=IF(COUNTIFS($A$3:$A$3999,$A16,B$3:B$3999,">0")>1,IF(COUNTIF($A$3:$A$3999,$A16)>2,STDEV(IF(($A$3:$A$3999=$A16)*B$3:B$3999<>0,($A$3:$A$3999=$A16)*B$3:B$3999,"")),""),"")} -> 3.1798113 | E16: =IF(OR(B16="",D16=""),"",IF(COUNTIF($A$3:$A$4000,A16)<3,"",ABS(B16-C16)/D16)) -> 1.0997782 | F16: {=IF(E16="","",MAX(IF($A$3:$A$3999=$A16,E$3:E$3999)))} -> 2.2529366 | G16: =IF(B16="","sans_valeur",IF(COUNTIFS($A$3:$A$3999,$A16,B$3:B$3999,">0")<3,"inf_3_analyses",IF(E16<>F16,"N",IF(E16>VLOOKUP(#REF!,valeur_critique_grubbs!$A$2:$B$249,2,TRUE),"O","N")))) -> N
A17: =biomasses!$A$4 -> 2 | B17: 45.66 | C17: =IF(B17="","",SUMPRODUCT(($A$3:$A$3999=$A17)*B$3:B$3999)/(COUNTIF($A$3:$A$3999,$A17))) -> 48.093087 | D17: {=IF(COUNTIFS($A$3:$A$3999,$A17,B$3:B$3999,">0")>1,IF(COUNTIF($A$3:$A$3999,$A17)>2,STDEV(IF(($A$3:$A$3999=$A17)*B$3:B$3999<>0,($A$3:$A$3999=$A17)*B$3:B$3999,"")),""),"")} -> 3.1798113 | E17: =IF(OR(B17="",D17=""),"",IF(COUNTIF($A$3:$A$4000,A17)<3,"",ABS(B17-C17)/D17)) -> 0.7651671 | F17: {=IF(E17="","",MAX(IF($A$3:$A$3999=$A17,E$3:E$3999)))} -> 2.2529366 | G17: =IF(B17="","sans_valeur",IF(COUNTIFS($A$3:$A$3999,$A17,B$3:B$3999,">0")<3,"inf_3_analyses",IF(E17<>F17,"N",IF(E17>VLOOKUP(#REF!,valeur_critique_grubbs!$A$2:$B$249,2,TRUE),"O","N")))) -> N
... A51: =biomasses!$A$4 -> 2 | B51: 45.408 | C51: =IF(B51="","",SUMPRODUCT(($A$3:$A$3999=$A51)*B$3:B$3999)/(COUNTIF($A$3:$A$3999,$A51))) -> 48.093087 | D51: {=IF(COUNTIFS($A$3:$A$3999,$A51,B$3:B$3999,">0")>1,IF(COUNTIF($A$3:$A$3999,$A51)>2,STDEV(IF(($A$3:$A$3999=$A51)*B$3:B$3999<>0,($A$3:$A$3999=$A51)*B$3:B$3999,"")),""),"")} -> 3.1798113 | E51: =IF(OR(B51="",D51=""),"",IF(COUNTIF($A$3:$A$4000,A51)<3,"",ABS(B51-C51)/D51)) -> 0.84441709 | F51: {=IF(E51="","",MAX(IF($A$3:$A$3999=$A51,E$3:E$3999)))} -> 2.2529366 | G51: =IF(B51="","sans_valeur",IF(COUNTIFS($A$3:$A$3999,$A51,B$3:B$3999,">0")<3,"inf_3_analyses",IF(E51<>F51,"N",IF(E51>VLOOKUP(#REF!,valeur_critique_grubbs!$A$2:$B$249,2,TRUE),"O","N")))) -> N
A52: =biomasses!$A$5 -> 3 | C52: =IF(B52="","",SUMPRODUCT(($A$3:$A$3999=$A52)*B$3:B$3999)/(COUNTIF($A$3:$A$3999,$A52))) | D52: {=IF(COUNTIFS($A$3:$A$3999,$A52,B$3:B$3999,">0")>1,IF(COUNTIF($A$3:$A$3999,$A52)>2,STDEV(IF(($A$3:$A$3999=$A52)*B$3:B$3999<>0,($A$3:$A$3999=$A52)*B$3:B$3999,"")),""),"")} | E52: =IF(OR(B52="",D52=""),"",IF(COUNTIF($A$3:$A$4000,A52)<3,"",ABS(B52-C52)/D52)) | F52: {=IF(E52="","",MAX(IF($A$3:$A$3999=$A52,E$3:E$3999)))} | G52: =IF(B52="","sans_valeur",IF(COUNTIFS($A$3:$A$3999,$A52,B$3:B$3999,">0")<3,"inf_3_analyses",IF(E52<>F52,"N",IF(E52>VLOOKUP(#REF!,valeur_critique_grubbs!$A$2:$B$249,2,TRUE),"O","N")))) -> sans_valeur
A53: =biomasses!$A$5 -> 3 | C53: =IF(B53="","",SUMPRODUCT(($A$3:$A$3999=$A53)*B$3:B$3999)/(COUNTIF($A$3:$A$3999,$A53))) | D53: {=IF(COUNTIFS($A$3:$A$3999,$A53,B$3:B$3999,">0")>1,IF(COUNTIF($A$3:$A$3999,$A53)>2,STDEV(IF(($A$3:$A$3999=$A53)*B$3:B$3999<>0,($A$3:$A$3999=$A53)*B$3:B$3999,"")),""),"")} | E53: =IF(OR(B53="",D53=""),"",IF(COUNTIF($A$3:$A$4000,A53)<3,"",ABS(B53-C53)/D53)) | F53: {=IF(E53="","",MAX(IF($A$3:$A$3999=$A53,E$3:E$3999)))} | G53: =IF(B53="","sans_valeur",IF(COUNTIFS($A$3:$A$3999,$A53,B$3:B$3999,">0")<3,"inf_3_analyses",IF(E53<>F53,"N",IF(E53>VLOOKUP(#REF!,valeur_critique_grubbs!$A$2:$B$249,2,TRUE),"O","N")))) -> sans_valeur
A54: =biomasses!$A$5 -> 3 | C54: =IF(B54="","",SUMPRODUCT(($A$3:$A$3999=$A54)*B$3:B$3999)/(COUNTIF($A$3:$A$3999,$A54))) | D54: {=IF(COUNTIFS($A$3:$A$3999,$A54,B$3:B$3999,">0")>1,IF(COUNTIF($A$3:$A$3999,$A54)>2,STDEV(IF(($A$3:$A$3999=$A54)*B$3:B$3999<>0,($A$3:$A$3999=$A54)*B$3:B$3999,"")),""),"")} | E54: =IF(OR(B54="",D54=""),"",IF(COUNTIF($A$3:$A$4000,A54)<3,"",ABS(B54-C54)/D54)) | F54: {=IF(E54="","",MAX(IF($A$3:$A$3999=$A54,E$3:E$3999)))} | G54: =IF(B54="","sans_valeur",IF(COUNTIFS($A$3:$A$3999,$A54,B$3:B$3999,">0")<3,"inf_3_analyses",IF(E54<>F54,"N",IF(E54>VLOOKUP(#REF!,valeur_critique_grubbs!$A$2:$B$249,2,TRUE),"O","N")))) -> sans_valeur
A55: =biomasses!$A$6 -> 4 | C55: =IF(B55="","",SUMPRODUCT(($A$3:$A$3999=$A55)*B$3:B$3999)/(COUNTIF($A$3:$A$3999,$A55))) | D55: {=IF(COUNTIFS($A$3:$A$3999,$A55,B$3:B$3999,">0")>1,IF(COUNTIF($A$3:$A$3999,$A55)>2,STDEV(IF(($A$3:$A$3999=$A55)*B$3:B$3999<>0,($A$3:$A$3999=$A55)*B$3:B$3999,"")),""),"")} | E55: =IF(OR(B55="",D55=""),"",IF(COUNTIF($A$3:$A$4000,A55)<3,"",ABS(B55-C55)/D55)) | F55: {=IF(E55="","",MAX(IF($A$3:$A$3999=$A55,E$3:E$3999)))} | G55: =IF(B55="","sans_valeur",IF(COUNTIFS($A$3:$A$3999,$A55,B$3:B$3999,">0")<3,"inf_3_analyses",IF(E55<>F55,"N",IF(E55>VLOOKUP(#REF!,valeur_critique_grubbs!$A$2:$B$249,2,TRUE),"O","N")))) -> sans_valeur
A56: =biomasses!$A$6 -> 4 | C56: =IF(B56="","",SUMPRODUCT(($A$3:$A$3999=$A56)*B$3:B$3999)/(COUNTIF($A$3:$A$3999,$A56))) | D56: {=IF(COUNTIFS($A$3:$A$3999,$A56,B$3:B$3999,">0")>1,IF(COUNTIF($A$3:$A$3999,$A56)>2,STDEV(IF(($A$3:$A$3999=$A56)*B$3:B$3999<>0,($A$3:$A$3999=$A56)*B$3:B$3999,"")),""),"")} | E56: =IF(OR(B56="",D56=""),"",IF(COUNTIF($A$3:$A$4000,A56)<3,"",ABS(B56-C56)/D56)) | F56: {=IF(E56="","",MAX(IF($A$3:$A$3999=$A56,E$3:E$3999)))} | G56: =IF(B56="","sans_valeur",IF(COUNTIFS($A$3:$A$3999,$A56,B$3:B$3999,">0")<3,"inf_3_analyses",IF(E56<>F56,"N",IF(E56>VLOOKUP(#REF!,valeur_critique_grubbs!$A$2:$B$249,2,TRUE),"O","N")))) -> sans_valeur
A57: =biomasses!$A$6 -> 4 | C57: =IF(B57="","",SUMPRODUCT(($A$3:$A$3999=$A57)*B$3:B$3999)/(COUNTIF($A$3:$A$3999,$A57))) | D57: {=IF(COUNTIFS($A$3:$A$3999,$A57,B$3:B$3999,">0")>1,IF(COUNTIF($A$3:$A$3999,$A57)>2,STDEV(IF(($A$3:$A$3999=$A57)*B$3:B$3999<>0,($A$3:$A$3999=$A57)*B$3:B$3999,"")),""),"")} | E57: =IF(OR(B57="",D57=""),"",IF(COUNTIF($A$3:$A$4000,A57)<3,"",ABS(B57-C57)/D57)) | F57: {=IF(E57="","",MAX(IF($A$3:$A$3999=$A57,E$3:E$3999)))} | G57: =IF(B57="","sans_valeur",IF(COUNTIFS($A$3:$A$3999,$A57,B$3:B$3999,">0")<3,"inf_3_analyses",IF(E57<>F57,"N",IF(E57>VLOOKUP(#REF!,valeur_critique_grubbs!$A$2:$B$249,2,TRUE),"O","N")))) -> sans_valeur
A58: =biomasses!$A$6 -> 4 | C58: =IF(B58="","",SUMPRODUCT(($A$3:$A$3999=$A58)*B$3:B$3999)/(COUNTIF($A$3:$A$3999,$A58))) | D58: {=IF(COUNTIFS($A$3:$A$3999,$A58,B$3:B$3999,">0")>1,IF(COUNTIF($A$3:$A$3999,$A58)>2,STDEV(IF(($A$3:$A$3999=$A58)*B$3:B$3999<>0,($A$3:$A$3999=$A58)*B$3:B$3999,"")),""),"")} | E58: =IF(OR(B58="",D58=""),"",IF(COUNTIF($A$3:$A$4000,A58)<3,"",ABS(B58-C58)/D58)) | F58: {=IF(E58="","",MAX(IF($A$3:$A$3999=$A58,E$3:E$3999)))} | G58: =IF(B58="","sans_valeur",IF(COUNTIFS($A$3:$A$3999,$A58,B$3:B$3999,">0")<3,"inf_3_analyses",IF(E58<>F58,"N",IF(E58>VLOOKUP(#REF!,valeur_critique_grubbs!$A$2:$B$249,2,TRUE),"O","N")))) -> sans_valeur
A59: =biomasses!$A$6 -> 4 | C59: =IF(B59="","",SUMPRODUCT(($A$3:$A$3999=$A59)*B$3:B$3999)/(COUNTIF($A$3:$A$3999,$A59))) | D59: {=IF(COUNTIFS($A$3:$A$3999,$A59,B$3:B$3999,">0")>1,IF(COUNTIF($A$3:$A$3999,$A59)>2,STDEV(IF(($A$3:$A$3999=$A59)*B$3:B$3999<>0,($A$3:$A$3999=$A59)*B$3:B$3999,"")),""),"")} | E59: =IF(OR(B59="",D59=""),"",IF(COUNTIF($A$3:$A$4000,A59)<3,"",ABS(B59-C59)/D59)) | F59: {=IF(E59="","",MAX(IF($A$3:$A$3999=$A59,E$3:E$3999)))} | G59: =IF(B59="","sans_valeur",IF(COUNTIFS($A$3:$A$3999,$A59,B$3:B$3999,">0")<3,"inf_3_analyses",IF(E59<>F59,"N",IF(E59>VLOOKUP(#REF!,valeur_critique_grubbs!$A$2:$B$249,2,TRUE),"O","N")))) -> sans_valeur
A60: =biomasses!$A$6 -> 4 | C60: =IF(B60="","",SUMPRODUCT(($A$3:$A$3999=$A60)*B$3:B$3999)/(COUNTIF($A$3:$A$3999,$A60))) | D60: {=IF(COUNTIFS($A$3:$A$3999,$A60,B$3:B$3999,">0")>1,IF(COUNTIF($A$3:$A$3999,$A60)>2,STDEV(IF(($A$3:$A$3999=$A60)*B$3:B$3999<>0,($A$3:$A$3999=$A60)*B$3:B$3999,"")),""),"")} | E60: =IF(OR(B60="",D60=""),"",IF(COUNTIF($A$3:$A$4000,A60)<3,"",ABS(B60-C60)/D60)) | F60: {=IF(E60="","",MAX(IF($A$3:$A$3999=$A60,E$3:E$3999)))} | G60: =IF(B60="","sans_valeur",IF(COUNTIFS($A$3:$A$3999,$A60,B$3:B$3999,">0")<3,"inf_3_analyses",IF(E60<>F60,"N",IF(E60>VLOOKUP(#REF!,valeur_critique_grubbs!$A$2:$B$249,2,TRUE),"O","N")))) -> sans_valeur
A61: =biomasses!$A$6 -> 4 | C61: =IF(B61="","",SUMPRODUCT(($A$3:$A$3999=$A61)*B$3:B$3999)/(COUNTIF($A$3:$A$3999,$A61))) | D61: {=IF(COUNTIFS($A$3:$A$3999,$A61,B$3:B$3999,">0")>1,IF(COUNTIF($A$3:$A$3999,$A61)>2,STDEV(IF(($A$3:$A$3999=$A61)*B$3:B$3999<>0,($A$3:$A$3999=$A61)*B$3:B$3999,"")),""),"")} | E61: =IF(OR(B61="",D61=""),"",IF(COUNTIF($A$3:$A$4000,A61)<3,"",ABS(B61-C61)/D61)) | F61: {=IF(E61="","",MAX(IF($A$3:$A$3999=$A61,E$3:E$3999)))} | G61: =IF(B61="","sans_valeur",IF(COUNTIFS($A$3:$A$3999,$A61,B$3:B$3999,">0")<3,"inf_3_analyses",IF(E61<>F61,"N",IF(E61>VLOOKUP(#REF!,valeur_critique_grubbs!$A$2:$B$249,2,TRUE),"O","N")))) -> sans_valeur
A62: =biomasses!$A$6 -> 4 | C62: =IF(B62="","",SUMPRODUCT(($A$3:$A$3999=$A62)*B$3:B$3999)/(COUNTIF($A$3:$A$3999,$A62))) | D62: {=IF(COUNTIFS($A$3:$A$3999,$A62,B$3:B$3999,">0")>1,IF(COUNTIF($A$3:$A$3999,$A62)>2,STDEV(IF(($A$3:$A$3999=$A62)*B$3:B$3999<>0,($A$3:$A$3999=$A62)*B$3:B$3999,"")),""),"")} | E62: =IF(OR(B62="",D62=""),"",IF(COUNTIF($A$3:$A$4000,A62)<3,"",ABS(B62-C62)/D62)) | F62: {=IF(E62="","",MAX(IF($A$3:$A$3999=$A62,E$3:E$3999)))} | G62: =IF(B62="","sans_valeur",IF(COUNTIFS($A$3:$A$3999,$A62,B$3:B$3999,">0")<3,"inf_3_analyses",IF(E62<>F62,"N",IF(E62>VLOOKUP(#REF!,valeur_critique_grubbs!$A$2:$B$249,2,TRUE),"O","N")))) -> sans_valeur
A63: =biomasses!$A$6 -> 4 | C63: =IF(B63="","",SUMPRODUCT(($A$3:$A$3999=$A63)*B$3:B$3999)/(COUNTIF($A$3:$A$3999,$A63))) | D63: {=IF(COUNTIFS($A$3:$A$3999,$A63,B$3:B$3999,">0")>1,IF(COUNTIF($A$3:$A$3999,$A63)>2,STDEV(IF(($A$3:$A$3999=$A63)*B$3:B$3999<>0,($A$3:$A$3999=$A63)*B$3:B$3999,"")),""),"")} | E63: =IF(OR(B63="",D63=""),"",IF(COUNTIF($A$3:$A$4000,A63)<3,"",ABS(B63-C63)/D63)) | F63: {=IF(E63="","",MAX(IF($A$3:$A$3999=$A63,E$3:E$3999)))} | G63: =IF(B63="","sans_valeur",IF(COUNTIFS($A$3:$A$3999,$A63,B$3:B$3999,">0")<3,"inf_3_analyses",IF(E63<>F63,"N",IF(E63>VLOOKUP(#REF!,valeur_critique_grubbs!$A$2:$B$249,2,TRUE),"O","N")))) -> sans_valeur
A64: =biomasses!$A$6 -> 4 | B64: 60.342 | C64: =IF(B64="","",SUMPRODUCT(($A$3:$A$3999=$A64)*B$3:B$3999)/(COUNTIF($A$3:$A$3999,$A64))) -> 6.0342 | D64: {=IF(COUNTIFS($A$3:$A$3999,$A64,B$3:B$3999,">0")>1,IF(COUNTIF($A$3:$A$3999,$A64)>2,STDEV(IF(($A$3:$A$3999=$A64)*B$3:B$3999<>0,($A$3:$A$3999=$A64)*B$3:B$3999,"")),""),"")} | E64: =IF(OR(B64="",D64=""),"",IF(COUNTIF($A$3:$A$4000,A64)<3,"",ABS(B64-C64)/D64)) | F64: {=IF(E64="","",MAX(IF($A$3:$A$3999=$A64,E$3:E$3999)))} | G64: =IF(B64="","sans_valeur",IF(COUNTIFS($A$3:$A$3999,$A64,B$3:B$3999,">0")<3,"inf_3_analyses",IF(E64<>F64,"N",IF(E64>VLOOKUP(#REF!,valeur_critique_grubbs!$A$2:$B$249,2,TRUE),"O","N")))) -> inf_3_analyses
A65: =biomasses!$A$7 -> 5 | C65: =IF(B65="","",SUMPRODUCT(($A$3:$A$3999=$A65)*B$3:B$3999)/(COUNTIF($A$3:$A$3999,$A65))) | D65: {=IF(COUNTIFS($A$3:$A$3999,$A65,B$3:B$3999,">0")>1,IF(COUNTIF($A$3:$A$3999,$A65)>2,STDEV(IF(($A$3:$A$3999=$A65)*B$3:B$3999<>0,($A$3:$A$3999=$A65)*B$3:B$3999,"")),""),"")} -> 9.4785074 | E65: =IF(OR(B65="",D65=""),"",IF(COUNTIF($A$3:$A$4000,A65)<3,"",ABS(B65-C65)/D65)) | F65: {=IF(E65="","",MAX(IF($A$3:$A$3999=$A65,E$3:E$3999)))} | G65: =IF(B65="","sans_valeur",IF(COUNTIFS($A$3:$A$3999,$A65,B$3:B$3999,">0")<3,"inf_3_analyses",IF(E65<>F65,"N",IF(E65>VLOOKUP(#REF!,valeur_critique_grubbs!$A$2:$B$249,2,TRUE),"O","N")))) -> sans_valeur
A66: =biomasses!$A$7 -> 5 | C66: =IF(B66="","",SUMPRODUCT(($A$3:$A$3999=$A66)*B$3:B$3999)/(COUNTIF($A$3:$A$3999,$A66))) | D66: {=IF(COUNTIFS($A$3:$A$3999,$A66,B$3:B$3999,">0")>1,IF(COUNTIF($A$3:$A$3999,$A66)>2,STDEV(IF(($A$3:$A$3999=$A66)*B$3:B$3999<>0,($A$3:$A$3999=$A66)*B$3:B$3999,"")),""),"")} -> 9.4785074 | E66: =IF(OR(B66="",D66=""),"",IF(COUNTIF($A$3:$A$4000,A66)<3,"",ABS(B66-C66)/D66)) | F66: {=IF(E66="","",MAX(IF($A$3:$A$3999=$A66,E$3:E$3999)))} | G66: =IF(B66="","sans_valeur",IF(COUNTIFS($A$3:$A$3999,$A66,B$3:B$3999,">0")<3,"inf_3_analyses",IF(E66<>F66,"N",IF(E66>VLOOKUP(#REF!,valeur_critique_grubbs!$A$2:$B$249,2,TRUE),"O","N")))) -> sans_valeur
A67: =biomasses!$A$7 -> 5 | C67: =IF(B67="","",SUMPRODUCT(($A$3:$A$3999=$A67)*B$3:B$3999)/(COUNTIF($A$3:$A$3999,$A67))) | D67: {=IF(COUNTIFS($A$3:$A$3999,$A67,B$3:B$3999,">0")>1,IF(COUNTIF($A$3:$A$3999,$A67)>2,STDEV(IF(($A$3:$A$3999=$A67)*B$3:B$3999<>0,($A$3:$A$3999=$A67)*B$3:B$3999,"")),""),"")} -> 9.4785074 | E67: =IF(OR(B67="",D67=""),"",IF(COUNTIF($A$3:$A$4000,A67)<3,"",ABS(B67-C67)/D67)) | F67: {=IF(E67="","",MAX(IF($A$3:$A$3999=$A67,E$3:E$3999)))} | G67: =IF(B67="","sans_valeur",IF(COUNTIFS($A$3:$A$3999,$A67,B$3:B$3999,">0")<3,"inf_3_analyses",IF(E67<>F67,"N",IF(E67>VLOOKUP(#REF!,valeur_critique_grubbs!$A$2:$B$249,2,TRUE),"O","N")))) -> sans_valeur
A68: =biomasses!$A$7 -> 5 | C68: =IF(B68="","",SUMPRODUCT(($A$3:$A$3999=$A68)*B$3:B$3999)/(COUNTIF($A$3:$A$3999,$A68))) | D68: {=IF(COUNTIFS($A$3:$A$3999,$A68,B$3:B$3999,">0")>1,IF(COUNTIF($A$3:$A$3999,$A68)>2,STDEV(IF(($A$3:$A$3999=$A68)*B$3:B$3999<>0,($A$3:$A$3999=$A68)*B$3:B$3999,"")),""),"")} -> 9.4785074 | E68: =IF(OR(B68="",D68=""),"",IF(COUNTIF($A$3:$A$4000,A68)<3,"",ABS(B68-C68)/D68)) | F68: {=IF(E68="","",MAX(IF($A$3:$A$3999=$A68,E$3:E$3999)))} | G68: =IF(B68="","sans_valeur",IF(COUNTIFS($A$3:$A$3999,$A68,B$3:B$3999,">0")<3,"inf_3_analyses",IF(E68<>F68,"N",IF(E68>VLOOKUP(#REF!,valeur_critique_grubbs!$A$2:$B$249,2,TRUE),"O","N")))) -> sans_valeur
A69: =biomasses!$A$7 -> 5 | C69: =IF(B69="","",SUMPRODUCT(($A$3:$A$3999=$A69)*B$3:B$3999)/(COUNTIF($A$3:$A$3999,$A69))) | D69: {=IF(COUNTIFS($A$3:$A$3999,$A69,B$3:B$3999,">0")>1,IF(COUNTIF($A$3:$A$3999,$A69)>2,STDEV(IF(($A$3:$A$3999=$A69)*B$3:B$3999<>0,($A$3:$A$3999=$A69)*B$3:B$3999,"")),""),"")} -> 9.4785074 | E69: =IF(OR(B69="",D69=""),"",IF(COUNTIF($A$3:$A$4000,A69)<3,"",ABS(B69-C69)/D69)) | F69: {=IF(E69="","",MAX(IF($A$3:$A$3999=$A69,E$3:E$3999)))} | G69: =IF(B69="","sans_valeur",IF(COUNTIFS($A$3:$A$3999,$A69,B$3:B$3999,">0")<3,"inf_3_analyses",IF(E69<>F69,"N",IF(E69>VLOOKUP(#REF!,valeur_critique_grubbs!$A$2:$B$249,2,TRUE),"O","N")))) -> sans_valeur
A70: =biomasses!$A$7 -> 5 | C70: =IF(B70="","",SUMPRODUCT(($A$3:$A$3999=$A70)*B$3:B$3999)/(COUNTIF($A$3:$A$3999,$A70))) | D70: {=IF(COUNTIFS($A$3:$A$3999,$A70,B$3:B$3999,">0")>1,IF(COUNTIF($A$3:$A$3999,$A70)>2,STDEV(IF(($A$3:$A$3999=$A70)*B$3:B$3999<>0,($A$3:$A$3999=$A70)*B$3:B$3999,"")),""),"")} -> 9.4785074 | E70: =IF(OR(B70="",D70=""),"",IF(COUNTIF($A$3:$A$4000,A70)<3,"",ABS(B70-C70)/D70)) | F70: {=IF(E70="","",MAX(IF($A$3:$A$3999=$A70,E$3:E$3999)))} | G70: =IF(B70="","sans_valeur",IF(COUNTIFS($A$3:$A$3999,$A70,B$3:B$3999,">0")<3,"inf_3_analyses",IF(E70<>F70,"N",IF(E70>VLOOKUP(#REF!,valeur_critique_grubbs!$A$2:$B$249,2,TRUE),"O","N")))) -> sans_valeur
A71: =biomasses!$A$7 -> 5 | C71: =IF(B71="","",SUMPRODUCT(($A$3:$A$3999=$A71)*B$3:B$3999)/(COUNTIF($A$3:$A$3999,$A71))) | D71: {=IF(COUNTIFS($A$3:$A$3999,$A71,B$3:B$3999,">0")>1,IF(COUNTIF($A$3:$A$3999,$A71)>2,STDEV(IF(($A$3:$A$3999=$A71)*B$3:B$3999<>0,($A$3:$A$3999=$A71)*B$3:B$3999,"")),""),"")} -> 9.4785074 | E71: =IF(OR(B71="",D71=""),"",IF(COUNTIF($A$3:$A$4000,A71)<3,"",ABS(B71-C71)/D71)) | F71: {=IF(E71="","",MAX(IF($A$3:$A$3999=$A71,E$3:E$3999)))} | G71: =IF(B71="","sans_valeur",IF(COUNTIFS($A$3:$A$3999,$A71,B$3:B$3999,">0")<3,"inf_3_analyses",IF(E71<>F71,"N",IF(E71>VLOOKUP(#REF!,valeur_critique_grubbs!$A$2:$B$249,2,TRUE),"O","N")))) -> sans_valeur
A72: =biomasses!$A$7 -> 5 | C72: =IF(B72="","",SUMPRODUCT(($A$3:$A$3999=$A72)*B$3:B$3999)/(COUNTIF($A$3:$A$3999,$A72))) | D72: {=IF(COUNTIFS($A$3:$A$3999,$A72,B$3:B$3999,">0")>1,IF(COUNTIF($A$3:$A$3999,$A72)>2,STDEV(IF(($A$3:$A$3999=$A72)*B$3:B$3999<>0,($A$3:$A$3999=$A72)*B$3:B$3999,"")),""),"")} -> 9.4785074 | E72: =IF(OR(B72="",D72=""),"",IF(COUNTIF($A$3:$A$4000,A72)<3,"",ABS(B72-C72)/D72)) | F72: {=IF(E72="","",MAX(IF($A$3:$A$3999=$A72,E$3:E$3999)))} | G72: =IF(B72="","sans_valeur",IF(COUNTIFS($A$3:$A$3999,$A72,B$3:B$3999,">0")<3,"inf_3_analyses",IF(E72<>F72,"N",IF(E72>VLOOKUP(#REF!,valeur_critique_grubbs!$A$2:$B$249,2,TRUE),"O","N")))) -> sans_valeur
A73: =biomasses!$A$7 -> 5 | C73: =IF(B73="","",SUMPRODUCT(($A$3:$A$3999=$A73)*B$3:B$3999)/(COUNTIF($A$3:$A$3999,$A73))) | D73: {=IF(COUNTIFS($A$3:$A$3999,$A73,B$3:B$3999,">0")>1,IF(COUNTIF($A$3:$A$3999,$A73)>2,STDEV(IF(($A$3:$A$3999=$A73)*B$3:B$3999<>0,($A$3:$A$3999=$A73)*B$3:B$3999,"")),""),"")} -> 9.4785074 | E73: =IF(OR(B73="",D73=""),"",IF(COUNTIF($A$3:$A$4000,A73)<3,"",ABS(B73-C73)/D73)) | F73: {=IF(E73="","",MAX(IF($A$3:$A$3999=$A73,E$3:E$3999)))} | G73: =IF(B73="","sans_valeur",IF(COUNTIFS($A$3:$A$3999,$A73,B$3:B$3999,">0")<3,"inf_3_analyses",IF(E73<>F73,"N",IF(E73>VLOOKUP(#REF!,valeur_critique_grubbs!$A$2:$B$249,2,TRUE),"O","N")))) -> sans_valeur
A74: =biomasses!$A$7 -> 5 | C74: =IF(B74="","",SUMPRODUCT(($A$3:$A$3999=$A74)*B$3:B$3999)/(COUNTIF($A$3:$A$3999,$A74))) | D74: {=IF(COUNTIFS($A$3:$A$3999,$A74,B$3:B$3999,">0")>1,IF(COUNTIF($A$3:$A$3999,$A74)>2,STDEV(IF(($A$3:$A$3999=$A74)*B$3:B$3999<>0,($A$3:$A$3999=$A74)*B$3:B$3999,"")),""),"")} -> 9.4785074 | E74: =IF(OR(B74="",D74=""),"",IF(COUNTIF($A$3:$A$4000,A74)<3,"",ABS(B74-C74)/D74)) | F74: {=IF(E74="","",MAX(IF($A$3:$A$3999=$A74,E$3:E$3999)))} | G74: =IF(B74="","sans_valeur",IF(COUNTIFS($A$3:$A$3999,$A74,B$3:B$3999,">0")<3,"inf_3_analyses",IF(E74<>F74,"N",IF(E74>VLOOKUP(#REF!,valeur_critique_grubbs!$A$2:$B$249,2,TRUE),"O","N")))) -> sans_valeur
A75: =biomasses!$A$7 -> 5 | C75: =IF(B75="","",SUMPRODUCT(($A$3:$A$3999=$A75)*B$3:B$3999)/(COUNTIF($A$3:$A$3999,$A75))) | D75: {=IF(COUNTIFS($A$3:$A$3999,$A75,B$3:B$3999,">0")>1,IF(COUNTIF($A$3:$A$3999,$A75)>2,STDEV(IF(($A$3:$A$3999=$A75)*B$3:B$3999<>0,($A$3:$A$3999=$A75)*B$3:B$3999,"")),""),"")} -> 9.4785074 | E75: =IF(OR(B75="",D75=""),"",IF(COUNTIF($A$3:$A$4000,A75)<3,"",ABS(B75-C75)/D75)) | F75: {=IF(E75="","",MAX(IF($A$3:$A$3999=$A75,E$3:E$3999)))} | G75: =IF(B75="","sans_valeur",IF(COUNTIFS($A$3:$A$3999,$A75,B$3:B$3999,">0")<3,"inf_3_analyses",IF(E75<>F75,"N",IF(E75>VLOOKUP(#REF!,valeur_critique_grubbs!$A$2:$B$249,2,TRUE),"O","N")))) -> sans_valeur
A76: =biomasses!$A$7 -> 5 | C76: =IF(B76="","",SUMPRODUCT(($A$3:$A$3999=$A76)*B$3:B$3999)/(COUNTIF($A$3:$A$3999,$A76))) | D76: {=IF(COUNTIFS($A$3:$A$3999,$A76,B$3:B$3999,">0")>1,IF(COUNTIF($A$3:$A$3999,$A76)>2,STDEV(IF(($A$3:$A$3999=$A76)*B$3:B$3999<>0,($A$3:$A$3999=$A76)*B$3:B$3999,"")),""),"")} -> 9.4785074 | E76: =IF(OR(B76="",D76=""),"",IF(COUNTIF($A$3:$A$4000,A76)<3,"",ABS(B76-C76)/D76)) | F76: {=IF(E76="","",MAX(IF($A$3:$A$3999=$A76,E$3:E$3999)))} | G76: =IF(B76="","sans_valeur",IF(COUNTIFS($A$3:$A$3999,$A76,B$3:B$3999,">0")<3,"inf_3_analyses",IF(E76<>F76,"N",IF(E76>VLOOKUP(#REF!,valeur_critique_grubbs!$A$2:$B$249,2,TRUE),"O","N")))) -> sans_valeur
... A93: =biomasses!$A$7 -> 5 | C93: =IF(B93="","",SUMPRODUCT(($A$3:$A$3999=$A93)*B$3:B$3999)/(COUNTIF($A$3:$A$3999,$A93))) | D93: {=IF(COUNTIFS($A$3:$A$3999,$A93,B$3:B$3999,">0")>1,IF(COUNTIF($A$3:$A$3999,$A93)>2,STDEV(IF(($A$3:$A$3999=$A93)*B$3:B$3999<>0,($A$3:$A$3999=$A93)*B$3:B$3999,"")),""),"")} -> 9.4785074 | E93: =IF(OR(B93="",D93=""),"",IF(COUNTIF($A$3:$A$4000,A93)<3,"",ABS(B93-C93)/D93)) | F93: {=IF(E93="","",MAX(IF($A$3:$A$3999=$A93,E$3:E$3999)))} | G93: =IF(B93="","sans_valeur",IF(COUNTIFS($A$3:$A$3999,$A93,B$3:B$3999,">0")<3,"inf_3_analyses",IF(E93<>F93,"N",IF(E93>VLOOKUP(#REF!,valeur_critique_grubbs!$A$2:$B$249,2,TRUE),"O","N")))) -> sans_valeur
A94: =biomasses!$A$7 -> 5 | B94: 57.733 | C94: =IF(B94="","",SUMPRODUCT(($A$3:$A$3999=$A94)*B$3:B$3999)/(COUNTIF($A$3:$A$3999,$A94))) -> 8.6948649 | D94: {=IF(COUNTIFS($A$3:$A$3999,$A94,B$3:B$3999,">0")>1,IF(COUNTIF($A$3:$A$3999,$A94)>2,STDEV(IF(($A$3:$A$3999=$A94)*B$3:B$3999<>0,($A$3:$A$3999=$A94)*B$3:B$3999,"")),""),"")} -> 9.4785074 | E94: =IF(OR(B94="",D94=""),"",IF(COUNTIF($A$3:$A$4000,A94)<3,"",ABS(B94-C94)/D94)) -> 5.1736136 | F94: {=IF(E94="","",MAX(IF($A$3:$A$3999=$A94,E$3:E$3999)))} -> 5.3143531 | G94: =IF(B94="","sans_valeur",IF(COUNTIFS($A$3:$A$3999,$A94,B$3:B$3999,">0")<3,"inf_3_analyses",IF(E94<>F94,"N",IF(E94>VLOOKUP(#REF!,valeur_critique_grubbs!$A$2:$B$249,2,TRUE),"O","N")))) -> N
A95: =biomasses!$A$7 -> 5 | B95: 57.166 | C95: =IF(B95="","",SUMPRODUCT(($A$3:$A$3999=$A95)*B$3:B$3999)/(COUNTIF($A$3:$A$3999,$A95))) -> 8.6948649 | D95: {=IF(COUNTIFS($A$3:$A$3999,$A95,B$3:B$3999,">0")>1,IF(COUNTIF($A$3:$A$3999,$A95)>2,STDEV(IF(($A$3:$A$3999=$A95)*B$3:B$3999<>0,($A$3:$A$3999=$A95)*B$3:B$3999,"")),""),"")} -> 9.4785074 | E95: =IF(OR(B95="",D95=""),"",IF(COUNTIF($A$3:$A$4000,A95)<3,"",ABS(B95-C95)/D95)) -> 5.1137941 | F95: {=IF(E95="","",MAX(IF($A$3:$A$3999=$A95,E$3:E$3999)))} -> 5.3143531 | G95: =IF(B95="","sans_valeur",IF(COUNTIFS($A$3:$A$3999,$A95,B$3:B$3999,">0")<3,"inf_3_analyses",IF(E95<>F95,"N",IF(E95>VLOOKUP(#REF!,valeur_critique_grubbs!$A$2:$B$249,2,TRUE),"O","N")))) -> N
A96: =biomasses!$A$7 -> 5 | B96: 59.067 | C96: =IF(B96="","",SUMPRODUCT(($A$3:$A$3999=$A96)*B$3:B$3999)/(COUNTIF($A$3:$A$3999,$A96))) -> 8.6948649 | D96: {=IF(COUNTIFS($A$3:$A$3999,$A96,B$3:B$3999,">0")>1,IF(COUNTIF($A$3:$A$3999,$A96)>2,STDEV(IF(($A$3:$A$3999=$A96)*B$3:B$3999<>0,($A$3:$A$3999=$A96)*B$3:B$3999,"")),""),"")} -> 9.4785074 | E96: =IF(OR(B96="",D96=""),"",IF(COUNTIF($A$3:$A$4000,A96)<3,"",ABS(B96-C96)/D96)) -> 5.3143531 | F96: {=IF(E96="","",MAX(IF($A$3:$A$3999=$A96,E$3:E$3999)))} -> 5.3143531 | G96: =IF(B96="","sans_valeur",IF(COUNTIFS($A$3:$A$3999,$A96,B$3:B$3999,">0")<3,"inf_3_analyses",IF(E96<>F96,"N",IF(E96>VLOOKUP(#REF!,valeur_critique_grubbs!$A$2:$B$249,2,TRUE),"O","N")))) -> #REF!
A97: =biomasses!$A$7 -> 5 | B97: 57.574 | C97: =IF(B97="","",SUMPRODUCT(($A$3:$A$3999=$A97)*B$3:B$3999)/(COUNTIF($A$3:$A$3999,$A97))) -> 8.6948649 | D97: {=IF(COUNTIFS($A$3:$A$3999,$A97,B$3:B$3999,">0")>1,IF(COUNTIF($A$3:$A$3999,$A97)>2,STDEV(IF(($A$3:$A$3999=$A97)*B$3:B$3999<>0,($A$3:$A$3999=$A97)*B$3:B$3999,"")),""),"")} -> 9.4785074 | E97: =IF(OR(B97="",D97=""),"",IF(COUNTIF($A$3:$A$4000,A97)<3,"",ABS(B97-C97)/D97)) -> 5.1568388 | F97: {=IF(E97="","",MAX(IF($A$3:$A$3999=$A97,E$3:E$3999)))} -> 5.3143531 | G97: =IF(B97="","sans_valeur",IF(COUNTIFS($A$3:$A$3999,$A97,B$3:B$3999,">0")<3,"inf_3_analyses",IF(E97<>F97,"N",IF(E97>VLOOKUP(#REF!,valeur_critique_grubbs!$A$2:$B$249,2,TRUE),"O","N")))) -> N
A98: =biomasses!$A$7 -> 5 | B98: 34.391 | C98: =IF(B98="","",SUMPRODUCT(($A$3:$A$3999=$A98)*B$3:B$3999)/(COUNTIF($A$3:$A$3999,$A98))) -> 8.6948649 | D98: {=IF(COUNTIFS($A$3:$A$3999,$A98,B$3:B$3999,">0")>1,IF(COUNTIF($A$3:$A$3999,$A98)>2,STDEV(IF(($A$3:$A$3999=$A98)*B$3:B$3999<>0,($A$3:$A$3999=$A98)*B$3:B$3999,"")),""),"")} -> 9.4785074 | E98: =IF(OR(B98="",D98=""),"",IF(COUNTIF($A$3:$A$4000,A98)<3,"",ABS(B98-C98)/D98)) -> 2.7109896 | F98: {=IF(E98="","",MAX(IF($A$3:$A$3999=$A98,E$3:E$3999)))} -> 5.3143531 | G98: =IF(B98="","sans_valeur",IF(COUNTIFS($A$3:$A$3999,$A98,B$3:B$3999,">0")<3,"inf_3_analyses",IF(E98<>F98,"N",IF(E98>VLOOKUP(#REF!,valeur_critique_grubbs!$A$2:$B$249,2,TRUE),"O","N")))) -> N
A99: =biomasses!$A$7 -> 5 | B99: 55.779 | C99: =IF(B99="","",SUMPRODUCT(($A$3:$A$3999=$A99)*B$3:B$3999)/(COUNTIF($A$3:$A$3999,$A99))) -> 8.6948649 | D99: {=IF(COUNTIFS($A$3:$A$3999,$A99,B$3:B$3999,">0")>1,IF(COUNTIF($A$3:$A$3999,$A99)>2,STDEV(IF(($A$3:$A$3999=$A99)*B$3:B$3999<>0,($A$3:$A$3999=$A99)*B$3:B$3999,"")),""),"")} -> 9.4785074 | E99: =IF(OR(B99="",D99=""),"",IF(COUNTIF($A$3:$A$4000,A99)<3,"",ABS(B99-C99)/D99)) -> 4.967463 | F99: {=IF(E99="","",MAX(IF($A$3:$A$3999=$A99,E$3:E$3999)))} -> 5.3143531 | G99: =IF(B99="","sans_valeur",IF(COUNTIFS($A$3:$A$3999,$A99,B$3:B$3999,">0")<3,"inf_3_analyses",IF(E99<>F99,"N",IF(E99>VLOOKUP(#REF!,valeur_critique_grubbs!$A$2:$B$249,2,TRUE),"O","N")))) -> N
A100: =biomasses!$A$7 -> 5 | C100: =IF(B100="","",SUMPRODUCT(($A$3:$A$3999=$A100)*B$3:B$3999)/(COUNTIF($A$3:$A$3999,$A100))) | D100: {=IF(COUNTIFS($A$3:$A$3999,$A100,B$3:B$3999,">0")>1,IF(COUNTIF($A$3:$A$3999,$A100)>2,STDEV(IF(($A$3:$A$3999=$A100)*B$3:B$3999<>0,($A$3:$A$3999=$A100)*B$3:B$3999,"")),""),"")} -> 9.4785074 | E100: =IF(OR(B100="",D100=""),"",IF(COUNTIF($A$3:$A$4000,A100)<3,"",ABS(B100-C100)/D100)) | F100: {=IF(E100="","",MAX(IF($A$3:$A$3999=$A100,E$3:E$3999)))} | G100: =IF(B100="","sans_valeur",IF(COUNTIFS($A$3:$A$3999,$A100,B$3:B$3999,">0")<3,"inf_3_analyses",IF(E100<>F100,"N",IF(E100>VLOOKUP(#REF!,valeur_critique_grubbs!$A$2:$B$249,2,TRUE),"O","N")))) -> sans_valeur
A101: =biomasses!$A$7 -> 5 | C101: =IF(B101="","",SUMPRODUCT(($A$3:$A$3999=$A101)*B$3:B$3999)/(COUNTIF($A$3:$A$3999,$A101))) | D101: {=IF(COUNTIFS($A$3:$A$3999,$A101,B$3:B$3999,">0")>1,IF(COUNTIF($A$3:$A$3999,$A101)>2,STDEV(IF(($A$3:$A$3999=$A101)*B$3:B$3999<>0,($A$3:$A$3999=$A101)*B$3:B$3999,"")),""),"")} -> 9.4785074 | E101: =IF(OR(B101="",D101=""),"",IF(COUNTIF($A$3:$A$4000,A101)<3,"",ABS(B101-C101)/D101)) | F101: {=IF(E101="","",MAX(IF($A$3:$A$3999=$A101,E$3:E$3999)))} | G101: =IF(B101="","sans_valeur",IF(COUNTIFS($A$3:$A$3999,$A101,B$3:B$3999,">0")<3,"inf_3_analyses",IF(E101<>F101,"N",IF(E101>VLOOKUP(#REF!,valeur_critique_grubbs!$A$2:$B$249,2,TRUE),"O","N")))) -> sans_valeur
A102: =biomasses!$A$8 -> 6 | B102: 49.42 | C102: =IF(B102="","",SUMPRODUCT(($A$3:$A$3999=$A102)*B$3:B$3999)/(COUNTIF($A$3:$A$3999,$A102))) -> 8.2366667 | D102: {=IF(COUNTIFS($A$3:$A$3999,$A102,B$3:B$3999,">0")>1,IF(COUNTIF($A$3:$A$3999,$A102)>2,STDEV(IF(($A$3:$A$3999=$A102)*B$3:B$3999<>0,($A$3:$A$3999=$A102)*B$3:B$3999,"")),""),"")} | E102: =IF(OR(B102="",D102=""),"",IF(COUNTIF($A$3:$A$4000,A102)<3,"",ABS(B102-C102)/D102)) | F102: {=IF(E102="","",MAX(IF($A$3:$A$3999=$A102,E$3:E$3999)))} | G102: =IF(B102="","sans_valeur",IF(COUNTIFS($A$3:$A$3999,$A102,B$3:B$3999,">0")<3,"inf_3_analyses",IF(E102<>F102,"N",IF(E102>VLOOKUP(#REF!,valeur_critique_grubbs!$A$2:$B$249,2,TRUE),"O","N")))) -> inf_3_analyses
A103: =biomasses!$A$8 -> 6 | C103: =IF(B103="","",SUMPRODUCT(($A$3:$A$3999=$A103)*B$3:B$3999)/(COUNTIF($A$3:$A$3999,$A103))) | D103: {=IF(COUNTIFS($A$3:$A$3999,$A103,B$3:B$3999,">0")>1,IF(COUNTIF($A$3:$A$3999,$A103)>2,STDEV(IF(($A$3:$A$3999=$A103)*B$3:B$3999<>0,($A$3:$A$3999=$A103)*B$3:B$3999,"")),""),"")} | E103: =IF(OR(B103="",D103=""),"",IF(COUNTIF($A$3:$A$4000,A103)<3,"",ABS(B103-C103)/D103)) | F103: {=IF(E103="","",MAX(IF($A$3:$A$3999=$A103,E$3:E$3999)))} | G103: =IF(B103="","sans_valeur",IF(COUNTIFS($A$3:$A$3999,$A103,B$3:B$3999,">0")<3,"inf_3_analyses",IF(E103<>F103,"N",IF(E103>VLOOKUP(#REF!,valeur_critique_grubbs!$A$2:$B$249,2,TRUE),"O","N")))) -> sans_valeur
A104: =biomasses!$A$8 -> 6 | C104: =IF(B104="","",SUMPRODUCT(($A$3:$A$3999=$A104)*B$3:B$3999)/(COUNTIF($A$3:$A$3999,$A104))) | D104: {=IF(COUNTIFS($A$3:$A$3999,$A104,B$3:B$3999,">0")>1,IF(COUNTIF($A$3:$A$3999,$A104)>2,STDEV(IF(($A$3:$A$3999=$A104)*B$3:B$3999<>0,($A$3:$A$3999=$A104)*B$3:B$3999,"")),""),"")} | E104: =IF(OR(B104="",D104=""),"",IF(COUNTIF($A$3:$A$4000,A104)<3,"",ABS(B104-C104)/D104)) | F104: {=IF(E104="","",MAX(IF($A$3:$A$3999=$A104,E$3:E$3999)))} | G104: =IF(B104="","sans_valeur",IF(COUNTIFS($A$3:$A$3999,$A104,B$3:B$3999,">0")<3,"inf_3_analyses",IF(E104<>F104,"N",IF(E104>VLOOKUP(#REF!,valeur_critique_grubbs!$A$2:$B$249,2,TRUE),"O","N")))) -> sans_valeur
A105: =biomasses!$A$8 -> 6 | C105: =IF(B105="","",SUMPRODUCT(($A$3:$A$3999=$A105)*B$3:B$3999)/(COUNTIF($A$3:$A$3999,$A105))) | D105: {=IF(COUNTIFS($A$3:$A$3999,$A105,B$3:B$3999,">0")>1,IF(COUNTIF($A$3:$A$3999,$A105)>2,STDEV(IF(($A$3:$A$3999=$A105)*B$3:B$3999<>0,($A$3:$A$3999=$A105)*B$3:B$3999,"")),""),"")} | E105: =IF(OR(B105="",D105=""),"",IF(COUNTIF($A$3:$A$4000,A105)<3,"",ABS(B105-C105)/D105)) | F105: {=IF(E105="","",MAX(IF($A$3:$A$3999=$A105,E$3:E$3999)))} | G105: =IF(B105="","sans_valeur",IF(COUNTIFS($A$3:$A$3999,$A105,B$3:B$3999,">0")<3,"inf_3_analyses",IF(E105<>F105,"N",IF(E105>VLOOKUP(#REF!,valeur_critique_grubbs!$A$2:$B$249,2,TRUE),"O","N")))) -> sans_valeur
A106: =biomasses!$A$8 -> 6 | C106: =IF(B106="","",SUMPRODUCT(($A$3:$A$3999=$A106)*B$3:B$3999)/(COUNTIF($A$3:$A$3999,$A106))) | D106: {=IF(COUNTIFS($A$3:$A$3999,$A106,B$3:B$3999,">0")>1,IF(COUNTIF($A$3:$A$3999,$A106)>2,STDEV(IF(($A$3:$A$3999=$A106)*B$3:B$3999<>0,($A$3:$A$3999=$A106)*B$3:B$3999,"")),""),"")} | E106: =IF(OR(B106="",D106=""),"",IF(COUNTIF($A$3:$A$4000,A106)<3,"",ABS(B106-C106)/D106)) | F106: {=IF(E106="","",MAX(IF($A$3:$A$3999=$A106,E$3:E$3999)))} | G106: =IF(B106="","sans_valeur",IF(COUNTIFS($A$3:$A$3999,$A106,B$3:B$3999,">0")<3,"inf_3_analyses",IF(E106<>F106,"N",IF(E106>VLOOKUP(#REF!,valeur_critique_grubbs!$A$2:$B$249,2,TRUE),"O","N")))) -> sans_valeur
A107: =biomasses!$A$8 -> 6 | C107: =IF(B107="","",SUMPRODUCT(($A$3:$A$3999=$A107)*B$3:B$3999)/(COUNTIF($A$3:$A$3999,$A107))) | D107: {=IF(COUNTIFS($A$3:$A$3999,$A107,B$3:B$3999,">0")>1,IF(COUNTIF($A$3:$A$3999,$A107)>2,STDEV(IF(($A$3:$A$3999=$A107)*B$3:B$3999<>0,($A$3:$A$3999=$A107)*B$3:B$3999,"")),""),"")} | E107: =IF(OR(B107="",D107=""),"",IF(COUNTIF($A$3:$A$4000,A107)<3,"",ABS(B107-C107)/D107)) | F107: {=IF(E107="","",MAX(IF($A$3:$A$3999=$A107,E$3:E$3999)))} | G107: =IF(B107="","sans_valeur",IF(COUNTIFS($A$3:$A$3999,$A107,B$3:B$3999,">0")<3,"inf_3_analyses",IF(E107<>F107,"N",IF(E107>VLOOKUP(#REF!,valeur_critique_grubbs!$A$2:$B$249,2,TRUE),"O","N")))) -> sans_valeur
A108: =biomasses!$A$9 -> 7 | C108: =IF(B108="","",SUMPRODUCT(($A$3:$A$3999=$A108)*B$3:B$3999)/(COUNTIF($A$3:$A$3999,$A108))) | D108: {=IF(COUNTIFS($A$3:$A$3999,$A108,B$3:B$3999,">0")>1,IF(COUNTIF($A$3:$A$3999,$A108)>2,STDEV(IF(($A$3:$A$3999=$A108)*B$3:B$3999<>0,($A$3:$A$3999=$A108)*B$3:B$3999,"")),""),"")} -> 0.11016957 | E108: =IF(OR(B108="",D108=""),"",IF(COUNTIF($A$3:$A$4000,A108)<3,"",ABS(B108-C108)/D108)) | F108: {=IF(E108="","",MAX(IF($A$3:$A$3999=$A108,E$3:E$3999)))} | G108: =IF(B108="","sans_valeur",IF(COUNTIFS($A$3:$A$3999,$A108,B$3:B$3999,">0")<3,"inf_3_analyses",IF(E108<>F108,"N",IF(E108>VLOOKUP(#REF!,valeur_critique_grubbs!$A$2:$B$249,2,TRUE),"O","N")))) -> sans_valeur
A109: =biomasses!$A$9 -> 7 | C109: =IF(B109="","",SUMPRODUCT(($A$3:$A$3999=$A109)*B$3:B$3999)/(COUNTIF($A$3:$A$3999,$A109))) | D109: {=IF(COUNTIFS($A$3:$A$3999,$A109,B$3:B$3999,">0")>1,IF(COUNTIF($A$3:$A$3999,$A109)>2,STDEV(IF(($A$3:$A$3999=$A109)*B$3:B$3999<>0,($A$3:$A$3999=$A109)*B$3:B$3999,"")),""),"")} -> 0.11016957 | E109: =IF(OR(B109="",D109=""),"",IF(COUNTIF($A$3:$A$4000,A109)<3,"",ABS(B109-C109)/D109)) | F109: {=IF(E109="","",MAX(IF($A$3:$A$3999=$A109,E$3:E$3999)))} | G109: =IF(B109="","sans_valeur",IF(COUNTIFS($A$3:$A$3999,$A109,B$3:B$3999,">0")<3,"inf_3_analyses",IF(E109<>F109,"N",IF(E109>VLOOKUP(#REF!,valeur_critique_grubbs!$A$2:$B$249,2,TRUE),"O","N")))) -> sans_valeur
A110: =biomasses!$A$9 -> 7 | C110: =IF(B110="","",SUMPRODUCT(($A$3:$A$3999=$A110)*B$3:B$3999)/(COUNTIF($A$3:$A$3999,$A110))) | D110: {=IF(COUNTIFS($A$3:$A$3999,$A110,B$3:B$3999,">0")>1,IF(COUNTIF($A$3:$A$3999,$A110)>2,STDEV(IF(($A$3:$A$3999=$A110)*B$3:B$3999<>0,($A$3:$A$3999=$A110)*B$3:B$3999,"")),""),"")} -> 0.11016957 | E110: =IF(OR(B110="",D110=""),"",IF(COUNTIF($A$3:$A$4000,A110)<3,"",ABS(B110-C110)/D110)) | F110: {=IF(E110="","",MAX(IF($A$3:$A$3999=$A110,E$3:E$3999)))} | G110: =IF(B110="","sans_valeur",IF(COUNTIFS($A$3:$A$3999,$A110,B$3:B$3999,">0")<3,"inf_3_analyses",IF(E110<>F110,"N",IF(E110>VLOOKUP(#REF!,valeur_critique_grubbs!$A$2:$B$249,2,TRUE),"O","N")))) -> sans_valeur
A111: =biomasses!$A$9 -> 7 | C111: =IF(B111="","",SUMPRODUCT(($A$3:$A$3999=$A111)*B$3:B$3999)/(COUNTIF($A$3:$A$3999,$A111))) | D111: {=IF(COUNTIFS($A$3:$A$3999,$A111,B$3:B$3999,">0")>1,IF(COUNTIF($A$3:$A$3999,$A111)>2,STDEV(IF(($A$3:$A$3999=$A111)*B$3:B$3999<>0,($A$3:$A$3999=$A111)*B$3:B$3999,"")),""),"")} -> 0.11016957 | E111: =IF(OR(B111="",D111=""),"",IF(COUNTIF($A$3:$A$4000,A111)<3,"",ABS(B111-C111)/D111)) | F111: {=IF(E111="","",MAX(IF($A$3:$A$3999=$A111,E$3:E$3999)))} | G111: =IF(B111="","sans_valeur",IF(COUNTIFS($A$3:$A$3999,$A111,B$3:B$3999,">0")<3,"inf_3_analyses",IF(E111<>F111,"N",IF(E111>VLOOKUP(#REF!,valeur_critique_grubbs!$A$2:$B$249,2,TRUE),"O","N")))) -> sans_valeur
A112: =biomasses!$A$9 -> 7 | C112: =IF(B112="","",SUMPRODUCT(($A$3:$A$3999=$A112)*B$3:B$3999)/(COUNTIF($A$3:$A$3999,$A112))) | D112: {=IF(COUNTIFS($A$3:$A$3999,$A112,B$3:B$3999,">0")>1,IF(COUNTIF($A$3:$A$3999,$A112)>2,STDEV(IF(($A$3:$A$3999=$A112)*B$3:B$3999<>0,($A$3:$A$3999=$A112)*B$3:B$3999,"")),""),"")} -> 0.11016957 | E112: =IF(OR(B112="",D112=""),"",IF(COUNTIF($A$3:$A$4000,A112)<3,"",ABS(B112-C112)/D112)) | F112: {=IF(E112="","",MAX(IF($A$3:$A$3999=$A112,E$3:E$3999)))} | G112: =IF(B112="","sans_valeur",IF(COUNTIFS($A$3:$A$3999,$A112,B$3:B$3999,">0")<3,"inf_3_analyses",IF(E112<>F112,"N",IF(E112>VLOOKUP(#REF!,valeur_critique_grubbs!$A$2:$B$249,2,TRUE),"O","N")))) -> sans_valeur
A113: =biomasses!$A$9 -> 7 | C113: =IF(B113="","",SUMPRODUCT(($A$3:$A$3999=$A113)*B$3:B$3999)/(COUNTIF($A$3:$A$3999,$A113))) | D113: {=IF(COUNTIFS($A$3:$A$3999,$A113,B$3:B$3999,">0")>1,IF(COUNTIF($A$3:$A$3999,$A113)>2,STDEV(IF(($A$3:$A$3999=$A113)*B$3:B$3999<>0,($A$3:$A$3999=$A113)*B$3:B$3999,"")),""),"")} -> 0.11016957 | E113: =IF(OR(B113="",D113=""),"",IF(COUNTIF($A$3:$A$4000,A113)<3,"",ABS(B113-C113)/D113)) | F113: {=IF(E113="","",MAX(IF($A$3:$A$3999=$A113,E$3:E$3999)))} | G113: =IF(B113="","sans_valeur",IF(COUNTIFS($A$3:$A$3999,$A113,B$3:B$3999,">0")<3,"inf_3_analyses",IF(E113<>F113,"N",IF(E113>VLOOKUP(#REF!,valeur_critique_grubbs!$A$2:$B$249,2,TRUE),"O","N")))) -> sans_valeur
A114: =biomasses!$A$9 -> 7 | C114: =IF(B114="","",SUMPRODUCT(($A$3:$A$3999=$A114)*B$3:B$3999)/(COUNTIF($A$3:$A$3999,$A114))) | D114: {=IF(COUNTIFS($A$3:$A$3999,$A114,B$3:B$3999,">0")>1,IF(COUNTIF($A$3:$A$3999,$A114)>2,STDEV(IF(($A$3:$A$3999=$A114)*B$3:B$3999<>0,($A$3:$A$3999=$A114)*B$3:B$3999,"")),""),"")} -> 0.11016957 | E114: =IF(OR(B114="",D114=""),"",IF(COUNTIF($A$3:$A$4000,A114)<3,"",ABS(B114-C114)/D114)) | F114: {=IF(E114="","",MAX(IF($A$3:$A$3999=$A114,E$3:E$3999)))} | G114: =IF(B114="","sans_valeur",IF(COUNTIFS($A$3:$A$3999,$A114,B$3:B$3999,">0")<3,"inf_3_analyses",IF(E114<>F114,"N",IF(E114>VLOOKUP(#REF!,valeur_critique_grubbs!$A$2:$B$249,2,TRUE),"O","N")))) -> sans_valeur
A115: =biomasses!$A$9 -> 7 | C115: =IF(B115="","",SUMPRODUCT(($A$3:$A$3999=$A115)*B$3:B$3999)/(COUNTIF($A$3:$A$3999,$A115))) | D115: {=IF(COUNTIFS($A$3:$A$3999,$A115,B$3:B$3999,">0")>1,IF(COUNTIF($A$3:$A$3999,$A115)>2,STDEV(IF(($A$3:$A$3999=$A115)*B$3:B$3999<>0,($A$3:$A$3999=$A115)*B$3:B$3999,"")),""),"")} -> 0.11016957 | E115: =IF(OR(B115="",D115=""),"",IF(COUNTIF($A$3:$A$4000,A115)<3,"",ABS(B115-C115)/D115)) | F115: {=IF(E115="","",MAX(IF($A$3:$A$3999=$A115,E$3:E$3999)))} | G115: =IF(B115="","sans_valeur",IF(COUNTIFS($A$3:$A$3999,$A115,B$3:B$3999,">0")<3,"inf_3_analyses",IF(E115<>F115,"N",IF(E115>VLOOKUP(#REF!,valeur_critique_grubbs!$A$2:$B$249,2,TRUE),"O","N")))) -> sans_valeur
A116: =biomasses!$A$9 -> 7 | C116: =IF(B116="","",SUMPRODUCT(($A$3:$A$3999=$A116)*B$3:B$3999)/(COUNTIF($A$3:$A$3999,$A116))) | D116: {=IF(COUNTIFS($A$3:$A$3999,$A116,B$3:B$3999,">0")>1,IF(COUNTIF($A$3:$A$3999,$A116)>2,STDEV(IF(($A$3:$A$3999=$A116)*B$3:B$3999<>0,($A$3:$A$3999=$A116)*B$3:B$3999,"")),""),"")} -> 0.11016957 | E116: =IF(OR(B116="",D116=""),"",IF(COUNTIF($A$3:$A$4000,A116)<3,"",ABS(B116-C116)/D116)) | F116: {=IF(E116="","",MAX(IF($A$3:$A$3999=$A116,E$3:E$3999)))} | G116: =IF(B116="","sans_valeur",IF(COUNTIFS($A$3:$A$3999,$A116,B$3:B$3999,">0")<3,"inf_3_analyses",IF(E116<>F116,"N",IF(E116>VLOOKUP(#REF!,valeur_critique_grubbs!$A$2:$B$249,2,TRUE),"O","N")))) -> sans_valeur
A117: =biomasses!$A$9 -> 7 | C117: =IF(B117="","",SUMPRODUCT(($A$3:$A$3999=$A117)*B$3:B$3999)/(COUNTIF($A$3:$A$3999,$A117))) | D117: {=IF(COUNTIFS($A$3:$A$3999,$A117,B$3:B$3999,">0")>1,IF(COUNTIF($A$3:$A$3999,$A117)>2,STDEV(IF(($A$3:$A$3999=$A117)*B$3:B$3999<>0,($A$3:$A$3999=$A117)*B$3:B$3999,"")),""),"")} -> 0.11016957 | E117: =IF(OR(B117="",D117=""),"",IF(COUNTIF($A$3:$A$4000,A117)<3,"",ABS(B117-C117)/D117)) | F117: {=IF(E117="","",MAX(IF($A$3:$A$3999=$A117,E$3:E$3999)))} | G117: =IF(B117="","sans_valeur",IF(COUNTIFS($A$3:$A$3999,$A117,B$3:B$3999,">0")<3,"inf_3_analyses",IF(E117<>F117,"N",IF(E117>VLOOKUP(#REF!,valeur_critique_grubbs!$A$2:$B$249,2,TRUE),"O","N")))) -> sans_valeur
A118: =biomasses!$A$9 -> 7 | C118: =IF(B118="","",SUMPRODUCT(($A$3:$A$3999=$A118)*B$3:B$3999)/(COUNTIF($A$3:$A$3999,$A118))) | D118: {=IF(COUNTIFS($A$3:$A$3999,$A118,B$3:B$3999,">0")>1,IF(COUNTIF($A$3:$A$3999,$A118)>2,STDEV(IF(($A$3:$A$3999=$A118)*B$3:B$3999<>0,($A$3:$A$3999=$A118)*B$3:B$3999,"")),""),"")} -> 0.11016957 | E118: =IF(OR(B118="",D118=""),"",IF(COUNTIF($A$3:$A$4000,A118)<3,"",ABS(B118-C118)/D118)) | F118: {=IF(E118="","",MAX(IF($A$3:$A$3999=$A118,E$3:E$3999)))} | G118: =IF(B118="","sans_valeur",IF(COUNTIFS($A$3:$A$3999,$A118,B$3:B$3999,">0")<3,"inf_3_analyses",IF(E118<>F118,"N",IF(E118>VLOOKUP(#REF!,valeur_critique_grubbs!$A$2:$B$249,2,TRUE),"O","N")))) -> sans_valeur
A119: =biomasses!$A$9 -> 7 | C119: =IF(B119="","",SUMPRODUCT(($A$3:$A$3999=$A119)*B$3:B$3999)/(COUNTIF($A$3:$A$3999,$A119))) | D119: {=IF(COUNTIFS($A$3:$A$3999,$A119,B$3:B$3999,">0")>1,IF(COUNTIF($A$3:$A$3999,$A119)>2,STDEV(IF(($A$3:$A$3999=$A119)*B$3:B$3999<>0,($A$3:$A$3999=$A119)*B$3:B$3999,"")),""),"")} -> 0.11016957 | E119: =IF(OR(B119="",D119=""),"",IF(COUNTIF($A$3:$A$4000,A119)<3,"",ABS(B119-C119)/D119)) | F119: {=IF(E119="","",MAX(IF($A$3:$A$3999=$A119,E$3:E$3999)))} | G119: =IF(B119="","sans_valeur",IF(COUNTIFS($A$3:$A$3999,$A119,B$3:B$3999,">0")<3,"inf_3_analyses",IF(E119<>F119,"N",IF(E119>VLOOKUP(#REF!,valeur_critique_grubbs!$A$2:$B$249,2,TRUE),"O","N")))) -> sans_valeur
... A138: =biomasses!$A$9 -> 7 | C138: =IF(B138="","",SUMPRODUCT(($A$3:$A$3999=$A138)*B$3:B$3999)/(COUNTIF($A$3:$A$3999,$A138))) | D138: {=IF(COUNTIFS($A$3:$A$3999,$A138,B$3:B$3999,">0")>1,IF(COUNTIF($A$3:$A$3999,$A138)>2,STDEV(IF(($A$3:$A$3999=$A138)*B$3:B$3999<>0,($A$3:$A$3999=$A138)*B$3:B$3999,"")),""),"")} -> 0.11016957 | E138: =IF(OR(B138="",D138=""),"",IF(COUNTIF($A$3:$A$4000,A138)<3,"",ABS(B138-C138)/D138)) | F138: {=IF(E138="","",MAX(IF($A$3:$A$3999=$A138,E$3:E$3999)))} | G138: =IF(B138="","sans_valeur",IF(COUNTIFS($A$3:$A$3999,$A138,B$3:B$3999,">0")<3,"inf_3_analyses",IF(E138<>F138,"N",IF(E138>VLOOKUP(#REF!,valeur_critique_grubbs!$A$2:$B$249,2,TRUE),"O","N")))) -> sans_valeur
A139: =biomasses!$A$9 -> 7 | B139: 10.438 | C139: =IF(B139="","",SUMPRODUCT(($A$3:$A$3999=$A139)*B$3:B$3999)/(COUNTIF($A$3:$A$3999,$A139))) -> 0.28304505 | D139: {=IF(COUNTIFS($A$3:$A$3999,$A139,B$3:B$3999,">0")>1,IF(COUNTIF($A$3:$A$3999,$A139)>2,STDEV(IF(($A$3:$A$3999=$A139)*B$3:B$3999<>0,($A$3:$A$3999=$A139)*B$3:B$3999,"")),""),"")} -> 0.11016957 | E139: =IF(OR(B139="",D139=""),"",IF(COUNTIF($A$3:$A$4000,A139)<3,"",ABS(B139-C139)/D139)) -> 92.175682 | F139: {=IF(E139="","",MAX(IF($A$3:$A$3999=$A139,E$3:E$3999)))} -> 93.609835 | G139: =IF(B139="","sans_valeur",IF(COUNTIFS($A$3:$A$3999,$A139,B$3:B$3999,">0")<3,"inf_3_analyses",IF(E139<>F139,"N",IF(E139>VLOOKUP(#REF!,valeur_critique_grubbs!$A$2:$B$249,2,TRUE),"O","N")))) -> N
A140: =biomasses!$A$9 -> 7 | B140: 10.596 | C140: =IF(B140="","",SUMPRODUCT(($A$3:$A$3999=$A140)*B$3:B$3999)/(COUNTIF($A$3:$A$3999,$A140))) -> 0.28304505 | D140: {=IF(COUNTIFS($A$3:$A$3999,$A140,B$3:B$3999,">0")>1,IF(COUNTIF($A$3:$A$3999,$A140)>2,STDEV(IF(($A$3:$A$3999=$A140)*B$3:B$3999<>0,($A$3:$A$3999=$A140)*B$3:B$3999,"")),""),"")} -> 0.11016957 | E140: =IF(OR(B140="",D140=""),"",IF(COUNTIF($A$3:$A$4000,A140)<3,"",ABS(B140-C140)/D140)) -> 93.609835 | F140: {=IF(E140="","",MAX(IF($A$3:$A$3999=$A140,E$3:E$3999)))} -> 93.609835 | G140: =IF(B140="","sans_valeur",IF(COUNTIFS($A$3:$A$3999,$A140,B$3:B$3999,">0")<3,"inf_3_analyses",IF(E140<>F140,"N",IF(E140>VLOOKUP(#REF!,valeur_critique_grubbs!$A$2:$B$249,2,TRUE),"O","N")))) -> #REF!
A141: =biomasses!$A$9 -> 7 | C141: =IF(B141="","",SUMPRODUCT(($A$3:$A$3999=$A141)*B$3:B$3999)/(COUNTIF($A$3:$A$3999,$A141))) | D141: {=IF(COUNTIFS($A$3:$A$3999,$A141,B$3:B$3999,">0")>1,IF(COUNTIF($A$3:$A$3999,$A141)>2,STDEV(IF(($A$3:$A$3999=$A141)*B$3:B$3999<>0,($A$3:$A$3999=$A141)*B$3:B$3999,"")),""),"")} -> 0.11016957 | E141: =IF(OR(B141="",D141=""),"",IF(COUNTIF($A$3:$A$4000,A141)<3,"",ABS(B141-C141)/D141)) | F141: {=IF(E141="","",MAX(IF($A$3:$A$3999=$A141,E$3:E$3999)))} | G141: =IF(B141="","sans_valeur",IF(COUNTIFS($A$3:$A$3999,$A141,B$3:B$3999,">0")<3,"inf_3_analyses",IF(E141<>F141,"N",IF(E141>VLOOKUP(#REF!,valeur_critique_grubbs!$A$2:$B$249,2,TRUE),"O","N")))) -> sans_valeur
A142: =biomasses!$A$9 -> 7 | C142: =IF(B142="","",SUMPRODUCT(($A$3:$A$3999=$A142)*B$3:B$3999)/(COUNTIF($A$3:$A$3999,$A142))) | D142: {=IF(COUNTIFS($A$3:$A$3999,$A142,B$3:B$3999,">0")>1,IF(COUNTIF($A$3:$A$3999,$A142)>2,STDEV(IF(($A$3:$A$3999=$A142)*B$3:B$3999<>0,($A$3:$A$3999=$A142)*B$3:B$3999,"")),""),"")} -> 0.11016957 | E142: =IF(OR(B142="",D142=""),"",IF(COUNTIF($A$3:$A$4000,A142)<3,"",ABS(B142-C142)/D142)) | F142: {=IF(E142="","",MAX(IF($A$3:$A$3999=$A142,E$3:E$3999)))} | G142: =IF(B142="","sans_valeur",IF(COUNTIFS($A$3:$A$3999,$A142,B$3:B$3999,">0")<3,"inf_3_analyses",IF(E142<>F142,"N",IF(E142>VLOOKUP(#REF!,valeur_critique_grubbs!$A$2:$B$249,2,TRUE),"O","N")))) -> sans_valeur
A143: =biomasses!$A$9 -> 7 | C143: =IF(B143="","",SUMPRODUCT(($A$3:$A$3999=$A143)*B$3:B$3999)/(COUNTIF($A$3:$A$3999,$A143))) | D143: {=IF(COUNTIFS($A$3:$A$3999,$A143,B$3:B$3999,">0")>1,IF(COUNTIF($A$3:$A$3999,$A143)>2,STDEV(IF(($A$3:$A$3999=$A143)*B$3:B$3999<>0,($A$3:$A$3999=$A143)*B$3:B$3999,"")),""),"")} -> 0.11016957 | E143: =IF(OR(B143="",D143=""),"",IF(COUNTIF($A$3:$A$4000,A143)<3,"",ABS(B143-C143)/D143)) | F143: {=IF(E143="","",MAX(IF($A$3:$A$3999=$A143,E$3:E$3999)))} | G143: =IF(B143="","sans_valeur",IF(COUNTIFS($A$3:$A$3999,$A143,B$3:B$3999,">0")<3,"inf_3_analyses",IF(E143<>F143,"N",IF(E143>VLOOKUP(#REF!,valeur_critique_grubbs!$A$2:$B$249,2,TRUE),"O","N")))) -> sans_valeur
A144: =biomasses!$A$9 -> 7 | C144: =IF(B144="","",SUMPRODUCT(($A$3:$A$3999=$A144)*B$3:B$3999)/(COUNTIF($A$3:$A$3999,$A144))) | D144: {=IF(COUNTIFS($A$3:$A$3999,$A144,B$3:B$3999,">0")>1,IF(COUNTIF($A$3:$A$3999,$A144)>2,STDEV(IF(($A$3:$A$3999=$A144)*B$3:B$3999<>0,($A$3:$A$3999=$A144)*B$3:B$3999,"")),""),"")} -> 0.11016957 | E144: =IF(OR(B144="",D144=""),"",IF(COUNTIF($A$3:$A$4000,A144)<3,"",ABS(B144-C144)/D144)) | F144: {=IF(E144="","",MAX(IF($A$3:$A$3999=$A144,E$3:E$3999)))} | G144: =IF(B144="","sans_valeur",IF(COUNTIFS($A$3:$A$3999,$A144,B$3:B$3999,">0")<3,"inf_3_analyses",IF(E144<>F144,"N",IF(E144>VLOOKUP(#REF!,valeur_critique_grubbs!$A$2:$B$249,2,TRUE),"O","N")))) -> sans_valeur
A145: =biomasses!$A$9 -> 7 | C145: =IF(B145="","",SUMPRODUCT(($A$3:$A$3999=$A145)*B$3:B$3999)/(COUNTIF($A$3:$A$3999,$A145))) | D145: {=IF(COUNTIFS($A$3:$A$3999,$A145,B$3:B$3999,">0")>1,IF(COUNTIF($A$3:$A$3999,$A145)>2,STDEV(IF(($A$3:$A$3999=$A145)*B$3:B$3999<>0,($A$3:$A$3999=$A145)*B$3:B$3999,"")),""),"")} -> 0.11016957 | E145: =IF(OR(B145="",D145=""),"",IF(COUNTIF($A$3:$A$4000,A145)<3,"",ABS(B145-C145)/D145)) | F145: {=IF(E145="","",MAX(IF($A$3:$A$3999=$A145,E$3:E$3999)))} | G145: =IF(B145="","sans_valeur",IF(COUNTIFS($A$3:$A$3999,$A145,B$3:B$3999,">0")<3,"inf_3_analyses",IF(E145<>F145,"N",IF(E145>VLOOKUP(#REF!,valeur_critique_grubbs!$A$2:$B$249,2,TRUE),"O","N")))) -> sans_valeur
A146: =biomasses!$A$9 -> 7 | C146: =IF(B146="","",SUMPRODUCT(($A$3:$A$3999=$A146)*B$3:B$3999)/(COUNTIF($A$3:$A$3999,$A146))) | D146: {=IF(COUNTIFS($A$3:$A$3999,$A146,B$3:B$3999,">0")>1,IF(COUNTIF($A$3:$A$3999,$A146)>2,STDEV(IF(($A$3:$A$3999=$A146)*B$3:B$3999<>0,($A$3:$A$3999=$A146)*B$3:B$3999,"")),""),"")} -> 0.11016957 | E146: =IF(OR(B146="",D146=""),"",IF(COUNTIF($A$3:$A$4000,A146)<3,"",ABS(B146-C146)/D146)) | F146: {=IF(E146="","",MAX(IF($A$3:$A$3999=$A146,E$3:E$3999)))} | G146: =IF(B146="","sans_valeur",IF(COUNTIFS($A$3:$A$3999,$A146,B$3:B$3999,">0")<3,"inf_3_analyses",IF(E146<>F146,"N",IF(E146>VLOOKUP(#REF!,valeur_critique_grubbs!$A$2:$B$249,2,TRUE),"O","N")))) -> sans_valeur
A147: =biomasses!$A$9 -> 7 | C147: =IF(B147="","",SUMPRODUCT(($A$3:$A$3999=$A147)*B$3:B$3999)/(COUNTIF($A$3:$A$3999,$A147))) | D147: {=IF(COUNTIFS($A$3:$A$3999,$A147,B$3:B$3999,">0")>1,IF(COUNTIF($A$3:$A$3999,$A147)>2,STDEV(IF(($A$3:$A$3999=$A147)*B$3:B$3999<>0,($A$3:$A$3999=$A147)*B$3:B$3999,"")),""),"")} -> 0.11016957 | E147: =IF(OR(B147="",D147=""),"",IF(COUNTIF($A$3:$A$4000,A147)<3,"",ABS(B147-C147)/D147)) | F147: {=IF(E147="","",MAX(IF($A$3:$A$3999=$A147,E$3:E$3999)))} | G147: =IF(B147="","sans_valeur",IF(COUNTIFS($A$3:$A$3999,$A147,B$3:B$3999,">0")<3,"inf_3_analyses",IF(E147<>F147,"N",IF(E147>VLOOKUP(#REF!,valeur_critique_grubbs!$A$2:$B$249,2,TRUE),"O","N")))) -> sans_valeur
A148: =biomasses!$A$9 -> 7 | C148: =IF(B148="","",SUMPRODUCT(($A$3:$A$3999=$A148)*B$3:B$3999)/(COUNTIF($A$3:$A$3999,$A148))) | D148: {=IF(COUNTIFS($A$3:$A$3999,$A148,B$3:B$3999,">0")>1,IF(COUNTIF($A$3:$A$3999,$A148)>2,STDEV(IF(($A$3:$A$3999=$A148)*B$3:B$3999<>0,($A$3:$A$3999=$A148)*B$3:B$3999,"")),""),"")} -> 0.11016957 | E148: =IF(OR(B148="",D148=""),"",IF(COUNTIF($A$3:$A$4000,A148)<3,"",ABS(B148-C148)/D148)) | F148: {=IF(E148="","",MAX(IF($A$3:$A$3999=$A148,E$3:E$3999)))} | G148: =IF(B148="","sans_valeur",IF(COUNTIFS($A$3:$A$3999,$A148,B$3:B$3999,">0")<3,"inf_3_analyses",IF(E148<>F148,"N",IF(E148>VLOOKUP(#REF!,valeur_critique_grubbs!$A$2:$B$249,2,TRUE),"O","N")))) -> sans_valeur
A149: =biomasses!$A$9 -> 7 | C149: =IF(B149="","",SUMPRODUCT(($A$3:$A$3999=$A149)*B$3:B$3999)/(COUNTIF($A$3:$A$3999,$A149))) | D149: {=IF(COUNTIFS($A$3:$A$3999,$A149,B$3:B$3999,">0")>1,IF(COUNTIF($A$3:$A$3999,$A149)>2,STDEV(IF(($A$3:$A$3999=$A149)*B$3:B$3999<>0,($A$3:$A$3999=$A149)*B$3:B$3999,"")),""),"")} -> 0.11016957 | E149: =IF(OR(B149="",D149=""),"",IF(COUNTIF($A$3:$A$4000,A149)<3,"",ABS(B149-C149)/D149)) | F149: {=IF(E149="","",MAX(IF($A$3:$A$3999=$A149,E$3:E$3999)))} | G149: =IF(B149="","sans_valeur",IF(COUNTIFS($A$3:$A$3999,$A149,B$3:B$3999,">0")<3,"inf_3_analyses",IF(E149<>F149,"N",IF(E149>VLOOKUP(#REF!,valeur_critique_grubbs!$A$2:$B$249,2,TRUE),"O","N")))) -> sans_valeur
A150: =biomasses!$A$9 -> 7 | C150: =IF(B150="","",SUMPRODUCT(($A$3:$A$3999=$A150)*B$3:B$3999)/(COUNTIF($A$3:$A$3999,$A150))) | D150: {=IF(COUNTIFS($A$3:$A$3999,$A150,B$3:B$3999,">0")>1,IF(COUNTIF($A$3:$A$3999,$A150)>2,STDEV(IF(($A$3:$A$3999=$A150)*B$3:B$3999<>0,($A$3:$A$3999=$A150)*B$3:B$3999,"")),""),"")} -> 0.11016957 | E150: =IF(OR(B150="",D150=""),"",IF(COUNTIF($A$3:$A$4000,A150)<3,"",ABS(B150-C150)/D150)) | F150: {=IF(E150="","",MAX(IF($A$3:$A$3999=$A150,E$3:E$3999)))} | G150: =IF(B150="","sans_valeur",IF(COUNTIFS($A$3:$A$3999,$A150,B$3:B$3999,">0")<3,"inf_3_analyses",IF(E150<>F150,"N",IF(E150>VLOOKUP(#REF!,valeur_critique_grubbs!$A$2:$B$249,2,TRUE),"O","N")))) -> sans_valeur
A151: =biomasses!$A$9 -> 7 | C151: =IF(B151="","",SUMPRODUCT(($A$3:$A$3999=$A151)*B$3:B$3999)/(COUNTIF($A$3:$A$3999,$A151))) | D151: {=IF(COUNTIFS($A$3:$A$3999,$A151,B$3:B$3999,">0")>1,IF(COUNTIF($A$3:$A$3999,$A151)>2,STDEV(IF(($A$3:$A$3999=$A151)*B$3:B$3999<>0,($A$3:$A$3999=$A151)*B$3:B$3999,"")),""),"")} -> 0.11016957 | E151: =IF(OR(B151="",D151=""),"",IF(COUNTIF($A$3:$A$4000,A151)<3,"",ABS(B151-C151)/D151)) | F151: {=IF(E151="","",MAX(IF($A$3:$A$3999=$A151,E$3:E$3999)))} | G151: =IF(B151="","sans_valeur",IF(COUNTIFS($A$3:$A$3999,$A151,B$3:B$3999,">0")<3,"inf_3_analyses",IF(E151<>F151,"N",IF(E151>VLOOKUP(#REF!,valeur_critique_grubbs!$A$2:$B$249,2,TRUE),"O","N")))) -> sans_valeur
A152: =biomasses!$A$9 -> 7 | C152: =IF(B152="","",SUMPRODUCT(($A$3:$A$3999=$A152)*B$3:B$3999)/(COUNTIF($A$3:$A$3999,$A152))) | D152: {=IF(COUNTIFS($A$3:$A$3999,$A152,B$3:B$3999,">0")>1,IF(COUNTIF($A$3:$A$3999,$A152)>2,STDEV(IF(($A$3:$A$3999=$A152)*B$3:B$3999<>0,($A$3:$A$3999=$A152)*B$3:B$3999,"")),""),"")} -> 0.11016957 | E152: =IF(OR(B152="",D152=""),"",IF(COUNTIF($A$3:$A$4000,A152)<3,"",ABS(B152-C152)/D152)) | F152: {=IF(E152="","",MAX(IF($A$3:$A$3999=$A152,E$3:E$3999)))} | G152: =IF(B152="","sans_valeur",IF(COUNTIFS($A$3:$A$3999,$A152,B$3:B$3999,">0")<3,"inf_3_analyses",IF(E152<>F152,"N",IF(E152>VLOOKUP(#REF!,valeur_critique_grubbs!$A$2:$B$249,2,TRUE),"O","N")))) -> sans_valeur
... A197: =biomasses!$A$9 -> 7 | C197: =IF(B197="","",SUMPRODUCT(($A$3:$A$3999=$A197)*B$3:B$3999)/(COUNTIF($A$3:$A$3999,$A197))) | D197: {=IF(COUNTIFS($A$3:$A$3999,$A197,B$3:B$3999,">0")>1,IF(COUNTIF($A$3:$A$3999,$A197)>2,STDEV(IF(($A$3:$A$3999=$A197)*B$3:B$3999<>0,($A$3:$A$3999=$A197)*B$3:B$3999,"")),""),"")} -> 0.11016957 | E197: =IF(OR(B197="",D197=""),"",IF(COUNTIF($A$3:$A$4000,A197)<3,"",ABS(B197-C197)/D197)) | F197: {=IF(E197="","",MAX(IF($A$3:$A$3999=$A197,E$3:E$3999)))} | G197: =IF(B197="","sans_valeur",IF(COUNTIFS($A$3:$A$3999,$A197,B$3:B$3999,">0")<3,"inf_3_analyses",IF(E197<>F197,"N",IF(E197>VLOOKUP(#REF!,valeur_critique_grubbs!$A$2:$B$249,2,TRUE),"O","N")))) -> sans_valeur
A198: =biomasses!$A$9 -> 7 | B198: 10.384 | C198: =IF(B198="","",SUMPRODUCT(($A$3:$A$3999=$A198)*B$3:B$3999)/(COUNTIF($A$3:$A$3999,$A198))) -> 0.28304505 | D198: {=IF(COUNTIFS($A$3:$A$3999,$A198,B$3:B$3999,">0")>1,IF(COUNTIF($A$3:$A$3999,$A198)>2,STDEV(IF(($A$3:$A$3999=$A198)*B$3:B$3999<>0,($A$3:$A$3999=$A198)*B$3:B$3999,"")),""),"")} -> 0.11016957 | E198: =IF(OR(B198="",D198=""),"",IF(COUNTIF($A$3:$A$4000,A198)<3,"",ABS(B198-C198)/D198)) -> 91.685529 | F198: {=IF(E198="","",MAX(IF($A$3:$A$3999=$A198,E$3:E$3999)))} -> 93.609835 | G198: =IF(B198="","sans_valeur",IF(COUNTIFS($A$3:$A$3999,$A198,B$3:B$3999,">0")<3,"inf_3_analyses",IF(E198<>F198,"N",IF(E198>VLOOKUP(#REF!,valeur_critique_grubbs!$A$2:$B$249,2,TRUE),"O","N")))) -> N
A199: =biomasses!$A$9 -> 7 | C199: =IF(B199="","",SUMPRODUCT(($A$3:$A$3999=$A199)*B$3:B$3999)/(COUNTIF($A$3:$A$3999,$A199))) | D199: {=IF(COUNTIFS($A$3:$A$3999,$A199,B$3:B$3999,">0")>1,IF(COUNTIF($A$3:$A$3999,$A199)>2,STDEV(IF(($A$3:$A$3999=$A199)*B$3:B$3999<>0,($A$3:$A$3999=$A199)*B$3:B$3999,"")),""),"")} -> 0.11016957 | E199: =IF(OR(B199="",D199=""),"",IF(COUNTIF($A$3:$A$4000,A199)<3,"",ABS(B199-C199)/D199)) | F199: {=IF(E199="","",MAX(IF($A$3:$A$3999=$A199,E$3:E$3999)))} | G199: =IF(B199="","sans_valeur",IF(COUNTIFS($A$3:$A$3999,$A199,B$3:B$3999,">0")<3,"inf_3_analyses",IF(E199<>F199,"N",IF(E199>VLOOKUP(#REF!,valeur_critique_grubbs!$A$2:$B$249,2,TRUE),"O","N")))) -> sans_valeur
A200: =biomasses!$A$9 -> 7 | C200: =IF(B200="","",SUMPRODUCT(($A$3:$A$3999=$A200)*B$3:B$3999)/(COUNTIF($A$3:$A$3999,$A200))) | D200: {=IF(COUNTIFS($A$3:$A$3999,$A200,B$3:B$3999,">0")>1,IF(COUNTIF($A$3:$A$3999,$A200)>2,STDEV(IF(($A$3:$A$3999=$A200)*B$3:B$3999<>0,($A$3:$A$3999=$A200)*B$3:B$3999,"")),""),"")} -> 0.11016957 | E200: =IF(OR(B200="",D200=""),"",IF(COUNTIF($A$3:$A$4000,A200)<3,"",ABS(B200-C200)/D200)) | F200: {=IF(E200="","",MAX(IF($A$3:$A$3999=$A200,E$3:E$3999)))} | G200: =IF(B200="","sans_valeur",IF(COUNTIFS($A$3:$A$3999,$A200,B$3:B$3999,">0")<3,"inf_3_analyses",IF(E200<>F200,"N",IF(E200>VLOOKUP(#REF!,valeur_critique_grubbs!$A$2:$B$249,2,TRUE),"O","N")))) -> sans_valeur
A201: =biomasses!$A$9 -> 7 | C201: =IF(B201="","",SUMPRODUCT(($A$3:$A$3999=$A201)*B$3:B$3999)/(COUNTIF($A$3:$A$3999,$A201))) | D201: {=IF(COUNTIFS($A$3:$A$3999,$A201,B$3:B$3999,">0")>1,IF(COUNTIF($A$3:$A$3999,$A201)>2,STDEV(IF(($A$3:$A$3999=$A201)*B$3:B$3999<>0,($A$3:$A$3999=$A201)*B$3:B$3999,"")),""),"")} -> 0.11016957 | E201: =IF(OR(B201="",D201=""),"",IF(COUNTIF($A$3:$A$4000,A201)<3,"",ABS(B201-C201)/D201)) | F201: {=IF(E201="","",MAX(IF($A$3:$A$3999=$A201,E$3:E$3999)))} | G201: =IF(B201="","sans_valeur",IF(COUNTIFS($A$3:$A$3999,$A201,B$3:B$3999,">0")<3,"inf_3_analyses",IF(E201<>F201,"N",IF(E201>VLOOKUP(#REF!,valeur_critique_grubbs!$A$2:$B$249,2,TRUE),"O","N")))) -> sans_valeur
A202: =biomasses!$A$9 -> 7 | C202: =IF(B202="","",SUMPRODUCT(($A$3:$A$3999=$A202)*B$3:B$3999)/(COUNTIF($A$3:$A$3999,$A202))) | D202: {=IF(COUNTIFS($A$3:$A$3999,$A202,B$3:B$3999,">0")>1,IF(COUNTIF($A$3:$A$3999,$A202)>2,STDEV(IF(($A$3:$A$3999=$A202)*B$3:B$3999<>0,($A$3:$A$3999=$A202)*B$3:B$3999,"")),""),"")} -> 0.11016957 | E202: =IF(OR(B202="",D202=""),"",IF(COUNTIF($A$3:$A$4000,A202)<3,"",ABS(B202-C202)/D202)) | F202: {=IF(E202="","",MAX(IF($A$3:$A$3999=$A202,E$3:E$3999)))} | G202: =IF(B202="","sans_valeur",IF(COUNTIFS($A$3:$A$3999,$A202,B$3:B$3999,">0")<3,"inf_3_analyses",IF(E202<>F202,"N",IF(E202>VLOOKUP(#REF!,valeur_critique_grubbs!$A$2:$B$249,2,TRUE),"O","N")))) -> sans_valeur
A203: =biomasses!$A$9 -> 7 | C203: =IF(B203="","",SUMPRODUCT(($A$3:$A$3999=$A203)*B$3:B$3999)/(COUNTIF($A$3:$A$3999,$A203))) | D203: {=IF(COUNTIFS($A$3:$A$3999,$A203,B$3:B$3999,">0")>1,IF(COUNTIF($A$3:$A$3999,$A203)>2,STDEV(IF(($A$3:$A$3999=$A203)*B$3:B$3999<>0,($A$3:$A$3999=$A203)*B$3:B$3999,"")),""),"")} -> 0.11016957 | E203: =IF(OR(B203="",D203=""),"",IF(COUNTIF($A$3:$A$4000,A203)<3,"",ABS(B203-C203)/D203)) | F203: {=IF(E203="","",MAX(IF($A$3:$A$3999=$A203,E$3:E$3999)))} | G203: =IF(B203="","sans_valeur",IF(COUNTIFS($A$3:$A$3999,$A203,B$3:B$3999,">0")<3,"inf_3_analyses",IF(E203<>F203,"N",IF(E203>VLOOKUP(#REF!,valeur_critique_grubbs!$A$2:$B$249,2,TRUE),"O","N")))) -> sans_valeur
A204: =biomasses!$A$9 -> 7 | C204: =IF(B204="","",SUMPRODUCT(($A$3:$A$3999=$A204)*B$3:B$3999)/(COUNTIF($A$3:$A$3999,$A204))) | D204: {=IF(COUNTIFS($A$3:$A$3999,$A204,B$3:B$3999,">0")>1,IF(COUNTIF($A$3:$A$3999,$A204)>2,STDEV(IF(($A$3:$A$3999=$A204)*B$3:B$3999<>0,($A$3:$A$3999=$A204)*B$3:B$3999,"")),""),"")} -> 0.11016957 | E204: =IF(OR(B204="",D204=""),"",IF(COUNTIF($A$3:$A$4000,A204)<3,"",ABS(B204-C204)/D204)) | F204: {=IF(E204="","",MAX(IF($A$3:$A$3999=$A204,E$3:E$3999)))} | G204: =IF(B204="","sans_valeur",IF(COUNTIFS($A$3:$A$3999,$A204,B$3:B$3999,">0")<3,"inf_3_analyses",IF(E204<>F204,"N",IF(E204>VLOOKUP(#REF!,valeur_critique_grubbs!$A$2:$B$249,2,TRUE),"O","N")))) -> sans_valeur
A205: =biomasses!$A$9 -> 7 | C205: =IF(B205="","",SUMPRODUCT(($A$3:$A$3999=$A205)*B$3:B$3999)/(COUNTIF($A$3:$A$3999,$A205))) | D205: {=IF(COUNTIFS($A$3:$A$3999,$A205,B$3:B$3999,">0")>1,IF(COUNTIF($A$3:$A$3999,$A205)>2,STDEV(IF(($A$3:$A$3999=$A205)*B$3:B$3999<>0,($A$3:$A$3999=$A205)*B$3:B$3999,"")),""),"")} -> 0.11016957 | E205: =IF(OR(B205="",D205=""),"",IF(COUNTIF($A$3:$A$4000,A205)<3,"",ABS(B205-C205)/D205)) | F205: {=IF(E205="","",MAX(IF($A$3:$A$3999=$A205,E$3:E$3999)))} | G205: =IF(B205="","sans_valeur",IF(COUNTIFS($A$3:$A$3999,$A205,B$3:B$3999,">0")<3,"inf_3_analyses",IF(E205<>F205,"N",IF(E205>VLOOKUP(#REF!,valeur_critique_grubbs!$A$2:$B$249,2,TRUE),"O","N")))) -> sans_valeur
A206: =biomasses!$A$9 -> 7 | C206: =IF(B206="","",SUMPRODUCT(($A$3:$A$3999=$A206)*B$3:B$3999)/(COUNTIF($A$3:$A$3999,$A206))) | D206: {=IF(COUNTIFS($A$3:$A$3999,$A206,B$3:B$3999,">0")>1,IF(COUNTIF($A$3:$A$3999,$A206)>2,STDEV(IF(($A$3:$A$3999=$A206)*B$3:B$3999<>0,($A$3:$A$3999=$A206)*B$3:B$3999,"")),""),"")} -> 0.11016957 | E206: =IF(OR(B206="",D206=""),"",IF(COUNTIF($A$3:$A$4000,A206)<3,"",ABS(B206-C206)/D206)) | F206: {=IF(E206="","",MAX(IF($A$3:$A$3999=$A206,E$3:E$3999)))} | G206: =IF(B206="","sans_valeur",IF(COUNTIFS($A$3:$A$3999,$A206,B$3:B$3999,">0")<3,"inf_3_analyses",IF(E206<>F206,"N",IF(E206>VLOOKUP(#REF!,valeur_critique_grubbs!$A$2:$B$249,2,TRUE),"O","N")))) -> sans_valeur
A207: =biomasses!$A$9 -> 7 | C207: =IF(B207="","",SUMPRODUCT(($A$3:$A$3999=$A207)*B$3:B$3999)/(COUNTIF($A$3:$A$3999,$A207))) | D207: {=IF(COUNTIFS($A$3:$A$3999,$A207,B$3:B$3999,">0")>1,IF(COUNTIF($A$3:$A$3999,$A207)>2,STDEV(IF(($A$3:$A$3999=$A207)*B$3:B$3999<>0,($A$3:$A$3999=$A207)*B$3:B$3999,"")),""),"")} -> 0.11016957 | E207: =IF(OR(B207="",D207=""),"",IF(COUNTIF($A$3:$A$4000,A207)<3,"",ABS(B207-C207)/D207)) | F207: {=IF(E207="","",MAX(IF($A$3:$A$3999=$A207,E$3:E$3999)))} | G207: =IF(B207="","sans_valeur",IF(COUNTIFS($A$3:$A$3999,$A207,B$3:B$3999,">0")<3,"inf_3_analyses",IF(E207<>F207,"N",IF(E207>VLOOKUP(#REF!,valeur_critique_grubbs!$A$2:$B$249,2,TRUE),"O","N")))) -> sans_valeur
A208: =biomasses!$A$9 -> 7 | C208: =IF(B208="","",SUMPRODUCT(($A$3:$A$3999=$A208)*B$3:B$3999)/(COUNTIF($A$3:$A$3999,$A208))) | D208: {=IF(COUNTIFS($A$3:$A$3999,$A208,B$3:B$3999,">0")>1,IF(COUNTIF($A$3:$A$3999,$A208)>2,STDEV(IF(($A$3:$A$3999=$A208)*B$3:B$3999<>0,($A$3:$A$3999=$A208)*B$3:B$3999,"")),""),"")} -> 0.11016957 | E208: =IF(OR(B208="",D208=""),"",IF(COUNTIF($A$3:$A$4000,A208)<3,"",ABS(B208-C208)/D208)) | F208: {=IF(E208="","",MAX(IF($A$3:$A$3999=$A208,E$3:E$3999)))} | G208: =IF(B208="","sans_valeur",IF(COUNTIFS($A$3:$A$3999,$A208,B$3:B$3999,">0")<3,"inf_3_analyses",IF(E208<>F208,"N",IF(E208>VLOOKUP(#REF!,valeur_critique_grubbs!$A$2:$B$249,2,TRUE),"O","N")))) -> sans_valeur
A209: =biomasses!$A$9 -> 7 | C209: =IF(B209="","",SUMPRODUCT(($A$3:$A$3999=$A209)*B$3:B$3999)/(COUNTIF($A$3:$A$3999,$A209))) | D209: {=IF(COUNTIFS($A$3:$A$3999,$A209,B$3:B$3999,">0")>1,IF(COUNTIF($A$3:$A$3999,$A209)>2,STDEV(IF(($A$3:$A$3999=$A209)*B$3:B$3999<>0,($A$3:$A$3999=$A209)*B$3:B$3999,"")),""),"")} -> 0.11016957 | E209: =IF(OR(B209="",D209=""),"",IF(COUNTIF($A$3:$A$4000,A209)<3,"",ABS(B209-C209)/D209)) | F209: {=IF(E209="","",MAX(IF($A$3:$A$3999=$A209,E$3:E$3999)))} | G209: =IF(B209="","sans_valeur",IF(COUNTIFS($A$3:$A$3999,$A209,B$3:B$3999,">0")<3,"inf_3_analyses",IF(E209<>F209,"N",IF(E209>VLOOKUP(#REF!,valeur_critique_grubbs!$A$2:$B$249,2,TRUE),"O","N")))) -> sans_valeur
A210: =biomasses!$A$9 -> 7 | C210: =IF(B210="","",SUMPRODUCT(($A$3:$A$3999=$A210)*B$3:B$3999)/(COUNTIF($A$3:$A$3999,$A210))) | D210: {=IF(COUNTIFS($A$3:$A$3999,$A210,B$3:B$3999,">0")>1,IF(COUNTIF($A$3:$A$3999,$A210)>2,STDEV(IF(($A$3:$A$3999=$A210)*B$3:B$3999<>0,($A$3:$A$3999=$A210)*B$3:B$3999,"")),""),"")} -> 0.11016957 | E210: =IF(OR(B210="",D210=""),"",IF(COUNTIF($A$3:$A$4000,A210)<3,"",ABS(B210-C210)/D210)) | F210: {=IF(E210="","",MAX(IF($A$3:$A$3999=$A210,E$3:E$3999)))} | G210: =IF(B210="","sans_valeur",IF(COUNTIFS($A$3:$A$3999,$A210,B$3:B$3999,">0")<3,"inf_3_analyses",IF(E210<>F210,"N",IF(E210>VLOOKUP(#REF!,valeur_critique_grubbs!$A$2:$B$249,2,TRUE),"O","N")))) -> sans_valeur
... A218: =biomasses!$A$9 -> 7 | C218: =IF(B218="","",SUMPRODUCT(($A$3:$A$3999=$A218)*B$3:B$3999)/(COUNTIF($A$3:$A$3999,$A218))) | D218: {=IF(COUNTIFS($A$3:$A$3999,$A218,B$3:B$3999,">0")>1,IF(COUNTIF($A$3:$A$3999,$A218)>2,STDEV(IF(($A$3:$A$3999=$A218)*B$3:B$3999<>0,($A$3:$A$3999=$A218)*B$3:B$3999,"")),""),"")} -> 0.11016957 | E218: =IF(OR(B218="",D218=""),"",IF(COUNTIF($A$3:$A$4000,A218)<3,"",ABS(B218-C218)/D218)) | F218: {=IF(E218="","",MAX(IF($A$3:$A$3999=$A218,E$3:E$3999)))} | G218: =IF(B218="","sans_valeur",IF(COUNTIFS($A$3:$A$3999,$A218,B$3:B$3999,">0")<3,"inf_3_analyses",IF(E218<>F218,"N",IF(E218>VLOOKUP(#REF!,valeur_critique_grubbs!$A$2:$B$249,2,TRUE),"O","N")))) -> sans_valeur
...

Sheet valeur_critique_grubbs
A1: N | B1: CriticalZ 5% | D1: Valeurs critiques pour le test de Grubbs. Si Z est plus grand que la valeur du tableau, P est inférieur à 0,05
A2: 3 | B2: 1.15 | D2: "These are two tailed P values" (test bilatéral)
A3: 4 | B3: 1.48
A4: 5 | B4: 1.71
A5: 6 | B5: 1.89
A6: 7 | B6: 2.02
A7: 8 | B7: 2.13
A8: 9 | B8: 2.21
A9: 10 | B9: 2.29
A10: 11 | B10: 2.34
A11: 12 | B11: 2.41
A12: 13 | B12: 2.46
A13: 14 | B13: 2.51
A14: 15 | B14: 2.55
... A39: 40 | B39: 3.036
A40: 41
A41: 42
A42: 43
A43: 44
A44: 45
A45: 46
A46: 47
A47: 48
A48: 49
A49: 50 | B49: 3.128
A50: 51
A51: 52
A52: 53
A53: 54
A54: 55
A55: 56
A56: 57
A57: 58
A58: 59
A59: 60 | B59: 3.199
A60: 61
A61: 62
A62: 63
A63: 64
A64: 65
A65: 66
A66: 67
A67: 68
A68: 69
A69: 70 | B69: 3.257
A70: 71
A71: 72
A72: 73
A73: 74
A74: 75
A75: 76
A76: 77
A77: 78
A78: 79
A79: 80 | B79: 3.305
A80: 81
A81: 82
A82: 83
A83: 84
A84: 85
A85: 86
A86: 87
A87: 88
A88: 89
A89: 90 | B89: 3.347
A90: 91
A91: 92
A92: 93
A93: 94
A94: 95
A95: 96
A96: 97
A97: 98
A98: 99
A99: 100 | B99: 3.383
A100: 101
A101: 102
A102: 103
A103: 104
A104: 105
A105: 106
A106: 107
A107: 108
A108: 109
A109: 110 | B109: 3.415
A110: 111
A111: 112
A112: 113
A113: 114
A114: 115
A115: 116
A116: 117
A117: 118
A118: 119
A119: 120 | B119: 3.444
A120: 121
A121: 122
A122: 123
A123: 124
A124: 125
...
