Workbook

Sheet A LIRE
A1: Code couleur | B1: Valeurs brutes
B2: Valeurs calculées
A3: Test de Grubbs | B3: Dans la colonne des valeurs d'analyses ("valeur_analyse") il ne faut pas mettre de formule. Sinon les formules des autres colonnes ne fonctionnent pas. Une cellule sans valeur dois être vide. Donc si besoin de reprendre des valeurs d'une autre colonne faire copier et coller les valeurs.
B4: Dans le calcul de l'écart type (SD) et du Z_max dans la table des analyses (colonnes indiquées avec *) : il s'agit de formules matricielles à valider avec Ctrl + MAJ + ENTREE. Puis double clic en bas à gauche de la cellule pour dérouler la formule automatiquement.
B5: Le tableau des valeurs critiques de Grubbs (onglet "valeur_critique_Gruubs") s'arrête à n = 40. HORS pour certaines biomasses le nombre d'analyses dépassent 40
B6: Si l'ecart type (SD) est égal à 0 la formule pour caluler le Z ne fonctionne pas (divison par 0 impossible). --> Formule du Z à modifier si cela arrive.
B7: Resultat GRUBBS : sans_valeur : pas de valeur pour la ligne inf_3_analyses : test non possible car n = 1 ou n = 2 O : valeur aberrante N : valeur non abberrante

Sheet biomasses
A2: id | B2: biomasse | C2: total_nb_biomasses_analysées
A3: 1 | B3: bagasse | C3: =COUNTIF(analyses!$A$3:$A$4000,biomasses!A3) -> 3
A4: 2 | B4: boue de STEU granulée chaulée | C4: =COUNTIF(analyses!$A$3:$A$4000,biomasses!A4) -> 46
A5: 3 | B5: boue de STEU liquide | C5: =COUNTIF(analyses!$A$3:$A$4000,biomasses!A5) -> 3
A6: 4 | B6: boue de STEU pâteuse | C6: =COUNTIF(analyses!$A$3:$A$4000,biomasses!A6) -> 10
A7: 5 | B7: boue de STEU solide | C7: =COUNTIF(analyses!$A$3:$A$4000,biomasses!A7) -> 37
A8: 6 | B8: boue de STEU solide sèche | C8: =COUNTIF(analyses!$A$3:$A$4000,biomasses!A8) -> 6
A9: 7 | B9: broyats de DV | C9: =COUNTIF(analyses!$A$3:$A$4000,biomasses!A9) -> 111
A10: 8 | B10: cendre de bagasse | C10: =COUNTIF(analyses!$A$3:$A$4000,biomasses!A10) -> 4
A11: 9 | B11: compost de DV | C11: =COUNTIF(analyses!$A$3:$A$4000,biomasses!A11) -> 81
A12: 10 | B12: compost de fumier de bovin | C12: =COUNTIF(analyses!$A$3:$A$4000,biomasses!A12) -> 134
A13: 11 | B13: compost de fumier de poulet de chair (litière cryptomeria) | C13: =COUNTIF(analyses!$A$3:$A$4000,biomasses!A13) -> 27
A14: 12 | B14: compost de litière de volaille+fientes de poules pondeuses+refus centrifugation lisier de porc | C14: =COUNTIF(analyses!$A$3:$A$4000,biomasses!A14) -> 34
... A37: 35 | B37: vinasse brute | C37: =COUNTIF(analyses!$A$3:$A$4000,biomasses!A37) -> 59

Sheet analyses
B1: 1 . … en … par …
A2: id_biomasse | B2: Valeur_analyse | C2: moyenne_biomasse_même_type | D2: SD_biomasse_meme_type* | E2: Zvalue_analyse | F2: Zmax_biomasse_mêm_type* | G2: valeur_aberrante_selon_GRUBBS 5%
A3: =biomasses!A3 -> 1 | C3: =IF(B3="","",SUMPRODUCT(($A$3:$A$3999=$A3)*B$3:B$3999)/(COUNTIF($A$3:$A$3999,$A3))) | D3: {=IF(COUNTIFS($A$3:$A$3999,$A3,B$3:B$3999,">0")>1,IF(COUNTIF($A$3:$A$3999,$A3)>2,STDEV(IF(($A$3:$A$3999=$A3)*B$3:B$3999<>0,($A$3:$A$3999=$A3)*B$3:B$3999,"")),""),"")} | E3: =IF(OR(B3="",D3=""),"",IF(COUNTIF($A$3:$A$4000,A3)<3,"",ABS(B3-C3)/D3)) | F3: =IF(E3="","",MAX(IF($A$3:$A$3999=$A3,E$3:E$3999))) | G3: =IF(B3="","sans_valeur",IF(COUNTIFS($A$3:$A$3999,$A3,B$3:B$3999,">0")<3,"inf_3_analyses",IF(E3<>F3,"N",IF(E3>VLOOKUP(#REF!,valeur_critique_grubbs!$A$2:$B$249,2,TRUE),"O","N")))) -> sans_valeur
A4: =biomasses!A3 -> 1 | C4: =IF(B4="","",SUMPRODUCT(($A$3:$A$3999=$A4)*B$3:B$3999)/(COUNTIF($A$3:$A$3999,$A4))) | D4: {=IF(COUNTIFS($A$3:$A$3999,$A4,B$3:B$3999,">0")>1,IF(COUNTIF($A$3:$A$3999,$A4)>2,STDEV(IF(($A$3:$A$3999=$A4)*B$3:B$3999<>0,($A$3:$A$3999=$A4)*B$3:B$3999,"")),""),"")} | E4: =IF(OR(B4="",D4=""),"",IF(COUNTIF($A$3:$A$4000,A4)<3,"",ABS(B4-C4)/D4)) | F4: {=IF(E4="","",MAX(IF($A$3:$A$3999=$A4,E$3:E$3999)))} | G4: =IF(B4="","sans_valeur",IF(COUNTIFS($A$3:$A$3999,$A4,B$3:B$3999,">0")<3,"inf_3_analyses",IF(E4<>F4,"N",IF(E4>VLOOKUP(#REF!,valeur_critique_grubbs!$A$2:$B$249,2,TRUE),"O","N")))) -> sans_valeur
A5: =biomasses!A3 -> 1 | C5: =IF(B5="","",SUMPRODUCT(($A$3:$A$3999=$A5)*B$3:B$3999)/(COUNTIF($A$3:$A$3999,$A5))) | D5: {=IF(COUNTIFS($A$3:$A$3999,$A5,B$3:B$3999,">0")>1,IF(COUNTIF($A$3:$A$3999,$A5)>2,STDEV(IF(($A$3:$A$3999=$A5)*B$3:B$3999<>0,($A$3:$A$3999=$A5)*B$3:B$3999,"")),""),"")} | E5: =IF(OR(B5="",D5=""),"",IF(COUNTIF($A$3:$A$4000,A5)<3,"",ABS(B5-C5)/D5)) | F5: {=IF(E5="","",MAX(IF($A$3:$A$3999=$A5,E$3:E$3999)))} | G5: =IF(B5="","sans_valeur",IF(COUNTIFS($A$3:$A$3999,$A5,B$3:B$3999,">0")<3,"inf_3_analyses",IF(E5<>F5,"N",IF(E5>VLOOKUP(#REF!,valeur_critique_grubbs!$A$2:$B$249,2,TRUE),"O","N")))) -> sans_valeur
A6: =biomasses!$A$4 -> 2 | B6: 42.589 | C6: =IF(B6="","",SUMPRODUCT(($A$3:$A$3999=$A6)*B$3:B$3999)/(COUNTIF($A$3:$A$3999,$A6))) -> 48.093087 | D6: {=IF(COUNTIFS($A$3:$A$3999,$A6,B$3:B$3999,">0")>1,IF(COUNTIF($A$3:$A$3999,$A6)>2,STDEV(IF(($A$3:$A$3999=$A6)*B$3:B$3999<>0,($A$3:$A$3999=$A6)*B$3:B$3999,"")),""),"")} -> 3.1798113 | E6: =IF(OR(B6="",D6=""),"",IF(COUNTIF($A$3:$A$4000,A6)<3,"",ABS(B6-C6)/D6)) -> 1.7309477 | F6: {=IF(E6="","",MAX(IF($A$3:$A$3999=$A6,E$3:E$3999)))} -> 2.2529366 | G6: =IF(B6="","sans_valeur",IF(COUNTIFS($A$3:$A$3999,$A6,B$3:B$3999,">0")<3,"inf_3_analyses",IF(E6<>F6,"N",IF(E6>VLOOKUP(#REF!,valeur_critique_grubbs!$A$2:$B$249,2,TRUE),"O","N")))) -> N
A7: =biomasses!$A$4 -> 2 | B7: 44.24 | C7: =IF(B7="","",SUMPRODUCT(($A$3:$A$3999=$A7)*B$3:B$3999)/(COUNTIF($A$3:$A$3999,$A7))) -> 48.093087 | D7: {=IF(COUNTIFS($A$3:$A$3999,$A7,B$3:B$3999,">0")>1,IF(COUNTIF($A$3:$A$3999,$A7)>2,STDEV(IF(($A$3:$A$3999=$A7)*B$3:B$3999<>0,($A$3:$A$3999=$A7)*B$3:B$3999,"")),""),"")} -> 3.1798113 | E7: =IF(OR(B7="",D7=""),"",IF(COUNTIF($A$3:$A$4000,A7)<3,"",ABS(B7-C7)/D7)) -> 1.2117345 | F7: {=IF(E7="","",MAX(IF($A$3:$A$3999=$A7,E$3:E$3999)))} -> 2.2529366 | G7: =IF(B7="","sans_valeur",IF(COUNTIFS($A$3:$A$3999,$A7,B$3:B$3999,">0")<3,"inf_3_analyses",IF(E7<>F7,"N",IF(E7>VLOOKUP(#REF!,valeur_critique_grubbs!$A$2:$B$249,2,TRUE),"O","N")))) -> N
A8: =biomasses!$A$4 -> 2 | B8: 52.769 | C8: =IF(B8="","",SUMPRODUCT(($A$3:$A$3999=$A8)*B$3:B$3999)/(COUNTIF($A$3:$A$3999,$A8))) -> 48.093087 | D8: {=IF(COUNTIFS($A$3:$A$3999,$A8,B$3:B$3999,">0")>1,IF(COUNTIF($A$3:$A$3999,$A8)>2,STDEV(IF(($A$3:$A$3999=$A8)*B$3:B$3999<>0,($A$3:$A$3999=$A8)*B$3:B$3999,"")),""),"")} -> 3.1798113 | E8: =IF(OR(B8="",D8=""),"",IF(COUNTIF($A$3:$A$4000,A8)<3,"",ABS(B8-C8)/D8)) -> 1.4705002 | F8: {=IF(E8="","",MAX(IF($A$3:$A$3999=$A8,E$3:E$3999)))} -> 2.2529366 | G8: =IF(B8="","sans_valeur",IF(COUNTIFS($A$3:$A$3999,$A8,B$3:B$3999,">0")<3,"inf_3_analyses",IF(E8<>F8,"N",IF(E8>VLOOKUP(#REF!,valeur_critique_grubbs!$A$2:$B$249,2,TRUE),"O","N")))) -> N
A9: =biomasses!$A$4 -> 2 | B9: 52.899 | C9: =IF(B9="","",SUMPRODUCT(($A$3:$A$3999=$A9)*B$3:B$3999)/(COUNTIF($A$3:$A$3999,$A9))) -> 48.093087 | D9: {=IF(COUNTIFS($A$3:$A$3999,$A9,B$3:B$3999,">0")>1,IF(COUNTIF($A$3:$A$3999,$A9)>2,STDEV(IF(($A$3:$A$3999=$A9)*B$3:B$3999<>0,($A$3:$A$3999=$A9)*B$3:B$3999,"")),""),"")} -> 3.1798113 | E9: =IF(OR(B9="",D9=""),"",IF(COUNTIF($A$3:$A$4000,A9)<3,"",ABS(B9-C9)/D9)) -> 1.5113831 | F9: {=IF(E9="","",MAX(IF($A$3:$A$3999=$A9,E$3:E$3999)))} -> 2.2529366 | G9: =IF(B9="","sans_valeur",IF(COUNTIFS($A$3:$A$3999,$A9,B$3:B$3999,">0")<3,"inf_3_analyses",IF(E9<>F9,"N",IF(E9>VLOOKUP(#REF!,valeur_critique_grubbs!$A$2:$B$249,2,TRUE),"O","N")))) -> N
A10: =biomasses!$A$4 -> 2 | B10: 50.458 | C10: =IF(B10="","",SUMPRODUCT(($A$3:$A$3999=$A10)*B$3:B$3999)/(COUNTIF($A$3:$A$3999,$A10))) -> 48.093087 | D10: {=IF(COUNTIFS($A$3:$A$3999,$A10,B$3:B$3999,">0")>1,IF(COUNTIF($A$3:$A$3999,$A10)>2,STDEV(IF(($A$3:$A$3999=$A10)*B$3:B$3999<>0,($A$3:$A$3999=$A10)*B$3:B$3999,"")),""),"")} -> 3.1798113 | E10: =IF(OR(B10="",D10=""),"",IF(COUNTIF($A$3:$A$4000,A10)<3,"",ABS(B10-C10)/D10)) -> 0.74372749 | F10: {=IF(E10="","",MAX(IF($A$3:$A$3999=$A10,E$3:E$3999)))} -> 2.2529366 | G10: =IF(B10="","sans_valeur",IF(COUNTIFS($A$3:$A$3999,$A10,B$3:B$3999,">0")<3,"inf_3_analyses",IF(E10<>F10,"N",IF(E10>VLOOKUP(#REF!,valeur_critique_grubbs!$A$2:$B$249,2,TRUE),"O","N")))) -> N
A11: =biomasses!$A$4 -> 2 | B11: 41.006 | C11: =IF(B11="","",SUMPRODUCT(($A$3:$A$3999=$A11)*B$3:B$3999)/(COUNTIF($A$3:$A$3999,$A11))) -> 48.093087 | D11: {=IF(COUNTIFS($A$3:$A$3999,$A11,B$3:B$3999,">0")>1,IF(COUNTIF($A$3:$A$3999,$A11)>2,STDEV(IF(($A$3:$A$3999=$A11)*B$3:B$3999<>0,($A$3:$A$3999=$A11)*B$3:B$3999,"")),""),"")} -> 3.1798113 | E11: =IF(OR(B11="",D11=""),"",IF(COUNTIF($A$3:$A$4000,A11)<3,"",ABS(B11-C11)/D11)) -> 2.228776 | F11: {=IF(E11="","",MAX(IF($A$3:$A$3999=$A11,E$3:E$3999)))} -> 2.2529366 | G11: =IF(B11="","sans_valeur",IF(COUNTIFS($A$3:$A$3999,$A11,B$3:B$3999,">0")<3,"inf_3_analyses",IF(E11<>F11,"N",IF(E11>VLOOKUP(#REF!,valeur_critique_grubbs!$A$2:$B$249,2,TRUE),"O","N")))) -> N
A12: =biomasses!$A$4 -> 2 | B12: 44.253 | C12: =IF(B12="","",SUMPRODUCT(($A$3:$A$3999=$A12)*B$3:B$3999)/(COUNTIF($A$3:$A$3999,$A12))) -> 48.093087 | D12: {=IF(COUNTIFS($A$3:$A$3999,$A12,B$3:B$3999,">0")>1,IF(COUNTIF($A$3:$A$3999,$A12)>2,STDEV(IF(($A$3:$A$3999=$A12)*B$3:B$3999<>0,($A$3:$A$3999=$A12)*B$3:B$3999,"")),""),"")} -> 3.1798113 | E12: =IF(OR(B12="",D12=""),"",IF(COUNTIF($A$3:$A$4000,A12)<3,"",ABS(B12-C12)/D12)) -> 1.2076462 | F12: {=IF(E12="","",MAX(IF($A$3:$A$3999=$A12,E$3:E$3999)))} -> 2.2529366 | G12: =IF(B12="","sans_valeur",IF(COUNTIFS($A$3:$A$3999,$A12,B$3:B$3999,">0")<3,"inf_3_analyses",IF(E12<>F12,"N",IF(E12>VLOOKUP(#REF!,valeur_critique_grubbs!$A$2:$B$249,2,TRUE),"O","N")))) -> N
A13: =biomasses!$A$4 -> 2 | B13: 44.599 | C13: =IF(B13="","",SUMPRODUCT(($A$3:$A$3999=$A13)*B$3:B$3999)/(COUNTIF($A$3:$A$3999,$A13))) -> 48.093087 | D13: {=IF(COUNTIFS($A$3:$A$3999,$A13,B$3:B$3999,">0")>1,IF(COUNTIF($A$3:$A$3999,$A13)>2,STDEV(IF(($A$3:$A$3999=$A13)*B$3:B$3999<>0,($A$3:$A$3999=$A13)*B$3:B$3999,"")),""),"")} -> 3.1798113 | E13: =IF(OR(B13="",D13=""),"",IF(COUNTIF($A$3:$A$4000,A13)<3,"",ABS(B13-C13)/D13)) -> 1.0988347 | F13: {=IF(E13="","",MAX(IF($A$3:$A$3999=$A13,E$3:E$3999)))} -> 2.2529366 | G13: =IF(B13="","sans_valeur",IF(COUNTIFS($A$3:$A$3999,$A13,B$3:B$3999,">0")<3,"inf_3_analyses",IF(E13<>F13,"N",IF(E13>VLOOKUP(#REF!,valeur_critique_grubbs!$A$2:$B$249,2,TRUE),"O","N")))) -> N
A14: =biomasses!$A$4 -> 2 | B14: 43.49 | C14: =IF(B14="","",SUMPRODUCT(($A$3:$A$3999=$A14)*B$3:B$3999)/(COUNTIF($A$3:$A$3999,$A14))) -> 48.093087 | D14: {=IF(COUNTIFS($A$3:$A$3999,$A14,B$3:B$3999,">0")>1,IF(COUNTIF($A$3:$A$3999,$A14)>2,STDEV(IF(($A$3:$A$3999=$A14)*B$3:B$3999<>0,($A$3:$A$3999=$A14)*B$3:B$3999,"")),""),"")} -> 3.1798113 | E14: =IF(OR(B14="",D14=""),"",IF(COUNTIF($A$3:$A$4000,A14)<3,"",ABS(B14-C14)/D14)) -> 1.4475975 | F14: {=IF(E14="","",MAX(IF($A$3:$A$3999=$A14,E$3:E$3999)))} -> 2.2529366 | G14: =IF(B14="","sans_valeur",IF(COUNTIFS($A$3:$A$3999,$A14,B$3:B$3999,">0")<3,"inf_3_analyses",IF(E14<>F14,"N",IF(E14>VLOOKUP(#REF!,valeur_critique_grubbs!$A$2:$B$249,2,TRUE),"O","N")))) -> N
A15: =biomasses!$A$4 -> 2 | B15: 44.121 | C15: =IF(B15="","",SUMPRODUCT(($A$3:$A$3999=$A15)*B$3:B$3999)/(COUNTIF($A$3:$A$3999,$A15))) -> 48.093087 | D15: {=IF(COUNTIFS($A$3:$A$3999,$A15,B$3:B$3999,">0")>1,IF(COUNTIF($A$3:$A$3999,$A15)>2,STDEV(IF(($A$3:$A$3999=$A15)*B$3:B$3999<>0,($A$3:$A$3999=$A15)*B$3:B$3999,"")),""),"")} -> 3.1798113 | E15: =IF(OR(B15="",D15=""),"",IF(COUNTIF($A$3:$A$4000,A15)<3,"",ABS(B15-C15)/D15)) -> 1.2491581 | F15: {=IF(E15="","",MAX(IF($A$3:$A$3999=$A15,E$3:E$3999)))} -> 2.2529366 | G15: =IF(B15="","sans_valeur",IF(COUNTIFS($A$3:$A$3999,$A15,B$3:B$3999,">0")<3,"inf_3_analyses",IF(E15<>F15,"N",IF(E15>VLOOKUP(#REF!,valeur_critique_grubbs!$A$2:$B$249,2,TRUE),"O","N")))) -> N
A16: =biomasses!$A$4 -> 2 | B16: 44.596 | C16: =IF(B16="","",SUMPRODUCT(($A$3:$A$3999=$A16)*B$3:B$3999)/(COUNTIF($A$3:$A$3999,$A16))) -> 48.093087 | D16: {=IF(COUNTIFS($A$3:$A$3999,$A16,B$3:B$3999,">0")>1,IF(COUNTIF($A$3:$A$3999,$A16)>2,STDEV(IF(($A$3:$A$3999=$A16)*B$3:B$3999<>0,($A$3:$A$3999=$A16)*B$3:B$3999,"")),""),"")} -> 3.1798113 | E16: =IF(OR(B16="",D16=""),"",IF(COUNTIF($A$3:$A$4000,A16)<3,"",ABS(B16-C16)/D16)) -> 1.0997782 | F16: {=IF(E16="","",MAX(IF($A$3:$A$3999=$A16,E$3:E$3999)))} -> 2.2529366 | G16: =IF(B16="","sans_valeur",IF(COUNTIFS($A$3:$A$3999,$A16,B$3:B$3999,">0")<3,"inf_3_analyses",IF(E16<>F16,"N",IF(E16>VLOOKUP(#REF!,valeur_critique_grubbs!$A$2:$B$249,2,TRUE),"O","N")))) -> N
A17: =biomasses!$A$4 -> 2 | B17: 45.66 | C17: =IF(B17="","",SUMPRODUCT(($A$3:$A$3999=$A17)*B$3:B$3999)/(COUNTIF($A$3:$A$3999,$A17))) -> 48.093087 | D17: {=IF(COUNTIFS($A$3:$A$3999,$A17,B$3:B$3999,">0")>1,IF(COUNTIF($A$3:$A$3999,$A17)>2,STDEV(IF(($A$3:$A$3999=$A17)*B$3:B$3999<>0,($A$3:$A$3999=$A17)*B$3:B$3999,"")),""),"")} -> 3.1798113 | E17: =IF(OR(B17="",D17=""),"",IF(COUNTIF($A$3:$A$4000,A17)<3,"",ABS(B17-C17)/D17)) -> 0.7651671 | F17: {=IF(E17="","",MAX(IF($A$3:$A$3999=$A17,E$3:E$3999)))} -> 2.2529366 | G17: =IF(B17="","sans_valeur",IF(COUNTIFS($A$3:$A$3999,$A17,B$3:B$3999,">0")<3,"inf_3_analyses",IF(E17<>F17,"N",IF(E17>VLOOKUP(#REF!,valeur_critique_grubbs!$A$2:$B$249,2,TRUE),"O","N")))) -> N
... A51: =biomasses!$A$4 -> 2 | B51: 45.408 | C51: =IF(B51="","",SUMPRODUCT(($A$3:$A$3999=$A51)*B$3:B$3999)/(COUNTIF($A$3:$A$3999,$A51))) -> 48.093087 | D51: {=IF(COUNTIFS($A$3:$A$3999,$A51,B$3:B$3999,">0")>1,IF(COUNTIF($A$3:$A$3999,$A51)>2,STDEV(IF(($A$3:$A$3999=$A51)*B$3:B$3999<>0,($A$3:$A$3999=$A51)*B$3:B$3999,"")),""),"")} -> 3.1798113 | E51: =IF(OR(B51="",D51=""),"",IF(COUNTIF($A$3:$A$4000,A51)<3,"",ABS(B51-C51)/D51)) -> 0.84441709 | F51: {=IF(E51="","",MAX(IF($A$3:$A$3999=$A51,E$3:E$3999)))} -> 2.2529366 | G51: =IF(B51="","sans_valeur",IF(COUNTIFS($A$3:$A$3999,$A51,B$3:B$3999,">0")<3,"inf_3_analyses",IF(E51<>F51,"N",IF(E51>VLOOKUP(#REF!,valeur_critique_grubbs!$A$2:$B$249,2,TRUE),"O","N")))) -> N
A52: =biomasses!$A$5 -> 3 | C52: =IF(B52="","",SUMPRODUCT(($A$3:$A$3999=$A52)*B$3:B$3999)/(COUNTIF($A$3:$A$3999,$A52))) | D52: {=IF(COUNTIFS($A$3:$A$3999,$A52,B$3:B$3999,">0")>1,IF(COUNTIF($A$3:$A$3999,$A52)>2,STDEV(IF(($A$3:$A$3999=$A52)*B$3:B$3999<>0,($A$3:$A$3999=$A52)*B$3:B$3999,"")),""),"")} | E52: =IF(OR(B52="",D52=""),"",IF(COUNTIF($A$3:$A$4000,A52)<3,"",ABS(B52-C52)/D52)) | F52: {=IF(E52="","",MAX(IF($A$3:$A$3999=$A52,E$3:E$3999)))} | G52: =IF(B52="","sans_valeur",IF(COUNTIFS($A$3:$A$3999,$A52,B$3:B$3999,">0")<3,"inf_3_analyses",IF(E52<>F52,"N",IF(E52>VLOOKUP(#REF!,valeur_critique_grubbs!$A$2:$B$249,2,TRUE),"O","N")))) -> sans_valeur
A53: =biomasses!$A$5 -> 3 | C53: =IF(B53="","",SUMPRODUCT(($A$3:$A$3999=$A53)*B$3:B$3999)/(COUNTIF($A$3:$A$3999,$A53))) | D53: {=IF(COUNTIFS($A$3:$A$3999,$A53,B$3:B$3999,">0")>1,IF(COUNTIF($A$3:$A$3999,$A53)>2,STDEV(IF(($A$3:$A$3999=$A53)*B$3:B$3999<>0,($A$3:$A$3999=$A53)*B$3:B$3999,"")),""),"")} | E53: =IF(OR(B53="",D53=""),"",IF(COUNTIF($A$3:$A$4000,A53)<3,"",ABS(B53-C53)/D53)) | F53: {=IF(E53="","",MAX(IF($A$3:$A$3999=$A53,E$3:E$3999)))} | G53: =IF(B53="","sans_valeur",IF(COUNTIFS($A$3:$A$3999,$A53,B$3:B$3999,">0")<3,"inf_3_analyses",IF(E53<>F53,"N",IF(E53>VLOOKUP(#REF!,valeur_critique_grubbs!$A$2:$B$249,2,TRUE),"O","N")))) -> sans_valeur
A54: =biomasses!$A$5 -> 3 | C54: =IF(B54="","",SUMPRODUCT(($A$3:$A$3999=$A54)*B$3:B$3999)/(COUNTIF($A$3:$A$3999,$A54))) | D54: {=IF(COUNTIFS($A$3:$A$3999,$A54,B$3:B$3999,">0")>1,IF(COUNTIF($A$3:$A$3999,$A54)>2,STDEV(IF(($A$3:$A$3999=$A54)*B$3:B$3999<>0,($A$3:$A$3999=$A54)*B$3:B$3999,"")),""),"")} | E54: =IF(OR(B54="",D54=""),"",IF(COUNTIF($A$3:$A$4000,A54)<3,"",ABS(B54-C54)/D54)) | F54: {=IF(E54="","",MAX(IF($A$3:$A$3999=$A54,E$3:E$3999)))} | G54: =IF(B54="","sans_valeur",IF(COUNTIFS($A$3:$A$3999,$A54,B$3:B$3999,">0")<3,"inf_3_analyses",IF(E54<>F54,"N",IF(E54>VLOOKUP(#REF!,valeur_critique_grubbs!$A$2:$B$249,2,TRUE),"O","N")))) -> sans_valeur
A55: =biomasses!$A$6 -> 4 | C55: =IF(B55="","",SUMPRODUCT(($A$3:$A$3999=$A55)*B$3:B$3999)/(COUNTIF($A$3:$A$3999,$A55))) | D55: {=IF(COUNTIFS($A$3:$A$3999,$A55,B$3:B$3999,">0")>1,IF(COUNTIF($A$3:$A$3999,$A55)>2,STDEV(IF(($A$3:$A$3999=$A55)*B$3:B$3999<>0,($A$3:$A$3999=$A55)*B$3:B$3999,"")),""),"")} | E55: =IF(OR(B55="",D55=""),"",IF(COUNTIF($A$3:$A$4000,A55)<3,"",ABS(B55-C55)/D55)) | F55: {=IF(E55="","",MAX(IF($A$3:$A$3999=$A55,E$3:E$3999)))} | G55: =IF(B55="","sans_valeur",IF(COUNTIFS($A$3:$A$3999,$A55,B$3:B$3999,">0")<3,"inf_3_analyses",IF(E55<>F55,"N",IF(E55>VLOOKUP(#REF!,valeur_critique_grubbs!$A$2:$B$249,2,TRUE),"O","N")))) -> sans_valeur
A56: =biomasses!$A$6 -> 4 | C56: =IF(B56="","",SUMPRODUCT(($A$3:$A$3999=$A56)*B$3:B$3999)/(COUNTIF($A$3:$A$3999,$A56))) | D56: {=IF(COUNTIFS($A$3:$A$3999,$A56,B$3:B$3999,">0")>1,IF(COUNTIF($A$3:$A$3999,$A56)>2,STDEV(IF(($A$3:$A$3999=$A56)*B$3:B$3999<>0,($A$3:$A$3999=$A56)*B$3:B$3999,"")),""),"")} | E56: =IF(OR(B56="",D56=""),"",IF(COUNTIF($A$3:$A$4000,A56)<3,"",ABS(B56-C56)/D56)) | F56: {=IF(E56="","",MAX(IF($A$3:$A$3999=$A56,E$3:E$3999)))} | G56: =IF(B56="","sans_valeur",IF(COUNTIFS($A$3:$A$3999,$A56,B$3:B$3999,">0")<3,"inf_3_analyses",IF(E56<>F56,"N",IF(E56>VLOOKUP(#REF!,valeur_critique_grubbs!$A$2:$B$249,2,TRUE),"O","N")))) -> sans_valeur
A57: =biomasses!$A$6 -> 4 | C57: =IF(B57="","",SUMPRODUCT(($A$3:$A$3999=$A57)*B$3:B$3999)/(COUNTIF($A$3:$A$3999,$A57))) | D57: {=IF(COUNTIFS($A$3:$A$3999,$A57,B$3:B$3999,">0")>1,IF(COUNTIF($A$3:$A$3999,$A57)>2,STDEV(IF(($A$3:$A$3999=$A57)*B$3:B$3999<>0,($A$3:$A$3999=$A57)*B$3:B$3999,"")),""),"")} | E57: =IF(OR(B57="",D57=""),"",IF(COUNTIF($A$3:$A$4000,A57)<3,"",ABS(B57-C57)/D57)) | F57: {=IF(E57="","",MAX(IF($A$3:$A$3999=$A57,E$3:E$3999)))} | G57: =IF(B57="","sans_valeur",IF(COUNTIFS($A$3:$A$3999,$A57,B$3:B$3999,">0")<3,"inf_3_analyses",IF(E57<>F57,"N",IF(E57>VLOOKUP(#REF!,valeur_critique_grubbs!$A$2:$B$249,2,TRUE),"O","N")))) -> sans_valeur
A58: =biomasses!$A$6 -> 4 | C58: =IF(B58="","",SUMPRODUCT(($A$3:$A$3999=$A58)*B$3:B$3999)/(COUNTIF($A$3:$A$3999,$A58))) | D58: {=IF(COUNTIFS($A$3:$A$3999,$A58,B$3:B$3999,">0")>1,IF(COUNTIF($A$3:$A$3999,$A58)>2,STDEV(IF(($A$3:$A$3999=$A58)*B$3:B$3999<>0,($A$3:$A$3999=$A58)*B$3:B$3999,"")),""),"")} | E58: =IF(OR(B58="",D58=""),"",IF(COUNTIF($A$3:$A$4000,A58)<3,"",ABS(B58-C58)/D58)) | F58: {=IF(E58="","",MAX(IF($A$3:$A$3999=$A58,E$3:E$3999)))} | G58: =IF(B58="","sans_valeur",IF(COUNTIFS($A$3:$A$3999,$A58,B$3:B$3999,">0")<3,"inf_3_analyses",IF(E58<>F58,"N",IF(E58>VLOOKUP(#REF!,valeur_critique_grubbs!$A$2:$B$249,2,TRUE),"O","N")))) -> sans_valeur
A59: =biomasses!$A$6 -> 4 | C59: =IF(B59="","",SUMPRODUCT(($A$3:$A$3999=$A59)*B$3:B$3999)/(COUNTIF($A$3:$A$3999,$A59))) | D59: {=IF(COUNTIFS($A$3:$A$3999,$A59,B$3:B$3999,">0")>1,IF(COUNTIF($A$3:$A$3999,$A59)>2,STDEV(IF(($A$3:$A$3999=$A59)*B$3:B$3999<>0,($A$3:$A$3999=$A59)*B$3:B$3999,"")),""),"")} | E59: =IF(OR(B59="",D59=""),"",IF(COUNTIF($A$3:$A$4000,A59)<3,"",ABS(B59-C59)/D59)) | F59: {=IF(E59="","",MAX(IF($A$3:$A$3999=$A59,E$3:E$3999)))} | G59: =IF(B59="","sans_valeur",IF(COUNTIFS($A$3:$A$3999,$A59,B$3:B$3999,">0")<3,"inf_3_analyses",IF(E59<>F59,"N",IF(E59>VLOOKUP(#REF!,valeur_critique_grubbs!$A$2:$B$249,2,TRUE),"O","N")))) -> sans_valeur
A60: =biomasses!$A$6 -> 4 | C60: =IF(B60="","",SUMPRODUCT(($A$3:$A$3999=$A60)*B$3:B$3999)/(COUNTIF($A$3:$A$3999,$A60))) | D60: {=IF(COUNTIFS($A$3:$A$3999,$A60,B$3:B$3999,">0")>1,IF(COUNTIF($A$3:$A$3999,$A60)>2,STDEV(IF(($A$3:$A$3999=$A60)*B$3:B$3999<>0,($A$3:$A$3999=$A60)*B$3:B$3999,"")),""),"")} | E60: =IF(OR(B60="",D60=""),"",IF(COUNTIF($A$3:$A$4000,A60)<3,"",ABS(B60-C60)/D60)) | F60: {=IF(E60="","",MAX(IF($A$3:$A$3999=$A60,E$3:E$3999)))} | G60: =IF(B60="","sans_valeur",IF(COUNTIFS($A$3:$A$3999,$A60,B$3:B$3999,">0")<3,"inf_3_analyses",IF(E60<>F60,"N",IF(E60>VLOOKUP(#REF!,valeur_critique_grubbs!$A$2:$B$249,2,TRUE),"O","N")))) -> sans_valeur
A61: =biomasses!$A$6 -> 4 | C61: =IF(B61="","",SUMPRODUCT(($A$3:$A$3999=$A61)*B$3:B$3999)/(COUNTIF($A$3:$A$3999,$A61))) | D61: {=IF(COUNTIFS($A$3:$A$3999,$A61,B$3:B$3999,">0")>1,IF(COUNTIF($A$3:$A$3999,$A61)>2,STDEV(IF(($A$3:$A$3999=$A61)*B$3:B$3999<>0,($A$3:$A$3999=$A61)*B$3:B$3999,"")),""),"")} | E61: =IF(OR(B61="",D61=""),"",IF(COUNTIF($A$3:$A$4000,A61)<3,"",ABS(B61-C61)/D61)) | F61: {=IF(E61="","",MAX(IF($A$3:$A$3999=$A61,E$3:E$3999)))} | G61: =IF(B61="","sans_valeur",IF(COUNTIFS($A$3:$A$3999,$A61,B$3:B$3999,">0")<3,"inf_3_analyses",IF(E61<>F61,"N",IF(E61>VLOOKUP(#REF!,valeur_critique_grubbs!$A$2:$B$249,2,TRUE),"O","N")))) -> sans_valeur
A62: =biomasses!$A$6 -> 4 | C62: =IF(B62="","",SUMPRODUCT(($A$3:$A$3999=$A62)*B$3:B$3999)/(COUNTIF($A$3:$A$3999,$A62))) | D62: {=IF(COUNTIFS($A$3:$A$3999,$A62,B$3:B$3999,">0")>1,IF(COUNTIF($A$3:$A$3999,$A62)>2,STDEV(IF(($A$3:$A$3999=$A62)*B$3:B$3999<>0,($A$3:$A$3999=$A62)*B$3:B$3999,"")),""),"")} | E62: =IF(OR(B62="",D62=""),"",IF(COUNTIF($A$3:$A$4000,A62)<3,"",ABS(B62-C62)/D62)) | F62: {=IF(E62="","",MAX(IF($A$3:$A$3999=$A62,E$3:E$3999)))} | G62: =IF(B62="","sans_valeur",IF(COUNTIFS($A$3:$A$3999,$A62,B$3:B$3999,">0")<3,"inf_3_analyses",IF(E62<>F62,"N",IF(E62>VLOOKUP(#REF!,valeur_critique_grubbs!$A$2:$B$249,2,TRUE),"O","N")))) -> sans_valeur
A63: =biomasses!$A$6 -> 4 | C63: =IF(B63="","",SUMPRODUCT(($A$3:$A$3999=$A63)*B$3:B$3999)/(COUNTIF($A$3:$A$3999,$A63))) | D63: {=IF(COUNTIFS($A$3:$A$3999,$A63,B$3:B$3999,">0")>1,IF(COUNTIF($A$3:$A$3999,$A63)>2,STDEV(IF(($A$3:$A$3999=$A63)*B$3:B$3999<>0,($A$3:$A$3999=$A63)*B$3:B$3999,"")),""),"")} | E63: =IF(OR(B63="",D63=""),"",IF(COUNTIF($A$3:$A$4000,A63)<3,"",ABS(B63-C63)/D63)) | F63: {=IF(E63="","",MAX(IF($A$3:$A$3999=$A63,E$3:E$3999)))} | G63: =IF(B63="","sans_valeur",IF(COUNTIFS($A$3:$A$3999,$A63,B$3:B$3999,">0")<3,"inf_3_analyses",IF(E63<>F63,"N",IF(E63>VLOOKUP(#REF!,valeur_critique_grubbs!$A$2:$B$249,2,TRUE),"O","N")))) -> sans_valeur
A64: =biomasses!$A$6 -> 4 | B64: 60.342 | C64: =IF(B64="","",SUMPRODUCT(($A$3:$A$3999=$A64)*B$3:B$3999)/(COUNTIF($A$3:$A$3999,$A64))) -> 6.0342 | D64: {=IF(COUNTIFS($A$3:$A$3999,$A64,B$3:B$3999,">0")>1,IF(COUNTIF($A$3:$A$3999,$A64)>2,STDEV(IF(($A$3:$A$3999=$A64)*B$3:B$3999<>0,($A$3:$A$3999=$A64)*B$3:B$3999,"")),""),"")} | E64: =IF(OR(B64="",D64=""),"",IF(COUNTIF($A$3:$A$4000,A64)<3,"",ABS(B64-C64)/D64)) | F64: {=IF(E64="","",MAX(IF($A$3:$A$3999=$A64,E$3:E$3999)))} | G64: =IF(B64="","sans_valeur",IF(COUNTIFS($A$3:$A$3999,$A64,B$3:B$3999,">0")<3,"inf_3_analyses",IF(E64<>F64,"N",IF(E64>VLOOKUP(#REF!,valeur_critique_grubbs!$A$2:$B$249,2,TRUE),"O","N")))) -> inf_3_analyses
A65: =biomasses!$A$7 -> 5 | C65: =IF(B65="","",SUMPRODUCT(($A$3:$A$3999=$A65)*B$3:B$3999)/(COUNTIF($A$3:$A$3999,$A65))) | D65: {=IF(COUNTIFS($A$3:$A$3999,$A65,B$3:B$3999,">0")>1,IF(COUNTIF($A$3:$A$3999,$A65)>2,STDEV(IF(($A$3:$A$3999=$A65)*B$3:B$3999<>0,($A$3:$A$3999=$A65)*B$3:B$3999,"")),""),"")} -> 9.4785074 | E65: =IF(OR(B65="",D65=""),"",IF(COUNTIF($A$3:$A$4000,A65)<3,"",ABS(B65-C65)/D65)) | F65: {=IF(E65="","",MAX(IF($A$3:$A$3999=$A65,E$3:E$3999)))} | G65: =IF(B65="","sans_valeur",IF(COUNTIFS($A$3:$A$3999,$A65,B$3:B$3999,">0")<3,"inf_3_analyses",IF(E65<>F65,"N",IF(E65>VLOOKUP(#REF!,valeur_critique_grubbs!$A$2:$B$249,2,TRUE),"O","N")))) -> sans_valeur
A66: =biomasses!$A$7 -> 5 | C66: =IF(B66="","",SUMPRODUCT(($A$3:$A$3999=$A66)*B$3:B$3999)/(COUNTIF($A$3:$A$3999,$A66))) | D66: {=IF(COUNTIFS($A$3:$A$3999,$A66,B$3:B$3999,">0")>1,IF(COUNTIF($A$3:$A$3999,$A66)>2,STDEV(IF(($A$3:$A$3999=$A66)*B$3:B$3999<>0,($A$3:$A$3999=$A66)*B$3:B$3999,"")),""),"")} -> 9.4785074 | E66: =IF(OR(B66="",D66=""),"",IF(COUNTIF($A$3:$A$4000,A66)<3,"",ABS(B66-C66)/D66)) | F66: {=IF(E66="","",MAX(IF($A$3:$A$3999=$A66,E$3:E$3999)))} | G66: =IF(B66="","sans_valeur",IF(COUNTIFS($A$3:$A$3999,$A66,B$3:B$3999,">0")<3,"inf_3_analyses",IF(E66<>F66,"N",IF(E66>VLOOKUP(#REF!,valeur_critique_grubbs!$A$2:$B$249,2,TRUE),"O","N")))) -> sans_valeur
A67: =biomasses!$A$7 -> 5 | C67: =IF(B67="","",SUMPRODUCT(($A$3:$A$3999=$A67)*B$3:B$3999)/(COUNTIF($A$3:$A$3999,$A67))) | D67: {=IF(COUNTIFS($A$3:$A$3999,$A67,B$3:B$3999,">0")>1,IF(COUNTIF($A$3:$A$3999,$A67)>2,STDEV(IF(($A$3:$A$3999=$A67)*B$3:B$3999<>0,($A$3:$A$3999=$A67)*B$3:B$3999,"")),""),"")} -> 9.4785074 | E67: =IF(OR(B67="",D67=""),"",IF(COUNTIF($A$3:$A$4000,A67)<3,"",ABS(B67-C67)/D67)) | F67: {=IF(E67="","",MAX(IF($A$3:$A$3999=$A67,E$3:E$3999)))} | G67: =IF(B67="","sans_valeur",IF(COUNTIFS($A$3:$A$3999,$A67,B$3:B$3999,">0")<3,"inf_3_analyses",IF(E67<>F67,"N",IF(E67>VLOOKUP(#REF!,valeur_critique_grubbs!$A$2:$B$249,2,TRUE),"O","N")))) -> sans_valeur
A68: =biomasses!$A$7 -> 5 | C68: =IF(B68="","",SUMPRODUCT(($A$3:$A$3999=$A68)*B$3:B$3999)/(COUNTIF($A$3:$A$3999,$A68))) | D68: {=IF(COUNTIFS($A$3:$A$3999,$A68,B$3:B$3999,">0")>1,IF(COUNTIF($A$3:$A$3999,$A68)>2,STDEV(IF(($A$3:$A$3999=$A68)*B$3:B$3999<>0,($A$3:$A$3999=$A68)*B$3:B$3999,"")),""),"")} -> 9.4785074 | E68: =IF(OR(B68="",D68=""),"",IF(COUNTIF($A$3:$A$4000,A68)<3,"",ABS(B68-C68)/D68)) | F68: {=IF(E68="","",MAX(IF($A$3:$A$3999=$A68,E$3:E$3999)))} | G68: =IF(B68="","sans_valeur",IF(COUNTIFS($A$3:$A$3999,$A68,B$3:B$3999,">0")<3,"inf_3_analyses",IF(E68<>F68,"N",IF(E68>VLOOKUP(#REF!,valeur_critique_grubbs!$A$2:$B$249,2,TRUE),"O","N")))) -> sans_valeur
A69: =biomasses!$A$7 -> 5 | C69: =IF(B69="","",SUMPRODUCT(($A$3:$A$3999=$A69)*B$3:B$3999)/(COUNTIF($A$3:$A$3999,$A69))) | D69: {=IF(COUNTIFS($A$3:$A$3999,$A69,B$3:B$3999,">0")>1,IF(COUNTIF($A$3:$A$3999,$A69)>2,STDEV(IF(($A$3:$A$3999=$A69)*B$3:B$3999<>0,($A$3:$A$3999=$A69)*B$3:B$3999,"")),""),"")} -> 9.4785074 | E69: =IF(OR(B69="",D69=""),"",IF(COUNTIF($A$3:$A$4000,A69)<3,"",ABS(B69-C69)/D69)) | F69: {=IF(E69="","",MAX(IF($A$3:$A$3999=$A69,E$3:E$3999)))} | G69: =IF(B69="","sans_valeur",IF(COUNTIFS($A$3:$A$3999,$A69,B$3:B$3999,">0")<3,"inf_3_analyses",IF(E69<>F69,"N",IF(E69>VLOOKUP(#REF!,valeur_critique_grubbs!$A$2:$B$249,2,TRUE),"O","N")))) -> sans_valeur
A70: =biomasses!$A$7 -> 5 | C70: =IF(B70="","",SUMPRODUCT(($A$3:$A$3999=$A70)*B$3:B$3999)/(COUNTIF($A$3:$A$3999,$A70))) | D70: {=IF(COUNTIFS($A$3:$A$3999,$A70,B$3:B$3999,">0")>1,IF(COUNTIF($A$3:$A$3999,$A70)>2,STDEV(IF(($A$3:$A$3999=$A70)*B$3:B$3999<>0,($A$3:$A$3999=$A70)*B$3:B$3999,"")),""),"")} -> 9.4785074 | E70: =IF(OR(B70="",D70=""),"",IF(COUNTIF($A$3:$A$4000,A70)<3,"",ABS(B70-C70)/D70)) | F70: {=IF(E70="","",MAX(IF($A$3:$A$3999=$A70,E$3:E$3999)))} | G70: =IF(B70="","sans_valeur",IF(COUNTIFS($A$3:$A$3999,$A70,B$3:B$3999,">0")<3,"inf_3_analyses",IF(E70<>F70,"N",IF(E70>VLOOKUP(#REF!,valeur_critique_grubbs!$A$2:$B$249,2,TRUE),"O","N")))) -> sans_valeur
A71: =biomasses!$A$7 -> 5 | C71: =IF(B71="","",SUMPRODUCT(($A$3:$A$3999=$A71)*B$3:B$3999)/(COUNTIF($A$3:$A$3999,$A71))) | D71: {=IF(COUNTIFS($A$3:$A$3999,$A71,B$3:B$3999,">0")>1,IF(COUNTIF($A$3:$A$3999,$A71)>2,STDEV(IF(($A$3:$A$3999=$A71)*B$3:B$3999<>0,($A$3:$A$3999=$A71)*B$3:B$3999,"")),""),"")} -> 9.4785074 | E71: =IF(OR(B71="",D71=""),"",IF(COUNTIF($A$3:$A$4000,A71)<3,"",ABS(B71-C71)/D71)) | F71: {=IF(E71="","",MAX(IF($A$3:$A$3999=$A71,E$3:E$3999)))} | G71: =IF(B71="","sans_valeur",IF(COUNTIFS($A$3:$A$3999,$A71,B$3:B$3999,">0")<3,"inf_3_analyses",IF(E71<>F71,"N",IF(E71>VLOOKUP(#REF!,valeur_critique_grubbs!$A$2:$B$249,2,TRUE),"O","N")))) -> sans_valeur
A72: =biomasses!$A$7 -> 5 | C72: =IF(B72="","",SUMPRODUCT(($A$3:$A$3999=$A72)*B$3:B$3999)/(COUNTIF($A$3:$A$3999,$A72))) | D72: {=IF(COUNTIFS($A$3:$A$3999,$A72,B$3:B$3999,">0")>1,IF(COUNTIF($A$3:$A$3999,$A72)>2,STDEV(IF(($A$3:$A$3999=$A72)*B$3:B$3999<>0,($A$3:$A$3999=$A72)*B$3:B$3999,"")),""),"")} -> 9.4785074 | E72: =IF(OR(B72="",D72=""),"",IF(COUNTIF($A$3:$A$4000,A72)<3,"",ABS(B72-C72)/D72)) | F72: {=IF(E72="","",MAX(IF($A$3:$A$3999=$A72,E$3:E$3999)))} | G72: =IF(B72="","sans_valeur",IF(COUNTIFS($A$3:$A$3999,$A72,B$3:B$3999,">0")<3,"inf_3_analyses",IF(E72<>F72,"N",IF(E72>VLOOKUP(#REF!,valeur_critique_grubbs!$A$2:$B$249,2,TRUE),"O","N")))) -> sans_valeur
A73: =biomasses!$A$7 -> 5 | C73: =IF(B73="","",SUMPRODUCT(($A$3:$A$3999=$A73)*B$3:B$3999)/(COUNTIF($A$3:$A$3999,$A73))) | D73: {=IF(COUNTIFS($A$3:$A$3999,$A73,B$3:B$3999,">0")>1,IF(COUNTIF($A$3:$A$3999,$A73)>2,STDEV(IF(($A$3:$A$3999=$A73)*B$3:B$3999<>0,($A$3:$A$3999=$A73)*B$3:B$3999,"")),""),"")} -> 9.4785074 | E73: =IF(OR(B73="",D73=""),"",IF(COUNTIF($A$3:$A$4000,A73)<3,"",ABS(B73-C73)/D73)) | F73: {=IF(E73="","",MAX(IF($A$3:$A$3999=$A73,E$3:E$3999)))} | G73: =IF(B73="","sans_valeur",IF(COUNTIFS($A$3:$A$3999,$A73,B$3:B$3999,">0")<3,"inf_3_analyses",IF(E73<>F73,"N",IF(E73>VLOOKUP(#REF!,valeur_critique_grubbs!$A$2:$B$249,2,TRUE),"O","N")))) -> sans_valeur
...

Sheet valeur_critique_grubbs
A1: N | B1: CriticalZ 5% | D1: Valeurs critiques pour le test de Grubbs. Si Z est plus grand que la valeur du tableau, P est inférieur à 0,05
A2: 3 | B2: 1.15 | D2: "These are two tailed P values" (test bilatéral)
A3: 4 | B3: 1.48
A4: 5 | B4: 1.71
A5: 6 | B5: 1.89
A6: 7 | B6: 2.02
A7: 8 | B7: 2.13
A8: 9 | B8: 2.21
A9: 10 | B9: 2.29
A10: 11 | B10: 2.34
A11: 12 | B11: 2.41
A12: 13 | B12: 2.46
A13: 14 | B13: 2.51
A14: 15 | B14: 2.55
... A39: 40 | B39: 3.036
A40: 41
A41: 42
A42: 43
A43: 44
A44: 45
A45: 46
A46: 47
A47: 48
A48: 49
A49: 50 | B49: 3.128
A50: 51
A51: 52
A52: 53
A53: 54
A54: 55
A55: 56
A56: 57
A57: 58
A58: 59
A59: 60 | B59: 3.199
A60: 61
A61: 62
A62: 63
A63: 64
A64: 65
...
