Workbook
Name Recherche1: Synthese!$J$3

Sheet Synthese
C1: Synthése rapport d'expertise de SKYDOMES sur les bâtiments OPN
H3: TR 2/3 | I3: Bâtiment 00 salle des machines DIESEL 2 | J3: =MATCH(I3,C7:C309,0)+6 -> 114
H4: TR 4/5 | I4: Bâtiment 55 locaux éléctriques | J4: =MATCH(I4,C310:C443,0)+309 -> 412
B6: Tranche | C6: Bâtiment | D6: Plan de reperage | E6: Rapports N° / Skydome N° | F6: Commentaires | G6: Toiture SSR / SPR
A7: 1 | B7: 2 et 3 | C7: Bâtiment 59 local S.O.N et vestiaires | D7: P L A N | E7: 1
A8: 2 | E8: 2
A9: 3 | E9: 3
A10: 4 | E10: 4
A11: 5 | E11: 5
A12: 6 | E12: 6
A13: 7 | E13: 7
A14: 8 | E14: 8
A15: 9 | E15: 9
A16: 10 | E16: 10
A17: 11 | E17: 11
A18: 12 | E18: 12
A19: 13 | E19: 13
... A55: 49 | E55: 49
A56: 50 | B56: 2 et 3 | C56: Bâtiment 00 Salle des machines | D56: P L A N | E56: 50
A57: 51 | E57: 51
A58: 52 | E58: 52
A59: 53 | E59: 53
A60: 54 | E60: 54
A61: 55 | E61: 55
A62: 56 | E62: 56
A63: 57 | E63: 57
A64: 58 | E64: 58
A65: 59 | E65: 59
A66: 60 | E66: 60
A67: 61 | E67: 61
A68: 62 | E68: 62
... A113: 107 | E113: 107
A114: 108 | B114: 2 et 3 | C114: Bâtiment 00 salle des machines DIESEL 2 | D114: P L A N | E114: 108
A115: 109 | E115: 109
A116: 110 | B116: 2 et 3 | C116: Bâtiment 00 salle des machines DIESEL 3 | D116: P L A N | E116: 110
A117: 111 | E117: 111
A118: 112 | B118: 2 et 3 | C118: Bâtiment 49 Zone BAN 2 et 3 | D118: P L A N | E118: 112
A119: 113 | E119: 113
A120: 114 | E120: 114
A121: 115 | E121: 115
A122: 116 | E122: 116
A123: 117 | E123: 117
A124: 118 | E124: 118
A125: 119 | E125: 119
A126: 120 | E126: 120
A127: 121 | E127: 121
A128: 122 | E128: 122
A129: 123 | E129: 123
A130: 124 | E130: 124
... A133: 127 | E133: 127
A134: 128 | B134: 2 et 3 | C134: Bâtiment 49 Zone réacteur 2 terrasse N à Q | D134: P L A N | E134: 128
A135: 129 | E135: 129
A136: 130 | E136: 130
A137: 131 | E137: 131
A138: 132 | E138: 132
A139: 133 | E139: 133
A140: 134 | E140: 134
A141: 135 | E141: 135
A142: 136 | E142: 136
A143: 137 | E143: 137
A144: 138 | E144: 138
A145: 139 | E145: 139
A146: 140 | E146: 140
... A157: 151 | E157: 151
A158: 152 | B158: 2 ET 3 | C158: Bâtiment 49 Zone locaux éléctriques | D158: P L A N | E158: 152
A159: 153 | E159: 153
A160: 154 | E160: 154
A161: 155 | E161: 155
A162: 156 | E162: 156
A163: 157 | E163: 157
A164: 158 | E164: 158
A165: 159 | E165: 159
A166: 160 | B166: 2 et 3 | C166: Bâtiment 49 Zone PTR réacteur 2 terrasse V | D166: P L A N | E166: 160
A167: 161 | E167: 161
A168: 162 | E168: 162
A169: 163 | B169: 2 et 3 | C169: Bâtiment 49 Zone PTR réacteur 3 terrasse W | D169: P L A N | E169: 163
A170: 164 | E170: 164
A171: 165 | E171: 165
A172: 166 | B172: 2 et 3 | C172: Bâtiment 50 Auxiliraires nucléaire généraux 1 | D172: P L A N | E172: 166
A173: 167 | E173: 167
A174: 168 | E174: 168
A175: 169 | E175: 169
A176: 170 | E176: 170
A177: 171 | E177: 171
A178: 172 | E178: 172
A179: 173 | E179: 173
A180: 174 | E180: 174
A181: 175 | E181: 175
A182: 176 | E182: 176
A183: 177 | E183: 177
A184: 178 | E184: 178
... A249: 243 | E249: 244
A250: 244 | E250: 244 Bis
A251: 245 | E251: 245
A252: 246 | E252: 246
A253: 247 | E253: 247
A254: 248 | E254: 248
A255: 249 | E255: 249
A256: 250 | E256: 250
A257: 251 | E257: 251
...

Sheet Feuil1
A1: Bâtiment 59 local S.O.N et vestiaires | B1: TR 2/3
A2: Bâtiment 00 Salle des machines
A3: Bâtiment 00 salle des machines DIESEL 2
A4: Bâtiment 00 salle des machines DIESEL 3
A5: Bâtiment 49 Zone BAN 2 et 3
A6: Bâtiment 49 Zone réacteur 2 terrasse N à Q
A7: Bâtiment 49 Zone locaux éléctriques
A8: Bâtiment 49 Zone PTR réacteur 2 terrasse V
A9: Bâtiment 49 Zone PTR réacteur 3 terrasse W
A10: Bâtiment 50 Auxiliraires nucléaire généraux 1
A11: Bâtiment 50 Auxiliraires nucléaire généraux 2
A12: Bâtiment 09 salle des machines DIESEL 4 | B12: TR 4/5
A13: Bâtiment 09 salle des machines DIESEL 5
A14: Bâtiment 09 SDM
A15: Bâtiment 55 BAN 4 et 5
A16: Bâtiment 55 VERRUE
A17: Bâtiment 55 locaux éléctriques
A18: Bâtiment 55 PTR réacteur 5 terrasse W
A19: Bâtiment 55 PTR réacteur 4 terrasse V
A20: Bâtiment 91 bâtiment S pompes CRF
A21: Bâtiment 92 outillage chaud

Sheet Recherche TR 2-3
B8: Tranche | C8: Bâtiment | D8: Plan de reperage | E8: Rapports N° / Skydome N° | F8: Commentaires | G8: Toiture SSR / SPR | I8: TR | J8: 2 et 3 | K8: Bâtiment 00 salle des machines DIESEL 2
B9: =IF(INDEX(Synthese!$B$7:$G$309,MATCH($K$8,Synthese!B$7:B$309,1),1)=$J$8,$J$8,"") -> 2 et 3 | C9: =INDEX(Synthese!$B$7:$G$309,MATCH($K$8,Synthese!$C$7:$C$309,1),2) -> Bâtiment 00 salle des machines DIESEL 2 | D9: =INDEX(Synthese!D7:I309,MATCH($K$8,Synthese!$B7:$B309,1),1) -> P L A N | E9: =INDEX(Synthese!$B$7:$G$309,MATCH($K$8,Synthese!$E7:$E309,1),4) -> 244 Bis | F9: =INDEX(Synthese!F7:K309,MATCH($K$8,Synthese!$B7:$B309,1),1) -> 0 | G9: =INDEX(Synthese!G7:L309,MATCH($K$8,Synthese!$B7:$B309,1),1) -> 0 | I9: TR | J9: 4 et 5 | K9: Bâtiment 55 PTR réacteur 5 terrasse W
B10: =IF(INDEX(Synthese!$B$7:$G$309,MATCH($K$8,Synthese!B$7:B$309,1),1)=$J$8,$J$8,"") -> 2 et 3 | C10: =INDEX(Synthese!$B$7:$G$309,MATCH($K$8,Synthese!$C$7:$C$309,1),2) -> Bâtiment 00 salle des machines DIESEL 2 | D10: =INDEX(Synthese!D8:I310,MATCH($K$8,Synthese!$B8:$B310,1),1) -> P L A N | E10: =INDEX(Synthese!$B$7:$G$309,MATCH($K$8,Synthese!$E8:$E310,1),4) -> 244 | F10: =INDEX(Synthese!F8:K310,MATCH($K$8,Synthese!$B8:$B310,1),1) -> 0 | G10: =INDEX(Synthese!G8:L310,MATCH($K$8,Synthese!$B8:$B310,1),1) -> 0
B11: =IF(INDEX(Synthese!$B$7:$G$309,MATCH($K$8,Synthese!B$7:B$309,1),1)=$J$8,$J$8,"") -> 2 et 3 | C11: =INDEX(Synthese!$B$7:$G$309,MATCH($K$8,Synthese!$C$7:$C$309,1),2) -> Bâtiment 00 salle des machines DIESEL 2 | D11: =INDEX(Synthese!D9:I311,MATCH($K$8,Synthese!$B9:$B311,1),1) -> P L A N | E11: =INDEX(Synthese!$B$7:$G$309,MATCH($K$8,Synthese!$E9:$E311,1),4) -> 243 | F11: =INDEX(Synthese!F9:K311,MATCH($K$8,Synthese!$B9:$B311,1),1) -> 0 | G11: =INDEX(Synthese!G9:L311,MATCH($K$8,Synthese!$B9:$B311,1),1) -> 0
B12: =IF(INDEX(Synthese!$B$7:$G$309,MATCH($K$8,Synthese!B$7:B$309,1),1)=$J$8,$J$8,"") -> 2 et 3 | C12: =INDEX(Synthese!$B$7:$G$309,MATCH($K$8,Synthese!$C$7:$C$309,1),2) -> Bâtiment 00 salle des machines DIESEL 2 | D12: =INDEX(Synthese!D10:I312,MATCH($K$8,Synthese!$B10:$B312,1),1) -> P L A N | E12: =INDEX(Synthese!$B$7:$G$309,MATCH($K$8,Synthese!$E10:$E312,1),4) -> 242 | F12: =INDEX(Synthese!F10:K312,MATCH($K$8,Synthese!$B10:$B312,1),1) -> 0 | G12: =INDEX(Synthese!G10:L312,MATCH($K$8,Synthese!$B10:$B312,1),1) -> 0
B13: =IF(INDEX(Synthese!$B$7:$G$309,MATCH($K$8,Synthese!B$7:B$309,1),1)=$J$8,$J$8,"") -> 2 et 3 | C13: =INDEX(Synthese!$B$7:$G$309,MATCH($K$8,Synthese!$C$7:$C$309,1),2) -> Bâtiment 00 salle des machines DIESEL 2 | D13: =INDEX(Synthese!D11:I313,MATCH($K$8,Synthese!$B11:$B313,1),1) -> P L A N | E13: =INDEX(Synthese!$B$7:$G$309,MATCH($K$8,Synthese!$E11:$E313,1),4) -> 241 | F13: =INDEX(Synthese!F11:K313,MATCH($K$8,Synthese!$B11:$B313,1),1) -> 0 | G13: =INDEX(Synthese!G11:L313,MATCH($K$8,Synthese!$B11:$B313,1),1) -> 0
B14: =IF(INDEX(Synthese!$B$7:$G$309,MATCH($K$8,Synthese!B$7:B$309,1),1)=$J$8,$J$8,"") -> 2 et 3 | C14: =INDEX(Synthese!$B$7:$G$309,MATCH($K$8,Synthese!$C$7:$C$309,1),2) -> Bâtiment 00 salle des machines DIESEL 2 | D14: =INDEX(Synthese!D12:I314,MATCH($K$8,Synthese!$B12:$B314,1),1) -> P L A N | E14: =INDEX(Synthese!$B$7:$G$309,MATCH($K$8,Synthese!$E12:$E314,1),4) -> 300 | F14: =INDEX(Synthese!F12:K314,MATCH($K$8,Synthese!$B12:$B314,1),1) -> 0 | G14: =INDEX(Synthese!G12:L314,MATCH($K$8,Synthese!$B12:$B314,1),1) -> 0
B15: =IF(INDEX(Synthese!$B$7:$G$309,MATCH($K$8,Synthese!B$7:B$309,1),1)=$J$8,$J$8,"") -> 2 et 3 | C15: =INDEX(Synthese!$B$7:$G$309,MATCH($K$8,Synthese!$C$7:$C$309,1),2) -> Bâtiment 00 salle des machines DIESEL 2 | D15: =INDEX(Synthese!D13:I315,MATCH($K$8,Synthese!$B13:$B315,1),1) -> P L A N | E15: =INDEX(Synthese!$B$7:$G$309,MATCH($K$8,Synthese!$E13:$E315,1),4) -> 299 | F15: =INDEX(Synthese!F13:K315,MATCH($K$8,Synthese!$B13:$B315,1),1) -> 0 | G15: =INDEX(Synthese!G13:L315,MATCH($K$8,Synthese!$B13:$B315,1),1) -> 0
B16: =IF(INDEX(Synthese!$B$7:$G$309,MATCH($K$8,Synthese!B$7:B$309,1),1)=$J$8,$J$8,"") -> 2 et 3 | C16: =INDEX(Synthese!$B$7:$G$309,MATCH($K$8,Synthese!$C$7:$C$309,1),2) -> Bâtiment 00 salle des machines DIESEL 2 | D16: =INDEX(Synthese!D14:I316,MATCH($K$8,Synthese!$B14:$B316,1),1) -> P L A N | E16: =INDEX(Synthese!$B$7:$G$309,MATCH($K$8,Synthese!$E14:$E316,1),4) -> 298 | F16: =INDEX(Synthese!F14:K316,MATCH($K$8,Synthese!$B14:$B316,1),1) -> 0 | G16: =INDEX(Synthese!G14:L316,MATCH($K$8,Synthese!$B14:$B316,1),1) -> 0
B17: =IF(INDEX(Synthese!$B$7:$G$309,MATCH($K$8,Synthese!B$7:B$309,1),1)=$J$8,$J$8,"") -> 2 et 3 | C17: =INDEX(Synthese!$B$7:$G$309,MATCH($K$8,Synthese!$C$7:$C$309,1),2) -> Bâtiment 00 salle des machines DIESEL 2 | D17: =INDEX(Synthese!D15:I317,MATCH($K$8,Synthese!$B15:$B317,1),1) -> P L A N | E17: =INDEX(Synthese!$B$7:$G$309,MATCH($K$8,Synthese!$E15:$E317,1),4) -> 297 | F17: =INDEX(Synthese!F15:K317,MATCH($K$8,Synthese!$B15:$B317,1),1) -> 0 | G17: =INDEX(Synthese!G15:L317,MATCH($K$8,Synthese!$B15:$B317,1),1) -> 0 | K17: =MATCH(K8,Synthese!C7:C309,0)+6 -> 114
B18: =IF(INDEX(Synthese!$B$7:$G$309,MATCH($K$8,Synthese!B$7:B$309,1),1)=$J$8,$J$8,"") -> 2 et 3 | C18: =INDEX(Synthese!$B$7:$G$309,MATCH($K$8,Synthese!$C$7:$C$309,1),2) -> Bâtiment 00 salle des machines DIESEL 2 | D18: =INDEX(Synthese!D16:I318,MATCH($K$8,Synthese!$B16:$B318,1),1) -> P L A N | E18: =INDEX(Synthese!$B$7:$G$309,MATCH($K$8,Synthese!$E16:$E318,1),4) -> 296 | F18: =INDEX(Synthese!F16:K318,MATCH($K$8,Synthese!$B16:$B318,1),1) -> 0 | G18: =INDEX(Synthese!G16:L318,MATCH($K$8,Synthese!$B16:$B318,1),1) -> 0 | K18: =INDEX(Synthese!B7:G309,K17,4) -> 114
B19: =IF(INDEX(Synthese!$B$7:$G$309,MATCH($K$8,Synthese!B$7:B$309,1),1)=$J$8,$J$8,"") -> 2 et 3 | C19: =INDEX(Synthese!$B$7:$G$309,MATCH($K$8,Synthese!$C$7:$C$309,1),2) -> Bâtiment 00 salle des machines DIESEL 2 | D19: =INDEX(Synthese!D17:I319,MATCH($K$8,Synthese!$B17:$B319,1),1) -> P L A N | E19: =INDEX(Synthese!$B$7:$G$309,MATCH($K$8,Synthese!$E17:$E319,1),4) -> 295 | F19: =INDEX(Synthese!F17:K319,MATCH($K$8,Synthese!$B17:$B319,1),1) -> 0 | G19: =INDEX(Synthese!G17:L319,MATCH($K$8,Synthese!$B17:$B319,1),1) -> 0
B20: =IF(INDEX(Synthese!$B$7:$G$309,MATCH($K$8,Synthese!B$7:B$309,1),1)=$J$8,$J$8,"") -> 2 et 3 | C20: =INDEX(Synthese!$B$7:$G$309,MATCH($K$8,Synthese!$C$7:$C$309,1),2) -> Bâtiment 00 salle des machines DIESEL 2 | D20: =INDEX(Synthese!D18:I320,MATCH($K$8,Synthese!$B18:$B320,1),1) -> P L A N | E20: =INDEX(Synthese!$B$7:$G$309,MATCH($K$8,Synthese!$E18:$E320,1),4) -> 294 | F20: =INDEX(Synthese!F18:K320,MATCH($K$8,Synthese!$B18:$B320,1),1) -> 0 | G20: =INDEX(Synthese!G18:L320,MATCH($K$8,Synthese!$B18:$B320,1),1) -> 0 | K20: =HLOOKUP(Synthese!E7:E309,Synthese!B7:G309,K17,FALSE) -> #N/A
B21: =IF(INDEX(Synthese!$B$7:$G$309,MATCH($K$8,Synthese!B$7:B$309,1),1)=$J$8,$J$8,"") -> 2 et 3 | C21: =INDEX(Synthese!$B$7:$G$309,MATCH($K$8,Synthese!$C$7:$C$309,1),2) -> Bâtiment 00 salle des machines DIESEL 2 | D21: =INDEX(Synthese!D19:I321,MATCH($K$8,Synthese!$B19:$B321,1),1) -> P L A N | E21: =INDEX(Synthese!$B$7:$G$309,MATCH($K$8,Synthese!$E19:$E321,1),4) -> 293 | F21: =INDEX(Synthese!F19:K321,MATCH($K$8,Synthese!$B19:$B321,1),1) -> 0 | G21: =INDEX(Synthese!G19:L321,MATCH($K$8,Synthese!$B19:$B321,1),1) -> 0
B22: =IF(INDEX(Synthese!$B$7:$G$309,MATCH($K$8,Synthese!B$7:B$309,1),1)=$J$8,$J$8,"") -> 2 et 3 | C22: =INDEX(Synthese!$B$7:$G$309,MATCH($K$8,Synthese!$C$7:$C$309,1),2) -> Bâtiment 00 salle des machines DIESEL 2 | D22: =INDEX(Synthese!D20:I322,MATCH($K$8,Synthese!$B20:$B322,1),1) -> P L A N | E22: =INDEX(Synthese!$B$7:$G$309,MATCH($K$8,Synthese!$E20:$E322,1),4) -> 292 | F22: =INDEX(Synthese!F20:K322,MATCH($K$8,Synthese!$B20:$B322,1),1) -> 0 | G22: =INDEX(Synthese!G20:L322,MATCH($K$8,Synthese!$B20:$B322,1),1) -> 0
B23: =IF(INDEX(Synthese!$B$7:$G$309,MATCH($K$8,Synthese!B$7:B$309,1),1)=$J$8,$J$8,"") -> 2 et 3 | C23: =INDEX(Synthese!$B$7:$G$309,MATCH($K$8,Synthese!$C$7:$C$309,1),2) -> Bâtiment 00 salle des machines DIESEL 2 | D23: =INDEX(Synthese!D21:I323,MATCH($K$8,Synthese!$B21:$B323,1),1) -> P L A N | E23: =INDEX(Synthese!$B$7:$G$309,MATCH($K$8,Synthese!$E21:$E323,1),4) -> 291 | F23: =INDEX(Synthese!F21:K323,MATCH($K$8,Synthese!$B21:$B323,1),1) -> 0 | G23: =INDEX(Synthese!G21:L323,MATCH($K$8,Synthese!$B21:$B323,1),1) -> 0
B24: =IF(INDEX(Synthese!$B$7:$G$309,MATCH($K$8,Synthese!B$7:B$309,1),1)=$J$8,$J$8,"") -> 2 et 3 | C24: =INDEX(Synthese!$B$7:$G$309,MATCH($K$8,Synthese!$C$7:$C$309,1),2) -> Bâtiment 00 salle des machines DIESEL 2 | D24: =INDEX(Synthese!D22:I324,MATCH($K$8,Synthese!$B22:$B324,1),1) -> P L A N | E24: =INDEX(Synthese!$B$7:$G$309,MATCH($K$8,Synthese!$E22:$E324,1),4) -> 290 | F24: =INDEX(Synthese!F22:K324,MATCH($K$8,Synthese!$B22:$B324,1),1) -> 0 | G24: =INDEX(Synthese!G22:L324,MATCH($K$8,Synthese!$B22:$B324,1),1) -> 0
B25: =IF(INDEX(Synthese!$B$7:$G$309,MATCH($K$8,Synthese!B$7:B$309,1),1)=$J$8,$J$8,"") -> 2 et 3 | C25: =INDEX(Synthese!$B$7:$G$309,MATCH($K$8,Synthese!$C$7:$C$309,1),2) -> Bâtiment 00 salle des machines DIESEL 2 | D25: =INDEX(Synthese!D23:I325,MATCH($K$8,Synthese!$B23:$B325,1),1) -> P L A N | E25: =INDEX(Synthese!$B$7:$G$309,MATCH($K$8,Synthese!$E23:$E325,1),4) -> 289 | F25: =INDEX(Synthese!F23:K325,MATCH($K$8,Synthese!$B23:$B325,1),1) -> 0 | G25: =INDEX(Synthese!G23:L325,MATCH($K$8,Synthese!$B23:$B325,1),1) -> 0
B26: =IF(INDEX(Synthese!$B$7:$G$309,MATCH($K$8,Synthese!B$7:B$309,1),1)=$J$8,$J$8,"") -> 2 et 3 | C26: =INDEX(Synthese!$B$7:$G$309,MATCH($K$8,Synthese!$C$7:$C$309,1),2) -> Bâtiment 00 salle des machines DIESEL 2 | D26: =INDEX(Synthese!D24:I326,MATCH($K$8,Synthese!$B24:$B326,1),1) -> P L A N | E26: =INDEX(Synthese!$B$7:$G$309,MATCH($K$8,Synthese!$E24:$E326,1),4) -> 288 | F26: =INDEX(Synthese!F24:K326,MATCH($K$8,Synthese!$B24:$B326,1),1) -> 0 | G26: =INDEX(Synthese!G24:L326,MATCH($K$8,Synthese!$B24:$B326,1),1) -> 0
B27: =IF(INDEX(Synthese!$B$7:$G$309,MATCH($K$8,Synthese!B$7:B$309,1),1)=$J$8,$J$8,"") -> 2 et 3 | C27: =INDEX(Synthese!$B$7:$G$309,MATCH($K$8,Synthese!$C$7:$C$309,1),2) -> Bâtiment 00 salle des machines DIESEL 2 | D27: =INDEX(Synthese!D25:I327,MATCH($K$8,Synthese!$B25:$B327,1),1) -> P L A N | E27: =INDEX(Synthese!$B$7:$G$309,MATCH($K$8,Synthese!$E25:$E327,1),4) -> 287 | F27: =INDEX(Synthese!F25:K327,MATCH($K$8,Synthese!$B25:$B327,1),1) -> 0 | G27: =INDEX(Synthese!G25:L327,MATCH($K$8,Synthese!$B25:$B327,1),1) -> 0
B28: =IF(INDEX(Synthese!$B$7:$G$309,MATCH($K$8,Synthese!B$7:B$309,1),1)=$J$8,$J$8,"") -> 2 et 3 | C28: =INDEX(Synthese!$B$7:$G$309,MATCH($K$8,Synthese!$C$7:$C$309,1),2) -> Bâtiment 00 salle des machines DIESEL 2 | D28: =INDEX(Synthese!D26:I328,MATCH($K$8,Synthese!$B26:$B328,1),1) -> P L A N | E28: =INDEX(Synthese!$B$7:$G$309,MATCH($K$8,Synthese!$E26:$E328,1),4) -> 286 | F28: =INDEX(Synthese!F26:K328,MATCH($K$8,Synthese!$B26:$B328,1),1) -> 0 | G28: =INDEX(Synthese!G26:L328,MATCH($K$8,Synthese!$B26:$B328,1),1) -> 0
B29: =IF(INDEX(Synthese!$B$7:$G$309,MATCH($K$8,Synthese!B$7:B$309,1),1)=$J$8,$J$8,"") -> 2 et 3 | C29: =INDEX(Synthese!$B$7:$G$309,MATCH($K$8,Synthese!$C$7:$C$309,1),2) -> Bâtiment 00 salle des machines DIESEL 2 | D29: =INDEX(Synthese!D27:I329,MATCH($K$8,Synthese!$B27:$B329,1),1) -> P L A N | E29: =INDEX(Synthese!$B$7:$G$309,MATCH($K$8,Synthese!$E27:$E329,1),4) -> 285 | F29: =INDEX(Synthese!F27:K329,MATCH($K$8,Synthese!$B27:$B329,1),1) -> 0 | G29: =INDEX(Synthese!G27:L329,MATCH($K$8,Synthese!$B27:$B329,1),1) -> 0
B30: =IF(INDEX(Synthese!$B$7:$G$309,MATCH($K$8,Synthese!B$7:B$309,1),1)=$J$8,$J$8,"") -> 2 et 3 | C30: =INDEX(Synthese!$B$7:$G$309,MATCH($K$8,Synthese!$C$7:$C$309,1),2) -> Bâtiment 00 salle des machines DIESEL 2 | D30: =INDEX(Synthese!D28:I330,MATCH($K$8,Synthese!$B28:$B330,1),1) -> P L A N | E30: =INDEX(Synthese!$B$7:$G$309,MATCH($K$8,Synthese!$E28:$E330,1),4) -> 284 | F30: =INDEX(Synthese!F28:K330,MATCH($K$8,Synthese!$B28:$B330,1),1) -> 0 | G30: =INDEX(Synthese!G28:L330,MATCH($K$8,Synthese!$B28:$B330,1),1) -> 0
B31: =IF(INDEX(Synthese!$B$7:$G$309,MATCH($K$8,Synthese!B$7:B$309,1),1)=$J$8,$J$8,"") -> 2 et 3 | C31: =INDEX(Synthese!$B$7:$G$309,MATCH($K$8,Synthese!$C$7:$C$309,1),2) -> Bâtiment 00 salle des machines DIESEL 2 | D31: =INDEX(Synthese!D29:I331,MATCH($K$8,Synthese!$B29:$B331,1),1) -> P L A N | E31: =INDEX(Synthese!$B$7:$G$309,MATCH($K$8,Synthese!$E29:$E331,1),4) -> 283 | F31: =INDEX(Synthese!F29:K331,MATCH($K$8,Synthese!$B29:$B331,1),1) -> 0 | G31: =INDEX(Synthese!G29:L331,MATCH($K$8,Synthese!$B29:$B331,1),1) -> 0
B32: =IF(INDEX(Synthese!$B$7:$G$309,MATCH($K$8,Synthese!B$7:B$309,1),1)=$J$8,$J$8,"") -> 2 et 3 | C32: =INDEX(Synthese!$B$7:$G$309,MATCH($K$8,Synthese!$C$7:$C$309,1),2) -> Bâtiment 00 salle des machines DIESEL 2 | D32: =INDEX(Synthese!D30:I332,MATCH($K$8,Synthese!$B30:$B332,1),1) -> P L A N | E32: =INDEX(Synthese!$B$7:$G$309,MATCH($K$8,Synthese!$E30:$E332,1),4) -> 282 | F32: =INDEX(Synthese!F30:K332,MATCH($K$8,Synthese!$B30:$B332,1),1) -> 0 | G32: =INDEX(Synthese!G30:L332,MATCH($K$8,Synthese!$B30:$B332,1),1) -> 0
... B119: =IF(INDEX(Synthese!$B$7:$G$309,MATCH($K$8,Synthese!B$7:B$309,1),1)=$J$8,$J$8,"") -> 2 et 3 | C119: =INDEX(Synthese!$B$7:$G$309,MATCH($K$8,Synthese!$C$7:$C$309,1),2) -> Bâtiment 00 salle des machines DIESEL 2 | D119: =INDEX(Synthese!D117:I419,MATCH($K$8,Synthese!$B117:$B419,1),1) -> P L A N | E119: =INDEX(Synthese!$B$7:$G$309,MATCH($K$8,Synthese!$E117:$E419,1),4) -> 278 | F119: =INDEX(Synthese!F117:K419,MATCH($K$8,Synthese!$B117:$B419,1),1) -> 0 | G119: =INDEX(Synthese!G117:L419,MATCH($K$8,Synthese!$B117:$B419,1),1) -> 0
