Workbook

Sheet IMPORT AFF
A1: LOCALISATIONS | B1: TECHNICIENS | C1: DATE RDV | D1: AFF TERMINEE | E1: ACTIONS A REALISER
A2: CAMBRAI | B2: Thierry | C2: 44726 | D2: OUI
A3: MARLY | B3: Steven;Anthony | C3: 44727 | D3: NON | E3: A REPROG
A4: MARLY | B4: Sebastien (@);Mickaël (@) | C4: 44727 | D4: NON | E4: A REPROG
A5: MARLY | B5: Sebastien (@);Mickaël (@) | C5: 44727 | D5: NON | E5: A REPROG
A6: CAMBRAI | B6: Remy (@) | C6: 44727 | D6: NON | E6: A REPROG
A7: MAUBEUGE | B7: Steven;Gaetan | C7: 44727 | D7: OUI
A8: MAUBEUGE | B8: Romain | C8: 44727 | D8: OUI
A9: MAUBEUGE | B9: Romain | C9: 44727 | D9: OUI
A10: MAUBEUGE | B10: Romain | C10: 44727 | D10: OUI
A11: MAUBEUGE | B11: Romain | C11: 44727 | D11: OUI
A12: MAUBEUGE | B12: Romain | C12: 44727 | D12: OUI
A13: MAUBEUGE | B13: Romain | C13: 44727 | D13: OUI
A14: MAUBEUGE | B14: Steven;Gaetan | C14: 44727 | D14: NON | E14: A SOLDER
A15: MAUBEUGE | B15: Steven;Gaetan | C15: 44727 | D15: NON | E15: A SOLDER
A16: MAUBEUGE | B16: Steven;Gaetan | C16: 44727 | D16: NON | E16: A SOLDER
A17: MAUBEUGE | B17: Steven;Gaetan | C17: 44727 | D17: NON | E17: A SOLDER
A18: MAUBEUGE | B18: Romain | C18: 44727 | D18: OUI
A19: MAUBEUGE | B19: Steven | C19: 44727 | D19: OUI
A20: CAMBRAI | B20: Stephane (@) | C20: 44727 | D20: OUI
A21: MARLY | B21: Sebastien (@);Mickaël (@) | C21: 44727 | D21: NON | E21: A SOLDER
A22: CAMBRAI | B22: Remy (@) | C22: 44728 | D22: NON | E22: A REPROG
A23: MAUBEUGE | B23: Vincent (@);Jean-marc (@) | C23: 44728 | D23: NON | E23: A REPROG
A24: MAUBEUGE | B24: Steven;Romain | C24: 44728 | D24: NON | E24: A SOLDER
A25: MAUBEUGE | B25: Vincent (@);Jean-marc (@) | C25: 44728 | D25: NON | E25: A REPROG
A26: MAUBEUGE | B26: Laurent B2Tc;Fabien (@) | C26: 44729 | D26: NON | E26: A REPROG
A27: MARLY | B27: Anthony (@) | C27: 44729 | D27: NON | E27: A REPROG

Sheet SYNTHESE
F7: 44727
B9: LOCALISATIONS | C9: TECHNICIENS | D9: NB AFF | E9: NB AFF TERMINEES | F9: % AFF TERMINEES | G9: NB AFF NON TERMINEES | H9: % AFF NON TERMINEES
B10: CAMBRAI | C10: Thierry | D10: =SUMPRODUCT((--ISNUMBER(FIND(C10,'IMPORT AFF'!B:B)))*(SYNTHESE!B:B>=$F$7)) -> 0 | E10: =SUMPRODUCT((--ISNUMBER(FIND(C10,'IMPORT AFF'!B:B)))*('IMPORT AFF'!C:C>=SYNTHESE!$F$7)*('IMPORT AFF'!D:D="OUI")) -> 0 | F10: =E10/D10 -> #DIV/0! | G10: =SUMPRODUCT((--ISNUMBER(FIND(C10,'IMPORT AFF'!B:B)))*('IMPORT AFF'!C:C>=SYNTHESE!$F$7)*('IMPORT AFF'!D:D="OUI")) -> 0 | H10: =Tableau3[[#This Row],[NB AFF NON TERMINEES]]/Tableau3[[#This Row],[NB AFF]] -> #DIV/0!
B11: MARLY | C11: Steven | D11: =SUMPRODUCT((--ISNUMBER(FIND(C11,'IMPORT AFF'!B:B)))*(SYNTHESE!B:B>=$F$7)) -> 5 | E11: =SUMPRODUCT((--ISNUMBER(FIND(C11,'IMPORT AFF'!B:B)))*('IMPORT AFF'!C:C>=SYNTHESE!$F$7)*('IMPORT AFF'!D:D="OUI")) -> 2 | F11: =E11/D11 -> 0.4 | G11: =SUMPRODUCT((--ISNUMBER(FIND(C11,'IMPORT AFF'!B:B)))*('IMPORT AFF'!C:C>=SYNTHESE!$F$7)*('IMPORT AFF'!D:D="OUI")) -> 2 | H11: =Tableau3[[#This Row],[NB AFF NON TERMINEES]]/Tableau3[[#This Row],[NB AFF]] -> 0.4
B12: MARLY | C12: Anthony | D12: =SUMPRODUCT((--ISNUMBER(FIND(C12,'IMPORT AFF'!B:B)))*(SYNTHESE!B:B>=$F$7)) -> 0 | E12: =SUMPRODUCT((--ISNUMBER(FIND(C12,'IMPORT AFF'!B:B)))*('IMPORT AFF'!C:C>=SYNTHESE!$F$7)*('IMPORT AFF'!D:D="OUI")) -> 0 | F12: =E12/D12 -> #DIV/0! | G12: =SUMPRODUCT((--ISNUMBER(FIND(C12,'IMPORT AFF'!B:B)))*('IMPORT AFF'!C:C>=SYNTHESE!$F$7)*('IMPORT AFF'!D:D="OUI")) -> 0 | H12: =Tableau3[[#This Row],[NB AFF NON TERMINEES]]/Tableau3[[#This Row],[NB AFF]] -> #DIV/0!
B13: MARLY | C13: Gaetan | D13: =SUMPRODUCT((--ISNUMBER(FIND(C13,'IMPORT AFF'!B:B)))*(SYNTHESE!B:B>=$F$7)) -> 4 | E13: =SUMPRODUCT((--ISNUMBER(FIND(C13,'IMPORT AFF'!B:B)))*('IMPORT AFF'!C:C>=SYNTHESE!$F$7)*('IMPORT AFF'!D:D="OUI")) -> 1 | F13: =E13/D13 -> 0.25 | G13: =SUMPRODUCT((--ISNUMBER(FIND(C13,'IMPORT AFF'!B:B)))*('IMPORT AFF'!C:C>=SYNTHESE!$F$7)*('IMPORT AFF'!D:D="OUI")) -> 1 | H13: =Tableau3[[#This Row],[NB AFF NON TERMINEES]]/Tableau3[[#This Row],[NB AFF]] -> 0.25
B14: MARLY | C14: Mickaël | D14: =SUMPRODUCT((--ISNUMBER(FIND(C14,'IMPORT AFF'!B:B)))*(SYNTHESE!B:B>=$F$7)) -> 1 | E14: =SUMPRODUCT((--ISNUMBER(FIND(C14,'IMPORT AFF'!B:B)))*('IMPORT AFF'!C:C>=SYNTHESE!$F$7)*('IMPORT AFF'!D:D="OUI")) -> 0 | F14: =E14/D14 -> 0 | G14: =SUMPRODUCT((--ISNUMBER(FIND(C14,'IMPORT AFF'!B:B)))*('IMPORT AFF'!C:C>=SYNTHESE!$F$7)*('IMPORT AFF'!D:D="OUI")) -> 0 | H14: =Tableau3[[#This Row],[NB AFF NON TERMINEES]]/Tableau3[[#This Row],[NB AFF]] -> 0
B15: CAMBRAI | C15: Remy | D15: =SUMPRODUCT((--ISNUMBER(FIND(C15,'IMPORT AFF'!B:B)))*(SYNTHESE!B:B>=$F$7)) -> 0 | E15: =SUMPRODUCT((--ISNUMBER(FIND(C15,'IMPORT AFF'!B:B)))*('IMPORT AFF'!C:C>=SYNTHESE!$F$7)*('IMPORT AFF'!D:D="OUI")) -> 0 | F15: =E15/D15 -> #DIV/0! | G15: =SUMPRODUCT((--ISNUMBER(FIND(C15,'IMPORT AFF'!B:B)))*('IMPORT AFF'!C:C>=SYNTHESE!$F$7)*('IMPORT AFF'!D:D="OUI")) -> 0 | H15: =Tableau3[[#This Row],[NB AFF NON TERMINEES]]/Tableau3[[#This Row],[NB AFF]] -> #DIV/0!
B16: MAUBEUGE | C16: Steven | D16: =SUMPRODUCT((--ISNUMBER(FIND(C16,'IMPORT AFF'!B:B)))*(SYNTHESE!B:B>=$F$7)) -> 5 | E16: =SUMPRODUCT((--ISNUMBER(FIND(C16,'IMPORT AFF'!B:B)))*('IMPORT AFF'!C:C>=SYNTHESE!$F$7)*('IMPORT AFF'!D:D="OUI")) -> 2 | F16: =E16/D16 -> 0.4 | G16: =SUMPRODUCT((--ISNUMBER(FIND(C16,'IMPORT AFF'!B:B)))*('IMPORT AFF'!C:C>=SYNTHESE!$F$7)*('IMPORT AFF'!D:D="OUI")) -> 2 | H16: =Tableau3[[#This Row],[NB AFF NON TERMINEES]]/Tableau3[[#This Row],[NB AFF]] -> 0.4
B17: MAUBEUGE | C17: Gaetan | D17: =SUMPRODUCT((--ISNUMBER(FIND(C17,'IMPORT AFF'!B:B)))*(SYNTHESE!B:B>=$F$7)) -> 4 | E17: =SUMPRODUCT((--ISNUMBER(FIND(C17,'IMPORT AFF'!B:B)))*('IMPORT AFF'!C:C>=SYNTHESE!$F$7)*('IMPORT AFF'!D:D="OUI")) -> 1 | F17: =E17/D17 -> 0.25 | G17: =SUMPRODUCT((--ISNUMBER(FIND(C17,'IMPORT AFF'!B:B)))*('IMPORT AFF'!C:C>=SYNTHESE!$F$7)*('IMPORT AFF'!D:D="OUI")) -> 1 | H17: =Tableau3[[#This Row],[NB AFF NON TERMINEES]]/Tableau3[[#This Row],[NB AFF]] -> 0.25
B18: MAUBEUGE | C18: Romain | D18: =SUMPRODUCT((--ISNUMBER(FIND(C18,'IMPORT AFF'!B:B)))*(SYNTHESE!B:B>=$F$7)) -> 6 | E18: =SUMPRODUCT((--ISNUMBER(FIND(C18,'IMPORT AFF'!B:B)))*('IMPORT AFF'!C:C>=SYNTHESE!$F$7)*('IMPORT AFF'!D:D="OUI")) -> 7 | F18: =E18/D18 -> 1.1666667 | G18: =SUMPRODUCT((--ISNUMBER(FIND(C18,'IMPORT AFF'!B:B)))*('IMPORT AFF'!C:C>=SYNTHESE!$F$7)*('IMPORT AFF'!D:D="OUI")) -> 7 | H18: =Tableau3[[#This Row],[NB AFF NON TERMINEES]]/Tableau3[[#This Row],[NB AFF]] -> 1.1666667
B19: CAMBRAI | C19: Stephane | D19: =SUMPRODUCT((--ISNUMBER(FIND(C19,'IMPORT AFF'!B:B)))*(SYNTHESE!B:B>=$F$7)) -> 1 | E19: =SUMPRODUCT((--ISNUMBER(FIND(C19,'IMPORT AFF'!B:B)))*('IMPORT AFF'!C:C>=SYNTHESE!$F$7)*('IMPORT AFF'!D:D="OUI")) -> 1 | F19: =E19/D19 -> 1 | G19: =SUMPRODUCT((--ISNUMBER(FIND(C19,'IMPORT AFF'!B:B)))*('IMPORT AFF'!C:C>=SYNTHESE!$F$7)*('IMPORT AFF'!D:D="OUI")) -> 1 | H19: =Tableau3[[#This Row],[NB AFF NON TERMINEES]]/Tableau3[[#This Row],[NB AFF]] -> 1
B20: MARLY | C20: Sebastien | D20: =SUMPRODUCT((--ISNUMBER(FIND(C20,'IMPORT AFF'!B:B)))*(SYNTHESE!B:B>=$F$7)) -> 1 | E20: =SUMPRODUCT((--ISNUMBER(FIND(C20,'IMPORT AFF'!B:B)))*('IMPORT AFF'!C:C>=SYNTHESE!$F$7)*('IMPORT AFF'!D:D="OUI")) -> 0 | F20: =E20/D20 -> 0 | G20: =SUMPRODUCT((--ISNUMBER(FIND(C20,'IMPORT AFF'!B:B)))*('IMPORT AFF'!C:C>=SYNTHESE!$F$7)*('IMPORT AFF'!D:D="OUI")) -> 0 | H20: =Tableau3[[#This Row],[NB AFF NON TERMINEES]]/Tableau3[[#This Row],[NB AFF]] -> 0
B21: MAUBEUGE | C21: Vincent | D21: =SUMPRODUCT((--ISNUMBER(FIND(C21,'IMPORT AFF'!B:B)))*(SYNTHESE!B:B>=$F$7)) -> 0 | E21: =SUMPRODUCT((--ISNUMBER(FIND(C21,'IMPORT AFF'!B:B)))*('IMPORT AFF'!C:C>=SYNTHESE!$F$7)*('IMPORT AFF'!D:D="OUI")) -> 0 | F21: =E21/D21 -> #DIV/0! | G21: =SUMPRODUCT((--ISNUMBER(FIND(C21,'IMPORT AFF'!B:B)))*('IMPORT AFF'!C:C>=SYNTHESE!$F$7)*('IMPORT AFF'!D:D="OUI")) -> 0 | H21: =Tableau3[[#This Row],[NB AFF NON TERMINEES]]/Tableau3[[#This Row],[NB AFF]] -> #DIV/0!
