Workbook

Sheet tarifs
B1: < 2KG | C1: >2KG
A2: Fromage 1 | B2: 6 | C2: 8.7
A3: Fromage 2 | B3: 2 | C3: 5
A4: Fromage 3 | B4: 4 | C4: 7

Sheet S27
A1: NOMS | B1: Prénoms | C1: reste à payer | D1: Fromage 1 | G1: Fromage 2
D2: <2KG | E2: >2KG | F2: TOTAL | G2: Kg | H2: TOTAL
B3: FRANCK | C3: =F3+H3 -> #REF! | D3: 1 | F3: =IF(D3>0,D3*tarifs!$C$2+E3*tarifs!#REF!,"") -> #REF!
B4: HUBERT | C4: =F4+H4 -> #REF! | D4: 2 | F4: =IF(D4>0,D4*tarifs!$C$2+E4*tarifs!#REF!,"") -> #REF!
B5: SONIA | C5: =F5+H5 -> #REF! | D5: 2 | E5: 1 | F5: =IF(D5>0,D5*tarifs!$C$2+E5*tarifs!#REF!,"") -> #REF!
B6: CLAUDY | C6: =F6+H6 -> #REF! | D6: 1 | F6: =IF(D6>0,D6*tarifs!$C$2+E6*tarifs!#REF!,"") -> #REF!
A11: NOMS | B11: Prénoms | C11: reste à payer | D11: Fromage 1 | F11: Fromage 2
D12: Kg | E12: TOTAL | F12: Kg | G12: TOTAL
B13: FRANCK | C13: =E13+G13 -> 14.7 | D13: 3 | E13: =IF((D13-2)>0,(D13-2)*tarifs!B2) -> 6 | F13: 1 | G13: 8.7
B14: HUBERT | C14: =E14+G14 -> 0
B15: SONIA | C15: =E15+G15 -> 0
B16: CLAUDY | C16: =E16+G16 -> 0
A19: NOMS | B19: Prénoms | C19: reste à payer
D20: Fromage | E20: Kg | F20: <2 | G20: >2 | H20: TOTAL
B21: FRANCK | C21: =SUMPRODUCT((H$21:H$25)*(B$21:B$25=B21)) -> 45.4 | D21: Fromage 2 | E21: 8 | F21: =IF((E21-2)<0,E21,E21-2) -> 6 | G21: =E21-F21 -> 2 | H21: =SUMPRODUCT((tarifs!A$2:A$4='S27'!D21)*(F21*tarifs!B$2:B$4))+SUMPRODUCT((tarifs!A$2:A$4='S27'!D21)*(G21*tarifs!C$2:C$4)) -> 22
B22: FRANCK | C22: =SUMPRODUCT((H$21:H$25)*(B$21:B$25=B22)) -> 45.4 | D22: Fromage 1 | E22: 3 | F22: =IF((E22-2)<0,E22,E22-2) -> 1 | G22: =E22-F22 -> 2 | H22: =SUMPRODUCT((tarifs!A$2:A$4='S27'!D22)*(F22*tarifs!B$2:B$4))+SUMPRODUCT((tarifs!A$2:A$4='S27'!D22)*(G22*tarifs!C$2:C$4)) -> 23.4
B23: HUBERT | C23: =SUMPRODUCT((H$21:H$25)*(B$21:B$25=B23)) -> 4 | D23: Fromage 3 | E23: 1 | F23: =IF((E23-2)<0,E23,E23-2) -> 1 | G23: =E23-F23 -> 0 | H23: =SUMPRODUCT((tarifs!A$2:A$4='S27'!D23)*(F23*tarifs!B$2:B$4))+SUMPRODUCT((tarifs!A$2:A$4='S27'!D23)*(G23*tarifs!C$2:C$4)) -> 4
B24: SONIA | C24: =SUMPRODUCT((H$21:H$25)*(B$21:B$25=B24)) -> 17.4 | D24: Fromage 1 | E24: 2 | F24: =IF((E24-2)<0,E24,E24-2) -> 0 | G24: =E24-F24 -> 2 | H24: =SUMPRODUCT((tarifs!A$2:A$4='S27'!D24)*(F24*tarifs!B$2:B$4))+SUMPRODUCT((tarifs!A$2:A$4='S27'!D24)*(G24*tarifs!C$2:C$4)) -> 17.4
B25: CLAUDY | C25: =SUMPRODUCT((H$21:H$25)*(B$21:B$25=B25)) -> 22 | D25: Fromage 3 | E25: 4 | F25: =IF((E25-2)<0,E25,E25-2) -> 2 | G25: =E25-F25 -> 2 | H25: =SUMPRODUCT((tarifs!A$2:A$4='S27'!D25)*(F25*tarifs!B$2:B$4))+SUMPRODUCT((tarifs!A$2:A$4='S27'!D25)*(G25*tarifs!C$2:C$4)) -> 22

Sheet Feuil3
