Workbook
Name DebN: 'Elodie BROYER'!$A$1
Name FinN: 'Elodie BROYER'!$A$2

Sheet Elodie BROYER
A1: =TIMEVALUE("21:00") -> 0.875
A2: =TIMEVALUE("06:00") -> 0.25
AE3: HSSP
C4: FERIE | D4: CP | E4: RTT | F4: RECUP | G4: RECUP39 | H4: AT | I4: M
A7: 43710 | B7: =A7 -> 43710 | D7: 1 | K7: 0.3125 | L7: 0.5 | M7: 0.54166667 | N7: 0.75 | Q7: 7.5 | R7: =MOD('Elodie BROYER'!$L7-'Elodie BROYER'!$K7+'Elodie BROYER'!$N7-'Elodie BROYER'!$M7+'Elodie BROYER'!$P7-'Elodie BROYER'!$O7,1) -> 0.39583333 | S7: ='Elodie BROYER'!$R7 -> 0.39583333 | T7: =R7*24 -> 9.5 | U7: =S7*24 -> 9.5 | V7: =+IF(SUM('Elodie BROYER'!$I7,'Elodie BROYER'!$C7,'Elodie BROYER'!$H7)>0,0,(U7-SUM('Elodie BROYER'!$D7,'Elodie BROYER'!$E7,'Elodie BROYER'!$G7)*Q7)) -> 2 | W7: =IF(AND(K7<DebN,K7>=FinN),IF(L7>K7,IF(L7<=DebN,0,MOD(L7-DebN,1)),IF(L7>=FinN,MOD(FinN-DebN,1),MOD(L7-DebN,1))),IF(K7>=DebN,IF(OR(L7>K7,L7<=FinN),MOD(L7-K7,1),IF(L7<=DebN,MOD(FinN-K7,1),MOD(FinN-K7,1)+MOD(L7-DebN,1))),IF(OR(L7<K7,L7>DebN),MOD(FinN-K7,1)+MOD(L7-DebN,1),IF(L7<FinN,MOD(L7-K7,1),MOD(FinN-K7,1))))) -> 0 | X7: =IF(AND(M7<DebN,M7>=FinN),IF(N7>M7,IF(N7<=DebN,0,MOD(N7-DebN,1)),IF(N7>=FinN,MOD(FinN-DebN,1),MOD(N7-DebN,1))),IF(M7>=DebN,IF(OR(N7>M7,N7<=FinN),MOD(N7-M7,1),IF(N7<=DebN,MOD(FinN-M7,1),MOD(FinN-M7,1)+MOD(N7-DebN,1))),IF(OR(N7<M7,N7>DebN),MOD(FinN-M7,1)+MOD(N7-DebN,1),IF(N7<FinN,MOD(N7-M7,1),MOD(FinN-M7,1))))) -> 0 | Y7: =IF(AND(O7<DebN,O7>=FinN),IF(P7>O7,IF(P7<=DebN,0,MOD(P7-DebN,1)),IF(P7>=FinN,MOD(FinN-DebN,1),MOD(P7-DebN,1))),IF(O7>=DebN,IF(OR(P7>O7,P7<=FinN),MOD(P7-O7,1),IF(P7<=DebN,MOD(FinN-O7,1),MOD(FinN-O7,1)+MOD(P7-DebN,1))),IF(OR(P7<O7,P7>DebN),MOD(FinN-O7,1)+MOD(P7-DebN,1),IF(P7<FinN,MOD(P7-O7,1),MOD(FinN-O7,1))))) -> 0 | Z7: =W7+X7+Y7 -> 0 | AA7: ='Elodie BROYER'!$V7-'Elodie BROYER'!$F7 -> 2 | AB7: =IF(U7>Q7,U7-Q7,0) -> 2 | AC7: =Z7*24 -> 0 | AD7: HS | AF7: =AB7-AE7 -> 2
A8: 43711 | B8: =A8 -> 43711 | K8: 0.3125 | L8: 0.5 | M8: 0.54166667 | N8: 0.66666667 | Q8: 7.5 | R8: =MOD('Elodie BROYER'!$L8-'Elodie BROYER'!$K8+'Elodie BROYER'!$N8-'Elodie BROYER'!$M8+'Elodie BROYER'!$P8-'Elodie BROYER'!$O8,1) -> 0.3125 | S8: ='Elodie BROYER'!$R8 -> 0.3125 | T8: =R8*24 -> 7.5 | U8: =S8*24 -> 7.5 | V8: =+IF(SUM('Elodie BROYER'!$I8,'Elodie BROYER'!$C8,'Elodie BROYER'!$H8)>0,0,(U8-SUM('Elodie BROYER'!$D8,'Elodie BROYER'!$E8,'Elodie BROYER'!$G8)*Q8)) -> 7.5 | W8: =IF(AND(K8<DebN,K8>=FinN),IF(L8>K8,IF(L8<=DebN,0,MOD(L8-DebN,1)),IF(L8>=FinN,MOD(FinN-DebN,1),MOD(L8-DebN,1))),IF(K8>=DebN,IF(OR(L8>K8,L8<=FinN),MOD(L8-K8,1),IF(L8<=DebN,MOD(FinN-K8,1),MOD(FinN-K8,1)+MOD(L8-DebN,1))),IF(OR(L8<K8,L8>DebN),MOD(FinN-K8,1)+MOD(L8-DebN,1),IF(L8<FinN,MOD(L8-K8,1),MOD(FinN-K8,1))))) -> 0 | X8: =IF(AND(M8<DebN,M8>=FinN),IF(N8>M8,IF(N8<=DebN,0,MOD(N8-DebN,1)),IF(N8>=FinN,MOD(FinN-DebN,1),MOD(N8-DebN,1))),IF(M8>=DebN,IF(OR(N8>M8,N8<=FinN),MOD(N8-M8,1),IF(N8<=DebN,MOD(FinN-M8,1),MOD(FinN-M8,1)+MOD(N8-DebN,1))),IF(OR(N8<M8,N8>DebN),MOD(FinN-M8,1)+MOD(N8-DebN,1),IF(N8<FinN,MOD(N8-M8,1),MOD(FinN-M8,1))))) -> 0 | Y8: =IF(AND(O8<DebN,O8>=FinN),IF(P8>O8,IF(P8<=DebN,0,MOD(P8-DebN,1)),IF(P8>=FinN,MOD(FinN-DebN,1),MOD(P8-DebN,1))),IF(O8>=DebN,IF(OR(P8>O8,P8<=FinN),MOD(P8-O8,1),IF(P8<=DebN,MOD(FinN-O8,1),MOD(FinN-O8,1)+MOD(P8-DebN,1))),IF(OR(P8<O8,P8>DebN),MOD(FinN-O8,1)+MOD(P8-DebN,1),IF(P8<FinN,MOD(P8-O8,1),MOD(FinN-O8,1))))) -> 0 | Z8: =W8+X8+Y8 -> 0 | AA8: ='Elodie BROYER'!$V8-'Elodie BROYER'!$F8 -> 7.5 | AB8: =IF(U8>Q8,U8-Q8,0) -> 0 | AC8: =Z8*24 -> 0 | AF8: =AB8-AE8 -> 0
A9: 43712 | B9: =A9 -> 43712 | K9: 0.3125 | L9: 0.5 | M9: 0.54166667 | N9: 0.66666667 | Q9: 7.5 | R9: =MOD('Elodie BROYER'!$L9-'Elodie BROYER'!$K9+'Elodie BROYER'!$N9-'Elodie BROYER'!$M9+'Elodie BROYER'!$P9-'Elodie BROYER'!$O9,1) -> 0.3125 | S9: ='Elodie BROYER'!$R9 -> 0.3125 | T9: =R9*24 -> 7.5 | U9: =S9*24 -> 7.5 | V9: =+IF(SUM('Elodie BROYER'!$I9,'Elodie BROYER'!$C9,'Elodie BROYER'!$H9)>0,0,(U9-SUM('Elodie BROYER'!$D9,'Elodie BROYER'!$E9,'Elodie BROYER'!$G9)*Q9)) -> 7.5 | W9: =IF(AND(K9<DebN,K9>=FinN),IF(L9>K9,IF(L9<=DebN,0,MOD(L9-DebN,1)),IF(L9>=FinN,MOD(FinN-DebN,1),MOD(L9-DebN,1))),IF(K9>=DebN,IF(OR(L9>K9,L9<=FinN),MOD(L9-K9,1),IF(L9<=DebN,MOD(FinN-K9,1),MOD(FinN-K9,1)+MOD(L9-DebN,1))),IF(OR(L9<K9,L9>DebN),MOD(FinN-K9,1)+MOD(L9-DebN,1),IF(L9<FinN,MOD(L9-K9,1),MOD(FinN-K9,1))))) -> 0 | X9: =IF(AND(M9<DebN,M9>=FinN),IF(N9>M9,IF(N9<=DebN,0,MOD(N9-DebN,1)),IF(N9>=FinN,MOD(FinN-DebN,1),MOD(N9-DebN,1))),IF(M9>=DebN,IF(OR(N9>M9,N9<=FinN),MOD(N9-M9,1),IF(N9<=DebN,MOD(FinN-M9,1),MOD(FinN-M9,1)+MOD(N9-DebN,1))),IF(OR(N9<M9,N9>DebN),MOD(FinN-M9,1)+MOD(N9-DebN,1),IF(N9<FinN,MOD(N9-M9,1),MOD(FinN-M9,1))))) -> 0 | Y9: =IF(AND(O9<DebN,O9>=FinN),IF(P9>O9,IF(P9<=DebN,0,MOD(P9-DebN,1)),IF(P9>=FinN,MOD(FinN-DebN,1),MOD(P9-DebN,1))),IF(O9>=DebN,IF(OR(P9>O9,P9<=FinN),MOD(P9-O9,1),IF(P9<=DebN,MOD(FinN-O9,1),MOD(FinN-O9,1)+MOD(P9-DebN,1))),IF(OR(P9<O9,P9>DebN),MOD(FinN-O9,1)+MOD(P9-DebN,1),IF(P9<FinN,MOD(P9-O9,1),MOD(FinN-O9,1))))) -> 0 | Z9: =W9+X9+Y9 -> 0 | AA9: ='Elodie BROYER'!$V9-'Elodie BROYER'!$F9 -> 7.5 | AB9: =IF(U9>Q9,U9-Q9,0) -> 0 | AC9: =Z9*24 -> 0 | AF9: =AB9-AE9 -> 0
A10: 43713 | B10: =A10 -> 43713 | K10: 0.3125 | L10: 0.5 | M10: 0.54166667 | N10: 0.66666667 | Q10: 7.5 | R10: =MOD('Elodie BROYER'!$L10-'Elodie BROYER'!$K10+'Elodie BROYER'!$N10-'Elodie BROYER'!$M10+'Elodie BROYER'!$P10-'Elodie BROYER'!$O10,1) -> 0.3125 | S10: ='Elodie BROYER'!$R10 -> 0.3125 | T10: =R10*24 -> 7.5 | U10: =S10*24 -> 7.5 | V10: =+IF(SUM('Elodie BROYER'!$I10,'Elodie BROYER'!$C10,'Elodie BROYER'!$H10)>0,0,(U10-SUM('Elodie BROYER'!$D10,'Elodie BROYER'!$E10,'Elodie BROYER'!$G10)*Q10)) -> 7.5 | W10: =IF(AND(K10<DebN,K10>=FinN),IF(L10>K10,IF(L10<=DebN,0,MOD(L10-DebN,1)),IF(L10>=FinN,MOD(FinN-DebN,1),MOD(L10-DebN,1))),IF(K10>=DebN,IF(OR(L10>K10,L10<=FinN),MOD(L10-K10,1),IF(L10<=DebN,MOD(FinN-K10,1),MOD(FinN-K10,1)+MOD(L10-DebN,1))),IF(OR(L10<K10,L10>DebN),MOD(FinN-K10,1)+MOD(L10-DebN,1),IF(L10<FinN,MOD(L10-K10,1),MOD(FinN-K10,1))))) -> 0 | X10: =IF(AND(M10<DebN,M10>=FinN),IF(N10>M10,IF(N10<=DebN,0,MOD(N10-DebN,1)),IF(N10>=FinN,MOD(FinN-DebN,1),MOD(N10-DebN,1))),IF(M10>=DebN,IF(OR(N10>M10,N10<=FinN),MOD(N10-M10,1),IF(N10<=DebN,MOD(FinN-M10,1),MOD(FinN-M10,1)+MOD(N10-DebN,1))),IF(OR(N10<M10,N10>DebN),MOD(FinN-M10,1)+MOD(N10-DebN,1),IF(N10<FinN,MOD(N10-M10,1),MOD(FinN-M10,1))))) -> 0 | Y10: =IF(AND(O10<DebN,O10>=FinN),IF(P10>O10,IF(P10<=DebN,0,MOD(P10-DebN,1)),IF(P10>=FinN,MOD(FinN-DebN,1),MOD(P10-DebN,1))),IF(O10>=DebN,IF(OR(P10>O10,P10<=FinN),MOD(P10-O10,1),IF(P10<=DebN,MOD(FinN-O10,1),MOD(FinN-O10,1)+MOD(P10-DebN,1))),IF(OR(P10<O10,P10>DebN),MOD(FinN-O10,1)+MOD(P10-DebN,1),IF(P10<FinN,MOD(P10-O10,1),MOD(FinN-O10,1))))) -> 0 | Z10: =W10+X10+Y10 -> 0 | AA10: ='Elodie BROYER'!$V10-'Elodie BROYER'!$F10 -> 7.5 | AB10: =IF(U10>Q10,U10-Q10,0) -> 0 | AC10: =Z10*24 -> 0 | AF10: =AB10-AE10 -> 0
A11: 43714 | B11: =A11 -> 43714 | K11: 0.3125 | L11: 0.5 | M11: 0.54166667 | N11: 0.64583333 | Q11: 7 | R11: =MOD('Elodie BROYER'!$L11-'Elodie BROYER'!$K11+'Elodie BROYER'!$N11-'Elodie BROYER'!$M11+'Elodie BROYER'!$P11-'Elodie BROYER'!$O11,1) -> 0.29166667 | S11: ='Elodie BROYER'!$R11 -> 0.29166667 | T11: =R11*24 -> 7 | U11: =S11*24 -> 7 | V11: =+IF(SUM('Elodie BROYER'!$I11,'Elodie BROYER'!$C11,'Elodie BROYER'!$H11)>0,0,(U11-SUM('Elodie BROYER'!$D11,'Elodie BROYER'!$E11,'Elodie BROYER'!$G11)*Q11)) -> 7 | W11: =IF(AND(K11<DebN,K11>=FinN),IF(L11>K11,IF(L11<=DebN,0,MOD(L11-DebN,1)),IF(L11>=FinN,MOD(FinN-DebN,1),MOD(L11-DebN,1))),IF(K11>=DebN,IF(OR(L11>K11,L11<=FinN),MOD(L11-K11,1),IF(L11<=DebN,MOD(FinN-K11,1),MOD(FinN-K11,1)+MOD(L11-DebN,1))),IF(OR(L11<K11,L11>DebN),MOD(FinN-K11,1)+MOD(L11-DebN,1),IF(L11<FinN,MOD(L11-K11,1),MOD(FinN-K11,1))))) -> 0 | X11: =IF(AND(M11<DebN,M11>=FinN),IF(N11>M11,IF(N11<=DebN,0,MOD(N11-DebN,1)),IF(N11>=FinN,MOD(FinN-DebN,1),MOD(N11-DebN,1))),IF(M11>=DebN,IF(OR(N11>M11,N11<=FinN),MOD(N11-M11,1),IF(N11<=DebN,MOD(FinN-M11,1),MOD(FinN-M11,1)+MOD(N11-DebN,1))),IF(OR(N11<M11,N11>DebN),MOD(FinN-M11,1)+MOD(N11-DebN,1),IF(N11<FinN,MOD(N11-M11,1),MOD(FinN-M11,1))))) -> 0 | Y11: =IF(AND(O11<DebN,O11>=FinN),IF(P11>O11,IF(P11<=DebN,0,MOD(P11-DebN,1)),IF(P11>=FinN,MOD(FinN-DebN,1),MOD(P11-DebN,1))),IF(O11>=DebN,IF(OR(P11>O11,P11<=FinN),MOD(P11-O11,1),IF(P11<=DebN,MOD(FinN-O11,1),MOD(FinN-O11,1)+MOD(P11-DebN,1))),IF(OR(P11<O11,P11>DebN),MOD(FinN-O11,1)+MOD(P11-DebN,1),IF(P11<FinN,MOD(P11-O11,1),MOD(FinN-O11,1))))) -> 0 | Z11: =W11+X11+Y11 -> 0 | AA11: ='Elodie BROYER'!$V11-'Elodie BROYER'!$F11 -> 7 | AB11: =IF(U11>Q11,U11-Q11,0) -> 0 | AC11: =Z11*24 -> 0 | AF11: =AB11-AE11 -> 0
A12: 43715 | B12: =A12 -> 43715 | R12: =MOD('Elodie BROYER'!$L12-'Elodie BROYER'!$K12+'Elodie BROYER'!$N12-'Elodie BROYER'!$M12+'Elodie BROYER'!$P12-'Elodie BROYER'!$O12,1) -> 0 | S12: ='Elodie BROYER'!$R12 -> 0 | T12: =R12*24 -> 0 | U12: =S12*24 -> 0 | V12: =+IF(SUM('Elodie BROYER'!$I12,'Elodie BROYER'!$C12,'Elodie BROYER'!$H12)>0,0,(U12-SUM('Elodie BROYER'!$D12,'Elodie BROYER'!$E12,'Elodie BROYER'!$G12)*Q12)) -> 0 | W12: =IF(AND(K12<DebN,K12>=FinN),IF(L12>K12,IF(L12<=DebN,0,MOD(L12-DebN,1)),IF(L12>=FinN,MOD(FinN-DebN,1),MOD(L12-DebN,1))),IF(K12>=DebN,IF(OR(L12>K12,L12<=FinN),MOD(L12-K12,1),IF(L12<=DebN,MOD(FinN-K12,1),MOD(FinN-K12,1)+MOD(L12-DebN,1))),IF(OR(L12<K12,L12>DebN),MOD(FinN-K12,1)+MOD(L12-DebN,1),IF(L12<FinN,MOD(L12-K12,1),MOD(FinN-K12,1))))) -> 0 | X12: =IF(AND(M12<DebN,M12>=FinN),IF(N12>M12,IF(N12<=DebN,0,MOD(N12-DebN,1)),IF(N12>=FinN,MOD(FinN-DebN,1),MOD(N12-DebN,1))),IF(M12>=DebN,IF(OR(N12>M12,N12<=FinN),MOD(N12-M12,1),IF(N12<=DebN,MOD(FinN-M12,1),MOD(FinN-M12,1)+MOD(N12-DebN,1))),IF(OR(N12<M12,N12>DebN),MOD(FinN-M12,1)+MOD(N12-DebN,1),IF(N12<FinN,MOD(N12-M12,1),MOD(FinN-M12,1))))) -> 0 | Y12: =IF(AND(O12<DebN,O12>=FinN),IF(P12>O12,IF(P12<=DebN,0,MOD(P12-DebN,1)),IF(P12>=FinN,MOD(FinN-DebN,1),MOD(P12-DebN,1))),IF(O12>=DebN,IF(OR(P12>O12,P12<=FinN),MOD(P12-O12,1),IF(P12<=DebN,MOD(FinN-O12,1),MOD(FinN-O12,1)+MOD(P12-DebN,1))),IF(OR(P12<O12,P12>DebN),MOD(FinN-O12,1)+MOD(P12-DebN,1),IF(P12<FinN,MOD(P12-O12,1),MOD(FinN-O12,1))))) -> 0 | Z12: =W12+X12+Y12 -> 0 | AB12: =IF(U12>Q12,U12-Q12,0) -> 0 | AC12: =Z12*24 -> 0 | AF12: =AB12-AE12 -> 0
A13: 43716 | B13: =A13 -> 43716 | R13: =MOD('Elodie BROYER'!$L13-'Elodie BROYER'!$K13+'Elodie BROYER'!$N13-'Elodie BROYER'!$M13+'Elodie BROYER'!$P13-'Elodie BROYER'!$O13,1) -> 0 | S13: ='Elodie BROYER'!$R13 -> 0 | T13: =R13*24 -> 0 | U13: =S13*24 -> 0 | V13: =+IF(SUM('Elodie BROYER'!$I13,'Elodie BROYER'!$C13,'Elodie BROYER'!$H13)>0,0,(U13-SUM('Elodie BROYER'!$D13,'Elodie BROYER'!$E13,'Elodie BROYER'!$G13)*Q13)) -> 0 | W13: =IF(AND(K13<DebN,K13>=FinN),IF(L13>K13,IF(L13<=DebN,0,MOD(L13-DebN,1)),IF(L13>=FinN,MOD(FinN-DebN,1),MOD(L13-DebN,1))),IF(K13>=DebN,IF(OR(L13>K13,L13<=FinN),MOD(L13-K13,1),IF(L13<=DebN,MOD(FinN-K13,1),MOD(FinN-K13,1)+MOD(L13-DebN,1))),IF(OR(L13<K13,L13>DebN),MOD(FinN-K13,1)+MOD(L13-DebN,1),IF(L13<FinN,MOD(L13-K13,1),MOD(FinN-K13,1))))) -> 0 | X13: =IF(AND(M13<DebN,M13>=FinN),IF(N13>M13,IF(N13<=DebN,0,MOD(N13-DebN,1)),IF(N13>=FinN,MOD(FinN-DebN,1),MOD(N13-DebN,1))),IF(M13>=DebN,IF(OR(N13>M13,N13<=FinN),MOD(N13-M13,1),IF(N13<=DebN,MOD(FinN-M13,1),MOD(FinN-M13,1)+MOD(N13-DebN,1))),IF(OR(N13<M13,N13>DebN),MOD(FinN-M13,1)+MOD(N13-DebN,1),IF(N13<FinN,MOD(N13-M13,1),MOD(FinN-M13,1))))) -> 0 | Y13: =IF(AND(O13<DebN,O13>=FinN),IF(P13>O13,IF(P13<=DebN,0,MOD(P13-DebN,1)),IF(P13>=FinN,MOD(FinN-DebN,1),MOD(P13-DebN,1))),IF(O13>=DebN,IF(OR(P13>O13,P13<=FinN),MOD(P13-O13,1),IF(P13<=DebN,MOD(FinN-O13,1),MOD(FinN-O13,1)+MOD(P13-DebN,1))),IF(OR(P13<O13,P13>DebN),MOD(FinN-O13,1)+MOD(P13-DebN,1),IF(P13<FinN,MOD(P13-O13,1),MOD(FinN-O13,1))))) -> 0 | Z13: =W13+X13+Y13 -> 0 | AB13: =IF(U13>Q13,U13-Q13,0) -> 0 | AC13: =Z13*24 -> 0 | AF13: =AB13-AE13 -> 0
