Workbook

Sheet Factures
A1: Base de données des Factures
A2: Saisir dans les cases vertes
C3: Saisir les factures à la suite :
A4: Numéro de la facture : | C4: F00001 | D4: F00002 | E4: F00003 | F4: F00004 | G4: F00005 | H4: F00006 | I4: F00007 | J4: F00008 | K4: F00009 | L4: F00010 | M4: F00011 | N4: F00012 | O4: F00013 | P4: F00014 | Q4: F00015 | R4: F00016 | S4: F00017 | T4: F00018 | U4: F00019 | V4: F00020 | W4: F00021 | X4: F00022 | Y4: F00023 | Z4: F00024 | AA4: F00025 | AB4: F00026 | AC4: F00027 | AD4: F00028 | AE4: F00029 | AF4: F00030 | AG4: F00031 | AH4: F00032 | AI4: F00033 | AJ4: F00034 | AK4: F00035 | AL4: F00036 | AM4: F00037 | AN4: F00038 | AO4: F00039 | AP4: F00040 | AQ4: F00041 | AR4: F00042 | AS4: F00043 | AT4: F00044 | AU4: F00045 | AV4: F00046 | AW4: F00047 | AX4: F00048 | AY4: F00049 | AZ4: F00050 | BA4: F00051 | BB4: F00052 | BC4: F00053 | BD4: F00054 | BE4: F00055 | BF4: F00056 | BG4: F00057 | BH4: F00058 | BI4: F00059 | BJ4: F00060 | BK4: F00061 | BL4: F00062 | BM4: F00063 | BN4: F00064 | BO4: F00065 | BP4: F00066 | BQ4: F00067 | BR4: F00068 | BS4: F00069 | BT4: F00070 | BU4: F00071 | BV4: F00072 | BW4: F00073 | BX4: F00074 | BY4: F00075 | BZ4: F00076 | CA4: F00077 | CB4: F00078 | CC4: F00079 | CD4: F00080 | CE4: F00081 | CF4: F00082 | CG4: F00083 | CH4: F00084 | CI4: F00085 | CJ4: F00086 | CK4: F00087 | CL4: F00088 | CM4: F00089 | CN4: F00090 | CO4: F00091 | CP4: F00092 | CQ4: F00093 | CR4: F00094 | CS4: F00095 | CT4: F00096 | CU4: F00097 | CV4: F00098 | CW4: F00099 | CX4: F00100
A5: Nom client : | C5: Test | D5: Test | E5: Test | F5: Test
A6: Saisir date facture (Ctrl + touche point virgule) ; obligatoire | C6: 43623 | D6: 44081 | E6: 44476 | F6: 44902
A7: Saisir date échéance (Ctrl + touche point virgule)
A8: P0001
A9: P0002 | C9: 50 | E9: 10 | F9: 360
A10: P0003
A11: P0004 | D11: 60 | E11: 20
A12: P0005 | E12: 600
A13: P0006 | C13: 430 | D13: 140 | F13: 250
A14: P0007 | C14: 100
A15: P0008
A16: P0009
A17: P0010
A18: P0011
A19: P0012
A20: P0013
A21: P0014
A22: P0015
A23: P0016
A24: P0017
A25: P0018
A26: P0019
... A107: P0100
A108: Total | C108: =SUM(C8:C107) -> 580 | D108: =SUM(D8:D107) -> 200 | E108: =SUM(E8:E107) -> 630 | F108: =SUM(F8:F107) -> 610 | G108: =SUM(G8:G107) -> 0 | H108: =SUM(H8:H107) -> 0 | I108: =SUM(I8:I107) -> 0 | J108: =SUM(J8:J107) -> 0 | ... CX108: =SUM(CX8:CX107) -> 0

Sheet Recettes
A1: Liste années : | C1: 2019 | D1: 2020 | E1: 2021 | F1: 2022 | G1: 2023 | H1: 2024 | I1: 2025 | J1: 2026 | K1: 2027 | L1: 2028 | M1: 2029 | N1: 2030 | O1: 2031 | P1: 2032 | Q1: 2033 | R1: 2034 | S1: 2035 | T1: 2036 | U1: 2037 | V1: 2038 | W1: 2039 | X1: 2040 | Y1: 2041 | Z1: 2042 | AA1: 2043 | AB1: 2044 | AC1: 2045 | AD1: 2046 | AE1: 2047 | AF1: 2048 | AG1: 2049 | AH1: 2050
A2: Liste mois : | C2: 1 | D2: 2 | E2: 3 | F2: 4 | G2: 5 | H2: 6 | I2: 7 | J2: 8 | K2: 9 | L2: 10 | M2: 11 | N2: 12
A3: Report année de la facture : | C3: =IF(Factures!C6=0," ",YEAR(Factures!C6)) -> 2019 | D3: =IF(Factures!D6=0," ",YEAR(Factures!D6)) -> 2020 | E3: =IF(Factures!E6=0," ",YEAR(Factures!E6)) -> 2021 | F3: =IF(Factures!F6=0," ",YEAR(Factures!F6)) -> 2022 | G3: =IF(Factures!G6=0," ",YEAR(Factures!G6)) | H3: =IF(Factures!H6=0," ",YEAR(Factures!H6)) | I3: =IF(Factures!I6=0," ",YEAR(Factures!I6)) | J3: =IF(Factures!J6=0," ",YEAR(Factures!J6)) | ... CX3: =IF(Factures!CX6=0," ",YEAR(Factures!CX6))
A4: Report mois de la facture : | C4: =IF(Factures!C6=0," ",MONTH(Factures!C6)) -> 6 | D4: =IF(Factures!D6=0," ",MONTH(Factures!D6)) -> 9 | E4: =IF(Factures!E6=0," ",MONTH(Factures!E6)) -> 10 | F4: =IF(Factures!F6=0," ",MONTH(Factures!F6)) -> 12 | G4: =IF(Factures!G6=0," ",MONTH(Factures!G6)) | H4: =IF(Factures!H6=0," ",MONTH(Factures!H6)) | I4: =IF(Factures!I6=0," ",MONTH(Factures!I6)) | J4: =IF(Factures!J6=0," ",MONTH(Factures!J6)) | ... CX4: =IF(Factures!CX6=0," ",MONTH(Factures!CX6))
A5: Report montant de la facture : | C5: =Factures!C108 -> 580 | D5: =Factures!D108 -> 200 | E5: =Factures!E108 -> 630 | F5: =Factures!F108 -> 610 | G5: =Factures!G108 -> 0 | H5: =Factures!H108 -> 0 | I5: =Factures!I108 -> 0 | J5: =Factures!J108 -> 0 | ... CX5: =Factures!CX108 -> 0
A6: Numéro de facture : | C6: F00001 | D6: F00002 | E6: F00003 | F6: F00004 | G6: F00005 | H6: F00006 | I6: F00007 | J6: F00008 | K6: F00009 | L6: F00010 | M6: F00011 | N6: F00012 | O6: F00013 | P6: F00014 | Q6: F00015 | R6: F00016 | S6: F00017 | T6: F00018 | U6: F00019 | V6: F00020 | W6: F00021 | X6: F00022 | Y6: F00023 | Z6: F00024 | AA6: F00025 | AB6: F00026 | AC6: F00027 | AD6: F00028 | AE6: F00029 | AF6: F00030 | AG6: F00031 | AH6: F00032 | AI6: F00033 | AJ6: F00034 | AK6: F00035 | AL6: F00036 | AM6: F00037 | AN6: F00038 | AO6: F00039 | AP6: F00040 | AQ6: F00041 | AR6: F00042 | AS6: F00043 | AT6: F00044 | AU6: F00045 | AV6: F00046 | AW6: F00047 | AX6: F00048 | AY6: F00049 | AZ6: F00050 | BA6: F00051 | BB6: F00052 | BC6: F00053 | BD6: F00054 | BE6: F00055 | BF6: F00056 | BG6: F00057 | BH6: F00058 | BI6: F00059 | BJ6: F00060 | BK6: F00061 | BL6: F00062 | BM6: F00063 | BN6: F00064 | BO6: F00065 | BP6: F00066 | BQ6: F00067 | BR6: F00068 | BS6: F00069 | BT6: F00070 | BU6: F00071 | BV6: F00072 | BW6: F00073 | BX6: F00074 | BY6: F00075 | BZ6: F00076 | CA6: F00077 | CB6: F00078 | CC6: F00079 | CD6: F00080 | CE6: F00081 | CF6: F00082 | CG6: F00083 | CH6: F00084 | CI6: F00085 | CJ6: F00086 | CK6: F00087 | CL6: F00088 | CM6: F00089 | CN6: F00090 | CO6: F00091 | CP6: F00092 | CQ6: F00093 | CR6: F00094 | CS6: F00095 | CT6: F00096 | CU6: F00097 | CV6: F00098 | CW6: F00099 | CX6: F00100
A7: Ce bandeau sert au calcul et sera masqué dans la version finale.
A9: Synthése des Recettes
A10: Saisir dans les cases vertes
A12: Sélectionnez l'année : | C12: 2019
A14: Janvier | B14: Date | C14: Réf. de la transaction | D14: Infos (Libellé, Client…) | E14: Montant | G14: Février | H14: Date | I14: Réf. de la transaction | J14: Infos (Libellé, Client…) | K14: Montant | M14: Mars | N14: Date | O14: Réf. de la transaction | P14: Infos (Libellé, Client…) | Q14: Montant | S14: Avril | T14: Date | U14: Réf. de la transaction | V14: Infos (Libellé, Client…) | W14: Montant | Y14: Mai | Z14: Date | AA14: Réf. de la transaction | AB14: Infos (Libellé, Client…) | AC14: Montant | AE14: Juin | AF14: Date | AG14: Réf. de la transaction | AH14: Infos (Libellé, Client…) | AI14: Montant | AK14: Juillet | AL14: Date | AM14: Réf. de la transaction | AN14: Infos (Libellé, Client…) | AO14: Montant | AQ14: Août | AR14: Date | AS14: Réf. de la transaction | AT14: Infos (Libellé, Client…) | AU14: Montant | AW14: Septembre | AX14: Date | AY14: Réf. de la transaction | AZ14: Infos (Libellé, Client…) | BA14: Montant | BC14: Octobre | BD14: Date | BE14: Réf. de la transaction | BF14: Infos (Libellé, Client…) | BG14: Montant | BI14: Novembre | BJ14: Date | BK14: Réf. de la transaction | BL14: Infos (Libellé, Client…) | BM14: Montant | BO14: Décembre | BP14: Date | BQ14: Réf. de la transaction | BR14: Infos (Libellé, Client…) | BS14: Montant
A15: Factures : | C15: =HLOOKUP(C12,C3:CX6,4,0) -> F00001 | G15: Factures : | M15: Factures : | S15: Factures : | Y15: Factures : | AE15: Factures : | AK15: Factures : | AQ15: Factures : | AW15: Factures : | BC15: Factures : | BI15: Factures : | BO15: Factures :
A16: (Remplissage | G16: (Remplissage | M16: (Remplissage | S16: (Remplissage | Y16: (Remplissage | AE16: (Remplissage | AK16: (Remplissage | AQ16: (Remplissage | AW16: (Remplissage | BC16: (Remplissage | BI16: (Remplissage | BO16: (Remplissage
A17: automatique) | G17: automatique) | M17: automatique) | S17: automatique) | Y17: automatique) | AE17: automatique) | AK17: automatique) | AQ17: automatique) | AW17: automatique) | BC17: automatique) | BI17: automatique) | BO17: automatique)
A36: Autres : | G36: Autres : | M36: Autres : | S36: Autres : | Y36: Autres : | AE36: Autres : | AK36: Autres : | AQ36: Autres : | AW36: Autres : | BC36: Autres : | BI36: Autres : | BO36: Autres :
