Workbook
Name Années: #REF!

Sheet Factures
A1: Base de données des Factures
A2: Saisir dans les cases vertes
B3: Saisir les factures à la suite :
A4: Numéro de la facture : | B4: F00001 | C4: F00002 | D4: F00003 | E4: F00004 | F4: F00005 | G4: F00006 | H4: F00007 | I4: F00008 | J4: F00009 | K4: F00010 | L4: F00011 | M4: F00012 | N4: F00013 | O4: F00014 | P4: F00015 | Q4: F00016 | R4: F00017 | S4: F00018 | T4: F00019 | U4: F00020 | V4: F00021 | W4: F00022 | X4: F00023 | Y4: F00024 | Z4: F00025 | AA4: F00026 | AB4: F00027 | AC4: F00028 | AD4: F00029 | AE4: F00030 | AF4: F00031 | AG4: F00032 | AH4: F00033 | AI4: F00034 | AJ4: F00035 | AK4: F00036 | AL4: F00037 | AM4: F00038 | AN4: F00039 | AO4: F00040 | AP4: F00041 | AQ4: F00042 | AR4: F00043 | AS4: F00044 | AT4: F00045 | AU4: F00046 | AV4: F00047 | AW4: F00048 | AX4: F00049 | AY4: F00050 | AZ4: F00051 | BA4: F00052 | BB4: F00053 | BC4: F00054 | BD4: F00055 | BE4: F00056 | BF4: F00057 | BG4: F00058 | BH4: F00059 | BI4: F00060 | BJ4: F00061 | BK4: F00062 | BL4: F00063 | BM4: F00064 | BN4: F00065 | BO4: F00066 | BP4: F00067 | BQ4: F00068 | BR4: F00069 | BS4: F00070 | BT4: F00071 | BU4: F00072 | BV4: F00073 | BW4: F00074 | BX4: F00075 | BY4: F00076 | BZ4: F00077 | CA4: F00078 | CB4: F00079 | CC4: F00080 | CD4: F00081 | CE4: F00082 | CF4: F00083 | CG4: F00084 | CH4: F00085 | CI4: F00086 | CJ4: F00087 | CK4: F00088 | CL4: F00089 | CM4: F00090 | CN4: F00091 | CO4: F00092 | CP4: F00093 | CQ4: F00094 | CR4: F00095 | CS4: F00096 | CT4: F00097 | CU4: F00098 | CV4: F00099 | CW4: F00100
A5: Nom client : | B5: TestA | C5: TestA | D5: TestA | E5: TestA | F5: TestC | G5: TestA | H5: TestB | I5: TestB | J5: TestB | K5: TestB
A6: Saisir date facture (Ctrl + touche point virgule) ; obligatoire | B6: 43472 | C6: 43481 | D6: 43486 | E6: 43510 | F6: 43510 | G6: 43532 | H6: 43936 | I6: 43973 | J6: 44029 | K6: 44159
A7: Saisir date échéance (Ctrl + touche point virgule)
A8: P0001 | G8: 100 | I8: 30 | K8: 70
A9: P0002 | B9: 50 | D9: 10 | E9: 300 | F9: 600 | H9: 10 | J9: 50
A10: P0003 | G10: 30 | I10: 120
A11: P0004 | C11: 60 | D11: 20 | E11: 200 | F11: 400 | K11: 20
A12: P0005 | D12: 600 | H12: 90
A13: P0006 | B13: 430 | C13: 140 | J13: 80
A14: P0007 | B14: 100
A15: P0008
A16: P0009
A17: P0010
A18: P0011
A19: P0012
A20: P0013
A21: P0014
A22: P0015
A23: P0016
A24: P0017
A25: P0018
A26: P0019
... A107: P0100
A108: Total | B108: =SUM(B8:B107) -> 580 | C108: =SUM(C8:C107) -> 200 | D108: =SUM(D8:D107) -> 630 | E108: =SUM(E8:E107) -> 500 | F108: =SUM(F8:F107) -> 1000 | G108: =SUM(G8:G107) -> 130 | H108: =SUM(H8:H107) -> 100 | I108: =SUM(I8:I107) -> 150 | ... CW108: =SUM(CW8:CW107) -> 0

Sheet Recettes
A1: Synthèse des Recettes
A2: Saisir dans les cases vertes
A4: Sélectionnez l'année : | C4: 2019
A5: 1
A6: Janvier | B6: Date | C6: N° de la facture | D6: Infos (Libellé, Client…) | E6: Montant | G6: Février | H6: Date | I6: N° de la facture | J6: Infos (Libellé, Client…) | K6: Montant | M6: Mars | N6: Date | O6: Réf. de la transaction | P6: Infos (Libellé, Client…) | Q6: Montant | S6: Avril | T6: Date | U6: Réf. de la transaction | V6: Infos (Libellé, Client…) | W6: Montant | Y6: Mai | Z6: Date | AA6: Réf. de la transaction | AB6: Infos (Libellé, Client…) | AC6: Montant | AE6: Juin | AF6: Date | AG6: Réf. de la transaction | AH6: Infos (Libellé, Client…) | AI6: Montant | AK6: Juillet | AL6: Date | AM6: Réf. de la transaction | AN6: Infos (Libellé, Client…) | AO6: Montant | AQ6: Août | AR6: Date | AS6: Réf. de la transaction | AT6: Infos (Libellé, Client…) | AU6: Montant | AW6: Septembre | AX6: Date | AY6: Réf. de la transaction | AZ6: Infos (Libellé, Client…) | BA6: Montant | BC6: Octobre | BD6: Date | BE6: Réf. de la transaction | BF6: Infos (Libellé, Client…) | BG6: Montant | BI6: Novembre | BJ6: Date | BK6: Réf. de la transaction | BL6: Infos (Libellé, Client…) | BM6: Montant | BO6: Décembre | BP6: Date | BQ6: Réf. de la transaction | BR6: Infos (Libellé, Client…) | BS6: Montant
A7: Factures : | B7: {=IF(ROWS(B$7:B7)<=$A$11,INDEX(Factures!$B$6:$CW$6,SMALL(IF(MONTH(Factures!$B$6:$CW$6)=Recettes!$A$10,IF(YEAR(Factures!$B$6:$CW$6)=Recettes!$C$4,COLUMN(Factures!$B$6:$CW$6)-COLUMN(Factures!$B$6)+1)),ROWS(B$7:B7))),"")} -> 43472 | C7: =IFERROR(INDEX(Factures!$4:$4,MATCH($B7,Factures!$6:$6,0))," ") -> F00001 | D7: =IFERROR(INDEX(Factures!$5:$5,MATCH($B7,Factures!$6:$6,0))," ") -> TestA | E7: =IFERROR(INDEX(Factures!$108:$108,MATCH($B7,Factures!$6:$6,0))," ") -> 580 | G7: Factures : | H7: {=IF(ROWS(H$7:H7)<=$G$11,INDEX(Factures!$B$6:$CW$6,SMALL(IF(MONTH(Factures!$B$6:$CW$6)=Recettes!$G$10,IF(YEAR(Factures!$B$6:$CW$6)=Recettes!$C$4,COLUMN(Factures!$B$6:$CW$6)-COLUMN(Factures!$B$6)+1)),ROWS(H$7:H7))),"")} -> 43510 | I7: =IFERROR(INDEX(Factures!$4:$4,MATCH($H7,Factures!$6:$6,0))," ") -> F00004 | J7: =IFERROR(INDEX(Factures!$5:$5,MATCH($H7,Factures!$6:$6,0))," ") -> TestA | K7: =IFERROR(INDEX(Factures!$108:$108,MATCH($H7,Factures!$6:$6,0))," ") -> 500 | M7: Factures : | N7: {=IF(ROWS(N$7:N7)<=M$11,INDEX(Factures!$B$6:$CW$6,SMALL(IF(MONTH(Factures!$B$6:$CW$6)=Recettes!M$10,IF(YEAR(Factures!$B$6:$CW$6)=Recettes!$C$4,COLUMN(Factures!$B$6:$CW$6)-COLUMN(Factures!$B$6)+1)),ROWS(N$7:N7))),"")} -> 43532 | O7: =IFERROR(INDEX(Factures!$4:$4,MATCH($N7,Factures!$6:$6,0))," ") -> F00006 | P7: =IFERROR(INDEX(Factures!$5:$5,MATCH($N7,Factures!$6:$6,0))," ") -> TestA | Q7: =IFERROR(INDEX(Factures!$108:$108,MATCH($N7,Factures!$6:$6,0))," ") -> 130 | S7: Factures : | T7: {=IF(ROWS(T$7:T7)<=S$11,INDEX(Factures!$B$6:$CW$6,SMALL(IF(MONTH(Factures!$B$6:$CW$6)=Recettes!S$10,IF(YEAR(Factures!$B$6:$CW$6)=Recettes!$C$4,COLUMN(Factures!$B$6:$CW$6)-COLUMN(Factures!$B$6)+1)),ROWS(T$7:T7))),"")} | U7: =IFERROR(INDEX(Factures!$4:$4,MATCH($T7,Factures!$6:$6,0))," ") | V7: =IFERROR(INDEX(Factures!$5:$5,MATCH($T7,Factures!$6:$6,0))," ") | W7: =IFERROR(INDEX(Factures!$108:$108,MATCH($T7,Factures!$6:$6,0))," ") | Y7: Factures : | Z7: {=IF(ROWS(Z$7:Z7)<=Y$11,INDEX(Factures!$B$6:$CW$6,SMALL(IF(MONTH(Factures!$B$6:$CW$6)=Recettes!Y$10,IF(YEAR(Factures!$B$6:$CW$6)=Recettes!$C$4,COLUMN(Factures!$B$6:$CW$6)-COLUMN(Factures!$B$6)+1)),ROWS(Z$7:Z7))),"")} | AA7: =IFERROR(INDEX(Factures!$4:$4,MATCH($Z7,Factures!$6:$6,0))," ") | AB7: =IFERROR(INDEX(Factures!$5:$5,MATCH($Z7,Factures!$6:$6,0))," ") | AC7: =IFERROR(INDEX(Factures!$108:$108,MATCH($Z7,Factures!$6:$6,0))," ") | AE7: Factures : | AF7: {=IF(ROWS(AF$7:AF7)<=AE$11,INDEX(Factures!$B$6:$CW$6,SMALL(IF(MONTH(Factures!$B$6:$CW$6)=Recettes!AE$10,IF(YEAR(Factures!$B$6:$CW$6)=Recettes!$C$4,COLUMN(Factures!$B$6:$CW$6)-COLUMN(Factures!$B$6)+1)),ROWS(AF$7:AF7))),"")} | AG7: =IFERROR(INDEX(Factures!$4:$4,MATCH($AF7,Factures!$6:$6,0))," ") | AH7: =IFERROR(INDEX(Factures!$5:$5,MATCH($AF7,Factures!$6:$6,0))," ") | AI7: =IFERROR(INDEX(Factures!$108:$108,MATCH($AF7,Factures!$6:$6,0))," ") | AK7: Factures : | AL7: {=IF(ROWS(AL$7:AL7)<=AK$11,INDEX(Factures!$B$6:$CW$6,SMALL(IF(MONTH(Factures!$B$6:$CW$6)=Recettes!AK$10,IF(YEAR(Factures!$B$6:$CW$6)=Recettes!$C$4,COLUMN(Factures!$B$6:$CW$6)-COLUMN(Factures!$B$6)+1)),ROWS(AL$7:AL7))),"")} | AM7: =IFERROR(INDEX(Factures!$4:$4,MATCH($AL7,Factures!$6:$6,0))," ") | AN7: =IFERROR(INDEX(Factures!$5:$5,MATCH($AL7,Factures!$6:$6,0))," ") | AO7: =IFERROR(INDEX(Factures!$108:$108,MATCH($AL7,Factures!$6:$6,0))," ") | AQ7: Factures : | AR7: {=IF(ROWS(AR$7:AR7)<=AQ$11,INDEX(Factures!$B$6:$CW$6,SMALL(IF(MONTH(Factures!$B$6:$CW$6)=Recettes!AQ$10,IF(YEAR(Factures!$B$6:$CW$6)=Recettes!$C$4,COLUMN(Factures!$B$6:$CW$6)-COLUMN(Factures!$B$6)+1)),ROWS(AR$7:AR7))),"")} | AS7: =IFERROR(INDEX(Factures!$4:$4,MATCH($AR7,Factures!$6:$6,0))," ") | AT7: =IFERROR(INDEX(Factures!$5:$5,MATCH($AR7,Factures!$6:$6,0))," ") | AU7: =IFERROR(INDEX(Factures!$108:$108,MATCH($AR7,Factures!$6:$6,0))," ") | AW7: Factures : | AX7: {=IF(ROWS(AX$7:AX7)<=AW$11,INDEX(Factures!$B$6:$CW$6,SMALL(IF(MONTH(Factures!$B$6:$CW$6)=Recettes!AW$10,IF(YEAR(Factures!$B$6:$CW$6)=Recettes!$C$4,COLUMN(Factures!$B$6:$CW$6)-COLUMN(Factures!$B$6)+1)),ROWS(AX$7:AX7))),"")} | AY7: =IFERROR(INDEX(Factures!$4:$4,MATCH($AX7,Factures!$6:$6,0))," ") | AZ7: =IFERROR(INDEX(Factures!$5:$5,MATCH($AX7,Factures!$6:$6,0))," ") | BA7: =IFERROR(INDEX(Factures!$108:$108,MATCH($AX7,Factures!$6:$6,0))," ") | BC7: Factures : | BD7: {=IF(ROWS(BD$7:BD7)<=BC$11,INDEX(Factures!$B$6:$CW$6,SMALL(IF(MONTH(Factures!$B$6:$CW$6)=Recettes!BC$10,IF(YEAR(Factures!$B$6:$CW$6)=Recettes!$C$4,COLUMN(Factures!$B$6:$CW$6)-COLUMN(Factures!$B$6)+1)),ROWS(BD$7:BD7))),"")} | BE7: =IFERROR(INDEX(Factures!$4:$4,MATCH($BD7,Factures!$6:$6,0))," ") | BF7: =IFERROR(INDEX(Factures!$5:$5,MATCH($BD7,Factures!$6:$6,0))," ") | BG7: =IFERROR(INDEX(Factures!$108:$108,MATCH($BD7,Factures!$6:$6,0))," ") | BI7: Factures : | BJ7: {=IF(ROWS(BJ$7:BJ7)<=BI$11,INDEX(Factures!$B$6:$CW$6,SMALL(IF(MONTH(Factures!$B$6:$CW$6)=Recettes!BI$10,IF(YEAR(Factures!$B$6:$CW$6)=Recettes!$C$4,COLUMN(Factures!$B$6:$CW$6)-COLUMN(Factures!$B$6)+1)),ROWS(BJ$7:BJ7))),"")} | BK7: =IFERROR(INDEX(Factures!$4:$4,MATCH($BJ7,Factures!$6:$6,0))," ") | BL7: =IFERROR(INDEX(Factures!$5:$5,MATCH($BJ7,Factures!$6:$6,0))," ") | BM7: =IFERROR(INDEX(Factures!$108:$108,MATCH($BJ7,Factures!$6:$6,0))," ") | BO7: Factures : | BP7: {=IF(ROWS(BP$7:BP7)<=BO$11,INDEX(Factures!$B$6:$CW$6,SMALL(IF(MONTH(Factures!$B$6:$CW$6)=Recettes!BO$10,IF(YEAR(Factures!$B$6:$CW$6)=Recettes!$C$4,COLUMN(Factures!$B$6:$CW$6)-COLUMN(Factures!$B$6)+1)),ROWS(BP$7:BP7))),"")} | BQ7: =IFERROR(INDEX(Factures!$4:$4,MATCH($BP7,Factures!$6:$6,0))," ") | BR7: =IFERROR(INDEX(Factures!$5:$5,MATCH($BP7,Factures!$6:$6,0))," ") | BS7: =IFERROR(INDEX(Factures!$108:$108,MATCH($BP7,Factures!$6:$6,0))," ")
A8: (Remplissage | B8: {=IF(ROWS(B$7:B8)<=$A$11,INDEX(Factures!$B$6:$CW$6,SMALL(IF(MONTH(Factures!$B$6:$CW$6)=Recettes!$A$10,IF(YEAR(Factures!$B$6:$CW$6)=Recettes!$C$4,COLUMN(Factures!$B$6:$CW$6)-COLUMN(Factures!$B$6)+1)),ROWS(B$7:B8))),"")} -> 43481 | C8: =IFERROR(INDEX(Factures!$4:$4,MATCH($B8,Factures!$6:$6,0))," ") -> F00002 | D8: =IFERROR(INDEX(Factures!$5:$5,MATCH($B8,Factures!$6:$6,0))," ") -> TestA | E8: =IFERROR(INDEX(Factures!$108:$108,MATCH($B8,Factures!$6:$6,0))," ") -> 200 | G8: (Remplissage | H8: {=IF(ROWS(H$7:H8)<=$G$11,INDEX(Factures!$B$6:$CW$6,SMALL(IF(MONTH(Factures!$B$6:$CW$6)=Recettes!$G$10,IF(YEAR(Factures!$B$6:$CW$6)=Recettes!$C$4,COLUMN(Factures!$B$6:$CW$6)-COLUMN(Factures!$B$6)+1)),ROWS(H$7:H8))),"")} -> 43510 | I8: =IFERROR(INDEX(Factures!$4:$4,MATCH($H8,Factures!$6:$6,0))," ") -> F00004 | J8: =IFERROR(INDEX(Factures!$5:$5,MATCH($H8,Factures!$6:$6,0))," ") -> TestA | K8: =IFERROR(INDEX(Factures!$108:$108,MATCH($H8,Factures!$6:$6,0))," ") -> 500 | M8: (Remplissage | N8: {=IF(ROWS(N$7:N8)<=M$11,INDEX(Factures!$B$6:$CW$6,SMALL(IF(MONTH(Factures!$B$6:$CW$6)=Recettes!M$10,IF(YEAR(Factures!$B$6:$CW$6)=Recettes!$C$4,COLUMN(Factures!$B$6:$CW$6)-COLUMN(Factures!$B$6)+1)),ROWS(N$7:N8))),"")} | O8: =IFERROR(INDEX(Factures!$4:$4,MATCH($N8,Factures!$6:$6,0))," ") | P8: =IFERROR(INDEX(Factures!$5:$5,MATCH($N8,Factures!$6:$6,0))," ") | Q8: =IFERROR(INDEX(Factures!$108:$108,MATCH($N8,Factures!$6:$6,0))," ") | S8: (Remplissage | T8: {=IF(ROWS(T$7:T8)<=S$11,INDEX(Factures!$B$6:$CW$6,SMALL(IF(MONTH(Factures!$B$6:$CW$6)=Recettes!S$10,IF(YEAR(Factures!$B$6:$CW$6)=Recettes!$C$4,COLUMN(Factures!$B$6:$CW$6)-COLUMN(Factures!$B$6)+1)),ROWS(T$7:T8))),"")} | U8: =IFERROR(INDEX(Factures!$4:$4,MATCH($T8,Factures!$6:$6,0))," ") | V8: =IFERROR(INDEX(Factures!$5:$5,MATCH($T8,Factures!$6:$6,0))," ") | W8: =IFERROR(INDEX(Factures!$108:$108,MATCH($T8,Factures!$6:$6,0))," ") | Y8: (Remplissage | Z8: {=IF(ROWS(Z$7:Z8)<=Y$11,INDEX(Factures!$B$6:$CW$6,SMALL(IF(MONTH(Factures!$B$6:$CW$6)=Recettes!Y$10,IF(YEAR(Factures!$B$6:$CW$6)=Recettes!$C$4,COLUMN(Factures!$B$6:$CW$6)-COLUMN(Factures!$B$6)+1)),ROWS(Z$7:Z8))),"")} | AA8: =IFERROR(INDEX(Factures!$4:$4,MATCH($Z8,Factures!$6:$6,0))," ") | AB8: =IFERROR(INDEX(Factures!$5:$5,MATCH($Z8,Factures!$6:$6,0))," ") | AC8: =IFERROR(INDEX(Factures!$108:$108,MATCH($Z8,Factures!$6:$6,0))," ") | AE8: (Remplissage | AF8: {=IF(ROWS(AF$7:AF8)<=AE$11,INDEX(Factures!$B$6:$CW$6,SMALL(IF(MONTH(Factures!$B$6:$CW$6)=Recettes!AE$10,IF(YEAR(Factures!$B$6:$CW$6)=Recettes!$C$4,COLUMN(Factures!$B$6:$CW$6)-COLUMN(Factures!$B$6)+1)),ROWS(AF$7:AF8))),"")} | AG8: =IFERROR(INDEX(Factures!$4:$4,MATCH($AF8,Factures!$6:$6,0))," ") | AH8: =IFERROR(INDEX(Factures!$5:$5,MATCH($AF8,Factures!$6:$6,0))," ") | AI8: =IFERROR(INDEX(Factures!$108:$108,MATCH($AF8,Factures!$6:$6,0))," ") | AK8: (Remplissage | AL8: {=IF(ROWS(AL$7:AL8)<=AK$11,INDEX(Factures!$B$6:$CW$6,SMALL(IF(MONTH(Factures!$B$6:$CW$6)=Recettes!AK$10,IF(YEAR(Factures!$B$6:$CW$6)=Recettes!$C$4,COLUMN(Factures!$B$6:$CW$6)-COLUMN(Factures!$B$6)+1)),ROWS(AL$7:AL8))),"")} | AM8: =IFERROR(INDEX(Factures!$4:$4,MATCH($AL8,Factures!$6:$6,0))," ") | AN8: =IFERROR(INDEX(Factures!$5:$5,MATCH($AL8,Factures!$6:$6,0))," ") | AO8: =IFERROR(INDEX(Factures!$108:$108,MATCH($AL8,Factures!$6:$6,0))," ") | AQ8: (Remplissage | AR8: {=IF(ROWS(AR$7:AR8)<=AQ$11,INDEX(Factures!$B$6:$CW$6,SMALL(IF(MONTH(Factures!$B$6:$CW$6)=Recettes!AQ$10,IF(YEAR(Factures!$B$6:$CW$6)=Recettes!$C$4,COLUMN(Factures!$B$6:$CW$6)-COLUMN(Factures!$B$6)+1)),ROWS(AR$7:AR8))),"")} | AS8: =IFERROR(INDEX(Factures!$4:$4,MATCH($AR8,Factures!$6:$6,0))," ") | AT8: =IFERROR(INDEX(Factures!$5:$5,MATCH($AR8,Factures!$6:$6,0))," ") | AU8: =IFERROR(INDEX(Factures!$108:$108,MATCH($AR8,Factures!$6:$6,0))," ") | AW8: (Remplissage | AX8: {=IF(ROWS(AX$7:AX8)<=AW$11,INDEX(Factures!$B$6:$CW$6,SMALL(IF(MONTH(Factures!$B$6:$CW$6)=Recettes!AW$10,IF(YEAR(Factures!$B$6:$CW$6)=Recettes!$C$4,COLUMN(Factures!$B$6:$CW$6)-COLUMN(Factures!$B$6)+1)),ROWS(AX$7:AX8))),"")} | AY8: =IFERROR(INDEX(Factures!$4:$4,MATCH($AX8,Factures!$6:$6,0))," ") | AZ8: =IFERROR(INDEX(Factures!$5:$5,MATCH($AX8,Factures!$6:$6,0))," ") | BA8: =IFERROR(INDEX(Factures!$108:$108,MATCH($AX8,Factures!$6:$6,0))," ") | BC8: (Remplissage | BD8: {=IF(ROWS(BD$7:BD8)<=BC$11,INDEX(Factures!$B$6:$CW$6,SMALL(IF(MONTH(Factures!$B$6:$CW$6)=Recettes!BC$10,IF(YEAR(Factures!$B$6:$CW$6)=Recettes!$C$4,COLUMN(Factures!$B$6:$CW$6)-COLUMN(Factures!$B$6)+1)),ROWS(BD$7:BD8))),"")} | BE8: =IFERROR(INDEX(Factures!$4:$4,MATCH($BD8,Factures!$6:$6,0))," ") | BF8: =IFERROR(INDEX(Factures!$5:$5,MATCH($BD8,Factures!$6:$6,0))," ") | BG8: =IFERROR(INDEX(Factures!$108:$108,MATCH($BD8,Factures!$6:$6,0))," ") | BI8: (Remplissage | BJ8: {=IF(ROWS(BJ$7:BJ8)<=BI$11,INDEX(Factures!$B$6:$CW$6,SMALL(IF(MONTH(Factures!$B$6:$CW$6)=Recettes!BI$10,IF(YEAR(Factures!$B$6:$CW$6)=Recettes!$C$4,COLUMN(Factures!$B$6:$CW$6)-COLUMN(Factures!$B$6)+1)),ROWS(BJ$7:BJ8))),"")} | BK8: =IFERROR(INDEX(Factures!$4:$4,MATCH($BJ8,Factures!$6:$6,0))," ") | BL8: =IFERROR(INDEX(Factures!$5:$5,MATCH($BJ8,Factures!$6:$6,0))," ") | BO8: (Remplissage | BP8: {=IF(ROWS(BP$7:BP8)<=BO$11,INDEX(Factures!$B$6:$CW$6,SMALL(IF(MONTH(Factures!$B$6:$CW$6)=Recettes!BO$10,IF(YEAR(Factures!$B$6:$CW$6)=Recettes!$C$4,COLUMN(Factures!$B$6:$CW$6)-COLUMN(Factures!$B$6)+1)),ROWS(BP$7:BP8))),"")} | BQ8: =IFERROR(INDEX(Factures!$4:$4,MATCH($BP8,Factures!$6:$6,0))," ") | BR8: =IFERROR(INDEX(Factures!$5:$5,MATCH($BP8,Factures!$6:$6,0))," ") | BS8: =IFERROR(INDEX(Factures!$108:$108,MATCH($BP8,Factures!$6:$6,0))," ")
A9: automatique) | B9: {=IF(ROWS(B$7:B9)<=$A$11,INDEX(Factures!$B$6:$CW$6,SMALL(IF(MONTH(Factures!$B$6:$CW$6)=Recettes!$A$10,IF(YEAR(Factures!$B$6:$CW$6)=Recettes!$C$4,COLUMN(Factures!$B$6:$CW$6)-COLUMN(Factures!$B$6)+1)),ROWS(B$7:B9))),"")} -> 43486 | C9: =IFERROR(INDEX(Factures!$4:$4,MATCH($B9,Factures!$6:$6,0))," ") -> F00003 | D9: =IFERROR(INDEX(Factures!$5:$5,MATCH($B9,Factures!$6:$6,0))," ") -> TestA | E9: =IFERROR(INDEX(Factures!$108:$108,MATCH($B9,Factures!$6:$6,0))," ") -> 630 | G9: automatique) | H9: {=IF(ROWS(H$7:H9)<=$G$11,INDEX(Factures!$B$6:$CW$6,SMALL(IF(MONTH(Factures!$B$6:$CW$6)=Recettes!$G$10,IF(YEAR(Factures!$B$6:$CW$6)=Recettes!$C$4,COLUMN(Factures!$B$6:$CW$6)-COLUMN(Factures!$B$6)+1)),ROWS(H$7:H9))),"")} | I9: =IFERROR(INDEX(Factures!$4:$4,MATCH($H9,Factures!$6:$6,0))," ") | J9: =IFERROR(INDEX(Factures!$5:$5,MATCH($H9,Factures!$6:$6,0))," ") | K9: =IFERROR(INDEX(Factures!$108:$108,MATCH($H9,Factures!$6:$6,0))," ") | M9: automatique) | N9: {=IF(ROWS(N$7:N9)<=M$11,INDEX(Factures!$B$6:$CW$6,SMALL(IF(MONTH(Factures!$B$6:$CW$6)=Recettes!M$10,IF(YEAR(Factures!$B$6:$CW$6)=Recettes!$C$4,COLUMN(Factures!$B$6:$CW$6)-COLUMN(Factures!$B$6)+1)),ROWS(N$7:N9))),"")} | O9: =IFERROR(INDEX(Factures!$4:$4,MATCH($N9,Factures!$6:$6,0))," ") | P9: =IFERROR(INDEX(Factures!$5:$5,MATCH($N9,Factures!$6:$6,0))," ") | Q9: =IFERROR(INDEX(Factures!$108:$108,MATCH($N9,Factures!$6:$6,0))," ") | S9: automatique) | T9: {=IF(ROWS(T$7:T9)<=S$11,INDEX(Factures!$B$6:$CW$6,SMALL(IF(MONTH(Factures!$B$6:$CW$6)=Recettes!S$10,IF(YEAR(Factures!$B$6:$CW$6)=Recettes!$C$4,COLUMN(Factures!$B$6:$CW$6)-COLUMN(Factures!$B$6)+1)),ROWS(T$7:T9))),"")} | U9: =IFERROR(INDEX(Factures!$4:$4,MATCH($T9,Factures!$6:$6,0))," ") | V9: =IFERROR(INDEX(Factures!$5:$5,MATCH($T9,Factures!$6:$6,0))," ") | W9: =IFERROR(INDEX(Factures!$108:$108,MATCH($T9,Factures!$6:$6,0))," ") | Y9: automatique) | Z9: {=IF(ROWS(Z$7:Z9)<=Y$11,INDEX(Factures!$B$6:$CW$6,SMALL(IF(MONTH(Factures!$B$6:$CW$6)=Recettes!Y$10,IF(YEAR(Factures!$B$6:$CW$6)=Recettes!$C$4,COLUMN(Factures!$B$6:$CW$6)-COLUMN(Factures!$B$6)+1)),ROWS(Z$7:Z9))),"")} | AA9: =IFERROR(INDEX(Factures!$4:$4,MATCH($Z9,Factures!$6:$6,0))," ") | AB9: =IFERROR(INDEX(Factures!$5:$5,MATCH($Z9,Factures!$6:$6,0))," ") | AC9: =IFERROR(INDEX(Factures!$108:$108,MATCH($Z9,Factures!$6:$6,0))," ") | AE9: automatique) | AF9: {=IF(ROWS(AF$7:AF9)<=AE$11,INDEX(Factures!$B$6:$CW$6,SMALL(IF(MONTH(Factures!$B$6:$CW$6)=Recettes!AE$10,IF(YEAR(Factures!$B$6:$CW$6)=Recettes!$C$4,COLUMN(Factures!$B$6:$CW$6)-COLUMN(Factures!$B$6)+1)),ROWS(AF$7:AF9))),"")} | AG9: =IFERROR(INDEX(Factures!$4:$4,MATCH($AF9,Factures!$6:$6,0))," ") | AH9: =IFERROR(INDEX(Factures!$5:$5,MATCH($AF9,Factures!$6:$6,0))," ") | AI9: =IFERROR(INDEX(Factures!$108:$108,MATCH($AF9,Factures!$6:$6,0))," ") | AK9: automatique) | AL9: {=IF(ROWS(AL$7:AL9)<=AK$11,INDEX(Factures!$B$6:$CW$6,SMALL(IF(MONTH(Factures!$B$6:$CW$6)=Recettes!AK$10,IF(YEAR(Factures!$B$6:$CW$6)=Recettes!$C$4,COLUMN(Factures!$B$6:$CW$6)-COLUMN(Factures!$B$6)+1)),ROWS(AL$7:AL9))),"")} | AM9: =IFERROR(INDEX(Factures!$4:$4,MATCH($AL9,Factures!$6:$6,0))," ") | AN9: =IFERROR(INDEX(Factures!$5:$5,MATCH($AL9,Factures!$6:$6,0))," ") | AO9: =IFERROR(INDEX(Factures!$108:$108,MATCH($AL9,Factures!$6:$6,0))," ") | AQ9: automatique) | AR9: {=IF(ROWS(AR$7:AR9)<=AQ$11,INDEX(Factures!$B$6:$CW$6,SMALL(IF(MONTH(Factures!$B$6:$CW$6)=Recettes!AQ$10,IF(YEAR(Factures!$B$6:$CW$6)=Recettes!$C$4,COLUMN(Factures!$B$6:$CW$6)-COLUMN(Factures!$B$6)+1)),ROWS(AR$7:AR9))),"")} | AS9: =IFERROR(INDEX(Factures!$4:$4,MATCH($AR9,Factures!$6:$6,0))," ") | AT9: =IFERROR(INDEX(Factures!$5:$5,MATCH($AR9,Factures!$6:$6,0))," ") | AU9: =IFERROR(INDEX(Factures!$108:$108,MATCH($AR9,Factures!$6:$6,0))," ") | AW9: automatique) | AX9: {=IF(ROWS(AX$7:AX9)<=AW$11,INDEX(Factures!$B$6:$CW$6,SMALL(IF(MONTH(Factures!$B$6:$CW$6)=Recettes!AW$10,IF(YEAR(Factures!$B$6:$CW$6)=Recettes!$C$4,COLUMN(Factures!$B$6:$CW$6)-COLUMN(Factures!$B$6)+1)),ROWS(AX$7:AX9))),"")} | AY9: =IFERROR(INDEX(Factures!$4:$4,MATCH($AX9,Factures!$6:$6,0))," ") | AZ9: =IFERROR(INDEX(Factures!$5:$5,MATCH($AX9,Factures!$6:$6,0))," ") | BA9: =IFERROR(INDEX(Factures!$108:$108,MATCH($AX9,Factures!$6:$6,0))," ") | BC9: automatique) | BD9: {=IF(ROWS(BD$7:BD9)<=BC$11,INDEX(Factures!$B$6:$CW$6,SMALL(IF(MONTH(Factures!$B$6:$CW$6)=Recettes!BC$10,IF(YEAR(Factures!$B$6:$CW$6)=Recettes!$C$4,COLUMN(Factures!$B$6:$CW$6)-COLUMN(Factures!$B$6)+1)),ROWS(BD$7:BD9))),"")} | BE9: =IFERROR(INDEX(Factures!$4:$4,MATCH($BD9,Factures!$6:$6,0))," ") | BF9: =IFERROR(INDEX(Factures!$5:$5,MATCH($BD9,Factures!$6:$6,0))," ") | BG9: =IFERROR(INDEX(Factures!$108:$108,MATCH($BD9,Factures!$6:$6,0))," ") | BI9: automatique) | BJ9: {=IF(ROWS(BJ$7:BJ9)<=BI$11,INDEX(Factures!$B$6:$CW$6,SMALL(IF(MONTH(Factures!$B$6:$CW$6)=Recettes!BI$10,IF(YEAR(Factures!$B$6:$CW$6)=Recettes!$C$4,COLUMN(Factures!$B$6:$CW$6)-COLUMN(Factures!$B$6)+1)),ROWS(BJ$7:BJ9))),"")} | BK9: =IFERROR(INDEX(Factures!$4:$4,MATCH($BJ9,Factures!$6:$6,0))," ") | BL9: =IFERROR(INDEX(Factures!$5:$5,MATCH($BJ9,Factures!$6:$6,0))," ") | BO9: automatique) | BP9: {=IF(ROWS(BP$7:BP9)<=BO$11,INDEX(Factures!$B$6:$CW$6,SMALL(IF(MONTH(Factures!$B$6:$CW$6)=Recettes!BO$10,IF(YEAR(Factures!$B$6:$CW$6)=Recettes!$C$4,COLUMN(Factures!$B$6:$CW$6)-COLUMN(Factures!$B$6)+1)),ROWS(BP$7:BP9))),"")} | BQ9: =IFERROR(INDEX(Factures!$4:$4,MATCH($BP9,Factures!$6:$6,0))," ") | BR9: =IFERROR(INDEX(Factures!$5:$5,MATCH($BP9,Factures!$6:$6,0))," ") | BS9: =IFERROR(INDEX(Factures!$108:$108,MATCH($BP9,Factures!$6:$6,0))," ")
A10: 1 | B10: {=IF(ROWS(B$7:B10)<=$A$11,INDEX(Factures!$B$6:$CW$6,SMALL(IF(MONTH(Factures!$B$6:$CW$6)=Recettes!$A$10,IF(YEAR(Factures!$B$6:$CW$6)=Recettes!$C$4,COLUMN(Factures!$B$6:$CW$6)-COLUMN(Factures!$B$6)+1)),ROWS(B$7:B10))),"")} | C10: =IFERROR(INDEX(Factures!$4:$4,MATCH($B10,Factures!$6:$6,0))," ") | D10: =IFERROR(INDEX(Factures!$5:$5,MATCH($B10,Factures!$6:$6,0))," ") | E10: =IFERROR(INDEX(Factures!$108:$108,MATCH($B10,Factures!$6:$6,0))," ") | G10: 2 | H10: {=IF(ROWS(H$7:H10)<=$G$11,INDEX(Factures!$B$6:$CW$6,SMALL(IF(MONTH(Factures!$B$6:$CW$6)=Recettes!$G$10,IF(YEAR(Factures!$B$6:$CW$6)=Recettes!$C$4,COLUMN(Factures!$B$6:$CW$6)-COLUMN(Factures!$B$6)+1)),ROWS(H$7:H10))),"")} | I10: =IFERROR(INDEX(Factures!$4:$4,MATCH($H10,Factures!$6:$6,0))," ") | J10: =IFERROR(INDEX(Factures!$5:$5,MATCH($H10,Factures!$6:$6,0))," ") | K10: =IFERROR(INDEX(Factures!$108:$108,MATCH($H10,Factures!$6:$6,0))," ") | M10: 3 | N10: {=IF(ROWS(N$7:N10)<=M$11,INDEX(Factures!$B$6:$CW$6,SMALL(IF(MONTH(Factures!$B$6:$CW$6)=Recettes!M$10,IF(YEAR(Factures!$B$6:$CW$6)=Recettes!$C$4,COLUMN(Factures!$B$6:$CW$6)-COLUMN(Factures!$B$6)+1)),ROWS(N$7:N10))),"")} | O10: =IFERROR(INDEX(Factures!$4:$4,MATCH($N10,Factures!$6:$6,0))," ") | P10: =IFERROR(INDEX(Factures!$5:$5,MATCH($N10,Factures!$6:$6,0))," ") | Q10: =IFERROR(INDEX(Factures!$108:$108,MATCH($N10,Factures!$6:$6,0))," ") | S10: 4 | T10: {=IF(ROWS(T$7:T10)<=S$11,INDEX(Factures!$B$6:$CW$6,SMALL(IF(MONTH(Factures!$B$6:$CW$6)=Recettes!S$10,IF(YEAR(Factures!$B$6:$CW$6)=Recettes!$C$4,COLUMN(Factures!$B$6:$CW$6)-COLUMN(Factures!$B$6)+1)),ROWS(T$7:T10))),"")} | U10: =IFERROR(INDEX(Factures!$4:$4,MATCH($T10,Factures!$6:$6,0))," ") | V10: =IFERROR(INDEX(Factures!$5:$5,MATCH($T10,Factures!$6:$6,0))," ") | W10: =IFERROR(INDEX(Factures!$108:$108,MATCH($T10,Factures!$6:$6,0))," ") | Y10: 5 | Z10: {=IF(ROWS(Z$7:Z10)<=Y$11,INDEX(Factures!$B$6:$CW$6,SMALL(IF(MONTH(Factures!$B$6:$CW$6)=Recettes!Y$10,IF(YEAR(Factures!$B$6:$CW$6)=Recettes!$C$4,COLUMN(Factures!$B$6:$CW$6)-COLUMN(Factures!$B$6)+1)),ROWS(Z$7:Z10))),"")} | AA10: =IFERROR(INDEX(Factures!$4:$4,MATCH($Z10,Factures!$6:$6,0))," ") | AB10: =IFERROR(INDEX(Factures!$5:$5,MATCH($Z10,Factures!$6:$6,0))," ") | AC10: =IFERROR(INDEX(Factures!$108:$108,MATCH($Z10,Factures!$6:$6,0))," ") | AE10: 6 | AF10: {=IF(ROWS(AF$7:AF10)<=AE$11,INDEX(Factures!$B$6:$CW$6,SMALL(IF(MONTH(Factures!$B$6:$CW$6)=Recettes!AE$10,IF(YEAR(Factures!$B$6:$CW$6)=Recettes!$C$4,COLUMN(Factures!$B$6:$CW$6)-COLUMN(Factures!$B$6)+1)),ROWS(AF$7:AF10))),"")} | AG10: =IFERROR(INDEX(Factures!$4:$4,MATCH($AF10,Factures!$6:$6,0))," ") | AH10: =IFERROR(INDEX(Factures!$5:$5,MATCH($AF10,Factures!$6:$6,0))," ") | AI10: =IFERROR(INDEX(Factures!$108:$108,MATCH($AF10,Factures!$6:$6,0))," ") | AK10: 7 | AL10: {=IF(ROWS(AL$7:AL10)<=AK$11,INDEX(Factures!$B$6:$CW$6,SMALL(IF(MONTH(Factures!$B$6:$CW$6)=Recettes!AK$10,IF(YEAR(Factures!$B$6:$CW$6)=Recettes!$C$4,COLUMN(Factures!$B$6:$CW$6)-COLUMN(Factures!$B$6)+1)),ROWS(AL$7:AL10))),"")} | AM10: =IFERROR(INDEX(Factures!$4:$4,MATCH($AL10,Factures!$6:$6,0))," ") | AN10: =IFERROR(INDEX(Factures!$5:$5,MATCH($AL10,Factures!$6:$6,0))," ") | AO10: =IFERROR(INDEX(Factures!$108:$108,MATCH($AL10,Factures!$6:$6,0))," ") | AQ10: 8 | AR10: {=IF(ROWS(AR$7:AR10)<=AQ$11,INDEX(Factures!$B$6:$CW$6,SMALL(IF(MONTH(Factures!$B$6:$CW$6)=Recettes!AQ$10,IF(YEAR(Factures!$B$6:$CW$6)=Recettes!$C$4,COLUMN(Factures!$B$6:$CW$6)-COLUMN(Factures!$B$6)+1)),ROWS(AR$7:AR10))),"")} | AS10: =IFERROR(INDEX(Factures!$4:$4,MATCH($AR10,Factures!$6:$6,0))," ") | AT10: =IFERROR(INDEX(Factures!$5:$5,MATCH($AR10,Factures!$6:$6,0))," ") | AU10: =IFERROR(INDEX(Factures!$108:$108,MATCH($AR10,Factures!$6:$6,0))," ") | AW10: 9 | AX10: {=IF(ROWS(AX$7:AX10)<=AW$11,INDEX(Factures!$B$6:$CW$6,SMALL(IF(MONTH(Factures!$B$6:$CW$6)=Recettes!AW$10,IF(YEAR(Factures!$B$6:$CW$6)=Recettes!$C$4,COLUMN(Factures!$B$6:$CW$6)-COLUMN(Factures!$B$6)+1)),ROWS(AX$7:AX10))),"")} | AY10: =IFERROR(INDEX(Factures!$4:$4,MATCH($AX10,Factures!$6:$6,0))," ") | AZ10: =IFERROR(INDEX(Factures!$5:$5,MATCH($AX10,Factures!$6:$6,0))," ") | BA10: =IFERROR(INDEX(Factures!$108:$108,MATCH($AX10,Factures!$6:$6,0))," ") | BC10: 10 | BD10: {=IF(ROWS(BD$7:BD10)<=BC$11,INDEX(Factures!$B$6:$CW$6,SMALL(IF(MONTH(Factures!$B$6:$CW$6)=Recettes!BC$10,IF(YEAR(Factures!$B$6:$CW$6)=Recettes!$C$4,COLUMN(Factures!$B$6:$CW$6)-COLUMN(Factures!$B$6)+1)),ROWS(BD$7:BD10))),"")} | BE10: =IFERROR(INDEX(Factures!$4:$4,MATCH($BD10,Factures!$6:$6,0))," ") | BF10: =IFERROR(INDEX(Factures!$5:$5,MATCH($BD10,Factures!$6:$6,0))," ") | BG10: =IFERROR(INDEX(Factures!$108:$108,MATCH($BD10,Factures!$6:$6,0))," ") | BI10: 11 | BJ10: {=IF(ROWS(BJ$7:BJ10)<=BI$11,INDEX(Factures!$B$6:$CW$6,SMALL(IF(MONTH(Factures!$B$6:$CW$6)=Recettes!BI$10,IF(YEAR(Factures!$B$6:$CW$6)=Recettes!$C$4,COLUMN(Factures!$B$6:$CW$6)-COLUMN(Factures!$B$6)+1)),ROWS(BJ$7:BJ10))),"")} | BK10: =IFERROR(INDEX(Factures!$4:$4,MATCH($BJ10,Factures!$6:$6,0))," ") | BL10: =IFERROR(INDEX(Factures!$5:$5,MATCH($BJ10,Factures!$6:$6,0))," ") | BO10: 12 | BP10: {=IF(ROWS(BP$7:BP10)<=BO$11,INDEX(Factures!$B$6:$CW$6,SMALL(IF(MONTH(Factures!$B$6:$CW$6)=Recettes!BO$10,IF(YEAR(Factures!$B$6:$CW$6)=Recettes!$C$4,COLUMN(Factures!$B$6:$CW$6)-COLUMN(Factures!$B$6)+1)),ROWS(BP$7:BP10))),"")} | BQ10: =IFERROR(INDEX(Factures!$4:$4,MATCH($BP10,Factures!$6:$6,0))," ") | BR10: =IFERROR(INDEX(Factures!$5:$5,MATCH($BP10,Factures!$6:$6,0))," ") | BS10: =IFERROR(INDEX(Factures!$108:$108,MATCH($BP10,Factures!$6:$6,0))," ")
A11: =SUMPRODUCT(--(MONTH(Factures!$B$6:$CW$6)=Recettes!A$10)*(YEAR(Factures!$B$6:$CW$6)=Recettes!$C$4)) -> 3 | B11: {=IF(ROWS(B$7:B11)<=$A$11,INDEX(Factures!$B$6:$CW$6,SMALL(IF(MONTH(Factures!$B$6:$CW$6)=Recettes!$A$10,IF(YEAR(Factures!$B$6:$CW$6)=Recettes!$C$4,COLUMN(Factures!$B$6:$CW$6)-COLUMN(Factures!$B$6)+1)),ROWS(B$7:B11))),"")} | C11: =IFERROR(INDEX(Factures!$4:$4,MATCH($B11,Factures!$6:$6,0))," ") | D11: =IFERROR(INDEX(Factures!$5:$5,MATCH($B11,Factures!$6:$6,0))," ") | E11: =IFERROR(INDEX(Factures!$108:$108,MATCH($B11,Factures!$6:$6,0))," ") | G11: =SUMPRODUCT(--(MONTH(Factures!$B$6:$CW$6)=Recettes!G$10)*(YEAR(Factures!$B$6:$CW$6)=Recettes!$C$4)) -> 2 | H11: {=IF(ROWS(H$7:H11)<=$G$11,INDEX(Factures!$B$6:$CW$6,SMALL(IF(MONTH(Factures!$B$6:$CW$6)=Recettes!$G$10,IF(YEAR(Factures!$B$6:$CW$6)=Recettes!$C$4,COLUMN(Factures!$B$6:$CW$6)-COLUMN(Factures!$B$6)+1)),ROWS(H$7:H11))),"")} | I11: =IFERROR(INDEX(Factures!$4:$4,MATCH($H11,Factures!$6:$6,0))," ") | J11: =IFERROR(INDEX(Factures!$5:$5,MATCH($H11,Factures!$6:$6,0))," ") | K11: =IFERROR(INDEX(Factures!$108:$108,MATCH($H11,Factures!$6:$6,0))," ") | M11: =SUMPRODUCT(--(MONTH(Factures!$B$6:$CW$6)=Recettes!M$10)*(YEAR(Factures!$B$6:$CW$6)=Recettes!$C$4)) -> 1 | N11: {=IF(ROWS(N$7:N11)<=M$11,INDEX(Factures!$B$6:$CW$6,SMALL(IF(MONTH(Factures!$B$6:$CW$6)=Recettes!M$10,IF(YEAR(Factures!$B$6:$CW$6)=Recettes!$C$4,COLUMN(Factures!$B$6:$CW$6)-COLUMN(Factures!$B$6)+1)),ROWS(N$7:N11))),"")} | O11: =IFERROR(INDEX(Factures!$4:$4,MATCH($N11,Factures!$6:$6,0))," ") | P11: =IFERROR(INDEX(Factures!$5:$5,MATCH($N11,Factures!$6:$6,0))," ") | Q11: =IFERROR(INDEX(Factures!$108:$108,MATCH($N11,Factures!$6:$6,0))," ") | S11: =SUMPRODUCT(--(MONTH(Factures!$B$6:$CW$6)=Recettes!S$10)*(YEAR(Factures!$B$6:$CW$6)=Recettes!$C$4)) -> 0 | T11: {=IF(ROWS(T$7:T11)<=S$11,INDEX(Factures!$B$6:$CW$6,SMALL(IF(MONTH(Factures!$B$6:$CW$6)=Recettes!S$10,IF(YEAR(Factures!$B$6:$CW$6)=Recettes!$C$4,COLUMN(Factures!$B$6:$CW$6)-COLUMN(Factures!$B$6)+1)),ROWS(T$7:T11))),"")} | U11: =IFERROR(INDEX(Factures!$4:$4,MATCH($T11,Factures!$6:$6,0))," ") | V11: =IFERROR(INDEX(Factures!$5:$5,MATCH($T11,Factures!$6:$6,0))," ") | W11: =IFERROR(INDEX(Factures!$108:$108,MATCH($T11,Factures!$6:$6,0))," ") | Y11: =SUMPRODUCT(--(MONTH(Factures!$B$6:$CW$6)=Recettes!Y$10)*(YEAR(Factures!$B$6:$CW$6)=Recettes!$C$4)) -> 0 | Z11: {=IF(ROWS(Z$7:Z11)<=Y$11,INDEX(Factures!$B$6:$CW$6,SMALL(IF(MONTH(Factures!$B$6:$CW$6)=Recettes!Y$10,IF(YEAR(Factures!$B$6:$CW$6)=Recettes!$C$4,COLUMN(Factures!$B$6:$CW$6)-COLUMN(Factures!$B$6)+1)),ROWS(Z$7:Z11))),"")} | AA11: =IFERROR(INDEX(Factures!$4:$4,MATCH($Z11,Factures!$6:$6,0))," ") | AB11: =IFERROR(INDEX(Factures!$5:$5,MATCH($Z11,Factures!$6:$6,0))," ") | AC11: =IFERROR(INDEX(Factures!$108:$108,MATCH($Z11,Factures!$6:$6,0))," ") | AE11: =SUMPRODUCT(--(MONTH(Factures!$B$6:$CW$6)=Recettes!AE$10)*(YEAR(Factures!$B$6:$CW$6)=Recettes!$C$4)) -> 0 | AF11: {=IF(ROWS(AF$7:AF11)<=AE$11,INDEX(Factures!$B$6:$CW$6,SMALL(IF(MONTH(Factures!$B$6:$CW$6)=Recettes!AE$10,IF(YEAR(Factures!$B$6:$CW$6)=Recettes!$C$4,COLUMN(Factures!$B$6:$CW$6)-COLUMN(Factures!$B$6)+1)),ROWS(AF$7:AF11))),"")} | AG11: =IFERROR(INDEX(Factures!$4:$4,MATCH($AF11,Factures!$6:$6,0))," ") | AH11: =IFERROR(INDEX(Factures!$5:$5,MATCH($AF11,Factures!$6:$6,0))," ") | AI11: =IFERROR(INDEX(Factures!$108:$108,MATCH($AF11,Factures!$6:$6,0))," ") | AK11: =SUMPRODUCT(--(MONTH(Factures!$B$6:$CW$6)=Recettes!AK$10)*(YEAR(Factures!$B$6:$CW$6)=Recettes!$C$4)) -> 0 | AL11: {=IF(ROWS(AL$7:AL11)<=AK$11,INDEX(Factures!$B$6:$CW$6,SMALL(IF(MONTH(Factures!$B$6:$CW$6)=Recettes!AK$10,IF(YEAR(Factures!$B$6:$CW$6)=Recettes!$C$4,COLUMN(Factures!$B$6:$CW$6)-COLUMN(Factures!$B$6)+1)),ROWS(AL$7:AL11))),"")} | AM11: =IFERROR(INDEX(Factures!$4:$4,MATCH($AL11,Factures!$6:$6,0))," ") | AN11: =IFERROR(INDEX(Factures!$5:$5,MATCH($AL11,Factures!$6:$6,0))," ") | AO11: =IFERROR(INDEX(Factures!$108:$108,MATCH($AL11,Factures!$6:$6,0))," ") | AQ11: =SUMPRODUCT(--(MONTH(Factures!$B$6:$CW$6)=Recettes!AQ$10)*(YEAR(Factures!$B$6:$CW$6)=Recettes!$C$4)) -> 0 | AR11: {=IF(ROWS(AR$7:AR11)<=AQ$11,INDEX(Factures!$B$6:$CW$6,SMALL(IF(MONTH(Factures!$B$6:$CW$6)=Recettes!AQ$10,IF(YEAR(Factures!$B$6:$CW$6)=Recettes!$C$4,COLUMN(Factures!$B$6:$CW$6)-COLUMN(Factures!$B$6)+1)),ROWS(AR$7:AR11))),"")} | AS11: =IFERROR(INDEX(Factures!$4:$4,MATCH($AR11,Factures!$6:$6,0))," ") | AT11: =IFERROR(INDEX(Factures!$5:$5,MATCH($AR11,Factures!$6:$6,0))," ") | AU11: =IFERROR(INDEX(Factures!$108:$108,MATCH($AR11,Factures!$6:$6,0))," ") | AW11: =SUMPRODUCT(--(MONTH(Factures!$B$6:$CW$6)=Recettes!AW$10)*(YEAR(Factures!$B$6:$CW$6)=Recettes!$C$4)) -> 0 | AX11: {=IF(ROWS(AX$7:AX11)<=AW$11,INDEX(Factures!$B$6:$CW$6,SMALL(IF(MONTH(Factures!$B$6:$CW$6)=Recettes!AW$10,IF(YEAR(Factures!$B$6:$CW$6)=Recettes!$C$4,COLUMN(Factures!$B$6:$CW$6)-COLUMN(Factures!$B$6)+1)),ROWS(AX$7:AX11))),"")} | AY11: =IFERROR(INDEX(Factures!$4:$4,MATCH($AX11,Factures!$6:$6,0))," ") | AZ11: =IFERROR(INDEX(Factures!$5:$5,MATCH($AX11,Factures!$6:$6,0))," ") | BA11: =IFERROR(INDEX(Factures!$108:$108,MATCH($AX11,Factures!$6:$6,0))," ") | BC11: =SUMPRODUCT(--(MONTH(Factures!$B$6:$CW$6)=Recettes!BC$10)*(YEAR(Factures!$B$6:$CW$6)=Recettes!$C$4)) -> 0 | BD11: {=IF(ROWS(BD$7:BD11)<=BC$11,INDEX(Factures!$B$6:$CW$6,SMALL(IF(MONTH(Factures!$B$6:$CW$6)=Recettes!BC$10,IF(YEAR(Factures!$B$6:$CW$6)=Recettes!$C$4,COLUMN(Factures!$B$6:$CW$6)-COLUMN(Factures!$B$6)+1)),ROWS(BD$7:BD11))),"")} | BE11: =IFERROR(INDEX(Factures!$4:$4,MATCH($BD11,Factures!$6:$6,0))," ") | BF11: =IFERROR(INDEX(Factures!$5:$5,MATCH($BD11,Factures!$6:$6,0))," ") | BG11: =IFERROR(INDEX(Factures!$108:$108,MATCH($BD11,Factures!$6:$6,0))," ") | BI11: =SUMPRODUCT(--(MONTH(Factures!$B$6:$CW$6)=Recettes!BI$10)*(YEAR(Factures!$B$6:$CW$6)=Recettes!$C$4)) -> 0 | BJ11: {=IF(ROWS(BJ$7:BJ11)<=BI$11,INDEX(Factures!$B$6:$CW$6,SMALL(IF(MONTH(Factures!$B$6:$CW$6)=Recettes!BI$10,IF(YEAR(Factures!$B$6:$CW$6)=Recettes!$C$4,COLUMN(Factures!$B$6:$CW$6)-COLUMN(Factures!$B$6)+1)),ROWS(BJ$7:BJ11))),"")} | BK11: =IFERROR(INDEX(Factures!$4:$4,MATCH($BJ11,Factures!$6:$6,0))," ") | BL11: =IFERROR(INDEX(Factures!$5:$5,MATCH($BJ11,Factures!$6:$6,0))," ") | BO11: =SUMPRODUCT(--(MONTH(Factures!$B$6:$CW$6)=Recettes!BO$10)*(YEAR(Factures!$B$6:$CW$6)=Recettes!$C$4)) -> 0 | BP11: {=IF(ROWS(BP$7:BP11)<=BO$11,INDEX(Factures!$B$6:$CW$6,SMALL(IF(MONTH(Factures!$B$6:$CW$6)=Recettes!BO$10,IF(YEAR(Factures!$B$6:$CW$6)=Recettes!$C$4,COLUMN(Factures!$B$6:$CW$6)-COLUMN(Factures!$B$6)+1)),ROWS(BP$7:BP11))),"")} | BQ11: =IFERROR(INDEX(Factures!$4:$4,MATCH($BP11,Factures!$6:$6,0))," ") | BR11: =IFERROR(INDEX(Factures!$5:$5,MATCH($BP11,Factures!$6:$6,0))," ") | BS11: =IFERROR(INDEX(Factures!$108:$108,MATCH($BP11,Factures!$6:$6,0))," ")
B12: {=IF(ROWS(B$7:B12)<=$A$11,INDEX(Factures!$B$6:$CW$6,SMALL(IF(MONTH(Factures!$B$6:$CW$6)=Recettes!$A$10,IF(YEAR(Factures!$B$6:$CW$6)=Recettes!$C$4,COLUMN(Factures!$B$6:$CW$6)-COLUMN(Factures!$B$6)+1)),ROWS(B$7:B12))),"")} | C12: =IFERROR(INDEX(Factures!$4:$4,MATCH($B12,Factures!$6:$6,0))," ") | D12: =IFERROR(INDEX(Factures!$5:$5,MATCH($B12,Factures!$6:$6,0))," ") | E12: =IFERROR(INDEX(Factures!$108:$108,MATCH($B12,Factures!$6:$6,0))," ") | H12: {=IF(ROWS(H$7:H12)<=$G$11,INDEX(Factures!$B$6:$CW$6,SMALL(IF(MONTH(Factures!$B$6:$CW$6)=Recettes!$G$10,IF(YEAR(Factures!$B$6:$CW$6)=Recettes!$C$4,COLUMN(Factures!$B$6:$CW$6)-COLUMN(Factures!$B$6)+1)),ROWS(H$7:H12))),"")} | I12: =IFERROR(INDEX(Factures!$4:$4,MATCH($H12,Factures!$6:$6,0))," ") | J12: =IFERROR(INDEX(Factures!$5:$5,MATCH($H12,Factures!$6:$6,0))," ") | K12: =IFERROR(INDEX(Factures!$108:$108,MATCH($H12,Factures!$6:$6,0))," ") | N12: {=IF(ROWS(N$7:N12)<=M$11,INDEX(Factures!$B$6:$CW$6,SMALL(IF(MONTH(Factures!$B$6:$CW$6)=Recettes!M$10,IF(YEAR(Factures!$B$6:$CW$6)=Recettes!$C$4,COLUMN(Factures!$B$6:$CW$6)-COLUMN(Factures!$B$6)+1)),ROWS(N$7:N12))),"")} | O12: =IFERROR(INDEX(Factures!$4:$4,MATCH($N12,Factures!$6:$6,0))," ") | P12: =IFERROR(INDEX(Factures!$5:$5,MATCH($N12,Factures!$6:$6,0))," ") | Q12: =IFERROR(INDEX(Factures!$108:$108,MATCH($N12,Factures!$6:$6,0))," ") | T12: {=IF(ROWS(T$7:T12)<=S$11,INDEX(Factures!$B$6:$CW$6,SMALL(IF(MONTH(Factures!$B$6:$CW$6)=Recettes!S$10,IF(YEAR(Factures!$B$6:$CW$6)=Recettes!$C$4,COLUMN(Factures!$B$6:$CW$6)-COLUMN(Factures!$B$6)+1)),ROWS(T$7:T12))),"")} | U12: =IFERROR(INDEX(Factures!$4:$4,MATCH($T12,Factures!$6:$6,0))," ") | V12: =IFERROR(INDEX(Factures!$5:$5,MATCH($T12,Factures!$6:$6,0))," ") | W12: =IFERROR(INDEX(Factures!$108:$108,MATCH($T12,Factures!$6:$6,0))," ") | Z12: {=IF(ROWS(Z$7:Z12)<=Y$11,INDEX(Factures!$B$6:$CW$6,SMALL(IF(MONTH(Factures!$B$6:$CW$6)=Recettes!Y$10,IF(YEAR(Factures!$B$6:$CW$6)=Recettes!$C$4,COLUMN(Factures!$B$6:$CW$6)-COLUMN(Factures!$B$6)+1)),ROWS(Z$7:Z12))),"")} | AA12: =IFERROR(INDEX(Factures!$4:$4,MATCH($Z12,Factures!$6:$6,0))," ") | AB12: =IFERROR(INDEX(Factures!$5:$5,MATCH($Z12,Factures!$6:$6,0))," ") | AC12: =IFERROR(INDEX(Factures!$108:$108,MATCH($Z12,Factures!$6:$6,0))," ") | AF12: {=IF(ROWS(AF$7:AF12)<=AE$11,INDEX(Factures!$B$6:$CW$6,SMALL(IF(MONTH(Factures!$B$6:$CW$6)=Recettes!AE$10,IF(YEAR(Factures!$B$6:$CW$6)=Recettes!$C$4,COLUMN(Factures!$B$6:$CW$6)-COLUMN(Factures!$B$6)+1)),ROWS(AF$7:AF12))),"")} | AG12: =IFERROR(INDEX(Factures!$4:$4,MATCH($AF12,Factures!$6:$6,0))," ") | AH12: =IFERROR(INDEX(Factures!$5:$5,MATCH($AF12,Factures!$6:$6,0))," ") | AI12: =IFERROR(INDEX(Factures!$108:$108,MATCH($AF12,Factures!$6:$6,0))," ") | AL12: {=IF(ROWS(AL$7:AL12)<=AK$11,INDEX(Factures!$B$6:$CW$6,SMALL(IF(MONTH(Factures!$B$6:$CW$6)=Recettes!AK$10,IF(YEAR(Factures!$B$6:$CW$6)=Recettes!$C$4,COLUMN(Factures!$B$6:$CW$6)-COLUMN(Factures!$B$6)+1)),ROWS(AL$7:AL12))),"")} | AM12: =IFERROR(INDEX(Factures!$4:$4,MATCH($AL12,Factures!$6:$6,0))," ") | AN12: =IFERROR(INDEX(Factures!$5:$5,MATCH($AL12,Factures!$6:$6,0))," ") | AO12: =IFERROR(INDEX(Factures!$108:$108,MATCH($AL12,Factures!$6:$6,0))," ") | AR12: {=IF(ROWS(AR$7:AR12)<=AQ$11,INDEX(Factures!$B$6:$CW$6,SMALL(IF(MONTH(Factures!$B$6:$CW$6)=Recettes!AQ$10,IF(YEAR(Factures!$B$6:$CW$6)=Recettes!$C$4,COLUMN(Factures!$B$6:$CW$6)-COLUMN(Factures!$B$6)+1)),ROWS(AR$7:AR12))),"")} | AS12: =IFERROR(INDEX(Factures!$4:$4,MATCH($AR12,Factures!$6:$6,0))," ") | AT12: =IFERROR(INDEX(Factures!$5:$5,MATCH($AR12,Factures!$6:$6,0))," ") | AU12: =IFERROR(INDEX(Factures!$108:$108,MATCH($AR12,Factures!$6:$6,0))," ") | AX12: {=IF(ROWS(AX$7:AX12)<=AW$11,INDEX(Factures!$B$6:$CW$6,SMALL(IF(MONTH(Factures!$B$6:$CW$6)=Recettes!AW$10,IF(YEAR(Factures!$B$6:$CW$6)=Recettes!$C$4,COLUMN(Factures!$B$6:$CW$6)-COLUMN(Factures!$B$6)+1)),ROWS(AX$7:AX12))),"")} | AY12: =IFERROR(INDEX(Factures!$4:$4,MATCH($AX12,Factures!$6:$6,0))," ") | AZ12: =IFERROR(INDEX(Factures!$5:$5,MATCH($AX12,Factures!$6:$6,0))," ") | BA12: =IFERROR(INDEX(Factures!$108:$108,MATCH($AX12,Factures!$6:$6,0))," ") | BD12: {=IF(ROWS(BD$7:BD12)<=BC$11,INDEX(Factures!$B$6:$CW$6,SMALL(IF(MONTH(Factures!$B$6:$CW$6)=Recettes!BC$10,IF(YEAR(Factures!$B$6:$CW$6)=Recettes!$C$4,COLUMN(Factures!$B$6:$CW$6)-COLUMN(Factures!$B$6)+1)),ROWS(BD$7:BD12))),"")} | BE12: =IFERROR(INDEX(Factures!$4:$4,MATCH($BD12,Factures!$6:$6,0))," ") | BF12: =IFERROR(INDEX(Factures!$5:$5,MATCH($BD12,Factures!$6:$6,0))," ") | BG12: =IFERROR(INDEX(Factures!$108:$108,MATCH($BD12,Factures!$6:$6,0))," ") | BJ12: {=IF(ROWS(BJ$7:BJ12)<=BI$11,INDEX(Factures!$B$6:$CW$6,SMALL(IF(MONTH(Factures!$B$6:$CW$6)=Recettes!BI$10,IF(YEAR(Factures!$B$6:$CW$6)=Recettes!$C$4,COLUMN(Factures!$B$6:$CW$6)-COLUMN(Factures!$B$6)+1)),ROWS(BJ$7:BJ12))),"")} | BK12: =IFERROR(INDEX(Factures!$4:$4,MATCH($BJ12,Factures!$6:$6,0))," ") | BL12: =IFERROR(INDEX(Factures!$5:$5,MATCH($BJ12,Factures!$6:$6,0))," ") | BP12: {=IF(ROWS(BP$7:BP12)<=BO$11,INDEX(Factures!$B$6:$CW$6,SMALL(IF(MONTH(Factures!$B$6:$CW$6)=Recettes!BO$10,IF(YEAR(Factures!$B$6:$CW$6)=Recettes!$C$4,COLUMN(Factures!$B$6:$CW$6)-COLUMN(Factures!$B$6)+1)),ROWS(BP$7:BP12))),"")} | BQ12: =IFERROR(INDEX(Factures!$4:$4,MATCH($BP12,Factures!$6:$6,0))," ") | BR12: =IFERROR(INDEX(Factures!$5:$5,MATCH($BP12,Factures!$6:$6,0))," ") | BS12: =IFERROR(INDEX(Factures!$108:$108,MATCH($BP12,Factures!$6:$6,0))," ")
B13: {=IF(ROWS(B$7:B13)<=$A$11,INDEX(Factures!$B$6:$CW$6,SMALL(IF(MONTH(Factures!$B$6:$CW$6)=Recettes!$A$10,IF(YEAR(Factures!$B$6:$CW$6)=Recettes!$C$4,COLUMN(Factures!$B$6:$CW$6)-COLUMN(Factures!$B$6)+1)),ROWS(B$7:B13))),"")} | C13: =IFERROR(INDEX(Factures!$4:$4,MATCH($B13,Factures!$6:$6,0))," ") | D13: =IFERROR(INDEX(Factures!$5:$5,MATCH($B13,Factures!$6:$6,0))," ") | E13: =IFERROR(INDEX(Factures!$108:$108,MATCH($B13,Factures!$6:$6,0))," ") | H13: {=IF(ROWS(H$7:H13)<=$G$11,INDEX(Factures!$B$6:$CW$6,SMALL(IF(MONTH(Factures!$B$6:$CW$6)=Recettes!$G$10,IF(YEAR(Factures!$B$6:$CW$6)=Recettes!$C$4,COLUMN(Factures!$B$6:$CW$6)-COLUMN(Factures!$B$6)+1)),ROWS(H$7:H13))),"")} | I13: =IFERROR(INDEX(Factures!$4:$4,MATCH($H13,Factures!$6:$6,0))," ") | J13: =IFERROR(INDEX(Factures!$5:$5,MATCH($H13,Factures!$6:$6,0))," ") | K13: =IFERROR(INDEX(Factures!$108:$108,MATCH($H13,Factures!$6:$6,0))," ") | N13: {=IF(ROWS(N$7:N13)<=M$11,INDEX(Factures!$B$6:$CW$6,SMALL(IF(MONTH(Factures!$B$6:$CW$6)=Recettes!M$10,IF(YEAR(Factures!$B$6:$CW$6)=Recettes!$C$4,COLUMN(Factures!$B$6:$CW$6)-COLUMN(Factures!$B$6)+1)),ROWS(N$7:N13))),"")} | O13: =IFERROR(INDEX(Factures!$4:$4,MATCH($N13,Factures!$6:$6,0))," ") | P13: =IFERROR(INDEX(Factures!$5:$5,MATCH($N13,Factures!$6:$6,0))," ") | Q13: =IFERROR(INDEX(Factures!$108:$108,MATCH($N13,Factures!$6:$6,0))," ") | T13: {=IF(ROWS(T$7:T13)<=S$11,INDEX(Factures!$B$6:$CW$6,SMALL(IF(MONTH(Factures!$B$6:$CW$6)=Recettes!S$10,IF(YEAR(Factures!$B$6:$CW$6)=Recettes!$C$4,COLUMN(Factures!$B$6:$CW$6)-COLUMN(Factures!$B$6)+1)),ROWS(T$7:T13))),"")} | U13: =IFERROR(INDEX(Factures!$4:$4,MATCH($T13,Factures!$6:$6,0))," ") | V13: =IFERROR(INDEX(Factures!$5:$5,MATCH($T13,Factures!$6:$6,0))," ") | W13: =IFERROR(INDEX(Factures!$108:$108,MATCH($T13,Factures!$6:$6,0))," ") | Z13: {=IF(ROWS(Z$7:Z13)<=Y$11,INDEX(Factures!$B$6:$CW$6,SMALL(IF(MONTH(Factures!$B$6:$CW$6)=Recettes!Y$10,IF(YEAR(Factures!$B$6:$CW$6)=Recettes!$C$4,COLUMN(Factures!$B$6:$CW$6)-COLUMN(Factures!$B$6)+1)),ROWS(Z$7:Z13))),"")} | AA13: =IFERROR(INDEX(Factures!$4:$4,MATCH($Z13,Factures!$6:$6,0))," ") | AB13: =IFERROR(INDEX(Factures!$5:$5,MATCH($Z13,Factures!$6:$6,0))," ") | AC13: =IFERROR(INDEX(Factures!$108:$108,MATCH($Z13,Factures!$6:$6,0))," ") | AF13: {=IF(ROWS(AF$7:AF13)<=AE$11,INDEX(Factures!$B$6:$CW$6,SMALL(IF(MONTH(Factures!$B$6:$CW$6)=Recettes!AE$10,IF(YEAR(Factures!$B$6:$CW$6)=Recettes!$C$4,COLUMN(Factures!$B$6:$CW$6)-COLUMN(Factures!$B$6)+1)),ROWS(AF$7:AF13))),"")} | AG13: =IFERROR(INDEX(Factures!$4:$4,MATCH($AF13,Factures!$6:$6,0))," ") | AH13: =IFERROR(INDEX(Factures!$5:$5,MATCH($AF13,Factures!$6:$6,0))," ") | AI13: =IFERROR(INDEX(Factures!$108:$108,MATCH($AF13,Factures!$6:$6,0))," ") | AL13: {=IF(ROWS(AL$7:AL13)<=AK$11,INDEX(Factures!$B$6:$CW$6,SMALL(IF(MONTH(Factures!$B$6:$CW$6)=Recettes!AK$10,IF(YEAR(Factures!$B$6:$CW$6)=Recettes!$C$4,COLUMN(Factures!$B$6:$CW$6)-COLUMN(Factures!$B$6)+1)),ROWS(AL$7:AL13))),"")} | AM13: =IFERROR(INDEX(Factures!$4:$4,MATCH($AL13,Factures!$6:$6,0))," ") | AN13: =IFERROR(INDEX(Factures!$5:$5,MATCH($AL13,Factures!$6:$6,0))," ") | AO13: =IFERROR(INDEX(Factures!$108:$108,MATCH($AL13,Factures!$6:$6,0))," ") | AR13: {=IF(ROWS(AR$7:AR13)<=AQ$11,INDEX(Factures!$B$6:$CW$6,SMALL(IF(MONTH(Factures!$B$6:$CW$6)=Recettes!AQ$10,IF(YEAR(Factures!$B$6:$CW$6)=Recettes!$C$4,COLUMN(Factures!$B$6:$CW$6)-COLUMN(Factures!$B$6)+1)),ROWS(AR$7:AR13))),"")} | AS13: =IFERROR(INDEX(Factures!$4:$4,MATCH($AR13,Factures!$6:$6,0))," ") | AT13: =IFERROR(INDEX(Factures!$5:$5,MATCH($AR13,Factures!$6:$6,0))," ") | AU13: =IFERROR(INDEX(Factures!$108:$108,MATCH($AR13,Factures!$6:$6,0))," ") | AX13: {=IF(ROWS(AX$7:AX13)<=AW$11,INDEX(Factures!$B$6:$CW$6,SMALL(IF(MONTH(Factures!$B$6:$CW$6)=Recettes!AW$10,IF(YEAR(Factures!$B$6:$CW$6)=Recettes!$C$4,COLUMN(Factures!$B$6:$CW$6)-COLUMN(Factures!$B$6)+1)),ROWS(AX$7:AX13))),"")} | AY13: =IFERROR(INDEX(Factures!$4:$4,MATCH($AX13,Factures!$6:$6,0))," ") | AZ13: =IFERROR(INDEX(Factures!$5:$5,MATCH($AX13,Factures!$6:$6,0))," ") | BA13: =IFERROR(INDEX(Factures!$108:$108,MATCH($AX13,Factures!$6:$6,0))," ") | BD13: {=IF(ROWS(BD$7:BD13)<=BC$11,INDEX(Factures!$B$6:$CW$6,SMALL(IF(MONTH(Factures!$B$6:$CW$6)=Recettes!BC$10,IF(YEAR(Factures!$B$6:$CW$6)=Recettes!$C$4,COLUMN(Factures!$B$6:$CW$6)-COLUMN(Factures!$B$6)+1)),ROWS(BD$7:BD13))),"")} | BE13: =IFERROR(INDEX(Factures!$4:$4,MATCH($BD13,Factures!$6:$6,0))," ") | BF13: =IFERROR(INDEX(Factures!$5:$5,MATCH($BD13,Factures!$6:$6,0))," ") | BG13: =IFERROR(INDEX(Factures!$108:$108,MATCH($BD13,Factures!$6:$6,0))," ") | BJ13: {=IF(ROWS(BJ$7:BJ13)<=BI$11,INDEX(Factures!$B$6:$CW$6,SMALL(IF(MONTH(Factures!$B$6:$CW$6)=Recettes!BI$10,IF(YEAR(Factures!$B$6:$CW$6)=Recettes!$C$4,COLUMN(Factures!$B$6:$CW$6)-COLUMN(Factures!$B$6)+1)),ROWS(BJ$7:BJ13))),"")} | BK13: =IFERROR(INDEX(Factures!$4:$4,MATCH($BJ13,Factures!$6:$6,0))," ") | BL13: =IFERROR(INDEX(Factures!$5:$5,MATCH($BJ13,Factures!$6:$6,0))," ") | BP13: {=IF(ROWS(BP$7:BP13)<=BO$11,INDEX(Factures!$B$6:$CW$6,SMALL(IF(MONTH(Factures!$B$6:$CW$6)=Recettes!BO$10,IF(YEAR(Factures!$B$6:$CW$6)=Recettes!$C$4,COLUMN(Factures!$B$6:$CW$6)-COLUMN(Factures!$B$6)+1)),ROWS(BP$7:BP13))),"")} | BQ13: =IFERROR(INDEX(Factures!$4:$4,MATCH($BP13,Factures!$6:$6,0))," ") | BR13: =IFERROR(INDEX(Factures!$5:$5,MATCH($BP13,Factures!$6:$6,0))," ") | BS13: =IFERROR(INDEX(Factures!$108:$108,MATCH($BP13,Factures!$6:$6,0))," ")
B14: {=IF(ROWS(B$7:B14)<=$A$11,INDEX(Factures!$B$6:$CW$6,SMALL(IF(MONTH(Factures!$B$6:$CW$6)=Recettes!$A$10,IF(YEAR(Factures!$B$6:$CW$6)=Recettes!$C$4,COLUMN(Factures!$B$6:$CW$6)-COLUMN(Factures!$B$6)+1)),ROWS(B$7:B14))),"")} | C14: =IFERROR(INDEX(Factures!$4:$4,MATCH($B14,Factures!$6:$6,0))," ") | D14: =IFERROR(INDEX(Factures!$5:$5,MATCH($B14,Factures!$6:$6,0))," ") | E14: =IFERROR(INDEX(Factures!$108:$108,MATCH($B14,Factures!$6:$6,0))," ") | H14: {=IF(ROWS(H$7:H14)<=$G$11,INDEX(Factures!$B$6:$CW$6,SMALL(IF(MONTH(Factures!$B$6:$CW$6)=Recettes!$G$10,IF(YEAR(Factures!$B$6:$CW$6)=Recettes!$C$4,COLUMN(Factures!$B$6:$CW$6)-COLUMN(Factures!$B$6)+1)),ROWS(H$7:H14))),"")} | I14: =IFERROR(INDEX(Factures!$4:$4,MATCH($H14,Factures!$6:$6,0))," ") | J14: =IFERROR(INDEX(Factures!$5:$5,MATCH($H14,Factures!$6:$6,0))," ") | K14: =IFERROR(INDEX(Factures!$108:$108,MATCH($H14,Factures!$6:$6,0))," ") | N14: {=IF(ROWS(N$7:N14)<=M$11,INDEX(Factures!$B$6:$CW$6,SMALL(IF(MONTH(Factures!$B$6:$CW$6)=Recettes!M$10,IF(YEAR(Factures!$B$6:$CW$6)=Recettes!$C$4,COLUMN(Factures!$B$6:$CW$6)-COLUMN(Factures!$B$6)+1)),ROWS(N$7:N14))),"")} | O14: =IFERROR(INDEX(Factures!$4:$4,MATCH($N14,Factures!$6:$6,0))," ") | P14: =IFERROR(INDEX(Factures!$5:$5,MATCH($N14,Factures!$6:$6,0))," ") | Q14: =IFERROR(INDEX(Factures!$108:$108,MATCH($N14,Factures!$6:$6,0))," ") | T14: {=IF(ROWS(T$7:T14)<=S$11,INDEX(Factures!$B$6:$CW$6,SMALL(IF(MONTH(Factures!$B$6:$CW$6)=Recettes!S$10,IF(YEAR(Factures!$B$6:$CW$6)=Recettes!$C$4,COLUMN(Factures!$B$6:$CW$6)-COLUMN(Factures!$B$6)+1)),ROWS(T$7:T14))),"")} | U14: =IFERROR(INDEX(Factures!$4:$4,MATCH($T14,Factures!$6:$6,0))," ") | V14: =IFERROR(INDEX(Factures!$5:$5,MATCH($T14,Factures!$6:$6,0))," ") | W14: =IFERROR(INDEX(Factures!$108:$108,MATCH($T14,Factures!$6:$6,0))," ") | Z14: {=IF(ROWS(Z$7:Z14)<=Y$11,INDEX(Factures!$B$6:$CW$6,SMALL(IF(MONTH(Factures!$B$6:$CW$6)=Recettes!Y$10,IF(YEAR(Factures!$B$6:$CW$6)=Recettes!$C$4,COLUMN(Factures!$B$6:$CW$6)-COLUMN(Factures!$B$6)+1)),ROWS(Z$7:Z14))),"")} | AA14: =IFERROR(INDEX(Factures!$4:$4,MATCH($Z14,Factures!$6:$6,0))," ") | AB14: =IFERROR(INDEX(Factures!$5:$5,MATCH($Z14,Factures!$6:$6,0))," ") | AC14: =IFERROR(INDEX(Factures!$108:$108,MATCH($Z14,Factures!$6:$6,0))," ") | AF14: {=IF(ROWS(AF$7:AF14)<=AE$11,INDEX(Factures!$B$6:$CW$6,SMALL(IF(MONTH(Factures!$B$6:$CW$6)=Recettes!AE$10,IF(YEAR(Factures!$B$6:$CW$6)=Recettes!$C$4,COLUMN(Factures!$B$6:$CW$6)-COLUMN(Factures!$B$6)+1)),ROWS(AF$7:AF14))),"")} | AG14: =IFERROR(INDEX(Factures!$4:$4,MATCH($AF14,Factures!$6:$6,0))," ") | AH14: =IFERROR(INDEX(Factures!$5:$5,MATCH($AF14,Factures!$6:$6,0))," ") | AI14: =IFERROR(INDEX(Factures!$108:$108,MATCH($AF14,Factures!$6:$6,0))," ") | AL14: {=IF(ROWS(AL$7:AL14)<=AK$11,INDEX(Factures!$B$6:$CW$6,SMALL(IF(MONTH(Factures!$B$6:$CW$6)=Recettes!AK$10,IF(YEAR(Factures!$B$6:$CW$6)=Recettes!$C$4,COLUMN(Factures!$B$6:$CW$6)-COLUMN(Factures!$B$6)+1)),ROWS(AL$7:AL14))),"")} | AM14: =IFERROR(INDEX(Factures!$4:$4,MATCH($AL14,Factures!$6:$6,0))," ") | AN14: =IFERROR(INDEX(Factures!$5:$5,MATCH($AL14,Factures!$6:$6,0))," ") | AO14: =IFERROR(INDEX(Factures!$108:$108,MATCH($AL14,Factures!$6:$6,0))," ") | AR14: {=IF(ROWS(AR$7:AR14)<=AQ$11,INDEX(Factures!$B$6:$CW$6,SMALL(IF(MONTH(Factures!$B$6:$CW$6)=Recettes!AQ$10,IF(YEAR(Factures!$B$6:$CW$6)=Recettes!$C$4,COLUMN(Factures!$B$6:$CW$6)-COLUMN(Factures!$B$6)+1)),ROWS(AR$7:AR14))),"")} | AS14: =IFERROR(INDEX(Factures!$4:$4,MATCH($AR14,Factures!$6:$6,0))," ") | AT14: =IFERROR(INDEX(Factures!$5:$5,MATCH($AR14,Factures!$6:$6,0))," ") | AU14: =IFERROR(INDEX(Factures!$108:$108,MATCH($AR14,Factures!$6:$6,0))," ") | AX14: {=IF(ROWS(AX$7:AX14)<=AW$11,INDEX(Factures!$B$6:$CW$6,SMALL(IF(MONTH(Factures!$B$6:$CW$6)=Recettes!AW$10,IF(YEAR(Factures!$B$6:$CW$6)=Recettes!$C$4,COLUMN(Factures!$B$6:$CW$6)-COLUMN(Factures!$B$6)+1)),ROWS(AX$7:AX14))),"")} | AY14: =IFERROR(INDEX(Factures!$4:$4,MATCH($AX14,Factures!$6:$6,0))," ") | AZ14: =IFERROR(INDEX(Factures!$5:$5,MATCH($AX14,Factures!$6:$6,0))," ") | BA14: =IFERROR(INDEX(Factures!$108:$108,MATCH($AX14,Factures!$6:$6,0))," ") | BD14: {=IF(ROWS(BD$7:BD14)<=BC$11,INDEX(Factures!$B$6:$CW$6,SMALL(IF(MONTH(Factures!$B$6:$CW$6)=Recettes!BC$10,IF(YEAR(Factures!$B$6:$CW$6)=Recettes!$C$4,COLUMN(Factures!$B$6:$CW$6)-COLUMN(Factures!$B$6)+1)),ROWS(BD$7:BD14))),"")} | BE14: =IFERROR(INDEX(Factures!$4:$4,MATCH($BD14,Factures!$6:$6,0))," ") | BF14: =IFERROR(INDEX(Factures!$5:$5,MATCH($BD14,Factures!$6:$6,0))," ") | BG14: =IFERROR(INDEX(Factures!$108:$108,MATCH($BD14,Factures!$6:$6,0))," ") | BJ14: {=IF(ROWS(BJ$7:BJ14)<=BI$11,INDEX(Factures!$B$6:$CW$6,SMALL(IF(MONTH(Factures!$B$6:$CW$6)=Recettes!BI$10,IF(YEAR(Factures!$B$6:$CW$6)=Recettes!$C$4,COLUMN(Factures!$B$6:$CW$6)-COLUMN(Factures!$B$6)+1)),ROWS(BJ$7:BJ14))),"")} | BK14: =IFERROR(INDEX(Factures!$4:$4,MATCH($BJ14,Factures!$6:$6,0))," ") | BL14: =IFERROR(INDEX(Factures!$5:$5,MATCH($BJ14,Factures!$6:$6,0))," ") | BP14: {=IF(ROWS(BP$7:BP14)<=BO$11,INDEX(Factures!$B$6:$CW$6,SMALL(IF(MONTH(Factures!$B$6:$CW$6)=Recettes!BO$10,IF(YEAR(Factures!$B$6:$CW$6)=Recettes!$C$4,COLUMN(Factures!$B$6:$CW$6)-COLUMN(Factures!$B$6)+1)),ROWS(BP$7:BP14))),"")} | BQ14: =IFERROR(INDEX(Factures!$4:$4,MATCH($BP14,Factures!$6:$6,0))," ") | BR14: =IFERROR(INDEX(Factures!$5:$5,MATCH($BP14,Factures!$6:$6,0))," ") | BS14: =IFERROR(INDEX(Factures!$108:$108,MATCH($BP14,Factures!$6:$6,0))," ")
B15: {=IF(ROWS(B$7:B15)<=$A$11,INDEX(Factures!$B$6:$CW$6,SMALL(IF(MONTH(Factures!$B$6:$CW$6)=Recettes!$A$10,IF(YEAR(Factures!$B$6:$CW$6)=Recettes!$C$4,COLUMN(Factures!$B$6:$CW$6)-COLUMN(Factures!$B$6)+1)),ROWS(B$7:B15))),"")} | C15: =IFERROR(INDEX(Factures!$4:$4,MATCH($B15,Factures!$6:$6,0))," ") | D15: =IFERROR(INDEX(Factures!$5:$5,MATCH($B15,Factures!$6:$6,0))," ") | E15: =IFERROR(INDEX(Factures!$108:$108,MATCH($B15,Factures!$6:$6,0))," ") | H15: {=IF(ROWS(H$7:H15)<=$G$11,INDEX(Factures!$B$6:$CW$6,SMALL(IF(MONTH(Factures!$B$6:$CW$6)=Recettes!$G$10,IF(YEAR(Factures!$B$6:$CW$6)=Recettes!$C$4,COLUMN(Factures!$B$6:$CW$6)-COLUMN(Factures!$B$6)+1)),ROWS(H$7:H15))),"")} | I15: =IFERROR(INDEX(Factures!$4:$4,MATCH($H15,Factures!$6:$6,0))," ") | J15: =IFERROR(INDEX(Factures!$5:$5,MATCH($H15,Factures!$6:$6,0))," ") | K15: =IFERROR(INDEX(Factures!$108:$108,MATCH($H15,Factures!$6:$6,0))," ") | N15: {=IF(ROWS(N$7:N15)<=M$11,INDEX(Factures!$B$6:$CW$6,SMALL(IF(MONTH(Factures!$B$6:$CW$6)=Recettes!M$10,IF(YEAR(Factures!$B$6:$CW$6)=Recettes!$C$4,COLUMN(Factures!$B$6:$CW$6)-COLUMN(Factures!$B$6)+1)),ROWS(N$7:N15))),"")} | O15: =IFERROR(INDEX(Factures!$4:$4,MATCH($N15,Factures!$6:$6,0))," ") | P15: =IFERROR(INDEX(Factures!$5:$5,MATCH($N15,Factures!$6:$6,0))," ") | Q15: =IFERROR(INDEX(Factures!$108:$108,MATCH($N15,Factures!$6:$6,0))," ") | T15: {=IF(ROWS(T$7:T15)<=S$11,INDEX(Factures!$B$6:$CW$6,SMALL(IF(MONTH(Factures!$B$6:$CW$6)=Recettes!S$10,IF(YEAR(Factures!$B$6:$CW$6)=Recettes!$C$4,COLUMN(Factures!$B$6:$CW$6)-COLUMN(Factures!$B$6)+1)),ROWS(T$7:T15))),"")} | U15: =IFERROR(INDEX(Factures!$4:$4,MATCH($T15,Factures!$6:$6,0))," ") | V15: =IFERROR(INDEX(Factures!$5:$5,MATCH($T15,Factures!$6:$6,0))," ") | W15: =IFERROR(INDEX(Factures!$108:$108,MATCH($T15,Factures!$6:$6,0))," ") | Z15: {=IF(ROWS(Z$7:Z15)<=Y$11,INDEX(Factures!$B$6:$CW$6,SMALL(IF(MONTH(Factures!$B$6:$CW$6)=Recettes!Y$10,IF(YEAR(Factures!$B$6:$CW$6)=Recettes!$C$4,COLUMN(Factures!$B$6:$CW$6)-COLUMN(Factures!$B$6)+1)),ROWS(Z$7:Z15))),"")} | AA15: =IFERROR(INDEX(Factures!$4:$4,MATCH($Z15,Factures!$6:$6,0))," ") | AB15: =IFERROR(INDEX(Factures!$5:$5,MATCH($Z15,Factures!$6:$6,0))," ") | AC15: =IFERROR(INDEX(Factures!$108:$108,MATCH($Z15,Factures!$6:$6,0))," ") | AF15: {=IF(ROWS(AF$7:AF15)<=AE$11,INDEX(Factures!$B$6:$CW$6,SMALL(IF(MONTH(Factures!$B$6:$CW$6)=Recettes!AE$10,IF(YEAR(Factures!$B$6:$CW$6)=Recettes!$C$4,COLUMN(Factures!$B$6:$CW$6)-COLUMN(Factures!$B$6)+1)),ROWS(AF$7:AF15))),"")} | AG15: =IFERROR(INDEX(Factures!$4:$4,MATCH($AF15,Factures!$6:$6,0))," ") | AH15: =IFERROR(INDEX(Factures!$5:$5,MATCH($AF15,Factures!$6:$6,0))," ") | AI15: =IFERROR(INDEX(Factures!$108:$108,MATCH($AF15,Factures!$6:$6,0))," ") | AL15: {=IF(ROWS(AL$7:AL15)<=AK$11,INDEX(Factures!$B$6:$CW$6,SMALL(IF(MONTH(Factures!$B$6:$CW$6)=Recettes!AK$10,IF(YEAR(Factures!$B$6:$CW$6)=Recettes!$C$4,COLUMN(Factures!$B$6:$CW$6)-COLUMN(Factures!$B$6)+1)),ROWS(AL$7:AL15))),"")} | AM15: =IFERROR(INDEX(Factures!$4:$4,MATCH($AL15,Factures!$6:$6,0))," ") | AN15: =IFERROR(INDEX(Factures!$5:$5,MATCH($AL15,Factures!$6:$6,0))," ") | AO15: =IFERROR(INDEX(Factures!$108:$108,MATCH($AL15,Factures!$6:$6,0))," ") | AR15: {=IF(ROWS(AR$7:AR15)<=AQ$11,INDEX(Factures!$B$6:$CW$6,SMALL(IF(MONTH(Factures!$B$6:$CW$6)=Recettes!AQ$10,IF(YEAR(Factures!$B$6:$CW$6)=Recettes!$C$4,COLUMN(Factures!$B$6:$CW$6)-COLUMN(Factures!$B$6)+1)),ROWS(AR$7:AR15))),"")} | AS15: =IFERROR(INDEX(Factures!$4:$4,MATCH($AR15,Factures!$6:$6,0))," ") | AT15: =IFERROR(INDEX(Factures!$5:$5,MATCH($AR15,Factures!$6:$6,0))," ") | AU15: =IFERROR(INDEX(Factures!$108:$108,MATCH($AR15,Factures!$6:$6,0))," ") | AX15: {=IF(ROWS(AX$7:AX15)<=AW$11,INDEX(Factures!$B$6:$CW$6,SMALL(IF(MONTH(Factures!$B$6:$CW$6)=Recettes!AW$10,IF(YEAR(Factures!$B$6:$CW$6)=Recettes!$C$4,COLUMN(Factures!$B$6:$CW$6)-COLUMN(Factures!$B$6)+1)),ROWS(AX$7:AX15))),"")} | AY15: =IFERROR(INDEX(Factures!$4:$4,MATCH($AX15,Factures!$6:$6,0))," ") | AZ15: =IFERROR(INDEX(Factures!$5:$5,MATCH($AX15,Factures!$6:$6,0))," ") | BA15: =IFERROR(INDEX(Factures!$108:$108,MATCH($AX15,Factures!$6:$6,0))," ") | BD15: {=IF(ROWS(BD$7:BD15)<=BC$11,INDEX(Factures!$B$6:$CW$6,SMALL(IF(MONTH(Factures!$B$6:$CW$6)=Recettes!BC$10,IF(YEAR(Factures!$B$6:$CW$6)=Recettes!$C$4,COLUMN(Factures!$B$6:$CW$6)-COLUMN(Factures!$B$6)+1)),ROWS(BD$7:BD15))),"")} | BE15: =IFERROR(INDEX(Factures!$4:$4,MATCH($BD15,Factures!$6:$6,0))," ") | BF15: =IFERROR(INDEX(Factures!$5:$5,MATCH($BD15,Factures!$6:$6,0))," ") | BG15: =IFERROR(INDEX(Factures!$108:$108,MATCH($BD15,Factures!$6:$6,0))," ") | BJ15: {=IF(ROWS(BJ$7:BJ15)<=BI$11,INDEX(Factures!$B$6:$CW$6,SMALL(IF(MONTH(Factures!$B$6:$CW$6)=Recettes!BI$10,IF(YEAR(Factures!$B$6:$CW$6)=Recettes!$C$4,COLUMN(Factures!$B$6:$CW$6)-COLUMN(Factures!$B$6)+1)),ROWS(BJ$7:BJ15))),"")} | BK15: =IFERROR(INDEX(Factures!$4:$4,MATCH($BJ15,Factures!$6:$6,0))," ") | BL15: =IFERROR(INDEX(Factures!$5:$5,MATCH($BJ15,Factures!$6:$6,0))," ") | BP15: {=IF(ROWS(BP$7:BP15)<=BO$11,INDEX(Factures!$B$6:$CW$6,SMALL(IF(MONTH(Factures!$B$6:$CW$6)=Recettes!BO$10,IF(YEAR(Factures!$B$6:$CW$6)=Recettes!$C$4,COLUMN(Factures!$B$6:$CW$6)-COLUMN(Factures!$B$6)+1)),ROWS(BP$7:BP15))),"")} | BQ15: =IFERROR(INDEX(Factures!$4:$4,MATCH($BP15,Factures!$6:$6,0))," ") | BR15: =IFERROR(INDEX(Factures!$5:$5,MATCH($BP15,Factures!$6:$6,0))," ") | BS15: =IFERROR(INDEX(Factures!$108:$108,MATCH($BP15,Factures!$6:$6,0))," ")
B16: {=IF(ROWS(B$7:B16)<=$A$11,INDEX(Factures!$B$6:$CW$6,SMALL(IF(MONTH(Factures!$B$6:$CW$6)=Recettes!$A$10,IF(YEAR(Factures!$B$6:$CW$6)=Recettes!$C$4,COLUMN(Factures!$B$6:$CW$6)-COLUMN(Factures!$B$6)+1)),ROWS(B$7:B16))),"")} | C16: =IFERROR(INDEX(Factures!$4:$4,MATCH($B16,Factures!$6:$6,0))," ") | D16: =IFERROR(INDEX(Factures!$5:$5,MATCH($B16,Factures!$6:$6,0))," ") | E16: =IFERROR(INDEX(Factures!$108:$108,MATCH($B16,Factures!$6:$6,0))," ") | H16: {=IF(ROWS(H$7:H16)<=$G$11,INDEX(Factures!$B$6:$CW$6,SMALL(IF(MONTH(Factures!$B$6:$CW$6)=Recettes!$G$10,IF(YEAR(Factures!$B$6:$CW$6)=Recettes!$C$4,COLUMN(Factures!$B$6:$CW$6)-COLUMN(Factures!$B$6)+1)),ROWS(H$7:H16))),"")} | I16: =IFERROR(INDEX(Factures!$4:$4,MATCH($H16,Factures!$6:$6,0))," ") | J16: =IFERROR(INDEX(Factures!$5:$5,MATCH($H16,Factures!$6:$6,0))," ") | K16: =IFERROR(INDEX(Factures!$108:$108,MATCH($H16,Factures!$6:$6,0))," ") | N16: {=IF(ROWS(N$7:N16)<=M$11,INDEX(Factures!$B$6:$CW$6,SMALL(IF(MONTH(Factures!$B$6:$CW$6)=Recettes!M$10,IF(YEAR(Factures!$B$6:$CW$6)=Recettes!$C$4,COLUMN(Factures!$B$6:$CW$6)-COLUMN(Factures!$B$6)+1)),ROWS(N$7:N16))),"")} | O16: =IFERROR(INDEX(Factures!$4:$4,MATCH($N16,Factures!$6:$6,0))," ") | P16: =IFERROR(INDEX(Factures!$5:$5,MATCH($N16,Factures!$6:$6,0))," ") | Q16: =IFERROR(INDEX(Factures!$108:$108,MATCH($N16,Factures!$6:$6,0))," ") | T16: {=IF(ROWS(T$7:T16)<=S$11,INDEX(Factures!$B$6:$CW$6,SMALL(IF(MONTH(Factures!$B$6:$CW$6)=Recettes!S$10,IF(YEAR(Factures!$B$6:$CW$6)=Recettes!$C$4,COLUMN(Factures!$B$6:$CW$6)-COLUMN(Factures!$B$6)+1)),ROWS(T$7:T16))),"")} | U16: =IFERROR(INDEX(Factures!$4:$4,MATCH($T16,Factures!$6:$6,0))," ") | V16: =IFERROR(INDEX(Factures!$5:$5,MATCH($T16,Factures!$6:$6,0))," ") | W16: =IFERROR(INDEX(Factures!$108:$108,MATCH($T16,Factures!$6:$6,0))," ") | Z16: {=IF(ROWS(Z$7:Z16)<=Y$11,INDEX(Factures!$B$6:$CW$6,SMALL(IF(MONTH(Factures!$B$6:$CW$6)=Recettes!Y$10,IF(YEAR(Factures!$B$6:$CW$6)=Recettes!$C$4,COLUMN(Factures!$B$6:$CW$6)-COLUMN(Factures!$B$6)+1)),ROWS(Z$7:Z16))),"")} | AA16: =IFERROR(INDEX(Factures!$4:$4,MATCH($Z16,Factures!$6:$6,0))," ") | AB16: =IFERROR(INDEX(Factures!$5:$5,MATCH($Z16,Factures!$6:$6,0))," ") | AC16: =IFERROR(INDEX(Factures!$108:$108,MATCH($Z16,Factures!$6:$6,0))," ") | AF16: {=IF(ROWS(AF$7:AF16)<=AE$11,INDEX(Factures!$B$6:$CW$6,SMALL(IF(MONTH(Factures!$B$6:$CW$6)=Recettes!AE$10,IF(YEAR(Factures!$B$6:$CW$6)=Recettes!$C$4,COLUMN(Factures!$B$6:$CW$6)-COLUMN(Factures!$B$6)+1)),ROWS(AF$7:AF16))),"")} | AG16: =IFERROR(INDEX(Factures!$4:$4,MATCH($AF16,Factures!$6:$6,0))," ") | AH16: =IFERROR(INDEX(Factures!$5:$5,MATCH($AF16,Factures!$6:$6,0))," ") | AI16: =IFERROR(INDEX(Factures!$108:$108,MATCH($AF16,Factures!$6:$6,0))," ") | AL16: {=IF(ROWS(AL$7:AL16)<=AK$11,INDEX(Factures!$B$6:$CW$6,SMALL(IF(MONTH(Factures!$B$6:$CW$6)=Recettes!AK$10,IF(YEAR(Factures!$B$6:$CW$6)=Recettes!$C$4,COLUMN(Factures!$B$6:$CW$6)-COLUMN(Factures!$B$6)+1)),ROWS(AL$7:AL16))),"")} | AM16: =IFERROR(INDEX(Factures!$4:$4,MATCH($AL16,Factures!$6:$6,0))," ") | AN16: =IFERROR(INDEX(Factures!$5:$5,MATCH($AL16,Factures!$6:$6,0))," ") | AO16: =IFERROR(INDEX(Factures!$108:$108,MATCH($AL16,Factures!$6:$6,0))," ") | AR16: {=IF(ROWS(AR$7:AR16)<=AQ$11,INDEX(Factures!$B$6:$CW$6,SMALL(IF(MONTH(Factures!$B$6:$CW$6)=Recettes!AQ$10,IF(YEAR(Factures!$B$6:$CW$6)=Recettes!$C$4,COLUMN(Factures!$B$6:$CW$6)-COLUMN(Factures!$B$6)+1)),ROWS(AR$7:AR16))),"")} | AS16: =IFERROR(INDEX(Factures!$4:$4,MATCH($AR16,Factures!$6:$6,0))," ") | AT16: =IFERROR(INDEX(Factures!$5:$5,MATCH($AR16,Factures!$6:$6,0))," ") | AU16: =IFERROR(INDEX(Factures!$108:$108,MATCH($AR16,Factures!$6:$6,0))," ") | AX16: {=IF(ROWS(AX$7:AX16)<=AW$11,INDEX(Factures!$B$6:$CW$6,SMALL(IF(MONTH(Factures!$B$6:$CW$6)=Recettes!AW$10,IF(YEAR(Factures!$B$6:$CW$6)=Recettes!$C$4,COLUMN(Factures!$B$6:$CW$6)-COLUMN(Factures!$B$6)+1)),ROWS(AX$7:AX16))),"")} | AY16: =IFERROR(INDEX(Factures!$4:$4,MATCH($AX16,Factures!$6:$6,0))," ") | AZ16: =IFERROR(INDEX(Factures!$5:$5,MATCH($AX16,Factures!$6:$6,0))," ") | BA16: =IFERROR(INDEX(Factures!$108:$108,MATCH($AX16,Factures!$6:$6,0))," ") | BD16: {=IF(ROWS(BD$7:BD16)<=BC$11,INDEX(Factures!$B$6:$CW$6,SMALL(IF(MONTH(Factures!$B$6:$CW$6)=Recettes!BC$10,IF(YEAR(Factures!$B$6:$CW$6)=Recettes!$C$4,COLUMN(Factures!$B$6:$CW$6)-COLUMN(Factures!$B$6)+1)),ROWS(BD$7:BD16))),"")} | BE16: =IFERROR(INDEX(Factures!$4:$4,MATCH($BD16,Factures!$6:$6,0))," ") | BF16: =IFERROR(INDEX(Factures!$5:$5,MATCH($BD16,Factures!$6:$6,0))," ") | BG16: =IFERROR(INDEX(Factures!$108:$108,MATCH($BD16,Factures!$6:$6,0))," ") | BJ16: {=IF(ROWS(BJ$7:BJ16)<=BI$11,INDEX(Factures!$B$6:$CW$6,SMALL(IF(MONTH(Factures!$B$6:$CW$6)=Recettes!BI$10,IF(YEAR(Factures!$B$6:$CW$6)=Recettes!$C$4,COLUMN(Factures!$B$6:$CW$6)-COLUMN(Factures!$B$6)+1)),ROWS(BJ$7:BJ16))),"")} | BK16: =IFERROR(INDEX(Factures!$4:$4,MATCH($BJ16,Factures!$6:$6,0))," ") | BL16: =IFERROR(INDEX(Factures!$5:$5,MATCH($BJ16,Factures!$6:$6,0))," ") | BP16: {=IF(ROWS(BP$7:BP16)<=BO$11,INDEX(Factures!$B$6:$CW$6,SMALL(IF(MONTH(Factures!$B$6:$CW$6)=Recettes!BO$10,IF(YEAR(Factures!$B$6:$CW$6)=Recettes!$C$4,COLUMN(Factures!$B$6:$CW$6)-COLUMN(Factures!$B$6)+1)),ROWS(BP$7:BP16))),"")} | BQ16: =IFERROR(INDEX(Factures!$4:$4,MATCH($BP16,Factures!$6:$6,0))," ") | BR16: =IFERROR(INDEX(Factures!$5:$5,MATCH($BP16,Factures!$6:$6,0))," ") | BS16: =IFERROR(INDEX(Factures!$108:$108,MATCH($BP16,Factures!$6:$6,0))," ")
