Workbook

Sheet Tâches (2)
A1: Tâche | B1: Jour | C1: Début | D1: Fin | E1: Nombre de personnes | F1: Bénévole 1 | G1: Bénévole 2 | H1: Bénévole 3 | I1: Bénévole 4
A2: Accueil des participants à l'hôtel | B2: Vendredi | C2: 0.70833333 | D2: =C2+TIME(0,30,0) -> 0.72916667
A3: Accueil des participants à l'hôtel | B3: Vendredi | C3: =D2 -> 0.72916667 | D3: =C3+TIME(0,30,0) -> 0.75 | F3: Alexis;Amélie;Louison;Cyril
A4: Accueil des participants à l'hôtel | B4: Vendredi | C4: =D3 -> 0.75 | D4: =C4+TIME(0,30,0) -> 0.77083333 | F4: Alexis
A5: Accueil des participants à l'hôtel | B5: Vendredi | C5: =D4 -> 0.77083333 | D5: =C5+TIME(0,30,0) -> 0.79166667 | F5: Alexis
A6: Accueil des participants à l'hôtel | B6: Vendredi | C6: =D5 -> 0.79166667 | D6: =C6+TIME(0,30,0) -> 0.8125 | F6: Alexis
A7: Accueil des participants à l'hôtel | B7: Vendredi | C7: =D6 -> 0.8125 | D7: =C7+TIME(0,30,0) -> 0.83333333 | F7: Alexis
A8: Accueil des participants à l'hôtel | B8: Vendredi | C8: =D7 -> 0.83333333 | D8: =C8+TIME(0,30,0) -> 0.85416667 | F8: Alexis
A9: Accueil des participants à l'hôtel | B9: Vendredi | C9: =D8 -> 0.85416667 | D9: =C9+TIME(0,30,0) -> 0.875 | F9: Alexis
A10: Accueil des participants à l'hôtel | B10: Vendredi | C10: =D9 -> 0.875 | D10: =C10+TIME(0,30,0) -> 0.89583333 | F10: Alexis
A11: Accueil des participants à l'hôtel | B11: Vendredi | C11: =D10 -> 0.89583333 | D11: =C11+TIME(0,30,0) -> 0.91666667 | F11: Alexis
A12: Accueil des participants à l'hôtel | B12: Vendredi | C12: =D11 -> 0.91666667 | D12: =C12+TIME(0,30,0) -> 0.9375 | F12: Alexis
A13: Accueil des participants à l'hôtel | B13: Vendredi | C13: =D12 -> 0.9375 | D13: =C13+TIME(0,30,0) -> 0.95833333 | F13: Alexis
A14: Accueil des participants à l'hôtel | B14: Vendredi | C14: =D13 -> 0.95833333 | D14: =C14+TIME(0,30,0) -> 0.97916667 | F14: Alexis
A15: Accueil des participants à l'hôtel | B15: Vendredi | C15: =D14 -> 0.97916667 | D15: =C15+TIME(0,30,0) -> 1 | F15: Alexis
A16: Accueil des participants à la mairie | B16: Vendredi | C16: 0.70833333 | D16: =C16+TIME(0,30,0) -> 0.72916667 | F16: Alexis
A17: Accueil des participants à la mairie | B17: Vendredi | C17: =D16 -> 0.72916667 | D17: =C17+TIME(0,30,0) -> 0.75 | F17: Alexis
A18: Accueil des participants à la mairie | B18: Vendredi | C18: =D17 -> 0.75 | D18: =C18+TIME(0,30,0) -> 0.77083333 | F18: Alexis
A19: Accueil des participants à la mairie | B19: Vendredi | C19: =D18 -> 0.77083333 | D19: =C19+TIME(0,30,0) -> 0.79166667 | F19: Adeline;Alexandre;Bertrand;Pauline
A20: Accueil des participants à la mairie | B20: Vendredi | C20: =D19 -> 0.79166667 | D20: =C20+TIME(0,30,0) -> 0.8125
A21: Accueil des participants à la mairie | B21: Vendredi | C21: =D20 -> 0.8125 | D21: =C21+TIME(0,30,0) -> 0.83333333
A22: Accueil des participants à la mairie | B22: Vendredi | C22: =D21 -> 0.83333333 | D22: =C22+TIME(0,30,0) -> 0.85416667
A23: Accueil des participants à la mairie | B23: Vendredi | C23: =D22 -> 0.85416667 | D23: =C23+TIME(0,30,0) -> 0.875 | F23: Adeline;Alexandre;Bertrand;Pauline
A24: Accueil des participants à la mairie | B24: Vendredi | C24: =D23 -> 0.875 | D24: =C24+TIME(0,30,0) -> 0.89583333
A25: Accueil des participants à la mairie | B25: Vendredi | C25: =D24 -> 0.89583333 | D25: =C25+TIME(0,30,0) -> 0.91666667 | F25: Alexis
A26: Accueil des participants à la mairie | B26: Vendredi | C26: =D25 -> 0.91666667 | D26: =C26+TIME(0,30,0) -> 0.9375 | F26: Alexis
A27: Accueil des participants à la mairie | B27: Vendredi | C27: =D26 -> 0.9375 | D27: =C27+TIME(0,30,0) -> 0.95833333 | F27: Alexis
A28: Accueil des participants à la mairie | B28: Vendredi | C28: =D27 -> 0.95833333 | D28: =C28+TIME(0,30,0) -> 0.97916667 | F28: Alexis
A29: Accueil des participants à la mairie | B29: Vendredi | C29: =D28 -> 0.97916667 | D29: =C29+TIME(0,30,0) -> 1 | F29: Alexis
A30: Trajets Aéroport | B30: Vendredi | C30: 0.70833333 | D30: =C30+TIME(0,30,0) -> 0.72916667
A31: Trajets Aéroport | B31: Vendredi | C31: =D30 -> 0.72916667 | D31: =C31+TIME(0,30,0) -> 0.75
A32: Trajets Aéroport | B32: Vendredi | C32: =D31 -> 0.75 | D32: =C32+TIME(0,30,0) -> 0.77083333
A33: Trajets Aéroport | B33: Vendredi | C33: =D32 -> 0.77083333 | D33: =C33+TIME(0,30,0) -> 0.79166667
A34: Trajets Aéroport | B34: Vendredi | C34: =D33 -> 0.79166667 | D34: =C34+TIME(0,30,0) -> 0.8125
A35: Trajets Aéroport | B35: Vendredi | C35: =D34 -> 0.8125 | D35: =C35+TIME(0,30,0) -> 0.83333333
A36: Trajets Aéroport | B36: Vendredi | C36: =D35 -> 0.83333333 | D36: =C36+TIME(0,30,0) -> 0.85416667
A37: Trajets Aéroport | B37: Vendredi | C37: =D36 -> 0.85416667 | D37: =C37+TIME(0,30,0) -> 0.875
A38: Trajets Aéroport | B38: Vendredi | C38: =D37 -> 0.875 | D38: =C38+TIME(0,30,0) -> 0.89583333
A39: Trajets Aéroport | B39: Vendredi | C39: =D38 -> 0.89583333 | D39: =C39+TIME(0,30,0) -> 0.91666667
A40: Trajets Aéroport | B40: Vendredi | C40: =D39 -> 0.91666667 | D40: =C40+TIME(0,30,0) -> 0.9375
...

Sheet Tâches
A1: Tâche | B1: Jour | C1: Début | D1: Fin | E1: Nombre de personnes | F1: Bénévole 1 | G1: Bénévole 2 | H1: Bénévole 3 | I1: Bénévole 4
A2: Accueil des participants à l'hôtel | B2: Vendredi | C2: 0.70833333 | D2: =C2+TIME(0,30,0) -> 0.72916667
A3: Accueil des participants à l'hôtel | B3: Vendredi | C3: =D2 -> 0.72916667 | D3: =C3+TIME(0,30,0) -> 0.75
A4: Accueil des participants à l'hôtel | B4: Vendredi | C4: =D3 -> 0.75 | D4: =C4+TIME(0,30,0) -> 0.77083333
A5: Accueil des participants à l'hôtel | B5: Vendredi | C5: =D4 -> 0.77083333 | D5: =C5+TIME(0,30,0) -> 0.79166667
A6: Accueil des participants à l'hôtel | B6: Vendredi | C6: =D5 -> 0.79166667 | D6: =C6+TIME(0,30,0) -> 0.8125
A7: Accueil des participants à l'hôtel | B7: Vendredi | C7: =D6 -> 0.8125 | D7: =C7+TIME(0,30,0) -> 0.83333333
A8: Accueil des participants à l'hôtel | B8: Vendredi | C8: =D7 -> 0.83333333 | D8: =C8+TIME(0,30,0) -> 0.85416667
A9: Accueil des participants à l'hôtel | B9: Vendredi | C9: =D8 -> 0.85416667 | D9: =C9+TIME(0,30,0) -> 0.875
A10: Accueil des participants à l'hôtel | B10: Vendredi | C10: =D9 -> 0.875 | D10: =C10+TIME(0,30,0) -> 0.89583333
A11: Accueil des participants à l'hôtel | B11: Vendredi | C11: =D10 -> 0.89583333 | D11: =C11+TIME(0,30,0) -> 0.91666667
A12: Accueil des participants à l'hôtel | B12: Vendredi | C12: =D11 -> 0.91666667 | D12: =C12+TIME(0,30,0) -> 0.9375
A13: Accueil des participants à l'hôtel | B13: Vendredi | C13: =D12 -> 0.9375 | D13: =C13+TIME(0,30,0) -> 0.95833333
A14: Accueil des participants à l'hôtel | B14: Vendredi | C14: =D13 -> 0.95833333 | D14: =C14+TIME(0,30,0) -> 0.97916667
A15: Accueil des participants à l'hôtel | B15: Vendredi | C15: =D14 -> 0.97916667 | D15: =C15+TIME(0,30,0) -> 1
A16: Accueil des participants à la mairie | B16: Vendredi | C16: 0.70833333 | D16: 0.8125
A17: Accueil des participants à la mairie | B17: Vendredi | C17: 0.8125 | D17: 0.91666667
A18: Accueil des participants à la mairie | B18: Vendredi | C18: 0.91666667 | D18: 0
A19: Trajets Aéroport | B19: Vendredi | C19: 0.70833333 | D19: 0.95833333
A20: Trajets Gare | B20: Vendredi | C20: 0.70833333 | D20: 0.95833333
A21: Trajet Mairie/Boite | B21: Vendredi | C21: 0 | D21: 0.041666667
A22: Nettoyage Mairie | B22: Vendredi | C22: 0 | D22: 0.041666667
A23: Accueil IAE + Petit Déjeuner | B23: Samedi Matin | C23: 0.3125 | D23: 0.35416667 | E23: 2 | F23: Bertrand Canu | G23: Alexis
A24: Accueil IAE | B24: Samedi Matin | C24: 0.35416667 | D24: 0.41666667
A25: Accueil IAE | B25: Samedi Matin | C25: 0.41666667 | D25: 0.45833333
A26: Récéption Traiteur + Installation | B26: Samedi Midi | C26: 0.47916667 | D26: 0.5625
A27: Distribution | B27: Samedi Midi | C27: 0.47916667 | D27: 0.5625
A28: Nettoyage IAE | B28: Samedi Midi | C28: 0.5625 | D28: 0.58333333
A29: Accueil Bus et répartition | B29: Samedi Midi | C29: 0.5625 | D29: 0.57291667
A30: Activité Puy-de-Dôme | B30: Samedi AM | C30: 0.57291667 | D30: 0.70833333
A31: Activité ASM | B31: Samedi AM | C31: 0.57291667 | D31: 0.70833333
A32: Activité Royatonic | B32: Samedi AM | C32: 0.57291667 | D32: 0.70833333
A33: Equipe Préparation Casino | B33: Samedi AM | C33: 0.58333333 | D33: 0.70833333
A34: Tour des chambres et gestion bus | B34: Samedi Soirée | C34: 0.75 | D34: 0.79166667
A35: Accueil des participants | B35: Samedi Soirée | C35: 0.79166667 | D35: 0.83333333
... A57: Trajets Gare | B57: Dimanche Matin | C57: 0.5 | D57: 0.58333333

Sheet Vendredi
A1: PLANNING CONVENTION NATIONALE - VENDREDI 28/06/19
B2: Alexis | C2: Adeline | D2: Amélie | E2: Alexandre | F2: Louison | G2: Bertrand | H2: Cyril | I2: Pauline | J2: Claire | K2: Marion | L2: Cyril | M2: Cyril | N2: Cyril | O2: Cyril | P2: Cyril | Q2: Cyril | R2: Cyril | S2: Cyril | T2: Cyril
A3: Colonne1 | B3: Colonne2 | C3: Colonne3 | D3: Colonne4 | E3: Colonne5 | F3: Colonne6 | G3: Colonne7 | H3: Colonne8 | I3: Colonne9 | J3: Colonne10 | K3: Colonne11 | L3: Colonne12 | M3: Colonne13 | N3: Colonne14 | O3: Colonne15 | P3: Colonne16 | Q3: Colonne17 | R3: Colonne18 | S3: Colonne19 | T3: Colonne20 | U3: Colonne21 | V3: Colonne22 | W3: Colonne23 | X3: Colonne24 | Y3: Colonne25 | Z3: Colonne26
A4: 0.29166667
A5: 0.3125 | B5: =IF(AND('Tâches (2)'!F3="*B2*",'Tâches (2)'!C3=Table1[[#This Row],[Colonne1]]),'Tâches (2)'!A3,"Libre") -> Libre
A6: 0.33333333 | B6: =IF(AND('Tâches (2)'!F4="*B2*",'Tâches (2)'!C4=Table1[[#This Row],[Colonne1]]),'Tâches (2)'!A4,"Libre") -> Libre
A7: 0.35416667 | B7: =IF(AND('Tâches (2)'!F5="*B2*",'Tâches (2)'!C5=Table1[[#This Row],[Colonne1]]),'Tâches (2)'!A5,"Libre") -> Libre
A8: 0.375 | B8: =IF(AND('Tâches (2)'!F6="*B2*",'Tâches (2)'!C6=Table1[[#This Row],[Colonne1]]),'Tâches (2)'!A6,"Libre") -> Libre
A9: 0.39583333 | B9: =IF(AND('Tâches (2)'!F7="*B2*",'Tâches (2)'!C7=Table1[[#This Row],[Colonne1]]),'Tâches (2)'!A7,"Libre") -> Libre
A10: 0.41666667 | B10: =IF(AND('Tâches (2)'!F8="*B2*",'Tâches (2)'!C8=Table1[[#This Row],[Colonne1]]),'Tâches (2)'!A8,"Libre") -> Libre
A11: 0.4375 | B11: =IF(AND('Tâches (2)'!F9="*B2*",'Tâches (2)'!C9=Table1[[#This Row],[Colonne1]]),'Tâches (2)'!A9,"Libre") -> Libre
A12: 0.45833333 | B12: =IF(AND('Tâches (2)'!F10="*B2*",'Tâches (2)'!C10=Table1[[#This Row],[Colonne1]]),'Tâches (2)'!A10,"Libre") -> Libre
A13: 0.47916667 | B13: =IF(AND('Tâches (2)'!F11="*B2*",'Tâches (2)'!C11=Table1[[#This Row],[Colonne1]]),'Tâches (2)'!A11,"Libre") -> Libre
A14: 0.5 | B14: =IF(AND('Tâches (2)'!F12="*B2*",'Tâches (2)'!C12=Table1[[#This Row],[Colonne1]]),'Tâches (2)'!A12,"Libre") -> Libre
A15: 0.52083333 | B15: =IF(AND('Tâches (2)'!F13="*B2*",'Tâches (2)'!C13=Table1[[#This Row],[Colonne1]]),'Tâches (2)'!A13,"Libre") -> Libre
A16: 0.54166667 | B16: =IF(AND('Tâches (2)'!F14="*B2*",'Tâches (2)'!C14=Table1[[#This Row],[Colonne1]]),'Tâches (2)'!A14,"Libre") -> Libre
... A23: 0.6875 | B23: =IF(AND('Tâches (2)'!F21="*B2*",'Tâches (2)'!C21=Table1[[#This Row],[Colonne1]]),'Tâches (2)'!A21,"Libre") -> Libre
A24: 0.70833333 | B24: =IF(AND('Tâches (2)'!F2="*B2*",'Tâches (2)'!C2=Table1[[#This Row],[Colonne1]]),'Tâches (2)'!A2,"Libre") -> Libre
A25: 0.72916667 | B25: =IF(AND('Tâches (2)'!F23="*B2*",'Tâches (2)'!C23=Table1[[#This Row],[Colonne1]]),'Tâches (2)'!A23,"Libre") -> Libre
A26: 0.75 | B26: =IF(AND('Tâches (2)'!F24="*B2*",'Tâches (2)'!C24=Table1[[#This Row],[Colonne1]]),'Tâches (2)'!A24,"Libre") -> Libre
A27: 0.77083333 | B27: =IF(AND('Tâches (2)'!F25="*B2*",'Tâches (2)'!C25=Table1[[#This Row],[Colonne1]]),'Tâches (2)'!A25,"Libre") -> Libre
A28: 0.79166667 | B28: =IF(AND('Tâches (2)'!F26="*B2*",'Tâches (2)'!C26=Table1[[#This Row],[Colonne1]]),'Tâches (2)'!A26,"Libre") -> Libre
A29: 0.8125 | B29: =IF(AND('Tâches (2)'!F27="*B2*",'Tâches (2)'!C27=Table1[[#This Row],[Colonne1]]),'Tâches (2)'!A27,"Libre") -> Libre
A30: 0.83333333 | B30: =IF(AND('Tâches (2)'!F28="*B2*",'Tâches (2)'!C28=Table1[[#This Row],[Colonne1]]),'Tâches (2)'!A28,"Libre") -> Libre
A31: 0.85416667 | B31: =IF(AND('Tâches (2)'!F29="*B2*",'Tâches (2)'!C29=Table1[[#This Row],[Colonne1]]),'Tâches (2)'!A29,"Libre") -> Libre
A32: 0.875 | B32: =IF(AND('Tâches (2)'!F30="*B2*",'Tâches (2)'!C30=Table1[[#This Row],[Colonne1]]),'Tâches (2)'!A30,"Libre") -> Libre
A33: 0.89583333 | B33: =IF(AND('Tâches (2)'!F31="*B2*",'Tâches (2)'!C31=Table1[[#This Row],[Colonne1]]),'Tâches (2)'!A31,"Libre") -> Libre
A34: 0.91666667 | B34: =IF(AND('Tâches (2)'!F32="*B2*",'Tâches (2)'!C32=Table1[[#This Row],[Colonne1]]),'Tâches (2)'!A32,"Libre") -> Libre
A35: 0.9375 | B35: =IF(AND('Tâches (2)'!F33="*B2*",'Tâches (2)'!C33=Table1[[#This Row],[Colonne1]]),'Tâches (2)'!A33,"Libre") -> Libre
A36: 1.9583333 | B36: =IF(AND('Tâches (2)'!F34="*B2*",'Tâches (2)'!C34=Table1[[#This Row],[Colonne1]]),'Tâches (2)'!A34,"Libre") -> Libre
... A43: 1.1041667 | B43: =IF(AND('Tâches (2)'!F41="*B2*",'Tâches (2)'!C41=Table1[[#This Row],[Colonne1]]),'Tâches (2)'!A41,"Libre") -> Libre

Sheet Samedi
A1: PLANNING CONVENTION NATIONALE - SAMEDI 29/06/19
B2: Alexis | C2: Adeline | D2: Amélie | E2: Alexandre | F2: Louison | G2: Bertrand | H2: Cyril | I2: Pauline | J2: Claire | K2: Marion | L2: Cyril | M2: Cyril | N2: Cyril | O2: Cyril | P2: Cyril | Q2: Cyril | R2: Cyril | S2: Cyril | T2: Cyril
A3: Colonne1 | B3: Colonne2 | C3: Colonne3 | D3: Colonne4 | E3: Colonne5 | F3: Colonne6 | G3: Colonne7 | H3: Colonne8 | I3: Colonne9 | J3: Colonne10 | K3: Colonne11 | L3: Colonne12 | M3: Colonne13 | N3: Colonne14 | O3: Colonne15 | P3: Colonne16 | Q3: Colonne17 | R3: Colonne18 | S3: Colonne19 | T3: Colonne20 | U3: Colonne21 | V3: Colonne22 | W3: Colonne23 | X3: Colonne24 | Y3: Colonne25 | Z3: Colonne26
A4: 0.29166667
A5: 0.3125
A6: 0.33333333
A7: 0.35416667
A8: 0.375
A9: 0.39583333
A10: 0.41666667
A11: 0.4375
A12: 0.45833333
A13: 0.47916667
A14: 0.5
A15: 0.52083333
... A43: 1.1041667

Sheet Dimanche
A1: PLANNING CONVENTION NATIONALE - Dimanche 30/06/19
B2: Alexis | C2: Adeline | D2: Amélie | E2: Alexandre | F2: Louison | G2: Bertrand | H2: Cyril | I2: Pauline | J2: Claire | K2: Marion | L2: Cyril | M2: Cyril | N2: Cyril | O2: Cyril | P2: Cyril | Q2: Cyril | R2: Cyril | S2: Cyril | T2: Cyril
A3: Colonne1 | B3: Colonne2 | C3: Colonne3 | D3: Colonne4 | E3: Colonne5 | F3: Colonne6 | G3: Colonne7 | H3: Colonne8 | I3: Colonne9 | J3: Colonne10 | K3: Colonne11 | L3: Colonne12 | M3: Colonne13 | N3: Colonne14 | O3: Colonne15 | P3: Colonne16 | Q3: Colonne17 | R3: Colonne18 | S3: Colonne19 | T3: Colonne20 | U3: Colonne21 | V3: Colonne22 | W3: Colonne23 | X3: Colonne24 | Y3: Colonne25 | Z3: Colonne26
A4: 0.29166667
A5: 0.3125
A6: 0.33333333
A7: 0.35416667
A8: 0.375
A9: 0.39583333
A10: 0.41666667
A11: 0.4375
A12: 0.45833333
A13: 0.47916667
A14: 0.5
A15: 0.52083333
... A43: 1.1041667

Sheet Bénévoles
A1: Nom Participant | B1: Club | C1: Arrivée | D1: Départ | E1: Tâches
A2: Adeline | B2: Clermont-Ferrand | C2: - | D2: -
A3: Amélie
A4: Bertrand
