Workbook

Sheet Base
B1: RÉFÉRENCE POUR LISTES DÉROULANTES | O1: RÉFÉRENCE POUR FORMULE DE DATE
D3: IMPORTANT NE PAS TOUCHER | I3: IMPORTANT NE PAS TOUCHER | O3: Jour | P3: 30
C4: # jour mois | E4: Mois | J4: AAAAAAAAAAAAA | O4: Date | P4: 6
C5: 1 | E5: Janvier | F5: 1 | G5: lundi | H5: 0 | J5: AAAAAAAAAAAAA | O5: Année | P5: 1
C6: 2 | E6: Février | F6: 2 | G6: mardi | H6: 1 | J6: AAAAAAAAAAAAA
C7: 3 | E7: Mars | F7: 3 | G7: mercredi | H7: 2 | J7: AAAAAAAAAAAAA | O7: Date | P7: =DATE(2018+Base!$P$5,Base!$P$4,Base!$P$3) -> 43646
C8: 4 | E8: Avril | F8: 4 | G8: jeudi | H8: 3 | J8: AAAAAAAAAAAAA
C9: 5 | E9: Mai | F9: 5 | G9: vendredi | H9: 4 | J9: AAAAAAAAAAAAA
C10: 6 | E10: Juin | F10: 6 | G10: samedi | H10: 5 | J10: AAAAAAAAAAAAA | O10: Formule pour date | R10: =WEEKDAY(Patriot!$G$2,2) -> 1
A11: N | C11: 7 | E11: Juillet | F11: 7 | G11: dimanche | H11: 6 | J11: AAAAAAAAAAAAA | L11: N | O11: MOT DE PASSE: TURBO93
A12: E | C12: 8 | E12: Août | J12: AAAAAAAAAAAAA | L12: E
C13: 9 | E13: Septembre
A14: P | C14: 10 | E14: Octobre | J14: BBBBBBBBBBBBBBBBBB | L14: P
A15: A | C15: 11 | E15: Novembre | J15: BBBBBBBBBBBBBBBBBB | L15: A
A16: S | C16: 12 | E16: Décembre | J16: BBBBBBBBBBBBBBBBBB | L16: S
C17: 13 | J17: BBBBBBBBBBBBBBBBBB
A18: T | C18: 14 | E18: ANNÉE | J18: BBBBBBBBBBBBBBBBBB | L18: T
A19: O | C19: 15 | E19: 2019 | J19: BBBBBBBBBBBBBBBBBB | L19: O
A20: U | C20: 16 | E20: 2020 | J20: BBBBBBBBBBBBBBBBBB | L20: U
A21: C | C21: 17 | E21: 2021 | J21: BBBBBBBBBBBBBBBBBB | L21: C
A22: H | C22: 18 | E22: 2022 | J22: BBBBBBBBBBBBBBBBBB | L22: H
A23: E | C23: 19 | E23: 2023 | J23: BBBBBBBBBBBBBBBBBB | L23: E
A24: R | C24: 20 | J24: BBBBBBBBBBBBBBBBBB | L24: R
C25: 21
C26: 22
C27: 23
C28: 24 | J28: CCCCCCCCCCCC
C29: 25 | J29: CCCCCCCCCCCC
C30: 26
C31: 27
C32: 28 | J32: DDDDDDDDDDDDD
C33: 29
C34: 30 | J34: Une fois par année faire venir le technicien (en Avril)
C35: 31
D36: IMPORTANT NE PAS TOUCHER | J36: IMPORTANT NE PAS TOUCHER

Sheet Patriot
E2: CALENDRIER PRÉVENTIF | G2: =TODAY() -> 43612
E3: MACHINERIE SÉRIGRAPHIE
B4: =IF(Base!$R$10<>1,TEXT($G$2-VLOOKUP(Base!$R$10,Base!$F$5:$H$11,3,FALSE),"jj"),TEXT($G$2,"JJ")) -> 27 | C4: Lundi | D4: =IF(Base!$R$10<>1,TEXT($G$2+1-VLOOKUP(Base!$R$10,Base!$F$5:$H$11,3,FALSE),"jj"),TEXT($G$2+1,"JJ")) -> 28 | E4: Mardi | F4: =IF(Base!$R$10<>1,TEXT($G$2+2-VLOOKUP(Base!$R$10,Base!$F$5:$H$11,3,FALSE),"jj"),TEXT($G$2+2,"JJ")) -> 29 | G4: Mercredi | H4: =IF(Base!$R$10<>1,TEXT($G$2+3-VLOOKUP(Base!$R$10,Base!$F$5:$H$11,3,FALSE),"jj"),TEXT($G$2+3,"JJ")) -> 30 | I4: Jeudi | J4: =IF(Base!$R$10<>1,TEXT($G$2+4-VLOOKUP(Base!$R$10,Base!$F$5:$H$11,3,FALSE),"jj"),TEXT($G$2+4,"JJ")) -> 31 | K4: Vendredi
A5: Matin | C5: ooooooooooooooooo | E5: ooooooooooooooooo | G5: ooooooooooooooooo | I5: ooooooooooooooooo | K5: ooooooooooooooooo
C6: ooooooooooooooooo | E6: ooooooooooooooooo | G6: ooooooooooooooooo | I6: ooooooooooooooooo | K6: ooooooooooooooooo
C7: ooooooooooooooooo | E7: ooooooooooooooooo | G7: ooooooooooooooooo | I7: ooooooooooooooooo | K7: ooooooooooooooooo
A8: Soir | C8: YYYYYYYYYYYYYYY | E8: YYYYYYYYYYYYYYY | G8: YYYYYYYYYYYYYYY | I8: YYYYYYYYYYYYYYY | K8: YYYYYYYYYYYYYYY
C9: YYYYYYYYYYYYYYY | E9: YYYYYYYYYYYYYYY | G9: YYYYYYYYYYYYYYY | I9: YYYYYYYYYYYYYYY | K9: YYYYYYYYYYYYYYY
C10: YYYYYYYYYYYYYYY | E10: YYYYYYYYYYYYYYY | G10: YYYYYYYYYYYYYYY | I10: YYYYYYYYYYYYYYY | K10: YYYYYYYYYYYYYYY
A11: Hebdomadaire | C11: ZZZZZZZZZZZZZZZZZZ
C12: ZZZZZZZZZZZZZZZZZZ
C13: ZZZZZZZZZZZZZZZZZZ
C14: ZZZZZZZZZZZZZZZZZZ
C15: ZZZZZZZZZZZZZZZZZZ
C16: ZZZZZZZZZZZZZZZZZZ
C17: ZZZZZZZZZZZZZZZZZZ
C18: ZZZZZZZZZZZZZZZZZZ
C19: ZZZZZZZZZZZZZZZZZZ
A20: Mensuelle | E20: =IF(OR($B$4="01",$B$4="02",$B$4="03",$D$4="01"),Base!$J14,"") | G20: =IF($F$4="01",Base!$J14,"") | I20: =IF($H$4="01",Base!$J14,"") | K20: =IF(J$4="01",Base!$J14,"")
E21: =IF(OR($B$4="01",$B$4="02",$B$4="03",$D$4="01"),Base!$J15,"") | G21: =IF($F$4="01",Base!$J15,"") | I21: =IF($H$4="01",Base!$J15,"") | K21: =IF(J$4="01",Base!$J15,"")
E22: =IF(OR($B$4="01",$B$4="02",$B$4="03",$D$4="01"),Base!$J16,"") | G22: =IF($F$4="01",Base!$J16,"") | I22: =IF($H$4="01",Base!$J16,"") | K22: =IF(J$4="01",Base!$J16,"")
E23: =IF(OR($B$4="01",$B$4="02",$B$4="03",$D$4="01"),Base!$J17,"") | G23: =IF($F$4="01",Base!$J17,"") | I23: =IF($H$4="01",Base!$J17,"") | K23: =IF(J$4="01",Base!$J17,"")
E24: =IF(OR($B$4="01",$B$4="02",$B$4="03",$D$4="01"),Base!$J18,"") | G24: =IF($F$4="01",Base!$J18,"") | I24: =IF($H$4="01",Base!$J18,"") | K24: =IF(J$4="01",Base!$J18,"")
E25: =IF(OR($B$4="01",$B$4="02",$B$4="03",$D$4="01"),Base!$J19,"") | G25: =IF($F$4="01",Base!$J19,"") | I25: =IF($H$4="01",Base!$J19,"") | K25: =IF(J$4="01",Base!$J19,"")
E26: =IF(OR($B$4="01",$B$4="02",$B$4="03",$D$4="01"),Base!$J20,"") | G26: =IF($F$4="01",Base!$J20,"") | I26: =IF($H$4="01",Base!$J20,"") | K26: =IF(J$4="01",Base!$J20,"")
E27: =IF(OR($B$4="01",$B$4="02",$B$4="03",$D$4="01"),Base!$J21,"") | G27: =IF($F$4="01",Base!$J21,"") | I27: =IF($H$4="01",Base!$J21,"") | K27: =IF(J$4="01",Base!$J21,"")
E28: =IF(OR($B$4="01",$B$4="02",$B$4="03",$D$4="01"),Base!$J22,"") | G28: =IF($F$4="01",Base!$J22,"") | I28: =IF($H$4="01",Base!$J22,"") | K28: =IF(J$4="01",Base!$J22,"")
E29: =IF(OR($B$4="01",$B$4="02",$B$4="03",$D$4="01"),Base!$J23,"") | G29: =IF($F$4="01",Base!$J23,"") | I29: =IF($H$4="01",Base!$J23,"") | K29: =IF(J$4="01",Base!$J23,"")
E30: =IF(OR($B$4="01",$B$4="02",$B$4="03",$D$4="01"),Base!$J24,"") | G30: =IF($F$4="01",Base!$J24,"") | I30: =IF($H$4="01",Base!$J24,"") | K30: =IF(J$4="01",Base!$J24,"")
A31: Trimestriel | E31: =IF(AND($D$4="05",OR(Base!P4=1,Base!P4=4,Base!P4=7,Base!P4=10)),Base!$J$28,"") | G31: =IF(AND(OR($B$4="01",$B$4="02",$B$4="03",$D$4="01"),OR(Base!P4=1,Base!P4=4,Base!P4=7,Base!P4=10,Base!P4=3,Base!P4=6,Base!P4=9,Base!P4=12)),Base!$J$28,"") | I31: =IF(AND(OR($F$4="01"),OR(Base!P4=3,Base!P4=6,Base!P4=9,Base!P4=12)),Base!$J$28,"") | K31: =IF(AND(OR($H$4="01"),OR(Base!P4=3,Base!P4=6,Base!P4=9,Base!P4=12)),Base!$J$28,"")
E32: =IF(AND($D$4="05",OR(Base!P5=1,Base!P5=4,Base!P5=7,Base!P5=10)),Base!$J$28,"") | G32: =IF(AND(OR($B$4="01",$B$4="02",$B$4="03",$D$4="01"),OR(Base!P5=1,Base!P5=4,Base!P5=7,Base!P5=10,Base!P5=3,Base!P5=6,Base!P5=9,Base!P5=12)),Base!$J$28,"") | K32: =IF(AND(OR($J$4="01"),OR(Base!P5=3,Base!P5=6,Base!P5=9,Base!P5=12)),Base!$J$28,"")
A33: Biannuel | E33: =IF(OR(AND($B$4="05",OR(Base!$P$4=1,Base!$P$4=7)),AND($B$4="31",Base!$P$4=12),AND($B$4="30",Base!$P$4=6)),Base!$J$32,"") | G33: =IF(OR(AND($D$4="01",OR(Base!P4=1,Base!P4=7))*AND($B$4="04",OR(Base!P4=12,Base!P4=6)),AND($B$4="30",Base!$P$4=12),AND($B$4="29",Base!$P$4=6)),Base!$J$32,"") | I33: =IF(OR(AND($B$4="29",Base!$P$4=12),AND($B$4="28",Base!$P$4=6)),Base!$J$32,"") | K33: =IF(AND($F$4="01",OR(Base!P4=6,Base!P4=12)),Base!$J$32,"")
A36: Signature électronique

Sheet Feuil1
B1: Matin | C1: Nettoyer cartouche impression Cadre principale et baleuyeur sur table
C2: vérifier lift et chaines pour poussière et lubrification
C3: Scratch test (8 a 10 micron)
B4: Soir | C4: Nettoyer la soie avec ???
C5: Nettoyer squeegee avec ???
C6: Nettoyer la table avec ???
B7: Hebdomadaire | C7: Vérifier head lift et chaine si assez tendu, sinon serrer
C8: Nettoyer, enlever extrusion de toutes saletés et garder lubrifié adéquatement
C9: Nettoyer conduit d’aire de tous accumulation de saleté et pulvériser de silicone.
C10: Vérifier pour s’assurer que le tuyau à air se déplace librement sur le long du conduit.
C11: Nettoyer les têtes d’extrusion d’impression de toutes saletés et s’assurer que le bearing est lubrifié adéquatement
C12: Nettoyer le vacuum de la plaque frontale & pulvériser de silicone ou appliqué un huile industriel
C13: Nettoyer les guides de registre avec alcool ou poly thinner.
C14: Vérifier le niveau d'huile
C15: Vérifier tuyau pour Vacuum et Blowback
B16: Mensuelle | C16: 8 bearing ont besoin d’être vérifié si accumulation de saleté et doit être lubrifié adéquatement. Bearing centrale des deux drives shafts du chariot & peel drive shaft.
C17: Head lift shaft bearings principale de chaque côté de la presse.
C18: Head pivot shaft bearing et master frame enregistrement bearings.
C19: Nettoyer les trous de l’aspirateur comme demandé.
C20: Vérifier le lubrificateur d’air si bon ratio. Remplir le graisseur si nécessaire. (Huile moteur non-détergente SAE-10W)
B21: Mensuelle | C21: Nettoyer toutes poussières ou saletés du ventilateur sur le côté de la boîte d’alimentation principale
C22: Mettre 3-5 gouttes d’huile non-détergent 10W sur les boutons de micro-enregistrement.
C23: Graisser les filets de la barre d’ajustements de pression d’aspirateur sous la presse avec de la graisse blanche au lithium.
C24: Utilisé l’air compresser – Souffler l’air sur le tableau d’ordinateur.
C25: Lubrifier entrée Vacuum et Blowback
C26: Vérifier si la poignée du stopeur est collé sur le bloc
B27: Trimestriel | C27: Nettoyer ou remplacer l’élément du filtre à air, lubrifier si bouché ou salis au 3 mois.
C28: Nettoyer ou remplacer l’élément du filtre à air, lubrifier si bouché ou salis au 3 mois.
B29: Biannuel | C29: Changer l’huile des boîtes d’engrenage à tous les 2000 heures ou au 6 mois.
