Workbook
Name _end1: #REF!
Name _end1: #REF!
Name abeille: #REF!
Name abeille: #REF!
Name amort: #REF!
Name amort: #REF!
Name annee: #REF!
Name annee: #REF!
Name Anniversaire: #REF!,#REF!,#REF!,#REF!
Name Anniversaire: #REF!,#REF!,#REF!,#REF!
Name Anniversaire: #REF!,#REF!,#REF!,#REF!
Name Anniversaire: #REF!,#REF!,#REF!,#REF!
Name Anniversaire: #REF!,#REF!,#REF!,#REF!
Name base: #REF!
Name base: #REF!
Name BASE2: #REF!
Name BASE2: #REF!
Name bop: #REF!
Name bop: #REF!
Name CAP1E: #REF!
Name CAP1E: #REF!
Name CAP1E: #REF!
Name CAP1E: #REF!
Name CAP1E: #REF!
Name CapitFIXE: #REF!
Name CapitFIXE: #REF!
Name CapitFIXE: #REF!
Name CapitFIXE: #REF!
Name CapitFIXE: #REF!
Name Changement_de_taux: #REF!
Name Changement_de_taux: #REF!
Name Changement_de_taux: #REF!
Name Changement_de_taux: #REF!
Name Changement_de_taux: #REF!
Name cost: #REF!
Name cost: #REF!
Name Cout_Total: #REF!
Name Cout_Total: #REF!
Name Cout_Total: #REF!
Name Cout_Total: #REF!
Name Cout_Total: #REF!
Name DATDB: #REF!
Name DATDB: #REF!
Name DATDB: #REF!
Name DATDB: #REF!
Name DATDB: #REF!
Name date_vte: #REF!
Name date_vte: #REF!
Name deb: #REF!
Name deb: #REF!
Name DebAmort: #REF!
Name DebAmort: #REF!
Name DebAmort: #REF!
Name DebAmort: #REF!
Name DebAmort: #REF!
Name debut: #REF!
Name debut: #REF!
Name debut2: #REF!
Name debut2: #REF!
Name Diff: #REF!

Sheet Cover

Sheet Hotel

Sheet Hotel Operating Revenue
B4: Hotel : 1st view | C4: YEAR 1 | D4: YEAR 2 | E4: YEAR 3 | F4: YEAR 4 | G4: YEAR 5 | H4: Inflation | I4: =TODAY() -> 43612
A5: KPI | B5: Total apartment | C5: 20 | D5: 20 | E5: 20 | F5: 20 | G5: 20 | H5: 0.012
B6: Total nights | C6: =C5*365 -> 7300 | D6: =D5*365 -> 7300 | E6: =E5*365 -> 7300 | F6: =F5*365 -> 7300 | G6: =G5*365 -> 7300
B7: Number of nights | C7: =+C5*365*C8 -> 5475 | D7: =+D5*365*D8 -> 5475 | E7: =+E5*365*E8 -> 5475 | F7: =+F5*365*F8 -> 5475 | G7: =+G5*365*G8 -> 5475
B8: Filling rate | C8: ='Sensivity '!B4 -> 0.75 | D8: =C8 -> 0.75 | E8: =D8 -> 0.75 | F8: =E8 -> 0.75 | G8: =F8 -> 0.75 | H8: NB: Lisbon avg @78%
B9: Price ex-Tax/average nights | C9: ='Sensivity '!B5 -> 300 | D9: =C9 -> 300 | E9: =D9 -> 300 | F9: =E9 -> 300 | G9: =F9 -> 300 | H9: Std double rooms range from €200-600+ - for 45 sqm suites they can start from 350/400
A10: Trunover | B10: REVPAR | C10: =C11/C6 -> 225 | D10: =D11/D6 -> 225 | E10: =E11/E6 -> 225 | F10: =F11/F6 -> 225 | G10: =G11/G6 -> 225
B11: Accommodation turnover | C11: =+C9*C7 -> 1642500 | D11: =+D9*D7 -> 1642500 | E11: =+E9*E7 -> 1642500 | F11: =+F9*F7 -> 1642500 | G11: =+G9*G7 -> 1642500
B12: Revenue from breakfast ex-Tax | C12: =+C7*1.5*0.5*10*C8 -> 30796.875 | D12: =+D7*1.5*0.5*10*D8 -> 30796.875 | E12: =+E7*1.5*0.5*10*E8 -> 30796.875 | F12: =+F7*1.5*0.5*10*F8 -> 30796.875 | G12: =+G7*1.5*0.5*10*G8 -> 30796.875 | H12: NB: 1.5 people per appt, 50% of whom have breakfast at a charge of Eur 10 | N12: =E12/E11 -> 0.01875
B13: Revenue from Bar & Snacking | C13: =C5*365*7 -> 51100 | D13: =D5*365*8 -> 58400 | E13: =E5*365*8 -> 58400 | F13: =F5*365*8 -> 58400 | G13: =G5*365*8 -> 58400 | H13: NB: Assuming average of 30 consumption at 7 euro - avg for a glass of wine or 2 coffees) | N13: =E13/E11 -> 0.035555556
B15: Turnover | C15: =+C12+C13+C14 -> 81896.875 | D15: =+D12+D13+D14 -> 89196.875 | E15: =+E12+E13+E14 -> 89196.875 | F15: =+F12+F13+F14 -> 89196.875 | G15: =+G12+G13+G14 -> 89196.875
B16: Breakfast | C16: =+C12*0.5 -> 15398.438 | D16: =+D12*0.5 -> 15398.438 | E16: =+E12*0.5 -> 15398.438 | F16: =+F12*0.5 -> 15398.438 | G16: =+G12*0.5 -> 15398.438 | H16: Costs at 50% of revenues. | N16: =E16/E12 -> 0.5
B17: Bar & Snacking | C17: =+C13*0.3 -> 15330 | D17: =+D13*0.3 -> 17520 | E17: =+E13*0.3 -> 17520 | F17: =+F13*0.3 -> 17520 | G17: =+G13*0.3 -> 17520 | H17: Costs at 30% of revenues | N17: =E17/E13 -> 0.3
B19: Total Materials consumed | C19: =+C16+C17+C18 -> 30728.438 | D19: =+D16+D17+D18 -> 32918.438 | E19: =+E16+E17+E18 -> 32918.438 | F19: =+F16+F17+F18 -> 32918.438 | G19: =+G16+G17+G18 -> 32918.438
B20: Complementary turnover margin | C20: =+C15-C19 -> 51168.438 | D20: =+D15-D19 -> 56278.438 | E20: =+E15-E19 -> 56278.438 | F20: =+F15-F19 -> 56278.438 | G20: =+G15-G19 -> 56278.438
B22: Total Turnover | C22: =+C11+C20 -> 1693668.4 | D22: =+D11+D20 -> 1698778.4 | E22: =+E11+E20 -> 1698778.4 | F22: =+F11+F20 -> 1698778.4 | G22: =+G11+G20 -> 1698778.4
A25: Expenses | B25: Total accommodation expenses | C25: =SUM(C26:C43) -> 654897.27 | D25: =SUM(D26:D43) -> 655308.07 | E25: =SUM(E26:E43) -> 655310.07 | F25: =SUM(F26:F43) -> 655312.07 | G25: =SUM(G26:G43) -> 655314.07
B26: Payroll | C26: =50000*1.25+(8*1100*14*1.25) -> 216500 | D26: =50000*1.25+(8*1100*14*1.25) -> 216500 | E26: =50000*1.25+(8*1100*14*1.25) -> 216500 | F26: =50000*1.25+(8*1100*14*1.25) -> 216500 | G26: =50000*1.25+(8*1100*14*1.25) -> 216500 | H26: NB: Cost of Hotel Manager (2-3000 per month. Cost of receptionists 900-1200 per month. All need to be grossed up by 25% for social security and insurance and account for 14 months. Source: Rui Bruno, hospitality lawyer; ABC hospitality; online searches | N26: =E26/E11 -> 0.13181126 | O26: =F26/F11 -> 0.13181126 | P26: =G26/G11 -> 0.13181126 | Q26: =#REF!/#REF! -> #REF! | R26: =#REF!/#REF! -> #REF! | S26: =#REF!/#REF! -> #REF!
B27: Bank charges / commission | C27: =+C22*0.08 -> 135493.48 | D27: =+D22*0.08 -> 135902.27 | E27: =+E22*0.08 -> 135902.27 | F27: =+F22*0.08 -> 135902.27 | G27: =+G22*0.08 -> 135902.27 | H27: 8% of accommodation revenue. Bkg 22% and 15%
B28: Marketing | C28: 50000 | D28: 50001 | E28: 50002 | F28: 50003 | G28: 50004 | H28: NB: 50%
B29: Cleaning & under contract | C29: =11*C7*C8 -> 45168.75 | D29: =11*D7*D8 -> 45168.75 | E29: =11*E7*E8 -> 45168.75 | F29: =11*F7*F8 -> 45168.75 | G29: =11*G7*G8 -> 45168.75 | H29: NB: assume 50% of the cost in France: Avg EUR 22 per night rented (industry standard)
B30: Maintenance | C30: 50000 | D30: 50001 | E30: 50002 | F30: 50003 | G30: 50004 | H30: NB:50% estimate
B31: Energy /water /…. | C31: =(30*92*12)*0.67 -> 22190.4 | D31: =(30*92*12)*0.67 -> 22190.4 | E31: =(30*92*12)*0.67 -> 22190.4 | F31: =(30*92*12)*0.67 -> 22190.4 | G31: =(30*92*12)*0.67 -> 22190.4 | H31: NB: avg monthly utilities for 85m sq apt is Euro 92. assume 2/3 the cost do not give full time occupancy and half size
B32: Laundry linen charges | C32: =4.5*C7 -> 24637.5 | D32: =4.5*D7 -> 24637.5 | E32: =4.5*E7 -> 24637.5 | F32: =4.5*F7 -> 24637.5 | G32: =4.5*G7 -> 24637.5 | H32: Assume 50% of the cost in France. Based on EUR 9 per night rented
B33: Other purchases e.g household product | C33: =2*C7 -> 10950 | D33: =2*D7 -> 10950 | E33: =2*E7 -> 10950 | F33: =2*F7 -> 10950 | G33: =2*G7 -> 10950 | H33: NB: assume 25% of the cost in France
B34: Rentals - leasing | C34: =+(55000/1.75*0.67) -> 21057.143 | D34: =+(55000/1.75*0.67) -> 21057.143 | E34: =+(55000/1.75*0.67) -> 21057.143 | F34: =+(55000/1.75*0.67) -> 21057.143 | G34: =+(55000/1.75*0.67) -> 21057.143 | H34: NB: assume 60% Coffee machines, gym equip, tvs, phones, equipment.
B35: Fees | C35: =30000*0.6 -> 18000 | D35: =30000*0.6 -> 18000 | E35: =30000*0.6 -> 18000 | F35: =30000*0.6 -> 18000 | G35: =30000*0.6 -> 18000 | H35: 60% av in France
B36: Insurance | C36: =25000*0.6 -> 15000 | D36: =25000*0.6 -> 15000 | E36: =25000*0.6 -> 15000 | F36: =25000*0.6 -> 15000 | G36: =25000*0.6 -> 15000 | H36: NB: assume 60%
B37: Phone / TV / internet charges | C37: =30*600*0.6 -> 10800 | D37: =30*600*0.6 -> 10800 | E37: =30*600*0.6 -> 10800 | F37: =30*600*0.6 -> 10800 | G37: =30*600*0.6 -> 10800 | H37: NB: assumed 60%
B38: IT / website | C38: =15000*0.6 -> 9000 | D38: =15000*0.6 -> 9000 | E38: =15000*0.6 -> 9000 | F38: =15000*0.6 -> 9000 | G38: =15000*0.6 -> 9000 | H38: NB: assumed 60%
B39: Operating supplies | C39: =15000*0.6 -> 9000 | D39: =15000*0.6 -> 9000 | E39: =15000*0.6 -> 9000 | F39: =15000*0.6 -> 9000 | G39: =15000*0.6 -> 9000 | H39: NB: assumed 60%
B40: Building maintenance | C40: =6000*0.6 -> 3600 | D40: =6000*0.6 -> 3600 | E40: =6000*0.6 -> 3600 | F40: =6000*0.6 -> 3600 | G40: =6000*0.6 -> 3600 | H40: NB: assumed 60% | N40: =E29/E11 -> 0.0275 | O40: =F29/F11 -> 0.0275 | P40: =G29/G11 -> 0.0275 | Q40: =#REF!/#REF! -> #REF! | R40: =#REF!/#REF! -> #REF! | S40: =#REF!/#REF! -> #REF!
B41: Audiovisual fee | C41: =6000*0.6 -> 3600 | D41: =6000*0.6 -> 3600 | E41: =6000*0.6 -> 3600 | F41: =6000*0.6 -> 3600 | G41: =6000*0.6 -> 3600 | H41: NB: assumed 60% | N41: =E31/E11 -> 0.013510137 | O41: =F31/F11 -> 0.013510137 | P41: =G31/G11 -> 0.013510137 | Q41: =#REF!/#REF! -> #REF! | R41: =#REF!/#REF! -> #REF! | S41: =#REF!/#REF! -> #REF!
B42: Fourniture administrative | C42: =2500*0.6 -> 1500 | D42: =2500*0.6 -> 1500 | E42: =2500*0.6 -> 1500 | F42: =2500*0.6 -> 1500 | G42: =2500*0.6 -> 1500 | H42: NB: assumed 60% | N42: =E30/E11 -> 0.030442618 | O42: =F30/F11 -> 0.030443227 | P42: =G30/G11 -> 0.030443836 | Q42: =#REF!/#REF! -> #REF! | R42: =#REF!/#REF! -> #REF! | S42: =#REF!/#REF! -> #REF!
B43: Other | C43: =14000*0.6 -> 8400 | D43: =14000*0.6 -> 8400 | E43: =14000*0.6 -> 8400 | F43: =14000*0.6 -> 8400 | G43: =14000*0.6 -> 8400 | N43: =E43/E11 -> 0.0051141553 | O43: =F43/F11 -> 0.0051141553 | P43: =G43/G11 -> 0.0051141553 | Q43: =#REF!/#REF! -> #REF! | R43: =#REF!/#REF! -> #REF! | S43: =#REF!/#REF! -> #REF!
N44: =H44/E11 -> 0 | O44: =I44/F11 -> 0 | P44: =J44/G11 -> 0 | Q44: =K44/#REF! -> #REF! | R44: =L44/#REF! -> #REF! | S44: =M44/#REF! -> #REF!
A47: Financial overview | B47: Accommodation operating income | C47: =+C11-C25 -> 987602.73 | D47: =+D11-D25 -> 987191.93 | E47: =+E11-E25 -> 987189.93 | F47: =+F11-F25 -> 987187.93 | G47: =+G11-G25 -> 987185.93
B48: Complementary operating income | C48: =+C20 -> 51168.438 | D48: =+D20 -> 56278.438 | E48: =+E20 -> 56278.438 | F48: =+F20 -> 56278.438 | G48: =+G20 -> 56278.438
B49: EBIDAR | C49: =+C47+C48 -> 1038771.2 | D49: =+D47+D48 -> 1043470.4 | E49: =+E47+E48 -> 1043468.4 | F49: =+F47+F48 -> 1043466.4 | G49: =+G47+G48 -> 1043464.4
B50: % Ebidar / CA | C50: =C49/C22 -> 0.61332617 | D50: =D49/D22 -> 0.61424748 | E50: =E49/E22 -> 0.6142463 | F50: =F49/F22 -> 0.61424512 | G50: =G49/G22 -> 0.61424395
...

Sheet Acquisition

Sheet Assumptions
B2: Data | C2: Hotel | G2: =TODAY() -> 43612
C4: Existing area | D4: Potential area | H4: Price per sqr | I4: Price per sqr / potential
B5: Activities | C5: 1603 | D5: =C5 -> 1603 | F5: Purchase price | G5: ='Sensivity '!B29 -> 10000000 | H5: =G5/$C$5 -> 6238.3032 | I5: =$G$5/D5 -> 6238.3032
B6: Hotel | C6: =C5-C7 -> 1603 | F6: Notary | G6: =G5*D26 -> 700000 | H6: =G6/$C$5 -> 436.68122 | I6: =G6/D5 -> 436.68122
F7: Agent commission | G7: =G5*D28 -> 0 | H7: =G7/$C$5 -> 0 | I7: =G7/D5 -> 0
F8: Capex | G8: =J32 -> 2404500 | H8: =G8/$C$5 -> 1500 | I8: =G8/D5 -> 1500
H9: =G9/C5 -> 0 | I9: =G9/D5 -> 0
B13: SHORT TERM FINANCING | G13: CAPEX FINANCING
B14: Hotel
B15: Acquisition | G15: Acquisistion
B16: Equity | C16: 0.4 | D16: =C16*G5 -> 4000000 | G16: Equity | H16: 0.2 | I16: =G8*H16 -> 480900
B17: Loan | C17: =1-C16 -> 0.6 | D17: =C17*G5 -> 6000000 | G17: Loan | H17: =1-H16 -> 0.8 | I17: =G8*H17 -> 1923600
B18: FINANCING 5 YEARS
H19: 15 years
B20: Years | D20: 5 | G20: IRR | H20: ='IRR 15y'!C55 -> 0.11139768
B21: Amortisation rate | D21: 0.028 | G21: Multiple | H21: ='IRR 15y'!C57 -> 2.9663926
B22: Bullet rate | D22: 0.031
B23: Bullet | D23: 0.35 | G23: 15 YEARS FINANCING
B24: Inflation | D24: 0.012
B25: Inflation after 5 years | D25: 0.012 | G25: Long term | I25: 15
B26: Notary | D26: 0.07 | G26: Depreciable rate | I26: 0.028
B27: Mortgage fees | D27: =1.2%+0.875% -> 0.02075 | G27: Bullet rate | I27: 0.031
B28: Agent fees | D28: 0 | G28: Bullet rate | I28: 0.35
B29: Asset management fees | D29: 0.05
B30: Property fees | D30: 0.02 | G30: Travaux | H30: m2 | I30: cout m2 | J30: total
B31: Set-up costs Credit (notary, lawyers, ...) | D31: 0.01 | G31: Hotel | H31: =C5 -> 1603 | I31: 1500 | J31: =Tableau1[[#This Row],[m2]]*Tableau1[[#This Row],[cout m2]] -> 2404500
B32: Capitalization rate | D32: ='Sensivity '!B30 -> 0.055 | H32: =C6 -> 1603 | J32: =SUM(J31:J31) -> 2404500
H33: =C7 -> 0

Sheet CF 15y

Sheet IRR 15y
S1: =TODAY() -> 43612
B3: 15 Years
B6: Name | C6: Hotel
B8: Town | C8: Paris
B10: Renting | C10: Area | D10: Price per sqr | E10: Summary | I10: Price | J10: Price per sqr | L10: Acquisition & Capex financing
B11: Total area | C11: =Assumptions!C5 -> 1603 | D11: =D17/C11 -> 652.24571 | E11: Acquisition | I11: =Assumptions!G5 -> 10000000 | J11: =I11/$C$11 -> 6238.3032 | L11: Acquisiton y | M11: ='IRR 15y'!D19 -> Y1
B12: Hotel | C12: =Assumptions!C6 -> 1603 | E12: Notary fees | I12: =C26 -> 700000 | J12: =I12/$C$11 -> 436.68122 | L12: Acquisistion financing | N12: =Assumptions!D17 -> 6000000 | P12: Inflation rate | Q12: =Assumptions!D24 -> 0.012
E13: Commision | I13: =S27 -> 0 | J13: =I13/$C$11 -> 0 | L13: Capex financing | M13: =Assumptions!H17 -> 0.8 | N13: =Assumptions!I17 -> 1923600
E14: Capex | I14: =Assumptions!J32 -> 2404500 | J14: =I14/$C$12 -> 1500 | L14: Length | M14: 15 | P14: Inflation rate > 5y | Q14: =Assumptions!D25 -> 0.012
L15: Exit y | M15: =R19 -> Y15
D16: Rent | E16: Cost price | I16: =SUM(G11:I15) -> 13104500 | J16: =I16/$C$11 -> 8174.9844 | L16: Bullet rate | M16: =Assumptions!D22 -> 0.031 | P16: Amortisation rate | Q16: =Assumptions!D21 -> 0.028
B17: Rent | D17: =MAX(G24:R24) -> 1045549.9 | E17: Yield / cost price | I17: =D17/I16 -> 0.07978556 | L17: Bullet | M17: =Assumptions!D23 -> 0.35 | N17: =(N12+N13)*M17 -> 2773260
L18: Amortisation | M18: =1-M17 -> 0.65 | N18: =(N12+N13)*M18 -> 5150340 | Q18: 0
D19: Y1 | E19: Y2 | F19: Y3 | G19: Y4 | H19: Y5 | I19: Y6 | J19: Y7 | K19: Y8 | L19: Y9 | M19: Y10 | N19: Y11 | O19: Y12 | P19: Y13 | Q19: Y14 | R19: Y15 | S19: Total
B20: Hotel rent | D20: 0 | E20: ='Hotel Operating Revenue'!C51 -> 934894.05 | F20: ='Hotel Operating Revenue'!D51 -> 939123.33 | G20: ='Hotel Operating Revenue'!E51 -> 939121.53 | H20: ='Hotel Operating Revenue'!F51 -> 939119.73 | I20: ='Hotel Operating Revenue'!G51 -> 939117.93 | J20: =I20*$Q$12+I20 -> 950387.35 | K20: =J20*$Q$12+J20 -> 961792 | L20: =K20*$Q$12+K20 -> 973333.5 | M20: =L20*$Q$12+L20 -> 985013.5 | N20: =M20*$Q$12+M20 -> 996833.66 | O20: =N20*$Q$12+N20 -> 1008795.7 | P20: =O20*$Q$12+O20 -> 1020901.2 | Q20: =P20*$Q$12+P20 -> 1033152 | R20: =Q20*$Q$12+Q20 -> 1045549.9 | S20: =SUM(D20:R20) -> 13667135
B21: % inflation | C21: 0 | D21: =IF($M$14>=1,$Q$12,"") -> 0.012 | E21: =IF($M$14>=2,$Q$12,"") -> 0.012 | F21: =IF($M$14>=3,$Q$12,"") -> 0.012 | G21: =IF($M$14>=4,$Q$12,"") -> 0.012 | H21: =IF($M$14>=5,$Q$12,"") -> 0.012 | I21: =IF($M$14>=6,$Q$12,"") -> 0.012 | J21: =IF($M$14>=7,$Q$12,"") -> 0.012 | K21: =IF($M$14>=8,$Q$12,"") -> 0.012 | L21: =IF($M$14>=9,$Q$12,"") -> 0.012 | M21: =IF($M$14>=10,$Q$12,"") -> 0.012 | N21: =IF($M$14>=11,$Q$12,"") -> 0.012 | O21: =IF($M$14>=12,$Q$12,"") -> 0.012 | P21: =IF($M$14>=13,$Q$12,"") -> 0.012 | Q21: =IF($M$14>=14,$Q$12,"") -> 0.012 | R21: =IF($M$14>=15,$Q$12,"") -> 0.012
B22: Financing set up | C22: =$N$12 -> 6000000 | S22: =SUM(C22:R22) -> 6000000
B23: Capex financing | D23: =$N$13/2 -> 961800 | E23: =$N$13/2 -> 961800 | S23: =SUM(C23:R23) -> 1923600
B24: Operating revenue | C24: =SUM(C22:C23) -> 6000000 | D24: =SUM(D20:D23) -> 961800.01 | E24: =SUM(E20:E23) -> 1896694.1 | F24: =SUM(F20:F23) -> 939123.34 | G24: =SUM(G20:G23) -> 939121.54 | H24: =SUM(H20:H23) -> 939119.74 | I24: =SUM(I20:I23) -> 939117.94 | J24: =SUM(J20:J23) -> 950387.36 | K24: =SUM(K20:K23) -> 961792.01 | ... R24: =SUM(R20:R23) -> 1045549.9 | S24: =SUM(C24:R24) -> 21590736
B25: Acquisition price | C25: =$I$11 -> 10000000 | S25: =SUM(C25:R25) -> 10000000
A26: =Assumptions!D26 -> 0.07 | B26: Notary fees | C26: =$A26*C$25 -> 700000 | S26: =SUM(C26:R26) -> 700000
A27: =Assumptions!D28 -> 0 | B27: Agent fees | C27: =$A27*C$25 -> 0 | S27: =SUM(C27:R27) -> 0
A28: =Assumptions!D29 -> 0.05 | B28: Asset management fees | D28: =G28 -> 50000 | E28: =D31*$A$28 -> 60112.5 | F28: =E31*$A$28 -> 60112.5 | G28: 50000 | H28: 50000 | I28: 50000 | J28: 50000 | K28: 50000 | L28: 50000 | M28: 50000 | N28: 50000 | O28: 50000 | P28: 50000 | Q28: 50000 | R28: 50000 | S28: =SUM(C28:R28) -> 770225
A29: =Assumptions!D30 -> 0.02 | B29: Property fees | D29: =$A$29*(D20) -> 0 | E29: =$A$29*(E20) -> 18697.881 | F29: =$A$29*(F20) -> 18782.467 | G29: =$A$29*(G20) -> 18782.431 | H29: =$A$29*(H20) -> 18782.395 | I29: =$A$29*(I20) -> 18782.359 | J29: =$A$29*(J20) -> 19007.747 | K29: =$A$29*(K20) -> 19235.84 | ... R29: =$A$29*(R20) -> 20910.997 | S29: =SUM(C29:R29) -> 273342.71
B30: Audit and legal costs | S30: =SUM(C30:R30) -> 0
B31: Capex | D31: =$I$14/2 -> 1202250 | E31: =$I$14/2 -> 1202250 | S31: =SUM(C31:R31) -> 2404500
S32: =SUM(C32:R32) -> 0
S33: =SUM(C33:R33) -> 0
S34: =SUM(C34:R34) -> 0
S35: =SUM(C35:R35) -> 0
S36: =SUM(C36:R36) -> 0
S37: =SUM(C37:R37) -> 0
S38: =SUM(C38:R38) -> 0
B39: Capital depreciation | D39: ='Amortization Table 15y'!$D16 -> 280999.88 | E39: ='Amortization Table 15y'!$D17 -> 288867.88 | F39: ='Amortization Table 15y'!$D18 -> 296956.18 | G39: ='Amortization Table 15y'!$D19 -> 305270.96 | H39: ='Amortization Table 15y'!$D20 -> 313818.54 | I39: ='Amortization Table 15y'!$D21 -> 322605.46 | J39: ='Amortization Table 15y'!$D22 -> 331638.41 | K39: ='Amortization Table 15y'!$D23 -> 340924.29 | L39: ='Amortization Table 15y'!$D24 -> 350470.17 | M39: ='Amortization Table 15y'!$D25 -> 360283.33 | N39: ='Amortization Table 15y'!$D26 -> 370371.27 | O39: ='Amortization Table 15y'!$D27 -> 380741.66 | P39: ='Amortization Table 15y'!$D28 -> 391402.43 | Q39: ='Amortization Table 15y'!$D29 -> 402361.7 | R39: ='Amortization Table 15y'!$D30 -> 413627.83 | S39: =SUM(C39:R39) -> 5150340 | EA39: =[5]TAM!CO44 -> 0 | EB39: =[5]TAM!CP44 -> 0 | EC39: =[5]TAM!CQ44 -> 0 | ED39: =[5]TAM!CR44 -> 0 | EE39: =[5]TAM!CS44 -> 0 | EF39: =[5]TAM!CT44 -> 0 | EG39: =[5]TAM!CU44 -> 0 | EH39: =[5]TAM!CV44 -> 0 | ... LI39: =[5]TAM!JW44 -> 0
A40: =Assumptions!D21 -> 0.028 | B40: Amortisation rate | D40: ='Amortization Table 15y'!$E16 -> 144209.52 | E40: ='Amortization Table 15y'!$E17 -> 136341.52 | F40: ='Amortization Table 15y'!$E18 -> 128253.22 | G40: ='Amortization Table 15y'!$E19 -> 119938.45 | H40: ='Amortization Table 15y'!$E20 -> 111390.86 | I40: ='Amortization Table 15y'!$E21 -> 102603.94 | J40: ='Amortization Table 15y'!$E22 -> 93570.991 | K40: ='Amortization Table 15y'!$E23 -> 84285.115 | L40: ='Amortization Table 15y'!$E24 -> 74739.235 | M40: ='Amortization Table 15y'!$E25 -> 64926.07 | N40: ='Amortization Table 15y'!$E26 -> 54838.137 | O40: ='Amortization Table 15y'!$E27 -> 44467.741 | P40: ='Amortization Table 15y'!$E28 -> 33806.975 | Q40: ='Amortization Table 15y'!$E29 -> 22847.707 | R40: ='Amortization Table 15y'!$E30 -> 11581.579 | S40: =SUM(C40:R40) -> 1227801.1
A41: =Assumptions!D22 -> 0.031 | B41: Bullet rate | D41: =(($N$17)*$A$41) -> 85971.06 | E41: =($N$17)*$A$41 -> 85971.06 | F41: =IF($M$14>=1,($N$17)*$A$41,"") -> 85971.06 | G41: =IF($M$14>=2,($N$17)*$A$41,"") -> 85971.06 | H41: =IF($M$14>=3,($N$17)*$A$41,"") -> 85971.06 | I41: =IF($M$14>=4,($N$17)*$A$41,"") -> 85971.06 | J41: =IF($M$14>=5,($N$17)*$A$41,"") -> 85971.06 | K41: =IF($M$14>=6,($N$17)*$A$41,"") -> 85971.06 | L41: =IF($M$14>=7,($N$17)*$A$41,"") -> 85971.06 | M41: =IF($M$14>=8,($N$17)*$A$41,"") -> 85971.06 | N41: =IF($M$14>=9,($N$17)*$A$41,"") -> 85971.06 | O41: =IF($M$14>=10,($N$17)*$A$41,"") -> 85971.06 | P41: =IF($M$14>=11,($N$17)*$A$41,"") -> 85971.06 | Q41: =IF($M$14>=12,($N$17)*$A$41,"") -> 85971.06 | R41: =IF($M$14>=13,($N$17)*$A$41,"") -> 85971.06 | S41: =SUM(C41:R41) -> 1289565.9
B42: Debt service | D42: =D41+D40+D39 -> 511180.46 | E42: =E41+E40+E39 -> 511180.46 | F42: =IF($M$14>=1,F41+F40+F39,"") -> 511180.46 | G42: =IF($M$14>=2,G41+G40+G39,"") -> 511180.46 | H42: =IF($M$14>=3,H41+H40+H39,"") -> 511180.46 | I42: =IF($M$14>=4,I41+I40+I39,"") -> 511180.46 | J42: =IF($M$14>=5,J41+J40+J39,"") -> 511180.46 | K42: =IF($M$14>=6,K41+K40+K39,"") -> 511180.46 | L42: =IF($M$14>=7,L41+L40+L39,"") -> 511180.46 | M42: =IF($M$14>=8,M41+M40+M39,"") -> 511180.46 | N42: =IF($M$14>=9,N41+N40+N39,"") -> 511180.46 | O42: =IF($M$14>=10,O41+O40+O39,"") -> 511180.46 | P42: =IF($M$14>=11,P41+P40+P39,"") -> 511180.46 | Q42: =IF($M$14>=12,Q41+Q40+Q39,"") -> 511180.46 | R42: =IF($M$14>=13,R41+R40+R39,"") -> 511180.46 | S42: =SUM(C42:R42) -> 7667707
B43: Bullet refund | E43: =IF($M$15=E19,N17,"") | F43: =IF($M$15=F19,$N$17,"") | G43: =IF($M$15=G19,N17,"") | H43: =IF($M$15=H19,N17,"") | I43: =IF($M$15=I19,N17,"") | J43: =IF($M$15=J19,N17,"") | K43: =IF($M$15=K19,N17,"") | L43: =IF($M$15=L19,N17,"") | M43: =IF($M$15=M19,N17,"") | N43: =IF($M$15=N19,N17,"") | O43: =IF($M$15=O19,N17,"") | P43: =IF($M$15=P19,N17,"") | Q43: =IF($M$15=Q19,N17,"") | R43: =IF($M$15=R19,N17,"") -> 2773260 | S43: =SUM(C43:R43) -> 2773260
B44: Total expenses | C44: =-SUM(C25:C43) -> -10700000 | D44: =-SUM(D25:D38)-D42 -> -1763430.5 | E44: =IF($M$14=1,-SUM(E25:E41)+$S$43,IF($M$14>1,-SUM(E25:E43)+E42,"")) -> -1792240.8 | F44: =IF($M$14=2,-SUM(F25:F41)+$S$43,IF($M$14>2,-SUM(F25:F43)+F42,"")) -> -590075.43 | G44: =IF($M$14=3,-SUM(G25:G41)+$S$43,IF($M$14>3,-SUM(G25:G43)+G42,"")) -> -579962.9 | H44: =IF($M$14=4,-SUM(H25:H41)+$S$43,IF($M$14>4,-SUM(H25:H43)+H42,"")) -> -579962.86 | I44: =IF($M$14=5,-SUM(I25:I41)+$S$43,IF($M$14>5,-SUM(I25:I43)+I42,"")) -> -579962.82 | J44: =IF($M$14=6,-SUM(J25:J41)+$S$43,IF($M$14>6,-SUM(J25:J43)+J42,"")) -> -580188.21 | K44: =IF($M$14=7,-SUM(K25:K41)+$S$43,IF($M$14>7,-SUM(K25:K43)+K42,"")) -> -580416.3 | L44: =IF($M$14=8,-SUM(L25:L41)+$S$43,IF($M$14>8,-SUM(L25:L43)+L42,"")) -> -580647.13 | M44: =IF($M$14=9,-SUM(M25:M41)+$S$43,IF($M$14>9,-SUM(M25:M43)+M42,"")) -> -580880.73 | N44: =IF($M$14=10,-SUM(N25:N41)+$S$43,IF($M$14>10,-SUM(N25:N43)+N42,"")) -> -581117.14 | O44: =IF($M$14=11,-SUM(O25:O41)+$S$43,IF($M$14>11,-SUM(O25:O43)+O42,"")) -> -581356.38 | P44: =IF($M$14=12,-SUM(P25:P41)+$S$43,IF($M$14>12,-SUM(P25:P43)+P42,"")) -> -581598.49 | Q44: =IF($M$14=13,-SUM(Q25:Q41)+$S$43,IF($M$14>13,-SUM(Q25:Q43)+Q42,"")) -> -581843.51 | R44: =IF($M$14=14,-SUM(R25:R41)+$S$43,IF($M$14>14,-SUM(R25:R43)+R42,"")) -> -3355351.5 | S44: =SUM(C44:R44) -> -24589035
B45: Selling price | E45: =IF($M$14=1,$D$17/$A$46,"") | F45: =IF($M$14=2,$D$17/$A$46,"") | G45: =IF($M$14=3,$D$17/$A$46,"") | H45: =IF($M$14=4,$D$17/$A$46,"") | I45: =IF($M$14=5,$D$17/$A$46,"") | J45: =IF($M$14=6,$D$17/$A$46,"") | K45: =IF($M$14=7,$D$17/$A$46,"") | L45: =IF($M$14=8,$D$17/$A$46,"") | M45: =IF($M$14=9,$D$17/$A$46,"") | N45: =IF($M$14=10,$D$17/$A$46,"") | O45: =IF($M$14=11,$D$17/$A$46,"") | P45: =IF($M$14=12,$D$17/$A$46,"") | Q45: =IF($M$14=13,$D$17/$A$46,"") | R45: =$D$17/$A$46 -> 19009998 | S45: =SUM(C45:R45) -> 19009998
...

Sheet Amortization Table 15y
A2: Calculateur de prêts
B4: Cette feuille de calcul peut vous aider à calculer le coût d'un prêt. Entrez vos valeurs dans les cases jaunes, en remplaçant les exemples qui s'y trouvent. Le résultat sera affiché dans les cases vertes. Cette feuille est verrouillée pour protéger les formules qui serviront à calculer vos résultats. Pour déverrouiller la feuille, sélectionnez Protection dans le menu Outils, puis cliquez sur Ôter la protection de la feuille. Cette feuille n'utilise pas de mot de passe. | E4: Montant du prêt : | G4: ='IRR 15y'!N18 -> 5150340
E5: Taux d'intérêt annuel : | G5: ='IRR 15y'!Q16 -> 0.028
E7: Durée du prêt (en années) : | G7: ='IRR 15y'!M14 -> 15
E8: Nombre de paiements par an : | G8: 1
E9: Nombre total d'échéances : | G9: 15
E11: Paiement par échéance : | G11: =-PMT((G5/G8),G9,G4) -> 425209.4
E12: Total des intérêts versés : | G12: =G13-G4 -> 1227801.1
E13: Total des paiements : | G13: =G11*G9 -> 6378141.1
H14: =G5*G4 -> 144209.52
B15: Échéance | C15: Paiement | D15: Capital | E15: Intérêts | F15: Total des intérêts versés | G15: Nouveau montant à rembourser | H15: =$G$5*G16 -> 136341.52
B16: =IF(((ROW()-nSkip)<=$G$9),(ROW()-nSkip), "") -> 1 | C16: =IF((B16<=$G$9),-PMT(($G$5/$G$8),$G$9,$G$4),"") -> 425209.4 | D16: =IF(((ROW()-nSkip)<=$G$9),-PPMT(($G$5/$G$8),B16,$G$9,$G$4),"") -> 280999.88 | E16: =IF(((ROW()-nSkip)<=$G$9),-IPMT(($G$5/$G$8),B16,$G$9,$G$4),"") -> 144209.52 | F16: =IF(((ROW()-nSkip)<=$G$9),E16,"") -> 144209.52 | G16: =IF(((ROW()-nSkip)<=$G$9),(G4-D16),"") -> 4869340.1 | H16: =$G$5*G17 -> 128253.22
B17: =IF(((ROW()-nSkip)<=$G$9),(ROW()-nSkip), "") -> 2 | C17: =IF((B17<=$G$9),-PMT(($G$5/$G$8),$G$9,$G$4),"") -> 425209.4 | D17: =IF(((ROW()-nSkip)<=$G$9),-PPMT(($G$5/$G$8),B17,$G$9,$G$4),"") -> 288867.88 | E17: =IF(((ROW()-nSkip)<=$G$9),-IPMT(($G$5/$G$8),B17,$G$9,$G$4),"") -> 136341.52 | F17: =IF(((ROW()-nSkip)<=$G$9),(E17+F16),"") -> 280551.04 | G17: =IF(((ROW()-nSkip)<=$G$9),(G16-D17),"") -> 4580472.2 | H17: =$G$5*G18 -> 119938.45
B18: =IF(((ROW()-nSkip)<=$G$9),(ROW()-nSkip), "") -> 3 | C18: =IF((B18<=$G$9),-PMT(($G$5/$G$8),$G$9,$G$4),"") -> 425209.4 | D18: =IF(((ROW()-nSkip)<=$G$9),-PPMT(($G$5/$G$8),B18,$G$9,$G$4),"") -> 296956.18 | E18: =IF(((ROW()-nSkip)<=$G$9),-IPMT(($G$5/$G$8),B18,$G$9,$G$4),"") -> 128253.22 | F18: =IF(((ROW()-nSkip)<=$G$9),(E18+F17),"") -> 408804.27 | G18: =IF(((ROW()-nSkip)<=$G$9),(G17-D18),"") -> 4283516.1 | H18: =$G$5*G19 -> 111390.86
B19: =IF(((ROW()-nSkip)<=$G$9),(ROW()-nSkip), "") -> 4 | C19: =IF((B19<=$G$9),-PMT(($G$5/$G$8),$G$9,$G$4),"") -> 425209.4 | D19: =IF(((ROW()-nSkip)<=$G$9),-PPMT(($G$5/$G$8),B19,$G$9,$G$4),"") -> 305270.96 | E19: =IF(((ROW()-nSkip)<=$G$9),-IPMT(($G$5/$G$8),B19,$G$9,$G$4),"") -> 119938.45 | F19: =IF(((ROW()-nSkip)<=$G$9),(E19+F18),"") -> 528742.72 | G19: =IF(((ROW()-nSkip)<=$G$9),(G18-D19),"") -> 3978245.1 | H19: =$G$5*G20 -> 102603.94
B20: =IF(((ROW()-nSkip)<=$G$9),(ROW()-nSkip), "") -> 5 | C20: =IF((B20<=$G$9),-PMT(($G$5/$G$8),$G$9,$G$4),"") -> 425209.4 | D20: =IF(((ROW()-nSkip)<=$G$9),-PPMT(($G$5/$G$8),B20,$G$9,$G$4),"") -> 313818.54 | E20: =IF(((ROW()-nSkip)<=$G$9),-IPMT(($G$5/$G$8),B20,$G$9,$G$4),"") -> 111390.86 | F20: =IF(((ROW()-nSkip)<=$G$9),(E20+F19),"") -> 640133.58 | G20: =IF(((ROW()-nSkip)<=$G$9),(G19-D20),"") -> 3664426.6 | H20: =$G$5*G21 -> 93570.991
B21: =IF(((ROW()-nSkip)<=$G$9),(ROW()-nSkip), "") -> 6 | C21: =IF((B21<=$G$9),-PMT(($G$5/$G$8),$G$9,$G$4),"") -> 425209.4 | D21: =IF(((ROW()-nSkip)<=$G$9),-PPMT(($G$5/$G$8),B21,$G$9,$G$4),"") -> 322605.46 | E21: =IF(((ROW()-nSkip)<=$G$9),-IPMT(($G$5/$G$8),B21,$G$9,$G$4),"") -> 102603.94 | F21: =IF(((ROW()-nSkip)<=$G$9),(E21+F20),"") -> 742737.52 | G21: =IF(((ROW()-nSkip)<=$G$9),(G20-D21),"") -> 3341821.1 | H21: =$G$5*G22 -> 84285.115
B22: =IF(((ROW()-nSkip)<=$G$9),(ROW()-nSkip), "") -> 7 | C22: =IF((B22<=$G$9),-PMT(($G$5/$G$8),$G$9,$G$4),"") -> 425209.4 | D22: =IF(((ROW()-nSkip)<=$G$9),-PPMT(($G$5/$G$8),B22,$G$9,$G$4),"") -> 331638.41 | E22: =IF(((ROW()-nSkip)<=$G$9),-IPMT(($G$5/$G$8),B22,$G$9,$G$4),"") -> 93570.991 | F22: =IF(((ROW()-nSkip)<=$G$9),(E22+F21),"") -> 836308.51 | G22: =IF(((ROW()-nSkip)<=$G$9),(G21-D22),"") -> 3010182.7 | H22: =$G$5*G23 -> 74739.235
B23: =IF(((ROW()-nSkip)<=$G$9),(ROW()-nSkip), "") -> 8 | C23: =IF((B23<=$G$9),-PMT(($G$5/$G$8),$G$9,$G$4),"") -> 425209.4 | D23: =IF(((ROW()-nSkip)<=$G$9),-PPMT(($G$5/$G$8),B23,$G$9,$G$4),"") -> 340924.29 | E23: =IF(((ROW()-nSkip)<=$G$9),-IPMT(($G$5/$G$8),B23,$G$9,$G$4),"") -> 84285.115 | F23: =IF(((ROW()-nSkip)<=$G$9),(E23+F22),"") -> 920593.63 | G23: =IF(((ROW()-nSkip)<=$G$9),(G22-D23),"") -> 2669258.4 | H23: =$G$5*G24 -> 64926.07
B24: =IF(((ROW()-nSkip)<=$G$9),(ROW()-nSkip), "") -> 9 | C24: =IF((B24<=$G$9),-PMT(($G$5/$G$8),$G$9,$G$4),"") -> 425209.4 | D24: =IF(((ROW()-nSkip)<=$G$9),-PPMT(($G$5/$G$8),B24,$G$9,$G$4),"") -> 350470.17 | E24: =IF(((ROW()-nSkip)<=$G$9),-IPMT(($G$5/$G$8),B24,$G$9,$G$4),"") -> 74739.235 | F24: =IF(((ROW()-nSkip)<=$G$9),(E24+F23),"") -> 995332.86 | G24: =IF(((ROW()-nSkip)<=$G$9),(G23-D24),"") -> 2318788.2 | H24: =$G$5*G25 -> 54838.137
B25: =IF(((ROW()-nSkip)<=$G$9),(ROW()-nSkip), "") -> 10 | C25: =IF((B25<=$G$9),-PMT(($G$5/$G$8),$G$9,$G$4),"") -> 425209.4 | D25: =IF(((ROW()-nSkip)<=$G$9),-PPMT(($G$5/$G$8),B25,$G$9,$G$4),"") -> 360283.33 | E25: =IF(((ROW()-nSkip)<=$G$9),-IPMT(($G$5/$G$8),B25,$G$9,$G$4),"") -> 64926.07 | F25: =IF(((ROW()-nSkip)<=$G$9),(E25+F24),"") -> 1060258.9 | G25: =IF(((ROW()-nSkip)<=$G$9),(G24-D25),"") -> 1958504.9 | H25: =$G$5*G26 -> 44467.741
B26: =IF(((ROW()-nSkip)<=$G$9),(ROW()-nSkip), "") -> 11 | C26: =IF((B26<=$G$9),-PMT(($G$5/$G$8),$G$9,$G$4),"") -> 425209.4 | D26: =IF(((ROW()-nSkip)<=$G$9),-PPMT(($G$5/$G$8),B26,$G$9,$G$4),"") -> 370371.27 | E26: =IF(((ROW()-nSkip)<=$G$9),-IPMT(($G$5/$G$8),B26,$G$9,$G$4),"") -> 54838.137 | F26: =IF(((ROW()-nSkip)<=$G$9),(E26+F25),"") -> 1115097.1 | G26: =IF(((ROW()-nSkip)<=$G$9),(G25-D26),"") -> 1588133.6 | H26: =$G$5*G27 -> 33806.975
B27: =IF(((ROW()-nSkip)<=$G$9),(ROW()-nSkip), "") -> 12 | C27: =IF((B27<=$G$9),-PMT(($G$5/$G$8),$G$9,$G$4),"") -> 425209.4 | D27: =IF(((ROW()-nSkip)<=$G$9),-PPMT(($G$5/$G$8),B27,$G$9,$G$4),"") -> 380741.66 | E27: =IF(((ROW()-nSkip)<=$G$9),-IPMT(($G$5/$G$8),B27,$G$9,$G$4),"") -> 44467.741 | F27: =IF(((ROW()-nSkip)<=$G$9),(E27+F26),"") -> 1159564.8 | G27: =IF(((ROW()-nSkip)<=$G$9),(G26-D27),"") -> 1207392 | H27: =$G$5*G28 -> 22847.707
B28: =IF(((ROW()-nSkip)<=$G$9),(ROW()-nSkip), "") -> 13 | C28: =IF((B28<=$G$9),-PMT(($G$5/$G$8),$G$9,$G$4),"") -> 425209.4 | D28: =IF(((ROW()-nSkip)<=$G$9),-PPMT(($G$5/$G$8),B28,$G$9,$G$4),"") -> 391402.43 | E28: =IF(((ROW()-nSkip)<=$G$9),-IPMT(($G$5/$G$8),B28,$G$9,$G$4),"") -> 33806.975 | F28: =IF(((ROW()-nSkip)<=$G$9),(E28+F27),"") -> 1193371.8 | G28: =IF(((ROW()-nSkip)<=$G$9),(G27-D28),"") -> 815989.52 | H28: =$G$5*G29 -> 11581.579
B29: =IF(((ROW()-nSkip)<=$G$9),(ROW()-nSkip), "") -> 14 | C29: =IF((B29<=$G$9),-PMT(($G$5/$G$8),$G$9,$G$4),"") -> 425209.4 | D29: =IF(((ROW()-nSkip)<=$G$9),-PPMT(($G$5/$G$8),B29,$G$9,$G$4),"") -> 402361.7 | E29: =IF(((ROW()-nSkip)<=$G$9),-IPMT(($G$5/$G$8),B29,$G$9,$G$4),"") -> 22847.707 | F29: =IF(((ROW()-nSkip)<=$G$9),(E29+F28),"") -> 1216219.5 | G29: =IF(((ROW()-nSkip)<=$G$9),(G28-D29),"") -> 413627.83 | H29: =$G$5*G30 -> -2.6077032e-11
B30: =IF(((ROW()-nSkip)<=$G$9),(ROW()-nSkip), "") -> 15 | C30: =IF((B30<=$G$9),-PMT(($G$5/$G$8),$G$9,$G$4),"") -> 425209.4 | D30: =(IF(((ROW()-nSkip)<=$G$9),-PPMT(($G$5/$G$8),B30,$G$9,$G$4),"")) -> 413627.83 | E30: =IF(((ROW()-nSkip)<=$G$9),-IPMT(($G$5/$G$8),B30,$G$9,$G$4),"") -> 11581.579 | F30: =IF(((ROW()-nSkip)<=$G$9),(E30+F29),"") -> 1227801.1 | G30: =IF(((ROW()-nSkip)<=$G$9),(G29-D30),"") -> -9.3132257e-10 | H30: =$G$5*G31 -> #VALUE!
B31: =IF(((ROW()-nSkip)<=$G$9),(ROW()-nSkip), "") | C31: =IF((B31<=$G$9),-PMT(($G$5/$G$8),$G$9,$G$4),"") | D31: =IF(((ROW()-nSkip)<=$G$9),-PPMT(($G$5/$G$8),B31,$G$9,$G$4),"") | E31: =IF(((ROW()-nSkip)<=$G$9),-IPMT(($G$5/$G$8),B31,$G$9,$G$4),"") | F31: =IF(((ROW()-nSkip)<=$G$9),(E31+F30),"") | G31: =IF(((ROW()-nSkip)<=$G$9),(G30-D31),"")
B32: =IF(((ROW()-nSkip)<=$G$9),(ROW()-nSkip), "") | C32: =IF((B32<=$G$9),-PMT(($G$5/$G$8),$G$9,$G$4),"") | D32: =IF(((ROW()-nSkip)<=$G$9),-PPMT(($G$5/$G$8),B32,$G$9,$G$4),"") | E32: =IF(((ROW()-nSkip)<=$G$9),-IPMT(($G$5/$G$8),B32,$G$9,$G$4),"") | F32: =IF(((ROW()-nSkip)<=$G$9),(E32+F31),"") | G32: =IF(((ROW()-nSkip)<=$G$9),(G31-D32),"")
B33: =IF(((ROW()-nSkip)<=$G$9),(ROW()-nSkip), "") | C33: =IF((B33<=$G$9),-PMT(($G$5/$G$8),$G$9,$G$4),"") | D33: =IF(((ROW()-nSkip)<=$G$9),-PPMT(($G$5/$G$8),B33,$G$9,$G$4),"") | E33: =IF(((ROW()-nSkip)<=$G$9),-IPMT(($G$5/$G$8),B33,$G$9,$G$4),"") | F33: =IF(((ROW()-nSkip)<=$G$9),(E33+F32),"") | G33: =IF(((ROW()-nSkip)<=$G$9),(G32-D33),"")
B34: =IF(((ROW()-nSkip)<=$G$9),(ROW()-nSkip), "") | C34: =IF((B34<=$G$9),-PMT(($G$5/$G$8),$G$9,$G$4),"") | D34: =IF(((ROW()-nSkip)<=$G$9),-PPMT(($G$5/$G$8),B34,$G$9,$G$4),"") | E34: =IF(((ROW()-nSkip)<=$G$9),-IPMT(($G$5/$G$8),B34,$G$9,$G$4),"") | F34: =IF(((ROW()-nSkip)<=$G$9),(E34+F33),"") | G34: =IF(((ROW()-nSkip)<=$G$9),(G33-D34),"")
B35: =IF(((ROW()-nSkip)<=$G$9),(ROW()-nSkip), "") | C35: =IF((B35<=$G$9),-PMT(($G$5/$G$8),$G$9,$G$4),"") | D35: =IF(((ROW()-nSkip)<=$G$9),-PPMT(($G$5/$G$8),B35,$G$9,$G$4),"") | E35: =IF(((ROW()-nSkip)<=$G$9),-IPMT(($G$5/$G$8),B35,$G$9,$G$4),"") | F35: =IF(((ROW()-nSkip)<=$G$9),(E35+F34),"") | G35: =IF(((ROW()-nSkip)<=$G$9),(G34-D35),"")
B36: =IF(((ROW()-nSkip)<=$G$9),(ROW()-nSkip), "") | C36: =IF((B36<=$G$9),-PMT(($G$5/$G$8),$G$9,$G$4),"") | D36: =IF(((ROW()-nSkip)<=$G$9),-PPMT(($G$5/$G$8),B36,$G$9,$G$4),"") | E36: =IF(((ROW()-nSkip)<=$G$9),-IPMT(($G$5/$G$8),B36,$G$9,$G$4),"") | F36: =IF(((ROW()-nSkip)<=$G$9),(E36+F35),"") | G36: =IF(((ROW()-nSkip)<=$G$9),(G35-D36),"")
B37: =IF(((ROW()-nSkip)<=$G$9),(ROW()-nSkip), "") | C37: =IF((B37<=$G$9),-PMT(($G$5/$G$8),$G$9,$G$4),"") | D37: =IF(((ROW()-nSkip)<=$G$9),-PPMT(($G$5/$G$8),B37,$G$9,$G$4),"") | E37: =IF(((ROW()-nSkip)<=$G$9),-IPMT(($G$5/$G$8),B37,$G$9,$G$4),"") | F37: =IF(((ROW()-nSkip)<=$G$9),(E37+F36),"") | G37: =IF(((ROW()-nSkip)<=$G$9),(G36-D37),"")
B38: =IF(((ROW()-nSkip)<=$G$9),(ROW()-nSkip), "") | C38: =IF((B38<=$G$9),-PMT(($G$5/$G$8),$G$9,$G$4),"") | D38: =IF(((ROW()-nSkip)<=$G$9),-PPMT(($G$5/$G$8),B38,$G$9,$G$4),"") | E38: =IF(((ROW()-nSkip)<=$G$9),-IPMT(($G$5/$G$8),B38,$G$9,$G$4),"") | F38: =IF(((ROW()-nSkip)<=$G$9),(E38+F37),"") | G38: =IF(((ROW()-nSkip)<=$G$9),(G37-D38),"")
B39: =IF(((ROW()-nSkip)<=$G$9),(ROW()-nSkip), "") | C39: =IF((B39<=$G$9),-PMT(($G$5/$G$8),$G$9,$G$4),"") | D39: =IF(((ROW()-nSkip)<=$G$9),-PPMT(($G$5/$G$8),B39,$G$9,$G$4),"") | E39: =IF(((ROW()-nSkip)<=$G$9),-IPMT(($G$5/$G$8),B39,$G$9,$G$4),"") | F39: =IF(((ROW()-nSkip)<=$G$9),(E39+F38),"") | G39: =IF(((ROW()-nSkip)<=$G$9),(G38-D39),"")
B40: =IF(((ROW()-nSkip)<=$G$9),(ROW()-nSkip), "") | C40: =IF((B40<=$G$9),-PMT(($G$5/$G$8),$G$9,$G$4),"") | D40: =IF(((ROW()-nSkip)<=$G$9),-PPMT(($G$5/$G$8),B40,$G$9,$G$4),"") | E40: =IF(((ROW()-nSkip)<=$G$9),-IPMT(($G$5/$G$8),B40,$G$9,$G$4),"") | F40: =IF(((ROW()-nSkip)<=$G$9),(E40+F39),"") | G40: =IF(((ROW()-nSkip)<=$G$9),(G39-D40),"")
B41: =IF(((ROW()-nSkip)<=$G$9),(ROW()-nSkip), "") | C41: =IF((B41<=$G$9),-PMT(($G$5/$G$8),$G$9,$G$4),"") | D41: =IF(((ROW()-nSkip)<=$G$9),-PPMT(($G$5/$G$8),B41,$G$9,$G$4),"") | F41: =IF(((ROW()-nSkip)<=$G$9),(E41+F40),"") | G41: =IF(((ROW()-nSkip)<=$G$9),(G40-D41),"")
B42: =IF(((ROW()-nSkip)<=$G$9),(ROW()-nSkip), "") | C42: =IF((B42<=$G$9),-PMT(($G$5/$G$8),$G$9,$G$4),"") | D42: =IF(((ROW()-nSkip)<=$G$9),-PPMT(($G$5/$G$8),B42,$G$9,$G$4),"") | F42: =IF(((ROW()-nSkip)<=$G$9),(E42+F41),"") | G42: =IF(((ROW()-nSkip)<=$G$9),(G41-D42),"")
B43: =IF(((ROW()-nSkip)<=$G$9),(ROW()-nSkip), "") | C43: =IF((B43<=$G$9),-PMT(($G$5/$G$8),$G$9,$G$4),"") | D43: =IF(((ROW()-nSkip)<=$G$9),-PPMT(($G$5/$G$8),B43,$G$9,$G$4),"") | F43: =IF(((ROW()-nSkip)<=$G$9),(E43+F42),"") | G43: =IF(((ROW()-nSkip)<=$G$9),(G42-D43),"")
B44: =IF(((ROW()-nSkip)<=$G$9),(ROW()-nSkip), "") | C44: =IF((B44<=$G$9),-PMT(($G$5/$G$8),$G$9,$G$4),"") | D44: =IF(((ROW()-nSkip)<=$G$9),-PPMT(($G$5/$G$8),B44,$G$9,$G$4),"") | F44: =IF(((ROW()-nSkip)<=$G$9),(E44+F43),"") | G44: =IF(((ROW()-nSkip)<=$G$9),(G43-D44),"")
...

Sheet Sensivity 
A2: ADR/Filling rate sensivity
A4: ='Hotel Operating Revenue'!B8 -> Filling rate | B4: 0.75
A5: ADR | B5: 300
A6: IRR | B6: ='IRR 15y'!C55 -> 0.11139768
A9: ='IRR 15y'!C55 -> 0.11139768 | B9: 0.55 | C9: =B9+0.05 -> 0.6 | D9: =C9+0.05 -> 0.65 | E9: =D9+0.05 -> 0.7 | F9: =E9+0.05 -> 0.75 | G9: =F9+0.05 -> 0.8 | H9: =G9+0.05 -> 0.85 | I9: =H9+0.05 -> 0.9 | J9: =I9+0.05 -> 0.95
A10: 200 | B10: -0.13596988 | C10: -0.081919238 | D10: -0.046506611 | E10: -0.019815859 | F10: 0.0018332309 | G10: 0.020199673 | H10: 0.036258824 | I10: 0.050607362 | J10: 0.063636791
A11: =A10+20 -> 220 | B11: -0.0738487 | C11: -0.037399963 | D11: -0.009993375 | E11: 0.012241194 | F11: 0.031128559 | G11: 0.04767272 | H11: 0.062484836 | I11: 0.075964548 | J11: 0.088387525
A12: =A11+20 -> 240 | B12: -0.034909153 | C12: -0.0055705426 | D12: 0.017985106 | E12: 0.037885118 | F12: 0.055265593 | G12: 0.070804491 | H12: 0.084938871 | I12: 0.097967007 | J12: 0.11010156
A13: =A12+20 -> 260 | B13: -0.005978223 | C13: 0.019648913 | D13: 0.04103646 | E13: 0.059579681 | F13: 0.076082969 | G13: 0.091052411 | H13: 0.10482717 | I13: 0.11764569 | J13: 0.12968199
A14: =A13+20 -> 280 | B14: 0.01738703 | C14: 0.04081758 | D14: 0.060883269 | E14: 0.078601277 | F14: 0.09458921 | G14: 0.10925034 | H14: 0.12286259 | I14: 0.13562562 | J14: 0.1476877
A15: =A14+20 -> 300 | B15: 0.037212716 | C15: 0.059252312 | D15: 0.078482173 | E15: 0.095696996 | F15: 0.11139768 | G15: 0.1259204 | H15: 0.13950176 | I15: 0.15231454 | J15: 0.16448876
A16: =A15+20 -> 320 | B16: 0.05459142 | C16: 0.075720007 | D16: 0.094419732 | E16: 0.11134209 | F16: 0.12690946 | G16: 0.14141137 | H16: 0.15505489 | I16: 0.16799321 | J16: 0.18034279
A17: =A16+20 -> 340 | B17: 0.070179397 | C17: 0.090706636 | D17: 0.10908173 | E17: 0.12585777 | F17: 0.14140131 | G17: 0.1559678 | H17: 0.16974232 | I17: 0.18286314 | J17: 0.19543624
A18: =A17+20 -> 360 | B18: 0.08440173 | C18: 0.10453967 | D18: 0.12273552 | E18: 0.13947135 | F18: 0.15507225 | G18: 0.16976782 | H18: 0.18372612 | I18: 0.1970737 | J18: 0.20990815
A19: =A18+20 -> 380 | B19: 0.097549593 | C19: 0.11745032 | D19: 0.1355741 | E19: 0.15234963 | F19: 0.16807019 | G19: 0.18294511 | H19: 0.19712886 | I19: 0.21073855 | J19: 0.22386483
A20: =A19+20 -> 400 | B20: 0.10983121 | C20: 0.12960795 | D20: 0.1477413 | E20: 0.16461863 | F20: 0.180508 | G20: 0.19560247 | H20: 0.2100454 | I20: 0.22394601 | J20: 0.23738913
A21: =A20+20 -> 420 | B21: 0.12140067 | C21: 0.14114035 | D21: 0.15934725 | E21: 0.17637582 | F21: 0.19247373 | G21: 0.20782059 | H21: 0.22255049 | I21: 0.23676592 | J21: 0.25054667
A22: =A21+20 -> 440 | B22: 0.1323752 | C22: 0.15214631 | D22: 0.17047806 | E22: 0.18769813 | F22: 0.2040373 | G22: 0.21966387 | H22: 0.23470399 | I22: 0.24925431 | J22: 0.26339013
A23: =A22+20 -> 460 | B23: 0.1428461 | C23: 0.16270377 | D23: 0.18120235 | E23: 0.19864729 | F23: 0.21525511 | G23: 0.23118442 | H23: 0.24655444 | I23: 0.26145662 | J23: 0.27596224
A27: Capitalization rate/purchase price sensivity
A29: =Assumptions!F5 -> Purchase price | B29: 10000000
A30: =Assumptions!B32 -> Capitalization rate | B30: 0.055
A31: IRR | B31: ='IRR 15y'!C55 -> 0.11139768
A34: ='IRR 15y'!C55 -> 0.11139768 | B34: 12500000 | C34: =B34-500000 -> 12000000 | D34: =C34-500000 -> 11500000 | E34: =D34-500000 -> 11000000 | F34: =E34-500000 -> 10500000 | G34: =F34-500000 -> 10000000 | H34: =G34-500000 -> 9500000 | I34: =H34-500000 -> 9000000 | J34: =I34-500000 -> 8500000 | ... L34: =K34-500000 -> 7500000
A35: 0.07 | B35: 0.063950286 | C35: 0.06978013 | D35: 0.075845271 | E35: 0.082172345 | F35: 0.08879218 | G35: 0.095740729 | H35: 0.10306026 | I35: 0.11080089 | J35: 0.11902265 | K35: 0.12779819 | L35: 0.13721651
A36: =A35-0.0025 -> 0.0675 | B36: 0.066564188 | C36: 0.072338646 | D36: 0.078348632 | E36: 0.084620626 | F36: 0.091185287 | G36: 0.098078375 | H36: 0.10534194 | I36: 0.11302584 | J36: 0.12118981 | K36: 0.12990616 | L36: 0.13926345
A37: =A36-0.0025 -> 0.065 | B37: 0.069276247 | C37: 0.074995248 | D37: 0.080949923 | E37: 0.087166597 | F37: 0.093675757 | G37: 0.10051297 | H37: 0.10772005 | I37: 0.11534662 | J37: 0.1234521 | K37: 0.13210842 | L37: 0.14140372
A38: =A37-0.0025 -> 0.0625 | B38: 0.072094595 | C38: 0.077758047 | D38: 0.083657234 | E38: 0.089818327 | F38: 0.096271637 | G38: 0.10305253 | H38: 0.11020261 | I38: 0.11777121 | J38: 0.12581745 | K38: 0.13441288 | L38: 0.14364519
A39: =A38-0.0025 -> 0.06 | B39: 0.075028383 | C39: 0.080636176 | D39: 0.086479679 | E39: 0.092584907 | F39: 0.098981997 | G39: 0.10570611 | H39: 0.11279862 | I39: 0.12030859 | J39: 0.12829481 | K39: 0.13682845 | L39: 0.14599671
A40: =A39-0.0025 -> 0.0575 | B40: 0.078087968 | C40: 0.083639969 | D40: 0.08942757 | E40: 0.095476627 | F40: 0.1018171 | G40: 0.10848395 | H40: 0.11551829 | I40: 0.12296893 | J40: 0.13089431 | K40: 0.13936521 | L40: 0.14846834
A41: =A40-0.0025 -> 0.055 | B41: 0.081285127 | C41: 0.086781181 | D41: 0.092512637 | E41: 0.098505193 | F41: 0.10478862 | G41: 0.11139768 | H41: 0.11837324 | I41: 0.12576381 | J41: 0.1336275 | K41: 0.14203466 | L41: 0.1510715
A42: =A41-0.0025 -> 0.0525 | B42: 0.084633328 | C42: 0.090073254 | D42: 0.095748298 | E42: 0.10168399 | F42: 0.10790993 | G42: 0.11446065 | H42: 0.12137676 | I42: 0.12870649 | J42: 0.13650758 | K42: 0.14484996 | L42: 0.15381929
A43: =A42-0.0025 -> 0.05 | B43: 0.088148065 | C43: 0.09353166 | D43: 0.099149997 | E43: 0.10502845 | F43: 0.11119641 | G43: 0.11768819 | H43: 0.12454417 | I43: 0.13181224 | J43: 0.13954977 | K43: 0.14782626 | L43: 0.15672681
A44: =A43-0.0025 -> 0.0475 | B44: 0.091847291 | C44: 0.09717432 | D44: 0.10273563 | E44: 0.10855641 | F44: 0.11466588 | G44: 0.12109811 | H44: 0.12789321 | I44: 0.13509875 | J44: 0.14277173 | K44: 0.15098116 | L44: 0.15981158
A45: =A44-0.0025 -> 0.045 | B45: 0.095751953 | C45: 0.10102215 | D45: 0.10652608 | E45: 0.11228875 | F45: 0.11833916 | G45: 0.12471117 | H45: 0.1314446 | I45: 0.1385867 | J45: 0.14619406 | K45: 0.15433519 | L45: 0.16309405
A46: =A45-0.0025 -> 0.0425 | B46: 0.099886696 | C46: 0.10509978 | D46: 0.11054593 | E46: 0.11624999 | F46: 0.12224076 | G46: 0.12855184 | H46: 0.13522277 | I46: 0.14230045 | J46: 0.14984105 | K46: 0.15791258 | L46: 0.16659836
A47: =A46-0.0025 -> 0.04 | B47: 0.10428078 | C47: 0.10943642 | D47: 0.11482437 | E47: 0.1204693 | F47: 0.12639978 | G47: 0.13264918 | H47: 0.13925672 | I47: 0.14626893 | J47: 0.15374157 | K47: 0.16174211 | L47: 0.17035318
... A49: =A48-0.0025 -> 0.035 | B49: 0.11399487 | C49: 0.11903448 | D49: 0.1243046 | E49: 0.1298295 | F49: 0.1356373 | G49: 0.14176083 | H49: 0.14823866 | I49: 0.15511656 | J49: 0.16244934 | K49: 0.17030331 | L49: 0.17875968
