Workbook
Name codage: 'Calculs code'!$S$5:$AO$15

Sheet Entrée-Résultat
A2: Entrer ci-dessous le nombre à 12 chiffres à coder | E2: ='Calculs code'!C2 -> 9 | L2: ='Calculs code'!D2 -> 1 | S2: ='Calculs code'!E2 -> 2 | Z2: ='Calculs code'!F2 -> 0 | AG2: ='Calculs code'!G2 -> 3 | AN2: ='Calculs code'!H2 -> 2 | AZ2: ='Calculs code'!I2 -> 0 | BG2: ='Calculs code'!J2 -> 0 | BN2: ='Calculs code'!K2 -> 0 | BU2: ='Calculs code'!L2 -> 0 | CB2: ='Calculs code'!M2 -> 8 | CI2: ='Calculs code'!N2 -> 0
A3: 191203200008 | E3: =E5 -> 0 | F3: =F5 -> 0 | G3: =G5 -> 0 | H3: =H5 -> 1 | I3: =I5 -> 0 | J3: =J5 -> 1 | K3: =K5 -> 1 | L3: =L5 -> 0 | ... AT3: =AT5 -> 1 | AZ3: =AZ5 -> 1 | BA3: =BA5 -> 1 | BB3: =BB5 -> 1 | BC3: =BC5 -> 0 | BD3: =BD5 -> 0 | BE3: =BE5 -> 1 | BF3: =BF5 -> 0 | BG3: =BG5 -> 1 | ... CO3: =CO5 -> 0
C5: ='Calculs code'!B2 -> 1 | E5: ='Calculs code'!T2 -> 0 | F5: ='Calculs code'!U2 -> 0 | G5: ='Calculs code'!V2 -> 0 | H5: ='Calculs code'!W2 -> 1 | I5: ='Calculs code'!X2 -> 0 | J5: ='Calculs code'!Y2 -> 1 | K5: ='Calculs code'!Z2 -> 1 | L5: ='Calculs code'!AA2 -> 0 | ... AT5: ='Calculs code'!BI2 -> 1 | AZ5: ='Calculs code'!BJ2 -> 1 | BA5: ='Calculs code'!BK2 -> 1 | BB5: ='Calculs code'!BL2 -> 1 | BC5: ='Calculs code'!BM2 -> 0 | BD5: ='Calculs code'!BN2 -> 0 | BE5: ='Calculs code'!BO2 -> 1 | BF5: ='Calculs code'!BP2 -> 0 | BG5: ='Calculs code'!BQ2 -> 1 | ... CO5: ='Calculs code'!CY2 -> 0

Sheet Calculs code
T1: 1er chiffre | AA1: 2ème chiffre | AH1: 3ème chiffre | AO1: 4ème chiffre | AV1: 5ème chiffre | BC1: 6ème chiffre | BJ1: 7ème chiffre | BQ1: 8ème chiffre | BX1: 9ème chiffre | CE1: 10ème chiffre | CL1: 11ème chiffre | CS1: 12ème chiffre
A2: =TEXT('Entrée-Résultat'!A3,"000000000000") -> 191203200008 | B2: =_xlfn.NUMBERVALUE(MID($A2,1,1)) -> 1 | C2: =_xlfn.NUMBERVALUE(MID($A2,2,1)) -> 9 | D2: =_xlfn.NUMBERVALUE(MID($A2,3,1)) -> 1 | E2: =_xlfn.NUMBERVALUE(MID($A2,4,1)) -> 2 | F2: =_xlfn.NUMBERVALUE(MID($A2,5,1)) -> 0 | G2: =_xlfn.NUMBERVALUE(MID($A2,6,1)) -> 3 | H2: =_xlfn.NUMBERVALUE(MID($A2,7,1)) -> 2 | I2: =_xlfn.NUMBERVALUE(MID($A2,8,1)) -> 0 | J2: =_xlfn.NUMBERVALUE(MID($A2,9,1)) -> 0 | K2: =_xlfn.NUMBERVALUE(MID($A2,10,1)) -> 0 | L2: =_xlfn.NUMBERVALUE(MID($A2,11,1)) -> 0 | M2: =_xlfn.NUMBERVALUE(MID($A2,12,1)) -> 8 | N2: =R2-Q2 -> 0 | O2: =B2+D2+F2+H2+J2+L2 -> 4 | P2: =C2+E2+G2+I2+K2+M2 -> 22 | Q2: =O2+3*P2 -> 70 | R2: =ROUNDUP(Q2,-1) -> 70 | S2: =VLOOKUP(B2,codage,2,FALSE) -> AABABB | T2: =IF(MID($S2,1,1)="A",VLOOKUP($C2,codage,3,FALSE),VLOOKUP($C2,codage,10,FALSE)) -> 0 | U2: =IF(MID($S2,1,1)="A",VLOOKUP($C2,codage,4,FALSE),VLOOKUP($C2,codage,11,FALSE)) -> 0 | V2: =IF(MID($S2,1,1)="A",VLOOKUP($C2,codage,5,FALSE),VLOOKUP($C2,codage,12,FALSE)) -> 0 | W2: =IF(MID($S2,1,1)="A",VLOOKUP($C2,codage,6,FALSE),VLOOKUP($C2,codage,13,FALSE)) -> 1 | X2: =IF(MID($S2,1,1)="A",VLOOKUP($C2,codage,7,FALSE),VLOOKUP($C2,codage,14,FALSE)) -> 0 | Y2: =IF(MID($S2,1,1)="A",VLOOKUP($C2,codage,8,FALSE),VLOOKUP($C2,codage,15,FALSE)) -> 1 | Z2: =IF(MID($S2,1,1)="A",VLOOKUP($C2,codage,9,FALSE),VLOOKUP($C2,codage,16,FALSE)) -> 1 | AA2: =IF(MID($S2,2,1)="A",VLOOKUP($D2,codage,3,FALSE),VLOOKUP($D2,codage,10,FALSE)) -> 0 | AB2: =IF(MID($S2,2,1)="A",VLOOKUP($D2,codage,4,FALSE),VLOOKUP($D2,codage,11,FALSE)) -> 0 | AC2: =IF(MID($S2,2,1)="A",VLOOKUP($D2,codage,5,FALSE),VLOOKUP($D2,codage,12,FALSE)) -> 1 | AD2: =IF(MID($S2,2,1)="A",VLOOKUP($D2,codage,6,FALSE),VLOOKUP($D2,codage,13,FALSE)) -> 1 | AE2: =IF(MID($S2,2,1)="A",VLOOKUP($D2,codage,7,FALSE),VLOOKUP($D2,codage,14,FALSE)) -> 0 | AF2: =IF(MID($S2,2,1)="A",VLOOKUP($D2,codage,8,FALSE),VLOOKUP($D2,codage,15,FALSE)) -> 0 | AG2: =IF(MID($S2,2,1)="A",VLOOKUP($D2,codage,9,FALSE),VLOOKUP($D2,codage,16,FALSE)) -> 1 | AH2: =IF(MID($S2,3,1)="A",VLOOKUP($E2,codage,3,FALSE),VLOOKUP($E2,codage,10,FALSE)) -> 0 | AI2: =IF(MID($S2,3,1)="A",VLOOKUP($E2,codage,4,FALSE),VLOOKUP($E2,codage,11,FALSE)) -> 0 | AJ2: =IF(MID($S2,3,1)="A",VLOOKUP($E2,codage,5,FALSE),VLOOKUP($E2,codage,12,FALSE)) -> 1 | AK2: =IF(MID($S2,3,1)="A",VLOOKUP($E2,codage,6,FALSE),VLOOKUP($E2,codage,13,FALSE)) -> 1 | AL2: =IF(MID($S2,3,1)="A",VLOOKUP($E2,codage,7,FALSE),VLOOKUP($E2,codage,14,FALSE)) -> 0 | AM2: =IF(MID($S2,3,1)="A",VLOOKUP($E2,codage,8,FALSE),VLOOKUP($E2,codage,15,FALSE)) -> 1 | AN2: =IF(MID($S2,3,1)="A",VLOOKUP($E2,codage,9,FALSE),VLOOKUP($E2,codage,16,FALSE)) -> 1 | AO2: =IF(MID($S2,4,1)="A",VLOOKUP($F2,codage,3,FALSE),VLOOKUP($F2,codage,10,FALSE)) -> 0 | AP2: =IF(MID($S2,4,1)="A",VLOOKUP($F2,codage,4,FALSE),VLOOKUP($F2,codage,11,FALSE)) -> 0 | AQ2: =IF(MID($S2,4,1)="A",VLOOKUP($F2,codage,5,FALSE),VLOOKUP($F2,codage,12,FALSE)) -> 0 | AR2: =IF(MID($S2,4,1)="A",VLOOKUP($F2,codage,6,FALSE),VLOOKUP($F2,codage,13,FALSE)) -> 1 | AS2: =IF(MID($S2,4,1)="A",VLOOKUP($F2,codage,7,FALSE),VLOOKUP($F2,codage,14,FALSE)) -> 1 | AT2: =IF(MID($S2,4,1)="A",VLOOKUP($F2,codage,8,FALSE),VLOOKUP($F2,codage,15,FALSE)) -> 0 | AU2: =IF(MID($S2,4,1)="A",VLOOKUP($F2,codage,9,FALSE),VLOOKUP($F2,codage,16,FALSE)) -> 1 | AV2: =IF(MID($S2,5,1)="A",VLOOKUP($G2,codage,3,FALSE),VLOOKUP($G2,codage,10,FALSE)) -> 0 | AW2: =IF(MID($S2,5,1)="A",VLOOKUP($G2,codage,4,FALSE),VLOOKUP($G2,codage,11,FALSE)) -> 1 | AX2: =IF(MID($S2,5,1)="A",VLOOKUP($G2,codage,5,FALSE),VLOOKUP($G2,codage,12,FALSE)) -> 0 | AY2: =IF(MID($S2,5,1)="A",VLOOKUP($G2,codage,6,FALSE),VLOOKUP($G2,codage,13,FALSE)) -> 0 | AZ2: =IF(MID($S2,5,1)="A",VLOOKUP($G2,codage,7,FALSE),VLOOKUP($G2,codage,14,FALSE)) -> 0 | BA2: =IF(MID($S2,5,1)="A",VLOOKUP($G2,codage,8,FALSE),VLOOKUP($G2,codage,15,FALSE)) -> 0 | BB2: =IF(MID($S2,5,1)="A",VLOOKUP($G2,codage,9,FALSE),VLOOKUP($G2,codage,16,FALSE)) -> 1 | BC2: =IF(MID($S2,6,1)="A",VLOOKUP($H2,codage,3,FALSE),VLOOKUP($H2,codage,10,FALSE)) -> 0 | BD2: =IF(MID($S2,6,1)="A",VLOOKUP($H2,codage,4,FALSE),VLOOKUP($H2,codage,11,FALSE)) -> 0 | BE2: =IF(MID($S2,6,1)="A",VLOOKUP($H2,codage,5,FALSE),VLOOKUP($H2,codage,12,FALSE)) -> 1 | BF2: =IF(MID($S2,6,1)="A",VLOOKUP($H2,codage,6,FALSE),VLOOKUP($H2,codage,13,FALSE)) -> 1 | BG2: =IF(MID($S2,6,1)="A",VLOOKUP($H2,codage,7,FALSE),VLOOKUP($H2,codage,14,FALSE)) -> 0 | BH2: =IF(MID($S2,6,1)="A",VLOOKUP($H2,codage,8,FALSE),VLOOKUP($H2,codage,15,FALSE)) -> 1 | BI2: =IF(MID($S2,6,1)="A",VLOOKUP($H2,codage,9,FALSE),VLOOKUP($H2,codage,16,FALSE)) -> 1 | BJ2: =VLOOKUP($I2,codage,17,FALSE) -> 1 | BK2: =VLOOKUP($I2,codage,18,FALSE) -> 1 | BL2: =VLOOKUP($I2,codage,19,FALSE) -> 1 | BM2: =VLOOKUP($I2,codage,20,FALSE) -> 0 | BN2: =VLOOKUP($I2,codage,21,FALSE) -> 0 | BO2: =VLOOKUP($I2,codage,22,FALSE) -> 1 | BP2: =VLOOKUP($I2,codage,23,FALSE) -> 0 | BQ2: =VLOOKUP($J2,codage,17,FALSE) -> 1 | BR2: =VLOOKUP($J2,codage,18,FALSE) -> 1 | BS2: =VLOOKUP($J2,codage,19,FALSE) -> 1 | BT2: =VLOOKUP($J2,codage,20,FALSE) -> 0 | BU2: =VLOOKUP($J2,codage,21,FALSE) -> 0 | BV2: =VLOOKUP($J2,codage,22,FALSE) -> 1 | BW2: =VLOOKUP($J2,codage,23,FALSE) -> 0 | BX2: =VLOOKUP($K2,codage,17,FALSE) -> 1 | BY2: =VLOOKUP($K2,codage,18,FALSE) -> 1 | BZ2: =VLOOKUP($K2,codage,19,FALSE) -> 1 | CA2: =VLOOKUP($K2,codage,20,FALSE) -> 0 | CB2: =VLOOKUP($K2,codage,21,FALSE) -> 0 | CC2: =VLOOKUP($K2,codage,22,FALSE) -> 1 | CD2: =VLOOKUP($K2,codage,23,FALSE) -> 0 | CE2: =VLOOKUP($L2,codage,17,FALSE) -> 1 | CF2: =VLOOKUP($L2,codage,18,FALSE) -> 1 | CG2: =VLOOKUP($L2,codage,19,FALSE) -> 1 | CH2: =VLOOKUP($L2,codage,20,FALSE) -> 0 | CI2: =VLOOKUP($L2,codage,21,FALSE) -> 0 | CJ2: =VLOOKUP($L2,codage,22,FALSE) -> 1 | CK2: =VLOOKUP($L2,codage,23,FALSE) -> 0 | CL2: =VLOOKUP($M2,codage,17,FALSE) -> 1 | CM2: =VLOOKUP($M2,codage,18,FALSE) -> 0 | CN2: =VLOOKUP($M2,codage,19,FALSE) -> 0 | CO2: =VLOOKUP($M2,codage,20,FALSE) -> 1 | CP2: =VLOOKUP($M2,codage,21,FALSE) -> 0 | CQ2: =VLOOKUP($M2,codage,22,FALSE) -> 0 | CR2: =VLOOKUP($M2,codage,23,FALSE) -> 0 | CS2: =VLOOKUP($N2,codage,17,FALSE) -> 1 | CT2: =VLOOKUP($N2,codage,18,FALSE) -> 1 | CU2: =VLOOKUP($N2,codage,19,FALSE) -> 1 | CV2: =VLOOKUP($N2,codage,20,FALSE) -> 0 | CW2: =VLOOKUP($N2,codage,21,FALSE) -> 0 | CX2: =VLOOKUP($N2,codage,22,FALSE) -> 1 | CY2: =VLOOKUP($N2,codage,23,FALSE) -> 0
S5: chiffre | T5: séquence | U5: jeu A | AB5: jeu B | AI5: jeu C
S6: 0 | T6: AAAAAA | U6: 0 | V6: 0 | W6: 0 | X6: 1 | Y6: 1 | Z6: 0 | AA6: 1 | AB6: 0 | AC6: 1 | AD6: 0 | AE6: 0 | AF6: 1 | AG6: 1 | AH6: 1 | AI6: 1 | AJ6: 1 | AK6: 1 | AL6: 0 | AM6: 0 | AN6: 1 | AO6: 0
S7: =S6+1 -> 1 | T7: AABABB | U7: 0 | V7: 0 | W7: 1 | X7: 1 | Y7: 0 | Z7: 0 | AA7: 1 | AB7: 0 | AC7: 1 | AD7: 1 | AE7: 0 | AF7: 0 | AG7: 1 | AH7: 1 | AI7: 1 | AJ7: 1 | AK7: 0 | AL7: 0 | AM7: 1 | AN7: 1 | AO7: 0
S8: =S7+1 -> 2 | T8: AABBAB | U8: 0 | V8: 0 | W8: 1 | X8: 0 | Y8: 0 | Z8: 1 | AA8: 1 | AB8: 0 | AC8: 0 | AD8: 1 | AE8: 1 | AF8: 0 | AG8: 1 | AH8: 1 | AI8: 1 | AJ8: 1 | AK8: 0 | AL8: 1 | AM8: 1 | AN8: 0 | AO8: 0
S9: =S8+1 -> 3 | T9: AABBBA | U9: 0 | V9: 1 | W9: 1 | X9: 1 | Y9: 1 | Z9: 0 | AA9: 1 | AB9: 0 | AC9: 1 | AD9: 0 | AE9: 0 | AF9: 0 | AG9: 0 | AH9: 1 | AI9: 1 | AJ9: 0 | AK9: 0 | AL9: 0 | AM9: 0 | AN9: 1 | AO9: 0
S10: =S9+1 -> 4 | T10: ABAABB | U10: 0 | V10: 1 | W10: 0 | X10: 0 | Y10: 0 | Z10: 1 | AA10: 1 | AB10: 0 | AC10: 0 | AD10: 1 | AE10: 1 | AF10: 1 | AG10: 0 | AH10: 1 | AI10: 1 | AJ10: 0 | AK10: 1 | AL10: 1 | AM10: 1 | AN10: 0 | AO10: 0
S11: =S10+1 -> 5 | T11: ABBAAB | U11: 0 | V11: 1 | W11: 1 | X11: 0 | Y11: 0 | Z11: 0 | AA11: 1 | AB11: 0 | AC11: 1 | AD11: 1 | AE11: 1 | AF11: 0 | AG11: 0 | AH11: 1 | AI11: 1 | AJ11: 0 | AK11: 0 | AL11: 1 | AM11: 1 | AN11: 1 | AO11: 0
S12: =S11+1 -> 6 | T12: ABBBAA | U12: 0 | V12: 1 | W12: 0 | X12: 1 | Y12: 1 | Z12: 1 | AA12: 1 | AB12: 0 | AC12: 0 | AD12: 0 | AE12: 0 | AF12: 1 | AG12: 0 | AH12: 1 | AI12: 1 | AJ12: 0 | AK12: 1 | AL12: 0 | AM12: 0 | AN12: 0 | AO12: 0
S13: =S12+1 -> 7 | T13: ABABAB | U13: 0 | V13: 1 | W13: 1 | X13: 1 | Y13: 0 | Z13: 1 | AA13: 1 | AB13: 0 | AC13: 0 | AD13: 1 | AE13: 0 | AF13: 0 | AG13: 0 | AH13: 1 | AI13: 1 | AJ13: 0 | AK13: 0 | AL13: 0 | AM13: 1 | AN13: 0 | AO13: 0
S14: =S13+1 -> 8 | T14: ABABBA | U14: 0 | V14: 1 | W14: 1 | X14: 0 | Y14: 1 | Z14: 1 | AA14: 1 | AB14: 0 | AC14: 0 | AD14: 0 | AE14: 1 | AF14: 0 | AG14: 0 | AH14: 1 | AI14: 1 | AJ14: 0 | AK14: 0 | AL14: 1 | AM14: 0 | AN14: 0 | AO14: 0
S15: =S14+1 -> 9 | T15: ABBABA | U15: 0 | V15: 0 | W15: 0 | X15: 1 | Y15: 0 | Z15: 1 | AA15: 1 | AB15: 0 | AC15: 0 | AD15: 1 | AE15: 0 | AF15: 1 | AG15: 1 | AH15: 1 | AI15: 1 | AJ15: 1 | AK15: 1 | AL15: 0 | AM15: 1 | AN15: 0 | AO15: 0
