Workbook
Name Rst: 'Manuel d''utilisation'!$N$16:$O$19

Sheet Manuel d'utilisation
A5: Grille d'autoévaluation basée sur l'IFS version 6.1 et les bonnes pratiques d'hygiène et de fabrication | N5: Sommaire dynamique
N16: Conforme | O16: 1
N17: Acceptable | O17: 0.66
N18: Non conforme | O18: 0
N19: Exclus (NA) | O19: NA

Sheet Diagnostic
A5: Grille d'autoévaluation basée sur l'IFS version 6.1 et les bonnes pratiques d'hygiène et de fabrication
A7: Périmètre évalué :
A9: Evaluateur :
A11: Date évaluation :
A13: Catégories | B13: Exigences | C13: Observations | D13: Evaluation | E13: N° photographie(s) | F13: Note
A14: HYGIÈNE | B14: Tenues de travail propres et fermées | D14: Non conforme | F14: =IFERROR(VLOOKUP(Tableau1[[#This Row],[Evaluation]],Rst,2,FALSE),"A compléter") -> 0
B15: Charlotte correctement portée et couvrant la totalité de la chevelure)/ Pas de port de la charlotte à l'extérieur ou lors des pauses (repas, cigarettes…) | D15: Acceptable | F15: =IFERROR(VLOOKUP(Tableau1[[#This Row],[Evaluation]],Rst,2,FALSE),"A compléter") -> 0.66
B16: Port des gants vinyles lors du contact direct avec le produit | D16: Conforme | F16: =IFERROR(VLOOKUP(Tableau1[[#This Row],[Evaluation]],Rst,2,FALSE),"A compléter") -> 1
B17: Absence de bijoux | D17: Non conforme | F17: =IFERROR(VLOOKUP(Tableau1[[#This Row],[Evaluation]],Rst,2,FALSE),"A compléter") -> 0
B18: Absence d'aliment sur les postes de travail (y compris les bonbons, chewing gum) | D18: Non conforme | F18: =IFERROR(VLOOKUP(Tableau1[[#This Row],[Evaluation]],Rst,2,FALSE),"A compléter") -> 0
B19: Absence de toiles d'araignées | D19: Non conforme | F19: =IFERROR(VLOOKUP(Tableau1[[#This Row],[Evaluation]],Rst,2,FALSE),"A compléter") -> 0
B20: Dates de limite d'utilisation des produits de "nettoyage" désinfectants non dépassées (y compris le produit nettoyant et désinfectant pour le lavage des mains) | D20: Non conforme | F20: =IFERROR(VLOOKUP(Tableau1[[#This Row],[Evaluation]],Rst,2,FALSE),"A compléter") -> 0
B21: Propreté des sols | D21: Non conforme | F21: =IFERROR(VLOOKUP(Tableau1[[#This Row],[Evaluation]],Rst,2,FALSE),"A compléter") -> 0
B22: Propretés des tuyauteries, murs et plafonds | D22: Non conforme | F22: =IFERROR(VLOOKUP(Tableau1[[#This Row],[Evaluation]],Rst,2,FALSE),"A compléter") -> 0
B23: Propreté des machines (fours, smurfit...) | D23: Non conforme | F23: =IFERROR(VLOOKUP(Tableau1[[#This Row],[Evaluation]],Rst,2,FALSE),"A compléter") -> 0
B24: Absence d'équipements rouillés | D24: Non conforme | F24: =IFERROR(VLOOKUP(Tableau1[[#This Row],[Evaluation]],Rst,2,FALSE),"A compléter") -> 0
B25: Propreté des aérations (locaux sociaux) | D25: Non conforme | F25: =IFERROR(VLOOKUP(Tableau1[[#This Row],[Evaluation]],Rst,2,FALSE),"A compléter") -> 0
B26: Propreté des bennes à déchets | D26: Non conforme | F26: =IFERROR(VLOOKUP(Tableau1[[#This Row],[Evaluation]],Rst,2,FALSE),"A compléter") -> 0 | G26: =AVERAGE(F14:F26) -> 0.12769231
A27: SÉCURITÉ | B27: Gestes et postures appropriés et sans risque de troubles musculo-squelettiques pour les salariés | D27: Conforme | F27: =IFERROR(VLOOKUP(Tableau1[[#This Row],[Evaluation]],Rst,2,FALSE),"A compléter") -> 1
B28: Port des équipements de protection individuelle (chaussure de sécurité, protections auditives) | D28: Conforme | F28: =IFERROR(VLOOKUP(Tableau1[[#This Row],[Evaluation]],Rst,2,FALSE),"A compléter") -> 1
B29: Portes des armoires électriques fermées à clés | D29: Conforme | F29: =IFERROR(VLOOKUP(Tableau1[[#This Row],[Evaluation]],Rst,2,FALSE),"A compléter") -> 1
B30: Arrêts d'urgence accessibles | D30: Non conforme | F30: =IFERROR(VLOOKUP(Tableau1[[#This Row],[Evaluation]],Rst,2,FALSE),"A compléter") -> 0
B31: Intégrité des dispositifs de sécurité | D31: Conforme | F31: =IFERROR(VLOOKUP(Tableau1[[#This Row],[Evaluation]],Rst,2,FALSE),"A compléter") -> 1
B32: Présence des carters | D32: Non conforme | F32: =IFERROR(VLOOKUP(Tableau1[[#This Row],[Evaluation]],Rst,2,FALSE),"A compléter") -> 0
B33: Respect des consignes de sécurité lors des interventions sur machine | D33: Non conforme | F33: =IFERROR(VLOOKUP(Tableau1[[#This Row],[Evaluation]],Rst,2,FALSE),"A compléter") -> 0
B34: Etat des escabeaux et échelles | D34: Non conforme | F34: =IFERROR(VLOOKUP(Tableau1[[#This Row],[Evaluation]],Rst,2,FALSE),"A compléter") -> 0
B35: Zones non encombrées | D35: Non conforme | F35: =IFERROR(VLOOKUP(Tableau1[[#This Row],[Evaluation]],Rst,2,FALSE),"A compléter") -> 0
B36: Passages piétons non encombrés | D36: Non conforme | F36: =IFERROR(VLOOKUP(Tableau1[[#This Row],[Evaluation]],Rst,2,FALSE),"A compléter") -> 0
B37: Récipient de produit dangereux disposant d'une étiquette visible et des informations nécessaires (à minima : nom du produit, pictogrammes de dangers, consignes d'utilisation et coordonnées du fournisseur) | D37: Non conforme | F37: =IFERROR(VLOOKUP(Tableau1[[#This Row],[Evaluation]],Rst,2,FALSE),"A compléter") -> 0
B38: Local nettoyage et désinfection fermé à clé | D38: Non conforme | F38: =IFERROR(VLOOKUP(Tableau1[[#This Row],[Evaluation]],Rst,2,FALSE),"A compléter") -> 0 | G38: =AVERAGE(F27:F38) -> 0.33333333
A39: ENVIRONNE-MENT | B39: Tri sélectif respecté | D39: Conforme | F39: =IFERROR(VLOOKUP(Tableau1[[#This Row],[Evaluation]],Rst,2,FALSE),"A compléter") -> 1
B40: Pas d'utilisation d'eau inutile | D40: Conforme | F40: =IFERROR(VLOOKUP(Tableau1[[#This Row],[Evaluation]],Rst,2,FALSE),"A compléter") -> 1
B41: Energies coupées si pas d'activité (lumière éteinte, robinet d'eau éteint machine arrêtée…) | D41: Conforme | F41: =IFERROR(VLOOKUP(Tableau1[[#This Row],[Evaluation]],Rst,2,FALSE),"A compléter") -> 1 | G41: =AVERAGE(F39:F41) -> 1
A42: RANGEMENT | B42: Absence d'effet personnel sur le poste de travail et poste de travail ordonné | D42: Non conforme | F42: =IFERROR(VLOOKUP(Tableau1[[#This Row],[Evaluation]],Rst,2,FALSE),"A compléter") -> 0
B43: Absence d'effet personnel dans les caisses à outils (stylo autre que les stylos détectables imposés par l'entreprise, couteau…) et absence d'outil avec des manches en bois | D43: Non conforme | F43: =IFERROR(VLOOKUP(Tableau1[[#This Row],[Evaluation]],Rst,2,FALSE),"A compléter") -> 0
B44: Tuyaux d'eau rangés sur leurs supports après utilisation | D44: Non conforme | F44: =IFERROR(VLOOKUP(Tableau1[[#This Row],[Evaluation]],Rst,2,FALSE),"A compléter") -> 0
B45: Ustensiles rangés sur leurs supports (balais, pelle…) | D45: Non conforme | F45: =IFERROR(VLOOKUP(Tableau1[[#This Row],[Evaluation]],Rst,2,FALSE),"A compléter") -> 0
B46: État des documents qualité, sécurité (…) | D46: Non conforme | F46: =IFERROR(VLOOKUP(Tableau1[[#This Row],[Evaluation]],Rst,2,FALSE),"A compléter") -> 0
B47: Bennes à déchets identifiées et rangées | D47: Conforme | F47: =IFERROR(VLOOKUP(Tableau1[[#This Row],[Evaluation]],Rst,2,FALSE),"A compléter") -> 1
B48: Absence de corps étrangers au sol | D48: Non conforme | F48: =IFERROR(VLOOKUP(Tableau1[[#This Row],[Evaluation]],Rst,2,FALSE),"A compléter") -> 0
...

Sheet Résultats globaux
A5: Résultats globaux, autoévaluation basée sur l'IFS version 6.1 et les bonnes pratiques d'hygiène et de fabrication
A8: Catégories | B8: Notes (%)
A9: HYGIÈNE | B9: =Diagnostic!G26 -> 0.12769231
A10: SÉCURITÉ | B10: =Diagnostic!G38 -> 0.33333333
A11: ENVIRONNEMENT | B11: =Diagnostic!G41 -> 1
A12: RANGEMENT | B12: =Diagnostic!G54 -> 0.30769231
A13: Moyenne | B13: =AVERAGE(B9:B12) -> 0.44217949

Sheet Résultats par chapitre
A5: Résultats par chapitre autoévaluation basée sur l'IFS version 6.1 et les bonnes pratiques d'hygiène et de fabrication
B9: Chapitre 4 : Contexte de l'organisme | G9: Page 2
B11: Chapitre 5 : Leadership | G11: Page 3
B13: Chapitre 6 : Planification | G13: Page 4
B15: Chapitre 7 : Support | G15: Page 5
B17: Chapitre 8 : Réalisation des activités opérationnelles | G17: Page 6
B19: Chapitre 9 : Evaluation des performances | G19: Page 7
B21: Chapitre 10 : Amélioration | G21: Page 8
A29: HYGIÈNE
A31: Taux de conformité : | C31: ='Résultats globaux'!$B$9 -> 0.12769231 | D31: =IF(C31<33%,"Non-conforme",IF(C31<66%,"A améliorer",IF(C31<100%,"Acceptable",IF(C31=100%,"Conforme","")))) -> Non-conforme
G33: Commentaires sur les résultats obtenus
G47: Décisions/ Plans d'actions
G48: Actions | J48: Pilote | K48: Délais mise en œuvre
A61: SÉCURITÉ
A63: Taux de conformité : | C63: ='Résultats globaux'!$B$10 -> 0.33333333 | D63: =IF(C63<33%,"Non-conforme",IF(C63<66%,"A améliorer",IF(C63<100%,"Acceptable",IF(C63=100%,"Conforme","")))) -> A améliorer
G65: Commentaires sur les résultats obtenus
G79: Décisions/ Plans d'actions
G80: Actions | J80: Pilote | K80: Délais mise en œuvre
A93: ENVIRONNEMENT
A95: Taux de conformité : | C95: ='Résultats globaux'!$B$11 -> 1 | D95: =IF(C95<33%,"Non-conforme",IF(C95<66%,"A améliorer",IF(C95<100%,"Acceptable",IF(C95=100%,"Conforme","")))) -> Conforme
G97: Commentaires sur les résultats obtenus
G111: Décisions/ Plans d'actions
G112: Actions | J112: Pilote | K112: Délais mise en œuvre
A125: RANGEMENT
A127: Taux de conformité : | C127: ='Résultats globaux'!$B$12 -> 0.30769231 | D127: =IF(C127<33%,"Non-conforme",IF(C127<66%,"A améliorer",IF(C127<100%,"Acceptable",IF(C127=100%,"Conforme","")))) -> Non-conforme
G129: Commentaires sur les résultats obtenus
G143: Décisions/ Plans d'actions
G144: Actions | J144: Pilote | K144: Délais mise en œuvre
